{"text_format":"1","workbook":"xlsx","n_sheets":3,"sheets":["入力画面","データ処理","Sheet1"],"not_rendered":{"charts":0,"images":0,"macros":1,"external_links":0,"defined_names":1,"comments":1,"pivot_tables":0},"unopened":[],"bounds":{"document_bytes":16777216,"sheet_cells":100000,"rows_first":2000,"rows_last":500,"rows_between":2000,"halvings":0,"cell_chars":16384,"cell_head_chars":4096},"cells_cut":0,"cells_raw":0,"read":"whole","date_system":"1900"}

{"sheet":"入力画面","index":0,"n_rows":724,"n_cols":123,"rows_kept":724,"cut":false,"hidden":false,"merged":[[290,122,303,122],[304,122,317,122],[318,122,331,122],[332,122,345,122],[346,122,359,122],[360,122,373,122],[374,122,387,122],[640,122,653,122],[654,122,667,122],[668,122,681,122],[682,122,695,122],[696,122,709,122],[710,122,723,122],[402,122,415,122],[416,122,429,122],[430,122,443,122],[444,122,457,122],[458,122,471,122],[472,122,485,122],[486,122,499,122],[500,122,513,122],[514,122,527,122],[528,122,541,122],[542,122,555,122],[556,122,569,122],[570,122,583,122],[584,122,597,122],[598,122,611,122],[612,122,625,122],[626,122,639,122],[52,122,65,122],[66,122,79,122],[80,122,93,122],[94,122,107,122],[108,122,121,122],[122,122,135,122],[136,122,149,122],[150,122,163,122],[164,122,177,122],[178,122,191,122],[192,122,205,122],[206,122,219,122],[220,122,233,122],[234,122,247,122],[248,122,261,122],[262,122,275,122],[276,122,289,122],[710,17,723,17],[710,56,723,56],[696,112,709,112],[710,104,723,104],[710,110,723,110],[710,118,723,118],[710,119,723,119],[696,62,709,62],[696,113,709,113],[696,50,709,50],[696,56,709,56],[696,92,709,92],[696,98,709,98],[696,104,709,104],[696,110,709,110],[710,111,723,111],[710,112,723,112],[710,113,723,113],[710,114,723,114],[710,115,723,115],[710,116,723,116],[710,117,723,117],[710,62,723,62],[710,68,723,68],[710,74,723,74],[710,80,723,80],[710,86,723,86],[710,92,723,92],[710,98,723,98],[710,50,723,50],[682,117,695,117],[682,118,695,118],[682,68,695,68],[696,16,709,16],[696,17,709,17],[710,11,723,11],[710,0,723,0],[710,1,723,1],[710,2,723,2],[710,3,723,3],[710,4,723,4],[710,5,723,5],[696,114,709,114],[696,115,709,115],[696,116,709,116],[696,117,709,117],[696,118,709,118],[710,6,723,6],[710,7,723,7],[710,8,723,8],[710,9,723,9],[710,10,723,10],[696,111,709,111],[710,12,723,12],[710,13,723,13],[710,14,723,14],[710,15,723,15],[696,68,709,68],[696,74,709,74],[696,80,709,80],[696,86,709,86],[710,16,723,16],[682,110,695,110],[682,111,695,111],[682,114,695,114],[682,112,695,112],[682,74,695,74],[682,80,695,80],[668,115,681,115],[668,116,681,116],[668,117,681,117],[668,118,681,118],[668,119,681,119],[668,113,681,113],[668,114,681,114],[696,0,709,0],[696,1,709,1],[696,2,709,2],[696,3,709,3],[696,4,709,4],[696,5,709,5],[696,6,709,6],[696,7,709,7],[696,8,709,8],[696,9,709,9],[696,10,709,10],[696,119,709,119],[696,11,709,11],[696,12,709,12],[696,13,709,13],[696,14,709,14],[696,15,709,15],[682,115,695,115],[682,116,695,116],[668,56,681,56],[668,62,681,62],[668,112,681,112],[682,56,695,56],[682,62,695,62],[682,113,695,113],[682,86,695,86],[682,92,695,92],[682,98,695,98],[682,104,695,104],[668,98,681,98],[668,104,681,104],[668,110,681,110],[668,111,681,111],[682,119,695,119],[682,0,695,0],[682,1,695,1],[682,2,695,2],[682,3,695,3],[682,4,695,4],[682,5,695,5],[682,50,695,50],[682,6,695,6],[682,7,695,7],[682,8,695,8],[682,9,695,9],[682,10,695,10],[682,11,695,11],[682,12,695,12],[682,13,695,13],[682,14,695,14],[682,15,695,15],[668,2,681,2],[668,3,681,3],[668,4,681,4],[668,5,681,5],[668,6,681,6],[668,7,681,7],[668,8,681,8],[668,9,681,9],[668,10,681,10],[668,11,681,11],[668,12,681,12],[668,13,681,13],[668,14,681,14],[668,15,681,15],[668,16,681,16],[682,16,695,16],[682,17,695,17],[654,6,667,6],[654,7,667,7],[654,8,667,8],[640,74,653,74],[640,80,653,80],[668,68,681,68],[668,74,681,74],[668,80,681,80],[654,74,667,74],[654,80,667,80],[654,0,667,0],[654,1,667,1],[654,2,667,2],[654,3,667,3],[654,4,667,4],[654,5,667,5],[654,92,667,92],[668,50,681,50],[654,16,667,16],[668,17,681,17],[668,92,681,92],[668,86,681,86],[654,9,667,9],[654,10,667,10],[654,11,667,11],[654,12,667,12],[654,13,667,13],[654,14,667,14],[654,15,667,15],[654,86,667,86],[668,0,681,0],[668,1,681,1],[654,119,667,119],[654,17,667,17],[654,50,667,50],[654,56,667,56],[654,62,667,62],[654,68,667,68],[654,112,667,112],[654,113,667,113],[654,114,667,114],[654,115,667,115],[654,116,667,116],[654,117,667,117],[654,118,667,118],[654,98,667,98],[654,104,667,104],[640,112,653,112],[640,50,653,50],[640,56,653,56],[640,62,653,62],[654,110,667,110],[654,111,667,111],[640,118,653,118],[640,119,653,119],[640,0,653,0],[640,1,653,1],[640,2,653,2],[640,3,653,3],[640,4,653,4],[640,5,653,5],[640,8,653,8],[640,9,653,9],[640,10,653,10],[640,11,653,11],[640,12,653,12],[640,13,653,13],[640,14,653,14],[640,15,653,15],[640,16,653,16],[640,17,653,17],[626,0,639,0],[626,1,639,1],[626,2,639,2],[640,6,653,6],[640,7,653,7],[626,115,639,115],[626,116,639,116],[626,117,639,117],[626,50,639,50],[640,111,653,111],[640,113,653,113],[640,114,653,114],[640,68,653,68],[640,86,653,86],[640,92,653,92],[640,98,653,98],[640,104,653,104],[640,110,653,110],[626,17,639,17],[640,115,653,115],[640,116,653,116],[640,117,653,117],[626,80,639,80],[626,86,639,86],[626,92,639,92],[626,98,639,98],[626,104,639,104],[626,110,639,110],[626,56,639,56],[612,17,625,17],[626,118,639,118],[626,119,639,119],[626,111,639,111],[626,112,639,112],[626,113,639,113],[612,119,625,119],[612,104,625,104],[612,110,625,110],[612,111,625,111],[612,112,625,112],[612,113,625,113],[626,3,639,3],[626,4,639,4],[626,5,639,5],[626,6,639,6],[626,7,639,7],[626,8,639,8],[626,9,639,9],[626,10,639,10],[626,11,639,11],[626,12,639,12],[626,13,639,13],[626,14,639,14],[626,15,639,15],[626,16,639,16],[626,62,639,62],[626,68,639,68],[626,74,639,74],[612,50,625,50],[612,56,625,56],[626,114,639,114],[612,0,625,0],[612,1,625,1],[612,2,625,2],[612,3,625,3],[612,4,625,4],[612,5,625,5],[612,6,625,6],[612,7,625,7],[612,8,625,8],[612,9,625,9],[612,10,625,10],[612,11,625,11],[612,12,625,12],[612,13,625,13],[612,14,625,14],[612,15,625,15],[612,16,625,16],[598,112,611,112],[598,113,611,113],[598,119,611,119],[598,114,611,114],[598,115,611,115],[598,116,611,116],[598,117,611,117],[598,118,611,118],[598,68,611,68],[598,74,611,74],[598,80,611,80],[598,86,611,86],[612,62,625,62],[612,68,625,68],[612,74,625,74],[612,80,625,80],[612,86,625,86],[612,92,625,92],[612,98,625,98],[612,114,625,114],[612,115,625,115],[612,116,625,116],[612,117,625,117],[612,118,625,118],[598,0,611,0],[598,1,611,1],[598,2,611,2],[598,3,611,3],[598,4,611,4],[598,16,611,16],[598,17,611,17],[598,6,611,6],[598,7,611,7],[598,8,611,8],[598,9,611,9],[598,10,611,10],[598,12,611,12],[598,13,611,13],[598,14,611,14],[598,15,611,15],[584,0,597,0],[584,1,597,1],[584,2,597,2],[584,3,597,3],[584,4,597,4],[584,5,597,5],[584,6,597,6],[584,7,597,7],[584,8,597,8],[584,9,597,9],[584,10,597,10],[584,11,597,11],[584,12,597,12],[584,13,597,13],[598,5,611,5],[584,14,597,14],[584,15,597,15],[570,62,583,62],[570,68,583,68],[570,9,583,9],[570,10,583,10],[570,11,583,11],[570,12,583,12],[570,13,583,13],[570,14,583,14],[570,15,583,15],[570,16,583,16],[584,50,597,50],[570,112,583,112],[570,113,583,113],[584,16,597,16],[584,17,597,17],[598,11,611,11],[598,92,611,92],[598,98,611,98],[598,104,611,104],[598,110,611,110],[598,111,611,111],[598,50,611,50],[598,56,611,56],[598,62,611,62],[584,98,597,98],[584,104,597,104],[584,110,597,110],[584,111,597,111],[570,114,583,114],[570,119,583,119],[570,115,583,115],[570,116,583,116],[570,117,583,117],[570,118,583,118],[570,74,583,74],[570,80,583,80],[570,86,583,86],[570,92,583,92],[570,98,583,98],[584,114,597,114],[584,56,597,56],[584,62,597,62],[584,68,597,68],[584,74,597,74],[584,80,597,80],[584,86,597,86],[584,92,597,92],[584,115,597,115],[584,116,597,116],[584,117,597,117],[584,118,597,118],[584,119,597,119],[584,112,597,112],[584,113,597,113],[556,113,569,113],[556,114,569,114],[556,115,569,115],[556,116,569,116],[556,117,569,117],[556,118,569,118],[556,119,569,119],[570,0,583,0],[570,1,583,1],[570,2,583,2],[570,3,583,3],[570,4,583,4],[570,5,583,5],[570,6,583,6],[570,7,583,7],[570,8,583,8],[556,111,569,111],[556,112,569,112],[556,86,569,86],[556,92,569,92],[556,98,569,98],[556,104,569,104],[556,110,569,110],[570,104,583,104],[570,110,583,110],[570,111,583,111],[556,50,569,50],[556,56,569,56],[556,62,569,62],[570,17,583,17],[570,50,583,50],[570,56,583,56],[556,68,569,68],[556,74,569,74],[556,80,569,80],[556,0,569,0],[556,1,569,1],[556,2,569,2],[556,3,569,3],[556,4,569,4],[556,5,569,5],[556,6,569,6],[556,7,569,7],[556,8,569,8],[556,9,569,9],[556,10,569,10],[556,11,569,11],[556,12,569,12],[556,13,569,13],[556,14,569,14],[556,15,569,15],[556,16,569,16],[556,17,569,17],[542,74,555,74],[542,80,555,80],[542,86,555,86],[542,92,555,92],[542,98,555,98],[542,104,555,104],[542,110,555,110],[542,50,555,50],[542,56,555,56],[542,111,555,111],[542,118,555,118],[542,119,555,119],[542,112,555,112],[542,113,555,113],[542,114,555,114],[542,115,555,115],[542,116,555,116],[542,117,555,117],[528,17,541,17],[528,114,541,114],[528,115,541,115],[528,116,541,116],[528,117,541,117],[528,118,541,118],[528,119,541,119],[528,104,541,104],[528,110,541,110],[528,111,541,111],[528,112,541,112],[528,113,541,113],[542,0,555,0],[542,1,555,1],[542,2,555,2],[542,3,555,3],[542,4,555,4],[542,5,555,5],[542,6,555,6],[542,7,555,7],[542,8,555,8],[542,9,555,9],[542,10,555,10],[542,11,555,11],[542,12,555,12],[542,13,555,13],[542,14,555,14],[542,15,555,15],[542,16,555,16],[542,17,555,17],[542,62,555,62],[542,68,555,68],[528,0,541,0],[528,1,541,1],[528,2,541,2],[528,3,541,3],[528,4,541,4],[528,5,541,5],[528,6,541,6],[528,7,541,7],[528,8,541,8],[528,9,541,9],[528,10,541,10],[528,11,541,11],[528,12,541,12],[528,13,541,13],[528,14,541,14],[528,15,541,15],[528,16,541,16],[514,112,527,112],[514,113,527,113],[514,119,527,119],[514,114,527,114],[514,115,527,115],[514,116,527,116],[514,117,527,117],[514,118,527,118],[514,68,527,68],[514,74,527,74],[514,80,527,80],[514,86,527,86],[528,50,541,50],[528,56,541,56],[528,62,541,62],[528,68,541,68],[528,74,541,74],[528,80,541,80],[528,86,541,86],[528,92,541,92],[528,98,541,98],[514,0,527,0],[514,1,527,1],[514,2,527,2],[514,3,527,3],[514,4,527,4],[514,16,527,16],[514,17,527,17],[514,6,527,6],[514,7,527,7],[514,8,527,8],[514,9,527,9],[514,10,527,10],[514,12,527,12],[514,13,527,13],[514,14,527,14],[514,15,527,15],[500,0,513,0],[500,1,513,1],[500,2,513,2],[500,3,513,3],[500,4,513,4],[500,5,513,5],[500,6,513,6],[500,7,513,7],[500,8,513,8],[500,9,513,9],[500,10,513,10],[500,11,513,11],[500,12,513,12],[500,13,513,13],[514,5,527,5],[500,14,513,14],[500,15,513,15],[486,62,499,62],[486,68,499,68],[486,9,499,9],[486,10,499,10],[486,11,499,11],[486,12,499,12],[486,13,499,13],[486,14,499,14],[486,15,499,15],[486,16,499,16],[500,50,513,50],[486,112,499,112],[486,113,499,113],[500,16,513,16],[500,17,513,17],[514,11,527,11],[514,92,527,92],[514,98,527,98],[514,104,527,104],[514,110,527,110],[514,111,527,111],[514,50,527,50],[514,56,527,56],[514,62,527,62],[500,98,513,98],[500,104,513,104],[500,110,513,110],[500,111,513,111],[486,114,499,114],[486,119,499,119],[486,115,499,115],[486,116,499,116],[486,117,499,117],[486,118,499,118],[486,74,499,74],[486,80,499,80],[486,86,499,86],[486,92,499,92],[486,98,499,98],[500,114,513,114],[500,56,513,56],[500,62,513,62],[500,68,513,68],[500,74,513,74],[500,80,513,80],[500,86,513,86],[500,92,513,92],[500,115,513,115],[500,116,513,116],[500,117,513,117],[500,118,513,118],[500,119,513,119],[500,112,513,112],[500,113,513,113],[472,113,485,113],[472,114,485,114],[472,115,485,115],[472,116,485,116],[472,117,485,117],[472,118,485,118],[472,119,485,119],[486,0,499,0],[486,1,499,1],[486,2,499,2],[486,3,499,3],[486,4,499,4],[486,5,499,5],[486,6,499,6],[486,7,499,7],[486,8,499,8],[472,111,485,111],[472,112,485,112],[472,86,485,86],[472,92,485,92],[472,98,485,98],[472,104,485,104],[472,110,485,110],[486,104,499,104],[486,110,499,110],[486,111,499,111],[472,50,485,50],[472,56,485,56],[472,62,485,62],[486,17,499,17],[486,50,499,50],[486,56,499,56],[472,68,485,68],[472,74,485,74],[472,80,485,80],[472,0,485,0],[472,1,485,1],[472,2,485,2],[472,3,485,3],[472,4,485,4],[472,5,485,5],[472,6,485,6],[472,7,485,7],[472,8,485,8],[472,9,485,9],[472,10,485,10],[472,11,485,11],[472,12,485,12],[472,13,485,13],[472,14,485,14],[472,15,485,15],[472,16,485,16],[472,17,485,17],[458,80,471,80],[458,86,471,86],[458,92,471,92],[458,98,471,98],[458,104,471,104],[458,110,471,110],[458,50,471,50],[458,56,471,56],[458,111,471,111],[458,118,471,118],[458,119,471,119],[458,112,471,112],[458,113,471,113],[458,114,471,114],[458,115,471,115],[458,116,471,116],[458,117,471,117],[444,114,457,114],[444,115,457,115],[444,116,457,116],[444,117,457,117],[444,118,457,118],[444,119,457,119],[444,104,457,104],[444,110,457,110],[444,111,457,111],[444,112,457,112],[444,113,457,113],[458,0,471,0],[458,1,471,1],[458,2,471,2],[458,3,471,3],[458,4,471,4],[458,5,471,5],[458,6,471,6],[458,7,471,7],[458,8,471,8],[458,9,471,9],[458,10,471,10],[458,11,471,11],[458,12,471,12],[458,13,471,13],[458,14,471,14],[458,15,471,15],[458,16,471,16],[458,17,471,17],[458,62,471,62],[458,68,471,68],[458,74,471,74],[444,50,457,50],[444,56,457,56],[444,62,457,62],[444,68,457,68],[444,74,457,74],[444,80,457,80],[444,86,457,86],[444,92,457,92],[444,98,457,98],[444,0,457,0],[444,1,457,1],[444,2,457,2],[444,3,457,3],[444,4,457,4],[444,5,457,5],[444,6,457,6],[444,7,457,7],[444,8,457,8],[444,9,457,9],[444,10,457,10],[444,11,457,11],[444,12,457,12],[444,13,457,13],[444,14,457,14],[444,15,457,15],[444,16,457,16],[444,17,457,17],[416,117,429,117],[416,118,429,118],[416,119,429,119],[416,112,429,112],[416,113,429,113],[430,112,443,112],[430,113,443,113],[430,119,443,119],[430,114,443,114],[430,115,443,115],[430,116,443,116],[430,117,443,117],[430,118,443,118],[430,68,443,68],[430,74,443,74],[430,80,443,80],[430,86,443,86],[416,115,429,115],[416,116,429,116],[430,92,443,92],[430,98,443,98],[430,104,443,104],[430,110,443,110],[430,111,443,111],[430,50,443,50],[430,56,443,56],[430,62,443,62],[416,98,429,98],[416,104,429,104],[416,110,429,110],[416,111,429,111],[416,92,429,92],[416,16,429,16],[416,17,429,17],[430,16,443,16],[430,17,443,17],[416,0,429,0],[416,1,429,1],[416,2,429,2],[416,3,429,3],[416,4,429,4],[416,5,429,5],[416,6,429,6],[416,7,429,7],[416,8,429,8],[416,9,429,9],[416,10,429,10],[416,11,429,11],[416,12,429,12],[416,13,429,13],[430,5,443,5],[416,14,429,14],[416,15,429,15],[430,11,443,11],[430,0,443,0],[430,1,443,1],[430,2,443,2],[430,3,443,3],[430,4,443,4],[430,6,443,6],[430,7,443,7],[430,8,443,8],[430,9,443,9],[430,10,443,10],[430,12,443,12],[430,13,443,13],[430,14,443,14],[430,15,443,15],[402,56,415,56],[402,62,415,62],[402,68,415,68],[402,9,415,9],[402,10,415,10],[402,11,415,11],[402,12,415,12],[402,13,415,13],[402,14,415,14],[402,15,415,15],[402,16,415,16],[416,50,429,50],[402,112,415,112],[402,113,415,113],[402,114,415,114],[402,119,415,119],[402,115,415,115],[402,116,415,116],[402,117,415,117],[402,118,415,118],[402,74,415,74],[402,80,415,80],[402,86,415,86],[402,92,415,92],[402,98,415,98],[416,114,429,114],[416,56,429,56],[416,62,429,62],[416,68,429,68],[416,74,429,74],[416,80,429,80],[416,86,429,86],[388,113,401,113],[388,114,401,114],[388,115,401,115],[388,116,401,116],[388,117,401,117],[388,118,401,118],[388,119,401,119],[388,122,401,122],[402,0,415,0],[402,1,415,1],[402,2,415,2],[402,3,415,3],[402,4,415,4],[402,5,415,5],[402,6,415,6],[402,7,415,7],[402,8,415,8],[388,111,401,111],[388,112,401,112],[388,86,401,86],[388,92,401,92],[388,98,401,98],[388,104,401,104],[388,110,401,110],[402,104,415,104],[402,110,415,110],[402,111,415,111],[388,50,401,50],[388,56,401,56],[388,62,401,62],[402,17,415,17],[402,50,415,50],[388,68,401,68],[388,74,401,74],[388,80,401,80],[388,0,401,0],[388,1,401,1],[388,2,401,2],[388,3,401,3],[388,4,401,4],[388,5,401,5],[388,6,401,6],[388,7,401,7],[388,8,401,8],[388,9,401,9],[388,10,401,10],[388,11,401,11],[388,12,401,12],[388,13,401,13],[388,14,401,14],[388,15,401,15],[388,16,401,16],[388,17,401,17],[374,74,387,74],[374,80,387,80],[374,86,387,86],[374,92,387,92],[374,98,387,98],[374,104,387,104],[374,110,387,110],[374,50,387,50],[374,56,387,56],[374,111,387,111],[374,118,387,118],[374,119,387,119],[374,112,387,112],[374,113,387,113],[374,114,387,114],[374,115,387,115],[374,116,387,116],[374,117,387,117],[360,17,373,17],[360,114,373,114],[360,115,373,115],[360,116,373,116],[360,117,373,117],[360,118,373,118],[360,119,373,119],[360,104,373,104],[360,110,373,110],[360,111,373,111],[360,112,373,112],[360,113,373,113],[374,0,387,0],[374,1,387,1],[374,2,387,2],[374,3,387,3],[374,4,387,4],[374,5,387,5],[374,6,387,6],[374,7,387,7],[374,8,387,8],[374,9,387,9]],"merged_total":2077,"flags":["merged_cut"]}
[]
["様式第2号"]
[null," 【埼玉県プラチナ・サポート・ショップ情報サイト】　登録シート"]
[]
[null,"　　※　このファイルはマクロを使用しています。入力の際は、マクロを有効にしてください。\n　　※　データ入力およびチェックの選択のみ可能です。行、列の挿入・コピー・削除、セルの結合などは行わないでください。"]
[]
[]
[null,"非公開情報　　※プラチナ・サポート・ショップ情報サイトには表示されません",null,null,null,null,null,null,null,null,"公開情報　　※プラチナ・サポート・ショップ情報サイトには表示されます",null,null,null,null,null,"店舗所在地",null,"公開情報",null,"この列は操作しないでください",null,"公開情報",null,"この列は操作しないでください",null,"公開情報",null,"この列は操作しないでください",null,"公開情報",null,"この列は操作しないでください",null,"公開情報",null,"この列は操作しないでください",null,"公開情報",null,"この列は操作しないでください",null,"公開情報",null,"この列は操作しないでください",null,"公開情報",null,"この列は操作しないでください",null,null,"公開情報",null,"この列は操作しないでください",null,null,null,"公開情報",null,"この列は操作しないでください",null,null,null,"公開情報",null,"この列は操作しないでください",null,null,null,"公開情報",null,"この列は操作しないでください",null,null,null,"公開情報",null,"この列は操作しないでください",null,null,null,"公開情報",null,"この列は操作しないでください",null,null,null,"公開情報",null,"この列は操作しないでください",null,null,null,"公開情報",null,"この列は操作しないでください",null,null,null,"公開情報",null,"この列は操作しないでください",null,null,null,"公開情報",null,"この列は操作しないでください",null,null,null,null,"公開情報","公開情報","公開情報","公開情報","公開情報","公開情報","公開情報","公開情報","この列は操作しないでください"]
["No","会社名、屋号、氏名","会社名、屋号、氏名\n（フリガナ）","会社　郵便番号","会社　住所","会社　電話番号","会社　FAX番号","会社　メールアドレス","会社　ホームページ","会社　担当部署・担当者","店舗名・サービス名","店舗名・サービス名\n（フリガナ）","お問合せ先\n固定電話番号","お問合せ先\n携帯電話番号","お問合せ先　FAX","お問合せ先　Email","店舗名","店舗所在地","大カテゴリ\n（買物）",null,null,null,"大カテゴリ\n（宅配・デリバリー）",null,null,null,"大カテゴリ\n（送迎サービス・移動支援）",null,null,null,"大カテゴリ\n（出張サービス）",null,null,null,"大カテゴリ\n（運動・たまり場）",null,null,null,"大カテゴリ\n（設備・施設・場所貸し）",null,null,null,"大カテゴリ\n（学び・趣味）",null,null,null,"大カテゴリ\n（生活サービス）",null,null,null,null,"サービス提供エリア\n（さいたま市）",null,null,null,null,null,"サービス提供エリア\n（南部地域）",null,null,null,null,null,"サービス提供エリア\n（南西部地域）",null,null,null,null,null,"サービス提供エリア\n（東部地域）",null,null,null,null,null,"サービス提供エリア\n（県央地域）",null,null,null,null,null,"サービス提供エリア\n（川越比企地域）",null,null,null,null,null,"サービス提供エリア\n（西部地域）",null,null,null,null,null,"サービス提供エリア\n（利根地域）",null,null,null,null,null,"サービス提供エリア\n（北部地域）",null,null,null,null,null,"サービス提供エリア\n（秩父地域）",null,null,null,null,null,null,"サービス内容","費用","利用方法","営業時間、定休日","ホームページ","PR","サービス内容詳細","備考"]
[null,"※必須項目","※必須項目\n全角カタカナ","※必須項目\n半角数字（7桁）","※必須項目","※必須項目\n半角数字（13桁まで）","半角数字（13桁まで）","※必須項目\n半角英数字","半角英数字","※必須項目","※必須項目","※必須項目\n全角カタカナ","※いずれか必須項目\n半角数字（13桁まで）",null,"半角数字（13桁まで）","半角英数字","※必須項目","※必須項目","複数選択可",null,null,null,"複数選択可",null,null,null,"複数選択可",null,null,null,"複数選択可",null,null,null,"複数選択可",null,null,null,"複数選択可",null,null,null,"複数選択可",null,null,null,"複数選択可",null,null,null,null,"複数選択可",null,null,null,null,null,"複数選択可",null,null,null,null,null,"複数選択可",null,null,null,null,null,"複数選択可",null,null,null,null,null,"複数選択可",null,null,null,null,null,"複数選択可",null,null,null,null,null,"複数選択可",null,null,null,null,null,"複数選択可",null,null,null,null,null,"複数選択可",null,null,null,null,null,"複数選択可",null,null,null,null,null,null,"※必須項目\n300文字以内","※必須項目\n150文字以内","※必須項目\n150文字以内","※必須項目\n150文字以内","半角英数字","500文字以内","500文字以内","500文字以内"]
["記入例","埼玉県地域包括ケア株式会社\n","サイタマケンチイキホウカツケア カ）","330-0000","埼玉県さいたま市浦和区高砂3-15-1\n","048-000-0000","048-000-0000","saitama@○○○○.jp\n","https://www.○○○\n","○○部　××課　主任　埼玉花子","スーパー埼玉　高砂店","スーパーサイタマ　タカサゴテン","048-000-0000","090-000-0000","048-000-0000","saitama@○○○○.jp","スーパー埼玉　高砂店","埼玉県,さいたま市浦和区,高砂三丁目15番1号","☑","配送",{"$f":"IF(S11=\"☑\",TRUE)","v":true},{"$f":"IF(U11,T11,\"\")","v":"配送"},"□","弁当配達",{"$f":"IF(W11=\"☑\",TRUE)","v":false},{"$f":"IF(Y11,X11,\"\")","v":""},"☑","理容・美容（送迎）",{"$f":"IF(AA11=\"☑\",TRUE)","v":true},{"$f":"IF(AC11,AB11,\"\")","v":"理容・美容（送迎）"},"☑","家事代行・掃除・片付け",{"$f":"IF(AE11=\"☑\",TRUE)","v":true},{"$f":"IF(AG11,AF11,\"\")","v":"家事代行・掃除・片付け"},"□","フィットネス・ジム（運動）",{"$f":"IF(AI11=\"☑\",TRUE)","v":false},{"$f":"IF(AK11,AJ11,\"\")","v":""},"☑","車イス対応（バリアフリー）",{"$f":"IF(AM11=\"☑\",TRUE)","v":true},{"$f":"IF(AO11,AN11,\"\")","v":"車イス対応（バリアフリー）"},"☑","講座・教室・イベント",{"$f":"IF(AQ11=\"☑\",TRUE)","v":true},{"$f":"IF(AS11,AR11,\"\")","v":"講座・教室・イベント"},"☑","防犯・見守り",{"$f":"IF(AU11=\"☑\",TRUE)","v":true},{"$f":"IF(AW11,AV11,\"\")","v":"防犯・見守り"},{"$f":"_xludf.TEXTJOIN(\",\",TRUE,V11:V24,Z11:Z24,AD11:AD24,AH11:AH24,AL11:AL24,AP11:AP24,AT11:AT24,AX11:AX24)","v":"配送,移動販売,食材宅配,クリーニング,理容・美容（送迎）,家事代行・掃除・片付け,屋外作業・力仕事,カフェ・ファーストフード,イートインスペース,車イス対応（バリアフリー）,多目的トイレ,休憩スペース,講座・教室・イベント,パソコン・スマホ教室,防犯・見守り,認知症サポート企業,成年後見・相続"},"☑","西区",{"$f":"IF(AZ11=\"☑\",TRUE)","v":true},{"$f":"\"さいたま市:\"&BA11","v":"さいたま市:西区"},{"$f":"IF(BB11,BC11,\"\")","v":"さいたま市:西区"},{"$f":"_xludf.TEXTJOIN(\",\",TRUE,BD11:BD24)","v":"さいたま市:西区,さいたま市:大宮区,さいたま市:中央区,さいたま市:浦和区"},"☑","川口市",{"$f":"IF(BF11=\"☑\",TRUE)","v":true},{"$f":"\"南部地域:\"&BG11","v":"南部地域:川口市"},{"$f":"IF(BH11,BI11,\"\")","v":"南部地域:川口市"},{"$f":"_xludf.TEXTJOIN(\",\",TRUE,BJ11:BJ24)","v":"南部地域:川口市"},"☑","朝霞市",{"$f":"IF(BL11=\"☑\",TRUE)","v":true},{"$f":"\"南西部地域:\"&BM11","v":"南西部地域:朝霞市"},{"$f":"IF(BN11,BO11,\"\")","v":"南西部地域:朝霞市"},{"$f":"_xludf.TEXTJOIN(\",\",TRUE,BP11:BP24)","v":"南西部地域:朝霞市,南西部地域:富士見市"},"☑","春日部市",{"$f":"IF(BR11=\"☑\",TRUE)","v":true},{"$f":"\"東部地域:\"&BS11","v":"東部地域:春日部市"},{"$f":"IF(BT11,BU11,\"\")","v":"東部地域:春日部市"},{"$f":"_xludf.TEXTJOIN(\",\",TRUE,BV11:BV24)","v":"東部地域:春日部市,東部地域:草加市"},"□","鴻巣市",{"$f":"IF(BX11=\"☑\",TRUE)","v":false},{"$f":"\"県央地域:\"&BY11","v":"県央地域:鴻巣市"},{"$f":"IF(BZ11,CA11,\"\")","v":""},{"$f":"_xludf.TEXTJOIN(\",\",TRUE,CB11:CB24)","v":"県央地域:上尾市,県央地域:北本市"},"☑","川越市",{"$f":"IF(CD11=\"☑\",TRUE)","v":true},{"$f":"\"川越比企地域:\"&CE11","v":"川越比企地域:川越市"},{"$f":"IF(CF11,CG11,\"\")","v":"川越比企地域:川越市"},{"$f":"_xludf.TEXTJOIN(\",\",TRUE,CH11:CH24)","v":"川越比企地域:川越市"},"☑","所沢市",{"$f":"IF(CJ11=\"☑\",TRUE)","v":true},{"$f":"\"西部地域:\"&CK11","v":"西部地域:所沢市"},{"$f":"IF(CL11,CM11,\"\")","v":"西部地域:所沢市"},{"$f":"_xludf.TEXTJOIN(\",\",TRUE,CN11:CN24)","v":"西部地域:所沢市,西部地域:狭山市"},"☑","行田市",{"$f":"IF(CP11=\"☑\",TRUE)","v":true},{"$f":"\"利根地域:\"&CQ11","v":"利根地域:行田市"},{"$f":"IF(CR11,CS11,\"\")","v":"利根地域:行田市"},{"$f":"_xludf.TEXTJOIN(\",\",TRUE,CT11:CT24)","v":"利根地域:行田市,利根地域:蓮田市,利根地域:白岡市"},"☑","熊谷市",{"$f":"IF(CV11=\"☑\",TRUE)","v":true},{"$f":"\"北部地域:\"&CW11","v":"北部地域:熊谷市"},{"$f":"IF(CX11,CY11,\"\")","v":"北部地域:熊谷市"},{"$f":"_xludf.TEXTJOIN(\",\",TRUE,CZ11:CZ24)","v":"北部地域:熊谷市"},"☑","秩父市",{"$f":"IF(DB11=\"☑\",TRUE)","v":true},{"$f":"\"秩父地域:\"&DC11","v":"秩父地域:秩父市"},{"$f":"IF(DD11,DE11,\"\")","v":"秩父地域:秩父市"},{"$f":"_xludf.TEXTJOIN(\",\",TRUE,DF11:DF24)","v":"秩父地域:秩父市"},{"$f":"_xlfn.TEXTJOIN(\",\",TRUE,BE11,BK11,BQ11,BW11,CC11,CI11,CO11,CU11,DA11,DG11)","v":"さいたま市:西区,さいたま市:大宮区,さいたま市:中央区,さいたま市:浦和区,南部地域:川口市,南西部地域:朝霞市,南西部地域:富士見市,東部地域:春日部市,東部地域:草加市,県央地域:上尾市,県央地域:北本市,川越比企地域:川越市,西部地域:所沢市,西部地域:狭山市,利根地域:行田市,利根地域:蓮田市,利根地域:白岡市,北部地域:熊谷市,秩父地域:秩父市"},"お買い上げいただいた商品をご自宅まで配送いたします。","お買い上げ3,000円（税込）以上の場合は配送料無料\n\n無償の場合は、「上記の内容に関しては無償」などご記入ください。","事前に電話連絡でお知らせください。","9時～18時　※提供日は第2水曜日\n","https://saitama○○○","多目的トイレや休憩スペースもございます。ぜひ、ご来店ください。\n",null,null,{"$f":"IF(#REF!=\"☑\",TRUE)","v":{"$error":"#REF!"}},{"$f":"IF(DQ11,#REF!,\"\")","v":{"$error":"#REF!"}},{"$f":"_xludf.TEXTJOIN(\",\",TRUE,DR11:DR24)","v":{"$error":"#VALUE!"}}]
[null,null,null,null,null,null,null,null,null,null,null,null,null,null,null,null,null,null,"□","買物サポート",false,"","□","料理デリバリー（出前）",false,"","□","フィットネス・ジム（送迎）",{"$f":"IF(AA12=\"☑\",TRUE)","v":false},{"$f":"IF(AC12,AB12,\"\")","v":""},"□","出張料理",{"$f":"IF(AE12=\"☑\",TRUE)","v":false},{"$f":"IF(AG12,AF12,\"\")","v":""},"□","温泉・銭湯（たまり場）",false,{"$f":"IF(AK12,AJ12,\"\")","v":""},"☑","多目的トイレ",true,"多目的トイレ","□","習い事",{"$f":"IF(AQ12=\"☑\",TRUE)","v":false},{"$f":"IF(AS12,AR12,\"\")","v":""},"□","金融・保険",false,"",null,"□","北区",{"$f":"IF(AZ12=\"☑\",TRUE)","v":false},{"$f":"\"さいたま市:\"&BA12","v":"さいたま市:北区"},{"$f":"IF(BB12,BC12,\"\")","v":""},null,"□","蕨市",{"$f":"IF(BF12=\"☑\",TRUE)","v":false},{"$f":"\"南部地域:\"&BG12","v":"南部地域:蕨市"},{"$f":"IF(BH12,BI12,\"\")","v":""},null,"□","志木市",{"$f":"IF(BL12=\"☑\",TRUE)","v":false},{"$f":"\"南西部地域:\"&BM12","v":"南西部地域:志木市"},{"$f":"IF(BN12,BO12,\"\")","v":""},null,"☑","草加市",{"$f":"IF(BR12=\"☑\",TRUE)","v":true},{"$f":"\"東部地域:\"&BS12","v":"東部地域:草加市"},"東部地域:草加市",null,"☑","上尾市",{"$f":"IF(BX12=\"☑\",TRUE)","v":true},{"$f":"\"県央地域:\"&BY12","v":"県央地域:上尾市"},{"$f":"IF(BZ12,CA12,\"\")","v":"県央地域:上尾市"},null,"□","東松山市",{"$f":"IF(CD12=\"☑\",TRUE)","v":false},{"$f":"\"川越比企地域:\"&CE12","v":"川越比企地域:東松山市"},{"$f":"IF(CF12,CG12,\"\")","v":""},null,"□","飯能市",{"$f":"IF(CJ12=\"☑\",TRUE)","v":false},{"$f":"\"西部地域:\"&CK12","v":"西部地域:飯能市"},{"$f":"IF(CL12,CM12,\"\")","v":""},null,"□","加須市",{"$f":"IF(CP12=\"☑\",TRUE)","v":false},{"$f":"\"利根地域:\"&CQ12","v":"利根地域:加須市"},{"$f":"IF(CR12,CS12,\"\")","v":""},null,"□","本庄市",{"$f":"IF(CV12=\"☑\",TRUE)","v":false},{"$f":"\"北部地域:\"&CW12","v":"北部地域:本庄市"},{"$f":"IF(CX12,CY12,\"\")","v":""},null,"□","横瀬町",{"$f":"IF(DB12=\"☑\",TRUE)","v":false},{"$f":"\"秩父地域:\"&DC12","v":"秩父地域:横瀬町"},{"$f":"IF(DD12,DE12,\"\")","v":""},null,null,null,null,null,null,null,null,null,null,null,{"$f":"IF(DQ12,#REF!,\"\")","v":""}]
[null,null,null,null,null,null,null,null,null,null,null,null,null,null,null,null,null,null,"□","買物代行",false,"","☑","食材宅配",true,"食材宅配","□","温泉・銭湯（送迎）",false,"","☑","屋外作業・力仕事",true,"屋外作業・力仕事","☑","カフェ・ファーストフード",true,"カフェ・ファーストフード","☑","休憩スペース",true,"休憩スペース","□","映画館",false,"","□","住宅・リフォーム",false,"",null,"☑","大宮区",true,"さいたま市:大宮区","さいたま市:大宮区",null,"□","戸田市",{"$f":"IF(BF13=\"☑\",TRUE)","v":false},{"$f":"\"南部地域:\"&BG13","v":"南部地域:戸田市"},{"$f":"IF(BH13,BI13,\"\")","v":""},null,"□","和光市",false,"南西部地域:和光市","",null,"□","越谷市",false,"東部地域:越谷市","",null,"□","桶川市",{"$f":"IF(BX13=\"☑\",TRUE)","v":false},{"$f":"\"県央地域:\"&BY13","v":"県央地域:桶川市"},"",null,"□","坂戸市",false,"川越比企地域:坂戸市","",null,"☑","狭山市",{"$f":"IF(CJ13=\"☑\",TRUE)","v":true},{"$f":"\"西部地域:\"&CK13","v":"西部地域:狭山市"},"西部地域:狭山市",null,"□","羽生市",false,"利根地域:羽生市","",null,"□","深谷市",false,"北部地域:深谷市","",null,"□","皆野町",{"$f":"IF(DB13=\"☑\",TRUE)","v":false},{"$f":"\"秩父地域:\"&DC13","v":"秩父地域:皆野町"},"",null,null,null,null,null,null,null,null,null,null,{"$f":"IF(#REF!=\"☑\",TRUE)","v":{"$error":"#REF!"}},{"$f":"IF(DQ13,#REF!,\"\")","v":{"$error":"#REF!"}}]
[null,null,null,null,null,null,null,null,null,null,null,null,null,null,null,null,null,null,"☑","移動販売",true,"移動販売","□","日用品配達",false,"","□","整体・マッサージ（送迎）",false,"","□","整体・マッサージ（出張）",false,"","□","飲食店",false,"","□","駐車場",false,"","□","カラオケ店",false,"","□","パソコン・スマートフォン",false,"",null,"□","見沼区",false,"さいたま市:見沼区","",null,null,null,null,null,{"$f":"IF(BH14,BI14,\"\")","v":""},null,"□","新座市",false,"南西部地域:新座市","",null,"□","八潮市",false,"東部地域:八潮市","",null,"☑","北本市",{"$f":"IF(BX14=\"☑\",TRUE)","v":true},{"$f":"\"県央地域:\"&BY14","v":"県央地域:北本市"},"県央地域:北本市",null,"□","鶴ヶ島市",false,"川越比企地域:鶴ヶ島市","",null,"□","入間市",{"$f":"IF(CJ14=\"☑\",TRUE)","v":false},{"$f":"\"西部地域:\"&CK14","v":"西部地域:入間市"},"",null,"□","久喜市",false,"利根地域:久喜市","",null,"□","美里町",false,"北部地域:美里町","",null,"□","長瀞町",{"$f":"IF(DB14=\"☑\",TRUE)","v":false},{"$f":"\"秩父地域:\"&DC14","v":"秩父地域:長瀞町"},""]
[null,null,null,null,null,null,null,null,null,null,null,null,null,null,null,null,null,null,"□","割引サービス",false,"","□","薬・介護用品配達",false,"","□","乗り合いサービス",false,"","□","理容・美容（出張）",false,"","☑","イートインスペース",true,"イートインスペース","□","貸しスペース",false,"","□","麻雀・将棋・囲碁",false,"","☑","認知症サポート企業",true,"認知症サポート企業",null,"☑","中央区",true,"さいたま市:中央区","さいたま市:中央区",null,null,null,null,null,"",null,"☑","富士見市",true,"南西部地域:富士見市","南西部地域:富士見市",null,"□","三郷市",false,"東部地域:三郷市","",null,"□","伊奈町",{"$f":"IF(BX15=\"☑\",TRUE)","v":false},{"$f":"\"県央地域:\"&BY15","v":"県央地域:伊奈町"},"",null,"□","毛呂山町",false,"川越比企地域:毛呂山町","",null,"□","日高市",{"$f":"IF(CJ15=\"☑\",TRUE)","v":false},{"$f":"\"西部地域:\"&CK15","v":"西部地域:日高市"},"",null,"☑","蓮田市",true,"利根地域:蓮田市","利根地域:蓮田市",null,"□","神川町",false,"北部地域:神川町","",null,"□","小鹿野町",{"$f":"IF(DB15=\"☑\",TRUE)","v":false},{"$f":"\"秩父地域:\"&DC15","v":"秩父地域:小鹿野町"},"",null,null,null,null,null,null,null,null,null,null,{"$f":"IF(#REF!=\"☑\",TRUE)","v":{"$error":"#REF!"}},{"$f":"IF(DQ15,#REF!,\"\")","v":{"$error":"#REF!"}}]
[null,null,null,null,null,null,null,null,null,null,null,null,null,null,null,null,null,null,"□","その他（買物）",false,"","☑","クリーニング",true,{"$f":"IF(Y16,X16,\"\")","v":"クリーニング"},"□","個別移送サービス",false,"","□","ペット",false,"","□","その他（運動・たまり場）",false,"","□","その他（設備・施設・場所貸し）",false,"","□","ゲームセンター",false,"","□","理容・美容",false,"",null,"□","桜区",false,"さいたま市:桜区","",null,null,null,null,null,"",null,"□","ふじみ野市",false,"南西部地域:ふじみ野市","",null,"□","吉川市",false,"東部地域:吉川市","",null,null,null,null,null,"",null,"□","越生町",false,"川越比企地域:越生町","",null,null,null,null,null,"",null,"□","幸手市",false,"利根地域:幸手市","",null,"□","上里町",false,"北部地域:上里町","",null,null,null,null,null,"",null,null,null,null,null,null,null,null,null,null,{"$f":"IF(#REF!=\"☑\",TRUE)","v":{"$error":"#REF!"}},{"$f":"IF(DQ16,#REF!,\"\")","v":{"$error":"#REF!"}}]
[null,null,null,null,null,null,null,null,null,null,null,null,null,null,null,null,null,null,null,null,null,null,"□","その他（宅配・デリバリー）",false,{"$f":"IF(Y17,X17,\"\")","v":""},"□","交通機関サービス",false,"","□","その他（出張サービス）",false,"",null,null,null,null,null,null,null,null,"□","旅行・レジャー",false,"","☑","成年後見・相続",true,"成年後見・相続",null,"☑","浦和区",true,"さいたま市:浦和区","さいたま市:浦和区",null,null,null,null,null,"",null,"□","三芳町",false,"南西部地域:三芳町","",null,"□","松伏町",false,"東部地域:松伏町","",null,null,null,null,null,"",null,"□","滑川町",false,"川越比企地域:滑川町","",null,null,null,null,null,"",null,"☑","白岡市",true,"利根地域:白岡市","利根地域:白岡市",null,"□","寄居町",false,"北部地域:寄居町","",null,null,null,null,null,""]
[null,null,null,null,null,null,null,null,null,null,null,null,null,null,null,null,null,null,null,null,null,null,null,null,null,null,"□","その他（送迎・移動支援）",false,"",null,null,null,"",null,null,null,"",null,null,null,{"$f":"IF(AO18,AN18,\"\")","v":""},"☑","パソコン・スマホ教室",{"$f":"IF(AQ18=\"☑\",TRUE)","v":true},{"$f":"IF(AS18,AR18,\"\")","v":"パソコン・スマホ教室"},"□","その他（生活サービス）",false,"",null,"□","南区",false,"さいたま市:南区","",null,null,null,null,null,"",null,null,null,null,null,"",null,null,null,null,null,"",null,null,null,null,null,"",null,"□","嵐山町",false,"川越比企地域:嵐山町","",null,null,null,null,null,"",null,"□","宮代町",false,"利根地域:宮代町","",null,null,null,null,null,"",null,null,null,null,null,""]
[null,null,null,null,null,null,null,null,null,null,null,null,null,null,null,null,null,null,null,null,null,null,null,null,null,null,null,null,null,null,null,null,null,null,null,null,null,null,null,null,null,null,"□","その他（学び・趣味）",false,"",null,null,null,null,null,"□","緑区",false,"さいたま市:緑区","",null,null,null,null,null,"",null,null,null,null,null,"",null,null,null,null,null,"",null,null,null,null,null,"",null,"□","小川町",false,"川越比企地域:小川町","",null,null,null,null,null,"",null,"□","杉戸町",false,"利根地域:杉戸町","",null,null,null,null,null,"",null,null,null,null,null,""]
[null,null,null,null,null,null,null,null,null,null,null,null,null,null,null,null,null,null,null,null,null,null,null,null,null,null,null,null,null,null,null,null,null,null,null,null,null,null,null,null,null,null,null,null,null,null,null,null,null,null,null,"□","岩槻区",{"$f":"IF(AZ20=\"☑\",TRUE)","v":false},"さいたま市:岩槻区","",null,null,null,null,null,"",null,null,null,null,null,"",null,null,null,null,null,"",null,null,null,null,null,"",null,"□","川島町",false,"川越比企地域:川島町","",null,null,null,null,null,"",null,null,null,null,null,"",null,null,null,null,null,"",null,null,null,null,null,""]
[null,null,null,null,null,null,null,null,null,null,null,null,null,null,null,null,null,null,null,null,null,null,null,null,null,null,null,null,null,null,null,null,null,null,null,null,null,null,null,null,null,null,null,null,null,null,null,null,null,null,null,null,null,null,null,null,null,null,null,null,null,null,null,null,null,null,null,null,null,null,null,null,null,null,null,null,null,null,null,null,null,"□","吉見町",false,"川越比企地域:吉見町","",null,null,null,null,null,"",null,null,null,null,null,"",null,null,null,null,null,"",null,null,null,null,null,""]
[null,null,null,null,null,null,null,null,null,null,null,null,null,null,null,null,null,null,null,null,null,null,null,null,null,null,null,null,null,null,null,null,null,null,null,null,null,null,null,null,null,null,null,null,null,null,null,null,null,null,null,null,null,null,null,null,null,null,null,null,null,null,null,null,null,null,null,null,null,null,null,null,null,null,null,null,null,null,null,null,null,"□","鳩山町",false,"川越比企地域:鳩山町","",null,null,null,null,null,"",null,null,null,null,null,"",null,null,null,null,null,"",null,null,null,null,null,""]
[null,null,null,null,null,null,null,null,null,null,null,null,null,null,null,null,null,null,null,null,null,null,null,null,null,null,null,null,null,null,null,null,null,null,null,null,null,null,null,null,null,null,null,null,null,null,null,null,null,null,null,null,null,null,null,null,null,null,null,null,null,null,null,null,null,null,null,null,null,null,null,null,null,null,null,null,null,null,null,null,null,"□","ときがわ町",false,"川越比企地域:ときがわ町","",null,null,null,null,null,"",null,null,null,null,null,"",null,null,null,null,null,"",null,null,null,null,null,""]
[null,null,null,null,null,null,null,null,null,null,null,null,null,null,null,null,null,null,null,null,null,null,null,null,null,null,null,null,null,null,null,null,null,null,null,null,null,null,null,null,null,null,null,null,null,null,null,null,null,null,null,null,null,null,null,null,null,null,null,null,null,null,null,null,null,null,null,null,null,null,null,null,null,null,null,null,null,null,null,null,null,"□","東秩父村",false,"川越比企地域:東秩父村","",null,null,null,null,null,"",null,null,null,null,null,"",null,null,null,null,null,"",null,null,null,null,null,""]
[1,null,null,null,null,null,null,null,null,null,null,null,null,null,null,null,null,null,"□","配送",{"$f":"IF(S25=\"☑\",TRUE)","v":false},{"$f":"IF(U25,T25,\"\")","v":""},"□","弁当配達",{"$f":"IF(W25=\"☑\",TRUE)","v":false},{"$f":"IF(Y25,X25,\"\")","v":""},"□","理容・美容（送迎）",{"$f":"IF(AA25=\"☑\",TRUE)","v":false},{"$f":"IF(AC25,AB25,\"\")","v":""},"□","家事代行・掃除・片付け",{"$f":"IF(AE25=\"☑\",TRUE)","v":false},{"$f":"IF(AG25,AF25,\"\")","v":""},"□","フィットネス・ジム（運動）",{"$f":"IF(AI25=\"☑\",TRUE)","v":false},{"$f":"IF(AK25,AJ25,\"\")","v":""},"□","車イス対応（バリアフリー）",{"$f":"IF(AM25=\"☑\",TRUE)","v":false},{"$f":"IF(AO25,AN25,\"\")","v":""},"□","講座・教室・イベント",{"$f":"IF(AQ25=\"☑\",TRUE)","v":false},{"$f":"IF(AS25,AR25,\"\")","v":""},"□","防犯・見守り",{"$f":"IF(AU25=\"☑\",TRUE)","v":false},{"$f":"IF(AW25,AV25,\"\")","v":""},{"$f":"_xludf.TEXTJOIN(\",\",TRUE,V25:V38,Z25:Z38,AD25:AD38,AH25:AH38,AL25:AL38,AP25:AP38,AT25:AT38,AX25:AX38)","v":""},"□","西区",{"$f":"IF(AZ25=\"☑\",TRUE)","v":false},{"$f":"\"さいたま市:\"&BA25","v":"さいたま市:西区"},{"$f":"IF(BB25,BC25,\"\")","v":""},{"$f":"_xludf.TEXTJOIN(\",\",TRUE,BD25:BD38)","v":""},"□","川口市",{"$f":"IF(BF25=\"☑\",TRUE)","v":false},{"$f":"\"南部地域:\"&BG25","v":"南部地域:川口市"},{"$f":"IF(BH25,BI25,\"\")","v":""},{"$f":"_xludf.TEXTJOIN(\",\",TRUE,BJ25:BJ38)","v":""},"□","朝霞市",{"$f":"IF(BL25=\"☑\",TRUE)","v":false},{"$f":"\"南西部地域:\"&BM25","v":"南西部地域:朝霞市"},{"$f":"IF(BN25,BO25,\"\")","v":""},{"$f":"_xludf.TEXTJOIN(\",\",TRUE,BP25:BP38)","v":""},"□","春日部市",{"$f":"IF(BR25=\"☑\",TRUE)","v":false},{"$f":"\"東部地域:\"&BS25","v":"東部地域:春日部市"},{"$f":"IF(BT25,BU25,\"\")","v":""},{"$f":"_xludf.TEXTJOIN(\",\",TRUE,BV25:BV38)","v":""},"□","鴻巣市",{"$f":"IF(BX25=\"☑\",TRUE)","v":false},{"$f":"\"県央地域:\"&BY25","v":"県央地域:鴻巣市"},{"$f":"IF(BZ25,CA25,\"\")","v":""},{"$f":"_xludf.TEXTJOIN(\",\",TRUE,CB25:CB38)","v":""},"□","川越市",{"$f":"IF(CD25=\"☑\",TRUE)","v":false},{"$f":"\"川越比企地域:\"&CE25","v":"川越比企地域:川越市"},{"$f":"IF(CF25,CG25,\"\")","v":""},{"$f":"_xludf.TEXTJOIN(\",\",TRUE,CH25:CH38)","v":""},"□","所沢市",{"$f":"IF(CJ25=\"☑\",TRUE)","v":false},{"$f":"\"西部地域:\"&CK25","v":"西部地域:所沢市"},{"$f":"IF(CL25,CM25,\"\")","v":""},{"$f":"_xludf.TEXTJOIN(\",\",TRUE,CN25:CN38)","v":""},"□","行田市",{"$f":"IF(CP25=\"☑\",TRUE)","v":false},{"$f":"\"利根地域:\"&CQ25","v":"利根地域:行田市"},{"$f":"IF(CR25,CS25,\"\")","v":""},{"$f":"_xludf.TEXTJOIN(\",\",TRUE,CT25:CT38)","v":""},"□","熊谷市",{"$f":"IF(CV25=\"☑\",TRUE)","v":false},{"$f":"\"北部地域:\"&CW25","v":"北部地域:熊谷市"},{"$f":"IF(CX25,CY25,\"\")","v":""},{"$f":"_xludf.TEXTJOIN(\",\",TRUE,CZ25:CZ38)","v":""},"□","秩父市",{"$f":"IF(DB25=\"☑\",TRUE)","v":false},{"$f":"\"秩父地域:\"&DC25","v":"秩父地域:秩父市"},{"$f":"IF(DD25,DE25,\"\")","v":""},{"$f":"_xludf.TEXTJOIN(\",\",TRUE,DF25:DF38)","v":""},{"$f":"_xlfn.TEXTJOIN(\",\",TRUE,BE25,BK25,BQ25,BW25,CC25,CI25,CO25,CU25,DA25,DG25)","v":""},null,null,null,null,null,null,null,null,{"$f":"IF(#REF!=\"☑\",TRUE)","v":{"$error":"#REF!"}},{"$f":"IF(DQ25,#REF!,\"\")","v":{"$error":"#REF!"}},{"$f":"_xludf.TEXTJOIN(\",\",TRUE,DR25:DR38)","v":{"$error":"#VALUE!"}}]
[null,null,null,null,null,null,null,null,null,null,null,null,null,null,null,null,null,null,"□","買物サポート",false,"","□","料理デリバリー（出前）",false,"","□","フィットネス・ジム（送迎）",{"$f":"IF(AA26=\"☑\",TRUE)","v":false},{"$f":"IF(AC26,AB26,\"\")","v":""},"□","出張料理",{"$f":"IF(AE26=\"☑\",TRUE)","v":false},{"$f":"IF(AG26,AF26,\"\")","v":""},"□","温泉・銭湯（たまり場）",false,"","□","多目的トイレ",false,"","□","習い事",{"$f":"IF(AQ26=\"☑\",TRUE)","v":false},{"$f":"IF(AS26,AR26,\"\")","v":""},"□","金融・保険",false,"",null,"□","北区",{"$f":"IF(AZ26=\"☑\",TRUE)","v":false},{"$f":"\"さいたま市:\"&BA26","v":"さいたま市:北区"},{"$f":"IF(BB26,BC26,\"\")","v":""},null,"□","蕨市",{"$f":"IF(BF26=\"☑\",TRUE)","v":false},{"$f":"\"南部地域:\"&BG26","v":"南部地域:蕨市"},{"$f":"IF(BH26,BI26,\"\")","v":""},null,"□","志木市",{"$f":"IF(BL26=\"☑\",TRUE)","v":false},{"$f":"\"南西部地域:\"&BM26","v":"南西部地域:志木市"},{"$f":"IF(BN26,BO26,\"\")","v":""},null,"□","草加市",{"$f":"IF(BR26=\"☑\",TRUE)","v":false},{"$f":"\"東部地域:\"&BS26","v":"東部地域:草加市"},"",null,"□","上尾市",{"$f":"IF(BX26=\"☑\",TRUE)","v":false},{"$f":"\"県央地域:\"&BY26","v":"県央地域:上尾市"},{"$f":"IF(BZ26,CA26,\"\")","v":""},null,"□","東松山市",{"$f":"IF(CD26=\"☑\",TRUE)","v":false},{"$f":"\"川越比企地域:\"&CE26","v":"川越比企地域:東松山市"},{"$f":"IF(CF26,CG26,\"\")","v":""},null,"□","飯能市",{"$f":"IF(CJ26=\"☑\",TRUE)","v":false},{"$f":"\"西部地域:\"&CK26","v":"西部地域:飯能市"},{"$f":"IF(CL26,CM26,\"\")","v":""},null,"□","加須市",{"$f":"IF(CP26=\"☑\",TRUE)","v":false},{"$f":"\"利根地域:\"&CQ26","v":"利根地域:加須市"},{"$f":"IF(CR26,CS26,\"\")","v":""},null,"□","本庄市",{"$f":"IF(CV26=\"☑\",TRUE)","v":false},{"$f":"\"北部地域:\"&CW26","v":"北部地域:本庄市"},{"$f":"IF(CX26,CY26,\"\")","v":""},null,"□","横瀬町",{"$f":"IF(DB26=\"☑\",TRUE)","v":false},{"$f":"\"秩父地域:\"&DC26","v":"秩父地域:横瀬町"},{"$f":"IF(DD26,DE26,\"\")","v":""},null,null,null,null,null,null,null,null,null,null,null,{"$f":"IF(DQ26,#REF!,\"\")","v":""}]
[null,null,null,null,null,null,null,null,null,null,null,null,null,null,null,null,null,null,"□","買物代行",false,"","□","食材宅配",false,"","□","温泉・銭湯（送迎）",false,"","□","屋外作業・力仕事",false,"","□","カフェ・ファーストフード",false,"","□","休憩スペース",false,"","□","映画館",false,"","□","住宅・リフォーム",false,"",null,"□","大宮区",false,"さいたま市:大宮区","",null,"□","戸田市",{"$f":"IF(BF27=\"☑\",TRUE)","v":false},{"$f":"\"南部地域:\"&BG27","v":"南部地域:戸田市"},"",null,"□","和光市",false,"南西部地域:和光市","",null,"□","越谷市",false,"東部地域:越谷市","",null,"□","桶川市",{"$f":"IF(BX27=\"☑\",TRUE)","v":false},{"$f":"\"県央地域:\"&BY27","v":"県央地域:桶川市"},"",null,"□","坂戸市",false,"川越比企地域:坂戸市","",null,"□","狭山市",{"$f":"IF(CJ27=\"☑\",TRUE)","v":false},{"$f":"\"西部地域:\"&CK27","v":"西部地域:狭山市"},"",null,"□","羽生市",false,"利根地域:羽生市","",null,"□","深谷市",false,"北部地域:深谷市","",null,"□","皆野町",{"$f":"IF(DB27=\"☑\",TRUE)","v":false},{"$f":"\"秩父地域:\"&DC27","v":"秩父地域:皆野町"},"",null,null,null,null,null,null,null,null,null,null,{"$f":"IF(#REF!=\"☑\",TRUE)","v":{"$error":"#REF!"}},{"$f":"IF(DQ27,#REF!,\"\")","v":{"$error":"#REF!"}}]
[null,null,null,null,null,null,null,null,null,null,null,null,null,null,null,null,null,null,"□","移動販売",false,"","□","日用品配達",false,"","□","整体・マッサージ（送迎）",false,"","□","整体・マッサージ（出張）",false,"","□","飲食店",false,"","□","駐車場",false,"","□","カラオケ店",false,"","□","パソコン・スマートフォン",false,"",null,"□","見沼区",false,"さいたま市:見沼区","",null,null,null,null,null,"",null,"□","新座市",false,"南西部地域:新座市","",null,"□","八潮市",false,"東部地域:八潮市","",null,"□","北本市",{"$f":"IF(BX28=\"☑\",TRUE)","v":false},{"$f":"\"県央地域:\"&BY28","v":"県央地域:北本市"},"",null,"□","鶴ヶ島市",false,"川越比企地域:鶴ヶ島市","",null,"□","入間市",{"$f":"IF(CJ28=\"☑\",TRUE)","v":false},{"$f":"\"西部地域:\"&CK28","v":"西部地域:入間市"},"",null,"□","久喜市",false,"利根地域:久喜市","",null,"□","美里町",false,"北部地域:美里町","",null,"□","長瀞町",{"$f":"IF(DB28=\"☑\",TRUE)","v":false},{"$f":"\"秩父地域:\"&DC28","v":"秩父地域:長瀞町"},""]
[null,null,null,null,null,null,null,null,null,null,null,null,null,null,null,null,null,null,"□","割引サービス",false,"","□","薬・介護用品配達",false,"","□","乗り合いサービス",false,"","□","理容・美容（出張）",false,"","□","イートインスペース",false,"","□","貸しスペース",false,"","□","麻雀・将棋・囲碁",false,"","□","認知症サポート企業",false,"",null,"□","中央区",false,"さいたま市:中央区","",null,null,null,null,null,"",null,"□","富士見市",false,"南西部地域:富士見市","",null,"□","三郷市",false,"東部地域:三郷市","",null,"□","伊奈町",{"$f":"IF(BX29=\"☑\",TRUE)","v":false},{"$f":"\"県央地域:\"&BY29","v":"県央地域:伊奈町"},"",null,"□","毛呂山町",false,"川越比企地域:毛呂山町","",null,"□","日高市",{"$f":"IF(CJ29=\"☑\",TRUE)","v":false},{"$f":"\"西部地域:\"&CK29","v":"西部地域:日高市"},"",null,"□","蓮田市",false,"利根地域:蓮田市","",null,"□","神川町",false,"北部地域:神川町","",null,"□","小鹿野町",{"$f":"IF(DB29=\"☑\",TRUE)","v":false},{"$f":"\"秩父地域:\"&DC29","v":"秩父地域:小鹿野町"},"",null,null,null,null,null,null,null,null,null,null,{"$f":"IF(#REF!=\"☑\",TRUE)","v":{"$error":"#REF!"}},{"$f":"IF(DQ29,#REF!,\"\")","v":{"$error":"#REF!"}}]
[null,null,null,null,null,null,null,null,null,null,null,null,null,null,null,null,null,null,"□","その他（買物）",false,"","□","クリーニング",false,{"$f":"IF(Y30,X30,\"\")","v":""},"□","個別移送サービス",false,"","□","ペット",false,"","□","その他（運動・たまり場）",false,"","□","その他（設備・施設・場所貸し）",false,"","□","ゲームセンター",false,"","□","理容・美容",false,"",null,"□","桜区",false,"さいたま市:桜区","",null,null,null,null,null,"",null,"□","ふじみ野市",false,"南西部地域:ふじみ野市","",null,"□","吉川市",false,"東部地域:吉川市","",null,null,null,null,null,"",null,"□","越生町",false,"川越比企地域:越生町","",null,null,null,null,null,"",null,"□","幸手市",false,"利根地域:幸手市","",null,"□","上里町",false,"北部地域:上里町","",null,null,null,null,null,"",null,null,null,null,null,null,null,null,null,null,{"$f":"IF(#REF!=\"☑\",TRUE)","v":{"$error":"#REF!"}},{"$f":"IF(DQ30,#REF!,\"\")","v":{"$error":"#REF!"}}]
[null,null,null,null,null,null,null,null,null,null,null,null,null,null,null,null,null,null,null,null,null,null,"□","その他（宅配・デリバリー）",false,{"$f":"IF(Y31,X31,\"\")","v":""},"□","交通機関サービス",false,"","□","その他（出張サービス）",false,"",null,null,null,null,null,null,null,null,"□","旅行・レジャー",false,"","□","成年後見・相続",false,"",null,"□","浦和区",false,"さいたま市:浦和区","",null,null,null,null,null,"",null,"□","三芳町",false,"南西部地域:三芳町","",null,"□","松伏町",false,"東部地域:松伏町","",null,null,null,null,null,"",null,"□","滑川町",false,"川越比企地域:滑川町","",null,null,null,null,null,"",null,"□","白岡市",false,"利根地域:白岡市","",null,"□","寄居町",false,"北部地域:寄居町","",null,null,null,null,null,""]
[null,null,null,null,null,null,null,null,null,null,null,null,null,null,null,null,null,null,null,null,null,null,null,null,null,null,"□","その他（送迎・移動支援）",false,"",null,null,null,"",null,null,null,{"$f":"IF(AK32,AJ32,\"\")","v":""},null,null,null,{"$f":"IF(AO32,AN32,\"\")","v":""},"□","パソコン・スマホ教室",false,"","□","その他（生活サービス）",false,"",null,"□","南区",false,"さいたま市:南区","",null,null,null,null,null,"",null,null,null,null,null,"",null,null,null,null,null,"",null,null,null,null,null,"",null,"□","嵐山町",false,"川越比企地域:嵐山町","",null,null,null,null,null,"",null,"□","宮代町",false,"利根地域:宮代町","",null,null,null,null,null,"",null,null,null,null,null,""]
[null,null,null,null,null,null,null,null,null,null,null,null,null,null,null,null,null,null,null,null,null,null,null,null,null,null,null,null,null,null,null,null,null,null,null,null,null,null,null,null,null,null,"□","その他（学び・趣味）",false,"",null,null,null,null,null,"□","緑区",false,"さいたま市:緑区","",null,null,null,null,null,"",null,null,null,null,null,"",null,null,null,null,null,"",null,null,null,null,null,"",null,"□","小川町",false,"川越比企地域:小川町","",null,null,null,null,null,"",null,"□","杉戸町",false,"利根地域:杉戸町","",null,null,null,null,null,"",null,null,null,null,null,""]
[null,null,null,null,null,null,null,null,null,null,null,null,null,null,null,null,null,null,null,null,null,null,null,null,null,null,null,null,null,null,null,null,null,null,null,null,null,null,null,null,null,null,null,null,null,null,null,null,null,null,null,"□","岩槻区",{"$f":"IF(AZ34=\"☑\",TRUE)","v":false},"さいたま市:岩槻区","",null,null,null,null,null,"",null,null,null,null,null,"",null,null,null,null,null,"",null,null,null,null,null,"",null,"□","川島町",false,"川越比企地域:川島町","",null,null,null,null,null,"",null,null,null,null,null,"",null,null,null,null,null,"",null,null,null,null,null,""]
[null,null,null,null,null,null,null,null,null,null,null,null,null,null,null,null,null,null,null,null,null,null,null,null,null,null,null,null,null,null,null,null,null,null,null,null,null,null,null,null,null,null,null,null,null,null,null,null,null,null,null,null,null,null,null,null,null,null,null,null,null,null,null,null,null,null,null,null,null,null,null,null,null,null,null,null,null,null,null,null,null,"□","吉見町",false,"川越比企地域:吉見町","",null,null,null,null,null,"",null,null,null,null,null,"",null,null,null,null,null,"",null,null,null,null,null,""]
[null,null,null,null,null,null,null,null,null,null,null,null,null,null,null,null,null,null,null,null,null,null,null,null,null,null,null,null,null,null,null,null,null,null,null,null,null,null,null,null,null,null,null,null,null,null,null,null,null,null,null,null,null,null,null,null,null,null,null,null,null,null,null,null,null,null,null,null,null,null,null,null,null,null,null,null,null,null,null,null,null,"□","鳩山町",false,"川越比企地域:鳩山町","",null,null,null,null,null,"",null,null,null,null,null,"",null,null,null,null,null,"",null,null,null,null,null,""]
[null,null,null,null,null,null,null,null,null,null,null,null,null,null,null,null,null,null,null,null,null,null,null,null,null,null,null,null,null,null,null,null,null,null,null,null,null,null,null,null,null,null,null,null,null,null,null,null,null,null,null,null,null,null,null,null,null,null,null,null,null,null,null,null,null,null,null,null,null,null,null,null,null,null,null,null,null,null,null,null,null,"□","ときがわ町",false,"川越比企地域:ときがわ町","",null,null,null,null,null,"",null,null,null,null,null,"",null,null,null,null,null,"",null,null,null,null,null,""]
[null,null,null,null,null,null,null,null,null,null,null,null,null,null,null,null,null,null,null,null,null,null,null,null,null,null,null,null,null,null,null,null,null,null,null,null,null,null,null,null,null,null,null,null,null,null,null,null,null,null,null,null,null,null,null,null,null,null,null,null,null,null,null,null,null,null,null,null,null,null,null,null,null,null,null,null,null,null,null,null,null,"□","東秩父村",false,"川越比企地域:東秩父村","",null,null,null,null,null,"",null,null,null,null,null,"",null,null,null,null,null,"",null,null,null,null,null,""]
[2,null,null,null,null,null,null,null,null,null,null,null,null,null,null,null,null,null,"□","配送",{"$f":"IF(S39=\"☑\",TRUE)","v":false},{"$f":"IF(U39,T39,\"\")","v":""},"□","弁当配達",{"$f":"IF(W39=\"☑\",TRUE)","v":false},{"$f":"IF(Y39,X39,\"\")","v":""},"□","理容・美容（送迎）",{"$f":"IF(AA39=\"☑\",TRUE)","v":false},{"$f":"IF(AC39,AB39,\"\")","v":""},"□","家事代行・掃除・片付け",{"$f":"IF(AE39=\"☑\",TRUE)","v":false},{"$f":"IF(AG39,AF39,\"\")","v":""},"□","フィットネス・ジム（運動）",{"$f":"IF(AI39=\"☑\",TRUE)","v":false},{"$f":"IF(AK39,AJ39,\"\")","v":""},"□","車イス対応（バリアフリー）",{"$f":"IF(AM39=\"☑\",TRUE)","v":false},{"$f":"IF(AO39,AN39,\"\")","v":""},"□","講座・教室・イベント",{"$f":"IF(AQ39=\"☑\",TRUE)","v":false},{"$f":"IF(AS39,AR39,\"\")","v":""},"□","防犯・見守り",{"$f":"IF(AU39=\"☑\",TRUE)","v":false},{"$f":"IF(AW39,AV39,\"\")","v":""},{"$f":"_xludf.TEXTJOIN(\",\",TRUE,V39:V52,Z39:Z52,AD39:AD52,AH39:AH52,AL39:AL52,AP39:AP52,AT39:AT52,AX39:AX52)","v":""},"□","西区",{"$f":"IF(AZ39=\"☑\",TRUE)","v":false},{"$f":"\"さいたま市:\"&BA39","v":"さいたま市:西区"},{"$f":"IF(BB39,BC39,\"\")","v":""},{"$f":"_xludf.TEXTJOIN(\",\",TRUE,BD39:BD52)","v":""},"□","川口市",{"$f":"IF(BF39=\"☑\",TRUE)","v":false},{"$f":"\"南部地域:\"&BG39","v":"南部地域:川口市"},{"$f":"IF(BH39,BI39,\"\")","v":""},{"$f":"_xludf.TEXTJOIN(\",\",TRUE,BJ39:BJ52)","v":""},"□","朝霞市",{"$f":"IF(BL39=\"☑\",TRUE)","v":false},{"$f":"\"南西部地域:\"&BM39","v":"南西部地域:朝霞市"},{"$f":"IF(BN39,BO39,\"\")","v":""},{"$f":"_xludf.TEXTJOIN(\",\",TRUE,BP39:BP52)","v":""},"□","春日部市",{"$f":"IF(BR39=\"☑\",TRUE)","v":false},{"$f":"\"東部地域:\"&BS39","v":"東部地域:春日部市"},{"$f":"IF(BT39,BU39,\"\")","v":""},{"$f":"_xludf.TEXTJOIN(\",\",TRUE,BV39:BV52)","v":""},"□","鴻巣市",{"$f":"IF(BX39=\"☑\",TRUE)","v":false},{"$f":"\"県央地域:\"&BY39","v":"県央地域:鴻巣市"},{"$f":"IF(BZ39,CA39,\"\")","v":""},{"$f":"_xludf.TEXTJOIN(\",\",TRUE,CB39:CB52)","v":""},"□","川越市",{"$f":"IF(CD39=\"☑\",TRUE)","v":false},{"$f":"\"川越比企地域:\"&CE39","v":"川越比企地域:川越市"},{"$f":"IF(CF39,CG39,\"\")","v":""},{"$f":"_xludf.TEXTJOIN(\",\",TRUE,CH39:CH52)","v":""},"□","所沢市",{"$f":"IF(CJ39=\"☑\",TRUE)","v":false},{"$f":"\"西部地域:\"&CK39","v":"西部地域:所沢市"},{"$f":"IF(CL39,CM39,\"\")","v":""},{"$f":"_xludf.TEXTJOIN(\",\",TRUE,CN39:CN52)","v":""},"□","行田市",{"$f":"IF(CP39=\"☑\",TRUE)","v":false},{"$f":"\"利根地域:\"&CQ39","v":"利根地域:行田市"},{"$f":"IF(CR39,CS39,\"\")","v":""},{"$f":"_xludf.TEXTJOIN(\",\",TRUE,CT39:CT52)","v":""},"□","熊谷市",{"$f":"IF(CV39=\"☑\",TRUE)","v":false},{"$f":"\"北部地域:\"&CW39","v":"北部地域:熊谷市"},{"$f":"IF(CX39,CY39,\"\")","v":""},{"$f":"_xludf.TEXTJOIN(\",\",TRUE,CZ39:CZ52)","v":""},"□","秩父市",{"$f":"IF(DB39=\"☑\",TRUE)","v":false},{"$f":"\"秩父地域:\"&DC39","v":"秩父地域:秩父市"},{"$f":"IF(DD39,DE39,\"\")","v":""},{"$f":"_xludf.TEXTJOIN(\",\",TRUE,DF39:DF52)","v":""},{"$f":"_xlfn.TEXTJOIN(\",\",TRUE,BE39,BK39,BQ39,BW39,CC39,CI39,CO39,CU39,DA39,DG39)","v":""},null,null,null,null,null,null,null,null,{"$f":"IF(#REF!=\"☑\",TRUE)","v":{"$error":"#REF!"}},{"$f":"IF(DQ39,#REF!,\"\")","v":{"$error":"#REF!"}},{"$f":"_xludf.TEXTJOIN(\",\",TRUE,DR39:DR52)","v":{"$error":"#VALUE!"}}]
[null,null,null,null,null,null,null,null,null,null,null,null,null,null,null,null,null,null,"□","買物サポート",false,"","□","料理デリバリー（出前）",false,"","□","フィットネス・ジム（送迎）",{"$f":"IF(AA40=\"☑\",TRUE)","v":false},{"$f":"IF(AC40,AB40,\"\")","v":""},"□","出張料理",{"$f":"IF(AE40=\"☑\",TRUE)","v":false},{"$f":"IF(AG40,AF40,\"\")","v":""},"□","温泉・銭湯（たまり場）",false,"","□","多目的トイレ",false,"","□","習い事",{"$f":"IF(AQ40=\"☑\",TRUE)","v":false},{"$f":"IF(AS40,AR40,\"\")","v":""},"□","金融・保険",false,"",null,"□","北区",{"$f":"IF(AZ40=\"☑\",TRUE)","v":false},{"$f":"\"さいたま市:\"&BA40","v":"さいたま市:北区"},{"$f":"IF(BB40,BC40,\"\")","v":""},null,"□","蕨市",{"$f":"IF(BF40=\"☑\",TRUE)","v":false},{"$f":"\"南部地域:\"&BG40","v":"南部地域:蕨市"},{"$f":"IF(BH40,BI40,\"\")","v":""},null,"□","志木市",{"$f":"IF(BL40=\"☑\",TRUE)","v":false},{"$f":"\"南西部地域:\"&BM40","v":"南西部地域:志木市"},{"$f":"IF(BN40,BO40,\"\")","v":""},null,"□","草加市",{"$f":"IF(BR40=\"☑\",TRUE)","v":false},{"$f":"\"東部地域:\"&BS40","v":"東部地域:草加市"},"",null,"□","上尾市",{"$f":"IF(BX40=\"☑\",TRUE)","v":false},{"$f":"\"県央地域:\"&BY40","v":"県央地域:上尾市"},{"$f":"IF(BZ40,CA40,\"\")","v":""},null,"□","東松山市",{"$f":"IF(CD40=\"☑\",TRUE)","v":false},{"$f":"\"川越比企地域:\"&CE40","v":"川越比企地域:東松山市"},{"$f":"IF(CF40,CG40,\"\")","v":""},null,"□","飯能市",{"$f":"IF(CJ40=\"☑\",TRUE)","v":false},{"$f":"\"西部地域:\"&CK40","v":"西部地域:飯能市"},{"$f":"IF(CL40,CM40,\"\")","v":""},null,"□","加須市",{"$f":"IF(CP40=\"☑\",TRUE)","v":false},{"$f":"\"利根地域:\"&CQ40","v":"利根地域:加須市"},{"$f":"IF(CR40,CS40,\"\")","v":""},null,"□","本庄市",{"$f":"IF(CV40=\"☑\",TRUE)","v":false},{"$f":"\"北部地域:\"&CW40","v":"北部地域:本庄市"},{"$f":"IF(CX40,CY40,\"\")","v":""},null,"□","横瀬町",{"$f":"IF(DB40=\"☑\",TRUE)","v":false},{"$f":"\"秩父地域:\"&DC40","v":"秩父地域:横瀬町"},{"$f":"IF(DD40,DE40,\"\")","v":""},null,null,null,null,null,null,null,null,null,null,null,{"$f":"IF(DQ40,#REF!,\"\")","v":""}]
[null,null,null,null,null,null,null,null,null,null,null,null,null,null,null,null,null,null,"□","買物代行",false,"","□","食材宅配",false,"","□","温泉・銭湯（送迎）",false,"","□","屋外作業・力仕事",false,"","□","カフェ・ファーストフード",false,"","□","休憩スペース",false,"","□","映画館",false,"","□","住宅・リフォーム",false,"",null,"□","大宮区",false,"さいたま市:大宮区","",null,"□","戸田市",{"$f":"IF(BF41=\"☑\",TRUE)","v":false},{"$f":"\"南部地域:\"&BG41","v":"南部地域:戸田市"},"",null,"□","和光市",false,"南西部地域:和光市","",null,"□","越谷市",false,"東部地域:越谷市","",null,"□","桶川市",{"$f":"IF(BX41=\"☑\",TRUE)","v":false},{"$f":"\"県央地域:\"&BY41","v":"県央地域:桶川市"},"",null,"□","坂戸市",false,"川越比企地域:坂戸市","",null,"□","狭山市",{"$f":"IF(CJ41=\"☑\",TRUE)","v":false},{"$f":"\"西部地域:\"&CK41","v":"西部地域:狭山市"},"",null,"□","羽生市",false,"利根地域:羽生市","",null,"□","深谷市",false,"北部地域:深谷市","",null,"□","皆野町",{"$f":"IF(DB41=\"☑\",TRUE)","v":false},{"$f":"\"秩父地域:\"&DC41","v":"秩父地域:皆野町"},"",null,null,null,null,null,null,null,null,null,null,{"$f":"IF(#REF!=\"☑\",TRUE)","v":{"$error":"#REF!"}},{"$f":"IF(DQ41,#REF!,\"\")","v":{"$error":"#REF!"}}]
[null,null,null,null,null,null,null,null,null,null,null,null,null,null,null,null,null,null,"□","移動販売",false,"","□","日用品配達",false,"","□","整体・マッサージ（送迎）",false,"","□","整体・マッサージ（出張）",false,"","□","飲食店",false,"","□","駐車場",false,"","□","カラオケ店",false,"","□","パソコン・スマートフォン",false,"",null,"□","見沼区",false,"さいたま市:見沼区","",null,null,null,null,null,"",null,"□","新座市",false,"南西部地域:新座市","",null,"□","八潮市",false,"東部地域:八潮市","",null,"□","北本市",{"$f":"IF(BX42=\"☑\",TRUE)","v":false},{"$f":"\"県央地域:\"&BY42","v":"県央地域:北本市"},"",null,"□","鶴ヶ島市",false,"川越比企地域:鶴ヶ島市","",null,"□","入間市",{"$f":"IF(CJ42=\"☑\",TRUE)","v":false},{"$f":"\"西部地域:\"&CK42","v":"西部地域:入間市"},"",null,"□","久喜市",false,"利根地域:久喜市","",null,"□","美里町",false,"北部地域:美里町","",null,"□","長瀞町",{"$f":"IF(DB42=\"☑\",TRUE)","v":false},{"$f":"\"秩父地域:\"&DC42","v":"秩父地域:長瀞町"},""]
[null,null,null,null,null,null,null,null,null,null,null,null,null,null,null,null,null,null,"□","割引サービス",false,"","□","薬・介護用品配達",false,"","□","乗り合いサービス",false,"","□","理容・美容（出張）",false,"","□","イートインスペース",false,"","□","貸しスペース",false,"","□","麻雀・将棋・囲碁",false,"","□","認知症サポート企業",false,"",null,"□","中央区",false,"さいたま市:中央区","",null,null,null,null,null,"",null,"□","富士見市",false,"南西部地域:富士見市","",null,"□","三郷市",false,"東部地域:三郷市","",null,"□","伊奈町",{"$f":"IF(BX43=\"☑\",TRUE)","v":false},{"$f":"\"県央地域:\"&BY43","v":"県央地域:伊奈町"},"",null,"□","毛呂山町",false,"川越比企地域:毛呂山町","",null,"□","日高市",{"$f":"IF(CJ43=\"☑\",TRUE)","v":false},{"$f":"\"西部地域:\"&CK43","v":"西部地域:日高市"},"",null,"□","蓮田市",false,"利根地域:蓮田市","",null,"□","神川町",false,"北部地域:神川町","",null,"□","小鹿野町",{"$f":"IF(DB43=\"☑\",TRUE)","v":false},{"$f":"\"秩父地域:\"&DC43","v":"秩父地域:小鹿野町"},"",null,null,null,null,null,null,null,null,null,null,{"$f":"IF(#REF!=\"☑\",TRUE)","v":{"$error":"#REF!"}},{"$f":"IF(DQ43,#REF!,\"\")","v":{"$error":"#REF!"}}]
[null,null,null,null,null,null,null,null,null,null,null,null,null,null,null,null,null,null,"□","その他（買物）",false,"","□","クリーニング",false,{"$f":"IF(Y44,X44,\"\")","v":""},"□","個別移送サービス",false,"","□","ペット",false,"","□","その他（運動・たまり場）",false,"","□","その他（設備・施設・場所貸し）",false,"","□","ゲームセンター",false,"","□","理容・美容",false,"",null,"□","桜区",false,"さいたま市:桜区","",null,null,null,null,null,"",null,"□","ふじみ野市",false,"南西部地域:ふじみ野市","",null,"□","吉川市",false,"東部地域:吉川市","",null,null,null,null,null,"",null,"□","越生町",false,"川越比企地域:越生町","",null,null,null,null,null,"",null,"□","幸手市",false,"利根地域:幸手市","",null,"□","上里町",false,"北部地域:上里町","",null,null,null,null,null,"",null,null,null,null,null,null,null,null,null,null,{"$f":"IF(#REF!=\"☑\",TRUE)","v":{"$error":"#REF!"}},{"$f":"IF(DQ44,#REF!,\"\")","v":{"$error":"#REF!"}}]
[null,null,null,null,null,null,null,null,null,null,null,null,null,null,null,null,null,null,null,null,null,null,"□","その他（宅配・デリバリー）",false,{"$f":"IF(Y45,X45,\"\")","v":""},"□","交通機関サービス",false,"","□","その他（出張サービス）",false,"",null,null,null,null,null,null,null,null,"□","旅行・レジャー",false,"","□","成年後見・相続",false,"",null,"□","浦和区",false,"さいたま市:浦和区","",null,null,null,null,null,"",null,"□","三芳町",false,"南西部地域:三芳町","",null,"□","松伏町",false,"東部地域:松伏町","",null,null,null,null,null,"",null,"□","滑川町",false,"川越比企地域:滑川町","",null,null,null,null,null,"",null,"□","白岡市",false,"利根地域:白岡市","",null,"□","寄居町",false,"北部地域:寄居町","",null,null,null,null,null,""]
[null,null,null,null,null,null,null,null,null,null,null,null,null,null,null,null,null,null,null,null,null,null,null,null,null,null,"□","その他（送迎・移動支援）",false,"",null,null,null,"",null,null,null,{"$f":"IF(AK46,AJ46,\"\")","v":""},null,null,null,{"$f":"IF(AO46,AN46,\"\")","v":""},"□","パソコン・スマホ教室",false,"","□","その他（生活サービス）",false,"",null,"□","南区",false,"さいたま市:南区","",null,null,null,null,null,"",null,null,null,null,null,"",null,null,null,null,null,"",null,null,null,null,null,"",null,"□","嵐山町",false,"川越比企地域:嵐山町","",null,null,null,null,null,"",null,"□","宮代町",false,"利根地域:宮代町","",null,null,null,null,null,"",null,null,null,null,null,""]
[null,null,null,null,null,null,null,null,null,null,null,null,null,null,null,null,null,null,null,null,null,null,null,null,null,null,null,null,null,null,null,null,null,null,null,null,null,null,null,null,null,null,"□","その他（学び・趣味）",false,"",null,null,null,null,null,"□","緑区",false,"さいたま市:緑区","",null,null,null,null,null,"",null,null,null,null,null,"",null,null,null,null,null,"",null,null,null,null,null,"",null,"□","小川町",false,"川越比企地域:小川町","",null,null,null,null,null,"",null,"□","杉戸町",false,"利根地域:杉戸町","",null,null,null,null,null,"",null,null,null,null,null,""]
[null,null,null,null,null,null,null,null,null,null,null,null,null,null,null,null,null,null,null,null,null,null,null,null,null,null,null,null,null,null,null,null,null,null,null,null,null,null,null,null,null,null,null,null,null,null,null,null,null,null,null,"□","岩槻区",{"$f":"IF(AZ48=\"☑\",TRUE)","v":false},"さいたま市:岩槻区","",null,null,null,null,null,"",null,null,null,null,null,"",null,null,null,null,null,"",null,null,null,null,null,"",null,"□","川島町",false,"川越比企地域:川島町","",null,null,null,null,null,"",null,null,null,null,null,"",null,null,null,null,null,"",null,null,null,null,null,""]
[null,null,null,null,null,null,null,null,null,null,null,null,null,null,null,null,null,null,null,null,null,null,null,null,null,null,null,null,null,null,null,null,null,null,null,null,null,null,null,null,null,null,null,null,null,null,null,null,null,null,null,null,null,null,null,null,null,null,null,null,null,null,null,null,null,null,null,null,null,null,null,null,null,null,null,null,null,null,null,null,null,"□","吉見町",false,"川越比企地域:吉見町","",null,null,null,null,null,"",null,null,null,null,null,"",null,null,null,null,null,"",null,null,null,null,null,""]
[null,null,null,null,null,null,null,null,null,null,null,null,null,null,null,null,null,null,null,null,null,null,null,null,null,null,null,null,null,null,null,null,null,null,null,null,null,null,null,null,null,null,null,null,null,null,null,null,null,null,null,null,null,null,null,null,null,null,null,null,null,null,null,null,null,null,null,null,null,null,null,null,null,null,null,null,null,null,null,null,null,"□","鳩山町",false,"川越比企地域:鳩山町","",null,null,null,null,null,"",null,null,null,null,null,"",null,null,null,null,null,"",null,null,null,null,null,""]
[null,null,null,null,null,null,null,null,null,null,null,null,null,null,null,null,null,null,null,null,null,null,null,null,null,null,null,null,null,null,null,null,null,null,null,null,null,null,null,null,null,null,null,null,null,null,null,null,null,null,null,null,null,null,null,null,null,null,null,null,null,null,null,null,null,null,null,null,null,null,null,null,null,null,null,null,null,null,null,null,null,"□","ときがわ町",false,"川越比企地域:ときがわ町","",null,null,null,null,null,"",null,null,null,null,null,"",null,null,null,null,null,"",null,null,null,null,null,""]
[null,null,null,null,null,null,null,null,null,null,null,null,null,null,null,null,null,null,null,null,null,null,null,null,null,null,null,null,null,null,null,null,null,null,null,null,null,null,null,null,null,null,null,null,null,null,null,null,null,null,null,null,null,null,null,null,null,null,null,null,null,null,null,null,null,null,null,null,null,null,null,null,null,null,null,null,null,null,null,null,null,"□","東秩父村",false,"川越比企地域:東秩父村","",null,null,null,null,null,"",null,null,null,null,null,"",null,null,null,null,null,"",null,null,null,null,null,""]
[3,null,null,null,null,null,null,null,null,null,null,null,null,null,null,null,null,null,"□","配送",{"$f":"IF(S53=\"☑\",TRUE)","v":false},{"$f":"IF(U53,T53,\"\")","v":""},"□","弁当配達",{"$f":"IF(W53=\"☑\",TRUE)","v":false},{"$f":"IF(Y53,X53,\"\")","v":""},"□","理容・美容（送迎）",{"$f":"IF(AA53=\"☑\",TRUE)","v":false},{"$f":"IF(AC53,AB53,\"\")","v":""},"□","家事代行・掃除・片付け",{"$f":"IF(AE53=\"☑\",TRUE)","v":false},{"$f":"IF(AG53,AF53,\"\")","v":""},"□","フィットネス・ジム（運動）",{"$f":"IF(AI53=\"☑\",TRUE)","v":false},{"$f":"IF(AK53,AJ53,\"\")","v":""},"□","車イス対応（バリアフリー）",{"$f":"IF(AM53=\"☑\",TRUE)","v":false},{"$f":"IF(AO53,AN53,\"\")","v":""},"□","講座・教室・イベント",{"$f":"IF(AQ53=\"☑\",TRUE)","v":false},{"$f":"IF(AS53,AR53,\"\")","v":""},"□","防犯・見守り",{"$f":"IF(AU53=\"☑\",TRUE)","v":false},{"$f":"IF(AW53,AV53,\"\")","v":""},{"$f":"_xludf.TEXTJOIN(\",\",TRUE,V53:V66,Z53:Z66,AD53:AD66,AH53:AH66,AL53:AL66,AP53:AP66,AT53:AT66,AX53:AX66)","v":""},"□","西区",{"$f":"IF(AZ53=\"☑\",TRUE)","v":false},{"$f":"\"さいたま市:\"&BA53","v":"さいたま市:西区"},{"$f":"IF(BB53,BC53,\"\")","v":""},{"$f":"_xludf.TEXTJOIN(\",\",TRUE,BD53:BD66)","v":""},"□","川口市",{"$f":"IF(BF53=\"☑\",TRUE)","v":false},{"$f":"\"南部地域:\"&BG53","v":"南部地域:川口市"},{"$f":"IF(BH53,BI53,\"\")","v":""},{"$f":"_xludf.TEXTJOIN(\",\",TRUE,BJ53:BJ66)","v":""},"□","朝霞市",{"$f":"IF(BL53=\"☑\",TRUE)","v":false},{"$f":"\"南西部地域:\"&BM53","v":"南西部地域:朝霞市"},{"$f":"IF(BN53,BO53,\"\")","v":""},{"$f":"_xludf.TEXTJOIN(\",\",TRUE,BP53:BP66)","v":""},"□","春日部市",{"$f":"IF(BR53=\"☑\",TRUE)","v":false},{"$f":"\"東部地域:\"&BS53","v":"東部地域:春日部市"},{"$f":"IF(BT53,BU53,\"\")","v":""},{"$f":"_xludf.TEXTJOIN(\",\",TRUE,BV53:BV66)","v":""},"□","鴻巣市",{"$f":"IF(BX53=\"☑\",TRUE)","v":false},{"$f":"\"県央地域:\"&BY53","v":"県央地域:鴻巣市"},{"$f":"IF(BZ53,CA53,\"\")","v":""},{"$f":"_xludf.TEXTJOIN(\",\",TRUE,CB53:CB66)","v":""},"□","川越市",{"$f":"IF(CD53=\"☑\",TRUE)","v":false},{"$f":"\"川越比企地域:\"&CE53","v":"川越比企地域:川越市"},{"$f":"IF(CF53,CG53,\"\")","v":""},{"$f":"_xludf.TEXTJOIN(\",\",TRUE,CH53:CH66)","v":""},"□","所沢市",{"$f":"IF(CJ53=\"☑\",TRUE)","v":false},{"$f":"\"西部地域:\"&CK53","v":"西部地域:所沢市"},{"$f":"IF(CL53,CM53,\"\")","v":""},{"$f":"_xludf.TEXTJOIN(\",\",TRUE,CN53:CN66)","v":""},"□","行田市",{"$f":"IF(CP53=\"☑\",TRUE)","v":false},{"$f":"\"利根地域:\"&CQ53","v":"利根地域:行田市"},{"$f":"IF(CR53,CS53,\"\")","v":""},{"$f":"_xludf.TEXTJOIN(\",\",TRUE,CT53:CT66)","v":""},"□","熊谷市",{"$f":"IF(CV53=\"☑\",TRUE)","v":false},{"$f":"\"北部地域:\"&CW53","v":"北部地域:熊谷市"},{"$f":"IF(CX53,CY53,\"\")","v":""},{"$f":"_xludf.TEXTJOIN(\",\",TRUE,CZ53:CZ66)","v":""},"□","秩父市",{"$f":"IF(DB53=\"☑\",TRUE)","v":false},{"$f":"\"秩父地域:\"&DC53","v":"秩父地域:秩父市"},{"$f":"IF(DD53,DE53,\"\")","v":""},{"$f":"_xludf.TEXTJOIN(\",\",TRUE,DF53:DF66)","v":""},{"$f":"_xlfn.TEXTJOIN(\",\",TRUE,BE53,BK53,BQ53,BW53,CC53,CI53,CO53,CU53,DA53,DG53)","v":""},null,null,null,null,null,null,null,null,{"$f":"IF(#REF!=\"☑\",TRUE)","v":{"$error":"#REF!"}},{"$f":"IF(DQ53,#REF!,\"\")","v":{"$error":"#REF!"}},{"$f":"_xludf.TEXTJOIN(\",\",TRUE,DR53:DR66)","v":{"$error":"#VALUE!"}}]
[null,null,null,null,null,null,null,null,null,null,null,null,null,null,null,null,null,null,"□","買物サポート",false,"","□","料理デリバリー（出前）",false,"","□","フィットネス・ジム（送迎）",{"$f":"IF(AA54=\"☑\",TRUE)","v":false},{"$f":"IF(AC54,AB54,\"\")","v":""},"□","出張料理",{"$f":"IF(AE54=\"☑\",TRUE)","v":false},{"$f":"IF(AG54,AF54,\"\")","v":""},"□","温泉・銭湯（たまり場）",false,"","□","多目的トイレ",false,"","□","習い事",{"$f":"IF(AQ54=\"☑\",TRUE)","v":false},{"$f":"IF(AS54,AR54,\"\")","v":""},"□","金融・保険",false,"",null,"□","北区",{"$f":"IF(AZ54=\"☑\",TRUE)","v":false},{"$f":"\"さいたま市:\"&BA54","v":"さいたま市:北区"},{"$f":"IF(BB54,BC54,\"\")","v":""},null,"□","蕨市",{"$f":"IF(BF54=\"☑\",TRUE)","v":false},{"$f":"\"南部地域:\"&BG54","v":"南部地域:蕨市"},{"$f":"IF(BH54,BI54,\"\")","v":""},null,"□","志木市",{"$f":"IF(BL54=\"☑\",TRUE)","v":false},{"$f":"\"南西部地域:\"&BM54","v":"南西部地域:志木市"},{"$f":"IF(BN54,BO54,\"\")","v":""},null,"□","草加市",{"$f":"IF(BR54=\"☑\",TRUE)","v":false},{"$f":"\"東部地域:\"&BS54","v":"東部地域:草加市"},"",null,"□","上尾市",{"$f":"IF(BX54=\"☑\",TRUE)","v":false},{"$f":"\"県央地域:\"&BY54","v":"県央地域:上尾市"},{"$f":"IF(BZ54,CA54,\"\")","v":""},null,"□","東松山市",{"$f":"IF(CD54=\"☑\",TRUE)","v":false},{"$f":"\"川越比企地域:\"&CE54","v":"川越比企地域:東松山市"},{"$f":"IF(CF54,CG54,\"\")","v":""},null,"□","飯能市",{"$f":"IF(CJ54=\"☑\",TRUE)","v":false},{"$f":"\"西部地域:\"&CK54","v":"西部地域:飯能市"},{"$f":"IF(CL54,CM54,\"\")","v":""},null,"□","加須市",{"$f":"IF(CP54=\"☑\",TRUE)","v":false},{"$f":"\"利根地域:\"&CQ54","v":"利根地域:加須市"},{"$f":"IF(CR54,CS54,\"\")","v":""},null,"□","本庄市",{"$f":"IF(CV54=\"☑\",TRUE)","v":false},{"$f":"\"北部地域:\"&CW54","v":"北部地域:本庄市"},{"$f":"IF(CX54,CY54,\"\")","v":""},null,"□","横瀬町",{"$f":"IF(DB54=\"☑\",TRUE)","v":false},{"$f":"\"秩父地域:\"&DC54","v":"秩父地域:横瀬町"},{"$f":"IF(DD54,DE54,\"\")","v":""},null,null,null,null,null,null,null,null,null,null,null,{"$f":"IF(DQ54,#REF!,\"\")","v":""}]
[null,null,null,null,null,null,null,null,null,null,null,null,null,null,null,null,null,null,"□","買物代行",false,"","□","食材宅配",false,"","□","温泉・銭湯（送迎）",false,"","□","屋外作業・力仕事",false,"","□","カフェ・ファーストフード",false,"","□","休憩スペース",false,"","□","映画館",false,"","□","住宅・リフォーム",false,"",null,"□","大宮区",false,"さいたま市:大宮区","",null,"□","戸田市",{"$f":"IF(BF55=\"☑\",TRUE)","v":false},{"$f":"\"南部地域:\"&BG55","v":"南部地域:戸田市"},"",null,"□","和光市",false,"南西部地域:和光市","",null,"□","越谷市",false,"東部地域:越谷市","",null,"□","桶川市",{"$f":"IF(BX55=\"☑\",TRUE)","v":false},{"$f":"\"県央地域:\"&BY55","v":"県央地域:桶川市"},"",null,"□","坂戸市",false,"川越比企地域:坂戸市","",null,"□","狭山市",{"$f":"IF(CJ55=\"☑\",TRUE)","v":false},{"$f":"\"西部地域:\"&CK55","v":"西部地域:狭山市"},"",null,"□","羽生市",false,"利根地域:羽生市","",null,"□","深谷市",false,"北部地域:深谷市","",null,"□","皆野町",{"$f":"IF(DB55=\"☑\",TRUE)","v":false},{"$f":"\"秩父地域:\"&DC55","v":"秩父地域:皆野町"},"",null,null,null,null,null,null,null,null,null,null,{"$f":"IF(#REF!=\"☑\",TRUE)","v":{"$error":"#REF!"}},{"$f":"IF(DQ55,#REF!,\"\")","v":{"$error":"#REF!"}}]
[null,null,null,null,null,null,null,null,null,null,null,null,null,null,null,null,null,null,"□","移動販売",false,"","□","日用品配達",false,"","□","整体・マッサージ（送迎）",false,"","□","整体・マッサージ（出張）",false,"","□","飲食店",false,"","□","駐車場",false,"","□","カラオケ店",false,"","□","パソコン・スマートフォン",false,"",null,"□","見沼区",false,"さいたま市:見沼区","",null,null,null,null,null,"",null,"□","新座市",false,"南西部地域:新座市","",null,"□","八潮市",false,"東部地域:八潮市","",null,"□","北本市",{"$f":"IF(BX56=\"☑\",TRUE)","v":false},{"$f":"\"県央地域:\"&BY56","v":"県央地域:北本市"},"",null,"□","鶴ヶ島市",false,"川越比企地域:鶴ヶ島市","",null,"□","入間市",{"$f":"IF(CJ56=\"☑\",TRUE)","v":false},{"$f":"\"西部地域:\"&CK56","v":"西部地域:入間市"},"",null,"□","久喜市",false,"利根地域:久喜市","",null,"□","美里町",false,"北部地域:美里町","",null,"□","長瀞町",{"$f":"IF(DB56=\"☑\",TRUE)","v":false},{"$f":"\"秩父地域:\"&DC56","v":"秩父地域:長瀞町"},""]
[null,null,null,null,null,null,null,null,null,null,null,null,null,null,null,null,null,null,"□","割引サービス",false,"","□","薬・介護用品配達",false,"","□","乗り合いサービス",false,"","□","理容・美容（出張）",false,"","□","イートインスペース",false,"","□","貸しスペース",false,"","□","麻雀・将棋・囲碁",false,"","□","認知症サポート企業",false,"",null,"□","中央区",false,"さいたま市:中央区","",null,null,null,null,null,"",null,"□","富士見市",false,"南西部地域:富士見市","",null,"□","三郷市",false,"東部地域:三郷市","",null,"□","伊奈町",{"$f":"IF(BX57=\"☑\",TRUE)","v":false},{"$f":"\"県央地域:\"&BY57","v":"県央地域:伊奈町"},"",null,"□","毛呂山町",false,"川越比企地域:毛呂山町","",null,"□","日高市",{"$f":"IF(CJ57=\"☑\",TRUE)","v":false},{"$f":"\"西部地域:\"&CK57","v":"西部地域:日高市"},"",null,"□","蓮田市",false,"利根地域:蓮田市","",null,"□","神川町",false,"北部地域:神川町","",null,"□","小鹿野町",{"$f":"IF(DB57=\"☑\",TRUE)","v":false},{"$f":"\"秩父地域:\"&DC57","v":"秩父地域:小鹿野町"},"",null,null,null,null,null,null,null,null,null,null,{"$f":"IF(#REF!=\"☑\",TRUE)","v":{"$error":"#REF!"}},{"$f":"IF(DQ57,#REF!,\"\")","v":{"$error":"#REF!"}}]
[null,null,null,null,null,null,null,null,null,null,null,null,null,null,null,null,null,null,"□","その他（買物）",false,"","□","クリーニング",false,{"$f":"IF(Y58,X58,\"\")","v":""},"□","個別移送サービス",false,"","□","ペット",false,"","□","その他（運動・たまり場）",false,"","□","その他（設備・施設・場所貸し）",false,"","□","ゲームセンター",false,"","□","理容・美容",false,"",null,"□","桜区",false,"さいたま市:桜区","",null,null,null,null,null,"",null,"□","ふじみ野市",false,"南西部地域:ふじみ野市","",null,"□","吉川市",false,"東部地域:吉川市","",null,null,null,null,null,"",null,"□","越生町",false,"川越比企地域:越生町","",null,null,null,null,null,"",null,"□","幸手市",false,"利根地域:幸手市","",null,"□","上里町",false,"北部地域:上里町","",null,null,null,null,null,"",null,null,null,null,null,null,null,null,null,null,{"$f":"IF(#REF!=\"☑\",TRUE)","v":{"$error":"#REF!"}},{"$f":"IF(DQ58,#REF!,\"\")","v":{"$error":"#REF!"}}]
[null,null,null,null,null,null,null,null,null,null,null,null,null,null,null,null,null,null,null,null,null,null,"□","その他（宅配・デリバリー）",false,{"$f":"IF(Y59,X59,\"\")","v":""},"□","交通機関サービス",false,"","□","その他（出張サービス）",false,"",null,null,null,null,null,null,null,null,"□","旅行・レジャー",false,"","□","成年後見・相続",false,"",null,"□","浦和区",false,"さいたま市:浦和区","",null,null,null,null,null,"",null,"□","三芳町",false,"南西部地域:三芳町","",null,"□","松伏町",false,"東部地域:松伏町","",null,null,null,null,null,"",null,"□","滑川町",false,"川越比企地域:滑川町","",null,null,null,null,null,"",null,"□","白岡市",false,"利根地域:白岡市","",null,"□","寄居町",false,"北部地域:寄居町","",null,null,null,null,null,""]
[null,null,null,null,null,null,null,null,null,null,null,null,null,null,null,null,null,null,null,null,null,null,null,null,null,null,"□","その他（送迎・移動支援）",false,"",null,null,null,"",null,null,null,{"$f":"IF(AK60,AJ60,\"\")","v":""},null,null,null,{"$f":"IF(AO60,AN60,\"\")","v":""},"□","パソコン・スマホ教室",false,"","□","その他（生活サービス）",false,"",null,"□","南区",false,"さいたま市:南区","",null,null,null,null,null,"",null,null,null,null,null,"",null,null,null,null,null,"",null,null,null,null,null,"",null,"□","嵐山町",false,"川越比企地域:嵐山町","",null,null,null,null,null,"",null,"□","宮代町",false,"利根地域:宮代町","",null,null,null,null,null,"",null,null,null,null,null,""]
[null,null,null,null,null,null,null,null,null,null,null,null,null,null,null,null,null,null,null,null,null,null,null,null,null,null,null,null,null,null,null,null,null,null,null,null,null,null,null,null,null,null,"□","その他（学び・趣味）",false,"",null,null,null,null,null,"□","緑区",false,"さいたま市:緑区","",null,null,null,null,null,"",null,null,null,null,null,"",null,null,null,null,null,"",null,null,null,null,null,"",null,"□","小川町",false,"川越比企地域:小川町","",null,null,null,null,null,"",null,"□","杉戸町",false,"利根地域:杉戸町","",null,null,null,null,null,"",null,null,null,null,null,""]
[null,null,null,null,null,null,null,null,null,null,null,null,null,null,null,null,null,null,null,null,null,null,null,null,null,null,null,null,null,null,null,null,null,null,null,null,null,null,null,null,null,null,null,null,null,null,null,null,null,null,null,"□","岩槻区",{"$f":"IF(AZ62=\"☑\",TRUE)","v":false},"さいたま市:岩槻区","",null,null,null,null,null,"",null,null,null,null,null,"",null,null,null,null,null,"",null,null,null,null,null,"",null,"□","川島町",false,"川越比企地域:川島町","",null,null,null,null,null,"",null,null,null,null,null,"",null,null,null,null,null,"",null,null,null,null,null,""]
[null,null,null,null,null,null,null,null,null,null,null,null,null,null,null,null,null,null,null,null,null,null,null,null,null,null,null,null,null,null,null,null,null,null,null,null,null,null,null,null,null,null,null,null,null,null,null,null,null,null,null,null,null,null,null,null,null,null,null,null,null,null,null,null,null,null,null,null,null,null,null,null,null,null,null,null,null,null,null,null,null,"□","吉見町",false,"川越比企地域:吉見町","",null,null,null,null,null,"",null,null,null,null,null,"",null,null,null,null,null,"",null,null,null,null,null,""]
[null,null,null,null,null,null,null,null,null,null,null,null,null,null,null,null,null,null,null,null,null,null,null,null,null,null,null,null,null,null,null,null,null,null,null,null,null,null,null,null,null,null,null,null,null,null,null,null,null,null,null,null,null,null,null,null,null,null,null,null,null,null,null,null,null,null,null,null,null,null,null,null,null,null,null,null,null,null,null,null,null,"□","鳩山町",false,"川越比企地域:鳩山町","",null,null,null,null,null,"",null,null,null,null,null,"",null,null,null,null,null,"",null,null,null,null,null,""]
[null,null,null,null,null,null,null,null,null,null,null,null,null,null,null,null,null,null,null,null,null,null,null,null,null,null,null,null,null,null,null,null,null,null,null,null,null,null,null,null,null,null,null,null,null,null,null,null,null,null,null,null,null,null,null,null,null,null,null,null,null,null,null,null,null,null,null,null,null,null,null,null,null,null,null,null,null,null,null,null,null,"□","ときがわ町",false,"川越比企地域:ときがわ町","",null,null,null,null,null,"",null,null,null,null,null,"",null,null,null,null,null,"",null,null,null,null,null,""]
[null,null,null,null,null,null,null,null,null,null,null,null,null,null,null,null,null,null,null,null,null,null,null,null,null,null,null,null,null,null,null,null,null,null,null,null,null,null,null,null,null,null,null,null,null,null,null,null,null,null,null,null,null,null,null,null,null,null,null,null,null,null,null,null,null,null,null,null,null,null,null,null,null,null,null,null,null,null,null,null,null,"□","東秩父村",false,"川越比企地域:東秩父村","",null,null,null,null,null,"",null,null,null,null,null,"",null,null,null,null,null,"",null,null,null,null,null,""]
[4,null,null,null,null,null,null,null,null,null,null,null,null,null,null,null,null,null,"□","配送",{"$f":"IF(S67=\"☑\",TRUE)","v":false},{"$f":"IF(U67,T67,\"\")","v":""},"□","弁当配達",{"$f":"IF(W67=\"☑\",TRUE)","v":false},{"$f":"IF(Y67,X67,\"\")","v":""},"□","理容・美容（送迎）",{"$f":"IF(AA67=\"☑\",TRUE)","v":false},{"$f":"IF(AC67,AB67,\"\")","v":""},"□","家事代行・掃除・片付け",{"$f":"IF(AE67=\"☑\",TRUE)","v":false},{"$f":"IF(AG67,AF67,\"\")","v":""},"□","フィットネス・ジム（運動）",{"$f":"IF(AI67=\"☑\",TRUE)","v":false},{"$f":"IF(AK67,AJ67,\"\")","v":""},"□","車イス対応（バリアフリー）",{"$f":"IF(AM67=\"☑\",TRUE)","v":false},{"$f":"IF(AO67,AN67,\"\")","v":""},"□","講座・教室・イベント",{"$f":"IF(AQ67=\"☑\",TRUE)","v":false},{"$f":"IF(AS67,AR67,\"\")","v":""},"□","防犯・見守り",{"$f":"IF(AU67=\"☑\",TRUE)","v":false},{"$f":"IF(AW67,AV67,\"\")","v":""},{"$f":"_xludf.TEXTJOIN(\",\",TRUE,V67:V80,Z67:Z80,AD67:AD80,AH67:AH80,AL67:AL80,AP67:AP80,AT67:AT80,AX67:AX80)","v":""},"□","西区",{"$f":"IF(AZ67=\"☑\",TRUE)","v":false},{"$f":"\"さいたま市:\"&BA67","v":"さいたま市:西区"},{"$f":"IF(BB67,BC67,\"\")","v":""},{"$f":"_xludf.TEXTJOIN(\",\",TRUE,BD67:BD80)","v":""},"□","川口市",{"$f":"IF(BF67=\"☑\",TRUE)","v":false},{"$f":"\"南部地域:\"&BG67","v":"南部地域:川口市"},{"$f":"IF(BH67,BI67,\"\")","v":""},{"$f":"_xludf.TEXTJOIN(\",\",TRUE,BJ67:BJ80)","v":""},"□","朝霞市",{"$f":"IF(BL67=\"☑\",TRUE)","v":false},{"$f":"\"南西部地域:\"&BM67","v":"南西部地域:朝霞市"},{"$f":"IF(BN67,BO67,\"\")","v":""},{"$f":"_xludf.TEXTJOIN(\",\",TRUE,BP67:BP80)","v":""},"□","春日部市",{"$f":"IF(BR67=\"☑\",TRUE)","v":false},{"$f":"\"東部地域:\"&BS67","v":"東部地域:春日部市"},{"$f":"IF(BT67,BU67,\"\")","v":""},{"$f":"_xludf.TEXTJOIN(\",\",TRUE,BV67:BV80)","v":""},"□","鴻巣市",{"$f":"IF(BX67=\"☑\",TRUE)","v":false},{"$f":"\"県央地域:\"&BY67","v":"県央地域:鴻巣市"},{"$f":"IF(BZ67,CA67,\"\")","v":""},{"$f":"_xludf.TEXTJOIN(\",\",TRUE,CB67:CB80)","v":""},"□","川越市",{"$f":"IF(CD67=\"☑\",TRUE)","v":false},{"$f":"\"川越比企地域:\"&CE67","v":"川越比企地域:川越市"},{"$f":"IF(CF67,CG67,\"\")","v":""},{"$f":"_xludf.TEXTJOIN(\",\",TRUE,CH67:CH80)","v":""},"□","所沢市",{"$f":"IF(CJ67=\"☑\",TRUE)","v":false},{"$f":"\"西部地域:\"&CK67","v":"西部地域:所沢市"},{"$f":"IF(CL67,CM67,\"\")","v":""},{"$f":"_xludf.TEXTJOIN(\",\",TRUE,CN67:CN80)","v":""},"□","行田市",{"$f":"IF(CP67=\"☑\",TRUE)","v":false},{"$f":"\"利根地域:\"&CQ67","v":"利根地域:行田市"},{"$f":"IF(CR67,CS67,\"\")","v":""},{"$f":"_xludf.TEXTJOIN(\",\",TRUE,CT67:CT80)","v":""},"□","熊谷市",{"$f":"IF(CV67=\"☑\",TRUE)","v":false},{"$f":"\"北部地域:\"&CW67","v":"北部地域:熊谷市"},{"$f":"IF(CX67,CY67,\"\")","v":""},{"$f":"_xludf.TEXTJOIN(\",\",TRUE,CZ67:CZ80)","v":""},"□","秩父市",{"$f":"IF(DB67=\"☑\",TRUE)","v":false},{"$f":"\"秩父地域:\"&DC67","v":"秩父地域:秩父市"},{"$f":"IF(DD67,DE67,\"\")","v":""},{"$f":"_xludf.TEXTJOIN(\",\",TRUE,DF67:DF80)","v":""},{"$f":"_xlfn.TEXTJOIN(\",\",TRUE,BE67,BK67,BQ67,BW67,CC67,CI67,CO67,CU67,DA67,DG67)","v":""},null,null,null,null,null,null,null,null,{"$f":"IF(#REF!=\"☑\",TRUE)","v":{"$error":"#REF!"}},{"$f":"IF(DQ67,#REF!,\"\")","v":{"$error":"#REF!"}},{"$f":"_xludf.TEXTJOIN(\",\",TRUE,DR67:DR80)","v":{"$error":"#VALUE!"}}]
[null,null,null,null,null,null,null,null,null,null,null,null,null,null,null,null,null,null,"□","買物サポート",false,"","□","料理デリバリー（出前）",false,"","□","フィットネス・ジム（送迎）",{"$f":"IF(AA68=\"☑\",TRUE)","v":false},{"$f":"IF(AC68,AB68,\"\")","v":""},"□","出張料理",{"$f":"IF(AE68=\"☑\",TRUE)","v":false},{"$f":"IF(AG68,AF68,\"\")","v":""},"□","温泉・銭湯（たまり場）",false,"","□","多目的トイレ",false,"","□","習い事",{"$f":"IF(AQ68=\"☑\",TRUE)","v":false},{"$f":"IF(AS68,AR68,\"\")","v":""},"□","金融・保険",false,"",null,"□","北区",{"$f":"IF(AZ68=\"☑\",TRUE)","v":false},{"$f":"\"さいたま市:\"&BA68","v":"さいたま市:北区"},{"$f":"IF(BB68,BC68,\"\")","v":""},null,"□","蕨市",{"$f":"IF(BF68=\"☑\",TRUE)","v":false},{"$f":"\"南部地域:\"&BG68","v":"南部地域:蕨市"},{"$f":"IF(BH68,BI68,\"\")","v":""},null,"□","志木市",{"$f":"IF(BL68=\"☑\",TRUE)","v":false},{"$f":"\"南西部地域:\"&BM68","v":"南西部地域:志木市"},{"$f":"IF(BN68,BO68,\"\")","v":""},null,"□","草加市",{"$f":"IF(BR68=\"☑\",TRUE)","v":false},{"$f":"\"東部地域:\"&BS68","v":"東部地域:草加市"},"",null,"□","上尾市",{"$f":"IF(BX68=\"☑\",TRUE)","v":false},{"$f":"\"県央地域:\"&BY68","v":"県央地域:上尾市"},{"$f":"IF(BZ68,CA68,\"\")","v":""},null,"□","東松山市",{"$f":"IF(CD68=\"☑\",TRUE)","v":false},{"$f":"\"川越比企地域:\"&CE68","v":"川越比企地域:東松山市"},{"$f":"IF(CF68,CG68,\"\")","v":""},null,"□","飯能市",{"$f":"IF(CJ68=\"☑\",TRUE)","v":false},{"$f":"\"西部地域:\"&CK68","v":"西部地域:飯能市"},{"$f":"IF(CL68,CM68,\"\")","v":""},null,"□","加須市",{"$f":"IF(CP68=\"☑\",TRUE)","v":false},{"$f":"\"利根地域:\"&CQ68","v":"利根地域:加須市"},{"$f":"IF(CR68,CS68,\"\")","v":""},null,"□","本庄市",{"$f":"IF(CV68=\"☑\",TRUE)","v":false},{"$f":"\"北部地域:\"&CW68","v":"北部地域:本庄市"},{"$f":"IF(CX68,CY68,\"\")","v":""},null,"□","横瀬町",{"$f":"IF(DB68=\"☑\",TRUE)","v":false},{"$f":"\"秩父地域:\"&DC68","v":"秩父地域:横瀬町"},{"$f":"IF(DD68,DE68,\"\")","v":""},null,null,null,null,null,null,null,null,null,null,null,{"$f":"IF(DQ68,#REF!,\"\")","v":""}]
[null,null,null,null,null,null,null,null,null,null,null,null,null,null,null,null,null,null,"□","買物代行",false,"","□","食材宅配",false,"","□","温泉・銭湯（送迎）",false,"","□","屋外作業・力仕事",false,"","□","カフェ・ファーストフード",false,"","□","休憩スペース",false,"","□","映画館",false,"","□","住宅・リフォーム",false,"",null,"□","大宮区",false,"さいたま市:大宮区","",null,"□","戸田市",{"$f":"IF(BF69=\"☑\",TRUE)","v":false},{"$f":"\"南部地域:\"&BG69","v":"南部地域:戸田市"},"",null,"□","和光市",false,"南西部地域:和光市","",null,"□","越谷市",false,"東部地域:越谷市","",null,"□","桶川市",{"$f":"IF(BX69=\"☑\",TRUE)","v":false},{"$f":"\"県央地域:\"&BY69","v":"県央地域:桶川市"},"",null,"□","坂戸市",false,"川越比企地域:坂戸市","",null,"□","狭山市",{"$f":"IF(CJ69=\"☑\",TRUE)","v":false},{"$f":"\"西部地域:\"&CK69","v":"西部地域:狭山市"},"",null,"□","羽生市",false,"利根地域:羽生市","",null,"□","深谷市",false,"北部地域:深谷市","",null,"□","皆野町",{"$f":"IF(DB69=\"☑\",TRUE)","v":false},{"$f":"\"秩父地域:\"&DC69","v":"秩父地域:皆野町"},"",null,null,null,null,null,null,null,null,null,null,{"$f":"IF(#REF!=\"☑\",TRUE)","v":{"$error":"#REF!"}},{"$f":"IF(DQ69,#REF!,\"\")","v":{"$error":"#REF!"}}]
[null,null,null,null,null,null,null,null,null,null,null,null,null,null,null,null,null,null,"□","移動販売",false,"","□","日用品配達",false,"","□","整体・マッサージ（送迎）",false,"","□","整体・マッサージ（出張）",false,"","□","飲食店",false,"","□","駐車場",false,"","□","カラオケ店",false,"","□","パソコン・スマートフォン",false,"",null,"□","見沼区",false,"さいたま市:見沼区","",null,null,null,null,null,"",null,"□","新座市",false,"南西部地域:新座市","",null,"□","八潮市",false,"東部地域:八潮市","",null,"□","北本市",{"$f":"IF(BX70=\"☑\",TRUE)","v":false},{"$f":"\"県央地域:\"&BY70","v":"県央地域:北本市"},"",null,"□","鶴ヶ島市",false,"川越比企地域:鶴ヶ島市","",null,"□","入間市",{"$f":"IF(CJ70=\"☑\",TRUE)","v":false},{"$f":"\"西部地域:\"&CK70","v":"西部地域:入間市"},"",null,"□","久喜市",false,"利根地域:久喜市","",null,"□","美里町",false,"北部地域:美里町","",null,"□","長瀞町",{"$f":"IF(DB70=\"☑\",TRUE)","v":false},{"$f":"\"秩父地域:\"&DC70","v":"秩父地域:長瀞町"},""]
[null,null,null,null,null,null,null,null,null,null,null,null,null,null,null,null,null,null,"□","割引サービス",false,"","□","薬・介護用品配達",false,"","□","乗り合いサービス",false,"","□","理容・美容（出張）",false,"","□","イートインスペース",false,"","□","貸しスペース",false,"","□","麻雀・将棋・囲碁",false,"","□","認知症サポート企業",false,"",null,"□","中央区",false,"さいたま市:中央区","",null,null,null,null,null,"",null,"□","富士見市",false,"南西部地域:富士見市","",null,"□","三郷市",false,"東部地域:三郷市","",null,"□","伊奈町",{"$f":"IF(BX71=\"☑\",TRUE)","v":false},{"$f":"\"県央地域:\"&BY71","v":"県央地域:伊奈町"},"",null,"□","毛呂山町",false,"川越比企地域:毛呂山町","",null,"□","日高市",{"$f":"IF(CJ71=\"☑\",TRUE)","v":false},{"$f":"\"西部地域:\"&CK71","v":"西部地域:日高市"},"",null,"□","蓮田市",false,"利根地域:蓮田市","",null,"□","神川町",false,"北部地域:神川町","",null,"□","小鹿野町",{"$f":"IF(DB71=\"☑\",TRUE)","v":false},{"$f":"\"秩父地域:\"&DC71","v":"秩父地域:小鹿野町"},"",null,null,null,null,null,null,null,null,null,null,{"$f":"IF(#REF!=\"☑\",TRUE)","v":{"$error":"#REF!"}},{"$f":"IF(DQ71,#REF!,\"\")","v":{"$error":"#REF!"}}]
[null,null,null,null,null,null,null,null,null,null,null,null,null,null,null,null,null,null,"□","その他（買物）",false,"","□","クリーニング",false,{"$f":"IF(Y72,X72,\"\")","v":""},"□","個別移送サービス",false,"","□","ペット",false,"","□","その他（運動・たまり場）",false,"","□","その他（設備・施設・場所貸し）",false,"","□","ゲームセンター",false,"","□","理容・美容",false,"",null,"□","桜区",false,"さいたま市:桜区","",null,null,null,null,null,"",null,"□","ふじみ野市",false,"南西部地域:ふじみ野市","",null,"□","吉川市",false,"東部地域:吉川市","",null,null,null,null,null,"",null,"□","越生町",false,"川越比企地域:越生町","",null,null,null,null,null,"",null,"□","幸手市",false,"利根地域:幸手市","",null,"□","上里町",false,"北部地域:上里町","",null,null,null,null,null,"",null,null,null,null,null,null,null,null,null,null,{"$f":"IF(#REF!=\"☑\",TRUE)","v":{"$error":"#REF!"}},{"$f":"IF(DQ72,#REF!,\"\")","v":{"$error":"#REF!"}}]
[null,null,null,null,null,null,null,null,null,null,null,null,null,null,null,null,null,null,null,null,null,null,"□","その他（宅配・デリバリー）",false,{"$f":"IF(Y73,X73,\"\")","v":""},"□","交通機関サービス",false,"","□","その他（出張サービス）",false,"",null,null,null,null,null,null,null,null,"□","旅行・レジャー",false,"","□","成年後見・相続",false,"",null,"□","浦和区",false,"さいたま市:浦和区","",null,null,null,null,null,"",null,"□","三芳町",false,"南西部地域:三芳町","",null,"□","松伏町",false,"東部地域:松伏町","",null,null,null,null,null,"",null,"□","滑川町",false,"川越比企地域:滑川町","",null,null,null,null,null,"",null,"□","白岡市",false,"利根地域:白岡市","",null,"□","寄居町",false,"北部地域:寄居町","",null,null,null,null,null,""]
[null,null,null,null,null,null,null,null,null,null,null,null,null,null,null,null,null,null,null,null,null,null,null,null,null,null,"□","その他（送迎・移動支援）",false,"",null,null,null,"",null,null,null,{"$f":"IF(AK74,AJ74,\"\")","v":""},null,null,null,{"$f":"IF(AO74,AN74,\"\")","v":""},"□","パソコン・スマホ教室",false,"","□","その他（生活サービス）",false,"",null,"□","南区",false,"さいたま市:南区","",null,null,null,null,null,"",null,null,null,null,null,"",null,null,null,null,null,"",null,null,null,null,null,"",null,"□","嵐山町",false,"川越比企地域:嵐山町","",null,null,null,null,null,"",null,"□","宮代町",false,"利根地域:宮代町","",null,null,null,null,null,"",null,null,null,null,null,""]
[null,null,null,null,null,null,null,null,null,null,null,null,null,null,null,null,null,null,null,null,null,null,null,null,null,null,null,null,null,null,null,null,null,null,null,null,null,null,null,null,null,null,"□","その他（学び・趣味）",false,"",null,null,null,null,null,"□","緑区",false,"さいたま市:緑区","",null,null,null,null,null,"",null,null,null,null,null,"",null,null,null,null,null,"",null,null,null,null,null,"",null,"□","小川町",false,"川越比企地域:小川町","",null,null,null,null,null,"",null,"□","杉戸町",false,"利根地域:杉戸町","",null,null,null,null,null,"",null,null,null,null,null,""]
[null,null,null,null,null,null,null,null,null,null,null,null,null,null,null,null,null,null,null,null,null,null,null,null,null,null,null,null,null,null,null,null,null,null,null,null,null,null,null,null,null,null,null,null,null,null,null,null,null,null,null,"□","岩槻区",{"$f":"IF(AZ76=\"☑\",TRUE)","v":false},"さいたま市:岩槻区","",null,null,null,null,null,"",null,null,null,null,null,"",null,null,null,null,null,"",null,null,null,null,null,"",null,"□","川島町",false,"川越比企地域:川島町","",null,null,null,null,null,"",null,null,null,null,null,"",null,null,null,null,null,"",null,null,null,null,null,""]
[null,null,null,null,null,null,null,null,null,null,null,null,null,null,null,null,null,null,null,null,null,null,null,null,null,null,null,null,null,null,null,null,null,null,null,null,null,null,null,null,null,null,null,null,null,null,null,null,null,null,null,null,null,null,null,null,null,null,null,null,null,null,null,null,null,null,null,null,null,null,null,null,null,null,null,null,null,null,null,null,null,"□","吉見町",false,"川越比企地域:吉見町","",null,null,null,null,null,"",null,null,null,null,null,"",null,null,null,null,null,"",null,null,null,null,null,""]
[null,null,null,null,null,null,null,null,null,null,null,null,null,null,null,null,null,null,null,null,null,null,null,null,null,null,null,null,null,null,null,null,null,null,null,null,null,null,null,null,null,null,null,null,null,null,null,null,null,null,null,null,null,null,null,null,null,null,null,null,null,null,null,null,null,null,null,null,null,null,null,null,null,null,null,null,null,null,null,null,null,"□","鳩山町",false,"川越比企地域:鳩山町","",null,null,null,null,null,"",null,null,null,null,null,"",null,null,null,null,null,"",null,null,null,null,null,""]
[null,null,null,null,null,null,null,null,null,null,null,null,null,null,null,null,null,null,null,null,null,null,null,null,null,null,null,null,null,null,null,null,null,null,null,null,null,null,null,null,null,null,null,null,null,null,null,null,null,null,null,null,null,null,null,null,null,null,null,null,null,null,null,null,null,null,null,null,null,null,null,null,null,null,null,null,null,null,null,null,null,"□","ときがわ町",false,"川越比企地域:ときがわ町","",null,null,null,null,null,"",null,null,null,null,null,"",null,null,null,null,null,"",null,null,null,null,null,""]
[null,null,null,null,null,null,null,null,null,null,null,null,null,null,null,null,null,null,null,null,null,null,null,null,null,null,null,null,null,null,null,null,null,null,null,null,null,null,null,null,null,null,null,null,null,null,null,null,null,null,null,null,null,null,null,null,null,null,null,null,null,null,null,null,null,null,null,null,null,null,null,null,null,null,null,null,null,null,null,null,null,"□","東秩父村",false,"川越比企地域:東秩父村","",null,null,null,null,null,"",null,null,null,null,null,"",null,null,null,null,null,"",null,null,null,null,null,""]
[5,null,null,null,null,null,null,null,null,null,null,null,null,null,null,null,null,null,"□","配送",{"$f":"IF(S81=\"☑\",TRUE)","v":false},{"$f":"IF(U81,T81,\"\")","v":""},"□","弁当配達",{"$f":"IF(W81=\"☑\",TRUE)","v":false},{"$f":"IF(Y81,X81,\"\")","v":""},"□","理容・美容（送迎）",{"$f":"IF(AA81=\"☑\",TRUE)","v":false},{"$f":"IF(AC81,AB81,\"\")","v":""},"□","家事代行・掃除・片付け",{"$f":"IF(AE81=\"☑\",TRUE)","v":false},{"$f":"IF(AG81,AF81,\"\")","v":""},"□","フィットネス・ジム（運動）",{"$f":"IF(AI81=\"☑\",TRUE)","v":false},{"$f":"IF(AK81,AJ81,\"\")","v":""},"□","車イス対応（バリアフリー）",{"$f":"IF(AM81=\"☑\",TRUE)","v":false},{"$f":"IF(AO81,AN81,\"\")","v":""},"□","講座・教室・イベント",{"$f":"IF(AQ81=\"☑\",TRUE)","v":false},{"$f":"IF(AS81,AR81,\"\")","v":""},"□","防犯・見守り",{"$f":"IF(AU81=\"☑\",TRUE)","v":false},{"$f":"IF(AW81,AV81,\"\")","v":""},{"$f":"_xludf.TEXTJOIN(\",\",TRUE,V81:V94,Z81:Z94,AD81:AD94,AH81:AH94,AL81:AL94,AP81:AP94,AT81:AT94,AX81:AX94)","v":""},"□","西区",{"$f":"IF(AZ81=\"☑\",TRUE)","v":false},{"$f":"\"さいたま市:\"&BA81","v":"さいたま市:西区"},{"$f":"IF(BB81,BC81,\"\")","v":""},{"$f":"_xludf.TEXTJOIN(\",\",TRUE,BD81:BD94)","v":""},"□","川口市",{"$f":"IF(BF81=\"☑\",TRUE)","v":false},{"$f":"\"南部地域:\"&BG81","v":"南部地域:川口市"},{"$f":"IF(BH81,BI81,\"\")","v":""},{"$f":"_xludf.TEXTJOIN(\",\",TRUE,BJ81:BJ94)","v":""},"□","朝霞市",{"$f":"IF(BL81=\"☑\",TRUE)","v":false},{"$f":"\"南西部地域:\"&BM81","v":"南西部地域:朝霞市"},{"$f":"IF(BN81,BO81,\"\")","v":""},{"$f":"_xludf.TEXTJOIN(\",\",TRUE,BP81:BP94)","v":""},"□","春日部市",{"$f":"IF(BR81=\"☑\",TRUE)","v":false},{"$f":"\"東部地域:\"&BS81","v":"東部地域:春日部市"},{"$f":"IF(BT81,BU81,\"\")","v":""},{"$f":"_xludf.TEXTJOIN(\",\",TRUE,BV81:BV94)","v":""},"□","鴻巣市",{"$f":"IF(BX81=\"☑\",TRUE)","v":false},{"$f":"\"県央地域:\"&BY81","v":"県央地域:鴻巣市"},{"$f":"IF(BZ81,CA81,\"\")","v":""},{"$f":"_xludf.TEXTJOIN(\",\",TRUE,CB81:CB94)","v":""},"□","川越市",{"$f":"IF(CD81=\"☑\",TRUE)","v":false},{"$f":"\"川越比企地域:\"&CE81","v":"川越比企地域:川越市"},{"$f":"IF(CF81,CG81,\"\")","v":""},{"$f":"_xludf.TEXTJOIN(\",\",TRUE,CH81:CH94)","v":""},"□","所沢市",{"$f":"IF(CJ81=\"☑\",TRUE)","v":false},{"$f":"\"西部地域:\"&CK81","v":"西部地域:所沢市"},{"$f":"IF(CL81,CM81,\"\")","v":""},{"$f":"_xludf.TEXTJOIN(\",\",TRUE,CN81:CN94)","v":""},"□","行田市",{"$f":"IF(CP81=\"☑\",TRUE)","v":false},{"$f":"\"利根地域:\"&CQ81","v":"利根地域:行田市"},{"$f":"IF(CR81,CS81,\"\")","v":""},{"$f":"_xludf.TEXTJOIN(\",\",TRUE,CT81:CT94)","v":""},"□","熊谷市",{"$f":"IF(CV81=\"☑\",TRUE)","v":false},{"$f":"\"北部地域:\"&CW81","v":"北部地域:熊谷市"},{"$f":"IF(CX81,CY81,\"\")","v":""},{"$f":"_xludf.TEXTJOIN(\",\",TRUE,CZ81:CZ94)","v":""},"□","秩父市",{"$f":"IF(DB81=\"☑\",TRUE)","v":false},{"$f":"\"秩父地域:\"&DC81","v":"秩父地域:秩父市"},{"$f":"IF(DD81,DE81,\"\")","v":""},{"$f":"_xludf.TEXTJOIN(\",\",TRUE,DF81:DF94)","v":""},{"$f":"_xlfn.TEXTJOIN(\",\",TRUE,BE81,BK81,BQ81,BW81,CC81,CI81,CO81,CU81,DA81,DG81)","v":""},null,null,null,null,null,null,null,null,{"$f":"IF(#REF!=\"☑\",TRUE)","v":{"$error":"#REF!"}},{"$f":"IF(DQ81,#REF!,\"\")","v":{"$error":"#REF!"}},{"$f":"_xludf.TEXTJOIN(\",\",TRUE,DR81:DR94)","v":{"$error":"#VALUE!"}}]
[null,null,null,null,null,null,null,null,null,null,null,null,null,null,null,null,null,null,"□","買物サポート",false,"","□","料理デリバリー（出前）",false,"","□","フィットネス・ジム（送迎）",{"$f":"IF(AA82=\"☑\",TRUE)","v":false},{"$f":"IF(AC82,AB82,\"\")","v":""},"□","出張料理",{"$f":"IF(AE82=\"☑\",TRUE)","v":false},{"$f":"IF(AG82,AF82,\"\")","v":""},"□","温泉・銭湯（たまり場）",false,"","□","多目的トイレ",false,"","□","習い事",{"$f":"IF(AQ82=\"☑\",TRUE)","v":false},{"$f":"IF(AS82,AR82,\"\")","v":""},"□","金融・保険",false,"",null,"□","北区",{"$f":"IF(AZ82=\"☑\",TRUE)","v":false},{"$f":"\"さいたま市:\"&BA82","v":"さいたま市:北区"},{"$f":"IF(BB82,BC82,\"\")","v":""},null,"□","蕨市",{"$f":"IF(BF82=\"☑\",TRUE)","v":false},{"$f":"\"南部地域:\"&BG82","v":"南部地域:蕨市"},{"$f":"IF(BH82,BI82,\"\")","v":""},null,"□","志木市",{"$f":"IF(BL82=\"☑\",TRUE)","v":false},{"$f":"\"南西部地域:\"&BM82","v":"南西部地域:志木市"},{"$f":"IF(BN82,BO82,\"\")","v":""},null,"□","草加市",{"$f":"IF(BR82=\"☑\",TRUE)","v":false},{"$f":"\"東部地域:\"&BS82","v":"東部地域:草加市"},"",null,"□","上尾市",{"$f":"IF(BX82=\"☑\",TRUE)","v":false},{"$f":"\"県央地域:\"&BY82","v":"県央地域:上尾市"},{"$f":"IF(BZ82,CA82,\"\")","v":""},null,"□","東松山市",{"$f":"IF(CD82=\"☑\",TRUE)","v":false},{"$f":"\"川越比企地域:\"&CE82","v":"川越比企地域:東松山市"},{"$f":"IF(CF82,CG82,\"\")","v":""},null,"□","飯能市",{"$f":"IF(CJ82=\"☑\",TRUE)","v":false},{"$f":"\"西部地域:\"&CK82","v":"西部地域:飯能市"},{"$f":"IF(CL82,CM82,\"\")","v":""},null,"□","加須市",{"$f":"IF(CP82=\"☑\",TRUE)","v":false},{"$f":"\"利根地域:\"&CQ82","v":"利根地域:加須市"},{"$f":"IF(CR82,CS82,\"\")","v":""},null,"□","本庄市",{"$f":"IF(CV82=\"☑\",TRUE)","v":false},{"$f":"\"北部地域:\"&CW82","v":"北部地域:本庄市"},{"$f":"IF(CX82,CY82,\"\")","v":""},null,"□","横瀬町",{"$f":"IF(DB82=\"☑\",TRUE)","v":false},{"$f":"\"秩父地域:\"&DC82","v":"秩父地域:横瀬町"},{"$f":"IF(DD82,DE82,\"\")","v":""},null,null,null,null,null,null,null,null,null,null,null,{"$f":"IF(DQ82,#REF!,\"\")","v":""}]
[null,null,null,null,null,null,null,null,null,null,null,null,null,null,null,null,null,null,"□","買物代行",false,"","□","食材宅配",false,"","□","温泉・銭湯（送迎）",false,"","□","屋外作業・力仕事",false,"","□","カフェ・ファーストフード",false,"","□","休憩スペース",false,"","□","映画館",false,"","□","住宅・リフォーム",false,"",null,"□","大宮区",false,"さいたま市:大宮区","",null,"□","戸田市",{"$f":"IF(BF83=\"☑\",TRUE)","v":false},{"$f":"\"南部地域:\"&BG83","v":"南部地域:戸田市"},"",null,"□","和光市",false,"南西部地域:和光市","",null,"□","越谷市",false,"東部地域:越谷市","",null,"□","桶川市",{"$f":"IF(BX83=\"☑\",TRUE)","v":false},{"$f":"\"県央地域:\"&BY83","v":"県央地域:桶川市"},"",null,"□","坂戸市",false,"川越比企地域:坂戸市","",null,"□","狭山市",{"$f":"IF(CJ83=\"☑\",TRUE)","v":false},{"$f":"\"西部地域:\"&CK83","v":"西部地域:狭山市"},"",null,"□","羽生市",false,"利根地域:羽生市","",null,"□","深谷市",false,"北部地域:深谷市","",null,"□","皆野町",{"$f":"IF(DB83=\"☑\",TRUE)","v":false},{"$f":"\"秩父地域:\"&DC83","v":"秩父地域:皆野町"},"",null,null,null,null,null,null,null,null,null,null,{"$f":"IF(#REF!=\"☑\",TRUE)","v":{"$error":"#REF!"}},{"$f":"IF(DQ83,#REF!,\"\")","v":{"$error":"#REF!"}}]
[null,null,null,null,null,null,null,null,null,null,null,null,null,null,null,null,null,null,"□","移動販売",false,"","□","日用品配達",false,"","□","整体・マッサージ（送迎）",false,"","□","整体・マッサージ（出張）",false,"","□","飲食店",false,"","□","駐車場",false,"","□","カラオケ店",false,"","□","パソコン・スマートフォン",false,"",null,"□","見沼区",false,"さいたま市:見沼区","",null,null,null,null,null,"",null,"□","新座市",false,"南西部地域:新座市","",null,"□","八潮市",false,"東部地域:八潮市","",null,"□","北本市",{"$f":"IF(BX84=\"☑\",TRUE)","v":false},{"$f":"\"県央地域:\"&BY84","v":"県央地域:北本市"},"",null,"□","鶴ヶ島市",false,"川越比企地域:鶴ヶ島市","",null,"□","入間市",{"$f":"IF(CJ84=\"☑\",TRUE)","v":false},{"$f":"\"西部地域:\"&CK84","v":"西部地域:入間市"},"",null,"□","久喜市",false,"利根地域:久喜市","",null,"□","美里町",false,"北部地域:美里町","",null,"□","長瀞町",{"$f":"IF(DB84=\"☑\",TRUE)","v":false},{"$f":"\"秩父地域:\"&DC84","v":"秩父地域:長瀞町"},""]
[null,null,null,null,null,null,null,null,null,null,null,null,null,null,null,null,null,null,"□","割引サービス",false,"","□","薬・介護用品配達",false,"","□","乗り合いサービス",false,"","□","理容・美容（出張）",false,"","□","イートインスペース",false,"","□","貸しスペース",false,"","□","麻雀・将棋・囲碁",false,"","□","認知症サポート企業",false,"",null,"□","中央区",false,"さいたま市:中央区","",null,null,null,null,null,"",null,"□","富士見市",false,"南西部地域:富士見市","",null,"□","三郷市",false,"東部地域:三郷市","",null,"□","伊奈町",{"$f":"IF(BX85=\"☑\",TRUE)","v":false},{"$f":"\"県央地域:\"&BY85","v":"県央地域:伊奈町"},"",null,"□","毛呂山町",false,"川越比企地域:毛呂山町","",null,"□","日高市",{"$f":"IF(CJ85=\"☑\",TRUE)","v":false},{"$f":"\"西部地域:\"&CK85","v":"西部地域:日高市"},"",null,"□","蓮田市",false,"利根地域:蓮田市","",null,"□","神川町",false,"北部地域:神川町","",null,"□","小鹿野町",{"$f":"IF(DB85=\"☑\",TRUE)","v":false},{"$f":"\"秩父地域:\"&DC85","v":"秩父地域:小鹿野町"},"",null,null,null,null,null,null,null,null,null,null,{"$f":"IF(#REF!=\"☑\",TRUE)","v":{"$error":"#REF!"}},{"$f":"IF(DQ85,#REF!,\"\")","v":{"$error":"#REF!"}}]
[null,null,null,null,null,null,null,null,null,null,null,null,null,null,null,null,null,null,"□","その他（買物）",false,"","□","クリーニング",false,{"$f":"IF(Y86,X86,\"\")","v":""},"□","個別移送サービス",false,"","□","ペット",false,"","□","その他（運動・たまり場）",false,"","□","その他（設備・施設・場所貸し）",false,"","□","ゲームセンター",false,"","□","理容・美容",false,"",null,"□","桜区",false,"さいたま市:桜区","",null,null,null,null,null,"",null,"□","ふじみ野市",false,"南西部地域:ふじみ野市","",null,"□","吉川市",false,"東部地域:吉川市","",null,null,null,null,null,"",null,"□","越生町",false,"川越比企地域:越生町","",null,null,null,null,null,"",null,"□","幸手市",false,"利根地域:幸手市","",null,"□","上里町",false,"北部地域:上里町","",null,null,null,null,null,"",null,null,null,null,null,null,null,null,null,null,{"$f":"IF(#REF!=\"☑\",TRUE)","v":{"$error":"#REF!"}},{"$f":"IF(DQ86,#REF!,\"\")","v":{"$error":"#REF!"}}]
[null,null,null,null,null,null,null,null,null,null,null,null,null,null,null,null,null,null,null,null,null,null,"□","その他（宅配・デリバリー）",false,{"$f":"IF(Y87,X87,\"\")","v":""},"□","交通機関サービス",false,"","□","その他（出張サービス）",false,"",null,null,null,null,null,null,null,null,"□","旅行・レジャー",false,"","□","成年後見・相続",false,"",null,"□","浦和区",false,"さいたま市:浦和区","",null,null,null,null,null,"",null,"□","三芳町",false,"南西部地域:三芳町","",null,"□","松伏町",false,"東部地域:松伏町","",null,null,null,null,null,"",null,"□","滑川町",false,"川越比企地域:滑川町","",null,null,null,null,null,"",null,"□","白岡市",false,"利根地域:白岡市","",null,"□","寄居町",false,"北部地域:寄居町","",null,null,null,null,null,""]
[null,null,null,null,null,null,null,null,null,null,null,null,null,null,null,null,null,null,null,null,null,null,null,null,null,null,"□","その他（送迎・移動支援）",false,"",null,null,null,"",null,null,null,{"$f":"IF(AK88,AJ88,\"\")","v":""},null,null,null,{"$f":"IF(AO88,AN88,\"\")","v":""},"□","パソコン・スマホ教室",false,"","□","その他（生活サービス）",false,"",null,"□","南区",false,"さいたま市:南区","",null,null,null,null,null,"",null,null,null,null,null,"",null,null,null,null,null,"",null,null,null,null,null,"",null,"□","嵐山町",false,"川越比企地域:嵐山町","",null,null,null,null,null,"",null,"□","宮代町",false,"利根地域:宮代町","",null,null,null,null,null,"",null,null,null,null,null,""]
[null,null,null,null,null,null,null,null,null,null,null,null,null,null,null,null,null,null,null,null,null,null,null,null,null,null,null,null,null,null,null,null,null,null,null,null,null,null,null,null,null,null,"□","その他（学び・趣味）",false,"",null,null,null,null,null,"□","緑区",false,"さいたま市:緑区","",null,null,null,null,null,"",null,null,null,null,null,"",null,null,null,null,null,"",null,null,null,null,null,"",null,"□","小川町",false,"川越比企地域:小川町","",null,null,null,null,null,"",null,"□","杉戸町",false,"利根地域:杉戸町","",null,null,null,null,null,"",null,null,null,null,null,""]
[null,null,null,null,null,null,null,null,null,null,null,null,null,null,null,null,null,null,null,null,null,null,null,null,null,null,null,null,null,null,null,null,null,null,null,null,null,null,null,null,null,null,null,null,null,null,null,null,null,null,null,"□","岩槻区",{"$f":"IF(AZ90=\"☑\",TRUE)","v":false},"さいたま市:岩槻区","",null,null,null,null,null,"",null,null,null,null,null,"",null,null,null,null,null,"",null,null,null,null,null,"",null,"□","川島町",false,"川越比企地域:川島町","",null,null,null,null,null,"",null,null,null,null,null,"",null,null,null,null,null,"",null,null,null,null,null,""]
[null,null,null,null,null,null,null,null,null,null,null,null,null,null,null,null,null,null,null,null,null,null,null,null,null,null,null,null,null,null,null,null,null,null,null,null,null,null,null,null,null,null,null,null,null,null,null,null,null,null,null,null,null,null,null,null,null,null,null,null,null,null,null,null,null,null,null,null,null,null,null,null,null,null,null,null,null,null,null,null,null,"□","吉見町",false,"川越比企地域:吉見町","",null,null,null,null,null,"",null,null,null,null,null,"",null,null,null,null,null,"",null,null,null,null,null,""]
[null,null,null,null,null,null,null,null,null,null,null,null,null,null,null,null,null,null,null,null,null,null,null,null,null,null,null,null,null,null,null,null,null,null,null,null,null,null,null,null,null,null,null,null,null,null,null,null,null,null,null,null,null,null,null,null,null,null,null,null,null,null,null,null,null,null,null,null,null,null,null,null,null,null,null,null,null,null,null,null,null,"□","鳩山町",false,"川越比企地域:鳩山町","",null,null,null,null,null,"",null,null,null,null,null,"",null,null,null,null,null,"",null,null,null,null,null,""]
[null,null,null,null,null,null,null,null,null,null,null,null,null,null,null,null,null,null,null,null,null,null,null,null,null,null,null,null,null,null,null,null,null,null,null,null,null,null,null,null,null,null,null,null,null,null,null,null,null,null,null,null,null,null,null,null,null,null,null,null,null,null,null,null,null,null,null,null,null,null,null,null,null,null,null,null,null,null,null,null,null,"□","ときがわ町",false,"川越比企地域:ときがわ町","",null,null,null,null,null,"",null,null,null,null,null,"",null,null,null,null,null,"",null,null,null,null,null,""]
[null,null,null,null,null,null,null,null,null,null,null,null,null,null,null,null,null,null,null,null,null,null,null,null,null,null,null,null,null,null,null,null,null,null,null,null,null,null,null,null,null,null,null,null,null,null,null,null,null,null,null,null,null,null,null,null,null,null,null,null,null,null,null,null,null,null,null,null,null,null,null,null,null,null,null,null,null,null,null,null,null,"□","東秩父村",false,"川越比企地域:東秩父村","",null,null,null,null,null,"",null,null,null,null,null,"",null,null,null,null,null,"",null,null,null,null,null,""]
[6,null,null,null,null,null,null,null,null,null,null,null,null,null,null,null,null,null,"□","配送",{"$f":"IF(S95=\"☑\",TRUE)","v":false},{"$f":"IF(U95,T95,\"\")","v":""},"□","弁当配達",{"$f":"IF(W95=\"☑\",TRUE)","v":false},{"$f":"IF(Y95,X95,\"\")","v":""},"□","理容・美容（送迎）",{"$f":"IF(AA95=\"☑\",TRUE)","v":false},{"$f":"IF(AC95,AB95,\"\")","v":""},"□","家事代行・掃除・片付け",{"$f":"IF(AE95=\"☑\",TRUE)","v":false},{"$f":"IF(AG95,AF95,\"\")","v":""},"□","フィットネス・ジム（運動）",{"$f":"IF(AI95=\"☑\",TRUE)","v":false},{"$f":"IF(AK95,AJ95,\"\")","v":""},"□","車イス対応（バリアフリー）",{"$f":"IF(AM95=\"☑\",TRUE)","v":false},{"$f":"IF(AO95,AN95,\"\")","v":""},"□","講座・教室・イベント",{"$f":"IF(AQ95=\"☑\",TRUE)","v":false},{"$f":"IF(AS95,AR95,\"\")","v":""},"□","防犯・見守り",{"$f":"IF(AU95=\"☑\",TRUE)","v":false},{"$f":"IF(AW95,AV95,\"\")","v":""},{"$f":"_xludf.TEXTJOIN(\",\",TRUE,V95:V108,Z95:Z108,AD95:AD108,AH95:AH108,AL95:AL108,AP95:AP108,AT95:AT108,AX95:AX108)","v":""},"□","西区",{"$f":"IF(AZ95=\"☑\",TRUE)","v":false},{"$f":"\"さいたま市:\"&BA95","v":"さいたま市:西区"},{"$f":"IF(BB95,BC95,\"\")","v":""},{"$f":"_xludf.TEXTJOIN(\",\",TRUE,BD95:BD108)","v":""},"□","川口市",{"$f":"IF(BF95=\"☑\",TRUE)","v":false},{"$f":"\"南部地域:\"&BG95","v":"南部地域:川口市"},{"$f":"IF(BH95,BI95,\"\")","v":""},{"$f":"_xludf.TEXTJOIN(\",\",TRUE,BJ95:BJ108)","v":""},"□","朝霞市",{"$f":"IF(BL95=\"☑\",TRUE)","v":false},{"$f":"\"南西部地域:\"&BM95","v":"南西部地域:朝霞市"},{"$f":"IF(BN95,BO95,\"\")","v":""},{"$f":"_xludf.TEXTJOIN(\",\",TRUE,BP95:BP108)","v":""},"□","春日部市",{"$f":"IF(BR95=\"☑\",TRUE)","v":false},{"$f":"\"東部地域:\"&BS95","v":"東部地域:春日部市"},{"$f":"IF(BT95,BU95,\"\")","v":""},{"$f":"_xludf.TEXTJOIN(\",\",TRUE,BV95:BV108)","v":""},"□","鴻巣市",{"$f":"IF(BX95=\"☑\",TRUE)","v":false},{"$f":"\"県央地域:\"&BY95","v":"県央地域:鴻巣市"},{"$f":"IF(BZ95,CA95,\"\")","v":""},{"$f":"_xludf.TEXTJOIN(\",\",TRUE,CB95:CB108)","v":""},"□","川越市",{"$f":"IF(CD95=\"☑\",TRUE)","v":false},{"$f":"\"川越比企地域:\"&CE95","v":"川越比企地域:川越市"},{"$f":"IF(CF95,CG95,\"\")","v":""},{"$f":"_xludf.TEXTJOIN(\",\",TRUE,CH95:CH108)","v":""},"□","所沢市",{"$f":"IF(CJ95=\"☑\",TRUE)","v":false},{"$f":"\"西部地域:\"&CK95","v":"西部地域:所沢市"},{"$f":"IF(CL95,CM95,\"\")","v":""},{"$f":"_xludf.TEXTJOIN(\",\",TRUE,CN95:CN108)","v":""},"□","行田市",{"$f":"IF(CP95=\"☑\",TRUE)","v":false},{"$f":"\"利根地域:\"&CQ95","v":"利根地域:行田市"},{"$f":"IF(CR95,CS95,\"\")","v":""},{"$f":"_xludf.TEXTJOIN(\",\",TRUE,CT95:CT108)","v":""},"□","熊谷市",{"$f":"IF(CV95=\"☑\",TRUE)","v":false},{"$f":"\"北部地域:\"&CW95","v":"北部地域:熊谷市"},{"$f":"IF(CX95,CY95,\"\")","v":""},{"$f":"_xludf.TEXTJOIN(\",\",TRUE,CZ95:CZ108)","v":""},"□","秩父市",{"$f":"IF(DB95=\"☑\",TRUE)","v":false},{"$f":"\"秩父地域:\"&DC95","v":"秩父地域:秩父市"},{"$f":"IF(DD95,DE95,\"\")","v":""},{"$f":"_xludf.TEXTJOIN(\",\",TRUE,DF95:DF108)","v":""},{"$f":"_xlfn.TEXTJOIN(\",\",TRUE,BE95,BK95,BQ95,BW95,CC95,CI95,CO95,CU95,DA95,DG95)","v":""},null,null,null,null,null,null,null,null,{"$f":"IF(#REF!=\"☑\",TRUE)","v":{"$error":"#REF!"}},{"$f":"IF(DQ95,#REF!,\"\")","v":{"$error":"#REF!"}},{"$f":"_xludf.TEXTJOIN(\",\",TRUE,DR95:DR108)","v":{"$error":"#VALUE!"}}]
[null,null,null,null,null,null,null,null,null,null,null,null,null,null,null,null,null,null,"□","買物サポート",false,"","□","料理デリバリー（出前）",false,"","□","フィットネス・ジム（送迎）",{"$f":"IF(AA96=\"☑\",TRUE)","v":false},{"$f":"IF(AC96,AB96,\"\")","v":""},"□","出張料理",{"$f":"IF(AE96=\"☑\",TRUE)","v":false},{"$f":"IF(AG96,AF96,\"\")","v":""},"□","温泉・銭湯（たまり場）",false,"","□","多目的トイレ",false,"","□","習い事",{"$f":"IF(AQ96=\"☑\",TRUE)","v":false},{"$f":"IF(AS96,AR96,\"\")","v":""},"□","金融・保険",false,"",null,"□","北区",{"$f":"IF(AZ96=\"☑\",TRUE)","v":false},{"$f":"\"さいたま市:\"&BA96","v":"さいたま市:北区"},{"$f":"IF(BB96,BC96,\"\")","v":""},null,"□","蕨市",{"$f":"IF(BF96=\"☑\",TRUE)","v":false},{"$f":"\"南部地域:\"&BG96","v":"南部地域:蕨市"},{"$f":"IF(BH96,BI96,\"\")","v":""},null,"□","志木市",{"$f":"IF(BL96=\"☑\",TRUE)","v":false},{"$f":"\"南西部地域:\"&BM96","v":"南西部地域:志木市"},{"$f":"IF(BN96,BO96,\"\")","v":""},null,"□","草加市",{"$f":"IF(BR96=\"☑\",TRUE)","v":false},{"$f":"\"東部地域:\"&BS96","v":"東部地域:草加市"},"",null,"□","上尾市",{"$f":"IF(BX96=\"☑\",TRUE)","v":false},{"$f":"\"県央地域:\"&BY96","v":"県央地域:上尾市"},{"$f":"IF(BZ96,CA96,\"\")","v":""},null,"□","東松山市",{"$f":"IF(CD96=\"☑\",TRUE)","v":false},{"$f":"\"川越比企地域:\"&CE96","v":"川越比企地域:東松山市"},{"$f":"IF(CF96,CG96,\"\")","v":""},null,"□","飯能市",{"$f":"IF(CJ96=\"☑\",TRUE)","v":false},{"$f":"\"西部地域:\"&CK96","v":"西部地域:飯能市"},{"$f":"IF(CL96,CM96,\"\")","v":""},null,"□","加須市",{"$f":"IF(CP96=\"☑\",TRUE)","v":false},{"$f":"\"利根地域:\"&CQ96","v":"利根地域:加須市"},{"$f":"IF(CR96,CS96,\"\")","v":""},null,"□","本庄市",{"$f":"IF(CV96=\"☑\",TRUE)","v":false},{"$f":"\"北部地域:\"&CW96","v":"北部地域:本庄市"},{"$f":"IF(CX96,CY96,\"\")","v":""},null,"□","横瀬町",{"$f":"IF(DB96=\"☑\",TRUE)","v":false},{"$f":"\"秩父地域:\"&DC96","v":"秩父地域:横瀬町"},{"$f":"IF(DD96,DE96,\"\")","v":""},null,null,null,null,null,null,null,null,null,null,null,{"$f":"IF(DQ96,#REF!,\"\")","v":""}]
[null,null,null,null,null,null,null,null,null,null,null,null,null,null,null,null,null,null,"□","買物代行",false,"","□","食材宅配",false,"","□","温泉・銭湯（送迎）",false,"","□","屋外作業・力仕事",false,"","□","カフェ・ファーストフード",false,"","□","休憩スペース",false,"","□","映画館",false,"","□","住宅・リフォーム",false,"",null,"□","大宮区",false,"さいたま市:大宮区","",null,"□","戸田市",{"$f":"IF(BF97=\"☑\",TRUE)","v":false},{"$f":"\"南部地域:\"&BG97","v":"南部地域:戸田市"},"",null,"□","和光市",false,"南西部地域:和光市","",null,"□","越谷市",false,"東部地域:越谷市","",null,"□","桶川市",{"$f":"IF(BX97=\"☑\",TRUE)","v":false},{"$f":"\"県央地域:\"&BY97","v":"県央地域:桶川市"},"",null,"□","坂戸市",false,"川越比企地域:坂戸市","",null,"□","狭山市",{"$f":"IF(CJ97=\"☑\",TRUE)","v":false},{"$f":"\"西部地域:\"&CK97","v":"西部地域:狭山市"},"",null,"□","羽生市",false,"利根地域:羽生市","",null,"□","深谷市",false,"北部地域:深谷市","",null,"□","皆野町",{"$f":"IF(DB97=\"☑\",TRUE)","v":false},{"$f":"\"秩父地域:\"&DC97","v":"秩父地域:皆野町"},"",null,null,null,null,null,null,null,null,null,null,{"$f":"IF(#REF!=\"☑\",TRUE)","v":{"$error":"#REF!"}},{"$f":"IF(DQ97,#REF!,\"\")","v":{"$error":"#REF!"}}]
[null,null,null,null,null,null,null,null,null,null,null,null,null,null,null,null,null,null,"□","移動販売",false,"","□","日用品配達",false,"","□","整体・マッサージ（送迎）",false,"","□","整体・マッサージ（出張）",false,"","□","飲食店",false,"","□","駐車場",false,"","□","カラオケ店",false,"","□","パソコン・スマートフォン",false,"",null,"□","見沼区",false,"さいたま市:見沼区","",null,null,null,null,null,"",null,"□","新座市",false,"南西部地域:新座市","",null,"□","八潮市",false,"東部地域:八潮市","",null,"□","北本市",{"$f":"IF(BX98=\"☑\",TRUE)","v":false},{"$f":"\"県央地域:\"&BY98","v":"県央地域:北本市"},"",null,"□","鶴ヶ島市",false,"川越比企地域:鶴ヶ島市","",null,"□","入間市",{"$f":"IF(CJ98=\"☑\",TRUE)","v":false},{"$f":"\"西部地域:\"&CK98","v":"西部地域:入間市"},"",null,"□","久喜市",false,"利根地域:久喜市","",null,"□","美里町",false,"北部地域:美里町","",null,"□","長瀞町",{"$f":"IF(DB98=\"☑\",TRUE)","v":false},{"$f":"\"秩父地域:\"&DC98","v":"秩父地域:長瀞町"},""]
[null,null,null,null,null,null,null,null,null,null,null,null,null,null,null,null,null,null,"□","割引サービス",false,"","□","薬・介護用品配達",false,"","□","乗り合いサービス",false,"","□","理容・美容（出張）",false,"","□","イートインスペース",false,"","□","貸しスペース",false,"","□","麻雀・将棋・囲碁",false,"","□","認知症サポート企業",false,"",null,"□","中央区",false,"さいたま市:中央区","",null,null,null,null,null,"",null,"□","富士見市",false,"南西部地域:富士見市","",null,"□","三郷市",false,"東部地域:三郷市","",null,"□","伊奈町",{"$f":"IF(BX99=\"☑\",TRUE)","v":false},{"$f":"\"県央地域:\"&BY99","v":"県央地域:伊奈町"},"",null,"□","毛呂山町",false,"川越比企地域:毛呂山町","",null,"□","日高市",{"$f":"IF(CJ99=\"☑\",TRUE)","v":false},{"$f":"\"西部地域:\"&CK99","v":"西部地域:日高市"},"",null,"□","蓮田市",false,"利根地域:蓮田市","",null,"□","神川町",false,"北部地域:神川町","",null,"□","小鹿野町",{"$f":"IF(DB99=\"☑\",TRUE)","v":false},{"$f":"\"秩父地域:\"&DC99","v":"秩父地域:小鹿野町"},"",null,null,null,null,null,null,null,null,null,null,{"$f":"IF(#REF!=\"☑\",TRUE)","v":{"$error":"#REF!"}},{"$f":"IF(DQ99,#REF!,\"\")","v":{"$error":"#REF!"}}]
[null,null,null,null,null,null,null,null,null,null,null,null,null,null,null,null,null,null,"□","その他（買物）",false,"","□","クリーニング",false,{"$f":"IF(Y100,X100,\"\")","v":""},"□","個別移送サービス",false,"","□","ペット",false,"","□","その他（運動・たまり場）",false,"","□","その他（設備・施設・場所貸し）",false,"","□","ゲームセンター",false,"","□","理容・美容",false,"",null,"□","桜区",false,"さいたま市:桜区","",null,null,null,null,null,"",null,"□","ふじみ野市",false,"南西部地域:ふじみ野市","",null,"□","吉川市",false,"東部地域:吉川市","",null,null,null,null,null,"",null,"□","越生町",false,"川越比企地域:越生町","",null,null,null,null,null,"",null,"□","幸手市",false,"利根地域:幸手市","",null,"□","上里町",false,"北部地域:上里町","",null,null,null,null,null,"",null,null,null,null,null,null,null,null,null,null,{"$f":"IF(#REF!=\"☑\",TRUE)","v":{"$error":"#REF!"}},{"$f":"IF(DQ100,#REF!,\"\")","v":{"$error":"#REF!"}}]
[null,null,null,null,null,null,null,null,null,null,null,null,null,null,null,null,null,null,null,null,null,null,"□","その他（宅配・デリバリー）",false,{"$f":"IF(Y101,X101,\"\")","v":""},"□","交通機関サービス",false,"","□","その他（出張サービス）",false,"",null,null,null,null,null,null,null,null,"□","旅行・レジャー",false,"","□","成年後見・相続",false,"",null,"□","浦和区",false,"さいたま市:浦和区","",null,null,null,null,null,"",null,"□","三芳町",false,"南西部地域:三芳町","",null,"□","松伏町",false,"東部地域:松伏町","",null,null,null,null,null,"",null,"□","滑川町",false,"川越比企地域:滑川町","",null,null,null,null,null,"",null,"□","白岡市",false,"利根地域:白岡市","",null,"□","寄居町",false,"北部地域:寄居町","",null,null,null,null,null,""]
[null,null,null,null,null,null,null,null,null,null,null,null,null,null,null,null,null,null,null,null,null,null,null,null,null,null,"□","その他（送迎・移動支援）",false,"",null,null,null,"",null,null,null,{"$f":"IF(AK102,AJ102,\"\")","v":""},null,null,null,{"$f":"IF(AO102,AN102,\"\")","v":""},"□","パソコン・スマホ教室",false,"","□","その他（生活サービス）",false,"",null,"□","南区",false,"さいたま市:南区","",null,null,null,null,null,"",null,null,null,null,null,"",null,null,null,null,null,"",null,null,null,null,null,"",null,"□","嵐山町",false,"川越比企地域:嵐山町","",null,null,null,null,null,"",null,"□","宮代町",false,"利根地域:宮代町","",null,null,null,null,null,"",null,null,null,null,null,""]
[null,null,null,null,null,null,null,null,null,null,null,null,null,null,null,null,null,null,null,null,null,null,null,null,null,null,null,null,null,null,null,null,null,null,null,null,null,null,null,null,null,null,"□","その他（学び・趣味）",false,"",null,null,null,null,null,"□","緑区",false,"さいたま市:緑区","",null,null,null,null,null,"",null,null,null,null,null,"",null,null,null,null,null,"",null,null,null,null,null,"",null,"□","小川町",false,"川越比企地域:小川町","",null,null,null,null,null,"",null,"□","杉戸町",false,"利根地域:杉戸町","",null,null,null,null,null,"",null,null,null,null,null,""]
[null,null,null,null,null,null,null,null,null,null,null,null,null,null,null,null,null,null,null,null,null,null,null,null,null,null,null,null,null,null,null,null,null,null,null,null,null,null,null,null,null,null,null,null,null,null,null,null,null,null,null,"□","岩槻区",{"$f":"IF(AZ104=\"☑\",TRUE)","v":false},"さいたま市:岩槻区","",null,null,null,null,null,"",null,null,null,null,null,"",null,null,null,null,null,"",null,null,null,null,null,"",null,"□","川島町",false,"川越比企地域:川島町","",null,null,null,null,null,"",null,null,null,null,null,"",null,null,null,null,null,"",null,null,null,null,null,""]
[null,null,null,null,null,null,null,null,null,null,null,null,null,null,null,null,null,null,null,null,null,null,null,null,null,null,null,null,null,null,null,null,null,null,null,null,null,null,null,null,null,null,null,null,null,null,null,null,null,null,null,null,null,null,null,null,null,null,null,null,null,null,null,null,null,null,null,null,null,null,null,null,null,null,null,null,null,null,null,null,null,"□","吉見町",false,"川越比企地域:吉見町","",null,null,null,null,null,"",null,null,null,null,null,"",null,null,null,null,null,"",null,null,null,null,null,""]
[null,null,null,null,null,null,null,null,null,null,null,null,null,null,null,null,null,null,null,null,null,null,null,null,null,null,null,null,null,null,null,null,null,null,null,null,null,null,null,null,null,null,null,null,null,null,null,null,null,null,null,null,null,null,null,null,null,null,null,null,null,null,null,null,null,null,null,null,null,null,null,null,null,null,null,null,null,null,null,null,null,"□","鳩山町",false,"川越比企地域:鳩山町","",null,null,null,null,null,"",null,null,null,null,null,"",null,null,null,null,null,"",null,null,null,null,null,""]
[null,null,null,null,null,null,null,null,null,null,null,null,null,null,null,null,null,null,null,null,null,null,null,null,null,null,null,null,null,null,null,null,null,null,null,null,null,null,null,null,null,null,null,null,null,null,null,null,null,null,null,null,null,null,null,null,null,null,null,null,null,null,null,null,null,null,null,null,null,null,null,null,null,null,null,null,null,null,null,null,null,"□","ときがわ町",false,"川越比企地域:ときがわ町","",null,null,null,null,null,"",null,null,null,null,null,"",null,null,null,null,null,"",null,null,null,null,null,""]
[null,null,null,null,null,null,null,null,null,null,null,null,null,null,null,null,null,null,null,null,null,null,null,null,null,null,null,null,null,null,null,null,null,null,null,null,null,null,null,null,null,null,null,null,null,null,null,null,null,null,null,null,null,null,null,null,null,null,null,null,null,null,null,null,null,null,null,null,null,null,null,null,null,null,null,null,null,null,null,null,null,"□","東秩父村",false,"川越比企地域:東秩父村","",null,null,null,null,null,"",null,null,null,null,null,"",null,null,null,null,null,"",null,null,null,null,null,""]
[7,null,null,null,null,null,null,null,null,null,null,null,null,null,null,null,null,null,"□","配送",{"$f":"IF(S109=\"☑\",TRUE)","v":false},{"$f":"IF(U109,T109,\"\")","v":""},"□","弁当配達",{"$f":"IF(W109=\"☑\",TRUE)","v":false},{"$f":"IF(Y109,X109,\"\")","v":""},"□","理容・美容（送迎）",{"$f":"IF(AA109=\"☑\",TRUE)","v":false},{"$f":"IF(AC109,AB109,\"\")","v":""},"□","家事代行・掃除・片付け",{"$f":"IF(AE109=\"☑\",TRUE)","v":false},{"$f":"IF(AG109,AF109,\"\")","v":""},"□","フィットネス・ジム（運動）",{"$f":"IF(AI109=\"☑\",TRUE)","v":false},{"$f":"IF(AK109,AJ109,\"\")","v":""},"□","車イス対応（バリアフリー）",{"$f":"IF(AM109=\"☑\",TRUE)","v":false},{"$f":"IF(AO109,AN109,\"\")","v":""},"□","講座・教室・イベント",{"$f":"IF(AQ109=\"☑\",TRUE)","v":false},{"$f":"IF(AS109,AR109,\"\")","v":""},"□","防犯・見守り",{"$f":"IF(AU109=\"☑\",TRUE)","v":false},{"$f":"IF(AW109,AV109,\"\")","v":""},{"$f":"_xludf.TEXTJOIN(\",\",TRUE,V109:V122,Z109:Z122,AD109:AD122,AH109:AH122,AL109:AL122,AP109:AP122,AT109:AT122,AX109:AX122)","v":""},"□","西区",{"$f":"IF(AZ109=\"☑\",TRUE)","v":false},{"$f":"\"さいたま市:\"&BA109","v":"さいたま市:西区"},{"$f":"IF(BB109,BC109,\"\")","v":""},{"$f":"_xludf.TEXTJOIN(\",\",TRUE,BD109:BD122)","v":""},"□","川口市",{"$f":"IF(BF109=\"☑\",TRUE)","v":false},{"$f":"\"南部地域:\"&BG109","v":"南部地域:川口市"},{"$f":"IF(BH109,BI109,\"\")","v":""},{"$f":"_xludf.TEXTJOIN(\",\",TRUE,BJ109:BJ122)","v":""},"□","朝霞市",{"$f":"IF(BL109=\"☑\",TRUE)","v":false},{"$f":"\"南西部地域:\"&BM109","v":"南西部地域:朝霞市"},{"$f":"IF(BN109,BO109,\"\")","v":""},{"$f":"_xludf.TEXTJOIN(\",\",TRUE,BP109:BP122)","v":""},"□","春日部市",{"$f":"IF(BR109=\"☑\",TRUE)","v":false},{"$f":"\"東部地域:\"&BS109","v":"東部地域:春日部市"},{"$f":"IF(BT109,BU109,\"\")","v":""},{"$f":"_xludf.TEXTJOIN(\",\",TRUE,BV109:BV122)","v":""},"□","鴻巣市",{"$f":"IF(BX109=\"☑\",TRUE)","v":false},{"$f":"\"県央地域:\"&BY109","v":"県央地域:鴻巣市"},{"$f":"IF(BZ109,CA109,\"\")","v":""},{"$f":"_xludf.TEXTJOIN(\",\",TRUE,CB109:CB122)","v":""},"□","川越市",{"$f":"IF(CD109=\"☑\",TRUE)","v":false},{"$f":"\"川越比企地域:\"&CE109","v":"川越比企地域:川越市"},{"$f":"IF(CF109,CG109,\"\")","v":""},{"$f":"_xludf.TEXTJOIN(\",\",TRUE,CH109:CH122)","v":""},"□","所沢市",{"$f":"IF(CJ109=\"☑\",TRUE)","v":false},{"$f":"\"西部地域:\"&CK109","v":"西部地域:所沢市"},{"$f":"IF(CL109,CM109,\"\")","v":""},{"$f":"_xludf.TEXTJOIN(\",\",TRUE,CN109:CN122)","v":""},"□","行田市",{"$f":"IF(CP109=\"☑\",TRUE)","v":false},{"$f":"\"利根地域:\"&CQ109","v":"利根地域:行田市"},{"$f":"IF(CR109,CS109,\"\")","v":""},{"$f":"_xludf.TEXTJOIN(\",\",TRUE,CT109:CT122)","v":""},"□","熊谷市",{"$f":"IF(CV109=\"☑\",TRUE)","v":false},{"$f":"\"北部地域:\"&CW109","v":"北部地域:熊谷市"},{"$f":"IF(CX109,CY109,\"\")","v":""},{"$f":"_xludf.TEXTJOIN(\",\",TRUE,CZ109:CZ122)","v":""},"□","秩父市",{"$f":"IF(DB109=\"☑\",TRUE)","v":false},{"$f":"\"秩父地域:\"&DC109","v":"秩父地域:秩父市"},{"$f":"IF(DD109,DE109,\"\")","v":""},{"$f":"_xludf.TEXTJOIN(\",\",TRUE,DF109:DF122)","v":""},{"$f":"_xlfn.TEXTJOIN(\",\",TRUE,BE109,BK109,BQ109,BW109,CC109,CI109,CO109,CU109,DA109,DG109)","v":""},null,null,null,null,null,null,null,null,{"$f":"IF(#REF!=\"☑\",TRUE)","v":{"$error":"#REF!"}},{"$f":"IF(DQ109,#REF!,\"\")","v":{"$error":"#REF!"}},{"$f":"_xludf.TEXTJOIN(\",\",TRUE,DR109:DR122)","v":{"$error":"#VALUE!"}}]
[null,null,null,null,null,null,null,null,null,null,null,null,null,null,null,null,null,null,"□","買物サポート",false,"","□","料理デリバリー（出前）",false,"","□","フィットネス・ジム（送迎）",{"$f":"IF(AA110=\"☑\",TRUE)","v":false},{"$f":"IF(AC110,AB110,\"\")","v":""},"□","出張料理",{"$f":"IF(AE110=\"☑\",TRUE)","v":false},{"$f":"IF(AG110,AF110,\"\")","v":""},"□","温泉・銭湯（たまり場）",false,"","□","多目的トイレ",false,"","□","習い事",{"$f":"IF(AQ110=\"☑\",TRUE)","v":false},{"$f":"IF(AS110,AR110,\"\")","v":""},"□","金融・保険",false,"",null,"□","北区",{"$f":"IF(AZ110=\"☑\",TRUE)","v":false},{"$f":"\"さいたま市:\"&BA110","v":"さいたま市:北区"},{"$f":"IF(BB110,BC110,\"\")","v":""},null,"□","蕨市",{"$f":"IF(BF110=\"☑\",TRUE)","v":false},{"$f":"\"南部地域:\"&BG110","v":"南部地域:蕨市"},{"$f":"IF(BH110,BI110,\"\")","v":""},null,"□","志木市",{"$f":"IF(BL110=\"☑\",TRUE)","v":false},{"$f":"\"南西部地域:\"&BM110","v":"南西部地域:志木市"},{"$f":"IF(BN110,BO110,\"\")","v":""},null,"□","草加市",{"$f":"IF(BR110=\"☑\",TRUE)","v":false},{"$f":"\"東部地域:\"&BS110","v":"東部地域:草加市"},"",null,"□","上尾市",{"$f":"IF(BX110=\"☑\",TRUE)","v":false},{"$f":"\"県央地域:\"&BY110","v":"県央地域:上尾市"},{"$f":"IF(BZ110,CA110,\"\")","v":""},null,"□","東松山市",{"$f":"IF(CD110=\"☑\",TRUE)","v":false},{"$f":"\"川越比企地域:\"&CE110","v":"川越比企地域:東松山市"},{"$f":"IF(CF110,CG110,\"\")","v":""},null,"□","飯能市",{"$f":"IF(CJ110=\"☑\",TRUE)","v":false},{"$f":"\"西部地域:\"&CK110","v":"西部地域:飯能市"},{"$f":"IF(CL110,CM110,\"\")","v":""},null,"□","加須市",{"$f":"IF(CP110=\"☑\",TRUE)","v":false},{"$f":"\"利根地域:\"&CQ110","v":"利根地域:加須市"},{"$f":"IF(CR110,CS110,\"\")","v":""},null,"□","本庄市",{"$f":"IF(CV110=\"☑\",TRUE)","v":false},{"$f":"\"北部地域:\"&CW110","v":"北部地域:本庄市"},{"$f":"IF(CX110,CY110,\"\")","v":""},null,"□","横瀬町",{"$f":"IF(DB110=\"☑\",TRUE)","v":false},{"$f":"\"秩父地域:\"&DC110","v":"秩父地域:横瀬町"},{"$f":"IF(DD110,DE110,\"\")","v":""},null,null,null,null,null,null,null,null,null,null,null,{"$f":"IF(DQ110,#REF!,\"\")","v":""}]
[null,null,null,null,null,null,null,null,null,null,null,null,null,null,null,null,null,null,"□","買物代行",false,"","□","食材宅配",false,"","□","温泉・銭湯（送迎）",false,"","□","屋外作業・力仕事",false,"","□","カフェ・ファーストフード",false,"","□","休憩スペース",false,"","□","映画館",false,"","□","住宅・リフォーム",false,"",null,"□","大宮区",false,"さいたま市:大宮区","",null,"□","戸田市",{"$f":"IF(BF111=\"☑\",TRUE)","v":false},{"$f":"\"南部地域:\"&BG111","v":"南部地域:戸田市"},"",null,"□","和光市",false,"南西部地域:和光市","",null,"□","越谷市",false,"東部地域:越谷市","",null,"□","桶川市",{"$f":"IF(BX111=\"☑\",TRUE)","v":false},{"$f":"\"県央地域:\"&BY111","v":"県央地域:桶川市"},"",null,"□","坂戸市",false,"川越比企地域:坂戸市","",null,"□","狭山市",{"$f":"IF(CJ111=\"☑\",TRUE)","v":false},{"$f":"\"西部地域:\"&CK111","v":"西部地域:狭山市"},"",null,"□","羽生市",false,"利根地域:羽生市","",null,"□","深谷市",false,"北部地域:深谷市","",null,"□","皆野町",{"$f":"IF(DB111=\"☑\",TRUE)","v":false},{"$f":"\"秩父地域:\"&DC111","v":"秩父地域:皆野町"},"",null,null,null,null,null,null,null,null,null,null,{"$f":"IF(#REF!=\"☑\",TRUE)","v":{"$error":"#REF!"}},{"$f":"IF(DQ111,#REF!,\"\")","v":{"$error":"#REF!"}}]
[null,null,null,null,null,null,null,null,null,null,null,null,null,null,null,null,null,null,"□","移動販売",false,"","□","日用品配達",false,"","□","整体・マッサージ（送迎）",false,"","□","整体・マッサージ（出張）",false,"","□","飲食店",false,"","□","駐車場",false,"","□","カラオケ店",false,"","□","パソコン・スマートフォン",false,"",null,"□","見沼区",false,"さいたま市:見沼区","",null,null,null,null,null,"",null,"□","新座市",false,"南西部地域:新座市","",null,"□","八潮市",false,"東部地域:八潮市","",null,"□","北本市",{"$f":"IF(BX112=\"☑\",TRUE)","v":false},{"$f":"\"県央地域:\"&BY112","v":"県央地域:北本市"},"",null,"□","鶴ヶ島市",false,"川越比企地域:鶴ヶ島市","",null,"□","入間市",{"$f":"IF(CJ112=\"☑\",TRUE)","v":false},{"$f":"\"西部地域:\"&CK112","v":"西部地域:入間市"},"",null,"□","久喜市",false,"利根地域:久喜市","",null,"□","美里町",false,"北部地域:美里町","",null,"□","長瀞町",{"$f":"IF(DB112=\"☑\",TRUE)","v":false},{"$f":"\"秩父地域:\"&DC112","v":"秩父地域:長瀞町"},""]
[null,null,null,null,null,null,null,null,null,null,null,null,null,null,null,null,null,null,"□","割引サービス",false,"","□","薬・介護用品配達",false,"","□","乗り合いサービス",false,"","□","理容・美容（出張）",false,"","□","イートインスペース",false,"","□","貸しスペース",false,"","□","麻雀・将棋・囲碁",false,"","□","認知症サポート企業",false,"",null,"□","中央区",false,"さいたま市:中央区","",null,null,null,null,null,"",null,"□","富士見市",false,"南西部地域:富士見市","",null,"□","三郷市",false,"東部地域:三郷市","",null,"□","伊奈町",{"$f":"IF(BX113=\"☑\",TRUE)","v":false},{"$f":"\"県央地域:\"&BY113","v":"県央地域:伊奈町"},"",null,"□","毛呂山町",false,"川越比企地域:毛呂山町","",null,"□","日高市",{"$f":"IF(CJ113=\"☑\",TRUE)","v":false},{"$f":"\"西部地域:\"&CK113","v":"西部地域:日高市"},"",null,"□","蓮田市",false,"利根地域:蓮田市","",null,"□","神川町",false,"北部地域:神川町","",null,"□","小鹿野町",{"$f":"IF(DB113=\"☑\",TRUE)","v":false},{"$f":"\"秩父地域:\"&DC113","v":"秩父地域:小鹿野町"},"",null,null,null,null,null,null,null,null,null,null,{"$f":"IF(#REF!=\"☑\",TRUE)","v":{"$error":"#REF!"}},{"$f":"IF(DQ113,#REF!,\"\")","v":{"$error":"#REF!"}}]
[null,null,null,null,null,null,null,null,null,null,null,null,null,null,null,null,null,null,"□","その他（買物）",false,"","□","クリーニング",false,{"$f":"IF(Y114,X114,\"\")","v":""},"□","個別移送サービス",false,"","□","ペット",false,"","□","その他（運動・たまり場）",false,"","□","その他（設備・施設・場所貸し）",false,"","□","ゲームセンター",false,"","□","理容・美容",false,"",null,"□","桜区",false,"さいたま市:桜区","",null,null,null,null,null,"",null,"□","ふじみ野市",false,"南西部地域:ふじみ野市","",null,"□","吉川市",false,"東部地域:吉川市","",null,null,null,null,null,"",null,"□","越生町",false,"川越比企地域:越生町","",null,null,null,null,null,"",null,"□","幸手市",false,"利根地域:幸手市","",null,"□","上里町",false,"北部地域:上里町","",null,null,null,null,null,"",null,null,null,null,null,null,null,null,null,null,{"$f":"IF(#REF!=\"☑\",TRUE)","v":{"$error":"#REF!"}},{"$f":"IF(DQ114,#REF!,\"\")","v":{"$error":"#REF!"}}]
[null,null,null,null,null,null,null,null,null,null,null,null,null,null,null,null,null,null,null,null,null,null,"□","その他（宅配・デリバリー）",false,{"$f":"IF(Y115,X115,\"\")","v":""},"□","交通機関サービス",false,"","□","その他（出張サービス）",false,"",null,null,null,null,null,null,null,null,"□","旅行・レジャー",false,"","□","成年後見・相続",false,"",null,"□","浦和区",false,"さいたま市:浦和区","",null,null,null,null,null,"",null,"□","三芳町",false,"南西部地域:三芳町","",null,"□","松伏町",false,"東部地域:松伏町","",null,null,null,null,null,"",null,"□","滑川町",false,"川越比企地域:滑川町","",null,null,null,null,null,"",null,"□","白岡市",false,"利根地域:白岡市","",null,"□","寄居町",false,"北部地域:寄居町","",null,null,null,null,null,""]
[null,null,null,null,null,null,null,null,null,null,null,null,null,null,null,null,null,null,null,null,null,null,null,null,null,null,"□","その他（送迎・移動支援）",false,"",null,null,null,"",null,null,null,{"$f":"IF(AK116,AJ116,\"\")","v":""},null,null,null,{"$f":"IF(AO116,AN116,\"\")","v":""},"□","パソコン・スマホ教室",false,"","□","その他（生活サービス）",false,"",null,"□","南区",false,"さいたま市:南区","",null,null,null,null,null,"",null,null,null,null,null,"",null,null,null,null,null,"",null,null,null,null,null,"",null,"□","嵐山町",false,"川越比企地域:嵐山町","",null,null,null,null,null,"",null,"□","宮代町",false,"利根地域:宮代町","",null,null,null,null,null,"",null,null,null,null,null,""]
[null,null,null,null,null,null,null,null,null,null,null,null,null,null,null,null,null,null,null,null,null,null,null,null,null,null,null,null,null,null,null,null,null,null,null,null,null,null,null,null,null,null,"□","その他（学び・趣味）",false,"",null,null,null,null,null,"□","緑区",false,"さいたま市:緑区","",null,null,null,null,null,"",null,null,null,null,null,"",null,null,null,null,null,"",null,null,null,null,null,"",null,"□","小川町",false,"川越比企地域:小川町","",null,null,null,null,null,"",null,"□","杉戸町",false,"利根地域:杉戸町","",null,null,null,null,null,"",null,null,null,null,null,""]
[null,null,null,null,null,null,null,null,null,null,null,null,null,null,null,null,null,null,null,null,null,null,null,null,null,null,null,null,null,null,null,null,null,null,null,null,null,null,null,null,null,null,null,null,null,null,null,null,null,null,null,"□","岩槻区",{"$f":"IF(AZ118=\"☑\",TRUE)","v":false},"さいたま市:岩槻区","",null,null,null,null,null,"",null,null,null,null,null,"",null,null,null,null,null,"",null,null,null,null,null,"",null,"□","川島町",false,"川越比企地域:川島町","",null,null,null,null,null,"",null,null,null,null,null,"",null,null,null,null,null,"",null,null,null,null,null,""]
[null,null,null,null,null,null,null,null,null,null,null,null,null,null,null,null,null,null,null,null,null,null,null,null,null,null,null,null,null,null,null,null,null,null,null,null,null,null,null,null,null,null,null,null,null,null,null,null,null,null,null,null,null,null,null,null,null,null,null,null,null,null,null,null,null,null,null,null,null,null,null,null,null,null,null,null,null,null,null,null,null,"□","吉見町",false,"川越比企地域:吉見町","",null,null,null,null,null,"",null,null,null,null,null,"",null,null,null,null,null,"",null,null,null,null,null,""]
[null,null,null,null,null,null,null,null,null,null,null,null,null,null,null,null,null,null,null,null,null,null,null,null,null,null,null,null,null,null,null,null,null,null,null,null,null,null,null,null,null,null,null,null,null,null,null,null,null,null,null,null,null,null,null,null,null,null,null,null,null,null,null,null,null,null,null,null,null,null,null,null,null,null,null,null,null,null,null,null,null,"□","鳩山町",false,"川越比企地域:鳩山町","",null,null,null,null,null,"",null,null,null,null,null,"",null,null,null,null,null,"",null,null,null,null,null,""]
[null,null,null,null,null,null,null,null,null,null,null,null,null,null,null,null,null,null,null,null,null,null,null,null,null,null,null,null,null,null,null,null,null,null,null,null,null,null,null,null,null,null,null,null,null,null,null,null,null,null,null,null,null,null,null,null,null,null,null,null,null,null,null,null,null,null,null,null,null,null,null,null,null,null,null,null,null,null,null,null,null,"□","ときがわ町",false,"川越比企地域:ときがわ町","",null,null,null,null,null,"",null,null,null,null,null,"",null,null,null,null,null,"",null,null,null,null,null,""]
[null,null,null,null,null,null,null,null,null,null,null,null,null,null,null,null,null,null,null,null,null,null,null,null,null,null,null,null,null,null,null,null,null,null,null,null,null,null,null,null,null,null,null,null,null,null,null,null,null,null,null,null,null,null,null,null,null,null,null,null,null,null,null,null,null,null,null,null,null,null,null,null,null,null,null,null,null,null,null,null,null,"□","東秩父村",false,"川越比企地域:東秩父村","",null,null,null,null,null,"",null,null,null,null,null,"",null,null,null,null,null,"",null,null,null,null,null,""]
[8,null,null,null,null,null,null,null,null,null,null,null,null,null,null,null,null,null,"□","配送",{"$f":"IF(S123=\"☑\",TRUE)","v":false},{"$f":"IF(U123,T123,\"\")","v":""},"□","弁当配達",{"$f":"IF(W123=\"☑\",TRUE)","v":false},{"$f":"IF(Y123,X123,\"\")","v":""},"□","理容・美容（送迎）",{"$f":"IF(AA123=\"☑\",TRUE)","v":false},{"$f":"IF(AC123,AB123,\"\")","v":""},"□","家事代行・掃除・片付け",{"$f":"IF(AE123=\"☑\",TRUE)","v":false},{"$f":"IF(AG123,AF123,\"\")","v":""},"□","フィットネス・ジム（運動）",{"$f":"IF(AI123=\"☑\",TRUE)","v":false},{"$f":"IF(AK123,AJ123,\"\")","v":""},"□","車イス対応（バリアフリー）",{"$f":"IF(AM123=\"☑\",TRUE)","v":false},{"$f":"IF(AO123,AN123,\"\")","v":""},"□","講座・教室・イベント",{"$f":"IF(AQ123=\"☑\",TRUE)","v":false},{"$f":"IF(AS123,AR123,\"\")","v":""},"□","防犯・見守り",{"$f":"IF(AU123=\"☑\",TRUE)","v":false},{"$f":"IF(AW123,AV123,\"\")","v":""},{"$f":"_xludf.TEXTJOIN(\",\",TRUE,V123:V136,Z123:Z136,AD123:AD136,AH123:AH136,AL123:AL136,AP123:AP136,AT123:AT136,AX123:AX136)","v":""},"□","西区",{"$f":"IF(AZ123=\"☑\",TRUE)","v":false},{"$f":"\"さいたま市:\"&BA123","v":"さいたま市:西区"},{"$f":"IF(BB123,BC123,\"\")","v":""},{"$f":"_xludf.TEXTJOIN(\",\",TRUE,BD123:BD136)","v":""},"□","川口市",{"$f":"IF(BF123=\"☑\",TRUE)","v":false},{"$f":"\"南部地域:\"&BG123","v":"南部地域:川口市"},{"$f":"IF(BH123,BI123,\"\")","v":""},{"$f":"_xludf.TEXTJOIN(\",\",TRUE,BJ123:BJ136)","v":""},"□","朝霞市",{"$f":"IF(BL123=\"☑\",TRUE)","v":false},{"$f":"\"南西部地域:\"&BM123","v":"南西部地域:朝霞市"},{"$f":"IF(BN123,BO123,\"\")","v":""},{"$f":"_xludf.TEXTJOIN(\",\",TRUE,BP123:BP136)","v":""},"□","春日部市",{"$f":"IF(BR123=\"☑\",TRUE)","v":false},{"$f":"\"東部地域:\"&BS123","v":"東部地域:春日部市"},{"$f":"IF(BT123,BU123,\"\")","v":""},{"$f":"_xludf.TEXTJOIN(\",\",TRUE,BV123:BV136)","v":""},"□","鴻巣市",{"$f":"IF(BX123=\"☑\",TRUE)","v":false},{"$f":"\"県央地域:\"&BY123","v":"県央地域:鴻巣市"},{"$f":"IF(BZ123,CA123,\"\")","v":""},{"$f":"_xludf.TEXTJOIN(\",\",TRUE,CB123:CB136)","v":""},"□","川越市",{"$f":"IF(CD123=\"☑\",TRUE)","v":false},{"$f":"\"川越比企地域:\"&CE123","v":"川越比企地域:川越市"},{"$f":"IF(CF123,CG123,\"\")","v":""},{"$f":"_xludf.TEXTJOIN(\",\",TRUE,CH123:CH136)","v":""},"□","所沢市",{"$f":"IF(CJ123=\"☑\",TRUE)","v":false},{"$f":"\"西部地域:\"&CK123","v":"西部地域:所沢市"},{"$f":"IF(CL123,CM123,\"\")","v":""},{"$f":"_xludf.TEXTJOIN(\",\",TRUE,CN123:CN136)","v":""},"□","行田市",{"$f":"IF(CP123=\"☑\",TRUE)","v":false},{"$f":"\"利根地域:\"&CQ123","v":"利根地域:行田市"},{"$f":"IF(CR123,CS123,\"\")","v":""},{"$f":"_xludf.TEXTJOIN(\",\",TRUE,CT123:CT136)","v":""},"□","熊谷市",{"$f":"IF(CV123=\"☑\",TRUE)","v":false},{"$f":"\"北部地域:\"&CW123","v":"北部地域:熊谷市"},{"$f":"IF(CX123,CY123,\"\")","v":""},{"$f":"_xludf.TEXTJOIN(\",\",TRUE,CZ123:CZ136)","v":""},"□","秩父市",{"$f":"IF(DB123=\"☑\",TRUE)","v":false},{"$f":"\"秩父地域:\"&DC123","v":"秩父地域:秩父市"},{"$f":"IF(DD123,DE123,\"\")","v":""},{"$f":"_xludf.TEXTJOIN(\",\",TRUE,DF123:DF136)","v":""},{"$f":"_xlfn.TEXTJOIN(\",\",TRUE,BE123,BK123,BQ123,BW123,CC123,CI123,CO123,CU123,DA123,DG123)","v":""},null,null,null,null,null,null,null,null,{"$f":"IF(#REF!=\"☑\",TRUE)","v":{"$error":"#REF!"}},{"$f":"IF(DQ123,#REF!,\"\")","v":{"$error":"#REF!"}},{"$f":"_xludf.TEXTJOIN(\",\",TRUE,DR123:DR136)","v":{"$error":"#VALUE!"}}]
[null,null,null,null,null,null,null,null,null,null,null,null,null,null,null,null,null,null,"□","買物サポート",false,"","□","料理デリバリー（出前）",false,"","□","フィットネス・ジム（送迎）",{"$f":"IF(AA124=\"☑\",TRUE)","v":false},{"$f":"IF(AC124,AB124,\"\")","v":""},"□","出張料理",{"$f":"IF(AE124=\"☑\",TRUE)","v":false},{"$f":"IF(AG124,AF124,\"\")","v":""},"□","温泉・銭湯（たまり場）",false,"","□","多目的トイレ",false,"","□","習い事",{"$f":"IF(AQ124=\"☑\",TRUE)","v":false},{"$f":"IF(AS124,AR124,\"\")","v":""},"□","金融・保険",false,"",null,"□","北区",{"$f":"IF(AZ124=\"☑\",TRUE)","v":false},{"$f":"\"さいたま市:\"&BA124","v":"さいたま市:北区"},{"$f":"IF(BB124,BC124,\"\")","v":""},null,"□","蕨市",{"$f":"IF(BF124=\"☑\",TRUE)","v":false},{"$f":"\"南部地域:\"&BG124","v":"南部地域:蕨市"},{"$f":"IF(BH124,BI124,\"\")","v":""},null,"□","志木市",{"$f":"IF(BL124=\"☑\",TRUE)","v":false},{"$f":"\"南西部地域:\"&BM124","v":"南西部地域:志木市"},{"$f":"IF(BN124,BO124,\"\")","v":""},null,"□","草加市",{"$f":"IF(BR124=\"☑\",TRUE)","v":false},{"$f":"\"東部地域:\"&BS124","v":"東部地域:草加市"},"",null,"□","上尾市",{"$f":"IF(BX124=\"☑\",TRUE)","v":false},{"$f":"\"県央地域:\"&BY124","v":"県央地域:上尾市"},{"$f":"IF(BZ124,CA124,\"\")","v":""},null,"□","東松山市",{"$f":"IF(CD124=\"☑\",TRUE)","v":false},{"$f":"\"川越比企地域:\"&CE124","v":"川越比企地域:東松山市"},{"$f":"IF(CF124,CG124,\"\")","v":""},null,"□","飯能市",{"$f":"IF(CJ124=\"☑\",TRUE)","v":false},{"$f":"\"西部地域:\"&CK124","v":"西部地域:飯能市"},{"$f":"IF(CL124,CM124,\"\")","v":""},null,"□","加須市",{"$f":"IF(CP124=\"☑\",TRUE)","v":false},{"$f":"\"利根地域:\"&CQ124","v":"利根地域:加須市"},{"$f":"IF(CR124,CS124,\"\")","v":""},null,"□","本庄市",{"$f":"IF(CV124=\"☑\",TRUE)","v":false},{"$f":"\"北部地域:\"&CW124","v":"北部地域:本庄市"},{"$f":"IF(CX124,CY124,\"\")","v":""},null,"□","横瀬町",{"$f":"IF(DB124=\"☑\",TRUE)","v":false},{"$f":"\"秩父地域:\"&DC124","v":"秩父地域:横瀬町"},{"$f":"IF(DD124,DE124,\"\")","v":""},null,null,null,null,null,null,null,null,null,null,null,{"$f":"IF(DQ124,#REF!,\"\")","v":""}]
[null,null,null,null,null,null,null,null,null,null,null,null,null,null,null,null,null,null,"□","買物代行",false,"","□","食材宅配",false,"","□","温泉・銭湯（送迎）",false,"","□","屋外作業・力仕事",false,"","□","カフェ・ファーストフード",false,"","□","休憩スペース",false,"","□","映画館",false,"","□","住宅・リフォーム",false,"",null,"□","大宮区",false,"さいたま市:大宮区","",null,"□","戸田市",{"$f":"IF(BF125=\"☑\",TRUE)","v":false},{"$f":"\"南部地域:\"&BG125","v":"南部地域:戸田市"},"",null,"□","和光市",false,"南西部地域:和光市","",null,"□","越谷市",false,"東部地域:越谷市","",null,"□","桶川市",{"$f":"IF(BX125=\"☑\",TRUE)","v":false},{"$f":"\"県央地域:\"&BY125","v":"県央地域:桶川市"},"",null,"□","坂戸市",false,"川越比企地域:坂戸市","",null,"□","狭山市",{"$f":"IF(CJ125=\"☑\",TRUE)","v":false},{"$f":"\"西部地域:\"&CK125","v":"西部地域:狭山市"},"",null,"□","羽生市",false,"利根地域:羽生市","",null,"□","深谷市",false,"北部地域:深谷市","",null,"□","皆野町",{"$f":"IF(DB125=\"☑\",TRUE)","v":false},{"$f":"\"秩父地域:\"&DC125","v":"秩父地域:皆野町"},"",null,null,null,null,null,null,null,null,null,null,{"$f":"IF(#REF!=\"☑\",TRUE)","v":{"$error":"#REF!"}},{"$f":"IF(DQ125,#REF!,\"\")","v":{"$error":"#REF!"}}]
[null,null,null,null,null,null,null,null,null,null,null,null,null,null,null,null,null,null,"□","移動販売",false,"","□","日用品配達",false,"","□","整体・マッサージ（送迎）",false,"","□","整体・マッサージ（出張）",false,"","□","飲食店",false,"","□","駐車場",false,"","□","カラオケ店",false,"","□","パソコン・スマートフォン",false,"",null,"□","見沼区",false,"さいたま市:見沼区","",null,null,null,null,null,"",null,"□","新座市",false,"南西部地域:新座市","",null,"□","八潮市",false,"東部地域:八潮市","",null,"□","北本市",{"$f":"IF(BX126=\"☑\",TRUE)","v":false},{"$f":"\"県央地域:\"&BY126","v":"県央地域:北本市"},"",null,"□","鶴ヶ島市",false,"川越比企地域:鶴ヶ島市","",null,"□","入間市",{"$f":"IF(CJ126=\"☑\",TRUE)","v":false},{"$f":"\"西部地域:\"&CK126","v":"西部地域:入間市"},"",null,"□","久喜市",false,"利根地域:久喜市","",null,"□","美里町",false,"北部地域:美里町","",null,"□","長瀞町",{"$f":"IF(DB126=\"☑\",TRUE)","v":false},{"$f":"\"秩父地域:\"&DC126","v":"秩父地域:長瀞町"},""]
[null,null,null,null,null,null,null,null,null,null,null,null,null,null,null,null,null,null,"□","割引サービス",false,"","□","薬・介護用品配達",false,"","□","乗り合いサービス",false,"","□","理容・美容（出張）",false,"","□","イートインスペース",false,"","□","貸しスペース",false,"","□","麻雀・将棋・囲碁",false,"","□","認知症サポート企業",false,"",null,"□","中央区",false,"さいたま市:中央区","",null,null,null,null,null,"",null,"□","富士見市",false,"南西部地域:富士見市","",null,"□","三郷市",false,"東部地域:三郷市","",null,"□","伊奈町",{"$f":"IF(BX127=\"☑\",TRUE)","v":false},{"$f":"\"県央地域:\"&BY127","v":"県央地域:伊奈町"},"",null,"□","毛呂山町",false,"川越比企地域:毛呂山町","",null,"□","日高市",{"$f":"IF(CJ127=\"☑\",TRUE)","v":false},{"$f":"\"西部地域:\"&CK127","v":"西部地域:日高市"},"",null,"□","蓮田市",false,"利根地域:蓮田市","",null,"□","神川町",false,"北部地域:神川町","",null,"□","小鹿野町",{"$f":"IF(DB127=\"☑\",TRUE)","v":false},{"$f":"\"秩父地域:\"&DC127","v":"秩父地域:小鹿野町"},"",null,null,null,null,null,null,null,null,null,null,{"$f":"IF(#REF!=\"☑\",TRUE)","v":{"$error":"#REF!"}},{"$f":"IF(DQ127,#REF!,\"\")","v":{"$error":"#REF!"}}]
[null,null,null,null,null,null,null,null,null,null,null,null,null,null,null,null,null,null,"□","その他（買物）",false,"","□","クリーニング",false,{"$f":"IF(Y128,X128,\"\")","v":""},"□","個別移送サービス",false,"","□","ペット",false,"","□","その他（運動・たまり場）",false,"","□","その他（設備・施設・場所貸し）",false,"","□","ゲームセンター",false,"","□","理容・美容",false,"",null,"□","桜区",false,"さいたま市:桜区","",null,null,null,null,null,"",null,"□","ふじみ野市",false,"南西部地域:ふじみ野市","",null,"□","吉川市",false,"東部地域:吉川市","",null,null,null,null,null,"",null,"□","越生町",false,"川越比企地域:越生町","",null,null,null,null,null,"",null,"□","幸手市",false,"利根地域:幸手市","",null,"□","上里町",false,"北部地域:上里町","",null,null,null,null,null,"",null,null,null,null,null,null,null,null,null,null,{"$f":"IF(#REF!=\"☑\",TRUE)","v":{"$error":"#REF!"}},{"$f":"IF(DQ128,#REF!,\"\")","v":{"$error":"#REF!"}}]
[null,null,null,null,null,null,null,null,null,null,null,null,null,null,null,null,null,null,null,null,null,null,"□","その他（宅配・デリバリー）",false,{"$f":"IF(Y129,X129,\"\")","v":""},"□","交通機関サービス",false,"","□","その他（出張サービス）",false,"",null,null,null,null,null,null,null,null,"□","旅行・レジャー",false,"","□","成年後見・相続",false,"",null,"□","浦和区",false,"さいたま市:浦和区","",null,null,null,null,null,"",null,"□","三芳町",false,"南西部地域:三芳町","",null,"□","松伏町",false,"東部地域:松伏町","",null,null,null,null,null,"",null,"□","滑川町",false,"川越比企地域:滑川町","",null,null,null,null,null,"",null,"□","白岡市",false,"利根地域:白岡市","",null,"□","寄居町",false,"北部地域:寄居町","",null,null,null,null,null,""]
[null,null,null,null,null,null,null,null,null,null,null,null,null,null,null,null,null,null,null,null,null,null,null,null,null,null,"□","その他（送迎・移動支援）",false,"",null,null,null,"",null,null,null,{"$f":"IF(AK130,AJ130,\"\")","v":""},null,null,null,{"$f":"IF(AO130,AN130,\"\")","v":""},"□","パソコン・スマホ教室",false,"","□","その他（生活サービス）",false,"",null,"□","南区",false,"さいたま市:南区","",null,null,null,null,null,"",null,null,null,null,null,"",null,null,null,null,null,"",null,null,null,null,null,"",null,"□","嵐山町",false,"川越比企地域:嵐山町","",null,null,null,null,null,"",null,"□","宮代町",false,"利根地域:宮代町","",null,null,null,null,null,"",null,null,null,null,null,""]
[null,null,null,null,null,null,null,null,null,null,null,null,null,null,null,null,null,null,null,null,null,null,null,null,null,null,null,null,null,null,null,null,null,null,null,null,null,null,null,null,null,null,"□","その他（学び・趣味）",false,"",null,null,null,null,null,"□","緑区",false,"さいたま市:緑区","",null,null,null,null,null,"",null,null,null,null,null,"",null,null,null,null,null,"",null,null,null,null,null,"",null,"□","小川町",false,"川越比企地域:小川町","",null,null,null,null,null,"",null,"□","杉戸町",false,"利根地域:杉戸町","",null,null,null,null,null,"",null,null,null,null,null,""]
[null,null,null,null,null,null,null,null,null,null,null,null,null,null,null,null,null,null,null,null,null,null,null,null,null,null,null,null,null,null,null,null,null,null,null,null,null,null,null,null,null,null,null,null,null,null,null,null,null,null,null,"□","岩槻区",{"$f":"IF(AZ132=\"☑\",TRUE)","v":false},"さいたま市:岩槻区","",null,null,null,null,null,"",null,null,null,null,null,"",null,null,null,null,null,"",null,null,null,null,null,"",null,"□","川島町",false,"川越比企地域:川島町","",null,null,null,null,null,"",null,null,null,null,null,"",null,null,null,null,null,"",null,null,null,null,null,""]
[null,null,null,null,null,null,null,null,null,null,null,null,null,null,null,null,null,null,null,null,null,null,null,null,null,null,null,null,null,null,null,null,null,null,null,null,null,null,null,null,null,null,null,null,null,null,null,null,null,null,null,null,null,null,null,null,null,null,null,null,null,null,null,null,null,null,null,null,null,null,null,null,null,null,null,null,null,null,null,null,null,"□","吉見町",false,"川越比企地域:吉見町","",null,null,null,null,null,"",null,null,null,null,null,"",null,null,null,null,null,"",null,null,null,null,null,""]
[null,null,null,null,null,null,null,null,null,null,null,null,null,null,null,null,null,null,null,null,null,null,null,null,null,null,null,null,null,null,null,null,null,null,null,null,null,null,null,null,null,null,null,null,null,null,null,null,null,null,null,null,null,null,null,null,null,null,null,null,null,null,null,null,null,null,null,null,null,null,null,null,null,null,null,null,null,null,null,null,null,"□","鳩山町",false,"川越比企地域:鳩山町","",null,null,null,null,null,"",null,null,null,null,null,"",null,null,null,null,null,"",null,null,null,null,null,""]
[null,null,null,null,null,null,null,null,null,null,null,null,null,null,null,null,null,null,null,null,null,null,null,null,null,null,null,null,null,null,null,null,null,null,null,null,null,null,null,null,null,null,null,null,null,null,null,null,null,null,null,null,null,null,null,null,null,null,null,null,null,null,null,null,null,null,null,null,null,null,null,null,null,null,null,null,null,null,null,null,null,"□","ときがわ町",false,"川越比企地域:ときがわ町","",null,null,null,null,null,"",null,null,null,null,null,"",null,null,null,null,null,"",null,null,null,null,null,""]
[null,null,null,null,null,null,null,null,null,null,null,null,null,null,null,null,null,null,null,null,null,null,null,null,null,null,null,null,null,null,null,null,null,null,null,null,null,null,null,null,null,null,null,null,null,null,null,null,null,null,null,null,null,null,null,null,null,null,null,null,null,null,null,null,null,null,null,null,null,null,null,null,null,null,null,null,null,null,null,null,null,"□","東秩父村",false,"川越比企地域:東秩父村","",null,null,null,null,null,"",null,null,null,null,null,"",null,null,null,null,null,"",null,null,null,null,null,""]
[9,null,null,null,null,null,null,null,null,null,null,null,null,null,null,null,null,null,"□","配送",{"$f":"IF(S137=\"☑\",TRUE)","v":false},{"$f":"IF(U137,T137,\"\")","v":""},"□","弁当配達",{"$f":"IF(W137=\"☑\",TRUE)","v":false},{"$f":"IF(Y137,X137,\"\")","v":""},"□","理容・美容（送迎）",{"$f":"IF(AA137=\"☑\",TRUE)","v":false},{"$f":"IF(AC137,AB137,\"\")","v":""},"□","家事代行・掃除・片付け",{"$f":"IF(AE137=\"☑\",TRUE)","v":false},{"$f":"IF(AG137,AF137,\"\")","v":""},"□","フィットネス・ジム（運動）",{"$f":"IF(AI137=\"☑\",TRUE)","v":false},{"$f":"IF(AK137,AJ137,\"\")","v":""},"□","車イス対応（バリアフリー）",{"$f":"IF(AM137=\"☑\",TRUE)","v":false},{"$f":"IF(AO137,AN137,\"\")","v":""},"□","講座・教室・イベント",{"$f":"IF(AQ137=\"☑\",TRUE)","v":false},{"$f":"IF(AS137,AR137,\"\")","v":""},"□","防犯・見守り",{"$f":"IF(AU137=\"☑\",TRUE)","v":false},{"$f":"IF(AW137,AV137,\"\")","v":""},{"$f":"_xludf.TEXTJOIN(\",\",TRUE,V137:V150,Z137:Z150,AD137:AD150,AH137:AH150,AL137:AL150,AP137:AP150,AT137:AT150,AX137:AX150)","v":""},"□","西区",{"$f":"IF(AZ137=\"☑\",TRUE)","v":false},{"$f":"\"さいたま市:\"&BA137","v":"さいたま市:西区"},{"$f":"IF(BB137,BC137,\"\")","v":""},{"$f":"_xludf.TEXTJOIN(\",\",TRUE,BD137:BD150)","v":""},"□","川口市",{"$f":"IF(BF137=\"☑\",TRUE)","v":false},{"$f":"\"南部地域:\"&BG137","v":"南部地域:川口市"},{"$f":"IF(BH137,BI137,\"\")","v":""},{"$f":"_xludf.TEXTJOIN(\",\",TRUE,BJ137:BJ150)","v":""},"□","朝霞市",{"$f":"IF(BL137=\"☑\",TRUE)","v":false},{"$f":"\"南西部地域:\"&BM137","v":"南西部地域:朝霞市"},{"$f":"IF(BN137,BO137,\"\")","v":""},{"$f":"_xludf.TEXTJOIN(\",\",TRUE,BP137:BP150)","v":""},"□","春日部市",{"$f":"IF(BR137=\"☑\",TRUE)","v":false},{"$f":"\"東部地域:\"&BS137","v":"東部地域:春日部市"},{"$f":"IF(BT137,BU137,\"\")","v":""},{"$f":"_xludf.TEXTJOIN(\",\",TRUE,BV137:BV150)","v":""},"□","鴻巣市",{"$f":"IF(BX137=\"☑\",TRUE)","v":false},{"$f":"\"県央地域:\"&BY137","v":"県央地域:鴻巣市"},{"$f":"IF(BZ137,CA137,\"\")","v":""},{"$f":"_xludf.TEXTJOIN(\",\",TRUE,CB137:CB150)","v":""},"□","川越市",{"$f":"IF(CD137=\"☑\",TRUE)","v":false},{"$f":"\"川越比企地域:\"&CE137","v":"川越比企地域:川越市"},{"$f":"IF(CF137,CG137,\"\")","v":""},{"$f":"_xludf.TEXTJOIN(\",\",TRUE,CH137:CH150)","v":""},"□","所沢市",{"$f":"IF(CJ137=\"☑\",TRUE)","v":false},{"$f":"\"西部地域:\"&CK137","v":"西部地域:所沢市"},{"$f":"IF(CL137,CM137,\"\")","v":""},{"$f":"_xludf.TEXTJOIN(\",\",TRUE,CN137:CN150)","v":""},"□","行田市",{"$f":"IF(CP137=\"☑\",TRUE)","v":false},{"$f":"\"利根地域:\"&CQ137","v":"利根地域:行田市"},{"$f":"IF(CR137,CS137,\"\")","v":""},{"$f":"_xludf.TEXTJOIN(\",\",TRUE,CT137:CT150)","v":""},"□","熊谷市",{"$f":"IF(CV137=\"☑\",TRUE)","v":false},{"$f":"\"北部地域:\"&CW137","v":"北部地域:熊谷市"},{"$f":"IF(CX137,CY137,\"\")","v":""},{"$f":"_xludf.TEXTJOIN(\",\",TRUE,CZ137:CZ150)","v":""},"□","秩父市",{"$f":"IF(DB137=\"☑\",TRUE)","v":false},{"$f":"\"秩父地域:\"&DC137","v":"秩父地域:秩父市"},{"$f":"IF(DD137,DE137,\"\")","v":""},{"$f":"_xludf.TEXTJOIN(\",\",TRUE,DF137:DF150)","v":""},{"$f":"_xlfn.TEXTJOIN(\",\",TRUE,BE137,BK137,BQ137,BW137,CC137,CI137,CO137,CU137,DA137,DG137)","v":""},null,null,null,null,null,null,null,null,{"$f":"IF(#REF!=\"☑\",TRUE)","v":{"$error":"#REF!"}},{"$f":"IF(DQ137,#REF!,\"\")","v":{"$error":"#REF!"}},{"$f":"_xludf.TEXTJOIN(\",\",TRUE,DR137:DR150)","v":{"$error":"#VALUE!"}}]
[null,null,null,null,null,null,null,null,null,null,null,null,null,null,null,null,null,null,"□","買物サポート",false,"","□","料理デリバリー（出前）",false,"","□","フィットネス・ジム（送迎）",{"$f":"IF(AA138=\"☑\",TRUE)","v":false},{"$f":"IF(AC138,AB138,\"\")","v":""},"□","出張料理",{"$f":"IF(AE138=\"☑\",TRUE)","v":false},{"$f":"IF(AG138,AF138,\"\")","v":""},"□","温泉・銭湯（たまり場）",false,"","□","多目的トイレ",false,"","□","習い事",{"$f":"IF(AQ138=\"☑\",TRUE)","v":false},{"$f":"IF(AS138,AR138,\"\")","v":""},"□","金融・保険",false,"",null,"□","北区",{"$f":"IF(AZ138=\"☑\",TRUE)","v":false},{"$f":"\"さいたま市:\"&BA138","v":"さいたま市:北区"},{"$f":"IF(BB138,BC138,\"\")","v":""},null,"□","蕨市",{"$f":"IF(BF138=\"☑\",TRUE)","v":false},{"$f":"\"南部地域:\"&BG138","v":"南部地域:蕨市"},{"$f":"IF(BH138,BI138,\"\")","v":""},null,"□","志木市",{"$f":"IF(BL138=\"☑\",TRUE)","v":false},{"$f":"\"南西部地域:\"&BM138","v":"南西部地域:志木市"},{"$f":"IF(BN138,BO138,\"\")","v":""},null,"□","草加市",{"$f":"IF(BR138=\"☑\",TRUE)","v":false},{"$f":"\"東部地域:\"&BS138","v":"東部地域:草加市"},"",null,"□","上尾市",{"$f":"IF(BX138=\"☑\",TRUE)","v":false},{"$f":"\"県央地域:\"&BY138","v":"県央地域:上尾市"},{"$f":"IF(BZ138,CA138,\"\")","v":""},null,"□","東松山市",{"$f":"IF(CD138=\"☑\",TRUE)","v":false},{"$f":"\"川越比企地域:\"&CE138","v":"川越比企地域:東松山市"},{"$f":"IF(CF138,CG138,\"\")","v":""},null,"□","飯能市",{"$f":"IF(CJ138=\"☑\",TRUE)","v":false},{"$f":"\"西部地域:\"&CK138","v":"西部地域:飯能市"},{"$f":"IF(CL138,CM138,\"\")","v":""},null,"□","加須市",{"$f":"IF(CP138=\"☑\",TRUE)","v":false},{"$f":"\"利根地域:\"&CQ138","v":"利根地域:加須市"},{"$f":"IF(CR138,CS138,\"\")","v":""},null,"□","本庄市",{"$f":"IF(CV138=\"☑\",TRUE)","v":false},{"$f":"\"北部地域:\"&CW138","v":"北部地域:本庄市"},{"$f":"IF(CX138,CY138,\"\")","v":""},null,"□","横瀬町",{"$f":"IF(DB138=\"☑\",TRUE)","v":false},{"$f":"\"秩父地域:\"&DC138","v":"秩父地域:横瀬町"},{"$f":"IF(DD138,DE138,\"\")","v":""},null,null,null,null,null,null,null,null,null,null,null,{"$f":"IF(DQ138,#REF!,\"\")","v":""}]
[null,null,null,null,null,null,null,null,null,null,null,null,null,null,null,null,null,null,"□","買物代行",false,"","□","食材宅配",false,"","□","温泉・銭湯（送迎）",false,"","□","屋外作業・力仕事",false,"","□","カフェ・ファーストフード",false,"","□","休憩スペース",false,"","□","映画館",false,"","□","住宅・リフォーム",false,"",null,"□","大宮区",false,"さいたま市:大宮区","",null,"□","戸田市",{"$f":"IF(BF139=\"☑\",TRUE)","v":false},{"$f":"\"南部地域:\"&BG139","v":"南部地域:戸田市"},"",null,"□","和光市",false,"南西部地域:和光市","",null,"□","越谷市",false,"東部地域:越谷市","",null,"□","桶川市",{"$f":"IF(BX139=\"☑\",TRUE)","v":false},{"$f":"\"県央地域:\"&BY139","v":"県央地域:桶川市"},"",null,"□","坂戸市",false,"川越比企地域:坂戸市","",null,"□","狭山市",{"$f":"IF(CJ139=\"☑\",TRUE)","v":false},{"$f":"\"西部地域:\"&CK139","v":"西部地域:狭山市"},"",null,"□","羽生市",false,"利根地域:羽生市","",null,"□","深谷市",false,"北部地域:深谷市","",null,"□","皆野町",{"$f":"IF(DB139=\"☑\",TRUE)","v":false},{"$f":"\"秩父地域:\"&DC139","v":"秩父地域:皆野町"},"",null,null,null,null,null,null,null,null,null,null,{"$f":"IF(#REF!=\"☑\",TRUE)","v":{"$error":"#REF!"}},{"$f":"IF(DQ139,#REF!,\"\")","v":{"$error":"#REF!"}}]
[null,null,null,null,null,null,null,null,null,null,null,null,null,null,null,null,null,null,"□","移動販売",false,"","□","日用品配達",false,"","□","整体・マッサージ（送迎）",false,"","□","整体・マッサージ（出張）",false,"","□","飲食店",false,"","□","駐車場",false,"","□","カラオケ店",false,"","□","パソコン・スマートフォン",false,"",null,"□","見沼区",false,"さいたま市:見沼区","",null,null,null,null,null,"",null,"□","新座市",false,"南西部地域:新座市","",null,"□","八潮市",false,"東部地域:八潮市","",null,"□","北本市",{"$f":"IF(BX140=\"☑\",TRUE)","v":false},{"$f":"\"県央地域:\"&BY140","v":"県央地域:北本市"},"",null,"□","鶴ヶ島市",false,"川越比企地域:鶴ヶ島市","",null,"□","入間市",{"$f":"IF(CJ140=\"☑\",TRUE)","v":false},{"$f":"\"西部地域:\"&CK140","v":"西部地域:入間市"},"",null,"□","久喜市",false,"利根地域:久喜市","",null,"□","美里町",false,"北部地域:美里町","",null,"□","長瀞町",{"$f":"IF(DB140=\"☑\",TRUE)","v":false},{"$f":"\"秩父地域:\"&DC140","v":"秩父地域:長瀞町"},""]
[null,null,null,null,null,null,null,null,null,null,null,null,null,null,null,null,null,null,"□","割引サービス",false,"","□","薬・介護用品配達",false,"","□","乗り合いサービス",false,"","□","理容・美容（出張）",false,"","□","イートインスペース",false,"","□","貸しスペース",false,"","□","麻雀・将棋・囲碁",false,"","□","認知症サポート企業",false,"",null,"□","中央区",false,"さいたま市:中央区","",null,null,null,null,null,"",null,"□","富士見市",false,"南西部地域:富士見市","",null,"□","三郷市",false,"東部地域:三郷市","",null,"□","伊奈町",{"$f":"IF(BX141=\"☑\",TRUE)","v":false},{"$f":"\"県央地域:\"&BY141","v":"県央地域:伊奈町"},"",null,"□","毛呂山町",false,"川越比企地域:毛呂山町","",null,"□","日高市",{"$f":"IF(CJ141=\"☑\",TRUE)","v":false},{"$f":"\"西部地域:\"&CK141","v":"西部地域:日高市"},"",null,"□","蓮田市",false,"利根地域:蓮田市","",null,"□","神川町",false,"北部地域:神川町","",null,"□","小鹿野町",{"$f":"IF(DB141=\"☑\",TRUE)","v":false},{"$f":"\"秩父地域:\"&DC141","v":"秩父地域:小鹿野町"},"",null,null,null,null,null,null,null,null,null,null,{"$f":"IF(#REF!=\"☑\",TRUE)","v":{"$error":"#REF!"}},{"$f":"IF(DQ141,#REF!,\"\")","v":{"$error":"#REF!"}}]
[null,null,null,null,null,null,null,null,null,null,null,null,null,null,null,null,null,null,"□","その他（買物）",false,"","□","クリーニング",false,{"$f":"IF(Y142,X142,\"\")","v":""},"□","個別移送サービス",false,"","□","ペット",false,"","□","その他（運動・たまり場）",false,"","□","その他（設備・施設・場所貸し）",false,"","□","ゲームセンター",false,"","□","理容・美容",false,"",null,"□","桜区",false,"さいたま市:桜区","",null,null,null,null,null,"",null,"□","ふじみ野市",false,"南西部地域:ふじみ野市","",null,"□","吉川市",false,"東部地域:吉川市","",null,null,null,null,null,"",null,"□","越生町",false,"川越比企地域:越生町","",null,null,null,null,null,"",null,"□","幸手市",false,"利根地域:幸手市","",null,"□","上里町",false,"北部地域:上里町","",null,null,null,null,null,"",null,null,null,null,null,null,null,null,null,null,{"$f":"IF(#REF!=\"☑\",TRUE)","v":{"$error":"#REF!"}},{"$f":"IF(DQ142,#REF!,\"\")","v":{"$error":"#REF!"}}]
[null,null,null,null,null,null,null,null,null,null,null,null,null,null,null,null,null,null,null,null,null,null,"□","その他（宅配・デリバリー）",false,{"$f":"IF(Y143,X143,\"\")","v":""},"□","交通機関サービス",false,"","□","その他（出張サービス）",false,"",null,null,null,null,null,null,null,null,"□","旅行・レジャー",false,"","□","成年後見・相続",false,"",null,"□","浦和区",false,"さいたま市:浦和区","",null,null,null,null,null,"",null,"□","三芳町",false,"南西部地域:三芳町","",null,"□","松伏町",false,"東部地域:松伏町","",null,null,null,null,null,"",null,"□","滑川町",false,"川越比企地域:滑川町","",null,null,null,null,null,"",null,"□","白岡市",false,"利根地域:白岡市","",null,"□","寄居町",false,"北部地域:寄居町","",null,null,null,null,null,""]
[null,null,null,null,null,null,null,null,null,null,null,null,null,null,null,null,null,null,null,null,null,null,null,null,null,null,"□","その他（送迎・移動支援）",false,"",null,null,null,"",null,null,null,{"$f":"IF(AK144,AJ144,\"\")","v":""},null,null,null,{"$f":"IF(AO144,AN144,\"\")","v":""},"□","パソコン・スマホ教室",false,"","□","その他（生活サービス）",false,"",null,"□","南区",false,"さいたま市:南区","",null,null,null,null,null,"",null,null,null,null,null,"",null,null,null,null,null,"",null,null,null,null,null,"",null,"□","嵐山町",false,"川越比企地域:嵐山町","",null,null,null,null,null,"",null,"□","宮代町",false,"利根地域:宮代町","",null,null,null,null,null,"",null,null,null,null,null,""]
[null,null,null,null,null,null,null,null,null,null,null,null,null,null,null,null,null,null,null,null,null,null,null,null,null,null,null,null,null,null,null,null,null,null,null,null,null,null,null,null,null,null,"□","その他（学び・趣味）",false,"",null,null,null,null,null,"□","緑区",false,"さいたま市:緑区","",null,null,null,null,null,"",null,null,null,null,null,"",null,null,null,null,null,"",null,null,null,null,null,"",null,"□","小川町",false,"川越比企地域:小川町","",null,null,null,null,null,"",null,"□","杉戸町",false,"利根地域:杉戸町","",null,null,null,null,null,"",null,null,null,null,null,""]
[null,null,null,null,null,null,null,null,null,null,null,null,null,null,null,null,null,null,null,null,null,null,null,null,null,null,null,null,null,null,null,null,null,null,null,null,null,null,null,null,null,null,null,null,null,null,null,null,null,null,null,"□","岩槻区",{"$f":"IF(AZ146=\"☑\",TRUE)","v":false},"さいたま市:岩槻区","",null,null,null,null,null,"",null,null,null,null,null,"",null,null,null,null,null,"",null,null,null,null,null,"",null,"□","川島町",false,"川越比企地域:川島町","",null,null,null,null,null,"",null,null,null,null,null,"",null,null,null,null,null,"",null,null,null,null,null,""]
[null,null,null,null,null,null,null,null,null,null,null,null,null,null,null,null,null,null,null,null,null,null,null,null,null,null,null,null,null,null,null,null,null,null,null,null,null,null,null,null,null,null,null,null,null,null,null,null,null,null,null,null,null,null,null,null,null,null,null,null,null,null,null,null,null,null,null,null,null,null,null,null,null,null,null,null,null,null,null,null,null,"□","吉見町",false,"川越比企地域:吉見町","",null,null,null,null,null,"",null,null,null,null,null,"",null,null,null,null,null,"",null,null,null,null,null,""]
[null,null,null,null,null,null,null,null,null,null,null,null,null,null,null,null,null,null,null,null,null,null,null,null,null,null,null,null,null,null,null,null,null,null,null,null,null,null,null,null,null,null,null,null,null,null,null,null,null,null,null,null,null,null,null,null,null,null,null,null,null,null,null,null,null,null,null,null,null,null,null,null,null,null,null,null,null,null,null,null,null,"□","鳩山町",false,"川越比企地域:鳩山町","",null,null,null,null,null,"",null,null,null,null,null,"",null,null,null,null,null,"",null,null,null,null,null,""]
[null,null,null,null,null,null,null,null,null,null,null,null,null,null,null,null,null,null,null,null,null,null,null,null,null,null,null,null,null,null,null,null,null,null,null,null,null,null,null,null,null,null,null,null,null,null,null,null,null,null,null,null,null,null,null,null,null,null,null,null,null,null,null,null,null,null,null,null,null,null,null,null,null,null,null,null,null,null,null,null,null,"□","ときがわ町",false,"川越比企地域:ときがわ町","",null,null,null,null,null,"",null,null,null,null,null,"",null,null,null,null,null,"",null,null,null,null,null,""]
[null,null,null,null,null,null,null,null,null,null,null,null,null,null,null,null,null,null,null,null,null,null,null,null,null,null,null,null,null,null,null,null,null,null,null,null,null,null,null,null,null,null,null,null,null,null,null,null,null,null,null,null,null,null,null,null,null,null,null,null,null,null,null,null,null,null,null,null,null,null,null,null,null,null,null,null,null,null,null,null,null,"□","東秩父村",false,"川越比企地域:東秩父村","",null,null,null,null,null,"",null,null,null,null,null,"",null,null,null,null,null,"",null,null,null,null,null,""]
[10,null,null,null,null,null,null,null,null,null,null,null,null,null,null,null,null,null,"□","配送",{"$f":"IF(S151=\"☑\",TRUE)","v":false},{"$f":"IF(U151,T151,\"\")","v":""},"□","弁当配達",{"$f":"IF(W151=\"☑\",TRUE)","v":false},{"$f":"IF(Y151,X151,\"\")","v":""},"□","理容・美容（送迎）",{"$f":"IF(AA151=\"☑\",TRUE)","v":false},{"$f":"IF(AC151,AB151,\"\")","v":""},"□","家事代行・掃除・片付け",{"$f":"IF(AE151=\"☑\",TRUE)","v":false},{"$f":"IF(AG151,AF151,\"\")","v":""},"□","フィットネス・ジム（運動）",{"$f":"IF(AI151=\"☑\",TRUE)","v":false},{"$f":"IF(AK151,AJ151,\"\")","v":""},"□","車イス対応（バリアフリー）",{"$f":"IF(AM151=\"☑\",TRUE)","v":false},{"$f":"IF(AO151,AN151,\"\")","v":""},"□","講座・教室・イベント",{"$f":"IF(AQ151=\"☑\",TRUE)","v":false},{"$f":"IF(AS151,AR151,\"\")","v":""},"□","防犯・見守り",{"$f":"IF(AU151=\"☑\",TRUE)","v":false},{"$f":"IF(AW151,AV151,\"\")","v":""},{"$f":"_xludf.TEXTJOIN(\",\",TRUE,V151:V164,Z151:Z164,AD151:AD164,AH151:AH164,AL151:AL164,AP151:AP164,AT151:AT164,AX151:AX164)","v":""},"□","西区",{"$f":"IF(AZ151=\"☑\",TRUE)","v":false},{"$f":"\"さいたま市:\"&BA151","v":"さいたま市:西区"},{"$f":"IF(BB151,BC151,\"\")","v":""},{"$f":"_xludf.TEXTJOIN(\",\",TRUE,BD151:BD164)","v":""},"□","川口市",{"$f":"IF(BF151=\"☑\",TRUE)","v":false},{"$f":"\"南部地域:\"&BG151","v":"南部地域:川口市"},{"$f":"IF(BH151,BI151,\"\")","v":""},{"$f":"_xludf.TEXTJOIN(\",\",TRUE,BJ151:BJ164)","v":""},"□","朝霞市",{"$f":"IF(BL151=\"☑\",TRUE)","v":false},{"$f":"\"南西部地域:\"&BM151","v":"南西部地域:朝霞市"},{"$f":"IF(BN151,BO151,\"\")","v":""},{"$f":"_xludf.TEXTJOIN(\",\",TRUE,BP151:BP164)","v":""},"□","春日部市",{"$f":"IF(BR151=\"☑\",TRUE)","v":false},{"$f":"\"東部地域:\"&BS151","v":"東部地域:春日部市"},{"$f":"IF(BT151,BU151,\"\")","v":""},{"$f":"_xludf.TEXTJOIN(\",\",TRUE,BV151:BV164)","v":""},"□","鴻巣市",{"$f":"IF(BX151=\"☑\",TRUE)","v":false},{"$f":"\"県央地域:\"&BY151","v":"県央地域:鴻巣市"},{"$f":"IF(BZ151,CA151,\"\")","v":""},{"$f":"_xludf.TEXTJOIN(\",\",TRUE,CB151:CB164)","v":""},"□","川越市",{"$f":"IF(CD151=\"☑\",TRUE)","v":false},{"$f":"\"川越比企地域:\"&CE151","v":"川越比企地域:川越市"},{"$f":"IF(CF151,CG151,\"\")","v":""},{"$f":"_xludf.TEXTJOIN(\",\",TRUE,CH151:CH164)","v":""},"□","所沢市",{"$f":"IF(CJ151=\"☑\",TRUE)","v":false},{"$f":"\"西部地域:\"&CK151","v":"西部地域:所沢市"},{"$f":"IF(CL151,CM151,\"\")","v":""},{"$f":"_xludf.TEXTJOIN(\",\",TRUE,CN151:CN164)","v":""},"□","行田市",{"$f":"IF(CP151=\"☑\",TRUE)","v":false},{"$f":"\"利根地域:\"&CQ151","v":"利根地域:行田市"},{"$f":"IF(CR151,CS151,\"\")","v":""},{"$f":"_xludf.TEXTJOIN(\",\",TRUE,CT151:CT164)","v":""},"□","熊谷市",{"$f":"IF(CV151=\"☑\",TRUE)","v":false},{"$f":"\"北部地域:\"&CW151","v":"北部地域:熊谷市"},{"$f":"IF(CX151,CY151,\"\")","v":""},{"$f":"_xludf.TEXTJOIN(\",\",TRUE,CZ151:CZ164)","v":""},"□","秩父市",{"$f":"IF(DB151=\"☑\",TRUE)","v":false},{"$f":"\"秩父地域:\"&DC151","v":"秩父地域:秩父市"},{"$f":"IF(DD151,DE151,\"\")","v":""},{"$f":"_xludf.TEXTJOIN(\",\",TRUE,DF151:DF164)","v":""},{"$f":"_xlfn.TEXTJOIN(\",\",TRUE,BE151,BK151,BQ151,BW151,CC151,CI151,CO151,CU151,DA151,DG151)","v":""},null,null,null,null,null,null,null,null,{"$f":"IF(#REF!=\"☑\",TRUE)","v":{"$error":"#REF!"}},{"$f":"IF(DQ151,#REF!,\"\")","v":{"$error":"#REF!"}},{"$f":"_xludf.TEXTJOIN(\",\",TRUE,DR151:DR164)","v":{"$error":"#VALUE!"}}]
[null,null,null,null,null,null,null,null,null,null,null,null,null,null,null,null,null,null,"□","買物サポート",false,"","□","料理デリバリー（出前）",false,"","□","フィットネス・ジム（送迎）",{"$f":"IF(AA152=\"☑\",TRUE)","v":false},{"$f":"IF(AC152,AB152,\"\")","v":""},"□","出張料理",{"$f":"IF(AE152=\"☑\",TRUE)","v":false},{"$f":"IF(AG152,AF152,\"\")","v":""},"□","温泉・銭湯（たまり場）",false,"","□","多目的トイレ",false,"","□","習い事",{"$f":"IF(AQ152=\"☑\",TRUE)","v":false},{"$f":"IF(AS152,AR152,\"\")","v":""},"□","金融・保険",false,"",null,"□","北区",{"$f":"IF(AZ152=\"☑\",TRUE)","v":false},{"$f":"\"さいたま市:\"&BA152","v":"さいたま市:北区"},{"$f":"IF(BB152,BC152,\"\")","v":""},null,"□","蕨市",{"$f":"IF(BF152=\"☑\",TRUE)","v":false},{"$f":"\"南部地域:\"&BG152","v":"南部地域:蕨市"},{"$f":"IF(BH152,BI152,\"\")","v":""},null,"□","志木市",{"$f":"IF(BL152=\"☑\",TRUE)","v":false},{"$f":"\"南西部地域:\"&BM152","v":"南西部地域:志木市"},{"$f":"IF(BN152,BO152,\"\")","v":""},null,"□","草加市",{"$f":"IF(BR152=\"☑\",TRUE)","v":false},{"$f":"\"東部地域:\"&BS152","v":"東部地域:草加市"},"",null,"□","上尾市",{"$f":"IF(BX152=\"☑\",TRUE)","v":false},{"$f":"\"県央地域:\"&BY152","v":"県央地域:上尾市"},{"$f":"IF(BZ152,CA152,\"\")","v":""},null,"□","東松山市",{"$f":"IF(CD152=\"☑\",TRUE)","v":false},{"$f":"\"川越比企地域:\"&CE152","v":"川越比企地域:東松山市"},{"$f":"IF(CF152,CG152,\"\")","v":""},null,"□","飯能市",{"$f":"IF(CJ152=\"☑\",TRUE)","v":false},{"$f":"\"西部地域:\"&CK152","v":"西部地域:飯能市"},{"$f":"IF(CL152,CM152,\"\")","v":""},null,"□","加須市",{"$f":"IF(CP152=\"☑\",TRUE)","v":false},{"$f":"\"利根地域:\"&CQ152","v":"利根地域:加須市"},{"$f":"IF(CR152,CS152,\"\")","v":""},null,"□","本庄市",{"$f":"IF(CV152=\"☑\",TRUE)","v":false},{"$f":"\"北部地域:\"&CW152","v":"北部地域:本庄市"},{"$f":"IF(CX152,CY152,\"\")","v":""},null,"□","横瀬町",{"$f":"IF(DB152=\"☑\",TRUE)","v":false},{"$f":"\"秩父地域:\"&DC152","v":"秩父地域:横瀬町"},{"$f":"IF(DD152,DE152,\"\")","v":""},null,null,null,null,null,null,null,null,null,null,null,{"$f":"IF(DQ152,#REF!,\"\")","v":""}]
[null,null,null,null,null,null,null,null,null,null,null,null,null,null,null,null,null,null,"□","買物代行",false,"","□","食材宅配",false,"","□","温泉・銭湯（送迎）",false,"","□","屋外作業・力仕事",false,"","□","カフェ・ファーストフード",false,"","□","休憩スペース",false,"","□","映画館",false,"","□","住宅・リフォーム",false,"",null,"□","大宮区",false,"さいたま市:大宮区","",null,"□","戸田市",{"$f":"IF(BF153=\"☑\",TRUE)","v":false},{"$f":"\"南部地域:\"&BG153","v":"南部地域:戸田市"},"",null,"□","和光市",false,"南西部地域:和光市","",null,"□","越谷市",false,"東部地域:越谷市","",null,"□","桶川市",{"$f":"IF(BX153=\"☑\",TRUE)","v":false},{"$f":"\"県央地域:\"&BY153","v":"県央地域:桶川市"},"",null,"□","坂戸市",false,"川越比企地域:坂戸市","",null,"□","狭山市",{"$f":"IF(CJ153=\"☑\",TRUE)","v":false},{"$f":"\"西部地域:\"&CK153","v":"西部地域:狭山市"},"",null,"□","羽生市",false,"利根地域:羽生市","",null,"□","深谷市",false,"北部地域:深谷市","",null,"□","皆野町",{"$f":"IF(DB153=\"☑\",TRUE)","v":false},{"$f":"\"秩父地域:\"&DC153","v":"秩父地域:皆野町"},"",null,null,null,null,null,null,null,null,null,null,{"$f":"IF(#REF!=\"☑\",TRUE)","v":{"$error":"#REF!"}},{"$f":"IF(DQ153,#REF!,\"\")","v":{"$error":"#REF!"}}]
[null,null,null,null,null,null,null,null,null,null,null,null,null,null,null,null,null,null,"□","移動販売",false,"","□","日用品配達",false,"","□","整体・マッサージ（送迎）",false,"","□","整体・マッサージ（出張）",false,"","□","飲食店",false,"","□","駐車場",false,"","□","カラオケ店",false,"","□","パソコン・スマートフォン",false,"",null,"□","見沼区",false,"さいたま市:見沼区","",null,null,null,null,null,"",null,"□","新座市",false,"南西部地域:新座市","",null,"□","八潮市",false,"東部地域:八潮市","",null,"□","北本市",{"$f":"IF(BX154=\"☑\",TRUE)","v":false},{"$f":"\"県央地域:\"&BY154","v":"県央地域:北本市"},"",null,"□","鶴ヶ島市",false,"川越比企地域:鶴ヶ島市","",null,"□","入間市",{"$f":"IF(CJ154=\"☑\",TRUE)","v":false},{"$f":"\"西部地域:\"&CK154","v":"西部地域:入間市"},"",null,"□","久喜市",false,"利根地域:久喜市","",null,"□","美里町",false,"北部地域:美里町","",null,"□","長瀞町",{"$f":"IF(DB154=\"☑\",TRUE)","v":false},{"$f":"\"秩父地域:\"&DC154","v":"秩父地域:長瀞町"},""]
[null,null,null,null,null,null,null,null,null,null,null,null,null,null,null,null,null,null,"□","割引サービス",false,"","□","薬・介護用品配達",false,"","□","乗り合いサービス",false,"","□","理容・美容（出張）",false,"","□","イートインスペース",false,"","□","貸しスペース",false,"","□","麻雀・将棋・囲碁",false,"","□","認知症サポート企業",false,"",null,"□","中央区",false,"さいたま市:中央区","",null,null,null,null,null,"",null,"□","富士見市",false,"南西部地域:富士見市","",null,"□","三郷市",false,"東部地域:三郷市","",null,"□","伊奈町",{"$f":"IF(BX155=\"☑\",TRUE)","v":false},{"$f":"\"県央地域:\"&BY155","v":"県央地域:伊奈町"},"",null,"□","毛呂山町",false,"川越比企地域:毛呂山町","",null,"□","日高市",{"$f":"IF(CJ155=\"☑\",TRUE)","v":false},{"$f":"\"西部地域:\"&CK155","v":"西部地域:日高市"},"",null,"□","蓮田市",false,"利根地域:蓮田市","",null,"□","神川町",false,"北部地域:神川町","",null,"□","小鹿野町",{"$f":"IF(DB155=\"☑\",TRUE)","v":false},{"$f":"\"秩父地域:\"&DC155","v":"秩父地域:小鹿野町"},"",null,null,null,null,null,null,null,null,null,null,{"$f":"IF(#REF!=\"☑\",TRUE)","v":{"$error":"#REF!"}},{"$f":"IF(DQ155,#REF!,\"\")","v":{"$error":"#REF!"}}]
[null,null,null,null,null,null,null,null,null,null,null,null,null,null,null,null,null,null,"□","その他（買物）",false,"","□","クリーニング",false,{"$f":"IF(Y156,X156,\"\")","v":""},"□","個別移送サービス",false,"","□","ペット",false,"","□","その他（運動・たまり場）",false,"","□","その他（設備・施設・場所貸し）",false,"","□","ゲームセンター",false,"","□","理容・美容",false,"",null,"□","桜区",false,"さいたま市:桜区","",null,null,null,null,null,"",null,"□","ふじみ野市",false,"南西部地域:ふじみ野市","",null,"□","吉川市",false,"東部地域:吉川市","",null,null,null,null,null,"",null,"□","越生町",false,"川越比企地域:越生町","",null,null,null,null,null,"",null,"□","幸手市",false,"利根地域:幸手市","",null,"□","上里町",false,"北部地域:上里町","",null,null,null,null,null,"",null,null,null,null,null,null,null,null,null,null,{"$f":"IF(#REF!=\"☑\",TRUE)","v":{"$error":"#REF!"}},{"$f":"IF(DQ156,#REF!,\"\")","v":{"$error":"#REF!"}}]
[null,null,null,null,null,null,null,null,null,null,null,null,null,null,null,null,null,null,null,null,null,null,"□","その他（宅配・デリバリー）",false,{"$f":"IF(Y157,X157,\"\")","v":""},"□","交通機関サービス",false,"","□","その他（出張サービス）",false,"",null,null,null,null,null,null,null,null,"□","旅行・レジャー",false,"","□","成年後見・相続",false,"",null,"□","浦和区",false,"さいたま市:浦和区","",null,null,null,null,null,"",null,"□","三芳町",false,"南西部地域:三芳町","",null,"□","松伏町",false,"東部地域:松伏町","",null,null,null,null,null,"",null,"□","滑川町",false,"川越比企地域:滑川町","",null,null,null,null,null,"",null,"□","白岡市",false,"利根地域:白岡市","",null,"□","寄居町",false,"北部地域:寄居町","",null,null,null,null,null,""]
[null,null,null,null,null,null,null,null,null,null,null,null,null,null,null,null,null,null,null,null,null,null,null,null,null,null,"□","その他（送迎・移動支援）",false,"",null,null,null,"",null,null,null,{"$f":"IF(AK158,AJ158,\"\")","v":""},null,null,null,{"$f":"IF(AO158,AN158,\"\")","v":""},"□","パソコン・スマホ教室",false,"","□","その他（生活サービス）",false,"",null,"□","南区",false,"さいたま市:南区","",null,null,null,null,null,"",null,null,null,null,null,"",null,null,null,null,null,"",null,null,null,null,null,"",null,"□","嵐山町",false,"川越比企地域:嵐山町","",null,null,null,null,null,"",null,"□","宮代町",false,"利根地域:宮代町","",null,null,null,null,null,"",null,null,null,null,null,""]
[null,null,null,null,null,null,null,null,null,null,null,null,null,null,null,null,null,null,null,null,null,null,null,null,null,null,null,null,null,null,null,null,null,null,null,null,null,null,null,null,null,null,"□","その他（学び・趣味）",false,"",null,null,null,null,null,"□","緑区",false,"さいたま市:緑区","",null,null,null,null,null,"",null,null,null,null,null,"",null,null,null,null,null,"",null,null,null,null,null,"",null,"□","小川町",false,"川越比企地域:小川町","",null,null,null,null,null,"",null,"□","杉戸町",false,"利根地域:杉戸町","",null,null,null,null,null,"",null,null,null,null,null,""]
[null,null,null,null,null,null,null,null,null,null,null,null,null,null,null,null,null,null,null,null,null,null,null,null,null,null,null,null,null,null,null,null,null,null,null,null,null,null,null,null,null,null,null,null,null,null,null,null,null,null,null,"□","岩槻区",{"$f":"IF(AZ160=\"☑\",TRUE)","v":false},"さいたま市:岩槻区","",null,null,null,null,null,"",null,null,null,null,null,"",null,null,null,null,null,"",null,null,null,null,null,"",null,"□","川島町",false,"川越比企地域:川島町","",null,null,null,null,null,"",null,null,null,null,null,"",null,null,null,null,null,"",null,null,null,null,null,""]
[null,null,null,null,null,null,null,null,null,null,null,null,null,null,null,null,null,null,null,null,null,null,null,null,null,null,null,null,null,null,null,null,null,null,null,null,null,null,null,null,null,null,null,null,null,null,null,null,null,null,null,null,null,null,null,null,null,null,null,null,null,null,null,null,null,null,null,null,null,null,null,null,null,null,null,null,null,null,null,null,null,"□","吉見町",false,"川越比企地域:吉見町","",null,null,null,null,null,"",null,null,null,null,null,"",null,null,null,null,null,"",null,null,null,null,null,""]
[null,null,null,null,null,null,null,null,null,null,null,null,null,null,null,null,null,null,null,null,null,null,null,null,null,null,null,null,null,null,null,null,null,null,null,null,null,null,null,null,null,null,null,null,null,null,null,null,null,null,null,null,null,null,null,null,null,null,null,null,null,null,null,null,null,null,null,null,null,null,null,null,null,null,null,null,null,null,null,null,null,"□","鳩山町",false,"川越比企地域:鳩山町","",null,null,null,null,null,"",null,null,null,null,null,"",null,null,null,null,null,"",null,null,null,null,null,""]
[null,null,null,null,null,null,null,null,null,null,null,null,null,null,null,null,null,null,null,null,null,null,null,null,null,null,null,null,null,null,null,null,null,null,null,null,null,null,null,null,null,null,null,null,null,null,null,null,null,null,null,null,null,null,null,null,null,null,null,null,null,null,null,null,null,null,null,null,null,null,null,null,null,null,null,null,null,null,null,null,null,"□","ときがわ町",false,"川越比企地域:ときがわ町","",null,null,null,null,null,"",null,null,null,null,null,"",null,null,null,null,null,"",null,null,null,null,null,""]
[null,null,null,null,null,null,null,null,null,null,null,null,null,null,null,null,null,null,null,null,null,null,null,null,null,null,null,null,null,null,null,null,null,null,null,null,null,null,null,null,null,null,null,null,null,null,null,null,null,null,null,null,null,null,null,null,null,null,null,null,null,null,null,null,null,null,null,null,null,null,null,null,null,null,null,null,null,null,null,null,null,"□","東秩父村",false,"川越比企地域:東秩父村","",null,null,null,null,null,"",null,null,null,null,null,"",null,null,null,null,null,"",null,null,null,null,null,""]
[11,null,null,null,null,null,null,null,null,null,null,null,null,null,null,null,null,null,"□","配送",{"$f":"IF(S165=\"☑\",TRUE)","v":false},{"$f":"IF(U165,T165,\"\")","v":""},"□","弁当配達",{"$f":"IF(W165=\"☑\",TRUE)","v":false},{"$f":"IF(Y165,X165,\"\")","v":""},"□","理容・美容（送迎）",{"$f":"IF(AA165=\"☑\",TRUE)","v":false},{"$f":"IF(AC165,AB165,\"\")","v":""},"□","家事代行・掃除・片付け",{"$f":"IF(AE165=\"☑\",TRUE)","v":false},{"$f":"IF(AG165,AF165,\"\")","v":""},"□","フィットネス・ジム（運動）",{"$f":"IF(AI165=\"☑\",TRUE)","v":false},{"$f":"IF(AK165,AJ165,\"\")","v":""},"□","車イス対応（バリアフリー）",{"$f":"IF(AM165=\"☑\",TRUE)","v":false},{"$f":"IF(AO165,AN165,\"\")","v":""},"□","講座・教室・イベント",{"$f":"IF(AQ165=\"☑\",TRUE)","v":false},{"$f":"IF(AS165,AR165,\"\")","v":""},"□","防犯・見守り",{"$f":"IF(AU165=\"☑\",TRUE)","v":false},{"$f":"IF(AW165,AV165,\"\")","v":""},{"$f":"_xludf.TEXTJOIN(\",\",TRUE,V165:V178,Z165:Z178,AD165:AD178,AH165:AH178,AL165:AL178,AP165:AP178,AT165:AT178,AX165:AX178)","v":""},"□","西区",{"$f":"IF(AZ165=\"☑\",TRUE)","v":false},{"$f":"\"さいたま市:\"&BA165","v":"さいたま市:西区"},{"$f":"IF(BB165,BC165,\"\")","v":""},{"$f":"_xludf.TEXTJOIN(\",\",TRUE,BD165:BD178)","v":""},"□","川口市",{"$f":"IF(BF165=\"☑\",TRUE)","v":false},{"$f":"\"南部地域:\"&BG165","v":"南部地域:川口市"},{"$f":"IF(BH165,BI165,\"\")","v":""},{"$f":"_xludf.TEXTJOIN(\",\",TRUE,BJ165:BJ178)","v":""},"□","朝霞市",{"$f":"IF(BL165=\"☑\",TRUE)","v":false},{"$f":"\"南西部地域:\"&BM165","v":"南西部地域:朝霞市"},{"$f":"IF(BN165,BO165,\"\")","v":""},{"$f":"_xludf.TEXTJOIN(\",\",TRUE,BP165:BP178)","v":""},"□","春日部市",{"$f":"IF(BR165=\"☑\",TRUE)","v":false},{"$f":"\"東部地域:\"&BS165","v":"東部地域:春日部市"},{"$f":"IF(BT165,BU165,\"\")","v":""},{"$f":"_xludf.TEXTJOIN(\",\",TRUE,BV165:BV178)","v":""},"□","鴻巣市",{"$f":"IF(BX165=\"☑\",TRUE)","v":false},{"$f":"\"県央地域:\"&BY165","v":"県央地域:鴻巣市"},{"$f":"IF(BZ165,CA165,\"\")","v":""},{"$f":"_xludf.TEXTJOIN(\",\",TRUE,CB165:CB178)","v":""},"□","川越市",{"$f":"IF(CD165=\"☑\",TRUE)","v":false},{"$f":"\"川越比企地域:\"&CE165","v":"川越比企地域:川越市"},{"$f":"IF(CF165,CG165,\"\")","v":""},{"$f":"_xludf.TEXTJOIN(\",\",TRUE,CH165:CH178)","v":""},"□","所沢市",{"$f":"IF(CJ165=\"☑\",TRUE)","v":false},{"$f":"\"西部地域:\"&CK165","v":"西部地域:所沢市"},{"$f":"IF(CL165,CM165,\"\")","v":""},{"$f":"_xludf.TEXTJOIN(\",\",TRUE,CN165:CN178)","v":""},"□","行田市",{"$f":"IF(CP165=\"☑\",TRUE)","v":false},{"$f":"\"利根地域:\"&CQ165","v":"利根地域:行田市"},{"$f":"IF(CR165,CS165,\"\")","v":""},{"$f":"_xludf.TEXTJOIN(\",\",TRUE,CT165:CT178)","v":""},"□","熊谷市",{"$f":"IF(CV165=\"☑\",TRUE)","v":false},{"$f":"\"北部地域:\"&CW165","v":"北部地域:熊谷市"},{"$f":"IF(CX165,CY165,\"\")","v":""},{"$f":"_xludf.TEXTJOIN(\",\",TRUE,CZ165:CZ178)","v":""},"□","秩父市",{"$f":"IF(DB165=\"☑\",TRUE)","v":false},{"$f":"\"秩父地域:\"&DC165","v":"秩父地域:秩父市"},{"$f":"IF(DD165,DE165,\"\")","v":""},{"$f":"_xludf.TEXTJOIN(\",\",TRUE,DF165:DF178)","v":""},{"$f":"_xlfn.TEXTJOIN(\",\",TRUE,BE165,BK165,BQ165,BW165,CC165,CI165,CO165,CU165,DA165,DG165)","v":""},null,null,null,null,null,null,null,null,{"$f":"IF(#REF!=\"☑\",TRUE)","v":{"$error":"#REF!"}},{"$f":"IF(DQ165,#REF!,\"\")","v":{"$error":"#REF!"}},{"$f":"_xludf.TEXTJOIN(\",\",TRUE,DR165:DR178)","v":{"$error":"#VALUE!"}}]
[null,null,null,null,null,null,null,null,null,null,null,null,null,null,null,null,null,null,"□","買物サポート",false,"","□","料理デリバリー（出前）",false,"","□","フィットネス・ジム（送迎）",{"$f":"IF(AA166=\"☑\",TRUE)","v":false},{"$f":"IF(AC166,AB166,\"\")","v":""},"□","出張料理",{"$f":"IF(AE166=\"☑\",TRUE)","v":false},{"$f":"IF(AG166,AF166,\"\")","v":""},"□","温泉・銭湯（たまり場）",false,"","□","多目的トイレ",false,"","□","習い事",{"$f":"IF(AQ166=\"☑\",TRUE)","v":false},{"$f":"IF(AS166,AR166,\"\")","v":""},"□","金融・保険",false,"",null,"□","北区",{"$f":"IF(AZ166=\"☑\",TRUE)","v":false},{"$f":"\"さいたま市:\"&BA166","v":"さいたま市:北区"},{"$f":"IF(BB166,BC166,\"\")","v":""},null,"□","蕨市",{"$f":"IF(BF166=\"☑\",TRUE)","v":false},{"$f":"\"南部地域:\"&BG166","v":"南部地域:蕨市"},{"$f":"IF(BH166,BI166,\"\")","v":""},null,"□","志木市",{"$f":"IF(BL166=\"☑\",TRUE)","v":false},{"$f":"\"南西部地域:\"&BM166","v":"南西部地域:志木市"},{"$f":"IF(BN166,BO166,\"\")","v":""},null,"□","草加市",{"$f":"IF(BR166=\"☑\",TRUE)","v":false},{"$f":"\"東部地域:\"&BS166","v":"東部地域:草加市"},"",null,"□","上尾市",{"$f":"IF(BX166=\"☑\",TRUE)","v":false},{"$f":"\"県央地域:\"&BY166","v":"県央地域:上尾市"},{"$f":"IF(BZ166,CA166,\"\")","v":""},null,"□","東松山市",{"$f":"IF(CD166=\"☑\",TRUE)","v":false},{"$f":"\"川越比企地域:\"&CE166","v":"川越比企地域:東松山市"},{"$f":"IF(CF166,CG166,\"\")","v":""},null,"□","飯能市",{"$f":"IF(CJ166=\"☑\",TRUE)","v":false},{"$f":"\"西部地域:\"&CK166","v":"西部地域:飯能市"},{"$f":"IF(CL166,CM166,\"\")","v":""},null,"□","加須市",{"$f":"IF(CP166=\"☑\",TRUE)","v":false},{"$f":"\"利根地域:\"&CQ166","v":"利根地域:加須市"},{"$f":"IF(CR166,CS166,\"\")","v":""},null,"□","本庄市",{"$f":"IF(CV166=\"☑\",TRUE)","v":false},{"$f":"\"北部地域:\"&CW166","v":"北部地域:本庄市"},{"$f":"IF(CX166,CY166,\"\")","v":""},null,"□","横瀬町",{"$f":"IF(DB166=\"☑\",TRUE)","v":false},{"$f":"\"秩父地域:\"&DC166","v":"秩父地域:横瀬町"},{"$f":"IF(DD166,DE166,\"\")","v":""},null,null,null,null,null,null,null,null,null,null,null,{"$f":"IF(DQ166,#REF!,\"\")","v":""}]
[null,null,null,null,null,null,null,null,null,null,null,null,null,null,null,null,null,null,"□","買物代行",false,"","□","食材宅配",false,"","□","温泉・銭湯（送迎）",false,"","□","屋外作業・力仕事",false,"","□","カフェ・ファーストフード",false,"","□","休憩スペース",false,"","□","映画館",false,"","□","住宅・リフォーム",false,"",null,"□","大宮区",false,"さいたま市:大宮区","",null,"□","戸田市",{"$f":"IF(BF167=\"☑\",TRUE)","v":false},{"$f":"\"南部地域:\"&BG167","v":"南部地域:戸田市"},"",null,"□","和光市",false,"南西部地域:和光市","",null,"□","越谷市",false,"東部地域:越谷市","",null,"□","桶川市",{"$f":"IF(BX167=\"☑\",TRUE)","v":false},{"$f":"\"県央地域:\"&BY167","v":"県央地域:桶川市"},"",null,"□","坂戸市",false,"川越比企地域:坂戸市","",null,"□","狭山市",{"$f":"IF(CJ167=\"☑\",TRUE)","v":false},{"$f":"\"西部地域:\"&CK167","v":"西部地域:狭山市"},"",null,"□","羽生市",false,"利根地域:羽生市","",null,"□","深谷市",false,"北部地域:深谷市","",null,"□","皆野町",{"$f":"IF(DB167=\"☑\",TRUE)","v":false},{"$f":"\"秩父地域:\"&DC167","v":"秩父地域:皆野町"},"",null,null,null,null,null,null,null,null,null,null,{"$f":"IF(#REF!=\"☑\",TRUE)","v":{"$error":"#REF!"}},{"$f":"IF(DQ167,#REF!,\"\")","v":{"$error":"#REF!"}}]
[null,null,null,null,null,null,null,null,null,null,null,null,null,null,null,null,null,null,"□","移動販売",false,"","□","日用品配達",false,"","□","整体・マッサージ（送迎）",false,"","□","整体・マッサージ（出張）",false,"","□","飲食店",false,"","□","駐車場",false,"","□","カラオケ店",false,"","□","パソコン・スマートフォン",false,"",null,"□","見沼区",false,"さいたま市:見沼区","",null,null,null,null,null,"",null,"□","新座市",false,"南西部地域:新座市","",null,"□","八潮市",false,"東部地域:八潮市","",null,"□","北本市",{"$f":"IF(BX168=\"☑\",TRUE)","v":false},{"$f":"\"県央地域:\"&BY168","v":"県央地域:北本市"},"",null,"□","鶴ヶ島市",false,"川越比企地域:鶴ヶ島市","",null,"□","入間市",{"$f":"IF(CJ168=\"☑\",TRUE)","v":false},{"$f":"\"西部地域:\"&CK168","v":"西部地域:入間市"},"",null,"□","久喜市",false,"利根地域:久喜市","",null,"□","美里町",false,"北部地域:美里町","",null,"□","長瀞町",{"$f":"IF(DB168=\"☑\",TRUE)","v":false},{"$f":"\"秩父地域:\"&DC168","v":"秩父地域:長瀞町"},""]
[null,null,null,null,null,null,null,null,null,null,null,null,null,null,null,null,null,null,"□","割引サービス",false,"","□","薬・介護用品配達",false,"","□","乗り合いサービス",false,"","□","理容・美容（出張）",false,"","□","イートインスペース",false,"","□","貸しスペース",false,"","□","麻雀・将棋・囲碁",false,"","□","認知症サポート企業",false,"",null,"□","中央区",false,"さいたま市:中央区","",null,null,null,null,null,"",null,"□","富士見市",false,"南西部地域:富士見市","",null,"□","三郷市",false,"東部地域:三郷市","",null,"□","伊奈町",{"$f":"IF(BX169=\"☑\",TRUE)","v":false},{"$f":"\"県央地域:\"&BY169","v":"県央地域:伊奈町"},"",null,"□","毛呂山町",false,"川越比企地域:毛呂山町","",null,"□","日高市",{"$f":"IF(CJ169=\"☑\",TRUE)","v":false},{"$f":"\"西部地域:\"&CK169","v":"西部地域:日高市"},"",null,"□","蓮田市",false,"利根地域:蓮田市","",null,"□","神川町",false,"北部地域:神川町","",null,"□","小鹿野町",{"$f":"IF(DB169=\"☑\",TRUE)","v":false},{"$f":"\"秩父地域:\"&DC169","v":"秩父地域:小鹿野町"},"",null,null,null,null,null,null,null,null,null,null,{"$f":"IF(#REF!=\"☑\",TRUE)","v":{"$error":"#REF!"}},{"$f":"IF(DQ169,#REF!,\"\")","v":{"$error":"#REF!"}}]
[null,null,null,null,null,null,null,null,null,null,null,null,null,null,null,null,null,null,"□","その他（買物）",false,"","□","クリーニング",false,{"$f":"IF(Y170,X170,\"\")","v":""},"□","個別移送サービス",false,"","□","ペット",false,"","□","その他（運動・たまり場）",false,"","□","その他（設備・施設・場所貸し）",false,"","□","ゲームセンター",false,"","□","理容・美容",false,"",null,"□","桜区",false,"さいたま市:桜区","",null,null,null,null,null,"",null,"□","ふじみ野市",false,"南西部地域:ふじみ野市","",null,"□","吉川市",false,"東部地域:吉川市","",null,null,null,null,null,"",null,"□","越生町",false,"川越比企地域:越生町","",null,null,null,null,null,"",null,"□","幸手市",false,"利根地域:幸手市","",null,"□","上里町",false,"北部地域:上里町","",null,null,null,null,null,"",null,null,null,null,null,null,null,null,null,null,{"$f":"IF(#REF!=\"☑\",TRUE)","v":{"$error":"#REF!"}},{"$f":"IF(DQ170,#REF!,\"\")","v":{"$error":"#REF!"}}]
[null,null,null,null,null,null,null,null,null,null,null,null,null,null,null,null,null,null,null,null,null,null,"□","その他（宅配・デリバリー）",false,{"$f":"IF(Y171,X171,\"\")","v":""},"□","交通機関サービス",false,"","□","その他（出張サービス）",false,"",null,null,null,null,null,null,null,null,"□","旅行・レジャー",false,"","□","成年後見・相続",false,"",null,"□","浦和区",false,"さいたま市:浦和区","",null,null,null,null,null,"",null,"□","三芳町",false,"南西部地域:三芳町","",null,"□","松伏町",false,"東部地域:松伏町","",null,null,null,null,null,"",null,"□","滑川町",false,"川越比企地域:滑川町","",null,null,null,null,null,"",null,"□","白岡市",false,"利根地域:白岡市","",null,"□","寄居町",false,"北部地域:寄居町","",null,null,null,null,null,""]
[null,null,null,null,null,null,null,null,null,null,null,null,null,null,null,null,null,null,null,null,null,null,null,null,null,null,"□","その他（送迎・移動支援）",false,"",null,null,null,"",null,null,null,{"$f":"IF(AK172,AJ172,\"\")","v":""},null,null,null,{"$f":"IF(AO172,AN172,\"\")","v":""},"□","パソコン・スマホ教室",false,"","□","その他（生活サービス）",false,"",null,"□","南区",false,"さいたま市:南区","",null,null,null,null,null,"",null,null,null,null,null,"",null,null,null,null,null,"",null,null,null,null,null,"",null,"□","嵐山町",false,"川越比企地域:嵐山町","",null,null,null,null,null,"",null,"□","宮代町",false,"利根地域:宮代町","",null,null,null,null,null,"",null,null,null,null,null,""]
[null,null,null,null,null,null,null,null,null,null,null,null,null,null,null,null,null,null,null,null,null,null,null,null,null,null,null,null,null,null,null,null,null,null,null,null,null,null,null,null,null,null,"□","その他（学び・趣味）",false,"",null,null,null,null,null,"□","緑区",false,"さいたま市:緑区","",null,null,null,null,null,"",null,null,null,null,null,"",null,null,null,null,null,"",null,null,null,null,null,"",null,"□","小川町",false,"川越比企地域:小川町","",null,null,null,null,null,"",null,"□","杉戸町",false,"利根地域:杉戸町","",null,null,null,null,null,"",null,null,null,null,null,""]
[null,null,null,null,null,null,null,null,null,null,null,null,null,null,null,null,null,null,null,null,null,null,null,null,null,null,null,null,null,null,null,null,null,null,null,null,null,null,null,null,null,null,null,null,null,null,null,null,null,null,null,"□","岩槻区",{"$f":"IF(AZ174=\"☑\",TRUE)","v":false},"さいたま市:岩槻区","",null,null,null,null,null,"",null,null,null,null,null,"",null,null,null,null,null,"",null,null,null,null,null,"",null,"□","川島町",false,"川越比企地域:川島町","",null,null,null,null,null,"",null,null,null,null,null,"",null,null,null,null,null,"",null,null,null,null,null,""]
[null,null,null,null,null,null,null,null,null,null,null,null,null,null,null,null,null,null,null,null,null,null,null,null,null,null,null,null,null,null,null,null,null,null,null,null,null,null,null,null,null,null,null,null,null,null,null,null,null,null,null,null,null,null,null,null,null,null,null,null,null,null,null,null,null,null,null,null,null,null,null,null,null,null,null,null,null,null,null,null,null,"□","吉見町",false,"川越比企地域:吉見町","",null,null,null,null,null,"",null,null,null,null,null,"",null,null,null,null,null,"",null,null,null,null,null,""]
[null,null,null,null,null,null,null,null,null,null,null,null,null,null,null,null,null,null,null,null,null,null,null,null,null,null,null,null,null,null,null,null,null,null,null,null,null,null,null,null,null,null,null,null,null,null,null,null,null,null,null,null,null,null,null,null,null,null,null,null,null,null,null,null,null,null,null,null,null,null,null,null,null,null,null,null,null,null,null,null,null,"□","鳩山町",false,"川越比企地域:鳩山町","",null,null,null,null,null,"",null,null,null,null,null,"",null,null,null,null,null,"",null,null,null,null,null,""]
[null,null,null,null,null,null,null,null,null,null,null,null,null,null,null,null,null,null,null,null,null,null,null,null,null,null,null,null,null,null,null,null,null,null,null,null,null,null,null,null,null,null,null,null,null,null,null,null,null,null,null,null,null,null,null,null,null,null,null,null,null,null,null,null,null,null,null,null,null,null,null,null,null,null,null,null,null,null,null,null,null,"□","ときがわ町",false,"川越比企地域:ときがわ町","",null,null,null,null,null,"",null,null,null,null,null,"",null,null,null,null,null,"",null,null,null,null,null,""]
[null,null,null,null,null,null,null,null,null,null,null,null,null,null,null,null,null,null,null,null,null,null,null,null,null,null,null,null,null,null,null,null,null,null,null,null,null,null,null,null,null,null,null,null,null,null,null,null,null,null,null,null,null,null,null,null,null,null,null,null,null,null,null,null,null,null,null,null,null,null,null,null,null,null,null,null,null,null,null,null,null,"□","東秩父村",false,"川越比企地域:東秩父村","",null,null,null,null,null,"",null,null,null,null,null,"",null,null,null,null,null,"",null,null,null,null,null,""]
[12,null,null,null,null,null,null,null,null,null,null,null,null,null,null,null,null,null,"□","配送",{"$f":"IF(S179=\"☑\",TRUE)","v":false},{"$f":"IF(U179,T179,\"\")","v":""},"□","弁当配達",{"$f":"IF(W179=\"☑\",TRUE)","v":false},{"$f":"IF(Y179,X179,\"\")","v":""},"□","理容・美容（送迎）",{"$f":"IF(AA179=\"☑\",TRUE)","v":false},{"$f":"IF(AC179,AB179,\"\")","v":""},"□","家事代行・掃除・片付け",{"$f":"IF(AE179=\"☑\",TRUE)","v":false},{"$f":"IF(AG179,AF179,\"\")","v":""},"□","フィットネス・ジム（運動）",{"$f":"IF(AI179=\"☑\",TRUE)","v":false},{"$f":"IF(AK179,AJ179,\"\")","v":""},"□","車イス対応（バリアフリー）",{"$f":"IF(AM179=\"☑\",TRUE)","v":false},{"$f":"IF(AO179,AN179,\"\")","v":""},"□","講座・教室・イベント",{"$f":"IF(AQ179=\"☑\",TRUE)","v":false},{"$f":"IF(AS179,AR179,\"\")","v":""},"□","防犯・見守り",{"$f":"IF(AU179=\"☑\",TRUE)","v":false},{"$f":"IF(AW179,AV179,\"\")","v":""},{"$f":"_xludf.TEXTJOIN(\",\",TRUE,V179:V192,Z179:Z192,AD179:AD192,AH179:AH192,AL179:AL192,AP179:AP192,AT179:AT192,AX179:AX192)","v":""},"□","西区",{"$f":"IF(AZ179=\"☑\",TRUE)","v":false},{"$f":"\"さいたま市:\"&BA179","v":"さいたま市:西区"},{"$f":"IF(BB179,BC179,\"\")","v":""},{"$f":"_xludf.TEXTJOIN(\",\",TRUE,BD179:BD192)","v":""},"□","川口市",{"$f":"IF(BF179=\"☑\",TRUE)","v":false},{"$f":"\"南部地域:\"&BG179","v":"南部地域:川口市"},{"$f":"IF(BH179,BI179,\"\")","v":""},{"$f":"_xludf.TEXTJOIN(\",\",TRUE,BJ179:BJ192)","v":""},"□","朝霞市",{"$f":"IF(BL179=\"☑\",TRUE)","v":false},{"$f":"\"南西部地域:\"&BM179","v":"南西部地域:朝霞市"},{"$f":"IF(BN179,BO179,\"\")","v":""},{"$f":"_xludf.TEXTJOIN(\",\",TRUE,BP179:BP192)","v":""},"□","春日部市",{"$f":"IF(BR179=\"☑\",TRUE)","v":false},{"$f":"\"東部地域:\"&BS179","v":"東部地域:春日部市"},{"$f":"IF(BT179,BU179,\"\")","v":""},{"$f":"_xludf.TEXTJOIN(\",\",TRUE,BV179:BV192)","v":""},"□","鴻巣市",{"$f":"IF(BX179=\"☑\",TRUE)","v":false},{"$f":"\"県央地域:\"&BY179","v":"県央地域:鴻巣市"},{"$f":"IF(BZ179,CA179,\"\")","v":""},{"$f":"_xludf.TEXTJOIN(\",\",TRUE,CB179:CB192)","v":""},"□","川越市",{"$f":"IF(CD179=\"☑\",TRUE)","v":false},{"$f":"\"川越比企地域:\"&CE179","v":"川越比企地域:川越市"},{"$f":"IF(CF179,CG179,\"\")","v":""},{"$f":"_xludf.TEXTJOIN(\",\",TRUE,CH179:CH192)","v":""},"□","所沢市",{"$f":"IF(CJ179=\"☑\",TRUE)","v":false},{"$f":"\"西部地域:\"&CK179","v":"西部地域:所沢市"},{"$f":"IF(CL179,CM179,\"\")","v":""},{"$f":"_xludf.TEXTJOIN(\",\",TRUE,CN179:CN192)","v":""},"□","行田市",{"$f":"IF(CP179=\"☑\",TRUE)","v":false},{"$f":"\"利根地域:\"&CQ179","v":"利根地域:行田市"},{"$f":"IF(CR179,CS179,\"\")","v":""},{"$f":"_xludf.TEXTJOIN(\",\",TRUE,CT179:CT192)","v":""},"□","熊谷市",{"$f":"IF(CV179=\"☑\",TRUE)","v":false},{"$f":"\"北部地域:\"&CW179","v":"北部地域:熊谷市"},{"$f":"IF(CX179,CY179,\"\")","v":""},{"$f":"_xludf.TEXTJOIN(\",\",TRUE,CZ179:CZ192)","v":""},"□","秩父市",{"$f":"IF(DB179=\"☑\",TRUE)","v":false},{"$f":"\"秩父地域:\"&DC179","v":"秩父地域:秩父市"},{"$f":"IF(DD179,DE179,\"\")","v":""},{"$f":"_xludf.TEXTJOIN(\",\",TRUE,DF179:DF192)","v":""},{"$f":"_xlfn.TEXTJOIN(\",\",TRUE,BE179,BK179,BQ179,BW179,CC179,CI179,CO179,CU179,DA179,DG179)","v":""},null,null,null,null,null,null,null,null,{"$f":"IF(#REF!=\"☑\",TRUE)","v":{"$error":"#REF!"}},{"$f":"IF(DQ179,#REF!,\"\")","v":{"$error":"#REF!"}},{"$f":"_xludf.TEXTJOIN(\",\",TRUE,DR179:DR192)","v":{"$error":"#VALUE!"}}]
[null,null,null,null,null,null,null,null,null,null,null,null,null,null,null,null,null,null,"□","買物サポート",false,"","□","料理デリバリー（出前）",false,"","□","フィットネス・ジム（送迎）",{"$f":"IF(AA180=\"☑\",TRUE)","v":false},{"$f":"IF(AC180,AB180,\"\")","v":""},"□","出張料理",{"$f":"IF(AE180=\"☑\",TRUE)","v":false},{"$f":"IF(AG180,AF180,\"\")","v":""},"□","温泉・銭湯（たまり場）",false,"","□","多目的トイレ",false,"","□","習い事",{"$f":"IF(AQ180=\"☑\",TRUE)","v":false},{"$f":"IF(AS180,AR180,\"\")","v":""},"□","金融・保険",false,"",null,"□","北区",{"$f":"IF(AZ180=\"☑\",TRUE)","v":false},{"$f":"\"さいたま市:\"&BA180","v":"さいたま市:北区"},{"$f":"IF(BB180,BC180,\"\")","v":""},null,"□","蕨市",{"$f":"IF(BF180=\"☑\",TRUE)","v":false},{"$f":"\"南部地域:\"&BG180","v":"南部地域:蕨市"},{"$f":"IF(BH180,BI180,\"\")","v":""},null,"□","志木市",{"$f":"IF(BL180=\"☑\",TRUE)","v":false},{"$f":"\"南西部地域:\"&BM180","v":"南西部地域:志木市"},{"$f":"IF(BN180,BO180,\"\")","v":""},null,"□","草加市",{"$f":"IF(BR180=\"☑\",TRUE)","v":false},{"$f":"\"東部地域:\"&BS180","v":"東部地域:草加市"},"",null,"□","上尾市",{"$f":"IF(BX180=\"☑\",TRUE)","v":false},{"$f":"\"県央地域:\"&BY180","v":"県央地域:上尾市"},{"$f":"IF(BZ180,CA180,\"\")","v":""},null,"□","東松山市",{"$f":"IF(CD180=\"☑\",TRUE)","v":false},{"$f":"\"川越比企地域:\"&CE180","v":"川越比企地域:東松山市"},{"$f":"IF(CF180,CG180,\"\")","v":""},null,"□","飯能市",{"$f":"IF(CJ180=\"☑\",TRUE)","v":false},{"$f":"\"西部地域:\"&CK180","v":"西部地域:飯能市"},{"$f":"IF(CL180,CM180,\"\")","v":""},null,"□","加須市",{"$f":"IF(CP180=\"☑\",TRUE)","v":false},{"$f":"\"利根地域:\"&CQ180","v":"利根地域:加須市"},{"$f":"IF(CR180,CS180,\"\")","v":""},null,"□","本庄市",{"$f":"IF(CV180=\"☑\",TRUE)","v":false},{"$f":"\"北部地域:\"&CW180","v":"北部地域:本庄市"},{"$f":"IF(CX180,CY180,\"\")","v":""},null,"□","横瀬町",{"$f":"IF(DB180=\"☑\",TRUE)","v":false},{"$f":"\"秩父地域:\"&DC180","v":"秩父地域:横瀬町"},{"$f":"IF(DD180,DE180,\"\")","v":""},null,null,null,null,null,null,null,null,null,null,null,{"$f":"IF(DQ180,#REF!,\"\")","v":""}]
[null,null,null,null,null,null,null,null,null,null,null,null,null,null,null,null,null,null,"□","買物代行",false,"","□","食材宅配",false,"","□","温泉・銭湯（送迎）",false,"","□","屋外作業・力仕事",false,"","□","カフェ・ファーストフード",false,"","□","休憩スペース",false,"","□","映画館",false,"","□","住宅・リフォーム",false,"",null,"□","大宮区",false,"さいたま市:大宮区","",null,"□","戸田市",{"$f":"IF(BF181=\"☑\",TRUE)","v":false},{"$f":"\"南部地域:\"&BG181","v":"南部地域:戸田市"},"",null,"□","和光市",false,"南西部地域:和光市","",null,"□","越谷市",false,"東部地域:越谷市","",null,"□","桶川市",{"$f":"IF(BX181=\"☑\",TRUE)","v":false},{"$f":"\"県央地域:\"&BY181","v":"県央地域:桶川市"},"",null,"□","坂戸市",false,"川越比企地域:坂戸市","",null,"□","狭山市",{"$f":"IF(CJ181=\"☑\",TRUE)","v":false},{"$f":"\"西部地域:\"&CK181","v":"西部地域:狭山市"},"",null,"□","羽生市",false,"利根地域:羽生市","",null,"□","深谷市",false,"北部地域:深谷市","",null,"□","皆野町",{"$f":"IF(DB181=\"☑\",TRUE)","v":false},{"$f":"\"秩父地域:\"&DC181","v":"秩父地域:皆野町"},"",null,null,null,null,null,null,null,null,null,null,{"$f":"IF(#REF!=\"☑\",TRUE)","v":{"$error":"#REF!"}},{"$f":"IF(DQ181,#REF!,\"\")","v":{"$error":"#REF!"}}]
[null,null,null,null,null,null,null,null,null,null,null,null,null,null,null,null,null,null,"□","移動販売",false,"","□","日用品配達",false,"","□","整体・マッサージ（送迎）",false,"","□","整体・マッサージ（出張）",false,"","□","飲食店",false,"","□","駐車場",false,"","□","カラオケ店",false,"","□","パソコン・スマートフォン",false,"",null,"□","見沼区",false,"さいたま市:見沼区","",null,null,null,null,null,"",null,"□","新座市",false,"南西部地域:新座市","",null,"□","八潮市",false,"東部地域:八潮市","",null,"□","北本市",{"$f":"IF(BX182=\"☑\",TRUE)","v":false},{"$f":"\"県央地域:\"&BY182","v":"県央地域:北本市"},"",null,"□","鶴ヶ島市",false,"川越比企地域:鶴ヶ島市","",null,"□","入間市",{"$f":"IF(CJ182=\"☑\",TRUE)","v":false},{"$f":"\"西部地域:\"&CK182","v":"西部地域:入間市"},"",null,"□","久喜市",false,"利根地域:久喜市","",null,"□","美里町",false,"北部地域:美里町","",null,"□","長瀞町",{"$f":"IF(DB182=\"☑\",TRUE)","v":false},{"$f":"\"秩父地域:\"&DC182","v":"秩父地域:長瀞町"},""]
[null,null,null,null,null,null,null,null,null,null,null,null,null,null,null,null,null,null,"□","割引サービス",false,"","□","薬・介護用品配達",false,"","□","乗り合いサービス",false,"","□","理容・美容（出張）",false,"","□","イートインスペース",false,"","□","貸しスペース",false,"","□","麻雀・将棋・囲碁",false,"","□","認知症サポート企業",false,"",null,"□","中央区",false,"さいたま市:中央区","",null,null,null,null,null,"",null,"□","富士見市",false,"南西部地域:富士見市","",null,"□","三郷市",false,"東部地域:三郷市","",null,"□","伊奈町",{"$f":"IF(BX183=\"☑\",TRUE)","v":false},{"$f":"\"県央地域:\"&BY183","v":"県央地域:伊奈町"},"",null,"□","毛呂山町",false,"川越比企地域:毛呂山町","",null,"□","日高市",{"$f":"IF(CJ183=\"☑\",TRUE)","v":false},{"$f":"\"西部地域:\"&CK183","v":"西部地域:日高市"},"",null,"□","蓮田市",false,"利根地域:蓮田市","",null,"□","神川町",false,"北部地域:神川町","",null,"□","小鹿野町",{"$f":"IF(DB183=\"☑\",TRUE)","v":false},{"$f":"\"秩父地域:\"&DC183","v":"秩父地域:小鹿野町"},"",null,null,null,null,null,null,null,null,null,null,{"$f":"IF(#REF!=\"☑\",TRUE)","v":{"$error":"#REF!"}},{"$f":"IF(DQ183,#REF!,\"\")","v":{"$error":"#REF!"}}]
[null,null,null,null,null,null,null,null,null,null,null,null,null,null,null,null,null,null,"□","その他（買物）",false,"","□","クリーニング",false,{"$f":"IF(Y184,X184,\"\")","v":""},"□","個別移送サービス",false,"","□","ペット",false,"","□","その他（運動・たまり場）",false,"","□","その他（設備・施設・場所貸し）",false,"","□","ゲームセンター",false,"","□","理容・美容",false,"",null,"□","桜区",false,"さいたま市:桜区","",null,null,null,null,null,"",null,"□","ふじみ野市",false,"南西部地域:ふじみ野市","",null,"□","吉川市",false,"東部地域:吉川市","",null,null,null,null,null,"",null,"□","越生町",false,"川越比企地域:越生町","",null,null,null,null,null,"",null,"□","幸手市",false,"利根地域:幸手市","",null,"□","上里町",false,"北部地域:上里町","",null,null,null,null,null,"",null,null,null,null,null,null,null,null,null,null,{"$f":"IF(#REF!=\"☑\",TRUE)","v":{"$error":"#REF!"}},{"$f":"IF(DQ184,#REF!,\"\")","v":{"$error":"#REF!"}}]
[null,null,null,null,null,null,null,null,null,null,null,null,null,null,null,null,null,null,null,null,null,null,"□","その他（宅配・デリバリー）",false,{"$f":"IF(Y185,X185,\"\")","v":""},"□","交通機関サービス",false,"","□","その他（出張サービス）",false,"",null,null,null,null,null,null,null,null,"□","旅行・レジャー",false,"","□","成年後見・相続",false,"",null,"□","浦和区",false,"さいたま市:浦和区","",null,null,null,null,null,"",null,"□","三芳町",false,"南西部地域:三芳町","",null,"□","松伏町",false,"東部地域:松伏町","",null,null,null,null,null,"",null,"□","滑川町",false,"川越比企地域:滑川町","",null,null,null,null,null,"",null,"□","白岡市",false,"利根地域:白岡市","",null,"□","寄居町",false,"北部地域:寄居町","",null,null,null,null,null,""]
[null,null,null,null,null,null,null,null,null,null,null,null,null,null,null,null,null,null,null,null,null,null,null,null,null,null,"□","その他（送迎・移動支援）",false,"",null,null,null,"",null,null,null,{"$f":"IF(AK186,AJ186,\"\")","v":""},null,null,null,{"$f":"IF(AO186,AN186,\"\")","v":""},"□","パソコン・スマホ教室",false,"","□","その他（生活サービス）",false,"",null,"□","南区",false,"さいたま市:南区","",null,null,null,null,null,"",null,null,null,null,null,"",null,null,null,null,null,"",null,null,null,null,null,"",null,"□","嵐山町",false,"川越比企地域:嵐山町","",null,null,null,null,null,"",null,"□","宮代町",false,"利根地域:宮代町","",null,null,null,null,null,"",null,null,null,null,null,""]
[null,null,null,null,null,null,null,null,null,null,null,null,null,null,null,null,null,null,null,null,null,null,null,null,null,null,null,null,null,null,null,null,null,null,null,null,null,null,null,null,null,null,"□","その他（学び・趣味）",false,"",null,null,null,null,null,"□","緑区",false,"さいたま市:緑区","",null,null,null,null,null,"",null,null,null,null,null,"",null,null,null,null,null,"",null,null,null,null,null,"",null,"□","小川町",false,"川越比企地域:小川町","",null,null,null,null,null,"",null,"□","杉戸町",false,"利根地域:杉戸町","",null,null,null,null,null,"",null,null,null,null,null,""]
[null,null,null,null,null,null,null,null,null,null,null,null,null,null,null,null,null,null,null,null,null,null,null,null,null,null,null,null,null,null,null,null,null,null,null,null,null,null,null,null,null,null,null,null,null,null,null,null,null,null,null,"□","岩槻区",{"$f":"IF(AZ188=\"☑\",TRUE)","v":false},"さいたま市:岩槻区","",null,null,null,null,null,"",null,null,null,null,null,"",null,null,null,null,null,"",null,null,null,null,null,"",null,"□","川島町",false,"川越比企地域:川島町","",null,null,null,null,null,"",null,null,null,null,null,"",null,null,null,null,null,"",null,null,null,null,null,""]
[null,null,null,null,null,null,null,null,null,null,null,null,null,null,null,null,null,null,null,null,null,null,null,null,null,null,null,null,null,null,null,null,null,null,null,null,null,null,null,null,null,null,null,null,null,null,null,null,null,null,null,null,null,null,null,null,null,null,null,null,null,null,null,null,null,null,null,null,null,null,null,null,null,null,null,null,null,null,null,null,null,"□","吉見町",false,"川越比企地域:吉見町","",null,null,null,null,null,"",null,null,null,null,null,"",null,null,null,null,null,"",null,null,null,null,null,""]
[null,null,null,null,null,null,null,null,null,null,null,null,null,null,null,null,null,null,null,null,null,null,null,null,null,null,null,null,null,null,null,null,null,null,null,null,null,null,null,null,null,null,null,null,null,null,null,null,null,null,null,null,null,null,null,null,null,null,null,null,null,null,null,null,null,null,null,null,null,null,null,null,null,null,null,null,null,null,null,null,null,"□","鳩山町",false,"川越比企地域:鳩山町","",null,null,null,null,null,"",null,null,null,null,null,"",null,null,null,null,null,"",null,null,null,null,null,""]
[null,null,null,null,null,null,null,null,null,null,null,null,null,null,null,null,null,null,null,null,null,null,null,null,null,null,null,null,null,null,null,null,null,null,null,null,null,null,null,null,null,null,null,null,null,null,null,null,null,null,null,null,null,null,null,null,null,null,null,null,null,null,null,null,null,null,null,null,null,null,null,null,null,null,null,null,null,null,null,null,null,"□","ときがわ町",false,"川越比企地域:ときがわ町","",null,null,null,null,null,"",null,null,null,null,null,"",null,null,null,null,null,"",null,null,null,null,null,""]
[null,null,null,null,null,null,null,null,null,null,null,null,null,null,null,null,null,null,null,null,null,null,null,null,null,null,null,null,null,null,null,null,null,null,null,null,null,null,null,null,null,null,null,null,null,null,null,null,null,null,null,null,null,null,null,null,null,null,null,null,null,null,null,null,null,null,null,null,null,null,null,null,null,null,null,null,null,null,null,null,null,"□","東秩父村",false,"川越比企地域:東秩父村","",null,null,null,null,null,"",null,null,null,null,null,"",null,null,null,null,null,"",null,null,null,null,null,""]
[13,null,null,null,null,null,null,null,null,null,null,null,null,null,null,null,null,null,"□","配送",{"$f":"IF(S193=\"☑\",TRUE)","v":false},{"$f":"IF(U193,T193,\"\")","v":""},"□","弁当配達",{"$f":"IF(W193=\"☑\",TRUE)","v":false},{"$f":"IF(Y193,X193,\"\")","v":""},"□","理容・美容（送迎）",{"$f":"IF(AA193=\"☑\",TRUE)","v":false},{"$f":"IF(AC193,AB193,\"\")","v":""},"□","家事代行・掃除・片付け",{"$f":"IF(AE193=\"☑\",TRUE)","v":false},{"$f":"IF(AG193,AF193,\"\")","v":""},"□","フィットネス・ジム（運動）",{"$f":"IF(AI193=\"☑\",TRUE)","v":false},{"$f":"IF(AK193,AJ193,\"\")","v":""},"□","車イス対応（バリアフリー）",{"$f":"IF(AM193=\"☑\",TRUE)","v":false},{"$f":"IF(AO193,AN193,\"\")","v":""},"□","講座・教室・イベント",{"$f":"IF(AQ193=\"☑\",TRUE)","v":false},{"$f":"IF(AS193,AR193,\"\")","v":""},"□","防犯・見守り",{"$f":"IF(AU193=\"☑\",TRUE)","v":false},{"$f":"IF(AW193,AV193,\"\")","v":""},{"$f":"_xludf.TEXTJOIN(\",\",TRUE,V193:V206,Z193:Z206,AD193:AD206,AH193:AH206,AL193:AL206,AP193:AP206,AT193:AT206,AX193:AX206)","v":""},"□","西区",{"$f":"IF(AZ193=\"☑\",TRUE)","v":false},{"$f":"\"さいたま市:\"&BA193","v":"さいたま市:西区"},{"$f":"IF(BB193,BC193,\"\")","v":""},{"$f":"_xludf.TEXTJOIN(\",\",TRUE,BD193:BD206)","v":""},"□","川口市",{"$f":"IF(BF193=\"☑\",TRUE)","v":false},{"$f":"\"南部地域:\"&BG193","v":"南部地域:川口市"},{"$f":"IF(BH193,BI193,\"\")","v":""},{"$f":"_xludf.TEXTJOIN(\",\",TRUE,BJ193:BJ206)","v":""},"□","朝霞市",{"$f":"IF(BL193=\"☑\",TRUE)","v":false},{"$f":"\"南西部地域:\"&BM193","v":"南西部地域:朝霞市"},{"$f":"IF(BN193,BO193,\"\")","v":""},{"$f":"_xludf.TEXTJOIN(\",\",TRUE,BP193:BP206)","v":""},"□","春日部市",{"$f":"IF(BR193=\"☑\",TRUE)","v":false},{"$f":"\"東部地域:\"&BS193","v":"東部地域:春日部市"},{"$f":"IF(BT193,BU193,\"\")","v":""},{"$f":"_xludf.TEXTJOIN(\",\",TRUE,BV193:BV206)","v":""},"□","鴻巣市",{"$f":"IF(BX193=\"☑\",TRUE)","v":false},{"$f":"\"県央地域:\"&BY193","v":"県央地域:鴻巣市"},{"$f":"IF(BZ193,CA193,\"\")","v":""},{"$f":"_xludf.TEXTJOIN(\",\",TRUE,CB193:CB206)","v":""},"□","川越市",{"$f":"IF(CD193=\"☑\",TRUE)","v":false},{"$f":"\"川越比企地域:\"&CE193","v":"川越比企地域:川越市"},{"$f":"IF(CF193,CG193,\"\")","v":""},{"$f":"_xludf.TEXTJOIN(\",\",TRUE,CH193:CH206)","v":""},"□","所沢市",{"$f":"IF(CJ193=\"☑\",TRUE)","v":false},{"$f":"\"西部地域:\"&CK193","v":"西部地域:所沢市"},{"$f":"IF(CL193,CM193,\"\")","v":""},{"$f":"_xludf.TEXTJOIN(\",\",TRUE,CN193:CN206)","v":""},"□","行田市",{"$f":"IF(CP193=\"☑\",TRUE)","v":false},{"$f":"\"利根地域:\"&CQ193","v":"利根地域:行田市"},{"$f":"IF(CR193,CS193,\"\")","v":""},{"$f":"_xludf.TEXTJOIN(\",\",TRUE,CT193:CT206)","v":""},"□","熊谷市",{"$f":"IF(CV193=\"☑\",TRUE)","v":false},{"$f":"\"北部地域:\"&CW193","v":"北部地域:熊谷市"},{"$f":"IF(CX193,CY193,\"\")","v":""},{"$f":"_xludf.TEXTJOIN(\",\",TRUE,CZ193:CZ206)","v":""},"□","秩父市",{"$f":"IF(DB193=\"☑\",TRUE)","v":false},{"$f":"\"秩父地域:\"&DC193","v":"秩父地域:秩父市"},{"$f":"IF(DD193,DE193,\"\")","v":""},{"$f":"_xludf.TEXTJOIN(\",\",TRUE,DF193:DF206)","v":""},{"$f":"_xlfn.TEXTJOIN(\",\",TRUE,BE193,BK193,BQ193,BW193,CC193,CI193,CO193,CU193,DA193,DG193)","v":""},null,null,null,null,null,null,null,null,{"$f":"IF(#REF!=\"☑\",TRUE)","v":{"$error":"#REF!"}},{"$f":"IF(DQ193,#REF!,\"\")","v":{"$error":"#REF!"}},{"$f":"_xludf.TEXTJOIN(\",\",TRUE,DR193:DR206)","v":{"$error":"#VALUE!"}}]
[null,null,null,null,null,null,null,null,null,null,null,null,null,null,null,null,null,null,"□","買物サポート",false,"","□","料理デリバリー（出前）",false,"","□","フィットネス・ジム（送迎）",{"$f":"IF(AA194=\"☑\",TRUE)","v":false},{"$f":"IF(AC194,AB194,\"\")","v":""},"□","出張料理",{"$f":"IF(AE194=\"☑\",TRUE)","v":false},{"$f":"IF(AG194,AF194,\"\")","v":""},"□","温泉・銭湯（たまり場）",false,"","□","多目的トイレ",false,"","□","習い事",{"$f":"IF(AQ194=\"☑\",TRUE)","v":false},{"$f":"IF(AS194,AR194,\"\")","v":""},"□","金融・保険",false,"",null,"□","北区",{"$f":"IF(AZ194=\"☑\",TRUE)","v":false},{"$f":"\"さいたま市:\"&BA194","v":"さいたま市:北区"},{"$f":"IF(BB194,BC194,\"\")","v":""},null,"□","蕨市",{"$f":"IF(BF194=\"☑\",TRUE)","v":false},{"$f":"\"南部地域:\"&BG194","v":"南部地域:蕨市"},{"$f":"IF(BH194,BI194,\"\")","v":""},null,"□","志木市",{"$f":"IF(BL194=\"☑\",TRUE)","v":false},{"$f":"\"南西部地域:\"&BM194","v":"南西部地域:志木市"},{"$f":"IF(BN194,BO194,\"\")","v":""},null,"□","草加市",{"$f":"IF(BR194=\"☑\",TRUE)","v":false},{"$f":"\"東部地域:\"&BS194","v":"東部地域:草加市"},"",null,"□","上尾市",{"$f":"IF(BX194=\"☑\",TRUE)","v":false},{"$f":"\"県央地域:\"&BY194","v":"県央地域:上尾市"},{"$f":"IF(BZ194,CA194,\"\")","v":""},null,"□","東松山市",{"$f":"IF(CD194=\"☑\",TRUE)","v":false},{"$f":"\"川越比企地域:\"&CE194","v":"川越比企地域:東松山市"},{"$f":"IF(CF194,CG194,\"\")","v":""},null,"□","飯能市",{"$f":"IF(CJ194=\"☑\",TRUE)","v":false},{"$f":"\"西部地域:\"&CK194","v":"西部地域:飯能市"},{"$f":"IF(CL194,CM194,\"\")","v":""},null,"□","加須市",{"$f":"IF(CP194=\"☑\",TRUE)","v":false},{"$f":"\"利根地域:\"&CQ194","v":"利根地域:加須市"},{"$f":"IF(CR194,CS194,\"\")","v":""},null,"□","本庄市",{"$f":"IF(CV194=\"☑\",TRUE)","v":false},{"$f":"\"北部地域:\"&CW194","v":"北部地域:本庄市"},{"$f":"IF(CX194,CY194,\"\")","v":""},null,"□","横瀬町",{"$f":"IF(DB194=\"☑\",TRUE)","v":false},{"$f":"\"秩父地域:\"&DC194","v":"秩父地域:横瀬町"},{"$f":"IF(DD194,DE194,\"\")","v":""},null,null,null,null,null,null,null,null,null,null,null,{"$f":"IF(DQ194,#REF!,\"\")","v":""}]
[null,null,null,null,null,null,null,null,null,null,null,null,null,null,null,null,null,null,"□","買物代行",false,"","□","食材宅配",false,"","□","温泉・銭湯（送迎）",false,"","□","屋外作業・力仕事",false,"","□","カフェ・ファーストフード",false,"","□","休憩スペース",false,"","□","映画館",false,"","□","住宅・リフォーム",false,"",null,"□","大宮区",false,"さいたま市:大宮区","",null,"□","戸田市",{"$f":"IF(BF195=\"☑\",TRUE)","v":false},{"$f":"\"南部地域:\"&BG195","v":"南部地域:戸田市"},"",null,"□","和光市",false,"南西部地域:和光市","",null,"□","越谷市",false,"東部地域:越谷市","",null,"□","桶川市",{"$f":"IF(BX195=\"☑\",TRUE)","v":false},{"$f":"\"県央地域:\"&BY195","v":"県央地域:桶川市"},"",null,"□","坂戸市",false,"川越比企地域:坂戸市","",null,"□","狭山市",{"$f":"IF(CJ195=\"☑\",TRUE)","v":false},{"$f":"\"西部地域:\"&CK195","v":"西部地域:狭山市"},"",null,"□","羽生市",false,"利根地域:羽生市","",null,"□","深谷市",false,"北部地域:深谷市","",null,"□","皆野町",{"$f":"IF(DB195=\"☑\",TRUE)","v":false},{"$f":"\"秩父地域:\"&DC195","v":"秩父地域:皆野町"},"",null,null,null,null,null,null,null,null,null,null,{"$f":"IF(#REF!=\"☑\",TRUE)","v":{"$error":"#REF!"}},{"$f":"IF(DQ195,#REF!,\"\")","v":{"$error":"#REF!"}}]
[null,null,null,null,null,null,null,null,null,null,null,null,null,null,null,null,null,null,"□","移動販売",false,"","□","日用品配達",false,"","□","整体・マッサージ（送迎）",false,"","□","整体・マッサージ（出張）",false,"","□","飲食店",false,"","□","駐車場",false,"","□","カラオケ店",false,"","□","パソコン・スマートフォン",false,"",null,"□","見沼区",false,"さいたま市:見沼区","",null,null,null,null,null,"",null,"□","新座市",false,"南西部地域:新座市","",null,"□","八潮市",false,"東部地域:八潮市","",null,"□","北本市",{"$f":"IF(BX196=\"☑\",TRUE)","v":false},{"$f":"\"県央地域:\"&BY196","v":"県央地域:北本市"},"",null,"□","鶴ヶ島市",false,"川越比企地域:鶴ヶ島市","",null,"□","入間市",{"$f":"IF(CJ196=\"☑\",TRUE)","v":false},{"$f":"\"西部地域:\"&CK196","v":"西部地域:入間市"},"",null,"□","久喜市",false,"利根地域:久喜市","",null,"□","美里町",false,"北部地域:美里町","",null,"□","長瀞町",{"$f":"IF(DB196=\"☑\",TRUE)","v":false},{"$f":"\"秩父地域:\"&DC196","v":"秩父地域:長瀞町"},""]
[null,null,null,null,null,null,null,null,null,null,null,null,null,null,null,null,null,null,"□","割引サービス",false,"","□","薬・介護用品配達",false,"","□","乗り合いサービス",false,"","□","理容・美容（出張）",false,"","□","イートインスペース",false,"","□","貸しスペース",false,"","□","麻雀・将棋・囲碁",false,"","□","認知症サポート企業",false,"",null,"□","中央区",false,"さいたま市:中央区","",null,null,null,null,null,"",null,"□","富士見市",false,"南西部地域:富士見市","",null,"□","三郷市",false,"東部地域:三郷市","",null,"□","伊奈町",{"$f":"IF(BX197=\"☑\",TRUE)","v":false},{"$f":"\"県央地域:\"&BY197","v":"県央地域:伊奈町"},"",null,"□","毛呂山町",false,"川越比企地域:毛呂山町","",null,"□","日高市",{"$f":"IF(CJ197=\"☑\",TRUE)","v":false},{"$f":"\"西部地域:\"&CK197","v":"西部地域:日高市"},"",null,"□","蓮田市",false,"利根地域:蓮田市","",null,"□","神川町",false,"北部地域:神川町","",null,"□","小鹿野町",{"$f":"IF(DB197=\"☑\",TRUE)","v":false},{"$f":"\"秩父地域:\"&DC197","v":"秩父地域:小鹿野町"},"",null,null,null,null,null,null,null,null,null,null,{"$f":"IF(#REF!=\"☑\",TRUE)","v":{"$error":"#REF!"}},{"$f":"IF(DQ197,#REF!,\"\")","v":{"$error":"#REF!"}}]
[null,null,null,null,null,null,null,null,null,null,null,null,null,null,null,null,null,null,"□","その他（買物）",false,"","□","クリーニング",false,{"$f":"IF(Y198,X198,\"\")","v":""},"□","個別移送サービス",false,"","□","ペット",false,"","□","その他（運動・たまり場）",false,"","□","その他（設備・施設・場所貸し）",false,"","□","ゲームセンター",false,"","□","理容・美容",false,"",null,"□","桜区",false,"さいたま市:桜区","",null,null,null,null,null,"",null,"□","ふじみ野市",false,"南西部地域:ふじみ野市","",null,"□","吉川市",false,"東部地域:吉川市","",null,null,null,null,null,"",null,"□","越生町",false,"川越比企地域:越生町","",null,null,null,null,null,"",null,"□","幸手市",false,"利根地域:幸手市","",null,"□","上里町",false,"北部地域:上里町","",null,null,null,null,null,"",null,null,null,null,null,null,null,null,null,null,{"$f":"IF(#REF!=\"☑\",TRUE)","v":{"$error":"#REF!"}},{"$f":"IF(DQ198,#REF!,\"\")","v":{"$error":"#REF!"}}]
[null,null,null,null,null,null,null,null,null,null,null,null,null,null,null,null,null,null,null,null,null,null,"□","その他（宅配・デリバリー）",false,{"$f":"IF(Y199,X199,\"\")","v":""},"□","交通機関サービス",false,"","□","その他（出張サービス）",false,"",null,null,null,null,null,null,null,null,"□","旅行・レジャー",false,"","□","成年後見・相続",false,"",null,"□","浦和区",false,"さいたま市:浦和区","",null,null,null,null,null,"",null,"□","三芳町",false,"南西部地域:三芳町","",null,"□","松伏町",false,"東部地域:松伏町","",null,null,null,null,null,"",null,"□","滑川町",false,"川越比企地域:滑川町","",null,null,null,null,null,"",null,"□","白岡市",false,"利根地域:白岡市","",null,"□","寄居町",false,"北部地域:寄居町","",null,null,null,null,null,""]
[null,null,null,null,null,null,null,null,null,null,null,null,null,null,null,null,null,null,null,null,null,null,null,null,null,null,"□","その他（送迎・移動支援）",false,"",null,null,null,"",null,null,null,{"$f":"IF(AK200,AJ200,\"\")","v":""},null,null,null,{"$f":"IF(AO200,AN200,\"\")","v":""},"□","パソコン・スマホ教室",false,"","□","その他（生活サービス）",false,"",null,"□","南区",false,"さいたま市:南区","",null,null,null,null,null,"",null,null,null,null,null,"",null,null,null,null,null,"",null,null,null,null,null,"",null,"□","嵐山町",false,"川越比企地域:嵐山町","",null,null,null,null,null,"",null,"□","宮代町",false,"利根地域:宮代町","",null,null,null,null,null,"",null,null,null,null,null,""]
[null,null,null,null,null,null,null,null,null,null,null,null,null,null,null,null,null,null,null,null,null,null,null,null,null,null,null,null,null,null,null,null,null,null,null,null,null,null,null,null,null,null,"□","その他（学び・趣味）",false,"",null,null,null,null,null,"□","緑区",false,"さいたま市:緑区","",null,null,null,null,null,"",null,null,null,null,null,"",null,null,null,null,null,"",null,null,null,null,null,"",null,"□","小川町",false,"川越比企地域:小川町","",null,null,null,null,null,"",null,"□","杉戸町",false,"利根地域:杉戸町","",null,null,null,null,null,"",null,null,null,null,null,""]
[null,null,null,null,null,null,null,null,null,null,null,null,null,null,null,null,null,null,null,null,null,null,null,null,null,null,null,null,null,null,null,null,null,null,null,null,null,null,null,null,null,null,null,null,null,null,null,null,null,null,null,"□","岩槻区",{"$f":"IF(AZ202=\"☑\",TRUE)","v":false},"さいたま市:岩槻区","",null,null,null,null,null,"",null,null,null,null,null,"",null,null,null,null,null,"",null,null,null,null,null,"",null,"□","川島町",false,"川越比企地域:川島町","",null,null,null,null,null,"",null,null,null,null,null,"",null,null,null,null,null,"",null,null,null,null,null,""]
[null,null,null,null,null,null,null,null,null,null,null,null,null,null,null,null,null,null,null,null,null,null,null,null,null,null,null,null,null,null,null,null,null,null,null,null,null,null,null,null,null,null,null,null,null,null,null,null,null,null,null,null,null,null,null,null,null,null,null,null,null,null,null,null,null,null,null,null,null,null,null,null,null,null,null,null,null,null,null,null,null,"□","吉見町",false,"川越比企地域:吉見町","",null,null,null,null,null,"",null,null,null,null,null,"",null,null,null,null,null,"",null,null,null,null,null,""]
[null,null,null,null,null,null,null,null,null,null,null,null,null,null,null,null,null,null,null,null,null,null,null,null,null,null,null,null,null,null,null,null,null,null,null,null,null,null,null,null,null,null,null,null,null,null,null,null,null,null,null,null,null,null,null,null,null,null,null,null,null,null,null,null,null,null,null,null,null,null,null,null,null,null,null,null,null,null,null,null,null,"□","鳩山町",false,"川越比企地域:鳩山町","",null,null,null,null,null,"",null,null,null,null,null,"",null,null,null,null,null,"",null,null,null,null,null,""]
[null,null,null,null,null,null,null,null,null,null,null,null,null,null,null,null,null,null,null,null,null,null,null,null,null,null,null,null,null,null,null,null,null,null,null,null,null,null,null,null,null,null,null,null,null,null,null,null,null,null,null,null,null,null,null,null,null,null,null,null,null,null,null,null,null,null,null,null,null,null,null,null,null,null,null,null,null,null,null,null,null,"□","ときがわ町",false,"川越比企地域:ときがわ町","",null,null,null,null,null,"",null,null,null,null,null,"",null,null,null,null,null,"",null,null,null,null,null,""]
[null,null,null,null,null,null,null,null,null,null,null,null,null,null,null,null,null,null,null,null,null,null,null,null,null,null,null,null,null,null,null,null,null,null,null,null,null,null,null,null,null,null,null,null,null,null,null,null,null,null,null,null,null,null,null,null,null,null,null,null,null,null,null,null,null,null,null,null,null,null,null,null,null,null,null,null,null,null,null,null,null,"□","東秩父村",false,"川越比企地域:東秩父村","",null,null,null,null,null,"",null,null,null,null,null,"",null,null,null,null,null,"",null,null,null,null,null,""]
[14,null,null,null,null,null,null,null,null,null,null,null,null,null,null,null,null,null,"□","配送",{"$f":"IF(S207=\"☑\",TRUE)","v":false},{"$f":"IF(U207,T207,\"\")","v":""},"□","弁当配達",{"$f":"IF(W207=\"☑\",TRUE)","v":false},{"$f":"IF(Y207,X207,\"\")","v":""},"□","理容・美容（送迎）",{"$f":"IF(AA207=\"☑\",TRUE)","v":false},{"$f":"IF(AC207,AB207,\"\")","v":""},"□","家事代行・掃除・片付け",{"$f":"IF(AE207=\"☑\",TRUE)","v":false},{"$f":"IF(AG207,AF207,\"\")","v":""},"□","フィットネス・ジム（運動）",{"$f":"IF(AI207=\"☑\",TRUE)","v":false},{"$f":"IF(AK207,AJ207,\"\")","v":""},"□","車イス対応（バリアフリー）",{"$f":"IF(AM207=\"☑\",TRUE)","v":false},{"$f":"IF(AO207,AN207,\"\")","v":""},"□","講座・教室・イベント",{"$f":"IF(AQ207=\"☑\",TRUE)","v":false},{"$f":"IF(AS207,AR207,\"\")","v":""},"□","防犯・見守り",{"$f":"IF(AU207=\"☑\",TRUE)","v":false},{"$f":"IF(AW207,AV207,\"\")","v":""},{"$f":"_xludf.TEXTJOIN(\",\",TRUE,V207:V220,Z207:Z220,AD207:AD220,AH207:AH220,AL207:AL220,AP207:AP220,AT207:AT220,AX207:AX220)","v":""},"□","西区",{"$f":"IF(AZ207=\"☑\",TRUE)","v":false},{"$f":"\"さいたま市:\"&BA207","v":"さいたま市:西区"},{"$f":"IF(BB207,BC207,\"\")","v":""},{"$f":"_xludf.TEXTJOIN(\",\",TRUE,BD207:BD220)","v":""},"□","川口市",{"$f":"IF(BF207=\"☑\",TRUE)","v":false},{"$f":"\"南部地域:\"&BG207","v":"南部地域:川口市"},{"$f":"IF(BH207,BI207,\"\")","v":""},{"$f":"_xludf.TEXTJOIN(\",\",TRUE,BJ207:BJ220)","v":""},"□","朝霞市",{"$f":"IF(BL207=\"☑\",TRUE)","v":false},{"$f":"\"南西部地域:\"&BM207","v":"南西部地域:朝霞市"},{"$f":"IF(BN207,BO207,\"\")","v":""},{"$f":"_xludf.TEXTJOIN(\",\",TRUE,BP207:BP220)","v":""},"□","春日部市",{"$f":"IF(BR207=\"☑\",TRUE)","v":false},{"$f":"\"東部地域:\"&BS207","v":"東部地域:春日部市"},{"$f":"IF(BT207,BU207,\"\")","v":""},{"$f":"_xludf.TEXTJOIN(\",\",TRUE,BV207:BV220)","v":""},"□","鴻巣市",{"$f":"IF(BX207=\"☑\",TRUE)","v":false},{"$f":"\"県央地域:\"&BY207","v":"県央地域:鴻巣市"},{"$f":"IF(BZ207,CA207,\"\")","v":""},{"$f":"_xludf.TEXTJOIN(\",\",TRUE,CB207:CB220)","v":""},"□","川越市",{"$f":"IF(CD207=\"☑\",TRUE)","v":false},{"$f":"\"川越比企地域:\"&CE207","v":"川越比企地域:川越市"},{"$f":"IF(CF207,CG207,\"\")","v":""},{"$f":"_xludf.TEXTJOIN(\",\",TRUE,CH207:CH220)","v":""},"□","所沢市",{"$f":"IF(CJ207=\"☑\",TRUE)","v":false},{"$f":"\"西部地域:\"&CK207","v":"西部地域:所沢市"},{"$f":"IF(CL207,CM207,\"\")","v":""},{"$f":"_xludf.TEXTJOIN(\",\",TRUE,CN207:CN220)","v":""},"□","行田市",{"$f":"IF(CP207=\"☑\",TRUE)","v":false},{"$f":"\"利根地域:\"&CQ207","v":"利根地域:行田市"},{"$f":"IF(CR207,CS207,\"\")","v":""},{"$f":"_xludf.TEXTJOIN(\",\",TRUE,CT207:CT220)","v":""},"□","熊谷市",{"$f":"IF(CV207=\"☑\",TRUE)","v":false},{"$f":"\"北部地域:\"&CW207","v":"北部地域:熊谷市"},{"$f":"IF(CX207,CY207,\"\")","v":""},{"$f":"_xludf.TEXTJOIN(\",\",TRUE,CZ207:CZ220)","v":""},"□","秩父市",{"$f":"IF(DB207=\"☑\",TRUE)","v":false},{"$f":"\"秩父地域:\"&DC207","v":"秩父地域:秩父市"},{"$f":"IF(DD207,DE207,\"\")","v":""},{"$f":"_xludf.TEXTJOIN(\",\",TRUE,DF207:DF220)","v":""},{"$f":"_xlfn.TEXTJOIN(\",\",TRUE,BE207,BK207,BQ207,BW207,CC207,CI207,CO207,CU207,DA207,DG207)","v":""},null,null,null,null,null,null,null,null,{"$f":"IF(#REF!=\"☑\",TRUE)","v":{"$error":"#REF!"}},{"$f":"IF(DQ207,#REF!,\"\")","v":{"$error":"#REF!"}},{"$f":"_xludf.TEXTJOIN(\",\",TRUE,DR207:DR220)","v":{"$error":"#VALUE!"}}]
[null,null,null,null,null,null,null,null,null,null,null,null,null,null,null,null,null,null,"□","買物サポート",false,"","□","料理デリバリー（出前）",false,"","□","フィットネス・ジム（送迎）",{"$f":"IF(AA208=\"☑\",TRUE)","v":false},{"$f":"IF(AC208,AB208,\"\")","v":""},"□","出張料理",{"$f":"IF(AE208=\"☑\",TRUE)","v":false},{"$f":"IF(AG208,AF208,\"\")","v":""},"□","温泉・銭湯（たまり場）",false,"","□","多目的トイレ",false,"","□","習い事",{"$f":"IF(AQ208=\"☑\",TRUE)","v":false},{"$f":"IF(AS208,AR208,\"\")","v":""},"□","金融・保険",false,"",null,"□","北区",{"$f":"IF(AZ208=\"☑\",TRUE)","v":false},{"$f":"\"さいたま市:\"&BA208","v":"さいたま市:北区"},{"$f":"IF(BB208,BC208,\"\")","v":""},null,"□","蕨市",{"$f":"IF(BF208=\"☑\",TRUE)","v":false},{"$f":"\"南部地域:\"&BG208","v":"南部地域:蕨市"},{"$f":"IF(BH208,BI208,\"\")","v":""},null,"□","志木市",{"$f":"IF(BL208=\"☑\",TRUE)","v":false},{"$f":"\"南西部地域:\"&BM208","v":"南西部地域:志木市"},{"$f":"IF(BN208,BO208,\"\")","v":""},null,"□","草加市",{"$f":"IF(BR208=\"☑\",TRUE)","v":false},{"$f":"\"東部地域:\"&BS208","v":"東部地域:草加市"},"",null,"□","上尾市",{"$f":"IF(BX208=\"☑\",TRUE)","v":false},{"$f":"\"県央地域:\"&BY208","v":"県央地域:上尾市"},{"$f":"IF(BZ208,CA208,\"\")","v":""},null,"□","東松山市",{"$f":"IF(CD208=\"☑\",TRUE)","v":false},{"$f":"\"川越比企地域:\"&CE208","v":"川越比企地域:東松山市"},{"$f":"IF(CF208,CG208,\"\")","v":""},null,"□","飯能市",{"$f":"IF(CJ208=\"☑\",TRUE)","v":false},{"$f":"\"西部地域:\"&CK208","v":"西部地域:飯能市"},{"$f":"IF(CL208,CM208,\"\")","v":""},null,"□","加須市",{"$f":"IF(CP208=\"☑\",TRUE)","v":false},{"$f":"\"利根地域:\"&CQ208","v":"利根地域:加須市"},{"$f":"IF(CR208,CS208,\"\")","v":""},null,"□","本庄市",{"$f":"IF(CV208=\"☑\",TRUE)","v":false},{"$f":"\"北部地域:\"&CW208","v":"北部地域:本庄市"},{"$f":"IF(CX208,CY208,\"\")","v":""},null,"□","横瀬町",{"$f":"IF(DB208=\"☑\",TRUE)","v":false},{"$f":"\"秩父地域:\"&DC208","v":"秩父地域:横瀬町"},{"$f":"IF(DD208,DE208,\"\")","v":""},null,null,null,null,null,null,null,null,null,null,null,{"$f":"IF(DQ208,#REF!,\"\")","v":""}]
[null,null,null,null,null,null,null,null,null,null,null,null,null,null,null,null,null,null,"□","買物代行",false,"","□","食材宅配",false,"","□","温泉・銭湯（送迎）",false,"","□","屋外作業・力仕事",false,"","□","カフェ・ファーストフード",false,"","□","休憩スペース",false,"","□","映画館",false,"","□","住宅・リフォーム",false,"",null,"□","大宮区",false,"さいたま市:大宮区","",null,"□","戸田市",{"$f":"IF(BF209=\"☑\",TRUE)","v":false},{"$f":"\"南部地域:\"&BG209","v":"南部地域:戸田市"},"",null,"□","和光市",false,"南西部地域:和光市","",null,"□","越谷市",false,"東部地域:越谷市","",null,"□","桶川市",{"$f":"IF(BX209=\"☑\",TRUE)","v":false},{"$f":"\"県央地域:\"&BY209","v":"県央地域:桶川市"},"",null,"□","坂戸市",false,"川越比企地域:坂戸市","",null,"□","狭山市",{"$f":"IF(CJ209=\"☑\",TRUE)","v":false},{"$f":"\"西部地域:\"&CK209","v":"西部地域:狭山市"},"",null,"□","羽生市",false,"利根地域:羽生市","",null,"□","深谷市",false,"北部地域:深谷市","",null,"□","皆野町",{"$f":"IF(DB209=\"☑\",TRUE)","v":false},{"$f":"\"秩父地域:\"&DC209","v":"秩父地域:皆野町"},"",null,null,null,null,null,null,null,null,null,null,{"$f":"IF(#REF!=\"☑\",TRUE)","v":{"$error":"#REF!"}},{"$f":"IF(DQ209,#REF!,\"\")","v":{"$error":"#REF!"}}]
[null,null,null,null,null,null,null,null,null,null,null,null,null,null,null,null,null,null,"□","移動販売",false,"","□","日用品配達",false,"","□","整体・マッサージ（送迎）",false,"","□","整体・マッサージ（出張）",false,"","□","飲食店",false,"","□","駐車場",false,"","□","カラオケ店",false,"","□","パソコン・スマートフォン",false,"",null,"□","見沼区",false,"さいたま市:見沼区","",null,null,null,null,null,"",null,"□","新座市",false,"南西部地域:新座市","",null,"□","八潮市",false,"東部地域:八潮市","",null,"□","北本市",{"$f":"IF(BX210=\"☑\",TRUE)","v":false},{"$f":"\"県央地域:\"&BY210","v":"県央地域:北本市"},"",null,"□","鶴ヶ島市",false,"川越比企地域:鶴ヶ島市","",null,"□","入間市",{"$f":"IF(CJ210=\"☑\",TRUE)","v":false},{"$f":"\"西部地域:\"&CK210","v":"西部地域:入間市"},"",null,"□","久喜市",false,"利根地域:久喜市","",null,"□","美里町",false,"北部地域:美里町","",null,"□","長瀞町",{"$f":"IF(DB210=\"☑\",TRUE)","v":false},{"$f":"\"秩父地域:\"&DC210","v":"秩父地域:長瀞町"},""]
[null,null,null,null,null,null,null,null,null,null,null,null,null,null,null,null,null,null,"□","割引サービス",false,"","□","薬・介護用品配達",false,"","□","乗り合いサービス",false,"","□","理容・美容（出張）",false,"","□","イートインスペース",false,"","□","貸しスペース",false,"","□","麻雀・将棋・囲碁",false,"","□","認知症サポート企業",false,"",null,"□","中央区",false,"さいたま市:中央区","",null,null,null,null,null,"",null,"□","富士見市",false,"南西部地域:富士見市","",null,"□","三郷市",false,"東部地域:三郷市","",null,"□","伊奈町",{"$f":"IF(BX211=\"☑\",TRUE)","v":false},{"$f":"\"県央地域:\"&BY211","v":"県央地域:伊奈町"},"",null,"□","毛呂山町",false,"川越比企地域:毛呂山町","",null,"□","日高市",{"$f":"IF(CJ211=\"☑\",TRUE)","v":false},{"$f":"\"西部地域:\"&CK211","v":"西部地域:日高市"},"",null,"□","蓮田市",false,"利根地域:蓮田市","",null,"□","神川町",false,"北部地域:神川町","",null,"□","小鹿野町",{"$f":"IF(DB211=\"☑\",TRUE)","v":false},{"$f":"\"秩父地域:\"&DC211","v":"秩父地域:小鹿野町"},"",null,null,null,null,null,null,null,null,null,null,{"$f":"IF(#REF!=\"☑\",TRUE)","v":{"$error":"#REF!"}},{"$f":"IF(DQ211,#REF!,\"\")","v":{"$error":"#REF!"}}]
[null,null,null,null,null,null,null,null,null,null,null,null,null,null,null,null,null,null,"□","その他（買物）",false,"","□","クリーニング",false,{"$f":"IF(Y212,X212,\"\")","v":""},"□","個別移送サービス",false,"","□","ペット",false,"","□","その他（運動・たまり場）",false,"","□","その他（設備・施設・場所貸し）",false,"","□","ゲームセンター",false,"","□","理容・美容",false,"",null,"□","桜区",false,"さいたま市:桜区","",null,null,null,null,null,"",null,"□","ふじみ野市",false,"南西部地域:ふじみ野市","",null,"□","吉川市",false,"東部地域:吉川市","",null,null,null,null,null,"",null,"□","越生町",false,"川越比企地域:越生町","",null,null,null,null,null,"",null,"□","幸手市",false,"利根地域:幸手市","",null,"□","上里町",false,"北部地域:上里町","",null,null,null,null,null,"",null,null,null,null,null,null,null,null,null,null,{"$f":"IF(#REF!=\"☑\",TRUE)","v":{"$error":"#REF!"}},{"$f":"IF(DQ212,#REF!,\"\")","v":{"$error":"#REF!"}}]
[null,null,null,null,null,null,null,null,null,null,null,null,null,null,null,null,null,null,null,null,null,null,"□","その他（宅配・デリバリー）",false,{"$f":"IF(Y213,X213,\"\")","v":""},"□","交通機関サービス",false,"","□","その他（出張サービス）",false,"",null,null,null,null,null,null,null,null,"□","旅行・レジャー",false,"","□","成年後見・相続",false,"",null,"□","浦和区",false,"さいたま市:浦和区","",null,null,null,null,null,"",null,"□","三芳町",false,"南西部地域:三芳町","",null,"□","松伏町",false,"東部地域:松伏町","",null,null,null,null,null,"",null,"□","滑川町",false,"川越比企地域:滑川町","",null,null,null,null,null,"",null,"□","白岡市",false,"利根地域:白岡市","",null,"□","寄居町",false,"北部地域:寄居町","",null,null,null,null,null,""]
[null,null,null,null,null,null,null,null,null,null,null,null,null,null,null,null,null,null,null,null,null,null,null,null,null,null,"□","その他（送迎・移動支援）",false,"",null,null,null,"",null,null,null,{"$f":"IF(AK214,AJ214,\"\")","v":""},null,null,null,{"$f":"IF(AO214,AN214,\"\")","v":""},"□","パソコン・スマホ教室",false,"","□","その他（生活サービス）",false,"",null,"□","南区",false,"さいたま市:南区","",null,null,null,null,null,"",null,null,null,null,null,"",null,null,null,null,null,"",null,null,null,null,null,"",null,"□","嵐山町",false,"川越比企地域:嵐山町","",null,null,null,null,null,"",null,"□","宮代町",false,"利根地域:宮代町","",null,null,null,null,null,"",null,null,null,null,null,""]
[null,null,null,null,null,null,null,null,null,null,null,null,null,null,null,null,null,null,null,null,null,null,null,null,null,null,null,null,null,null,null,null,null,null,null,null,null,null,null,null,null,null,"□","その他（学び・趣味）",false,"",null,null,null,null,null,"□","緑区",false,"さいたま市:緑区","",null,null,null,null,null,"",null,null,null,null,null,"",null,null,null,null,null,"",null,null,null,null,null,"",null,"□","小川町",false,"川越比企地域:小川町","",null,null,null,null,null,"",null,"□","杉戸町",false,"利根地域:杉戸町","",null,null,null,null,null,"",null,null,null,null,null,""]
[null,null,null,null,null,null,null,null,null,null,null,null,null,null,null,null,null,null,null,null,null,null,null,null,null,null,null,null,null,null,null,null,null,null,null,null,null,null,null,null,null,null,null,null,null,null,null,null,null,null,null,"□","岩槻区",{"$f":"IF(AZ216=\"☑\",TRUE)","v":false},"さいたま市:岩槻区","",null,null,null,null,null,"",null,null,null,null,null,"",null,null,null,null,null,"",null,null,null,null,null,"",null,"□","川島町",false,"川越比企地域:川島町","",null,null,null,null,null,"",null,null,null,null,null,"",null,null,null,null,null,"",null,null,null,null,null,""]
[null,null,null,null,null,null,null,null,null,null,null,null,null,null,null,null,null,null,null,null,null,null,null,null,null,null,null,null,null,null,null,null,null,null,null,null,null,null,null,null,null,null,null,null,null,null,null,null,null,null,null,null,null,null,null,null,null,null,null,null,null,null,null,null,null,null,null,null,null,null,null,null,null,null,null,null,null,null,null,null,null,"□","吉見町",false,"川越比企地域:吉見町","",null,null,null,null,null,"",null,null,null,null,null,"",null,null,null,null,null,"",null,null,null,null,null,""]
[null,null,null,null,null,null,null,null,null,null,null,null,null,null,null,null,null,null,null,null,null,null,null,null,null,null,null,null,null,null,null,null,null,null,null,null,null,null,null,null,null,null,null,null,null,null,null,null,null,null,null,null,null,null,null,null,null,null,null,null,null,null,null,null,null,null,null,null,null,null,null,null,null,null,null,null,null,null,null,null,null,"□","鳩山町",false,"川越比企地域:鳩山町","",null,null,null,null,null,"",null,null,null,null,null,"",null,null,null,null,null,"",null,null,null,null,null,""]
[null,null,null,null,null,null,null,null,null,null,null,null,null,null,null,null,null,null,null,null,null,null,null,null,null,null,null,null,null,null,null,null,null,null,null,null,null,null,null,null,null,null,null,null,null,null,null,null,null,null,null,null,null,null,null,null,null,null,null,null,null,null,null,null,null,null,null,null,null,null,null,null,null,null,null,null,null,null,null,null,null,"□","ときがわ町",false,"川越比企地域:ときがわ町","",null,null,null,null,null,"",null,null,null,null,null,"",null,null,null,null,null,"",null,null,null,null,null,""]
[null,null,null,null,null,null,null,null,null,null,null,null,null,null,null,null,null,null,null,null,null,null,null,null,null,null,null,null,null,null,null,null,null,null,null,null,null,null,null,null,null,null,null,null,null,null,null,null,null,null,null,null,null,null,null,null,null,null,null,null,null,null,null,null,null,null,null,null,null,null,null,null,null,null,null,null,null,null,null,null,null,"□","東秩父村",false,"川越比企地域:東秩父村","",null,null,null,null,null,"",null,null,null,null,null,"",null,null,null,null,null,"",null,null,null,null,null,""]
[15,null,null,null,null,null,null,null,null,null,null,null,null,null,null,null,null,null,"□","配送",{"$f":"IF(S221=\"☑\",TRUE)","v":false},{"$f":"IF(U221,T221,\"\")","v":""},"□","弁当配達",{"$f":"IF(W221=\"☑\",TRUE)","v":false},{"$f":"IF(Y221,X221,\"\")","v":""},"□","理容・美容（送迎）",{"$f":"IF(AA221=\"☑\",TRUE)","v":false},{"$f":"IF(AC221,AB221,\"\")","v":""},"□","家事代行・掃除・片付け",{"$f":"IF(AE221=\"☑\",TRUE)","v":false},{"$f":"IF(AG221,AF221,\"\")","v":""},"□","フィットネス・ジム（運動）",{"$f":"IF(AI221=\"☑\",TRUE)","v":false},{"$f":"IF(AK221,AJ221,\"\")","v":""},"□","車イス対応（バリアフリー）",{"$f":"IF(AM221=\"☑\",TRUE)","v":false},{"$f":"IF(AO221,AN221,\"\")","v":""},"□","講座・教室・イベント",{"$f":"IF(AQ221=\"☑\",TRUE)","v":false},{"$f":"IF(AS221,AR221,\"\")","v":""},"□","防犯・見守り",{"$f":"IF(AU221=\"☑\",TRUE)","v":false},{"$f":"IF(AW221,AV221,\"\")","v":""},{"$f":"_xludf.TEXTJOIN(\",\",TRUE,V221:V234,Z221:Z234,AD221:AD234,AH221:AH234,AL221:AL234,AP221:AP234,AT221:AT234,AX221:AX234)","v":""},"□","西区",{"$f":"IF(AZ221=\"☑\",TRUE)","v":false},{"$f":"\"さいたま市:\"&BA221","v":"さいたま市:西区"},{"$f":"IF(BB221,BC221,\"\")","v":""},{"$f":"_xludf.TEXTJOIN(\",\",TRUE,BD221:BD234)","v":""},"□","川口市",{"$f":"IF(BF221=\"☑\",TRUE)","v":false},{"$f":"\"南部地域:\"&BG221","v":"南部地域:川口市"},{"$f":"IF(BH221,BI221,\"\")","v":""},{"$f":"_xludf.TEXTJOIN(\",\",TRUE,BJ221:BJ234)","v":""},"□","朝霞市",{"$f":"IF(BL221=\"☑\",TRUE)","v":false},{"$f":"\"南西部地域:\"&BM221","v":"南西部地域:朝霞市"},{"$f":"IF(BN221,BO221,\"\")","v":""},{"$f":"_xludf.TEXTJOIN(\",\",TRUE,BP221:BP234)","v":""},"□","春日部市",{"$f":"IF(BR221=\"☑\",TRUE)","v":false},{"$f":"\"東部地域:\"&BS221","v":"東部地域:春日部市"},{"$f":"IF(BT221,BU221,\"\")","v":""},{"$f":"_xludf.TEXTJOIN(\",\",TRUE,BV221:BV234)","v":""},"□","鴻巣市",{"$f":"IF(BX221=\"☑\",TRUE)","v":false},{"$f":"\"県央地域:\"&BY221","v":"県央地域:鴻巣市"},{"$f":"IF(BZ221,CA221,\"\")","v":""},{"$f":"_xludf.TEXTJOIN(\",\",TRUE,CB221:CB234)","v":""},"□","川越市",{"$f":"IF(CD221=\"☑\",TRUE)","v":false},{"$f":"\"川越比企地域:\"&CE221","v":"川越比企地域:川越市"},{"$f":"IF(CF221,CG221,\"\")","v":""},{"$f":"_xludf.TEXTJOIN(\",\",TRUE,CH221:CH234)","v":""},"□","所沢市",{"$f":"IF(CJ221=\"☑\",TRUE)","v":false},{"$f":"\"西部地域:\"&CK221","v":"西部地域:所沢市"},{"$f":"IF(CL221,CM221,\"\")","v":""},{"$f":"_xludf.TEXTJOIN(\",\",TRUE,CN221:CN234)","v":""},"□","行田市",{"$f":"IF(CP221=\"☑\",TRUE)","v":false},{"$f":"\"利根地域:\"&CQ221","v":"利根地域:行田市"},{"$f":"IF(CR221,CS221,\"\")","v":""},{"$f":"_xludf.TEXTJOIN(\",\",TRUE,CT221:CT234)","v":""},"□","熊谷市",{"$f":"IF(CV221=\"☑\",TRUE)","v":false},{"$f":"\"北部地域:\"&CW221","v":"北部地域:熊谷市"},{"$f":"IF(CX221,CY221,\"\")","v":""},{"$f":"_xludf.TEXTJOIN(\",\",TRUE,CZ221:CZ234)","v":""},"□","秩父市",{"$f":"IF(DB221=\"☑\",TRUE)","v":false},{"$f":"\"秩父地域:\"&DC221","v":"秩父地域:秩父市"},{"$f":"IF(DD221,DE221,\"\")","v":""},{"$f":"_xludf.TEXTJOIN(\",\",TRUE,DF221:DF234)","v":""},{"$f":"_xlfn.TEXTJOIN(\",\",TRUE,BE221,BK221,BQ221,BW221,CC221,CI221,CO221,CU221,DA221,DG221)","v":""},null,null,null,null,null,null,null,null,{"$f":"IF(#REF!=\"☑\",TRUE)","v":{"$error":"#REF!"}},{"$f":"IF(DQ221,#REF!,\"\")","v":{"$error":"#REF!"}},{"$f":"_xludf.TEXTJOIN(\",\",TRUE,DR221:DR234)","v":{"$error":"#VALUE!"}}]
[null,null,null,null,null,null,null,null,null,null,null,null,null,null,null,null,null,null,"□","買物サポート",false,"","□","料理デリバリー（出前）",false,"","□","フィットネス・ジム（送迎）",{"$f":"IF(AA222=\"☑\",TRUE)","v":false},{"$f":"IF(AC222,AB222,\"\")","v":""},"□","出張料理",{"$f":"IF(AE222=\"☑\",TRUE)","v":false},{"$f":"IF(AG222,AF222,\"\")","v":""},"□","温泉・銭湯（たまり場）",false,"","□","多目的トイレ",false,"","□","習い事",{"$f":"IF(AQ222=\"☑\",TRUE)","v":false},{"$f":"IF(AS222,AR222,\"\")","v":""},"□","金融・保険",false,"",null,"□","北区",{"$f":"IF(AZ222=\"☑\",TRUE)","v":false},{"$f":"\"さいたま市:\"&BA222","v":"さいたま市:北区"},{"$f":"IF(BB222,BC222,\"\")","v":""},null,"□","蕨市",{"$f":"IF(BF222=\"☑\",TRUE)","v":false},{"$f":"\"南部地域:\"&BG222","v":"南部地域:蕨市"},{"$f":"IF(BH222,BI222,\"\")","v":""},null,"□","志木市",{"$f":"IF(BL222=\"☑\",TRUE)","v":false},{"$f":"\"南西部地域:\"&BM222","v":"南西部地域:志木市"},{"$f":"IF(BN222,BO222,\"\")","v":""},null,"□","草加市",{"$f":"IF(BR222=\"☑\",TRUE)","v":false},{"$f":"\"東部地域:\"&BS222","v":"東部地域:草加市"},"",null,"□","上尾市",{"$f":"IF(BX222=\"☑\",TRUE)","v":false},{"$f":"\"県央地域:\"&BY222","v":"県央地域:上尾市"},{"$f":"IF(BZ222,CA222,\"\")","v":""},null,"□","東松山市",{"$f":"IF(CD222=\"☑\",TRUE)","v":false},{"$f":"\"川越比企地域:\"&CE222","v":"川越比企地域:東松山市"},{"$f":"IF(CF222,CG222,\"\")","v":""},null,"□","飯能市",{"$f":"IF(CJ222=\"☑\",TRUE)","v":false},{"$f":"\"西部地域:\"&CK222","v":"西部地域:飯能市"},{"$f":"IF(CL222,CM222,\"\")","v":""},null,"□","加須市",{"$f":"IF(CP222=\"☑\",TRUE)","v":false},{"$f":"\"利根地域:\"&CQ222","v":"利根地域:加須市"},{"$f":"IF(CR222,CS222,\"\")","v":""},null,"□","本庄市",{"$f":"IF(CV222=\"☑\",TRUE)","v":false},{"$f":"\"北部地域:\"&CW222","v":"北部地域:本庄市"},{"$f":"IF(CX222,CY222,\"\")","v":""},null,"□","横瀬町",{"$f":"IF(DB222=\"☑\",TRUE)","v":false},{"$f":"\"秩父地域:\"&DC222","v":"秩父地域:横瀬町"},{"$f":"IF(DD222,DE222,\"\")","v":""},null,null,null,null,null,null,null,null,null,null,null,{"$f":"IF(DQ222,#REF!,\"\")","v":""}]
[null,null,null,null,null,null,null,null,null,null,null,null,null,null,null,null,null,null,"□","買物代行",false,"","□","食材宅配",false,"","□","温泉・銭湯（送迎）",false,"","□","屋外作業・力仕事",false,"","□","カフェ・ファーストフード",false,"","□","休憩スペース",false,"","□","映画館",false,"","□","住宅・リフォーム",false,"",null,"□","大宮区",false,"さいたま市:大宮区","",null,"□","戸田市",{"$f":"IF(BF223=\"☑\",TRUE)","v":false},{"$f":"\"南部地域:\"&BG223","v":"南部地域:戸田市"},"",null,"□","和光市",false,"南西部地域:和光市","",null,"□","越谷市",false,"東部地域:越谷市","",null,"□","桶川市",{"$f":"IF(BX223=\"☑\",TRUE)","v":false},{"$f":"\"県央地域:\"&BY223","v":"県央地域:桶川市"},"",null,"□","坂戸市",false,"川越比企地域:坂戸市","",null,"□","狭山市",{"$f":"IF(CJ223=\"☑\",TRUE)","v":false},{"$f":"\"西部地域:\"&CK223","v":"西部地域:狭山市"},"",null,"□","羽生市",false,"利根地域:羽生市","",null,"□","深谷市",false,"北部地域:深谷市","",null,"□","皆野町",{"$f":"IF(DB223=\"☑\",TRUE)","v":false},{"$f":"\"秩父地域:\"&DC223","v":"秩父地域:皆野町"},"",null,null,null,null,null,null,null,null,null,null,{"$f":"IF(#REF!=\"☑\",TRUE)","v":{"$error":"#REF!"}},{"$f":"IF(DQ223,#REF!,\"\")","v":{"$error":"#REF!"}}]
[null,null,null,null,null,null,null,null,null,null,null,null,null,null,null,null,null,null,"□","移動販売",false,"","□","日用品配達",false,"","□","整体・マッサージ（送迎）",false,"","□","整体・マッサージ（出張）",false,"","□","飲食店",false,"","□","駐車場",false,"","□","カラオケ店",false,"","□","パソコン・スマートフォン",false,"",null,"□","見沼区",false,"さいたま市:見沼区","",null,null,null,null,null,"",null,"□","新座市",false,"南西部地域:新座市","",null,"□","八潮市",false,"東部地域:八潮市","",null,"□","北本市",{"$f":"IF(BX224=\"☑\",TRUE)","v":false},{"$f":"\"県央地域:\"&BY224","v":"県央地域:北本市"},"",null,"□","鶴ヶ島市",false,"川越比企地域:鶴ヶ島市","",null,"□","入間市",{"$f":"IF(CJ224=\"☑\",TRUE)","v":false},{"$f":"\"西部地域:\"&CK224","v":"西部地域:入間市"},"",null,"□","久喜市",false,"利根地域:久喜市","",null,"□","美里町",false,"北部地域:美里町","",null,"□","長瀞町",{"$f":"IF(DB224=\"☑\",TRUE)","v":false},{"$f":"\"秩父地域:\"&DC224","v":"秩父地域:長瀞町"},""]
[null,null,null,null,null,null,null,null,null,null,null,null,null,null,null,null,null,null,"□","割引サービス",false,"","□","薬・介護用品配達",false,"","□","乗り合いサービス",false,"","□","理容・美容（出張）",false,"","□","イートインスペース",false,"","□","貸しスペース",false,"","□","麻雀・将棋・囲碁",false,"","□","認知症サポート企業",false,"",null,"□","中央区",false,"さいたま市:中央区","",null,null,null,null,null,"",null,"□","富士見市",false,"南西部地域:富士見市","",null,"□","三郷市",false,"東部地域:三郷市","",null,"□","伊奈町",{"$f":"IF(BX225=\"☑\",TRUE)","v":false},{"$f":"\"県央地域:\"&BY225","v":"県央地域:伊奈町"},"",null,"□","毛呂山町",false,"川越比企地域:毛呂山町","",null,"□","日高市",{"$f":"IF(CJ225=\"☑\",TRUE)","v":false},{"$f":"\"西部地域:\"&CK225","v":"西部地域:日高市"},"",null,"□","蓮田市",false,"利根地域:蓮田市","",null,"□","神川町",false,"北部地域:神川町","",null,"□","小鹿野町",{"$f":"IF(DB225=\"☑\",TRUE)","v":false},{"$f":"\"秩父地域:\"&DC225","v":"秩父地域:小鹿野町"},"",null,null,null,null,null,null,null,null,null,null,{"$f":"IF(#REF!=\"☑\",TRUE)","v":{"$error":"#REF!"}},{"$f":"IF(DQ225,#REF!,\"\")","v":{"$error":"#REF!"}}]
[null,null,null,null,null,null,null,null,null,null,null,null,null,null,null,null,null,null,"□","その他（買物）",false,"","□","クリーニング",false,{"$f":"IF(Y226,X226,\"\")","v":""},"□","個別移送サービス",false,"","□","ペット",false,"","□","その他（運動・たまり場）",false,"","□","その他（設備・施設・場所貸し）",false,"","□","ゲームセンター",false,"","□","理容・美容",false,"",null,"□","桜区",false,"さいたま市:桜区","",null,null,null,null,null,"",null,"□","ふじみ野市",false,"南西部地域:ふじみ野市","",null,"□","吉川市",false,"東部地域:吉川市","",null,null,null,null,null,"",null,"□","越生町",false,"川越比企地域:越生町","",null,null,null,null,null,"",null,"□","幸手市",false,"利根地域:幸手市","",null,"□","上里町",false,"北部地域:上里町","",null,null,null,null,null,"",null,null,null,null,null,null,null,null,null,null,{"$f":"IF(#REF!=\"☑\",TRUE)","v":{"$error":"#REF!"}},{"$f":"IF(DQ226,#REF!,\"\")","v":{"$error":"#REF!"}}]
[null,null,null,null,null,null,null,null,null,null,null,null,null,null,null,null,null,null,null,null,null,null,"□","その他（宅配・デリバリー）",false,{"$f":"IF(Y227,X227,\"\")","v":""},"□","交通機関サービス",false,"","□","その他（出張サービス）",false,"",null,null,null,null,null,null,null,null,"□","旅行・レジャー",false,"","□","成年後見・相続",false,"",null,"□","浦和区",false,"さいたま市:浦和区","",null,null,null,null,null,"",null,"□","三芳町",false,"南西部地域:三芳町","",null,"□","松伏町",false,"東部地域:松伏町","",null,null,null,null,null,"",null,"□","滑川町",false,"川越比企地域:滑川町","",null,null,null,null,null,"",null,"□","白岡市",false,"利根地域:白岡市","",null,"□","寄居町",false,"北部地域:寄居町","",null,null,null,null,null,""]
[null,null,null,null,null,null,null,null,null,null,null,null,null,null,null,null,null,null,null,null,null,null,null,null,null,null,"□","その他（送迎・移動支援）",false,"",null,null,null,"",null,null,null,{"$f":"IF(AK228,AJ228,\"\")","v":""},null,null,null,{"$f":"IF(AO228,AN228,\"\")","v":""},"□","パソコン・スマホ教室",false,"","□","その他（生活サービス）",false,"",null,"□","南区",false,"さいたま市:南区","",null,null,null,null,null,"",null,null,null,null,null,"",null,null,null,null,null,"",null,null,null,null,null,"",null,"□","嵐山町",false,"川越比企地域:嵐山町","",null,null,null,null,null,"",null,"□","宮代町",false,"利根地域:宮代町","",null,null,null,null,null,"",null,null,null,null,null,""]
[null,null,null,null,null,null,null,null,null,null,null,null,null,null,null,null,null,null,null,null,null,null,null,null,null,null,null,null,null,null,null,null,null,null,null,null,null,null,null,null,null,null,"□","その他（学び・趣味）",false,"",null,null,null,null,null,"□","緑区",false,"さいたま市:緑区","",null,null,null,null,null,"",null,null,null,null,null,"",null,null,null,null,null,"",null,null,null,null,null,"",null,"□","小川町",false,"川越比企地域:小川町","",null,null,null,null,null,"",null,"□","杉戸町",false,"利根地域:杉戸町","",null,null,null,null,null,"",null,null,null,null,null,""]
[null,null,null,null,null,null,null,null,null,null,null,null,null,null,null,null,null,null,null,null,null,null,null,null,null,null,null,null,null,null,null,null,null,null,null,null,null,null,null,null,null,null,null,null,null,null,null,null,null,null,null,"□","岩槻区",{"$f":"IF(AZ230=\"☑\",TRUE)","v":false},"さいたま市:岩槻区","",null,null,null,null,null,"",null,null,null,null,null,"",null,null,null,null,null,"",null,null,null,null,null,"",null,"□","川島町",false,"川越比企地域:川島町","",null,null,null,null,null,"",null,null,null,null,null,"",null,null,null,null,null,"",null,null,null,null,null,""]
[null,null,null,null,null,null,null,null,null,null,null,null,null,null,null,null,null,null,null,null,null,null,null,null,null,null,null,null,null,null,null,null,null,null,null,null,null,null,null,null,null,null,null,null,null,null,null,null,null,null,null,null,null,null,null,null,null,null,null,null,null,null,null,null,null,null,null,null,null,null,null,null,null,null,null,null,null,null,null,null,null,"□","吉見町",false,"川越比企地域:吉見町","",null,null,null,null,null,"",null,null,null,null,null,"",null,null,null,null,null,"",null,null,null,null,null,""]
[null,null,null,null,null,null,null,null,null,null,null,null,null,null,null,null,null,null,null,null,null,null,null,null,null,null,null,null,null,null,null,null,null,null,null,null,null,null,null,null,null,null,null,null,null,null,null,null,null,null,null,null,null,null,null,null,null,null,null,null,null,null,null,null,null,null,null,null,null,null,null,null,null,null,null,null,null,null,null,null,null,"□","鳩山町",false,"川越比企地域:鳩山町","",null,null,null,null,null,"",null,null,null,null,null,"",null,null,null,null,null,"",null,null,null,null,null,""]
[null,null,null,null,null,null,null,null,null,null,null,null,null,null,null,null,null,null,null,null,null,null,null,null,null,null,null,null,null,null,null,null,null,null,null,null,null,null,null,null,null,null,null,null,null,null,null,null,null,null,null,null,null,null,null,null,null,null,null,null,null,null,null,null,null,null,null,null,null,null,null,null,null,null,null,null,null,null,null,null,null,"□","ときがわ町",false,"川越比企地域:ときがわ町","",null,null,null,null,null,"",null,null,null,null,null,"",null,null,null,null,null,"",null,null,null,null,null,""]
[null,null,null,null,null,null,null,null,null,null,null,null,null,null,null,null,null,null,null,null,null,null,null,null,null,null,null,null,null,null,null,null,null,null,null,null,null,null,null,null,null,null,null,null,null,null,null,null,null,null,null,null,null,null,null,null,null,null,null,null,null,null,null,null,null,null,null,null,null,null,null,null,null,null,null,null,null,null,null,null,null,"□","東秩父村",false,"川越比企地域:東秩父村","",null,null,null,null,null,"",null,null,null,null,null,"",null,null,null,null,null,"",null,null,null,null,null,""]
[16,null,null,null,null,null,null,null,null,null,null,null,null,null,null,null,null,null,"□","配送",{"$f":"IF(S235=\"☑\",TRUE)","v":false},{"$f":"IF(U235,T235,\"\")","v":""},"□","弁当配達",{"$f":"IF(W235=\"☑\",TRUE)","v":false},{"$f":"IF(Y235,X235,\"\")","v":""},"□","理容・美容（送迎）",{"$f":"IF(AA235=\"☑\",TRUE)","v":false},{"$f":"IF(AC235,AB235,\"\")","v":""},"□","家事代行・掃除・片付け",{"$f":"IF(AE235=\"☑\",TRUE)","v":false},{"$f":"IF(AG235,AF235,\"\")","v":""},"□","フィットネス・ジム（運動）",{"$f":"IF(AI235=\"☑\",TRUE)","v":false},{"$f":"IF(AK235,AJ235,\"\")","v":""},"□","車イス対応（バリアフリー）",{"$f":"IF(AM235=\"☑\",TRUE)","v":false},{"$f":"IF(AO235,AN235,\"\")","v":""},"□","講座・教室・イベント",{"$f":"IF(AQ235=\"☑\",TRUE)","v":false},{"$f":"IF(AS235,AR235,\"\")","v":""},"□","防犯・見守り",{"$f":"IF(AU235=\"☑\",TRUE)","v":false},{"$f":"IF(AW235,AV235,\"\")","v":""},{"$f":"_xludf.TEXTJOIN(\",\",TRUE,V235:V248,Z235:Z248,AD235:AD248,AH235:AH248,AL235:AL248,AP235:AP248,AT235:AT248,AX235:AX248)","v":""},"□","西区",{"$f":"IF(AZ235=\"☑\",TRUE)","v":false},{"$f":"\"さいたま市:\"&BA235","v":"さいたま市:西区"},{"$f":"IF(BB235,BC235,\"\")","v":""},{"$f":"_xludf.TEXTJOIN(\",\",TRUE,BD235:BD248)","v":""},"□","川口市",{"$f":"IF(BF235=\"☑\",TRUE)","v":false},{"$f":"\"南部地域:\"&BG235","v":"南部地域:川口市"},{"$f":"IF(BH235,BI235,\"\")","v":""},{"$f":"_xludf.TEXTJOIN(\",\",TRUE,BJ235:BJ248)","v":""},"□","朝霞市",{"$f":"IF(BL235=\"☑\",TRUE)","v":false},{"$f":"\"南西部地域:\"&BM235","v":"南西部地域:朝霞市"},{"$f":"IF(BN235,BO235,\"\")","v":""},{"$f":"_xludf.TEXTJOIN(\",\",TRUE,BP235:BP248)","v":""},"□","春日部市",{"$f":"IF(BR235=\"☑\",TRUE)","v":false},{"$f":"\"東部地域:\"&BS235","v":"東部地域:春日部市"},{"$f":"IF(BT235,BU235,\"\")","v":""},{"$f":"_xludf.TEXTJOIN(\",\",TRUE,BV235:BV248)","v":""},"□","鴻巣市",{"$f":"IF(BX235=\"☑\",TRUE)","v":false},{"$f":"\"県央地域:\"&BY235","v":"県央地域:鴻巣市"},{"$f":"IF(BZ235,CA235,\"\")","v":""},{"$f":"_xludf.TEXTJOIN(\",\",TRUE,CB235:CB248)","v":""},"□","川越市",{"$f":"IF(CD235=\"☑\",TRUE)","v":false},{"$f":"\"川越比企地域:\"&CE235","v":"川越比企地域:川越市"},{"$f":"IF(CF235,CG235,\"\")","v":""},{"$f":"_xludf.TEXTJOIN(\",\",TRUE,CH235:CH248)","v":""},"□","所沢市",{"$f":"IF(CJ235=\"☑\",TRUE)","v":false},{"$f":"\"西部地域:\"&CK235","v":"西部地域:所沢市"},{"$f":"IF(CL235,CM235,\"\")","v":""},{"$f":"_xludf.TEXTJOIN(\",\",TRUE,CN235:CN248)","v":""},"□","行田市",{"$f":"IF(CP235=\"☑\",TRUE)","v":false},{"$f":"\"利根地域:\"&CQ235","v":"利根地域:行田市"},{"$f":"IF(CR235,CS235,\"\")","v":""},{"$f":"_xludf.TEXTJOIN(\",\",TRUE,CT235:CT248)","v":""},"□","熊谷市",{"$f":"IF(CV235=\"☑\",TRUE)","v":false},{"$f":"\"北部地域:\"&CW235","v":"北部地域:熊谷市"},{"$f":"IF(CX235,CY235,\"\")","v":""},{"$f":"_xludf.TEXTJOIN(\",\",TRUE,CZ235:CZ248)","v":""},"□","秩父市",{"$f":"IF(DB235=\"☑\",TRUE)","v":false},{"$f":"\"秩父地域:\"&DC235","v":"秩父地域:秩父市"},{"$f":"IF(DD235,DE235,\"\")","v":""},{"$f":"_xludf.TEXTJOIN(\",\",TRUE,DF235:DF248)","v":""},{"$f":"_xlfn.TEXTJOIN(\",\",TRUE,BE235,BK235,BQ235,BW235,CC235,CI235,CO235,CU235,DA235,DG235)","v":""},null,null,null,null,null,null,null,null,{"$f":"IF(#REF!=\"☑\",TRUE)","v":{"$error":"#REF!"}},{"$f":"IF(DQ235,#REF!,\"\")","v":{"$error":"#REF!"}},{"$f":"_xludf.TEXTJOIN(\",\",TRUE,DR235:DR248)","v":{"$error":"#VALUE!"}}]
[null,null,null,null,null,null,null,null,null,null,null,null,null,null,null,null,null,null,"□","買物サポート",false,"","□","料理デリバリー（出前）",false,"","□","フィットネス・ジム（送迎）",{"$f":"IF(AA236=\"☑\",TRUE)","v":false},{"$f":"IF(AC236,AB236,\"\")","v":""},"□","出張料理",{"$f":"IF(AE236=\"☑\",TRUE)","v":false},{"$f":"IF(AG236,AF236,\"\")","v":""},"□","温泉・銭湯（たまり場）",false,"","□","多目的トイレ",false,"","□","習い事",{"$f":"IF(AQ236=\"☑\",TRUE)","v":false},{"$f":"IF(AS236,AR236,\"\")","v":""},"□","金融・保険",false,"",null,"□","北区",{"$f":"IF(AZ236=\"☑\",TRUE)","v":false},{"$f":"\"さいたま市:\"&BA236","v":"さいたま市:北区"},{"$f":"IF(BB236,BC236,\"\")","v":""},null,"□","蕨市",{"$f":"IF(BF236=\"☑\",TRUE)","v":false},{"$f":"\"南部地域:\"&BG236","v":"南部地域:蕨市"},{"$f":"IF(BH236,BI236,\"\")","v":""},null,"□","志木市",{"$f":"IF(BL236=\"☑\",TRUE)","v":false},{"$f":"\"南西部地域:\"&BM236","v":"南西部地域:志木市"},{"$f":"IF(BN236,BO236,\"\")","v":""},null,"□","草加市",{"$f":"IF(BR236=\"☑\",TRUE)","v":false},{"$f":"\"東部地域:\"&BS236","v":"東部地域:草加市"},"",null,"□","上尾市",{"$f":"IF(BX236=\"☑\",TRUE)","v":false},{"$f":"\"県央地域:\"&BY236","v":"県央地域:上尾市"},{"$f":"IF(BZ236,CA236,\"\")","v":""},null,"□","東松山市",{"$f":"IF(CD236=\"☑\",TRUE)","v":false},{"$f":"\"川越比企地域:\"&CE236","v":"川越比企地域:東松山市"},{"$f":"IF(CF236,CG236,\"\")","v":""},null,"□","飯能市",{"$f":"IF(CJ236=\"☑\",TRUE)","v":false},{"$f":"\"西部地域:\"&CK236","v":"西部地域:飯能市"},{"$f":"IF(CL236,CM236,\"\")","v":""},null,"□","加須市",{"$f":"IF(CP236=\"☑\",TRUE)","v":false},{"$f":"\"利根地域:\"&CQ236","v":"利根地域:加須市"},{"$f":"IF(CR236,CS236,\"\")","v":""},null,"□","本庄市",{"$f":"IF(CV236=\"☑\",TRUE)","v":false},{"$f":"\"北部地域:\"&CW236","v":"北部地域:本庄市"},{"$f":"IF(CX236,CY236,\"\")","v":""},null,"□","横瀬町",{"$f":"IF(DB236=\"☑\",TRUE)","v":false},{"$f":"\"秩父地域:\"&DC236","v":"秩父地域:横瀬町"},{"$f":"IF(DD236,DE236,\"\")","v":""},null,null,null,null,null,null,null,null,null,null,null,{"$f":"IF(DQ236,#REF!,\"\")","v":""}]
[null,null,null,null,null,null,null,null,null,null,null,null,null,null,null,null,null,null,"□","買物代行",false,"","□","食材宅配",false,"","□","温泉・銭湯（送迎）",false,"","□","屋外作業・力仕事",false,"","□","カフェ・ファーストフード",false,"","□","休憩スペース",false,"","□","映画館",false,"","□","住宅・リフォーム",false,"",null,"□","大宮区",false,"さいたま市:大宮区","",null,"□","戸田市",{"$f":"IF(BF237=\"☑\",TRUE)","v":false},{"$f":"\"南部地域:\"&BG237","v":"南部地域:戸田市"},"",null,"□","和光市",false,"南西部地域:和光市","",null,"□","越谷市",false,"東部地域:越谷市","",null,"□","桶川市",{"$f":"IF(BX237=\"☑\",TRUE)","v":false},{"$f":"\"県央地域:\"&BY237","v":"県央地域:桶川市"},"",null,"□","坂戸市",false,"川越比企地域:坂戸市","",null,"□","狭山市",{"$f":"IF(CJ237=\"☑\",TRUE)","v":false},{"$f":"\"西部地域:\"&CK237","v":"西部地域:狭山市"},"",null,"□","羽生市",false,"利根地域:羽生市","",null,"□","深谷市",false,"北部地域:深谷市","",null,"□","皆野町",{"$f":"IF(DB237=\"☑\",TRUE)","v":false},{"$f":"\"秩父地域:\"&DC237","v":"秩父地域:皆野町"},"",null,null,null,null,null,null,null,null,null,null,{"$f":"IF(#REF!=\"☑\",TRUE)","v":{"$error":"#REF!"}},{"$f":"IF(DQ237,#REF!,\"\")","v":{"$error":"#REF!"}}]
[null,null,null,null,null,null,null,null,null,null,null,null,null,null,null,null,null,null,"□","移動販売",false,"","□","日用品配達",false,"","□","整体・マッサージ（送迎）",false,"","□","整体・マッサージ（出張）",false,"","□","飲食店",false,"","□","駐車場",false,"","□","カラオケ店",false,"","□","パソコン・スマートフォン",false,"",null,"□","見沼区",false,"さいたま市:見沼区","",null,null,null,null,null,"",null,"□","新座市",false,"南西部地域:新座市","",null,"□","八潮市",false,"東部地域:八潮市","",null,"□","北本市",{"$f":"IF(BX238=\"☑\",TRUE)","v":false},{"$f":"\"県央地域:\"&BY238","v":"県央地域:北本市"},"",null,"□","鶴ヶ島市",false,"川越比企地域:鶴ヶ島市","",null,"□","入間市",{"$f":"IF(CJ238=\"☑\",TRUE)","v":false},{"$f":"\"西部地域:\"&CK238","v":"西部地域:入間市"},"",null,"□","久喜市",false,"利根地域:久喜市","",null,"□","美里町",false,"北部地域:美里町","",null,"□","長瀞町",{"$f":"IF(DB238=\"☑\",TRUE)","v":false},{"$f":"\"秩父地域:\"&DC238","v":"秩父地域:長瀞町"},""]
[null,null,null,null,null,null,null,null,null,null,null,null,null,null,null,null,null,null,"□","割引サービス",false,"","□","薬・介護用品配達",false,"","□","乗り合いサービス",false,"","□","理容・美容（出張）",false,"","□","イートインスペース",false,"","□","貸しスペース",false,"","□","麻雀・将棋・囲碁",false,"","□","認知症サポート企業",false,"",null,"□","中央区",false,"さいたま市:中央区","",null,null,null,null,null,"",null,"□","富士見市",false,"南西部地域:富士見市","",null,"□","三郷市",false,"東部地域:三郷市","",null,"□","伊奈町",{"$f":"IF(BX239=\"☑\",TRUE)","v":false},{"$f":"\"県央地域:\"&BY239","v":"県央地域:伊奈町"},"",null,"□","毛呂山町",false,"川越比企地域:毛呂山町","",null,"□","日高市",{"$f":"IF(CJ239=\"☑\",TRUE)","v":false},{"$f":"\"西部地域:\"&CK239","v":"西部地域:日高市"},"",null,"□","蓮田市",false,"利根地域:蓮田市","",null,"□","神川町",false,"北部地域:神川町","",null,"□","小鹿野町",{"$f":"IF(DB239=\"☑\",TRUE)","v":false},{"$f":"\"秩父地域:\"&DC239","v":"秩父地域:小鹿野町"},"",null,null,null,null,null,null,null,null,null,null,{"$f":"IF(#REF!=\"☑\",TRUE)","v":{"$error":"#REF!"}},{"$f":"IF(DQ239,#REF!,\"\")","v":{"$error":"#REF!"}}]
[null,null,null,null,null,null,null,null,null,null,null,null,null,null,null,null,null,null,"□","その他（買物）",false,"","□","クリーニング",false,{"$f":"IF(Y240,X240,\"\")","v":""},"□","個別移送サービス",false,"","□","ペット",false,"","□","その他（運動・たまり場）",false,"","□","その他（設備・施設・場所貸し）",false,"","□","ゲームセンター",false,"","□","理容・美容",false,"",null,"□","桜区",false,"さいたま市:桜区","",null,null,null,null,null,"",null,"□","ふじみ野市",false,"南西部地域:ふじみ野市","",null,"□","吉川市",false,"東部地域:吉川市","",null,null,null,null,null,"",null,"□","越生町",false,"川越比企地域:越生町","",null,null,null,null,null,"",null,"□","幸手市",false,"利根地域:幸手市","",null,"□","上里町",false,"北部地域:上里町","",null,null,null,null,null,"",null,null,null,null,null,null,null,null,null,null,{"$f":"IF(#REF!=\"☑\",TRUE)","v":{"$error":"#REF!"}},{"$f":"IF(DQ240,#REF!,\"\")","v":{"$error":"#REF!"}}]
[null,null,null,null,null,null,null,null,null,null,null,null,null,null,null,null,null,null,null,null,null,null,"□","その他（宅配・デリバリー）",false,{"$f":"IF(Y241,X241,\"\")","v":""},"□","交通機関サービス",false,"","□","その他（出張サービス）",false,"",null,null,null,null,null,null,null,null,"□","旅行・レジャー",false,"","□","成年後見・相続",false,"",null,"□","浦和区",false,"さいたま市:浦和区","",null,null,null,null,null,"",null,"□","三芳町",false,"南西部地域:三芳町","",null,"□","松伏町",false,"東部地域:松伏町","",null,null,null,null,null,"",null,"□","滑川町",false,"川越比企地域:滑川町","",null,null,null,null,null,"",null,"□","白岡市",false,"利根地域:白岡市","",null,"□","寄居町",false,"北部地域:寄居町","",null,null,null,null,null,""]
[null,null,null,null,null,null,null,null,null,null,null,null,null,null,null,null,null,null,null,null,null,null,null,null,null,null,"□","その他（送迎・移動支援）",false,"",null,null,null,"",null,null,null,{"$f":"IF(AK242,AJ242,\"\")","v":""},null,null,null,{"$f":"IF(AO242,AN242,\"\")","v":""},"□","パソコン・スマホ教室",false,"","□","その他（生活サービス）",false,"",null,"□","南区",false,"さいたま市:南区","",null,null,null,null,null,"",null,null,null,null,null,"",null,null,null,null,null,"",null,null,null,null,null,"",null,"□","嵐山町",false,"川越比企地域:嵐山町","",null,null,null,null,null,"",null,"□","宮代町",false,"利根地域:宮代町","",null,null,null,null,null,"",null,null,null,null,null,""]
[null,null,null,null,null,null,null,null,null,null,null,null,null,null,null,null,null,null,null,null,null,null,null,null,null,null,null,null,null,null,null,null,null,null,null,null,null,null,null,null,null,null,"□","その他（学び・趣味）",false,"",null,null,null,null,null,"□","緑区",false,"さいたま市:緑区","",null,null,null,null,null,"",null,null,null,null,null,"",null,null,null,null,null,"",null,null,null,null,null,"",null,"□","小川町",false,"川越比企地域:小川町","",null,null,null,null,null,"",null,"□","杉戸町",false,"利根地域:杉戸町","",null,null,null,null,null,"",null,null,null,null,null,""]
[null,null,null,null,null,null,null,null,null,null,null,null,null,null,null,null,null,null,null,null,null,null,null,null,null,null,null,null,null,null,null,null,null,null,null,null,null,null,null,null,null,null,null,null,null,null,null,null,null,null,null,"□","岩槻区",{"$f":"IF(AZ244=\"☑\",TRUE)","v":false},"さいたま市:岩槻区","",null,null,null,null,null,"",null,null,null,null,null,"",null,null,null,null,null,"",null,null,null,null,null,"",null,"□","川島町",false,"川越比企地域:川島町","",null,null,null,null,null,"",null,null,null,null,null,"",null,null,null,null,null,"",null,null,null,null,null,""]
[null,null,null,null,null,null,null,null,null,null,null,null,null,null,null,null,null,null,null,null,null,null,null,null,null,null,null,null,null,null,null,null,null,null,null,null,null,null,null,null,null,null,null,null,null,null,null,null,null,null,null,null,null,null,null,null,null,null,null,null,null,null,null,null,null,null,null,null,null,null,null,null,null,null,null,null,null,null,null,null,null,"□","吉見町",false,"川越比企地域:吉見町","",null,null,null,null,null,"",null,null,null,null,null,"",null,null,null,null,null,"",null,null,null,null,null,""]
[null,null,null,null,null,null,null,null,null,null,null,null,null,null,null,null,null,null,null,null,null,null,null,null,null,null,null,null,null,null,null,null,null,null,null,null,null,null,null,null,null,null,null,null,null,null,null,null,null,null,null,null,null,null,null,null,null,null,null,null,null,null,null,null,null,null,null,null,null,null,null,null,null,null,null,null,null,null,null,null,null,"□","鳩山町",false,"川越比企地域:鳩山町","",null,null,null,null,null,"",null,null,null,null,null,"",null,null,null,null,null,"",null,null,null,null,null,""]
[null,null,null,null,null,null,null,null,null,null,null,null,null,null,null,null,null,null,null,null,null,null,null,null,null,null,null,null,null,null,null,null,null,null,null,null,null,null,null,null,null,null,null,null,null,null,null,null,null,null,null,null,null,null,null,null,null,null,null,null,null,null,null,null,null,null,null,null,null,null,null,null,null,null,null,null,null,null,null,null,null,"□","ときがわ町",false,"川越比企地域:ときがわ町","",null,null,null,null,null,"",null,null,null,null,null,"",null,null,null,null,null,"",null,null,null,null,null,""]
[null,null,null,null,null,null,null,null,null,null,null,null,null,null,null,null,null,null,null,null,null,null,null,null,null,null,null,null,null,null,null,null,null,null,null,null,null,null,null,null,null,null,null,null,null,null,null,null,null,null,null,null,null,null,null,null,null,null,null,null,null,null,null,null,null,null,null,null,null,null,null,null,null,null,null,null,null,null,null,null,null,"□","東秩父村",false,"川越比企地域:東秩父村","",null,null,null,null,null,"",null,null,null,null,null,"",null,null,null,null,null,"",null,null,null,null,null,""]
[17,null,null,null,null,null,null,null,null,null,null,null,null,null,null,null,null,null,"□","配送",{"$f":"IF(S249=\"☑\",TRUE)","v":false},{"$f":"IF(U249,T249,\"\")","v":""},"□","弁当配達",{"$f":"IF(W249=\"☑\",TRUE)","v":false},{"$f":"IF(Y249,X249,\"\")","v":""},"□","理容・美容（送迎）",{"$f":"IF(AA249=\"☑\",TRUE)","v":false},{"$f":"IF(AC249,AB249,\"\")","v":""},"□","家事代行・掃除・片付け",{"$f":"IF(AE249=\"☑\",TRUE)","v":false},{"$f":"IF(AG249,AF249,\"\")","v":""},"□","フィットネス・ジム（運動）",{"$f":"IF(AI249=\"☑\",TRUE)","v":false},{"$f":"IF(AK249,AJ249,\"\")","v":""},"□","車イス対応（バリアフリー）",{"$f":"IF(AM249=\"☑\",TRUE)","v":false},{"$f":"IF(AO249,AN249,\"\")","v":""},"□","講座・教室・イベント",{"$f":"IF(AQ249=\"☑\",TRUE)","v":false},{"$f":"IF(AS249,AR249,\"\")","v":""},"□","防犯・見守り",{"$f":"IF(AU249=\"☑\",TRUE)","v":false},{"$f":"IF(AW249,AV249,\"\")","v":""},{"$f":"_xludf.TEXTJOIN(\",\",TRUE,V249:V262,Z249:Z262,AD249:AD262,AH249:AH262,AL249:AL262,AP249:AP262,AT249:AT262,AX249:AX262)","v":""},"□","西区",{"$f":"IF(AZ249=\"☑\",TRUE)","v":false},{"$f":"\"さいたま市:\"&BA249","v":"さいたま市:西区"},{"$f":"IF(BB249,BC249,\"\")","v":""},{"$f":"_xludf.TEXTJOIN(\",\",TRUE,BD249:BD262)","v":""},"□","川口市",{"$f":"IF(BF249=\"☑\",TRUE)","v":false},{"$f":"\"南部地域:\"&BG249","v":"南部地域:川口市"},{"$f":"IF(BH249,BI249,\"\")","v":""},{"$f":"_xludf.TEXTJOIN(\",\",TRUE,BJ249:BJ262)","v":""},"□","朝霞市",{"$f":"IF(BL249=\"☑\",TRUE)","v":false},{"$f":"\"南西部地域:\"&BM249","v":"南西部地域:朝霞市"},{"$f":"IF(BN249,BO249,\"\")","v":""},{"$f":"_xludf.TEXTJOIN(\",\",TRUE,BP249:BP262)","v":""},"□","春日部市",{"$f":"IF(BR249=\"☑\",TRUE)","v":false},{"$f":"\"東部地域:\"&BS249","v":"東部地域:春日部市"},{"$f":"IF(BT249,BU249,\"\")","v":""},{"$f":"_xludf.TEXTJOIN(\",\",TRUE,BV249:BV262)","v":""},"□","鴻巣市",{"$f":"IF(BX249=\"☑\",TRUE)","v":false},{"$f":"\"県央地域:\"&BY249","v":"県央地域:鴻巣市"},{"$f":"IF(BZ249,CA249,\"\")","v":""},{"$f":"_xludf.TEXTJOIN(\",\",TRUE,CB249:CB262)","v":""},"□","川越市",{"$f":"IF(CD249=\"☑\",TRUE)","v":false},{"$f":"\"川越比企地域:\"&CE249","v":"川越比企地域:川越市"},{"$f":"IF(CF249,CG249,\"\")","v":""},{"$f":"_xludf.TEXTJOIN(\",\",TRUE,CH249:CH262)","v":""},"□","所沢市",{"$f":"IF(CJ249=\"☑\",TRUE)","v":false},{"$f":"\"西部地域:\"&CK249","v":"西部地域:所沢市"},{"$f":"IF(CL249,CM249,\"\")","v":""},{"$f":"_xludf.TEXTJOIN(\",\",TRUE,CN249:CN262)","v":""},"□","行田市",{"$f":"IF(CP249=\"☑\",TRUE)","v":false},{"$f":"\"利根地域:\"&CQ249","v":"利根地域:行田市"},{"$f":"IF(CR249,CS249,\"\")","v":""},{"$f":"_xludf.TEXTJOIN(\",\",TRUE,CT249:CT262)","v":""},"□","熊谷市",{"$f":"IF(CV249=\"☑\",TRUE)","v":false},{"$f":"\"北部地域:\"&CW249","v":"北部地域:熊谷市"},{"$f":"IF(CX249,CY249,\"\")","v":""},{"$f":"_xludf.TEXTJOIN(\",\",TRUE,CZ249:CZ262)","v":""},"□","秩父市",{"$f":"IF(DB249=\"☑\",TRUE)","v":false},{"$f":"\"秩父地域:\"&DC249","v":"秩父地域:秩父市"},{"$f":"IF(DD249,DE249,\"\")","v":""},{"$f":"_xludf.TEXTJOIN(\",\",TRUE,DF249:DF262)","v":""},{"$f":"_xlfn.TEXTJOIN(\",\",TRUE,BE249,BK249,BQ249,BW249,CC249,CI249,CO249,CU249,DA249,DG249)","v":""},null,null,null,null,null,null,null,null,{"$f":"IF(#REF!=\"☑\",TRUE)","v":{"$error":"#REF!"}},{"$f":"IF(DQ249,#REF!,\"\")","v":{"$error":"#REF!"}},{"$f":"_xludf.TEXTJOIN(\",\",TRUE,DR249:DR262)","v":{"$error":"#VALUE!"}}]
[null,null,null,null,null,null,null,null,null,null,null,null,null,null,null,null,null,null,"□","買物サポート",false,"","□","料理デリバリー（出前）",false,"","□","フィットネス・ジム（送迎）",{"$f":"IF(AA250=\"☑\",TRUE)","v":false},{"$f":"IF(AC250,AB250,\"\")","v":""},"□","出張料理",{"$f":"IF(AE250=\"☑\",TRUE)","v":false},{"$f":"IF(AG250,AF250,\"\")","v":""},"□","温泉・銭湯（たまり場）",false,"","□","多目的トイレ",false,"","□","習い事",{"$f":"IF(AQ250=\"☑\",TRUE)","v":false},{"$f":"IF(AS250,AR250,\"\")","v":""},"□","金融・保険",false,"",null,"□","北区",{"$f":"IF(AZ250=\"☑\",TRUE)","v":false},{"$f":"\"さいたま市:\"&BA250","v":"さいたま市:北区"},{"$f":"IF(BB250,BC250,\"\")","v":""},null,"□","蕨市",{"$f":"IF(BF250=\"☑\",TRUE)","v":false},{"$f":"\"南部地域:\"&BG250","v":"南部地域:蕨市"},{"$f":"IF(BH250,BI250,\"\")","v":""},null,"□","志木市",{"$f":"IF(BL250=\"☑\",TRUE)","v":false},{"$f":"\"南西部地域:\"&BM250","v":"南西部地域:志木市"},{"$f":"IF(BN250,BO250,\"\")","v":""},null,"□","草加市",{"$f":"IF(BR250=\"☑\",TRUE)","v":false},{"$f":"\"東部地域:\"&BS250","v":"東部地域:草加市"},"",null,"□","上尾市",{"$f":"IF(BX250=\"☑\",TRUE)","v":false},{"$f":"\"県央地域:\"&BY250","v":"県央地域:上尾市"},{"$f":"IF(BZ250,CA250,\"\")","v":""},null,"□","東松山市",{"$f":"IF(CD250=\"☑\",TRUE)","v":false},{"$f":"\"川越比企地域:\"&CE250","v":"川越比企地域:東松山市"},{"$f":"IF(CF250,CG250,\"\")","v":""},null,"□","飯能市",{"$f":"IF(CJ250=\"☑\",TRUE)","v":false},{"$f":"\"西部地域:\"&CK250","v":"西部地域:飯能市"},{"$f":"IF(CL250,CM250,\"\")","v":""},null,"□","加須市",{"$f":"IF(CP250=\"☑\",TRUE)","v":false},{"$f":"\"利根地域:\"&CQ250","v":"利根地域:加須市"},{"$f":"IF(CR250,CS250,\"\")","v":""},null,"□","本庄市",{"$f":"IF(CV250=\"☑\",TRUE)","v":false},{"$f":"\"北部地域:\"&CW250","v":"北部地域:本庄市"},{"$f":"IF(CX250,CY250,\"\")","v":""},null,"□","横瀬町",{"$f":"IF(DB250=\"☑\",TRUE)","v":false},{"$f":"\"秩父地域:\"&DC250","v":"秩父地域:横瀬町"},{"$f":"IF(DD250,DE250,\"\")","v":""},null,null,null,null,null,null,null,null,null,null,null,{"$f":"IF(DQ250,#REF!,\"\")","v":""}]
[null,null,null,null,null,null,null,null,null,null,null,null,null,null,null,null,null,null,"□","買物代行",false,"","□","食材宅配",false,"","□","温泉・銭湯（送迎）",false,"","□","屋外作業・力仕事",false,"","□","カフェ・ファーストフード",false,"","□","休憩スペース",false,"","□","映画館",false,"","□","住宅・リフォーム",false,"",null,"□","大宮区",false,"さいたま市:大宮区","",null,"□","戸田市",{"$f":"IF(BF251=\"☑\",TRUE)","v":false},{"$f":"\"南部地域:\"&BG251","v":"南部地域:戸田市"},"",null,"□","和光市",false,"南西部地域:和光市","",null,"□","越谷市",false,"東部地域:越谷市","",null,"□","桶川市",{"$f":"IF(BX251=\"☑\",TRUE)","v":false},{"$f":"\"県央地域:\"&BY251","v":"県央地域:桶川市"},"",null,"□","坂戸市",false,"川越比企地域:坂戸市","",null,"□","狭山市",{"$f":"IF(CJ251=\"☑\",TRUE)","v":false},{"$f":"\"西部地域:\"&CK251","v":"西部地域:狭山市"},"",null,"□","羽生市",false,"利根地域:羽生市","",null,"□","深谷市",false,"北部地域:深谷市","",null,"□","皆野町",{"$f":"IF(DB251=\"☑\",TRUE)","v":false},{"$f":"\"秩父地域:\"&DC251","v":"秩父地域:皆野町"},"",null,null,null,null,null,null,null,null,null,null,{"$f":"IF(#REF!=\"☑\",TRUE)","v":{"$error":"#REF!"}},{"$f":"IF(DQ251,#REF!,\"\")","v":{"$error":"#REF!"}}]
[null,null,null,null,null,null,null,null,null,null,null,null,null,null,null,null,null,null,"□","移動販売",false,"","□","日用品配達",false,"","□","整体・マッサージ（送迎）",false,"","□","整体・マッサージ（出張）",false,"","□","飲食店",false,"","□","駐車場",false,"","□","カラオケ店",false,"","□","パソコン・スマートフォン",false,"",null,"□","見沼区",false,"さいたま市:見沼区","",null,null,null,null,null,"",null,"□","新座市",false,"南西部地域:新座市","",null,"□","八潮市",false,"東部地域:八潮市","",null,"□","北本市",{"$f":"IF(BX252=\"☑\",TRUE)","v":false},{"$f":"\"県央地域:\"&BY252","v":"県央地域:北本市"},"",null,"□","鶴ヶ島市",false,"川越比企地域:鶴ヶ島市","",null,"□","入間市",{"$f":"IF(CJ252=\"☑\",TRUE)","v":false},{"$f":"\"西部地域:\"&CK252","v":"西部地域:入間市"},"",null,"□","久喜市",false,"利根地域:久喜市","",null,"□","美里町",false,"北部地域:美里町","",null,"□","長瀞町",{"$f":"IF(DB252=\"☑\",TRUE)","v":false},{"$f":"\"秩父地域:\"&DC252","v":"秩父地域:長瀞町"},""]
[null,null,null,null,null,null,null,null,null,null,null,null,null,null,null,null,null,null,"□","割引サービス",false,"","□","薬・介護用品配達",false,"","□","乗り合いサービス",false,"","□","理容・美容（出張）",false,"","□","イートインスペース",false,"","□","貸しスペース",false,"","□","麻雀・将棋・囲碁",false,"","□","認知症サポート企業",false,"",null,"□","中央区",false,"さいたま市:中央区","",null,null,null,null,null,"",null,"□","富士見市",false,"南西部地域:富士見市","",null,"□","三郷市",false,"東部地域:三郷市","",null,"□","伊奈町",{"$f":"IF(BX253=\"☑\",TRUE)","v":false},{"$f":"\"県央地域:\"&BY253","v":"県央地域:伊奈町"},"",null,"□","毛呂山町",false,"川越比企地域:毛呂山町","",null,"□","日高市",{"$f":"IF(CJ253=\"☑\",TRUE)","v":false},{"$f":"\"西部地域:\"&CK253","v":"西部地域:日高市"},"",null,"□","蓮田市",false,"利根地域:蓮田市","",null,"□","神川町",false,"北部地域:神川町","",null,"□","小鹿野町",{"$f":"IF(DB253=\"☑\",TRUE)","v":false},{"$f":"\"秩父地域:\"&DC253","v":"秩父地域:小鹿野町"},"",null,null,null,null,null,null,null,null,null,null,{"$f":"IF(#REF!=\"☑\",TRUE)","v":{"$error":"#REF!"}},{"$f":"IF(DQ253,#REF!,\"\")","v":{"$error":"#REF!"}}]
[null,null,null,null,null,null,null,null,null,null,null,null,null,null,null,null,null,null,"□","その他（買物）",false,"","□","クリーニング",false,{"$f":"IF(Y254,X254,\"\")","v":""},"□","個別移送サービス",false,"","□","ペット",false,"","□","その他（運動・たまり場）",false,"","□","その他（設備・施設・場所貸し）",false,"","□","ゲームセンター",false,"","□","理容・美容",false,"",null,"□","桜区",false,"さいたま市:桜区","",null,null,null,null,null,"",null,"□","ふじみ野市",false,"南西部地域:ふじみ野市","",null,"□","吉川市",false,"東部地域:吉川市","",null,null,null,null,null,"",null,"□","越生町",false,"川越比企地域:越生町","",null,null,null,null,null,"",null,"□","幸手市",false,"利根地域:幸手市","",null,"□","上里町",false,"北部地域:上里町","",null,null,null,null,null,"",null,null,null,null,null,null,null,null,null,null,{"$f":"IF(#REF!=\"☑\",TRUE)","v":{"$error":"#REF!"}},{"$f":"IF(DQ254,#REF!,\"\")","v":{"$error":"#REF!"}}]
[null,null,null,null,null,null,null,null,null,null,null,null,null,null,null,null,null,null,null,null,null,null,"□","その他（宅配・デリバリー）",false,{"$f":"IF(Y255,X255,\"\")","v":""},"□","交通機関サービス",false,"","□","その他（出張サービス）",false,"",null,null,null,null,null,null,null,null,"□","旅行・レジャー",false,"","□","成年後見・相続",false,"",null,"□","浦和区",false,"さいたま市:浦和区","",null,null,null,null,null,"",null,"□","三芳町",false,"南西部地域:三芳町","",null,"□","松伏町",false,"東部地域:松伏町","",null,null,null,null,null,"",null,"□","滑川町",false,"川越比企地域:滑川町","",null,null,null,null,null,"",null,"□","白岡市",false,"利根地域:白岡市","",null,"□","寄居町",false,"北部地域:寄居町","",null,null,null,null,null,""]
[null,null,null,null,null,null,null,null,null,null,null,null,null,null,null,null,null,null,null,null,null,null,null,null,null,null,"□","その他（送迎・移動支援）",false,"",null,null,null,"",null,null,null,{"$f":"IF(AK256,AJ256,\"\")","v":""},null,null,null,{"$f":"IF(AO256,AN256,\"\")","v":""},"□","パソコン・スマホ教室",false,"","□","その他（生活サービス）",false,"",null,"□","南区",false,"さいたま市:南区","",null,null,null,null,null,"",null,null,null,null,null,"",null,null,null,null,null,"",null,null,null,null,null,"",null,"□","嵐山町",false,"川越比企地域:嵐山町","",null,null,null,null,null,"",null,"□","宮代町",false,"利根地域:宮代町","",null,null,null,null,null,"",null,null,null,null,null,""]
[null,null,null,null,null,null,null,null,null,null,null,null,null,null,null,null,null,null,null,null,null,null,null,null,null,null,null,null,null,null,null,null,null,null,null,null,null,null,null,null,null,null,"□","その他（学び・趣味）",false,"",null,null,null,null,null,"□","緑区",false,"さいたま市:緑区","",null,null,null,null,null,"",null,null,null,null,null,"",null,null,null,null,null,"",null,null,null,null,null,"",null,"□","小川町",false,"川越比企地域:小川町","",null,null,null,null,null,"",null,"□","杉戸町",false,"利根地域:杉戸町","",null,null,null,null,null,"",null,null,null,null,null,""]
[null,null,null,null,null,null,null,null,null,null,null,null,null,null,null,null,null,null,null,null,null,null,null,null,null,null,null,null,null,null,null,null,null,null,null,null,null,null,null,null,null,null,null,null,null,null,null,null,null,null,null,"□","岩槻区",{"$f":"IF(AZ258=\"☑\",TRUE)","v":false},"さいたま市:岩槻区","",null,null,null,null,null,"",null,null,null,null,null,"",null,null,null,null,null,"",null,null,null,null,null,"",null,"□","川島町",false,"川越比企地域:川島町","",null,null,null,null,null,"",null,null,null,null,null,"",null,null,null,null,null,"",null,null,null,null,null,""]
[null,null,null,null,null,null,null,null,null,null,null,null,null,null,null,null,null,null,null,null,null,null,null,null,null,null,null,null,null,null,null,null,null,null,null,null,null,null,null,null,null,null,null,null,null,null,null,null,null,null,null,null,null,null,null,null,null,null,null,null,null,null,null,null,null,null,null,null,null,null,null,null,null,null,null,null,null,null,null,null,null,"□","吉見町",false,"川越比企地域:吉見町","",null,null,null,null,null,"",null,null,null,null,null,"",null,null,null,null,null,"",null,null,null,null,null,""]
[null,null,null,null,null,null,null,null,null,null,null,null,null,null,null,null,null,null,null,null,null,null,null,null,null,null,null,null,null,null,null,null,null,null,null,null,null,null,null,null,null,null,null,null,null,null,null,null,null,null,null,null,null,null,null,null,null,null,null,null,null,null,null,null,null,null,null,null,null,null,null,null,null,null,null,null,null,null,null,null,null,"□","鳩山町",false,"川越比企地域:鳩山町","",null,null,null,null,null,"",null,null,null,null,null,"",null,null,null,null,null,"",null,null,null,null,null,""]
[null,null,null,null,null,null,null,null,null,null,null,null,null,null,null,null,null,null,null,null,null,null,null,null,null,null,null,null,null,null,null,null,null,null,null,null,null,null,null,null,null,null,null,null,null,null,null,null,null,null,null,null,null,null,null,null,null,null,null,null,null,null,null,null,null,null,null,null,null,null,null,null,null,null,null,null,null,null,null,null,null,"□","ときがわ町",false,"川越比企地域:ときがわ町","",null,null,null,null,null,"",null,null,null,null,null,"",null,null,null,null,null,"",null,null,null,null,null,""]
[null,null,null,null,null,null,null,null,null,null,null,null,null,null,null,null,null,null,null,null,null,null,null,null,null,null,null,null,null,null,null,null,null,null,null,null,null,null,null,null,null,null,null,null,null,null,null,null,null,null,null,null,null,null,null,null,null,null,null,null,null,null,null,null,null,null,null,null,null,null,null,null,null,null,null,null,null,null,null,null,null,"□","東秩父村",false,"川越比企地域:東秩父村","",null,null,null,null,null,"",null,null,null,null,null,"",null,null,null,null,null,"",null,null,null,null,null,""]
[18,null,null,null,null,null,null,null,null,null,null,null,null,null,null,null,null,null,"□","配送",{"$f":"IF(S263=\"☑\",TRUE)","v":false},{"$f":"IF(U263,T263,\"\")","v":""},"□","弁当配達",{"$f":"IF(W263=\"☑\",TRUE)","v":false},{"$f":"IF(Y263,X263,\"\")","v":""},"□","理容・美容（送迎）",{"$f":"IF(AA263=\"☑\",TRUE)","v":false},{"$f":"IF(AC263,AB263,\"\")","v":""},"□","家事代行・掃除・片付け",{"$f":"IF(AE263=\"☑\",TRUE)","v":false},{"$f":"IF(AG263,AF263,\"\")","v":""},"□","フィットネス・ジム（運動）",{"$f":"IF(AI263=\"☑\",TRUE)","v":false},{"$f":"IF(AK263,AJ263,\"\")","v":""},"□","車イス対応（バリアフリー）",{"$f":"IF(AM263=\"☑\",TRUE)","v":false},{"$f":"IF(AO263,AN263,\"\")","v":""},"□","講座・教室・イベント",{"$f":"IF(AQ263=\"☑\",TRUE)","v":false},{"$f":"IF(AS263,AR263,\"\")","v":""},"□","防犯・見守り",{"$f":"IF(AU263=\"☑\",TRUE)","v":false},{"$f":"IF(AW263,AV263,\"\")","v":""},{"$f":"_xludf.TEXTJOIN(\",\",TRUE,V263:V276,Z263:Z276,AD263:AD276,AH263:AH276,AL263:AL276,AP263:AP276,AT263:AT276,AX263:AX276)","v":""},"□","西区",{"$f":"IF(AZ263=\"☑\",TRUE)","v":false},{"$f":"\"さいたま市:\"&BA263","v":"さいたま市:西区"},{"$f":"IF(BB263,BC263,\"\")","v":""},{"$f":"_xludf.TEXTJOIN(\",\",TRUE,BD263:BD276)","v":""},"□","川口市",{"$f":"IF(BF263=\"☑\",TRUE)","v":false},{"$f":"\"南部地域:\"&BG263","v":"南部地域:川口市"},{"$f":"IF(BH263,BI263,\"\")","v":""},{"$f":"_xludf.TEXTJOIN(\",\",TRUE,BJ263:BJ276)","v":""},"□","朝霞市",{"$f":"IF(BL263=\"☑\",TRUE)","v":false},{"$f":"\"南西部地域:\"&BM263","v":"南西部地域:朝霞市"},{"$f":"IF(BN263,BO263,\"\")","v":""},{"$f":"_xludf.TEXTJOIN(\",\",TRUE,BP263:BP276)","v":""},"□","春日部市",{"$f":"IF(BR263=\"☑\",TRUE)","v":false},{"$f":"\"東部地域:\"&BS263","v":"東部地域:春日部市"},{"$f":"IF(BT263,BU263,\"\")","v":""},{"$f":"_xludf.TEXTJOIN(\",\",TRUE,BV263:BV276)","v":""},"□","鴻巣市",{"$f":"IF(BX263=\"☑\",TRUE)","v":false},{"$f":"\"県央地域:\"&BY263","v":"県央地域:鴻巣市"},{"$f":"IF(BZ263,CA263,\"\")","v":""},{"$f":"_xludf.TEXTJOIN(\",\",TRUE,CB263:CB276)","v":""},"□","川越市",{"$f":"IF(CD263=\"☑\",TRUE)","v":false},{"$f":"\"川越比企地域:\"&CE263","v":"川越比企地域:川越市"},{"$f":"IF(CF263,CG263,\"\")","v":""},{"$f":"_xludf.TEXTJOIN(\",\",TRUE,CH263:CH276)","v":""},"□","所沢市",{"$f":"IF(CJ263=\"☑\",TRUE)","v":false},{"$f":"\"西部地域:\"&CK263","v":"西部地域:所沢市"},{"$f":"IF(CL263,CM263,\"\")","v":""},{"$f":"_xludf.TEXTJOIN(\",\",TRUE,CN263:CN276)","v":""},"□","行田市",{"$f":"IF(CP263=\"☑\",TRUE)","v":false},{"$f":"\"利根地域:\"&CQ263","v":"利根地域:行田市"},{"$f":"IF(CR263,CS263,\"\")","v":""},{"$f":"_xludf.TEXTJOIN(\",\",TRUE,CT263:CT276)","v":""},"□","熊谷市",{"$f":"IF(CV263=\"☑\",TRUE)","v":false},{"$f":"\"北部地域:\"&CW263","v":"北部地域:熊谷市"},{"$f":"IF(CX263,CY263,\"\")","v":""},{"$f":"_xludf.TEXTJOIN(\",\",TRUE,CZ263:CZ276)","v":""},"□","秩父市",{"$f":"IF(DB263=\"☑\",TRUE)","v":false},{"$f":"\"秩父地域:\"&DC263","v":"秩父地域:秩父市"},{"$f":"IF(DD263,DE263,\"\")","v":""},{"$f":"_xludf.TEXTJOIN(\",\",TRUE,DF263:DF276)","v":""},{"$f":"_xlfn.TEXTJOIN(\",\",TRUE,BE263,BK263,BQ263,BW263,CC263,CI263,CO263,CU263,DA263,DG263)","v":""},null,null,null,null,null,null,null,null,{"$f":"IF(#REF!=\"☑\",TRUE)","v":{"$error":"#REF!"}},{"$f":"IF(DQ263,#REF!,\"\")","v":{"$error":"#REF!"}},{"$f":"_xludf.TEXTJOIN(\",\",TRUE,DR263:DR276)","v":{"$error":"#VALUE!"}}]
[null,null,null,null,null,null,null,null,null,null,null,null,null,null,null,null,null,null,"□","買物サポート",false,"","□","料理デリバリー（出前）",false,"","□","フィットネス・ジム（送迎）",{"$f":"IF(AA264=\"☑\",TRUE)","v":false},{"$f":"IF(AC264,AB264,\"\")","v":""},"□","出張料理",{"$f":"IF(AE264=\"☑\",TRUE)","v":false},{"$f":"IF(AG264,AF264,\"\")","v":""},"□","温泉・銭湯（たまり場）",false,"","□","多目的トイレ",false,"","□","習い事",{"$f":"IF(AQ264=\"☑\",TRUE)","v":false},{"$f":"IF(AS264,AR264,\"\")","v":""},"□","金融・保険",false,"",null,"□","北区",{"$f":"IF(AZ264=\"☑\",TRUE)","v":false},{"$f":"\"さいたま市:\"&BA264","v":"さいたま市:北区"},{"$f":"IF(BB264,BC264,\"\")","v":""},null,"□","蕨市",{"$f":"IF(BF264=\"☑\",TRUE)","v":false},{"$f":"\"南部地域:\"&BG264","v":"南部地域:蕨市"},{"$f":"IF(BH264,BI264,\"\")","v":""},null,"□","志木市",{"$f":"IF(BL264=\"☑\",TRUE)","v":false},{"$f":"\"南西部地域:\"&BM264","v":"南西部地域:志木市"},{"$f":"IF(BN264,BO264,\"\")","v":""},null,"□","草加市",{"$f":"IF(BR264=\"☑\",TRUE)","v":false},{"$f":"\"東部地域:\"&BS264","v":"東部地域:草加市"},"",null,"□","上尾市",{"$f":"IF(BX264=\"☑\",TRUE)","v":false},{"$f":"\"県央地域:\"&BY264","v":"県央地域:上尾市"},{"$f":"IF(BZ264,CA264,\"\")","v":""},null,"□","東松山市",{"$f":"IF(CD264=\"☑\",TRUE)","v":false},{"$f":"\"川越比企地域:\"&CE264","v":"川越比企地域:東松山市"},{"$f":"IF(CF264,CG264,\"\")","v":""},null,"□","飯能市",{"$f":"IF(CJ264=\"☑\",TRUE)","v":false},{"$f":"\"西部地域:\"&CK264","v":"西部地域:飯能市"},{"$f":"IF(CL264,CM264,\"\")","v":""},null,"□","加須市",{"$f":"IF(CP264=\"☑\",TRUE)","v":false},{"$f":"\"利根地域:\"&CQ264","v":"利根地域:加須市"},{"$f":"IF(CR264,CS264,\"\")","v":""},null,"□","本庄市",{"$f":"IF(CV264=\"☑\",TRUE)","v":false},{"$f":"\"北部地域:\"&CW264","v":"北部地域:本庄市"},{"$f":"IF(CX264,CY264,\"\")","v":""},null,"□","横瀬町",{"$f":"IF(DB264=\"☑\",TRUE)","v":false},{"$f":"\"秩父地域:\"&DC264","v":"秩父地域:横瀬町"},{"$f":"IF(DD264,DE264,\"\")","v":""},null,null,null,null,null,null,null,null,null,null,null,{"$f":"IF(DQ264,#REF!,\"\")","v":""}]
[null,null,null,null,null,null,null,null,null,null,null,null,null,null,null,null,null,null,"□","買物代行",false,"","□","食材宅配",false,"","□","温泉・銭湯（送迎）",false,"","□","屋外作業・力仕事",false,"","□","カフェ・ファーストフード",false,"","□","休憩スペース",false,"","□","映画館",false,"","□","住宅・リフォーム",false,"",null,"□","大宮区",false,"さいたま市:大宮区","",null,"□","戸田市",{"$f":"IF(BF265=\"☑\",TRUE)","v":false},{"$f":"\"南部地域:\"&BG265","v":"南部地域:戸田市"},"",null,"□","和光市",false,"南西部地域:和光市","",null,"□","越谷市",false,"東部地域:越谷市","",null,"□","桶川市",{"$f":"IF(BX265=\"☑\",TRUE)","v":false},{"$f":"\"県央地域:\"&BY265","v":"県央地域:桶川市"},"",null,"□","坂戸市",false,"川越比企地域:坂戸市","",null,"□","狭山市",{"$f":"IF(CJ265=\"☑\",TRUE)","v":false},{"$f":"\"西部地域:\"&CK265","v":"西部地域:狭山市"},"",null,"□","羽生市",false,"利根地域:羽生市","",null,"□","深谷市",false,"北部地域:深谷市","",null,"□","皆野町",{"$f":"IF(DB265=\"☑\",TRUE)","v":false},{"$f":"\"秩父地域:\"&DC265","v":"秩父地域:皆野町"},"",null,null,null,null,null,null,null,null,null,null,{"$f":"IF(#REF!=\"☑\",TRUE)","v":{"$error":"#REF!"}},{"$f":"IF(DQ265,#REF!,\"\")","v":{"$error":"#REF!"}}]
[null,null,null,null,null,null,null,null,null,null,null,null,null,null,null,null,null,null,"□","移動販売",false,"","□","日用品配達",false,"","□","整体・マッサージ（送迎）",false,"","□","整体・マッサージ（出張）",false,"","□","飲食店",false,"","□","駐車場",false,"","□","カラオケ店",false,"","□","パソコン・スマートフォン",false,"",null,"□","見沼区",false,"さいたま市:見沼区","",null,null,null,null,null,"",null,"□","新座市",false,"南西部地域:新座市","",null,"□","八潮市",false,"東部地域:八潮市","",null,"□","北本市",{"$f":"IF(BX266=\"☑\",TRUE)","v":false},{"$f":"\"県央地域:\"&BY266","v":"県央地域:北本市"},"",null,"□","鶴ヶ島市",false,"川越比企地域:鶴ヶ島市","",null,"□","入間市",{"$f":"IF(CJ266=\"☑\",TRUE)","v":false},{"$f":"\"西部地域:\"&CK266","v":"西部地域:入間市"},"",null,"□","久喜市",false,"利根地域:久喜市","",null,"□","美里町",false,"北部地域:美里町","",null,"□","長瀞町",{"$f":"IF(DB266=\"☑\",TRUE)","v":false},{"$f":"\"秩父地域:\"&DC266","v":"秩父地域:長瀞町"},""]
[null,null,null,null,null,null,null,null,null,null,null,null,null,null,null,null,null,null,"□","割引サービス",false,"","□","薬・介護用品配達",false,"","□","乗り合いサービス",false,"","□","理容・美容（出張）",false,"","□","イートインスペース",false,"","□","貸しスペース",false,"","□","麻雀・将棋・囲碁",false,"","□","認知症サポート企業",false,"",null,"□","中央区",false,"さいたま市:中央区","",null,null,null,null,null,"",null,"□","富士見市",false,"南西部地域:富士見市","",null,"□","三郷市",false,"東部地域:三郷市","",null,"□","伊奈町",{"$f":"IF(BX267=\"☑\",TRUE)","v":false},{"$f":"\"県央地域:\"&BY267","v":"県央地域:伊奈町"},"",null,"□","毛呂山町",false,"川越比企地域:毛呂山町","",null,"□","日高市",{"$f":"IF(CJ267=\"☑\",TRUE)","v":false},{"$f":"\"西部地域:\"&CK267","v":"西部地域:日高市"},"",null,"□","蓮田市",false,"利根地域:蓮田市","",null,"□","神川町",false,"北部地域:神川町","",null,"□","小鹿野町",{"$f":"IF(DB267=\"☑\",TRUE)","v":false},{"$f":"\"秩父地域:\"&DC267","v":"秩父地域:小鹿野町"},"",null,null,null,null,null,null,null,null,null,null,{"$f":"IF(#REF!=\"☑\",TRUE)","v":{"$error":"#REF!"}},{"$f":"IF(DQ267,#REF!,\"\")","v":{"$error":"#REF!"}}]
[null,null,null,null,null,null,null,null,null,null,null,null,null,null,null,null,null,null,"□","その他（買物）",false,"","□","クリーニング",false,{"$f":"IF(Y268,X268,\"\")","v":""},"□","個別移送サービス",false,"","□","ペット",false,"","□","その他（運動・たまり場）",false,"","□","その他（設備・施設・場所貸し）",false,"","□","ゲームセンター",false,"","□","理容・美容",false,"",null,"□","桜区",false,"さいたま市:桜区","",null,null,null,null,null,"",null,"□","ふじみ野市",false,"南西部地域:ふじみ野市","",null,"□","吉川市",false,"東部地域:吉川市","",null,null,null,null,null,"",null,"□","越生町",false,"川越比企地域:越生町","",null,null,null,null,null,"",null,"□","幸手市",false,"利根地域:幸手市","",null,"□","上里町",false,"北部地域:上里町","",null,null,null,null,null,"",null,null,null,null,null,null,null,null,null,null,{"$f":"IF(#REF!=\"☑\",TRUE)","v":{"$error":"#REF!"}},{"$f":"IF(DQ268,#REF!,\"\")","v":{"$error":"#REF!"}}]
[null,null,null,null,null,null,null,null,null,null,null,null,null,null,null,null,null,null,null,null,null,null,"□","その他（宅配・デリバリー）",false,{"$f":"IF(Y269,X269,\"\")","v":""},"□","交通機関サービス",false,"","□","その他（出張サービス）",false,"",null,null,null,null,null,null,null,null,"□","旅行・レジャー",false,"","□","成年後見・相続",false,"",null,"□","浦和区",false,"さいたま市:浦和区","",null,null,null,null,null,"",null,"□","三芳町",false,"南西部地域:三芳町","",null,"□","松伏町",false,"東部地域:松伏町","",null,null,null,null,null,"",null,"□","滑川町",false,"川越比企地域:滑川町","",null,null,null,null,null,"",null,"□","白岡市",false,"利根地域:白岡市","",null,"□","寄居町",false,"北部地域:寄居町","",null,null,null,null,null,""]
[null,null,null,null,null,null,null,null,null,null,null,null,null,null,null,null,null,null,null,null,null,null,null,null,null,null,"□","その他（送迎・移動支援）",false,"",null,null,null,"",null,null,null,{"$f":"IF(AK270,AJ270,\"\")","v":""},null,null,null,{"$f":"IF(AO270,AN270,\"\")","v":""},"□","パソコン・スマホ教室",false,"","□","その他（生活サービス）",false,"",null,"□","南区",false,"さいたま市:南区","",null,null,null,null,null,"",null,null,null,null,null,"",null,null,null,null,null,"",null,null,null,null,null,"",null,"□","嵐山町",false,"川越比企地域:嵐山町","",null,null,null,null,null,"",null,"□","宮代町",false,"利根地域:宮代町","",null,null,null,null,null,"",null,null,null,null,null,""]
[null,null,null,null,null,null,null,null,null,null,null,null,null,null,null,null,null,null,null,null,null,null,null,null,null,null,null,null,null,null,null,null,null,null,null,null,null,null,null,null,null,null,"□","その他（学び・趣味）",false,"",null,null,null,null,null,"□","緑区",false,"さいたま市:緑区","",null,null,null,null,null,"",null,null,null,null,null,"",null,null,null,null,null,"",null,null,null,null,null,"",null,"□","小川町",false,"川越比企地域:小川町","",null,null,null,null,null,"",null,"□","杉戸町",false,"利根地域:杉戸町","",null,null,null,null,null,"",null,null,null,null,null,""]
[null,null,null,null,null,null,null,null,null,null,null,null,null,null,null,null,null,null,null,null,null,null,null,null,null,null,null,null,null,null,null,null,null,null,null,null,null,null,null,null,null,null,null,null,null,null,null,null,null,null,null,"□","岩槻区",{"$f":"IF(AZ272=\"☑\",TRUE)","v":false},"さいたま市:岩槻区","",null,null,null,null,null,"",null,null,null,null,null,"",null,null,null,null,null,"",null,null,null,null,null,"",null,"□","川島町",false,"川越比企地域:川島町","",null,null,null,null,null,"",null,null,null,null,null,"",null,null,null,null,null,"",null,null,null,null,null,""]
[null,null,null,null,null,null,null,null,null,null,null,null,null,null,null,null,null,null,null,null,null,null,null,null,null,null,null,null,null,null,null,null,null,null,null,null,null,null,null,null,null,null,null,null,null,null,null,null,null,null,null,null,null,null,null,null,null,null,null,null,null,null,null,null,null,null,null,null,null,null,null,null,null,null,null,null,null,null,null,null,null,"□","吉見町",false,"川越比企地域:吉見町","",null,null,null,null,null,"",null,null,null,null,null,"",null,null,null,null,null,"",null,null,null,null,null,""]
[null,null,null,null,null,null,null,null,null,null,null,null,null,null,null,null,null,null,null,null,null,null,null,null,null,null,null,null,null,null,null,null,null,null,null,null,null,null,null,null,null,null,null,null,null,null,null,null,null,null,null,null,null,null,null,null,null,null,null,null,null,null,null,null,null,null,null,null,null,null,null,null,null,null,null,null,null,null,null,null,null,"□","鳩山町",false,"川越比企地域:鳩山町","",null,null,null,null,null,"",null,null,null,null,null,"",null,null,null,null,null,"",null,null,null,null,null,""]
[null,null,null,null,null,null,null,null,null,null,null,null,null,null,null,null,null,null,null,null,null,null,null,null,null,null,null,null,null,null,null,null,null,null,null,null,null,null,null,null,null,null,null,null,null,null,null,null,null,null,null,null,null,null,null,null,null,null,null,null,null,null,null,null,null,null,null,null,null,null,null,null,null,null,null,null,null,null,null,null,null,"□","ときがわ町",false,"川越比企地域:ときがわ町","",null,null,null,null,null,"",null,null,null,null,null,"",null,null,null,null,null,"",null,null,null,null,null,""]
[null,null,null,null,null,null,null,null,null,null,null,null,null,null,null,null,null,null,null,null,null,null,null,null,null,null,null,null,null,null,null,null,null,null,null,null,null,null,null,null,null,null,null,null,null,null,null,null,null,null,null,null,null,null,null,null,null,null,null,null,null,null,null,null,null,null,null,null,null,null,null,null,null,null,null,null,null,null,null,null,null,"□","東秩父村",false,"川越比企地域:東秩父村","",null,null,null,null,null,"",null,null,null,null,null,"",null,null,null,null,null,"",null,null,null,null,null,""]
[19,null,null,null,null,null,null,null,null,null,null,null,null,null,null,null,null,null,"□","配送",{"$f":"IF(S277=\"☑\",TRUE)","v":false},{"$f":"IF(U277,T277,\"\")","v":""},"□","弁当配達",{"$f":"IF(W277=\"☑\",TRUE)","v":false},{"$f":"IF(Y277,X277,\"\")","v":""},"□","理容・美容（送迎）",{"$f":"IF(AA277=\"☑\",TRUE)","v":false},{"$f":"IF(AC277,AB277,\"\")","v":""},"□","家事代行・掃除・片付け",{"$f":"IF(AE277=\"☑\",TRUE)","v":false},{"$f":"IF(AG277,AF277,\"\")","v":""},"□","フィットネス・ジム（運動）",{"$f":"IF(AI277=\"☑\",TRUE)","v":false},{"$f":"IF(AK277,AJ277,\"\")","v":""},"□","車イス対応（バリアフリー）",{"$f":"IF(AM277=\"☑\",TRUE)","v":false},{"$f":"IF(AO277,AN277,\"\")","v":""},"□","講座・教室・イベント",{"$f":"IF(AQ277=\"☑\",TRUE)","v":false},{"$f":"IF(AS277,AR277,\"\")","v":""},"□","防犯・見守り",{"$f":"IF(AU277=\"☑\",TRUE)","v":false},{"$f":"IF(AW277,AV277,\"\")","v":""},{"$f":"_xludf.TEXTJOIN(\",\",TRUE,V277:V290,Z277:Z290,AD277:AD290,AH277:AH290,AL277:AL290,AP277:AP290,AT277:AT290,AX277:AX290)","v":""},"□","西区",{"$f":"IF(AZ277=\"☑\",TRUE)","v":false},{"$f":"\"さいたま市:\"&BA277","v":"さいたま市:西区"},{"$f":"IF(BB277,BC277,\"\")","v":""},{"$f":"_xludf.TEXTJOIN(\",\",TRUE,BD277:BD290)","v":""},"□","川口市",{"$f":"IF(BF277=\"☑\",TRUE)","v":false},{"$f":"\"南部地域:\"&BG277","v":"南部地域:川口市"},{"$f":"IF(BH277,BI277,\"\")","v":""},{"$f":"_xludf.TEXTJOIN(\",\",TRUE,BJ277:BJ290)","v":""},"□","朝霞市",{"$f":"IF(BL277=\"☑\",TRUE)","v":false},{"$f":"\"南西部地域:\"&BM277","v":"南西部地域:朝霞市"},{"$f":"IF(BN277,BO277,\"\")","v":""},{"$f":"_xludf.TEXTJOIN(\",\",TRUE,BP277:BP290)","v":""},"□","春日部市",{"$f":"IF(BR277=\"☑\",TRUE)","v":false},{"$f":"\"東部地域:\"&BS277","v":"東部地域:春日部市"},{"$f":"IF(BT277,BU277,\"\")","v":""},{"$f":"_xludf.TEXTJOIN(\",\",TRUE,BV277:BV290)","v":""},"□","鴻巣市",{"$f":"IF(BX277=\"☑\",TRUE)","v":false},{"$f":"\"県央地域:\"&BY277","v":"県央地域:鴻巣市"},{"$f":"IF(BZ277,CA277,\"\")","v":""},{"$f":"_xludf.TEXTJOIN(\",\",TRUE,CB277:CB290)","v":""},"□","川越市",{"$f":"IF(CD277=\"☑\",TRUE)","v":false},{"$f":"\"川越比企地域:\"&CE277","v":"川越比企地域:川越市"},{"$f":"IF(CF277,CG277,\"\")","v":""},{"$f":"_xludf.TEXTJOIN(\",\",TRUE,CH277:CH290)","v":""},"□","所沢市",{"$f":"IF(CJ277=\"☑\",TRUE)","v":false},{"$f":"\"西部地域:\"&CK277","v":"西部地域:所沢市"},{"$f":"IF(CL277,CM277,\"\")","v":""},{"$f":"_xludf.TEXTJOIN(\",\",TRUE,CN277:CN290)","v":""},"□","行田市",{"$f":"IF(CP277=\"☑\",TRUE)","v":false},{"$f":"\"利根地域:\"&CQ277","v":"利根地域:行田市"},{"$f":"IF(CR277,CS277,\"\")","v":""},{"$f":"_xludf.TEXTJOIN(\",\",TRUE,CT277:CT290)","v":""},"□","熊谷市",{"$f":"IF(CV277=\"☑\",TRUE)","v":false},{"$f":"\"北部地域:\"&CW277","v":"北部地域:熊谷市"},{"$f":"IF(CX277,CY277,\"\")","v":""},{"$f":"_xludf.TEXTJOIN(\",\",TRUE,CZ277:CZ290)","v":""},"□","秩父市",{"$f":"IF(DB277=\"☑\",TRUE)","v":false},{"$f":"\"秩父地域:\"&DC277","v":"秩父地域:秩父市"},{"$f":"IF(DD277,DE277,\"\")","v":""},{"$f":"_xludf.TEXTJOIN(\",\",TRUE,DF277:DF290)","v":""},{"$f":"_xlfn.TEXTJOIN(\",\",TRUE,BE277,BK277,BQ277,BW277,CC277,CI277,CO277,CU277,DA277,DG277)","v":""},null,null,null,null,null,null,null,null,{"$f":"IF(#REF!=\"☑\",TRUE)","v":{"$error":"#REF!"}},{"$f":"IF(DQ277,#REF!,\"\")","v":{"$error":"#REF!"}},{"$f":"_xludf.TEXTJOIN(\",\",TRUE,DR277:DR290)","v":{"$error":"#VALUE!"}}]
[null,null,null,null,null,null,null,null,null,null,null,null,null,null,null,null,null,null,"□","買物サポート",false,"","□","料理デリバリー（出前）",false,"","□","フィットネス・ジム（送迎）",{"$f":"IF(AA278=\"☑\",TRUE)","v":false},{"$f":"IF(AC278,AB278,\"\")","v":""},"□","出張料理",{"$f":"IF(AE278=\"☑\",TRUE)","v":false},{"$f":"IF(AG278,AF278,\"\")","v":""},"□","温泉・銭湯（たまり場）",false,"","□","多目的トイレ",false,"","□","習い事",{"$f":"IF(AQ278=\"☑\",TRUE)","v":false},{"$f":"IF(AS278,AR278,\"\")","v":""},"□","金融・保険",false,"",null,"□","北区",{"$f":"IF(AZ278=\"☑\",TRUE)","v":false},{"$f":"\"さいたま市:\"&BA278","v":"さいたま市:北区"},{"$f":"IF(BB278,BC278,\"\")","v":""},null,"□","蕨市",{"$f":"IF(BF278=\"☑\",TRUE)","v":false},{"$f":"\"南部地域:\"&BG278","v":"南部地域:蕨市"},{"$f":"IF(BH278,BI278,\"\")","v":""},null,"□","志木市",{"$f":"IF(BL278=\"☑\",TRUE)","v":false},{"$f":"\"南西部地域:\"&BM278","v":"南西部地域:志木市"},{"$f":"IF(BN278,BO278,\"\")","v":""},null,"□","草加市",{"$f":"IF(BR278=\"☑\",TRUE)","v":false},{"$f":"\"東部地域:\"&BS278","v":"東部地域:草加市"},"",null,"□","上尾市",{"$f":"IF(BX278=\"☑\",TRUE)","v":false},{"$f":"\"県央地域:\"&BY278","v":"県央地域:上尾市"},{"$f":"IF(BZ278,CA278,\"\")","v":""},null,"□","東松山市",{"$f":"IF(CD278=\"☑\",TRUE)","v":false},{"$f":"\"川越比企地域:\"&CE278","v":"川越比企地域:東松山市"},{"$f":"IF(CF278,CG278,\"\")","v":""},null,"□","飯能市",{"$f":"IF(CJ278=\"☑\",TRUE)","v":false},{"$f":"\"西部地域:\"&CK278","v":"西部地域:飯能市"},{"$f":"IF(CL278,CM278,\"\")","v":""},null,"□","加須市",{"$f":"IF(CP278=\"☑\",TRUE)","v":false},{"$f":"\"利根地域:\"&CQ278","v":"利根地域:加須市"},{"$f":"IF(CR278,CS278,\"\")","v":""},null,"□","本庄市",{"$f":"IF(CV278=\"☑\",TRUE)","v":false},{"$f":"\"北部地域:\"&CW278","v":"北部地域:本庄市"},{"$f":"IF(CX278,CY278,\"\")","v":""},null,"□","横瀬町",{"$f":"IF(DB278=\"☑\",TRUE)","v":false},{"$f":"\"秩父地域:\"&DC278","v":"秩父地域:横瀬町"},{"$f":"IF(DD278,DE278,\"\")","v":""},null,null,null,null,null,null,null,null,null,null,null,{"$f":"IF(DQ278,#REF!,\"\")","v":""}]
[null,null,null,null,null,null,null,null,null,null,null,null,null,null,null,null,null,null,"□","買物代行",false,"","□","食材宅配",false,"","□","温泉・銭湯（送迎）",false,"","□","屋外作業・力仕事",false,"","□","カフェ・ファーストフード",false,"","□","休憩スペース",false,"","□","映画館",false,"","□","住宅・リフォーム",false,"",null,"□","大宮区",false,"さいたま市:大宮区","",null,"□","戸田市",{"$f":"IF(BF279=\"☑\",TRUE)","v":false},{"$f":"\"南部地域:\"&BG279","v":"南部地域:戸田市"},"",null,"□","和光市",false,"南西部地域:和光市","",null,"□","越谷市",false,"東部地域:越谷市","",null,"□","桶川市",{"$f":"IF(BX279=\"☑\",TRUE)","v":false},{"$f":"\"県央地域:\"&BY279","v":"県央地域:桶川市"},"",null,"□","坂戸市",false,"川越比企地域:坂戸市","",null,"□","狭山市",{"$f":"IF(CJ279=\"☑\",TRUE)","v":false},{"$f":"\"西部地域:\"&CK279","v":"西部地域:狭山市"},"",null,"□","羽生市",false,"利根地域:羽生市","",null,"□","深谷市",false,"北部地域:深谷市","",null,"□","皆野町",{"$f":"IF(DB279=\"☑\",TRUE)","v":false},{"$f":"\"秩父地域:\"&DC279","v":"秩父地域:皆野町"},"",null,null,null,null,null,null,null,null,null,null,{"$f":"IF(#REF!=\"☑\",TRUE)","v":{"$error":"#REF!"}},{"$f":"IF(DQ279,#REF!,\"\")","v":{"$error":"#REF!"}}]
[null,null,null,null,null,null,null,null,null,null,null,null,null,null,null,null,null,null,"□","移動販売",false,"","□","日用品配達",false,"","□","整体・マッサージ（送迎）",false,"","□","整体・マッサージ（出張）",false,"","□","飲食店",false,"","□","駐車場",false,"","□","カラオケ店",false,"","□","パソコン・スマートフォン",false,"",null,"□","見沼区",false,"さいたま市:見沼区","",null,null,null,null,null,"",null,"□","新座市",false,"南西部地域:新座市","",null,"□","八潮市",false,"東部地域:八潮市","",null,"□","北本市",{"$f":"IF(BX280=\"☑\",TRUE)","v":false},{"$f":"\"県央地域:\"&BY280","v":"県央地域:北本市"},"",null,"□","鶴ヶ島市",false,"川越比企地域:鶴ヶ島市","",null,"□","入間市",{"$f":"IF(CJ280=\"☑\",TRUE)","v":false},{"$f":"\"西部地域:\"&CK280","v":"西部地域:入間市"},"",null,"□","久喜市",false,"利根地域:久喜市","",null,"□","美里町",false,"北部地域:美里町","",null,"□","長瀞町",{"$f":"IF(DB280=\"☑\",TRUE)","v":false},{"$f":"\"秩父地域:\"&DC280","v":"秩父地域:長瀞町"},""]
[null,null,null,null,null,null,null,null,null,null,null,null,null,null,null,null,null,null,"□","割引サービス",false,"","□","薬・介護用品配達",false,"","□","乗り合いサービス",false,"","□","理容・美容（出張）",false,"","□","イートインスペース",false,"","□","貸しスペース",false,"","□","麻雀・将棋・囲碁",false,"","□","認知症サポート企業",false,"",null,"□","中央区",false,"さいたま市:中央区","",null,null,null,null,null,"",null,"□","富士見市",false,"南西部地域:富士見市","",null,"□","三郷市",false,"東部地域:三郷市","",null,"□","伊奈町",{"$f":"IF(BX281=\"☑\",TRUE)","v":false},{"$f":"\"県央地域:\"&BY281","v":"県央地域:伊奈町"},"",null,"□","毛呂山町",false,"川越比企地域:毛呂山町","",null,"□","日高市",{"$f":"IF(CJ281=\"☑\",TRUE)","v":false},{"$f":"\"西部地域:\"&CK281","v":"西部地域:日高市"},"",null,"□","蓮田市",false,"利根地域:蓮田市","",null,"□","神川町",false,"北部地域:神川町","",null,"□","小鹿野町",{"$f":"IF(DB281=\"☑\",TRUE)","v":false},{"$f":"\"秩父地域:\"&DC281","v":"秩父地域:小鹿野町"},"",null,null,null,null,null,null,null,null,null,null,{"$f":"IF(#REF!=\"☑\",TRUE)","v":{"$error":"#REF!"}},{"$f":"IF(DQ281,#REF!,\"\")","v":{"$error":"#REF!"}}]
[null,null,null,null,null,null,null,null,null,null,null,null,null,null,null,null,null,null,"□","その他（買物）",false,"","□","クリーニング",false,{"$f":"IF(Y282,X282,\"\")","v":""},"□","個別移送サービス",false,"","□","ペット",false,"","□","その他（運動・たまり場）",false,"","□","その他（設備・施設・場所貸し）",false,"","□","ゲームセンター",false,"","□","理容・美容",false,"",null,"□","桜区",false,"さいたま市:桜区","",null,null,null,null,null,"",null,"□","ふじみ野市",false,"南西部地域:ふじみ野市","",null,"□","吉川市",false,"東部地域:吉川市","",null,null,null,null,null,"",null,"□","越生町",false,"川越比企地域:越生町","",null,null,null,null,null,"",null,"□","幸手市",false,"利根地域:幸手市","",null,"□","上里町",false,"北部地域:上里町","",null,null,null,null,null,"",null,null,null,null,null,null,null,null,null,null,{"$f":"IF(#REF!=\"☑\",TRUE)","v":{"$error":"#REF!"}},{"$f":"IF(DQ282,#REF!,\"\")","v":{"$error":"#REF!"}}]
[null,null,null,null,null,null,null,null,null,null,null,null,null,null,null,null,null,null,null,null,null,null,"□","その他（宅配・デリバリー）",false,{"$f":"IF(Y283,X283,\"\")","v":""},"□","交通機関サービス",false,"","□","その他（出張サービス）",false,"",null,null,null,null,null,null,null,null,"□","旅行・レジャー",false,"","□","成年後見・相続",false,"",null,"□","浦和区",false,"さいたま市:浦和区","",null,null,null,null,null,"",null,"□","三芳町",false,"南西部地域:三芳町","",null,"□","松伏町",false,"東部地域:松伏町","",null,null,null,null,null,"",null,"□","滑川町",false,"川越比企地域:滑川町","",null,null,null,null,null,"",null,"□","白岡市",false,"利根地域:白岡市","",null,"□","寄居町",false,"北部地域:寄居町","",null,null,null,null,null,""]
[null,null,null,null,null,null,null,null,null,null,null,null,null,null,null,null,null,null,null,null,null,null,null,null,null,null,"□","その他（送迎・移動支援）",false,"",null,null,null,"",null,null,null,{"$f":"IF(AK284,AJ284,\"\")","v":""},null,null,null,{"$f":"IF(AO284,AN284,\"\")","v":""},"□","パソコン・スマホ教室",false,"","□","その他（生活サービス）",false,"",null,"□","南区",false,"さいたま市:南区","",null,null,null,null,null,"",null,null,null,null,null,"",null,null,null,null,null,"",null,null,null,null,null,"",null,"□","嵐山町",false,"川越比企地域:嵐山町","",null,null,null,null,null,"",null,"□","宮代町",false,"利根地域:宮代町","",null,null,null,null,null,"",null,null,null,null,null,""]
[null,null,null,null,null,null,null,null,null,null,null,null,null,null,null,null,null,null,null,null,null,null,null,null,null,null,null,null,null,null,null,null,null,null,null,null,null,null,null,null,null,null,"□","その他（学び・趣味）",false,"",null,null,null,null,null,"□","緑区",false,"さいたま市:緑区","",null,null,null,null,null,"",null,null,null,null,null,"",null,null,null,null,null,"",null,null,null,null,null,"",null,"□","小川町",false,"川越比企地域:小川町","",null,null,null,null,null,"",null,"□","杉戸町",false,"利根地域:杉戸町","",null,null,null,null,null,"",null,null,null,null,null,""]
[null,null,null,null,null,null,null,null,null,null,null,null,null,null,null,null,null,null,null,null,null,null,null,null,null,null,null,null,null,null,null,null,null,null,null,null,null,null,null,null,null,null,null,null,null,null,null,null,null,null,null,"□","岩槻区",{"$f":"IF(AZ286=\"☑\",TRUE)","v":false},"さいたま市:岩槻区","",null,null,null,null,null,"",null,null,null,null,null,"",null,null,null,null,null,"",null,null,null,null,null,"",null,"□","川島町",false,"川越比企地域:川島町","",null,null,null,null,null,"",null,null,null,null,null,"",null,null,null,null,null,"",null,null,null,null,null,""]
[null,null,null,null,null,null,null,null,null,null,null,null,null,null,null,null,null,null,null,null,null,null,null,null,null,null,null,null,null,null,null,null,null,null,null,null,null,null,null,null,null,null,null,null,null,null,null,null,null,null,null,null,null,null,null,null,null,null,null,null,null,null,null,null,null,null,null,null,null,null,null,null,null,null,null,null,null,null,null,null,null,"□","吉見町",false,"川越比企地域:吉見町","",null,null,null,null,null,"",null,null,null,null,null,"",null,null,null,null,null,"",null,null,null,null,null,""]
[null,null,null,null,null,null,null,null,null,null,null,null,null,null,null,null,null,null,null,null,null,null,null,null,null,null,null,null,null,null,null,null,null,null,null,null,null,null,null,null,null,null,null,null,null,null,null,null,null,null,null,null,null,null,null,null,null,null,null,null,null,null,null,null,null,null,null,null,null,null,null,null,null,null,null,null,null,null,null,null,null,"□","鳩山町",false,"川越比企地域:鳩山町","",null,null,null,null,null,"",null,null,null,null,null,"",null,null,null,null,null,"",null,null,null,null,null,""]
[null,null,null,null,null,null,null,null,null,null,null,null,null,null,null,null,null,null,null,null,null,null,null,null,null,null,null,null,null,null,null,null,null,null,null,null,null,null,null,null,null,null,null,null,null,null,null,null,null,null,null,null,null,null,null,null,null,null,null,null,null,null,null,null,null,null,null,null,null,null,null,null,null,null,null,null,null,null,null,null,null,"□","ときがわ町",false,"川越比企地域:ときがわ町","",null,null,null,null,null,"",null,null,null,null,null,"",null,null,null,null,null,"",null,null,null,null,null,""]
[null,null,null,null,null,null,null,null,null,null,null,null,null,null,null,null,null,null,null,null,null,null,null,null,null,null,null,null,null,null,null,null,null,null,null,null,null,null,null,null,null,null,null,null,null,null,null,null,null,null,null,null,null,null,null,null,null,null,null,null,null,null,null,null,null,null,null,null,null,null,null,null,null,null,null,null,null,null,null,null,null,"□","東秩父村",false,"川越比企地域:東秩父村","",null,null,null,null,null,"",null,null,null,null,null,"",null,null,null,null,null,"",null,null,null,null,null,""]
[20,null,null,null,null,null,null,null,null,null,null,null,null,null,null,null,null,null,"□","配送",{"$f":"IF(S291=\"☑\",TRUE)","v":false},{"$f":"IF(U291,T291,\"\")","v":""},"□","弁当配達",{"$f":"IF(W291=\"☑\",TRUE)","v":false},{"$f":"IF(Y291,X291,\"\")","v":""},"□","理容・美容（送迎）",{"$f":"IF(AA291=\"☑\",TRUE)","v":false},{"$f":"IF(AC291,AB291,\"\")","v":""},"□","家事代行・掃除・片付け",{"$f":"IF(AE291=\"☑\",TRUE)","v":false},{"$f":"IF(AG291,AF291,\"\")","v":""},"□","フィットネス・ジム（運動）",{"$f":"IF(AI291=\"☑\",TRUE)","v":false},{"$f":"IF(AK291,AJ291,\"\")","v":""},"□","車イス対応（バリアフリー）",{"$f":"IF(AM291=\"☑\",TRUE)","v":false},{"$f":"IF(AO291,AN291,\"\")","v":""},"□","講座・教室・イベント",{"$f":"IF(AQ291=\"☑\",TRUE)","v":false},{"$f":"IF(AS291,AR291,\"\")","v":""},"□","防犯・見守り",{"$f":"IF(AU291=\"☑\",TRUE)","v":false},{"$f":"IF(AW291,AV291,\"\")","v":""},{"$f":"_xludf.TEXTJOIN(\",\",TRUE,V291:V304,Z291:Z304,AD291:AD304,AH291:AH304,AL291:AL304,AP291:AP304,AT291:AT304,AX291:AX304)","v":""},"□","西区",{"$f":"IF(AZ291=\"☑\",TRUE)","v":false},{"$f":"\"さいたま市:\"&BA291","v":"さいたま市:西区"},{"$f":"IF(BB291,BC291,\"\")","v":""},{"$f":"_xludf.TEXTJOIN(\",\",TRUE,BD291:BD304)","v":""},"□","川口市",{"$f":"IF(BF291=\"☑\",TRUE)","v":false},{"$f":"\"南部地域:\"&BG291","v":"南部地域:川口市"},{"$f":"IF(BH291,BI291,\"\")","v":""},{"$f":"_xludf.TEXTJOIN(\",\",TRUE,BJ291:BJ304)","v":""},"□","朝霞市",{"$f":"IF(BL291=\"☑\",TRUE)","v":false},{"$f":"\"南西部地域:\"&BM291","v":"南西部地域:朝霞市"},{"$f":"IF(BN291,BO291,\"\")","v":""},{"$f":"_xludf.TEXTJOIN(\",\",TRUE,BP291:BP304)","v":""},"□","春日部市",{"$f":"IF(BR291=\"☑\",TRUE)","v":false},{"$f":"\"東部地域:\"&BS291","v":"東部地域:春日部市"},{"$f":"IF(BT291,BU291,\"\")","v":""},{"$f":"_xludf.TEXTJOIN(\",\",TRUE,BV291:BV304)","v":""},"□","鴻巣市",{"$f":"IF(BX291=\"☑\",TRUE)","v":false},{"$f":"\"県央地域:\"&BY291","v":"県央地域:鴻巣市"},{"$f":"IF(BZ291,CA291,\"\")","v":""},{"$f":"_xludf.TEXTJOIN(\",\",TRUE,CB291:CB304)","v":""},"□","川越市",{"$f":"IF(CD291=\"☑\",TRUE)","v":false},{"$f":"\"川越比企地域:\"&CE291","v":"川越比企地域:川越市"},{"$f":"IF(CF291,CG291,\"\")","v":""},{"$f":"_xludf.TEXTJOIN(\",\",TRUE,CH291:CH304)","v":""},"□","所沢市",{"$f":"IF(CJ291=\"☑\",TRUE)","v":false},{"$f":"\"西部地域:\"&CK291","v":"西部地域:所沢市"},{"$f":"IF(CL291,CM291,\"\")","v":""},{"$f":"_xludf.TEXTJOIN(\",\",TRUE,CN291:CN304)","v":""},"□","行田市",{"$f":"IF(CP291=\"☑\",TRUE)","v":false},{"$f":"\"利根地域:\"&CQ291","v":"利根地域:行田市"},{"$f":"IF(CR291,CS291,\"\")","v":""},{"$f":"_xludf.TEXTJOIN(\",\",TRUE,CT291:CT304)","v":""},"□","熊谷市",{"$f":"IF(CV291=\"☑\",TRUE)","v":false},{"$f":"\"北部地域:\"&CW291","v":"北部地域:熊谷市"},{"$f":"IF(CX291,CY291,\"\")","v":""},{"$f":"_xludf.TEXTJOIN(\",\",TRUE,CZ291:CZ304)","v":""},"□","秩父市",{"$f":"IF(DB291=\"☑\",TRUE)","v":false},{"$f":"\"秩父地域:\"&DC291","v":"秩父地域:秩父市"},{"$f":"IF(DD291,DE291,\"\")","v":""},{"$f":"_xludf.TEXTJOIN(\",\",TRUE,DF291:DF304)","v":""},{"$f":"_xlfn.TEXTJOIN(\",\",TRUE,BE291,BK291,BQ291,BW291,CC291,CI291,CO291,CU291,DA291,DG291)","v":""},null,null,null,null,null,null,null,null,{"$f":"IF(#REF!=\"☑\",TRUE)","v":{"$error":"#REF!"}},{"$f":"IF(DQ291,#REF!,\"\")","v":{"$error":"#REF!"}},{"$f":"_xludf.TEXTJOIN(\",\",TRUE,DR291:DR304)","v":{"$error":"#VALUE!"}}]
[null,null,null,null,null,null,null,null,null,null,null,null,null,null,null,null,null,null,"□","買物サポート",false,"","□","料理デリバリー（出前）",false,"","□","フィットネス・ジム（送迎）",{"$f":"IF(AA292=\"☑\",TRUE)","v":false},{"$f":"IF(AC292,AB292,\"\")","v":""},"□","出張料理",{"$f":"IF(AE292=\"☑\",TRUE)","v":false},{"$f":"IF(AG292,AF292,\"\")","v":""},"□","温泉・銭湯（たまり場）",false,"","□","多目的トイレ",false,"","□","習い事",{"$f":"IF(AQ292=\"☑\",TRUE)","v":false},{"$f":"IF(AS292,AR292,\"\")","v":""},"□","金融・保険",false,"",null,"□","北区",{"$f":"IF(AZ292=\"☑\",TRUE)","v":false},{"$f":"\"さいたま市:\"&BA292","v":"さいたま市:北区"},{"$f":"IF(BB292,BC292,\"\")","v":""},null,"□","蕨市",{"$f":"IF(BF292=\"☑\",TRUE)","v":false},{"$f":"\"南部地域:\"&BG292","v":"南部地域:蕨市"},{"$f":"IF(BH292,BI292,\"\")","v":""},null,"□","志木市",{"$f":"IF(BL292=\"☑\",TRUE)","v":false},{"$f":"\"南西部地域:\"&BM292","v":"南西部地域:志木市"},{"$f":"IF(BN292,BO292,\"\")","v":""},null,"□","草加市",{"$f":"IF(BR292=\"☑\",TRUE)","v":false},{"$f":"\"東部地域:\"&BS292","v":"東部地域:草加市"},"",null,"□","上尾市",{"$f":"IF(BX292=\"☑\",TRUE)","v":false},{"$f":"\"県央地域:\"&BY292","v":"県央地域:上尾市"},{"$f":"IF(BZ292,CA292,\"\")","v":""},null,"□","東松山市",{"$f":"IF(CD292=\"☑\",TRUE)","v":false},{"$f":"\"川越比企地域:\"&CE292","v":"川越比企地域:東松山市"},{"$f":"IF(CF292,CG292,\"\")","v":""},null,"□","飯能市",{"$f":"IF(CJ292=\"☑\",TRUE)","v":false},{"$f":"\"西部地域:\"&CK292","v":"西部地域:飯能市"},{"$f":"IF(CL292,CM292,\"\")","v":""},null,"□","加須市",{"$f":"IF(CP292=\"☑\",TRUE)","v":false},{"$f":"\"利根地域:\"&CQ292","v":"利根地域:加須市"},{"$f":"IF(CR292,CS292,\"\")","v":""},null,"□","本庄市",{"$f":"IF(CV292=\"☑\",TRUE)","v":false},{"$f":"\"北部地域:\"&CW292","v":"北部地域:本庄市"},{"$f":"IF(CX292,CY292,\"\")","v":""},null,"□","横瀬町",{"$f":"IF(DB292=\"☑\",TRUE)","v":false},{"$f":"\"秩父地域:\"&DC292","v":"秩父地域:横瀬町"},{"$f":"IF(DD292,DE292,\"\")","v":""},null,null,null,null,null,null,null,null,null,null,null,{"$f":"IF(DQ292,#REF!,\"\")","v":""}]
[null,null,null,null,null,null,null,null,null,null,null,null,null,null,null,null,null,null,"□","買物代行",false,"","□","食材宅配",false,"","□","温泉・銭湯（送迎）",false,"","□","屋外作業・力仕事",false,"","□","カフェ・ファーストフード",false,"","□","休憩スペース",false,"","□","映画館",false,"","□","住宅・リフォーム",false,"",null,"□","大宮区",false,"さいたま市:大宮区","",null,"□","戸田市",{"$f":"IF(BF293=\"☑\",TRUE)","v":false},{"$f":"\"南部地域:\"&BG293","v":"南部地域:戸田市"},"",null,"□","和光市",false,"南西部地域:和光市","",null,"□","越谷市",false,"東部地域:越谷市","",null,"□","桶川市",{"$f":"IF(BX293=\"☑\",TRUE)","v":false},{"$f":"\"県央地域:\"&BY293","v":"県央地域:桶川市"},"",null,"□","坂戸市",false,"川越比企地域:坂戸市","",null,"□","狭山市",{"$f":"IF(CJ293=\"☑\",TRUE)","v":false},{"$f":"\"西部地域:\"&CK293","v":"西部地域:狭山市"},"",null,"□","羽生市",false,"利根地域:羽生市","",null,"□","深谷市",false,"北部地域:深谷市","",null,"□","皆野町",{"$f":"IF(DB293=\"☑\",TRUE)","v":false},{"$f":"\"秩父地域:\"&DC293","v":"秩父地域:皆野町"},"",null,null,null,null,null,null,null,null,null,null,{"$f":"IF(#REF!=\"☑\",TRUE)","v":{"$error":"#REF!"}},{"$f":"IF(DQ293,#REF!,\"\")","v":{"$error":"#REF!"}}]
[null,null,null,null,null,null,null,null,null,null,null,null,null,null,null,null,null,null,"□","移動販売",false,"","□","日用品配達",false,"","□","整体・マッサージ（送迎）",false,"","□","整体・マッサージ（出張）",false,"","□","飲食店",false,"","□","駐車場",false,"","□","カラオケ店",false,"","□","パソコン・スマートフォン",false,"",null,"□","見沼区",false,"さいたま市:見沼区","",null,null,null,null,null,"",null,"□","新座市",false,"南西部地域:新座市","",null,"□","八潮市",false,"東部地域:八潮市","",null,"□","北本市",{"$f":"IF(BX294=\"☑\",TRUE)","v":false},{"$f":"\"県央地域:\"&BY294","v":"県央地域:北本市"},"",null,"□","鶴ヶ島市",false,"川越比企地域:鶴ヶ島市","",null,"□","入間市",{"$f":"IF(CJ294=\"☑\",TRUE)","v":false},{"$f":"\"西部地域:\"&CK294","v":"西部地域:入間市"},"",null,"□","久喜市",false,"利根地域:久喜市","",null,"□","美里町",false,"北部地域:美里町","",null,"□","長瀞町",{"$f":"IF(DB294=\"☑\",TRUE)","v":false},{"$f":"\"秩父地域:\"&DC294","v":"秩父地域:長瀞町"},""]
[null,null,null,null,null,null,null,null,null,null,null,null,null,null,null,null,null,null,"□","割引サービス",false,"","□","薬・介護用品配達",false,"","□","乗り合いサービス",false,"","□","理容・美容（出張）",false,"","□","イートインスペース",false,"","□","貸しスペース",false,"","□","麻雀・将棋・囲碁",false,"","□","認知症サポート企業",false,"",null,"□","中央区",false,"さいたま市:中央区","",null,null,null,null,null,"",null,"□","富士見市",false,"南西部地域:富士見市","",null,"□","三郷市",false,"東部地域:三郷市","",null,"□","伊奈町",{"$f":"IF(BX295=\"☑\",TRUE)","v":false},{"$f":"\"県央地域:\"&BY295","v":"県央地域:伊奈町"},"",null,"□","毛呂山町",false,"川越比企地域:毛呂山町","",null,"□","日高市",{"$f":"IF(CJ295=\"☑\",TRUE)","v":false},{"$f":"\"西部地域:\"&CK295","v":"西部地域:日高市"},"",null,"□","蓮田市",false,"利根地域:蓮田市","",null,"□","神川町",false,"北部地域:神川町","",null,"□","小鹿野町",{"$f":"IF(DB295=\"☑\",TRUE)","v":false},{"$f":"\"秩父地域:\"&DC295","v":"秩父地域:小鹿野町"},"",null,null,null,null,null,null,null,null,null,null,{"$f":"IF(#REF!=\"☑\",TRUE)","v":{"$error":"#REF!"}},{"$f":"IF(DQ295,#REF!,\"\")","v":{"$error":"#REF!"}}]
[null,null,null,null,null,null,null,null,null,null,null,null,null,null,null,null,null,null,"□","その他（買物）",false,"","□","クリーニング",false,{"$f":"IF(Y296,X296,\"\")","v":""},"□","個別移送サービス",false,"","□","ペット",false,"","□","その他（運動・たまり場）",false,"","□","その他（設備・施設・場所貸し）",false,"","□","ゲームセンター",false,"","□","理容・美容",false,"",null,"□","桜区",false,"さいたま市:桜区","",null,null,null,null,null,"",null,"□","ふじみ野市",false,"南西部地域:ふじみ野市","",null,"□","吉川市",false,"東部地域:吉川市","",null,null,null,null,null,"",null,"□","越生町",false,"川越比企地域:越生町","",null,null,null,null,null,"",null,"□","幸手市",false,"利根地域:幸手市","",null,"□","上里町",false,"北部地域:上里町","",null,null,null,null,null,"",null,null,null,null,null,null,null,null,null,null,{"$f":"IF(#REF!=\"☑\",TRUE)","v":{"$error":"#REF!"}},{"$f":"IF(DQ296,#REF!,\"\")","v":{"$error":"#REF!"}}]
[null,null,null,null,null,null,null,null,null,null,null,null,null,null,null,null,null,null,null,null,null,null,"□","その他（宅配・デリバリー）",false,{"$f":"IF(Y297,X297,\"\")","v":""},"□","交通機関サービス",false,"","□","その他（出張サービス）",false,"",null,null,null,null,null,null,null,null,"□","旅行・レジャー",false,"","□","成年後見・相続",false,"",null,"□","浦和区",false,"さいたま市:浦和区","",null,null,null,null,null,"",null,"□","三芳町",false,"南西部地域:三芳町","",null,"□","松伏町",false,"東部地域:松伏町","",null,null,null,null,null,"",null,"□","滑川町",false,"川越比企地域:滑川町","",null,null,null,null,null,"",null,"□","白岡市",false,"利根地域:白岡市","",null,"□","寄居町",false,"北部地域:寄居町","",null,null,null,null,null,""]
[null,null,null,null,null,null,null,null,null,null,null,null,null,null,null,null,null,null,null,null,null,null,null,null,null,null,"□","その他（送迎・移動支援）",false,"",null,null,null,"",null,null,null,{"$f":"IF(AK298,AJ298,\"\")","v":""},null,null,null,{"$f":"IF(AO298,AN298,\"\")","v":""},"□","パソコン・スマホ教室",false,"","□","その他（生活サービス）",false,"",null,"□","南区",false,"さいたま市:南区","",null,null,null,null,null,"",null,null,null,null,null,"",null,null,null,null,null,"",null,null,null,null,null,"",null,"□","嵐山町",false,"川越比企地域:嵐山町","",null,null,null,null,null,"",null,"□","宮代町",false,"利根地域:宮代町","",null,null,null,null,null,"",null,null,null,null,null,""]
[null,null,null,null,null,null,null,null,null,null,null,null,null,null,null,null,null,null,null,null,null,null,null,null,null,null,null,null,null,null,null,null,null,null,null,null,null,null,null,null,null,null,"□","その他（学び・趣味）",false,"",null,null,null,null,null,"□","緑区",false,"さいたま市:緑区","",null,null,null,null,null,"",null,null,null,null,null,"",null,null,null,null,null,"",null,null,null,null,null,"",null,"□","小川町",false,"川越比企地域:小川町","",null,null,null,null,null,"",null,"□","杉戸町",false,"利根地域:杉戸町","",null,null,null,null,null,"",null,null,null,null,null,""]
[null,null,null,null,null,null,null,null,null,null,null,null,null,null,null,null,null,null,null,null,null,null,null,null,null,null,null,null,null,null,null,null,null,null,null,null,null,null,null,null,null,null,null,null,null,null,null,null,null,null,null,"□","岩槻区",{"$f":"IF(AZ300=\"☑\",TRUE)","v":false},"さいたま市:岩槻区","",null,null,null,null,null,"",null,null,null,null,null,"",null,null,null,null,null,"",null,null,null,null,null,"",null,"□","川島町",false,"川越比企地域:川島町","",null,null,null,null,null,"",null,null,null,null,null,"",null,null,null,null,null,"",null,null,null,null,null,""]
[null,null,null,null,null,null,null,null,null,null,null,null,null,null,null,null,null,null,null,null,null,null,null,null,null,null,null,null,null,null,null,null,null,null,null,null,null,null,null,null,null,null,null,null,null,null,null,null,null,null,null,null,null,null,null,null,null,null,null,null,null,null,null,null,null,null,null,null,null,null,null,null,null,null,null,null,null,null,null,null,null,"□","吉見町",false,"川越比企地域:吉見町","",null,null,null,null,null,"",null,null,null,null,null,"",null,null,null,null,null,"",null,null,null,null,null,""]
[null,null,null,null,null,null,null,null,null,null,null,null,null,null,null,null,null,null,null,null,null,null,null,null,null,null,null,null,null,null,null,null,null,null,null,null,null,null,null,null,null,null,null,null,null,null,null,null,null,null,null,null,null,null,null,null,null,null,null,null,null,null,null,null,null,null,null,null,null,null,null,null,null,null,null,null,null,null,null,null,null,"□","鳩山町",false,"川越比企地域:鳩山町","",null,null,null,null,null,"",null,null,null,null,null,"",null,null,null,null,null,"",null,null,null,null,null,""]
[null,null,null,null,null,null,null,null,null,null,null,null,null,null,null,null,null,null,null,null,null,null,null,null,null,null,null,null,null,null,null,null,null,null,null,null,null,null,null,null,null,null,null,null,null,null,null,null,null,null,null,null,null,null,null,null,null,null,null,null,null,null,null,null,null,null,null,null,null,null,null,null,null,null,null,null,null,null,null,null,null,"□","ときがわ町",false,"川越比企地域:ときがわ町","",null,null,null,null,null,"",null,null,null,null,null,"",null,null,null,null,null,"",null,null,null,null,null,""]
[null,null,null,null,null,null,null,null,null,null,null,null,null,null,null,null,null,null,null,null,null,null,null,null,null,null,null,null,null,null,null,null,null,null,null,null,null,null,null,null,null,null,null,null,null,null,null,null,null,null,null,null,null,null,null,null,null,null,null,null,null,null,null,null,null,null,null,null,null,null,null,null,null,null,null,null,null,null,null,null,null,"□","東秩父村",false,"川越比企地域:東秩父村","",null,null,null,null,null,"",null,null,null,null,null,"",null,null,null,null,null,"",null,null,null,null,null,""]
[21,null,null,null,null,null,null,null,null,null,null,null,null,null,null,null,null,null,"□","配送",{"$f":"IF(S305=\"☑\",TRUE)","v":false},{"$f":"IF(U305,T305,\"\")","v":""},"□","弁当配達",{"$f":"IF(W305=\"☑\",TRUE)","v":false},{"$f":"IF(Y305,X305,\"\")","v":""},"□","理容・美容（送迎）",{"$f":"IF(AA305=\"☑\",TRUE)","v":false},{"$f":"IF(AC305,AB305,\"\")","v":""},"□","家事代行・掃除・片付け",{"$f":"IF(AE305=\"☑\",TRUE)","v":false},{"$f":"IF(AG305,AF305,\"\")","v":""},"□","フィットネス・ジム（運動）",{"$f":"IF(AI305=\"☑\",TRUE)","v":false},{"$f":"IF(AK305,AJ305,\"\")","v":""},"□","車イス対応（バリアフリー）",{"$f":"IF(AM305=\"☑\",TRUE)","v":false},{"$f":"IF(AO305,AN305,\"\")","v":""},"□","講座・教室・イベント",{"$f":"IF(AQ305=\"☑\",TRUE)","v":false},{"$f":"IF(AS305,AR305,\"\")","v":""},"□","防犯・見守り",{"$f":"IF(AU305=\"☑\",TRUE)","v":false},{"$f":"IF(AW305,AV305,\"\")","v":""},{"$f":"_xludf.TEXTJOIN(\",\",TRUE,V305:V318,Z305:Z318,AD305:AD318,AH305:AH318,AL305:AL318,AP305:AP318,AT305:AT318,AX305:AX318)","v":""},"□","西区",{"$f":"IF(AZ305=\"☑\",TRUE)","v":false},{"$f":"\"さいたま市:\"&BA305","v":"さいたま市:西区"},{"$f":"IF(BB305,BC305,\"\")","v":""},{"$f":"_xludf.TEXTJOIN(\",\",TRUE,BD305:BD318)","v":""},"□","川口市",{"$f":"IF(BF305=\"☑\",TRUE)","v":false},{"$f":"\"南部地域:\"&BG305","v":"南部地域:川口市"},{"$f":"IF(BH305,BI305,\"\")","v":""},{"$f":"_xludf.TEXTJOIN(\",\",TRUE,BJ305:BJ318)","v":""},"□","朝霞市",{"$f":"IF(BL305=\"☑\",TRUE)","v":false},{"$f":"\"南西部地域:\"&BM305","v":"南西部地域:朝霞市"},{"$f":"IF(BN305,BO305,\"\")","v":""},{"$f":"_xludf.TEXTJOIN(\",\",TRUE,BP305:BP318)","v":""},"□","春日部市",{"$f":"IF(BR305=\"☑\",TRUE)","v":false},{"$f":"\"東部地域:\"&BS305","v":"東部地域:春日部市"},{"$f":"IF(BT305,BU305,\"\")","v":""},{"$f":"_xludf.TEXTJOIN(\",\",TRUE,BV305:BV318)","v":""},"□","鴻巣市",{"$f":"IF(BX305=\"☑\",TRUE)","v":false},{"$f":"\"県央地域:\"&BY305","v":"県央地域:鴻巣市"},{"$f":"IF(BZ305,CA305,\"\")","v":""},{"$f":"_xludf.TEXTJOIN(\",\",TRUE,CB305:CB318)","v":""},"□","川越市",{"$f":"IF(CD305=\"☑\",TRUE)","v":false},{"$f":"\"川越比企地域:\"&CE305","v":"川越比企地域:川越市"},{"$f":"IF(CF305,CG305,\"\")","v":""},{"$f":"_xludf.TEXTJOIN(\",\",TRUE,CH305:CH318)","v":""},"□","所沢市",{"$f":"IF(CJ305=\"☑\",TRUE)","v":false},{"$f":"\"西部地域:\"&CK305","v":"西部地域:所沢市"},{"$f":"IF(CL305,CM305,\"\")","v":""},{"$f":"_xludf.TEXTJOIN(\",\",TRUE,CN305:CN318)","v":""},"□","行田市",{"$f":"IF(CP305=\"☑\",TRUE)","v":false},{"$f":"\"利根地域:\"&CQ305","v":"利根地域:行田市"},{"$f":"IF(CR305,CS305,\"\")","v":""},{"$f":"_xludf.TEXTJOIN(\",\",TRUE,CT305:CT318)","v":""},"□","熊谷市",{"$f":"IF(CV305=\"☑\",TRUE)","v":false},{"$f":"\"北部地域:\"&CW305","v":"北部地域:熊谷市"},{"$f":"IF(CX305,CY305,\"\")","v":""},{"$f":"_xludf.TEXTJOIN(\",\",TRUE,CZ305:CZ318)","v":""},"□","秩父市",{"$f":"IF(DB305=\"☑\",TRUE)","v":false},{"$f":"\"秩父地域:\"&DC305","v":"秩父地域:秩父市"},{"$f":"IF(DD305,DE305,\"\")","v":""},{"$f":"_xludf.TEXTJOIN(\",\",TRUE,DF305:DF318)","v":""},{"$f":"_xlfn.TEXTJOIN(\",\",TRUE,BE305,BK305,BQ305,BW305,CC305,CI305,CO305,CU305,DA305,DG305)","v":""},null,null,null,null,null,null,null,null,{"$f":"IF(#REF!=\"☑\",TRUE)","v":{"$error":"#REF!"}},{"$f":"IF(DQ305,#REF!,\"\")","v":{"$error":"#REF!"}},{"$f":"_xludf.TEXTJOIN(\",\",TRUE,DR305:DR318)","v":{"$error":"#VALUE!"}}]
[null,null,null,null,null,null,null,null,null,null,null,null,null,null,null,null,null,null,"□","買物サポート",false,"","□","料理デリバリー（出前）",false,"","□","フィットネス・ジム（送迎）",{"$f":"IF(AA306=\"☑\",TRUE)","v":false},{"$f":"IF(AC306,AB306,\"\")","v":""},"□","出張料理",{"$f":"IF(AE306=\"☑\",TRUE)","v":false},{"$f":"IF(AG306,AF306,\"\")","v":""},"□","温泉・銭湯（たまり場）",false,"","□","多目的トイレ",false,"","□","習い事",{"$f":"IF(AQ306=\"☑\",TRUE)","v":false},{"$f":"IF(AS306,AR306,\"\")","v":""},"□","金融・保険",false,"",null,"□","北区",{"$f":"IF(AZ306=\"☑\",TRUE)","v":false},{"$f":"\"さいたま市:\"&BA306","v":"さいたま市:北区"},{"$f":"IF(BB306,BC306,\"\")","v":""},null,"□","蕨市",{"$f":"IF(BF306=\"☑\",TRUE)","v":false},{"$f":"\"南部地域:\"&BG306","v":"南部地域:蕨市"},{"$f":"IF(BH306,BI306,\"\")","v":""},null,"□","志木市",{"$f":"IF(BL306=\"☑\",TRUE)","v":false},{"$f":"\"南西部地域:\"&BM306","v":"南西部地域:志木市"},{"$f":"IF(BN306,BO306,\"\")","v":""},null,"□","草加市",{"$f":"IF(BR306=\"☑\",TRUE)","v":false},{"$f":"\"東部地域:\"&BS306","v":"東部地域:草加市"},"",null,"□","上尾市",{"$f":"IF(BX306=\"☑\",TRUE)","v":false},{"$f":"\"県央地域:\"&BY306","v":"県央地域:上尾市"},{"$f":"IF(BZ306,CA306,\"\")","v":""},null,"□","東松山市",{"$f":"IF(CD306=\"☑\",TRUE)","v":false},{"$f":"\"川越比企地域:\"&CE306","v":"川越比企地域:東松山市"},{"$f":"IF(CF306,CG306,\"\")","v":""},null,"□","飯能市",{"$f":"IF(CJ306=\"☑\",TRUE)","v":false},{"$f":"\"西部地域:\"&CK306","v":"西部地域:飯能市"},{"$f":"IF(CL306,CM306,\"\")","v":""},null,"□","加須市",{"$f":"IF(CP306=\"☑\",TRUE)","v":false},{"$f":"\"利根地域:\"&CQ306","v":"利根地域:加須市"},{"$f":"IF(CR306,CS306,\"\")","v":""},null,"□","本庄市",{"$f":"IF(CV306=\"☑\",TRUE)","v":false},{"$f":"\"北部地域:\"&CW306","v":"北部地域:本庄市"},{"$f":"IF(CX306,CY306,\"\")","v":""},null,"□","横瀬町",{"$f":"IF(DB306=\"☑\",TRUE)","v":false},{"$f":"\"秩父地域:\"&DC306","v":"秩父地域:横瀬町"},{"$f":"IF(DD306,DE306,\"\")","v":""},null,null,null,null,null,null,null,null,null,null,null,{"$f":"IF(DQ306,#REF!,\"\")","v":""}]
[null,null,null,null,null,null,null,null,null,null,null,null,null,null,null,null,null,null,"□","買物代行",false,"","□","食材宅配",false,"","□","温泉・銭湯（送迎）",false,"","□","屋外作業・力仕事",false,"","□","カフェ・ファーストフード",false,"","□","休憩スペース",false,"","□","映画館",false,"","□","住宅・リフォーム",false,"",null,"□","大宮区",false,"さいたま市:大宮区","",null,"□","戸田市",{"$f":"IF(BF307=\"☑\",TRUE)","v":false},{"$f":"\"南部地域:\"&BG307","v":"南部地域:戸田市"},"",null,"□","和光市",false,"南西部地域:和光市","",null,"□","越谷市",false,"東部地域:越谷市","",null,"□","桶川市",{"$f":"IF(BX307=\"☑\",TRUE)","v":false},{"$f":"\"県央地域:\"&BY307","v":"県央地域:桶川市"},"",null,"□","坂戸市",false,"川越比企地域:坂戸市","",null,"□","狭山市",{"$f":"IF(CJ307=\"☑\",TRUE)","v":false},{"$f":"\"西部地域:\"&CK307","v":"西部地域:狭山市"},"",null,"□","羽生市",false,"利根地域:羽生市","",null,"□","深谷市",false,"北部地域:深谷市","",null,"□","皆野町",{"$f":"IF(DB307=\"☑\",TRUE)","v":false},{"$f":"\"秩父地域:\"&DC307","v":"秩父地域:皆野町"},"",null,null,null,null,null,null,null,null,null,null,{"$f":"IF(#REF!=\"☑\",TRUE)","v":{"$error":"#REF!"}},{"$f":"IF(DQ307,#REF!,\"\")","v":{"$error":"#REF!"}}]
[null,null,null,null,null,null,null,null,null,null,null,null,null,null,null,null,null,null,"□","移動販売",false,"","□","日用品配達",false,"","□","整体・マッサージ（送迎）",false,"","□","整体・マッサージ（出張）",false,"","□","飲食店",false,"","□","駐車場",false,"","□","カラオケ店",false,"","□","パソコン・スマートフォン",false,"",null,"□","見沼区",false,"さいたま市:見沼区","",null,null,null,null,null,"",null,"□","新座市",false,"南西部地域:新座市","",null,"□","八潮市",false,"東部地域:八潮市","",null,"□","北本市",{"$f":"IF(BX308=\"☑\",TRUE)","v":false},{"$f":"\"県央地域:\"&BY308","v":"県央地域:北本市"},"",null,"□","鶴ヶ島市",false,"川越比企地域:鶴ヶ島市","",null,"□","入間市",{"$f":"IF(CJ308=\"☑\",TRUE)","v":false},{"$f":"\"西部地域:\"&CK308","v":"西部地域:入間市"},"",null,"□","久喜市",false,"利根地域:久喜市","",null,"□","美里町",false,"北部地域:美里町","",null,"□","長瀞町",{"$f":"IF(DB308=\"☑\",TRUE)","v":false},{"$f":"\"秩父地域:\"&DC308","v":"秩父地域:長瀞町"},""]
[null,null,null,null,null,null,null,null,null,null,null,null,null,null,null,null,null,null,"□","割引サービス",false,"","□","薬・介護用品配達",false,"","□","乗り合いサービス",false,"","□","理容・美容（出張）",false,"","□","イートインスペース",false,"","□","貸しスペース",false,"","□","麻雀・将棋・囲碁",false,"","□","認知症サポート企業",false,"",null,"□","中央区",false,"さいたま市:中央区","",null,null,null,null,null,"",null,"□","富士見市",false,"南西部地域:富士見市","",null,"□","三郷市",false,"東部地域:三郷市","",null,"□","伊奈町",{"$f":"IF(BX309=\"☑\",TRUE)","v":false},{"$f":"\"県央地域:\"&BY309","v":"県央地域:伊奈町"},"",null,"□","毛呂山町",false,"川越比企地域:毛呂山町","",null,"□","日高市",{"$f":"IF(CJ309=\"☑\",TRUE)","v":false},{"$f":"\"西部地域:\"&CK309","v":"西部地域:日高市"},"",null,"□","蓮田市",false,"利根地域:蓮田市","",null,"□","神川町",false,"北部地域:神川町","",null,"□","小鹿野町",{"$f":"IF(DB309=\"☑\",TRUE)","v":false},{"$f":"\"秩父地域:\"&DC309","v":"秩父地域:小鹿野町"},"",null,null,null,null,null,null,null,null,null,null,{"$f":"IF(#REF!=\"☑\",TRUE)","v":{"$error":"#REF!"}},{"$f":"IF(DQ309,#REF!,\"\")","v":{"$error":"#REF!"}}]
[null,null,null,null,null,null,null,null,null,null,null,null,null,null,null,null,null,null,"□","その他（買物）",false,"","□","クリーニング",false,{"$f":"IF(Y310,X310,\"\")","v":""},"□","個別移送サービス",false,"","□","ペット",false,"","□","その他（運動・たまり場）",false,"","□","その他（設備・施設・場所貸し）",false,"","□","ゲームセンター",false,"","□","理容・美容",false,"",null,"□","桜区",false,"さいたま市:桜区","",null,null,null,null,null,"",null,"□","ふじみ野市",false,"南西部地域:ふじみ野市","",null,"□","吉川市",false,"東部地域:吉川市","",null,null,null,null,null,"",null,"□","越生町",false,"川越比企地域:越生町","",null,null,null,null,null,"",null,"□","幸手市",false,"利根地域:幸手市","",null,"□","上里町",false,"北部地域:上里町","",null,null,null,null,null,"",null,null,null,null,null,null,null,null,null,null,{"$f":"IF(#REF!=\"☑\",TRUE)","v":{"$error":"#REF!"}},{"$f":"IF(DQ310,#REF!,\"\")","v":{"$error":"#REF!"}}]
[null,null,null,null,null,null,null,null,null,null,null,null,null,null,null,null,null,null,null,null,null,null,"□","その他（宅配・デリバリー）",false,{"$f":"IF(Y311,X311,\"\")","v":""},"□","交通機関サービス",false,"","□","その他（出張サービス）",false,"",null,null,null,null,null,null,null,null,"□","旅行・レジャー",false,"","□","成年後見・相続",false,"",null,"□","浦和区",false,"さいたま市:浦和区","",null,null,null,null,null,"",null,"□","三芳町",false,"南西部地域:三芳町","",null,"□","松伏町",false,"東部地域:松伏町","",null,null,null,null,null,"",null,"□","滑川町",false,"川越比企地域:滑川町","",null,null,null,null,null,"",null,"□","白岡市",false,"利根地域:白岡市","",null,"□","寄居町",false,"北部地域:寄居町","",null,null,null,null,null,""]
[null,null,null,null,null,null,null,null,null,null,null,null,null,null,null,null,null,null,null,null,null,null,null,null,null,null,"□","その他（送迎・移動支援）",false,"",null,null,null,"",null,null,null,{"$f":"IF(AK312,AJ312,\"\")","v":""},null,null,null,{"$f":"IF(AO312,AN312,\"\")","v":""},"□","パソコン・スマホ教室",false,"","□","その他（生活サービス）",false,"",null,"□","南区",false,"さいたま市:南区","",null,null,null,null,null,"",null,null,null,null,null,"",null,null,null,null,null,"",null,null,null,null,null,"",null,"□","嵐山町",false,"川越比企地域:嵐山町","",null,null,null,null,null,"",null,"□","宮代町",false,"利根地域:宮代町","",null,null,null,null,null,"",null,null,null,null,null,""]
[null,null,null,null,null,null,null,null,null,null,null,null,null,null,null,null,null,null,null,null,null,null,null,null,null,null,null,null,null,null,null,null,null,null,null,null,null,null,null,null,null,null,"□","その他（学び・趣味）",false,"",null,null,null,null,null,"□","緑区",false,"さいたま市:緑区","",null,null,null,null,null,"",null,null,null,null,null,"",null,null,null,null,null,"",null,null,null,null,null,"",null,"□","小川町",false,"川越比企地域:小川町","",null,null,null,null,null,"",null,"□","杉戸町",false,"利根地域:杉戸町","",null,null,null,null,null,"",null,null,null,null,null,""]
[null,null,null,null,null,null,null,null,null,null,null,null,null,null,null,null,null,null,null,null,null,null,null,null,null,null,null,null,null,null,null,null,null,null,null,null,null,null,null,null,null,null,null,null,null,null,null,null,null,null,null,"□","岩槻区",{"$f":"IF(AZ314=\"☑\",TRUE)","v":false},"さいたま市:岩槻区","",null,null,null,null,null,"",null,null,null,null,null,"",null,null,null,null,null,"",null,null,null,null,null,"",null,"□","川島町",false,"川越比企地域:川島町","",null,null,null,null,null,"",null,null,null,null,null,"",null,null,null,null,null,"",null,null,null,null,null,""]
[null,null,null,null,null,null,null,null,null,null,null,null,null,null,null,null,null,null,null,null,null,null,null,null,null,null,null,null,null,null,null,null,null,null,null,null,null,null,null,null,null,null,null,null,null,null,null,null,null,null,null,null,null,null,null,null,null,null,null,null,null,null,null,null,null,null,null,null,null,null,null,null,null,null,null,null,null,null,null,null,null,"□","吉見町",false,"川越比企地域:吉見町","",null,null,null,null,null,"",null,null,null,null,null,"",null,null,null,null,null,"",null,null,null,null,null,""]
[null,null,null,null,null,null,null,null,null,null,null,null,null,null,null,null,null,null,null,null,null,null,null,null,null,null,null,null,null,null,null,null,null,null,null,null,null,null,null,null,null,null,null,null,null,null,null,null,null,null,null,null,null,null,null,null,null,null,null,null,null,null,null,null,null,null,null,null,null,null,null,null,null,null,null,null,null,null,null,null,null,"□","鳩山町",false,"川越比企地域:鳩山町","",null,null,null,null,null,"",null,null,null,null,null,"",null,null,null,null,null,"",null,null,null,null,null,""]
[null,null,null,null,null,null,null,null,null,null,null,null,null,null,null,null,null,null,null,null,null,null,null,null,null,null,null,null,null,null,null,null,null,null,null,null,null,null,null,null,null,null,null,null,null,null,null,null,null,null,null,null,null,null,null,null,null,null,null,null,null,null,null,null,null,null,null,null,null,null,null,null,null,null,null,null,null,null,null,null,null,"□","ときがわ町",false,"川越比企地域:ときがわ町","",null,null,null,null,null,"",null,null,null,null,null,"",null,null,null,null,null,"",null,null,null,null,null,""]
[null,null,null,null,null,null,null,null,null,null,null,null,null,null,null,null,null,null,null,null,null,null,null,null,null,null,null,null,null,null,null,null,null,null,null,null,null,null,null,null,null,null,null,null,null,null,null,null,null,null,null,null,null,null,null,null,null,null,null,null,null,null,null,null,null,null,null,null,null,null,null,null,null,null,null,null,null,null,null,null,null,"□","東秩父村",false,"川越比企地域:東秩父村","",null,null,null,null,null,"",null,null,null,null,null,"",null,null,null,null,null,"",null,null,null,null,null,""]
[22,null,null,null,null,null,null,null,null,null,null,null,null,null,null,null,null,null,"□","配送",{"$f":"IF(S319=\"☑\",TRUE)","v":false},{"$f":"IF(U319,T319,\"\")","v":""},"□","弁当配達",{"$f":"IF(W319=\"☑\",TRUE)","v":false},{"$f":"IF(Y319,X319,\"\")","v":""},"□","理容・美容（送迎）",{"$f":"IF(AA319=\"☑\",TRUE)","v":false},{"$f":"IF(AC319,AB319,\"\")","v":""},"□","家事代行・掃除・片付け",{"$f":"IF(AE319=\"☑\",TRUE)","v":false},{"$f":"IF(AG319,AF319,\"\")","v":""},"□","フィットネス・ジム（運動）",{"$f":"IF(AI319=\"☑\",TRUE)","v":false},{"$f":"IF(AK319,AJ319,\"\")","v":""},"□","車イス対応（バリアフリー）",{"$f":"IF(AM319=\"☑\",TRUE)","v":false},{"$f":"IF(AO319,AN319,\"\")","v":""},"□","講座・教室・イベント",{"$f":"IF(AQ319=\"☑\",TRUE)","v":false},{"$f":"IF(AS319,AR319,\"\")","v":""},"□","防犯・見守り",{"$f":"IF(AU319=\"☑\",TRUE)","v":false},{"$f":"IF(AW319,AV319,\"\")","v":""},{"$f":"_xludf.TEXTJOIN(\",\",TRUE,V319:V332,Z319:Z332,AD319:AD332,AH319:AH332,AL319:AL332,AP319:AP332,AT319:AT332,AX319:AX332)","v":""},"□","西区",{"$f":"IF(AZ319=\"☑\",TRUE)","v":false},{"$f":"\"さいたま市:\"&BA319","v":"さいたま市:西区"},{"$f":"IF(BB319,BC319,\"\")","v":""},{"$f":"_xludf.TEXTJOIN(\",\",TRUE,BD319:BD332)","v":""},"□","川口市",{"$f":"IF(BF319=\"☑\",TRUE)","v":false},{"$f":"\"南部地域:\"&BG319","v":"南部地域:川口市"},{"$f":"IF(BH319,BI319,\"\")","v":""},{"$f":"_xludf.TEXTJOIN(\",\",TRUE,BJ319:BJ332)","v":""},"□","朝霞市",{"$f":"IF(BL319=\"☑\",TRUE)","v":false},{"$f":"\"南西部地域:\"&BM319","v":"南西部地域:朝霞市"},{"$f":"IF(BN319,BO319,\"\")","v":""},{"$f":"_xludf.TEXTJOIN(\",\",TRUE,BP319:BP332)","v":""},"□","春日部市",{"$f":"IF(BR319=\"☑\",TRUE)","v":false},{"$f":"\"東部地域:\"&BS319","v":"東部地域:春日部市"},{"$f":"IF(BT319,BU319,\"\")","v":""},{"$f":"_xludf.TEXTJOIN(\",\",TRUE,BV319:BV332)","v":""},"□","鴻巣市",{"$f":"IF(BX319=\"☑\",TRUE)","v":false},{"$f":"\"県央地域:\"&BY319","v":"県央地域:鴻巣市"},{"$f":"IF(BZ319,CA319,\"\")","v":""},{"$f":"_xludf.TEXTJOIN(\",\",TRUE,CB319:CB332)","v":""},"□","川越市",{"$f":"IF(CD319=\"☑\",TRUE)","v":false},{"$f":"\"川越比企地域:\"&CE319","v":"川越比企地域:川越市"},{"$f":"IF(CF319,CG319,\"\")","v":""},{"$f":"_xludf.TEXTJOIN(\",\",TRUE,CH319:CH332)","v":""},"□","所沢市",{"$f":"IF(CJ319=\"☑\",TRUE)","v":false},{"$f":"\"西部地域:\"&CK319","v":"西部地域:所沢市"},{"$f":"IF(CL319,CM319,\"\")","v":""},{"$f":"_xludf.TEXTJOIN(\",\",TRUE,CN319:CN332)","v":""},"□","行田市",{"$f":"IF(CP319=\"☑\",TRUE)","v":false},{"$f":"\"利根地域:\"&CQ319","v":"利根地域:行田市"},{"$f":"IF(CR319,CS319,\"\")","v":""},{"$f":"_xludf.TEXTJOIN(\",\",TRUE,CT319:CT332)","v":""},"□","熊谷市",{"$f":"IF(CV319=\"☑\",TRUE)","v":false},{"$f":"\"北部地域:\"&CW319","v":"北部地域:熊谷市"},{"$f":"IF(CX319,CY319,\"\")","v":""},{"$f":"_xludf.TEXTJOIN(\",\",TRUE,CZ319:CZ332)","v":""},"□","秩父市",{"$f":"IF(DB319=\"☑\",TRUE)","v":false},{"$f":"\"秩父地域:\"&DC319","v":"秩父地域:秩父市"},{"$f":"IF(DD319,DE319,\"\")","v":""},{"$f":"_xludf.TEXTJOIN(\",\",TRUE,DF319:DF332)","v":""},{"$f":"_xlfn.TEXTJOIN(\",\",TRUE,BE319,BK319,BQ319,BW319,CC319,CI319,CO319,CU319,DA319,DG319)","v":""},null,null,null,null,null,null,null,null,{"$f":"IF(#REF!=\"☑\",TRUE)","v":{"$error":"#REF!"}},{"$f":"IF(DQ319,#REF!,\"\")","v":{"$error":"#REF!"}},{"$f":"_xludf.TEXTJOIN(\",\",TRUE,DR319:DR332)","v":{"$error":"#VALUE!"}}]
[null,null,null,null,null,null,null,null,null,null,null,null,null,null,null,null,null,null,"□","買物サポート",false,"","□","料理デリバリー（出前）",false,"","□","フィットネス・ジム（送迎）",{"$f":"IF(AA320=\"☑\",TRUE)","v":false},{"$f":"IF(AC320,AB320,\"\")","v":""},"□","出張料理",{"$f":"IF(AE320=\"☑\",TRUE)","v":false},{"$f":"IF(AG320,AF320,\"\")","v":""},"□","温泉・銭湯（たまり場）",false,"","□","多目的トイレ",false,"","□","習い事",{"$f":"IF(AQ320=\"☑\",TRUE)","v":false},{"$f":"IF(AS320,AR320,\"\")","v":""},"□","金融・保険",false,"",null,"□","北区",{"$f":"IF(AZ320=\"☑\",TRUE)","v":false},{"$f":"\"さいたま市:\"&BA320","v":"さいたま市:北区"},{"$f":"IF(BB320,BC320,\"\")","v":""},null,"□","蕨市",{"$f":"IF(BF320=\"☑\",TRUE)","v":false},{"$f":"\"南部地域:\"&BG320","v":"南部地域:蕨市"},{"$f":"IF(BH320,BI320,\"\")","v":""},null,"□","志木市",{"$f":"IF(BL320=\"☑\",TRUE)","v":false},{"$f":"\"南西部地域:\"&BM320","v":"南西部地域:志木市"},{"$f":"IF(BN320,BO320,\"\")","v":""},null,"□","草加市",{"$f":"IF(BR320=\"☑\",TRUE)","v":false},{"$f":"\"東部地域:\"&BS320","v":"東部地域:草加市"},"",null,"□","上尾市",{"$f":"IF(BX320=\"☑\",TRUE)","v":false},{"$f":"\"県央地域:\"&BY320","v":"県央地域:上尾市"},{"$f":"IF(BZ320,CA320,\"\")","v":""},null,"□","東松山市",{"$f":"IF(CD320=\"☑\",TRUE)","v":false},{"$f":"\"川越比企地域:\"&CE320","v":"川越比企地域:東松山市"},{"$f":"IF(CF320,CG320,\"\")","v":""},null,"□","飯能市",{"$f":"IF(CJ320=\"☑\",TRUE)","v":false},{"$f":"\"西部地域:\"&CK320","v":"西部地域:飯能市"},{"$f":"IF(CL320,CM320,\"\")","v":""},null,"□","加須市",{"$f":"IF(CP320=\"☑\",TRUE)","v":false},{"$f":"\"利根地域:\"&CQ320","v":"利根地域:加須市"},{"$f":"IF(CR320,CS320,\"\")","v":""},null,"□","本庄市",{"$f":"IF(CV320=\"☑\",TRUE)","v":false},{"$f":"\"北部地域:\"&CW320","v":"北部地域:本庄市"},{"$f":"IF(CX320,CY320,\"\")","v":""},null,"□","横瀬町",{"$f":"IF(DB320=\"☑\",TRUE)","v":false},{"$f":"\"秩父地域:\"&DC320","v":"秩父地域:横瀬町"},{"$f":"IF(DD320,DE320,\"\")","v":""},null,null,null,null,null,null,null,null,null,null,null,{"$f":"IF(DQ320,#REF!,\"\")","v":""}]
[null,null,null,null,null,null,null,null,null,null,null,null,null,null,null,null,null,null,"□","買物代行",false,"","□","食材宅配",false,"","□","温泉・銭湯（送迎）",false,"","□","屋外作業・力仕事",false,"","□","カフェ・ファーストフード",false,"","□","休憩スペース",false,"","□","映画館",false,"","□","住宅・リフォーム",false,"",null,"□","大宮区",false,"さいたま市:大宮区","",null,"□","戸田市",{"$f":"IF(BF321=\"☑\",TRUE)","v":false},{"$f":"\"南部地域:\"&BG321","v":"南部地域:戸田市"},"",null,"□","和光市",false,"南西部地域:和光市","",null,"□","越谷市",false,"東部地域:越谷市","",null,"□","桶川市",{"$f":"IF(BX321=\"☑\",TRUE)","v":false},{"$f":"\"県央地域:\"&BY321","v":"県央地域:桶川市"},"",null,"□","坂戸市",false,"川越比企地域:坂戸市","",null,"□","狭山市",{"$f":"IF(CJ321=\"☑\",TRUE)","v":false},{"$f":"\"西部地域:\"&CK321","v":"西部地域:狭山市"},"",null,"□","羽生市",false,"利根地域:羽生市","",null,"□","深谷市",false,"北部地域:深谷市","",null,"□","皆野町",{"$f":"IF(DB321=\"☑\",TRUE)","v":false},{"$f":"\"秩父地域:\"&DC321","v":"秩父地域:皆野町"},"",null,null,null,null,null,null,null,null,null,null,{"$f":"IF(#REF!=\"☑\",TRUE)","v":{"$error":"#REF!"}},{"$f":"IF(DQ321,#REF!,\"\")","v":{"$error":"#REF!"}}]
[null,null,null,null,null,null,null,null,null,null,null,null,null,null,null,null,null,null,"□","移動販売",false,"","□","日用品配達",false,"","□","整体・マッサージ（送迎）",false,"","□","整体・マッサージ（出張）",false,"","□","飲食店",false,"","□","駐車場",false,"","□","カラオケ店",false,"","□","パソコン・スマートフォン",false,"",null,"□","見沼区",false,"さいたま市:見沼区","",null,null,null,null,null,"",null,"□","新座市",false,"南西部地域:新座市","",null,"□","八潮市",false,"東部地域:八潮市","",null,"□","北本市",{"$f":"IF(BX322=\"☑\",TRUE)","v":false},{"$f":"\"県央地域:\"&BY322","v":"県央地域:北本市"},"",null,"□","鶴ヶ島市",false,"川越比企地域:鶴ヶ島市","",null,"□","入間市",{"$f":"IF(CJ322=\"☑\",TRUE)","v":false},{"$f":"\"西部地域:\"&CK322","v":"西部地域:入間市"},"",null,"□","久喜市",false,"利根地域:久喜市","",null,"□","美里町",false,"北部地域:美里町","",null,"□","長瀞町",{"$f":"IF(DB322=\"☑\",TRUE)","v":false},{"$f":"\"秩父地域:\"&DC322","v":"秩父地域:長瀞町"},""]
[null,null,null,null,null,null,null,null,null,null,null,null,null,null,null,null,null,null,"□","割引サービス",false,"","□","薬・介護用品配達",false,"","□","乗り合いサービス",false,"","□","理容・美容（出張）",false,"","□","イートインスペース",false,"","□","貸しスペース",false,"","□","麻雀・将棋・囲碁",false,"","□","認知症サポート企業",false,"",null,"□","中央区",false,"さいたま市:中央区","",null,null,null,null,null,"",null,"□","富士見市",false,"南西部地域:富士見市","",null,"□","三郷市",false,"東部地域:三郷市","",null,"□","伊奈町",{"$f":"IF(BX323=\"☑\",TRUE)","v":false},{"$f":"\"県央地域:\"&BY323","v":"県央地域:伊奈町"},"",null,"□","毛呂山町",false,"川越比企地域:毛呂山町","",null,"□","日高市",{"$f":"IF(CJ323=\"☑\",TRUE)","v":false},{"$f":"\"西部地域:\"&CK323","v":"西部地域:日高市"},"",null,"□","蓮田市",false,"利根地域:蓮田市","",null,"□","神川町",false,"北部地域:神川町","",null,"□","小鹿野町",{"$f":"IF(DB323=\"☑\",TRUE)","v":false},{"$f":"\"秩父地域:\"&DC323","v":"秩父地域:小鹿野町"},"",null,null,null,null,null,null,null,null,null,null,{"$f":"IF(#REF!=\"☑\",TRUE)","v":{"$error":"#REF!"}},{"$f":"IF(DQ323,#REF!,\"\")","v":{"$error":"#REF!"}}]
[null,null,null,null,null,null,null,null,null,null,null,null,null,null,null,null,null,null,"□","その他（買物）",false,"","□","クリーニング",false,{"$f":"IF(Y324,X324,\"\")","v":""},"□","個別移送サービス",false,"","□","ペット",false,"","□","その他（運動・たまり場）",false,"","□","その他（設備・施設・場所貸し）",false,"","□","ゲームセンター",false,"","□","理容・美容",false,"",null,"□","桜区",false,"さいたま市:桜区","",null,null,null,null,null,"",null,"□","ふじみ野市",false,"南西部地域:ふじみ野市","",null,"□","吉川市",false,"東部地域:吉川市","",null,null,null,null,null,"",null,"□","越生町",false,"川越比企地域:越生町","",null,null,null,null,null,"",null,"□","幸手市",false,"利根地域:幸手市","",null,"□","上里町",false,"北部地域:上里町","",null,null,null,null,null,"",null,null,null,null,null,null,null,null,null,null,{"$f":"IF(#REF!=\"☑\",TRUE)","v":{"$error":"#REF!"}},{"$f":"IF(DQ324,#REF!,\"\")","v":{"$error":"#REF!"}}]
[null,null,null,null,null,null,null,null,null,null,null,null,null,null,null,null,null,null,null,null,null,null,"□","その他（宅配・デリバリー）",false,{"$f":"IF(Y325,X325,\"\")","v":""},"□","交通機関サービス",false,"","□","その他（出張サービス）",false,"",null,null,null,null,null,null,null,null,"□","旅行・レジャー",false,"","□","成年後見・相続",false,"",null,"□","浦和区",false,"さいたま市:浦和区","",null,null,null,null,null,"",null,"□","三芳町",false,"南西部地域:三芳町","",null,"□","松伏町",false,"東部地域:松伏町","",null,null,null,null,null,"",null,"□","滑川町",false,"川越比企地域:滑川町","",null,null,null,null,null,"",null,"□","白岡市",false,"利根地域:白岡市","",null,"□","寄居町",false,"北部地域:寄居町","",null,null,null,null,null,""]
[null,null,null,null,null,null,null,null,null,null,null,null,null,null,null,null,null,null,null,null,null,null,null,null,null,null,"□","その他（送迎・移動支援）",false,"",null,null,null,"",null,null,null,{"$f":"IF(AK326,AJ326,\"\")","v":""},null,null,null,{"$f":"IF(AO326,AN326,\"\")","v":""},"□","パソコン・スマホ教室",false,"","□","その他（生活サービス）",false,"",null,"□","南区",false,"さいたま市:南区","",null,null,null,null,null,"",null,null,null,null,null,"",null,null,null,null,null,"",null,null,null,null,null,"",null,"□","嵐山町",false,"川越比企地域:嵐山町","",null,null,null,null,null,"",null,"□","宮代町",false,"利根地域:宮代町","",null,null,null,null,null,"",null,null,null,null,null,""]
[null,null,null,null,null,null,null,null,null,null,null,null,null,null,null,null,null,null,null,null,null,null,null,null,null,null,null,null,null,null,null,null,null,null,null,null,null,null,null,null,null,null,"□","その他（学び・趣味）",false,"",null,null,null,null,null,"□","緑区",false,"さいたま市:緑区","",null,null,null,null,null,"",null,null,null,null,null,"",null,null,null,null,null,"",null,null,null,null,null,"",null,"□","小川町",false,"川越比企地域:小川町","",null,null,null,null,null,"",null,"□","杉戸町",false,"利根地域:杉戸町","",null,null,null,null,null,"",null,null,null,null,null,""]
[null,null,null,null,null,null,null,null,null,null,null,null,null,null,null,null,null,null,null,null,null,null,null,null,null,null,null,null,null,null,null,null,null,null,null,null,null,null,null,null,null,null,null,null,null,null,null,null,null,null,null,"□","岩槻区",{"$f":"IF(AZ328=\"☑\",TRUE)","v":false},"さいたま市:岩槻区","",null,null,null,null,null,"",null,null,null,null,null,"",null,null,null,null,null,"",null,null,null,null,null,"",null,"□","川島町",false,"川越比企地域:川島町","",null,null,null,null,null,"",null,null,null,null,null,"",null,null,null,null,null,"",null,null,null,null,null,""]
[null,null,null,null,null,null,null,null,null,null,null,null,null,null,null,null,null,null,null,null,null,null,null,null,null,null,null,null,null,null,null,null,null,null,null,null,null,null,null,null,null,null,null,null,null,null,null,null,null,null,null,null,null,null,null,null,null,null,null,null,null,null,null,null,null,null,null,null,null,null,null,null,null,null,null,null,null,null,null,null,null,"□","吉見町",false,"川越比企地域:吉見町","",null,null,null,null,null,"",null,null,null,null,null,"",null,null,null,null,null,"",null,null,null,null,null,""]
[null,null,null,null,null,null,null,null,null,null,null,null,null,null,null,null,null,null,null,null,null,null,null,null,null,null,null,null,null,null,null,null,null,null,null,null,null,null,null,null,null,null,null,null,null,null,null,null,null,null,null,null,null,null,null,null,null,null,null,null,null,null,null,null,null,null,null,null,null,null,null,null,null,null,null,null,null,null,null,null,null,"□","鳩山町",false,"川越比企地域:鳩山町","",null,null,null,null,null,"",null,null,null,null,null,"",null,null,null,null,null,"",null,null,null,null,null,""]
[null,null,null,null,null,null,null,null,null,null,null,null,null,null,null,null,null,null,null,null,null,null,null,null,null,null,null,null,null,null,null,null,null,null,null,null,null,null,null,null,null,null,null,null,null,null,null,null,null,null,null,null,null,null,null,null,null,null,null,null,null,null,null,null,null,null,null,null,null,null,null,null,null,null,null,null,null,null,null,null,null,"□","ときがわ町",false,"川越比企地域:ときがわ町","",null,null,null,null,null,"",null,null,null,null,null,"",null,null,null,null,null,"",null,null,null,null,null,""]
[null,null,null,null,null,null,null,null,null,null,null,null,null,null,null,null,null,null,null,null,null,null,null,null,null,null,null,null,null,null,null,null,null,null,null,null,null,null,null,null,null,null,null,null,null,null,null,null,null,null,null,null,null,null,null,null,null,null,null,null,null,null,null,null,null,null,null,null,null,null,null,null,null,null,null,null,null,null,null,null,null,"□","東秩父村",false,"川越比企地域:東秩父村","",null,null,null,null,null,"",null,null,null,null,null,"",null,null,null,null,null,"",null,null,null,null,null,""]
[23,null,null,null,null,null,null,null,null,null,null,null,null,null,null,null,null,null,"□","配送",{"$f":"IF(S333=\"☑\",TRUE)","v":false},{"$f":"IF(U333,T333,\"\")","v":""},"□","弁当配達",{"$f":"IF(W333=\"☑\",TRUE)","v":false},{"$f":"IF(Y333,X333,\"\")","v":""},"□","理容・美容（送迎）",{"$f":"IF(AA333=\"☑\",TRUE)","v":false},{"$f":"IF(AC333,AB333,\"\")","v":""},"□","家事代行・掃除・片付け",{"$f":"IF(AE333=\"☑\",TRUE)","v":false},{"$f":"IF(AG333,AF333,\"\")","v":""},"□","フィットネス・ジム（運動）",{"$f":"IF(AI333=\"☑\",TRUE)","v":false},{"$f":"IF(AK333,AJ333,\"\")","v":""},"□","車イス対応（バリアフリー）",{"$f":"IF(AM333=\"☑\",TRUE)","v":false},{"$f":"IF(AO333,AN333,\"\")","v":""},"□","講座・教室・イベント",{"$f":"IF(AQ333=\"☑\",TRUE)","v":false},{"$f":"IF(AS333,AR333,\"\")","v":""},"□","防犯・見守り",{"$f":"IF(AU333=\"☑\",TRUE)","v":false},{"$f":"IF(AW333,AV333,\"\")","v":""},{"$f":"_xludf.TEXTJOIN(\",\",TRUE,V333:V346,Z333:Z346,AD333:AD346,AH333:AH346,AL333:AL346,AP333:AP346,AT333:AT346,AX333:AX346)","v":""},"□","西区",{"$f":"IF(AZ333=\"☑\",TRUE)","v":false},{"$f":"\"さいたま市:\"&BA333","v":"さいたま市:西区"},{"$f":"IF(BB333,BC333,\"\")","v":""},{"$f":"_xludf.TEXTJOIN(\",\",TRUE,BD333:BD346)","v":""},"□","川口市",{"$f":"IF(BF333=\"☑\",TRUE)","v":false},{"$f":"\"南部地域:\"&BG333","v":"南部地域:川口市"},{"$f":"IF(BH333,BI333,\"\")","v":""},{"$f":"_xludf.TEXTJOIN(\",\",TRUE,BJ333:BJ346)","v":""},"□","朝霞市",{"$f":"IF(BL333=\"☑\",TRUE)","v":false},{"$f":"\"南西部地域:\"&BM333","v":"南西部地域:朝霞市"},{"$f":"IF(BN333,BO333,\"\")","v":""},{"$f":"_xludf.TEXTJOIN(\",\",TRUE,BP333:BP346)","v":""},"□","春日部市",{"$f":"IF(BR333=\"☑\",TRUE)","v":false},{"$f":"\"東部地域:\"&BS333","v":"東部地域:春日部市"},{"$f":"IF(BT333,BU333,\"\")","v":""},{"$f":"_xludf.TEXTJOIN(\",\",TRUE,BV333:BV346)","v":""},"□","鴻巣市",{"$f":"IF(BX333=\"☑\",TRUE)","v":false},{"$f":"\"県央地域:\"&BY333","v":"県央地域:鴻巣市"},{"$f":"IF(BZ333,CA333,\"\")","v":""},{"$f":"_xludf.TEXTJOIN(\",\",TRUE,CB333:CB346)","v":""},"□","川越市",{"$f":"IF(CD333=\"☑\",TRUE)","v":false},{"$f":"\"川越比企地域:\"&CE333","v":"川越比企地域:川越市"},{"$f":"IF(CF333,CG333,\"\")","v":""},{"$f":"_xludf.TEXTJOIN(\",\",TRUE,CH333:CH346)","v":""},"□","所沢市",{"$f":"IF(CJ333=\"☑\",TRUE)","v":false},{"$f":"\"西部地域:\"&CK333","v":"西部地域:所沢市"},{"$f":"IF(CL333,CM333,\"\")","v":""},{"$f":"_xludf.TEXTJOIN(\",\",TRUE,CN333:CN346)","v":""},"□","行田市",{"$f":"IF(CP333=\"☑\",TRUE)","v":false},{"$f":"\"利根地域:\"&CQ333","v":"利根地域:行田市"},{"$f":"IF(CR333,CS333,\"\")","v":""},{"$f":"_xludf.TEXTJOIN(\",\",TRUE,CT333:CT346)","v":""},"□","熊谷市",{"$f":"IF(CV333=\"☑\",TRUE)","v":false},{"$f":"\"北部地域:\"&CW333","v":"北部地域:熊谷市"},{"$f":"IF(CX333,CY333,\"\")","v":""},{"$f":"_xludf.TEXTJOIN(\",\",TRUE,CZ333:CZ346)","v":""},"□","秩父市",{"$f":"IF(DB333=\"☑\",TRUE)","v":false},{"$f":"\"秩父地域:\"&DC333","v":"秩父地域:秩父市"},{"$f":"IF(DD333,DE333,\"\")","v":""},{"$f":"_xludf.TEXTJOIN(\",\",TRUE,DF333:DF346)","v":""},{"$f":"_xlfn.TEXTJOIN(\",\",TRUE,BE333,BK333,BQ333,BW333,CC333,CI333,CO333,CU333,DA333,DG333)","v":""},null,null,null,null,null,null,null,null,{"$f":"IF(#REF!=\"☑\",TRUE)","v":{"$error":"#REF!"}},{"$f":"IF(DQ333,#REF!,\"\")","v":{"$error":"#REF!"}},{"$f":"_xludf.TEXTJOIN(\",\",TRUE,DR333:DR346)","v":{"$error":"#VALUE!"}}]
[null,null,null,null,null,null,null,null,null,null,null,null,null,null,null,null,null,null,"□","買物サポート",false,"","□","料理デリバリー（出前）",false,"","□","フィットネス・ジム（送迎）",{"$f":"IF(AA334=\"☑\",TRUE)","v":false},{"$f":"IF(AC334,AB334,\"\")","v":""},"□","出張料理",{"$f":"IF(AE334=\"☑\",TRUE)","v":false},{"$f":"IF(AG334,AF334,\"\")","v":""},"□","温泉・銭湯（たまり場）",false,"","□","多目的トイレ",false,"","□","習い事",{"$f":"IF(AQ334=\"☑\",TRUE)","v":false},{"$f":"IF(AS334,AR334,\"\")","v":""},"□","金融・保険",false,"",null,"□","北区",{"$f":"IF(AZ334=\"☑\",TRUE)","v":false},{"$f":"\"さいたま市:\"&BA334","v":"さいたま市:北区"},{"$f":"IF(BB334,BC334,\"\")","v":""},null,"□","蕨市",{"$f":"IF(BF334=\"☑\",TRUE)","v":false},{"$f":"\"南部地域:\"&BG334","v":"南部地域:蕨市"},{"$f":"IF(BH334,BI334,\"\")","v":""},null,"□","志木市",{"$f":"IF(BL334=\"☑\",TRUE)","v":false},{"$f":"\"南西部地域:\"&BM334","v":"南西部地域:志木市"},{"$f":"IF(BN334,BO334,\"\")","v":""},null,"□","草加市",{"$f":"IF(BR334=\"☑\",TRUE)","v":false},{"$f":"\"東部地域:\"&BS334","v":"東部地域:草加市"},"",null,"□","上尾市",{"$f":"IF(BX334=\"☑\",TRUE)","v":false},{"$f":"\"県央地域:\"&BY334","v":"県央地域:上尾市"},{"$f":"IF(BZ334,CA334,\"\")","v":""},null,"□","東松山市",{"$f":"IF(CD334=\"☑\",TRUE)","v":false},{"$f":"\"川越比企地域:\"&CE334","v":"川越比企地域:東松山市"},{"$f":"IF(CF334,CG334,\"\")","v":""},null,"□","飯能市",{"$f":"IF(CJ334=\"☑\",TRUE)","v":false},{"$f":"\"西部地域:\"&CK334","v":"西部地域:飯能市"},{"$f":"IF(CL334,CM334,\"\")","v":""},null,"□","加須市",{"$f":"IF(CP334=\"☑\",TRUE)","v":false},{"$f":"\"利根地域:\"&CQ334","v":"利根地域:加須市"},{"$f":"IF(CR334,CS334,\"\")","v":""},null,"□","本庄市",{"$f":"IF(CV334=\"☑\",TRUE)","v":false},{"$f":"\"北部地域:\"&CW334","v":"北部地域:本庄市"},{"$f":"IF(CX334,CY334,\"\")","v":""},null,"□","横瀬町",{"$f":"IF(DB334=\"☑\",TRUE)","v":false},{"$f":"\"秩父地域:\"&DC334","v":"秩父地域:横瀬町"},{"$f":"IF(DD334,DE334,\"\")","v":""},null,null,null,null,null,null,null,null,null,null,null,{"$f":"IF(DQ334,#REF!,\"\")","v":""}]
[null,null,null,null,null,null,null,null,null,null,null,null,null,null,null,null,null,null,"□","買物代行",false,"","□","食材宅配",false,"","□","温泉・銭湯（送迎）",false,"","□","屋外作業・力仕事",false,"","□","カフェ・ファーストフード",false,"","□","休憩スペース",false,"","□","映画館",false,"","□","住宅・リフォーム",false,"",null,"□","大宮区",false,"さいたま市:大宮区","",null,"□","戸田市",{"$f":"IF(BF335=\"☑\",TRUE)","v":false},{"$f":"\"南部地域:\"&BG335","v":"南部地域:戸田市"},"",null,"□","和光市",false,"南西部地域:和光市","",null,"□","越谷市",false,"東部地域:越谷市","",null,"□","桶川市",{"$f":"IF(BX335=\"☑\",TRUE)","v":false},{"$f":"\"県央地域:\"&BY335","v":"県央地域:桶川市"},"",null,"□","坂戸市",false,"川越比企地域:坂戸市","",null,"□","狭山市",{"$f":"IF(CJ335=\"☑\",TRUE)","v":false},{"$f":"\"西部地域:\"&CK335","v":"西部地域:狭山市"},"",null,"□","羽生市",false,"利根地域:羽生市","",null,"□","深谷市",false,"北部地域:深谷市","",null,"□","皆野町",{"$f":"IF(DB335=\"☑\",TRUE)","v":false},{"$f":"\"秩父地域:\"&DC335","v":"秩父地域:皆野町"},"",null,null,null,null,null,null,null,null,null,null,{"$f":"IF(#REF!=\"☑\",TRUE)","v":{"$error":"#REF!"}},{"$f":"IF(DQ335,#REF!,\"\")","v":{"$error":"#REF!"}}]
[null,null,null,null,null,null,null,null,null,null,null,null,null,null,null,null,null,null,"□","移動販売",false,"","□","日用品配達",false,"","□","整体・マッサージ（送迎）",false,"","□","整体・マッサージ（出張）",false,"","□","飲食店",false,"","□","駐車場",false,"","□","カラオケ店",false,"","□","パソコン・スマートフォン",false,"",null,"□","見沼区",false,"さいたま市:見沼区","",null,null,null,null,null,"",null,"□","新座市",false,"南西部地域:新座市","",null,"□","八潮市",false,"東部地域:八潮市","",null,"□","北本市",{"$f":"IF(BX336=\"☑\",TRUE)","v":false},{"$f":"\"県央地域:\"&BY336","v":"県央地域:北本市"},"",null,"□","鶴ヶ島市",false,"川越比企地域:鶴ヶ島市","",null,"□","入間市",{"$f":"IF(CJ336=\"☑\",TRUE)","v":false},{"$f":"\"西部地域:\"&CK336","v":"西部地域:入間市"},"",null,"□","久喜市",false,"利根地域:久喜市","",null,"□","美里町",false,"北部地域:美里町","",null,"□","長瀞町",{"$f":"IF(DB336=\"☑\",TRUE)","v":false},{"$f":"\"秩父地域:\"&DC336","v":"秩父地域:長瀞町"},""]
[null,null,null,null,null,null,null,null,null,null,null,null,null,null,null,null,null,null,"□","割引サービス",false,"","□","薬・介護用品配達",false,"","□","乗り合いサービス",false,"","□","理容・美容（出張）",false,"","□","イートインスペース",false,"","□","貸しスペース",false,"","□","麻雀・将棋・囲碁",false,"","□","認知症サポート企業",false,"",null,"□","中央区",false,"さいたま市:中央区","",null,null,null,null,null,"",null,"□","富士見市",false,"南西部地域:富士見市","",null,"□","三郷市",false,"東部地域:三郷市","",null,"□","伊奈町",{"$f":"IF(BX337=\"☑\",TRUE)","v":false},{"$f":"\"県央地域:\"&BY337","v":"県央地域:伊奈町"},"",null,"□","毛呂山町",false,"川越比企地域:毛呂山町","",null,"□","日高市",{"$f":"IF(CJ337=\"☑\",TRUE)","v":false},{"$f":"\"西部地域:\"&CK337","v":"西部地域:日高市"},"",null,"□","蓮田市",false,"利根地域:蓮田市","",null,"□","神川町",false,"北部地域:神川町","",null,"□","小鹿野町",{"$f":"IF(DB337=\"☑\",TRUE)","v":false},{"$f":"\"秩父地域:\"&DC337","v":"秩父地域:小鹿野町"},"",null,null,null,null,null,null,null,null,null,null,{"$f":"IF(#REF!=\"☑\",TRUE)","v":{"$error":"#REF!"}},{"$f":"IF(DQ337,#REF!,\"\")","v":{"$error":"#REF!"}}]
[null,null,null,null,null,null,null,null,null,null,null,null,null,null,null,null,null,null,"□","その他（買物）",false,"","□","クリーニング",false,{"$f":"IF(Y338,X338,\"\")","v":""},"□","個別移送サービス",false,"","□","ペット",false,"","□","その他（運動・たまり場）",false,"","□","その他（設備・施設・場所貸し）",false,"","□","ゲームセンター",false,"","□","理容・美容",false,"",null,"□","桜区",false,"さいたま市:桜区","",null,null,null,null,null,"",null,"□","ふじみ野市",false,"南西部地域:ふじみ野市","",null,"□","吉川市",false,"東部地域:吉川市","",null,null,null,null,null,"",null,"□","越生町",false,"川越比企地域:越生町","",null,null,null,null,null,"",null,"□","幸手市",false,"利根地域:幸手市","",null,"□","上里町",false,"北部地域:上里町","",null,null,null,null,null,"",null,null,null,null,null,null,null,null,null,null,{"$f":"IF(#REF!=\"☑\",TRUE)","v":{"$error":"#REF!"}},{"$f":"IF(DQ338,#REF!,\"\")","v":{"$error":"#REF!"}}]
[null,null,null,null,null,null,null,null,null,null,null,null,null,null,null,null,null,null,null,null,null,null,"□","その他（宅配・デリバリー）",false,{"$f":"IF(Y339,X339,\"\")","v":""},"□","交通機関サービス",false,"","□","その他（出張サービス）",false,"",null,null,null,null,null,null,null,null,"□","旅行・レジャー",false,"","□","成年後見・相続",false,"",null,"□","浦和区",false,"さいたま市:浦和区","",null,null,null,null,null,"",null,"□","三芳町",false,"南西部地域:三芳町","",null,"□","松伏町",false,"東部地域:松伏町","",null,null,null,null,null,"",null,"□","滑川町",false,"川越比企地域:滑川町","",null,null,null,null,null,"",null,"□","白岡市",false,"利根地域:白岡市","",null,"□","寄居町",false,"北部地域:寄居町","",null,null,null,null,null,""]
[null,null,null,null,null,null,null,null,null,null,null,null,null,null,null,null,null,null,null,null,null,null,null,null,null,null,"□","その他（送迎・移動支援）",false,"",null,null,null,"",null,null,null,{"$f":"IF(AK340,AJ340,\"\")","v":""},null,null,null,{"$f":"IF(AO340,AN340,\"\")","v":""},"□","パソコン・スマホ教室",false,"","□","その他（生活サービス）",false,"",null,"□","南区",false,"さいたま市:南区","",null,null,null,null,null,"",null,null,null,null,null,"",null,null,null,null,null,"",null,null,null,null,null,"",null,"□","嵐山町",false,"川越比企地域:嵐山町","",null,null,null,null,null,"",null,"□","宮代町",false,"利根地域:宮代町","",null,null,null,null,null,"",null,null,null,null,null,""]
[null,null,null,null,null,null,null,null,null,null,null,null,null,null,null,null,null,null,null,null,null,null,null,null,null,null,null,null,null,null,null,null,null,null,null,null,null,null,null,null,null,null,"□","その他（学び・趣味）",false,"",null,null,null,null,null,"□","緑区",false,"さいたま市:緑区","",null,null,null,null,null,"",null,null,null,null,null,"",null,null,null,null,null,"",null,null,null,null,null,"",null,"□","小川町",false,"川越比企地域:小川町","",null,null,null,null,null,"",null,"□","杉戸町",false,"利根地域:杉戸町","",null,null,null,null,null,"",null,null,null,null,null,""]
[null,null,null,null,null,null,null,null,null,null,null,null,null,null,null,null,null,null,null,null,null,null,null,null,null,null,null,null,null,null,null,null,null,null,null,null,null,null,null,null,null,null,null,null,null,null,null,null,null,null,null,"□","岩槻区",{"$f":"IF(AZ342=\"☑\",TRUE)","v":false},"さいたま市:岩槻区","",null,null,null,null,null,"",null,null,null,null,null,"",null,null,null,null,null,"",null,null,null,null,null,"",null,"□","川島町",false,"川越比企地域:川島町","",null,null,null,null,null,"",null,null,null,null,null,"",null,null,null,null,null,"",null,null,null,null,null,""]
[null,null,null,null,null,null,null,null,null,null,null,null,null,null,null,null,null,null,null,null,null,null,null,null,null,null,null,null,null,null,null,null,null,null,null,null,null,null,null,null,null,null,null,null,null,null,null,null,null,null,null,null,null,null,null,null,null,null,null,null,null,null,null,null,null,null,null,null,null,null,null,null,null,null,null,null,null,null,null,null,null,"□","吉見町",false,"川越比企地域:吉見町","",null,null,null,null,null,"",null,null,null,null,null,"",null,null,null,null,null,"",null,null,null,null,null,""]
[null,null,null,null,null,null,null,null,null,null,null,null,null,null,null,null,null,null,null,null,null,null,null,null,null,null,null,null,null,null,null,null,null,null,null,null,null,null,null,null,null,null,null,null,null,null,null,null,null,null,null,null,null,null,null,null,null,null,null,null,null,null,null,null,null,null,null,null,null,null,null,null,null,null,null,null,null,null,null,null,null,"□","鳩山町",false,"川越比企地域:鳩山町","",null,null,null,null,null,"",null,null,null,null,null,"",null,null,null,null,null,"",null,null,null,null,null,""]
[null,null,null,null,null,null,null,null,null,null,null,null,null,null,null,null,null,null,null,null,null,null,null,null,null,null,null,null,null,null,null,null,null,null,null,null,null,null,null,null,null,null,null,null,null,null,null,null,null,null,null,null,null,null,null,null,null,null,null,null,null,null,null,null,null,null,null,null,null,null,null,null,null,null,null,null,null,null,null,null,null,"□","ときがわ町",false,"川越比企地域:ときがわ町","",null,null,null,null,null,"",null,null,null,null,null,"",null,null,null,null,null,"",null,null,null,null,null,""]
[null,null,null,null,null,null,null,null,null,null,null,null,null,null,null,null,null,null,null,null,null,null,null,null,null,null,null,null,null,null,null,null,null,null,null,null,null,null,null,null,null,null,null,null,null,null,null,null,null,null,null,null,null,null,null,null,null,null,null,null,null,null,null,null,null,null,null,null,null,null,null,null,null,null,null,null,null,null,null,null,null,"□","東秩父村",false,"川越比企地域:東秩父村","",null,null,null,null,null,"",null,null,null,null,null,"",null,null,null,null,null,"",null,null,null,null,null,""]
[24,null,null,null,null,null,null,null,null,null,null,null,null,null,null,null,null,null,"□","配送",{"$f":"IF(S347=\"☑\",TRUE)","v":false},{"$f":"IF(U347,T347,\"\")","v":""},"□","弁当配達",{"$f":"IF(W347=\"☑\",TRUE)","v":false},{"$f":"IF(Y347,X347,\"\")","v":""},"□","理容・美容（送迎）",{"$f":"IF(AA347=\"☑\",TRUE)","v":false},{"$f":"IF(AC347,AB347,\"\")","v":""},"□","家事代行・掃除・片付け",{"$f":"IF(AE347=\"☑\",TRUE)","v":false},{"$f":"IF(AG347,AF347,\"\")","v":""},"□","フィットネス・ジム（運動）",{"$f":"IF(AI347=\"☑\",TRUE)","v":false},{"$f":"IF(AK347,AJ347,\"\")","v":""},"□","車イス対応（バリアフリー）",{"$f":"IF(AM347=\"☑\",TRUE)","v":false},{"$f":"IF(AO347,AN347,\"\")","v":""},"□","講座・教室・イベント",{"$f":"IF(AQ347=\"☑\",TRUE)","v":false},{"$f":"IF(AS347,AR347,\"\")","v":""},"□","防犯・見守り",{"$f":"IF(AU347=\"☑\",TRUE)","v":false},{"$f":"IF(AW347,AV347,\"\")","v":""},{"$f":"_xludf.TEXTJOIN(\",\",TRUE,V347:V360,Z347:Z360,AD347:AD360,AH347:AH360,AL347:AL360,AP347:AP360,AT347:AT360,AX347:AX360)","v":""},"□","西区",{"$f":"IF(AZ347=\"☑\",TRUE)","v":false},{"$f":"\"さいたま市:\"&BA347","v":"さいたま市:西区"},{"$f":"IF(BB347,BC347,\"\")","v":""},{"$f":"_xludf.TEXTJOIN(\",\",TRUE,BD347:BD360)","v":""},"□","川口市",{"$f":"IF(BF347=\"☑\",TRUE)","v":false},{"$f":"\"南部地域:\"&BG347","v":"南部地域:川口市"},{"$f":"IF(BH347,BI347,\"\")","v":""},{"$f":"_xludf.TEXTJOIN(\",\",TRUE,BJ347:BJ360)","v":""},"□","朝霞市",{"$f":"IF(BL347=\"☑\",TRUE)","v":false},{"$f":"\"南西部地域:\"&BM347","v":"南西部地域:朝霞市"},{"$f":"IF(BN347,BO347,\"\")","v":""},{"$f":"_xludf.TEXTJOIN(\",\",TRUE,BP347:BP360)","v":""},"□","春日部市",{"$f":"IF(BR347=\"☑\",TRUE)","v":false},{"$f":"\"東部地域:\"&BS347","v":"東部地域:春日部市"},{"$f":"IF(BT347,BU347,\"\")","v":""},{"$f":"_xludf.TEXTJOIN(\",\",TRUE,BV347:BV360)","v":""},"□","鴻巣市",{"$f":"IF(BX347=\"☑\",TRUE)","v":false},{"$f":"\"県央地域:\"&BY347","v":"県央地域:鴻巣市"},{"$f":"IF(BZ347,CA347,\"\")","v":""},{"$f":"_xludf.TEXTJOIN(\",\",TRUE,CB347:CB360)","v":""},"□","川越市",{"$f":"IF(CD347=\"☑\",TRUE)","v":false},{"$f":"\"川越比企地域:\"&CE347","v":"川越比企地域:川越市"},{"$f":"IF(CF347,CG347,\"\")","v":""},{"$f":"_xludf.TEXTJOIN(\",\",TRUE,CH347:CH360)","v":""},"□","所沢市",{"$f":"IF(CJ347=\"☑\",TRUE)","v":false},{"$f":"\"西部地域:\"&CK347","v":"西部地域:所沢市"},{"$f":"IF(CL347,CM347,\"\")","v":""},{"$f":"_xludf.TEXTJOIN(\",\",TRUE,CN347:CN360)","v":""},"□","行田市",{"$f":"IF(CP347=\"☑\",TRUE)","v":false},{"$f":"\"利根地域:\"&CQ347","v":"利根地域:行田市"},{"$f":"IF(CR347,CS347,\"\")","v":""},{"$f":"_xludf.TEXTJOIN(\",\",TRUE,CT347:CT360)","v":""},"□","熊谷市",{"$f":"IF(CV347=\"☑\",TRUE)","v":false},{"$f":"\"北部地域:\"&CW347","v":"北部地域:熊谷市"},{"$f":"IF(CX347,CY347,\"\")","v":""},{"$f":"_xludf.TEXTJOIN(\",\",TRUE,CZ347:CZ360)","v":""},"□","秩父市",{"$f":"IF(DB347=\"☑\",TRUE)","v":false},{"$f":"\"秩父地域:\"&DC347","v":"秩父地域:秩父市"},{"$f":"IF(DD347,DE347,\"\")","v":""},{"$f":"_xludf.TEXTJOIN(\",\",TRUE,DF347:DF360)","v":""},{"$f":"_xlfn.TEXTJOIN(\",\",TRUE,BE347,BK347,BQ347,BW347,CC347,CI347,CO347,CU347,DA347,DG347)","v":""},null,null,null,null,null,null,null,null,{"$f":"IF(#REF!=\"☑\",TRUE)","v":{"$error":"#REF!"}},{"$f":"IF(DQ347,#REF!,\"\")","v":{"$error":"#REF!"}},{"$f":"_xludf.TEXTJOIN(\",\",TRUE,DR347:DR360)","v":{"$error":"#VALUE!"}}]
[null,null,null,null,null,null,null,null,null,null,null,null,null,null,null,null,null,null,"□","買物サポート",false,"","□","料理デリバリー（出前）",false,"","□","フィットネス・ジム（送迎）",{"$f":"IF(AA348=\"☑\",TRUE)","v":false},{"$f":"IF(AC348,AB348,\"\")","v":""},"□","出張料理",{"$f":"IF(AE348=\"☑\",TRUE)","v":false},{"$f":"IF(AG348,AF348,\"\")","v":""},"□","温泉・銭湯（たまり場）",false,"","□","多目的トイレ",false,"","□","習い事",{"$f":"IF(AQ348=\"☑\",TRUE)","v":false},{"$f":"IF(AS348,AR348,\"\")","v":""},"□","金融・保険",false,"",null,"□","北区",{"$f":"IF(AZ348=\"☑\",TRUE)","v":false},{"$f":"\"さいたま市:\"&BA348","v":"さいたま市:北区"},{"$f":"IF(BB348,BC348,\"\")","v":""},null,"□","蕨市",{"$f":"IF(BF348=\"☑\",TRUE)","v":false},{"$f":"\"南部地域:\"&BG348","v":"南部地域:蕨市"},{"$f":"IF(BH348,BI348,\"\")","v":""},null,"□","志木市",{"$f":"IF(BL348=\"☑\",TRUE)","v":false},{"$f":"\"南西部地域:\"&BM348","v":"南西部地域:志木市"},{"$f":"IF(BN348,BO348,\"\")","v":""},null,"□","草加市",{"$f":"IF(BR348=\"☑\",TRUE)","v":false},{"$f":"\"東部地域:\"&BS348","v":"東部地域:草加市"},"",null,"□","上尾市",{"$f":"IF(BX348=\"☑\",TRUE)","v":false},{"$f":"\"県央地域:\"&BY348","v":"県央地域:上尾市"},{"$f":"IF(BZ348,CA348,\"\")","v":""},null,"□","東松山市",{"$f":"IF(CD348=\"☑\",TRUE)","v":false},{"$f":"\"川越比企地域:\"&CE348","v":"川越比企地域:東松山市"},{"$f":"IF(CF348,CG348,\"\")","v":""},null,"□","飯能市",{"$f":"IF(CJ348=\"☑\",TRUE)","v":false},{"$f":"\"西部地域:\"&CK348","v":"西部地域:飯能市"},{"$f":"IF(CL348,CM348,\"\")","v":""},null,"□","加須市",{"$f":"IF(CP348=\"☑\",TRUE)","v":false},{"$f":"\"利根地域:\"&CQ348","v":"利根地域:加須市"},{"$f":"IF(CR348,CS348,\"\")","v":""},null,"□","本庄市",{"$f":"IF(CV348=\"☑\",TRUE)","v":false},{"$f":"\"北部地域:\"&CW348","v":"北部地域:本庄市"},{"$f":"IF(CX348,CY348,\"\")","v":""},null,"□","横瀬町",{"$f":"IF(DB348=\"☑\",TRUE)","v":false},{"$f":"\"秩父地域:\"&DC348","v":"秩父地域:横瀬町"},{"$f":"IF(DD348,DE348,\"\")","v":""},null,null,null,null,null,null,null,null,null,null,null,{"$f":"IF(DQ348,#REF!,\"\")","v":""}]
[null,null,null,null,null,null,null,null,null,null,null,null,null,null,null,null,null,null,"□","買物代行",false,"","□","食材宅配",false,"","□","温泉・銭湯（送迎）",false,"","□","屋外作業・力仕事",false,"","□","カフェ・ファーストフード",false,"","□","休憩スペース",false,"","□","映画館",false,"","□","住宅・リフォーム",false,"",null,"□","大宮区",false,"さいたま市:大宮区","",null,"□","戸田市",{"$f":"IF(BF349=\"☑\",TRUE)","v":false},{"$f":"\"南部地域:\"&BG349","v":"南部地域:戸田市"},"",null,"□","和光市",false,"南西部地域:和光市","",null,"□","越谷市",false,"東部地域:越谷市","",null,"□","桶川市",{"$f":"IF(BX349=\"☑\",TRUE)","v":false},{"$f":"\"県央地域:\"&BY349","v":"県央地域:桶川市"},"",null,"□","坂戸市",false,"川越比企地域:坂戸市","",null,"□","狭山市",{"$f":"IF(CJ349=\"☑\",TRUE)","v":false},{"$f":"\"西部地域:\"&CK349","v":"西部地域:狭山市"},"",null,"□","羽生市",false,"利根地域:羽生市","",null,"□","深谷市",false,"北部地域:深谷市","",null,"□","皆野町",{"$f":"IF(DB349=\"☑\",TRUE)","v":false},{"$f":"\"秩父地域:\"&DC349","v":"秩父地域:皆野町"},"",null,null,null,null,null,null,null,null,null,null,{"$f":"IF(#REF!=\"☑\",TRUE)","v":{"$error":"#REF!"}},{"$f":"IF(DQ349,#REF!,\"\")","v":{"$error":"#REF!"}}]
[null,null,null,null,null,null,null,null,null,null,null,null,null,null,null,null,null,null,"□","移動販売",false,"","□","日用品配達",false,"","□","整体・マッサージ（送迎）",false,"","□","整体・マッサージ（出張）",false,"","□","飲食店",false,"","□","駐車場",false,"","□","カラオケ店",false,"","□","パソコン・スマートフォン",false,"",null,"□","見沼区",false,"さいたま市:見沼区","",null,null,null,null,null,"",null,"□","新座市",false,"南西部地域:新座市","",null,"□","八潮市",false,"東部地域:八潮市","",null,"□","北本市",{"$f":"IF(BX350=\"☑\",TRUE)","v":false},{"$f":"\"県央地域:\"&BY350","v":"県央地域:北本市"},"",null,"□","鶴ヶ島市",false,"川越比企地域:鶴ヶ島市","",null,"□","入間市",{"$f":"IF(CJ350=\"☑\",TRUE)","v":false},{"$f":"\"西部地域:\"&CK350","v":"西部地域:入間市"},"",null,"□","久喜市",false,"利根地域:久喜市","",null,"□","美里町",false,"北部地域:美里町","",null,"□","長瀞町",{"$f":"IF(DB350=\"☑\",TRUE)","v":false},{"$f":"\"秩父地域:\"&DC350","v":"秩父地域:長瀞町"},""]
[null,null,null,null,null,null,null,null,null,null,null,null,null,null,null,null,null,null,"□","割引サービス",false,"","□","薬・介護用品配達",false,"","□","乗り合いサービス",false,"","□","理容・美容（出張）",false,"","□","イートインスペース",false,"","□","貸しスペース",false,"","□","麻雀・将棋・囲碁",false,"","□","認知症サポート企業",false,"",null,"□","中央区",false,"さいたま市:中央区","",null,null,null,null,null,"",null,"□","富士見市",false,"南西部地域:富士見市","",null,"□","三郷市",false,"東部地域:三郷市","",null,"□","伊奈町",{"$f":"IF(BX351=\"☑\",TRUE)","v":false},{"$f":"\"県央地域:\"&BY351","v":"県央地域:伊奈町"},"",null,"□","毛呂山町",false,"川越比企地域:毛呂山町","",null,"□","日高市",{"$f":"IF(CJ351=\"☑\",TRUE)","v":false},{"$f":"\"西部地域:\"&CK351","v":"西部地域:日高市"},"",null,"□","蓮田市",false,"利根地域:蓮田市","",null,"□","神川町",false,"北部地域:神川町","",null,"□","小鹿野町",{"$f":"IF(DB351=\"☑\",TRUE)","v":false},{"$f":"\"秩父地域:\"&DC351","v":"秩父地域:小鹿野町"},"",null,null,null,null,null,null,null,null,null,null,{"$f":"IF(#REF!=\"☑\",TRUE)","v":{"$error":"#REF!"}},{"$f":"IF(DQ351,#REF!,\"\")","v":{"$error":"#REF!"}}]
[null,null,null,null,null,null,null,null,null,null,null,null,null,null,null,null,null,null,"□","その他（買物）",false,"","□","クリーニング",false,{"$f":"IF(Y352,X352,\"\")","v":""},"□","個別移送サービス",false,"","□","ペット",false,"","□","その他（運動・たまり場）",false,"","□","その他（設備・施設・場所貸し）",false,"","□","ゲームセンター",false,"","□","理容・美容",false,"",null,"□","桜区",false,"さいたま市:桜区","",null,null,null,null,null,"",null,"□","ふじみ野市",false,"南西部地域:ふじみ野市","",null,"□","吉川市",false,"東部地域:吉川市","",null,null,null,null,null,"",null,"□","越生町",false,"川越比企地域:越生町","",null,null,null,null,null,"",null,"□","幸手市",false,"利根地域:幸手市","",null,"□","上里町",false,"北部地域:上里町","",null,null,null,null,null,"",null,null,null,null,null,null,null,null,null,null,{"$f":"IF(#REF!=\"☑\",TRUE)","v":{"$error":"#REF!"}},{"$f":"IF(DQ352,#REF!,\"\")","v":{"$error":"#REF!"}}]
[null,null,null,null,null,null,null,null,null,null,null,null,null,null,null,null,null,null,null,null,null,null,"□","その他（宅配・デリバリー）",false,{"$f":"IF(Y353,X353,\"\")","v":""},"□","交通機関サービス",false,"","□","その他（出張サービス）",false,"",null,null,null,null,null,null,null,null,"□","旅行・レジャー",false,"","□","成年後見・相続",false,"",null,"□","浦和区",false,"さいたま市:浦和区","",null,null,null,null,null,"",null,"□","三芳町",false,"南西部地域:三芳町","",null,"□","松伏町",false,"東部地域:松伏町","",null,null,null,null,null,"",null,"□","滑川町",false,"川越比企地域:滑川町","",null,null,null,null,null,"",null,"□","白岡市",false,"利根地域:白岡市","",null,"□","寄居町",false,"北部地域:寄居町","",null,null,null,null,null,""]
[null,null,null,null,null,null,null,null,null,null,null,null,null,null,null,null,null,null,null,null,null,null,null,null,null,null,"□","その他（送迎・移動支援）",false,"",null,null,null,"",null,null,null,{"$f":"IF(AK354,AJ354,\"\")","v":""},null,null,null,{"$f":"IF(AO354,AN354,\"\")","v":""},"□","パソコン・スマホ教室",false,"","□","その他（生活サービス）",false,"",null,"□","南区",false,"さいたま市:南区","",null,null,null,null,null,"",null,null,null,null,null,"",null,null,null,null,null,"",null,null,null,null,null,"",null,"□","嵐山町",false,"川越比企地域:嵐山町","",null,null,null,null,null,"",null,"□","宮代町",false,"利根地域:宮代町","",null,null,null,null,null,"",null,null,null,null,null,""]
[null,null,null,null,null,null,null,null,null,null,null,null,null,null,null,null,null,null,null,null,null,null,null,null,null,null,null,null,null,null,null,null,null,null,null,null,null,null,null,null,null,null,"□","その他（学び・趣味）",false,"",null,null,null,null,null,"□","緑区",false,"さいたま市:緑区","",null,null,null,null,null,"",null,null,null,null,null,"",null,null,null,null,null,"",null,null,null,null,null,"",null,"□","小川町",false,"川越比企地域:小川町","",null,null,null,null,null,"",null,"□","杉戸町",false,"利根地域:杉戸町","",null,null,null,null,null,"",null,null,null,null,null,""]
[null,null,null,null,null,null,null,null,null,null,null,null,null,null,null,null,null,null,null,null,null,null,null,null,null,null,null,null,null,null,null,null,null,null,null,null,null,null,null,null,null,null,null,null,null,null,null,null,null,null,null,"□","岩槻区",{"$f":"IF(AZ356=\"☑\",TRUE)","v":false},"さいたま市:岩槻区","",null,null,null,null,null,"",null,null,null,null,null,"",null,null,null,null,null,"",null,null,null,null,null,"",null,"□","川島町",false,"川越比企地域:川島町","",null,null,null,null,null,"",null,null,null,null,null,"",null,null,null,null,null,"",null,null,null,null,null,""]
[null,null,null,null,null,null,null,null,null,null,null,null,null,null,null,null,null,null,null,null,null,null,null,null,null,null,null,null,null,null,null,null,null,null,null,null,null,null,null,null,null,null,null,null,null,null,null,null,null,null,null,null,null,null,null,null,null,null,null,null,null,null,null,null,null,null,null,null,null,null,null,null,null,null,null,null,null,null,null,null,null,"□","吉見町",false,"川越比企地域:吉見町","",null,null,null,null,null,"",null,null,null,null,null,"",null,null,null,null,null,"",null,null,null,null,null,""]
[null,null,null,null,null,null,null,null,null,null,null,null,null,null,null,null,null,null,null,null,null,null,null,null,null,null,null,null,null,null,null,null,null,null,null,null,null,null,null,null,null,null,null,null,null,null,null,null,null,null,null,null,null,null,null,null,null,null,null,null,null,null,null,null,null,null,null,null,null,null,null,null,null,null,null,null,null,null,null,null,null,"□","鳩山町",false,"川越比企地域:鳩山町","",null,null,null,null,null,"",null,null,null,null,null,"",null,null,null,null,null,"",null,null,null,null,null,""]
[null,null,null,null,null,null,null,null,null,null,null,null,null,null,null,null,null,null,null,null,null,null,null,null,null,null,null,null,null,null,null,null,null,null,null,null,null,null,null,null,null,null,null,null,null,null,null,null,null,null,null,null,null,null,null,null,null,null,null,null,null,null,null,null,null,null,null,null,null,null,null,null,null,null,null,null,null,null,null,null,null,"□","ときがわ町",false,"川越比企地域:ときがわ町","",null,null,null,null,null,"",null,null,null,null,null,"",null,null,null,null,null,"",null,null,null,null,null,""]
[null,null,null,null,null,null,null,null,null,null,null,null,null,null,null,null,null,null,null,null,null,null,null,null,null,null,null,null,null,null,null,null,null,null,null,null,null,null,null,null,null,null,null,null,null,null,null,null,null,null,null,null,null,null,null,null,null,null,null,null,null,null,null,null,null,null,null,null,null,null,null,null,null,null,null,null,null,null,null,null,null,"□","東秩父村",false,"川越比企地域:東秩父村","",null,null,null,null,null,"",null,null,null,null,null,"",null,null,null,null,null,"",null,null,null,null,null,""]
[25,null,null,null,null,null,null,null,null,null,null,null,null,null,null,null,null,null,"□","配送",{"$f":"IF(S361=\"☑\",TRUE)","v":false},{"$f":"IF(U361,T361,\"\")","v":""},"□","弁当配達",{"$f":"IF(W361=\"☑\",TRUE)","v":false},{"$f":"IF(Y361,X361,\"\")","v":""},"□","理容・美容（送迎）",{"$f":"IF(AA361=\"☑\",TRUE)","v":false},{"$f":"IF(AC361,AB361,\"\")","v":""},"□","家事代行・掃除・片付け",{"$f":"IF(AE361=\"☑\",TRUE)","v":false},{"$f":"IF(AG361,AF361,\"\")","v":""},"□","フィットネス・ジム（運動）",{"$f":"IF(AI361=\"☑\",TRUE)","v":false},{"$f":"IF(AK361,AJ361,\"\")","v":""},"□","車イス対応（バリアフリー）",{"$f":"IF(AM361=\"☑\",TRUE)","v":false},{"$f":"IF(AO361,AN361,\"\")","v":""},"□","講座・教室・イベント",{"$f":"IF(AQ361=\"☑\",TRUE)","v":false},{"$f":"IF(AS361,AR361,\"\")","v":""},"□","防犯・見守り",{"$f":"IF(AU361=\"☑\",TRUE)","v":false},{"$f":"IF(AW361,AV361,\"\")","v":""},{"$f":"_xludf.TEXTJOIN(\",\",TRUE,V361:V374,Z361:Z374,AD361:AD374,AH361:AH374,AL361:AL374,AP361:AP374,AT361:AT374,AX361:AX374)","v":""},"□","西区",{"$f":"IF(AZ361=\"☑\",TRUE)","v":false},{"$f":"\"さいたま市:\"&BA361","v":"さいたま市:西区"},{"$f":"IF(BB361,BC361,\"\")","v":""},{"$f":"_xludf.TEXTJOIN(\",\",TRUE,BD361:BD374)","v":""},"□","川口市",{"$f":"IF(BF361=\"☑\",TRUE)","v":false},{"$f":"\"南部地域:\"&BG361","v":"南部地域:川口市"},{"$f":"IF(BH361,BI361,\"\")","v":""},{"$f":"_xludf.TEXTJOIN(\",\",TRUE,BJ361:BJ374)","v":""},"□","朝霞市",{"$f":"IF(BL361=\"☑\",TRUE)","v":false},{"$f":"\"南西部地域:\"&BM361","v":"南西部地域:朝霞市"},{"$f":"IF(BN361,BO361,\"\")","v":""},{"$f":"_xludf.TEXTJOIN(\",\",TRUE,BP361:BP374)","v":""},"□","春日部市",{"$f":"IF(BR361=\"☑\",TRUE)","v":false},{"$f":"\"東部地域:\"&BS361","v":"東部地域:春日部市"},{"$f":"IF(BT361,BU361,\"\")","v":""},{"$f":"_xludf.TEXTJOIN(\",\",TRUE,BV361:BV374)","v":""},"□","鴻巣市",{"$f":"IF(BX361=\"☑\",TRUE)","v":false},{"$f":"\"県央地域:\"&BY361","v":"県央地域:鴻巣市"},{"$f":"IF(BZ361,CA361,\"\")","v":""},{"$f":"_xludf.TEXTJOIN(\",\",TRUE,CB361:CB374)","v":""},"□","川越市",{"$f":"IF(CD361=\"☑\",TRUE)","v":false},{"$f":"\"川越比企地域:\"&CE361","v":"川越比企地域:川越市"},{"$f":"IF(CF361,CG361,\"\")","v":""},{"$f":"_xludf.TEXTJOIN(\",\",TRUE,CH361:CH374)","v":""},"□","所沢市",{"$f":"IF(CJ361=\"☑\",TRUE)","v":false},{"$f":"\"西部地域:\"&CK361","v":"西部地域:所沢市"},{"$f":"IF(CL361,CM361,\"\")","v":""},{"$f":"_xludf.TEXTJOIN(\",\",TRUE,CN361:CN374)","v":""},"□","行田市",{"$f":"IF(CP361=\"☑\",TRUE)","v":false},{"$f":"\"利根地域:\"&CQ361","v":"利根地域:行田市"},{"$f":"IF(CR361,CS361,\"\")","v":""},{"$f":"_xludf.TEXTJOIN(\",\",TRUE,CT361:CT374)","v":""},"□","熊谷市",{"$f":"IF(CV361=\"☑\",TRUE)","v":false},{"$f":"\"北部地域:\"&CW361","v":"北部地域:熊谷市"},{"$f":"IF(CX361,CY361,\"\")","v":""},{"$f":"_xludf.TEXTJOIN(\",\",TRUE,CZ361:CZ374)","v":""},"□","秩父市",{"$f":"IF(DB361=\"☑\",TRUE)","v":false},{"$f":"\"秩父地域:\"&DC361","v":"秩父地域:秩父市"},{"$f":"IF(DD361,DE361,\"\")","v":""},{"$f":"_xludf.TEXTJOIN(\",\",TRUE,DF361:DF374)","v":""},{"$f":"_xlfn.TEXTJOIN(\",\",TRUE,BE361,BK361,BQ361,BW361,CC361,CI361,CO361,CU361,DA361,DG361)","v":""},null,null,null,null,null,null,null,null,{"$f":"IF(#REF!=\"☑\",TRUE)","v":{"$error":"#REF!"}},{"$f":"IF(DQ361,#REF!,\"\")","v":{"$error":"#REF!"}},{"$f":"_xludf.TEXTJOIN(\",\",TRUE,DR361:DR374)","v":{"$error":"#VALUE!"}}]
[null,null,null,null,null,null,null,null,null,null,null,null,null,null,null,null,null,null,"□","買物サポート",false,"","□","料理デリバリー（出前）",false,"","□","フィットネス・ジム（送迎）",{"$f":"IF(AA362=\"☑\",TRUE)","v":false},{"$f":"IF(AC362,AB362,\"\")","v":""},"□","出張料理",{"$f":"IF(AE362=\"☑\",TRUE)","v":false},{"$f":"IF(AG362,AF362,\"\")","v":""},"□","温泉・銭湯（たまり場）",false,"","□","多目的トイレ",false,"","□","習い事",{"$f":"IF(AQ362=\"☑\",TRUE)","v":false},{"$f":"IF(AS362,AR362,\"\")","v":""},"□","金融・保険",false,"",null,"□","北区",{"$f":"IF(AZ362=\"☑\",TRUE)","v":false},{"$f":"\"さいたま市:\"&BA362","v":"さいたま市:北区"},{"$f":"IF(BB362,BC362,\"\")","v":""},null,"□","蕨市",{"$f":"IF(BF362=\"☑\",TRUE)","v":false},{"$f":"\"南部地域:\"&BG362","v":"南部地域:蕨市"},{"$f":"IF(BH362,BI362,\"\")","v":""},null,"□","志木市",{"$f":"IF(BL362=\"☑\",TRUE)","v":false},{"$f":"\"南西部地域:\"&BM362","v":"南西部地域:志木市"},{"$f":"IF(BN362,BO362,\"\")","v":""},null,"□","草加市",{"$f":"IF(BR362=\"☑\",TRUE)","v":false},{"$f":"\"東部地域:\"&BS362","v":"東部地域:草加市"},"",null,"□","上尾市",{"$f":"IF(BX362=\"☑\",TRUE)","v":false},{"$f":"\"県央地域:\"&BY362","v":"県央地域:上尾市"},{"$f":"IF(BZ362,CA362,\"\")","v":""},null,"□","東松山市",{"$f":"IF(CD362=\"☑\",TRUE)","v":false},{"$f":"\"川越比企地域:\"&CE362","v":"川越比企地域:東松山市"},{"$f":"IF(CF362,CG362,\"\")","v":""},null,"□","飯能市",{"$f":"IF(CJ362=\"☑\",TRUE)","v":false},{"$f":"\"西部地域:\"&CK362","v":"西部地域:飯能市"},{"$f":"IF(CL362,CM362,\"\")","v":""},null,"□","加須市",{"$f":"IF(CP362=\"☑\",TRUE)","v":false},{"$f":"\"利根地域:\"&CQ362","v":"利根地域:加須市"},{"$f":"IF(CR362,CS362,\"\")","v":""},null,"□","本庄市",{"$f":"IF(CV362=\"☑\",TRUE)","v":false},{"$f":"\"北部地域:\"&CW362","v":"北部地域:本庄市"},{"$f":"IF(CX362,CY362,\"\")","v":""},null,"□","横瀬町",{"$f":"IF(DB362=\"☑\",TRUE)","v":false},{"$f":"\"秩父地域:\"&DC362","v":"秩父地域:横瀬町"},{"$f":"IF(DD362,DE362,\"\")","v":""},null,null,null,null,null,null,null,null,null,null,null,{"$f":"IF(DQ362,#REF!,\"\")","v":""}]
[null,null,null,null,null,null,null,null,null,null,null,null,null,null,null,null,null,null,"□","買物代行",false,"","□","食材宅配",false,"","□","温泉・銭湯（送迎）",false,"","□","屋外作業・力仕事",false,"","□","カフェ・ファーストフード",false,"","□","休憩スペース",false,"","□","映画館",false,"","□","住宅・リフォーム",false,"",null,"□","大宮区",false,"さいたま市:大宮区","",null,"□","戸田市",{"$f":"IF(BF363=\"☑\",TRUE)","v":false},{"$f":"\"南部地域:\"&BG363","v":"南部地域:戸田市"},"",null,"□","和光市",false,"南西部地域:和光市","",null,"□","越谷市",false,"東部地域:越谷市","",null,"□","桶川市",{"$f":"IF(BX363=\"☑\",TRUE)","v":false},{"$f":"\"県央地域:\"&BY363","v":"県央地域:桶川市"},"",null,"□","坂戸市",false,"川越比企地域:坂戸市","",null,"□","狭山市",{"$f":"IF(CJ363=\"☑\",TRUE)","v":false},{"$f":"\"西部地域:\"&CK363","v":"西部地域:狭山市"},"",null,"□","羽生市",false,"利根地域:羽生市","",null,"□","深谷市",false,"北部地域:深谷市","",null,"□","皆野町",{"$f":"IF(DB363=\"☑\",TRUE)","v":false},{"$f":"\"秩父地域:\"&DC363","v":"秩父地域:皆野町"},"",null,null,null,null,null,null,null,null,null,null,{"$f":"IF(#REF!=\"☑\",TRUE)","v":{"$error":"#REF!"}},{"$f":"IF(DQ363,#REF!,\"\")","v":{"$error":"#REF!"}}]
[null,null,null,null,null,null,null,null,null,null,null,null,null,null,null,null,null,null,"□","移動販売",false,"","□","日用品配達",false,"","□","整体・マッサージ（送迎）",false,"","□","整体・マッサージ（出張）",false,"","□","飲食店",false,"","□","駐車場",false,"","□","カラオケ店",false,"","□","パソコン・スマートフォン",false,"",null,"□","見沼区",false,"さいたま市:見沼区","",null,null,null,null,null,"",null,"□","新座市",false,"南西部地域:新座市","",null,"□","八潮市",false,"東部地域:八潮市","",null,"□","北本市",{"$f":"IF(BX364=\"☑\",TRUE)","v":false},{"$f":"\"県央地域:\"&BY364","v":"県央地域:北本市"},"",null,"□","鶴ヶ島市",false,"川越比企地域:鶴ヶ島市","",null,"□","入間市",{"$f":"IF(CJ364=\"☑\",TRUE)","v":false},{"$f":"\"西部地域:\"&CK364","v":"西部地域:入間市"},"",null,"□","久喜市",false,"利根地域:久喜市","",null,"□","美里町",false,"北部地域:美里町","",null,"□","長瀞町",{"$f":"IF(DB364=\"☑\",TRUE)","v":false},{"$f":"\"秩父地域:\"&DC364","v":"秩父地域:長瀞町"},""]
[null,null,null,null,null,null,null,null,null,null,null,null,null,null,null,null,null,null,"□","割引サービス",false,"","□","薬・介護用品配達",false,"","□","乗り合いサービス",false,"","□","理容・美容（出張）",false,"","□","イートインスペース",false,"","□","貸しスペース",false,"","□","麻雀・将棋・囲碁",false,"","□","認知症サポート企業",false,"",null,"□","中央区",false,"さいたま市:中央区","",null,null,null,null,null,"",null,"□","富士見市",false,"南西部地域:富士見市","",null,"□","三郷市",false,"東部地域:三郷市","",null,"□","伊奈町",{"$f":"IF(BX365=\"☑\",TRUE)","v":false},{"$f":"\"県央地域:\"&BY365","v":"県央地域:伊奈町"},"",null,"□","毛呂山町",false,"川越比企地域:毛呂山町","",null,"□","日高市",{"$f":"IF(CJ365=\"☑\",TRUE)","v":false},{"$f":"\"西部地域:\"&CK365","v":"西部地域:日高市"},"",null,"□","蓮田市",false,"利根地域:蓮田市","",null,"□","神川町",false,"北部地域:神川町","",null,"□","小鹿野町",{"$f":"IF(DB365=\"☑\",TRUE)","v":false},{"$f":"\"秩父地域:\"&DC365","v":"秩父地域:小鹿野町"},"",null,null,null,null,null,null,null,null,null,null,{"$f":"IF(#REF!=\"☑\",TRUE)","v":{"$error":"#REF!"}},{"$f":"IF(DQ365,#REF!,\"\")","v":{"$error":"#REF!"}}]
[null,null,null,null,null,null,null,null,null,null,null,null,null,null,null,null,null,null,"□","その他（買物）",false,"","□","クリーニング",false,{"$f":"IF(Y366,X366,\"\")","v":""},"□","個別移送サービス",false,"","□","ペット",false,"","□","その他（運動・たまり場）",false,"","□","その他（設備・施設・場所貸し）",false,"","□","ゲームセンター",false,"","□","理容・美容",false,"",null,"□","桜区",false,"さいたま市:桜区","",null,null,null,null,null,"",null,"□","ふじみ野市",false,"南西部地域:ふじみ野市","",null,"□","吉川市",false,"東部地域:吉川市","",null,null,null,null,null,"",null,"□","越生町",false,"川越比企地域:越生町","",null,null,null,null,null,"",null,"□","幸手市",false,"利根地域:幸手市","",null,"□","上里町",false,"北部地域:上里町","",null,null,null,null,null,"",null,null,null,null,null,null,null,null,null,null,{"$f":"IF(#REF!=\"☑\",TRUE)","v":{"$error":"#REF!"}},{"$f":"IF(DQ366,#REF!,\"\")","v":{"$error":"#REF!"}}]
[null,null,null,null,null,null,null,null,null,null,null,null,null,null,null,null,null,null,null,null,null,null,"□","その他（宅配・デリバリー）",false,{"$f":"IF(Y367,X367,\"\")","v":""},"□","交通機関サービス",false,"","□","その他（出張サービス）",false,"",null,null,null,null,null,null,null,null,"□","旅行・レジャー",false,"","□","成年後見・相続",false,"",null,"□","浦和区",false,"さいたま市:浦和区","",null,null,null,null,null,"",null,"□","三芳町",false,"南西部地域:三芳町","",null,"□","松伏町",false,"東部地域:松伏町","",null,null,null,null,null,"",null,"□","滑川町",false,"川越比企地域:滑川町","",null,null,null,null,null,"",null,"□","白岡市",false,"利根地域:白岡市","",null,"□","寄居町",false,"北部地域:寄居町","",null,null,null,null,null,""]
[null,null,null,null,null,null,null,null,null,null,null,null,null,null,null,null,null,null,null,null,null,null,null,null,null,null,"□","その他（送迎・移動支援）",false,"",null,null,null,"",null,null,null,{"$f":"IF(AK368,AJ368,\"\")","v":""},null,null,null,{"$f":"IF(AO368,AN368,\"\")","v":""},"□","パソコン・スマホ教室",false,"","□","その他（生活サービス）",false,"",null,"□","南区",false,"さいたま市:南区","",null,null,null,null,null,"",null,null,null,null,null,"",null,null,null,null,null,"",null,null,null,null,null,"",null,"□","嵐山町",false,"川越比企地域:嵐山町","",null,null,null,null,null,"",null,"□","宮代町",false,"利根地域:宮代町","",null,null,null,null,null,"",null,null,null,null,null,""]
[null,null,null,null,null,null,null,null,null,null,null,null,null,null,null,null,null,null,null,null,null,null,null,null,null,null,null,null,null,null,null,null,null,null,null,null,null,null,null,null,null,null,"□","その他（学び・趣味）",false,"",null,null,null,null,null,"□","緑区",false,"さいたま市:緑区","",null,null,null,null,null,"",null,null,null,null,null,"",null,null,null,null,null,"",null,null,null,null,null,"",null,"□","小川町",false,"川越比企地域:小川町","",null,null,null,null,null,"",null,"□","杉戸町",false,"利根地域:杉戸町","",null,null,null,null,null,"",null,null,null,null,null,""]
[null,null,null,null,null,null,null,null,null,null,null,null,null,null,null,null,null,null,null,null,null,null,null,null,null,null,null,null,null,null,null,null,null,null,null,null,null,null,null,null,null,null,null,null,null,null,null,null,null,null,null,"□","岩槻区",{"$f":"IF(AZ370=\"☑\",TRUE)","v":false},"さいたま市:岩槻区","",null,null,null,null,null,"",null,null,null,null,null,"",null,null,null,null,null,"",null,null,null,null,null,"",null,"□","川島町",false,"川越比企地域:川島町","",null,null,null,null,null,"",null,null,null,null,null,"",null,null,null,null,null,"",null,null,null,null,null,""]
[null,null,null,null,null,null,null,null,null,null,null,null,null,null,null,null,null,null,null,null,null,null,null,null,null,null,null,null,null,null,null,null,null,null,null,null,null,null,null,null,null,null,null,null,null,null,null,null,null,null,null,null,null,null,null,null,null,null,null,null,null,null,null,null,null,null,null,null,null,null,null,null,null,null,null,null,null,null,null,null,null,"□","吉見町",false,"川越比企地域:吉見町","",null,null,null,null,null,"",null,null,null,null,null,"",null,null,null,null,null,"",null,null,null,null,null,""]
[null,null,null,null,null,null,null,null,null,null,null,null,null,null,null,null,null,null,null,null,null,null,null,null,null,null,null,null,null,null,null,null,null,null,null,null,null,null,null,null,null,null,null,null,null,null,null,null,null,null,null,null,null,null,null,null,null,null,null,null,null,null,null,null,null,null,null,null,null,null,null,null,null,null,null,null,null,null,null,null,null,"□","鳩山町",false,"川越比企地域:鳩山町","",null,null,null,null,null,"",null,null,null,null,null,"",null,null,null,null,null,"",null,null,null,null,null,""]
[null,null,null,null,null,null,null,null,null,null,null,null,null,null,null,null,null,null,null,null,null,null,null,null,null,null,null,null,null,null,null,null,null,null,null,null,null,null,null,null,null,null,null,null,null,null,null,null,null,null,null,null,null,null,null,null,null,null,null,null,null,null,null,null,null,null,null,null,null,null,null,null,null,null,null,null,null,null,null,null,null,"□","ときがわ町",false,"川越比企地域:ときがわ町","",null,null,null,null,null,"",null,null,null,null,null,"",null,null,null,null,null,"",null,null,null,null,null,""]
[null,null,null,null,null,null,null,null,null,null,null,null,null,null,null,null,null,null,null,null,null,null,null,null,null,null,null,null,null,null,null,null,null,null,null,null,null,null,null,null,null,null,null,null,null,null,null,null,null,null,null,null,null,null,null,null,null,null,null,null,null,null,null,null,null,null,null,null,null,null,null,null,null,null,null,null,null,null,null,null,null,"□","東秩父村",false,"川越比企地域:東秩父村","",null,null,null,null,null,"",null,null,null,null,null,"",null,null,null,null,null,"",null,null,null,null,null,""]
[26,null,null,null,null,null,null,null,null,null,null,null,null,null,null,null,null,null,"□","配送",{"$f":"IF(S375=\"☑\",TRUE)","v":false},{"$f":"IF(U375,T375,\"\")","v":""},"□","弁当配達",{"$f":"IF(W375=\"☑\",TRUE)","v":false},{"$f":"IF(Y375,X375,\"\")","v":""},"□","理容・美容（送迎）",{"$f":"IF(AA375=\"☑\",TRUE)","v":false},{"$f":"IF(AC375,AB375,\"\")","v":""},"□","家事代行・掃除・片付け",{"$f":"IF(AE375=\"☑\",TRUE)","v":false},{"$f":"IF(AG375,AF375,\"\")","v":""},"□","フィットネス・ジム（運動）",{"$f":"IF(AI375=\"☑\",TRUE)","v":false},{"$f":"IF(AK375,AJ375,\"\")","v":""},"□","車イス対応（バリアフリー）",{"$f":"IF(AM375=\"☑\",TRUE)","v":false},{"$f":"IF(AO375,AN375,\"\")","v":""},"□","講座・教室・イベント",{"$f":"IF(AQ375=\"☑\",TRUE)","v":false},{"$f":"IF(AS375,AR375,\"\")","v":""},"□","防犯・見守り",{"$f":"IF(AU375=\"☑\",TRUE)","v":false},{"$f":"IF(AW375,AV375,\"\")","v":""},{"$f":"_xludf.TEXTJOIN(\",\",TRUE,V375:V388,Z375:Z388,AD375:AD388,AH375:AH388,AL375:AL388,AP375:AP388,AT375:AT388,AX375:AX388)","v":""},"□","西区",{"$f":"IF(AZ375=\"☑\",TRUE)","v":false},{"$f":"\"さいたま市:\"&BA375","v":"さいたま市:西区"},{"$f":"IF(BB375,BC375,\"\")","v":""},{"$f":"_xludf.TEXTJOIN(\",\",TRUE,BD375:BD388)","v":""},"□","川口市",{"$f":"IF(BF375=\"☑\",TRUE)","v":false},{"$f":"\"南部地域:\"&BG375","v":"南部地域:川口市"},{"$f":"IF(BH375,BI375,\"\")","v":""},{"$f":"_xludf.TEXTJOIN(\",\",TRUE,BJ375:BJ388)","v":""},"□","朝霞市",{"$f":"IF(BL375=\"☑\",TRUE)","v":false},{"$f":"\"南西部地域:\"&BM375","v":"南西部地域:朝霞市"},{"$f":"IF(BN375,BO375,\"\")","v":""},{"$f":"_xludf.TEXTJOIN(\",\",TRUE,BP375:BP388)","v":""},"□","春日部市",{"$f":"IF(BR375=\"☑\",TRUE)","v":false},{"$f":"\"東部地域:\"&BS375","v":"東部地域:春日部市"},{"$f":"IF(BT375,BU375,\"\")","v":""},{"$f":"_xludf.TEXTJOIN(\",\",TRUE,BV375:BV388)","v":""},"□","鴻巣市",{"$f":"IF(BX375=\"☑\",TRUE)","v":false},{"$f":"\"県央地域:\"&BY375","v":"県央地域:鴻巣市"},{"$f":"IF(BZ375,CA375,\"\")","v":""},{"$f":"_xludf.TEXTJOIN(\",\",TRUE,CB375:CB388)","v":""},"□","川越市",{"$f":"IF(CD375=\"☑\",TRUE)","v":false},{"$f":"\"川越比企地域:\"&CE375","v":"川越比企地域:川越市"},{"$f":"IF(CF375,CG375,\"\")","v":""},{"$f":"_xludf.TEXTJOIN(\",\",TRUE,CH375:CH388)","v":""},"□","所沢市",{"$f":"IF(CJ375=\"☑\",TRUE)","v":false},{"$f":"\"西部地域:\"&CK375","v":"西部地域:所沢市"},{"$f":"IF(CL375,CM375,\"\")","v":""},{"$f":"_xludf.TEXTJOIN(\",\",TRUE,CN375:CN388)","v":""},"□","行田市",{"$f":"IF(CP375=\"☑\",TRUE)","v":false},{"$f":"\"利根地域:\"&CQ375","v":"利根地域:行田市"},{"$f":"IF(CR375,CS375,\"\")","v":""},{"$f":"_xludf.TEXTJOIN(\",\",TRUE,CT375:CT388)","v":""},"□","熊谷市",{"$f":"IF(CV375=\"☑\",TRUE)","v":false},{"$f":"\"北部地域:\"&CW375","v":"北部地域:熊谷市"},{"$f":"IF(CX375,CY375,\"\")","v":""},{"$f":"_xludf.TEXTJOIN(\",\",TRUE,CZ375:CZ388)","v":""},"□","秩父市",{"$f":"IF(DB375=\"☑\",TRUE)","v":false},{"$f":"\"秩父地域:\"&DC375","v":"秩父地域:秩父市"},{"$f":"IF(DD375,DE375,\"\")","v":""},{"$f":"_xludf.TEXTJOIN(\",\",TRUE,DF375:DF388)","v":""},{"$f":"_xlfn.TEXTJOIN(\",\",TRUE,BE375,BK375,BQ375,BW375,CC375,CI375,CO375,CU375,DA375,DG375)","v":""},null,null,null,null,null,null,null,null,{"$f":"IF(#REF!=\"☑\",TRUE)","v":{"$error":"#REF!"}},{"$f":"IF(DQ375,#REF!,\"\")","v":{"$error":"#REF!"}},{"$f":"_xludf.TEXTJOIN(\",\",TRUE,DR375:DR388)","v":{"$error":"#VALUE!"}}]
[null,null,null,null,null,null,null,null,null,null,null,null,null,null,null,null,null,null,"□","買物サポート",false,"","□","料理デリバリー（出前）",false,"","□","フィットネス・ジム（送迎）",{"$f":"IF(AA376=\"☑\",TRUE)","v":false},{"$f":"IF(AC376,AB376,\"\")","v":""},"□","出張料理",{"$f":"IF(AE376=\"☑\",TRUE)","v":false},{"$f":"IF(AG376,AF376,\"\")","v":""},"□","温泉・銭湯（たまり場）",false,"","□","多目的トイレ",false,"","□","習い事",{"$f":"IF(AQ376=\"☑\",TRUE)","v":false},{"$f":"IF(AS376,AR376,\"\")","v":""},"□","金融・保険",false,"",null,"□","北区",{"$f":"IF(AZ376=\"☑\",TRUE)","v":false},{"$f":"\"さいたま市:\"&BA376","v":"さいたま市:北区"},{"$f":"IF(BB376,BC376,\"\")","v":""},null,"□","蕨市",{"$f":"IF(BF376=\"☑\",TRUE)","v":false},{"$f":"\"南部地域:\"&BG376","v":"南部地域:蕨市"},{"$f":"IF(BH376,BI376,\"\")","v":""},null,"□","志木市",{"$f":"IF(BL376=\"☑\",TRUE)","v":false},{"$f":"\"南西部地域:\"&BM376","v":"南西部地域:志木市"},{"$f":"IF(BN376,BO376,\"\")","v":""},null,"□","草加市",{"$f":"IF(BR376=\"☑\",TRUE)","v":false},{"$f":"\"東部地域:\"&BS376","v":"東部地域:草加市"},"",null,"□","上尾市",{"$f":"IF(BX376=\"☑\",TRUE)","v":false},{"$f":"\"県央地域:\"&BY376","v":"県央地域:上尾市"},{"$f":"IF(BZ376,CA376,\"\")","v":""},null,"□","東松山市",{"$f":"IF(CD376=\"☑\",TRUE)","v":false},{"$f":"\"川越比企地域:\"&CE376","v":"川越比企地域:東松山市"},{"$f":"IF(CF376,CG376,\"\")","v":""},null,"□","飯能市",{"$f":"IF(CJ376=\"☑\",TRUE)","v":false},{"$f":"\"西部地域:\"&CK376","v":"西部地域:飯能市"},{"$f":"IF(CL376,CM376,\"\")","v":""},null,"□","加須市",{"$f":"IF(CP376=\"☑\",TRUE)","v":false},{"$f":"\"利根地域:\"&CQ376","v":"利根地域:加須市"},{"$f":"IF(CR376,CS376,\"\")","v":""},null,"□","本庄市",{"$f":"IF(CV376=\"☑\",TRUE)","v":false},{"$f":"\"北部地域:\"&CW376","v":"北部地域:本庄市"},{"$f":"IF(CX376,CY376,\"\")","v":""},null,"□","横瀬町",{"$f":"IF(DB376=\"☑\",TRUE)","v":false},{"$f":"\"秩父地域:\"&DC376","v":"秩父地域:横瀬町"},{"$f":"IF(DD376,DE376,\"\")","v":""},null,null,null,null,null,null,null,null,null,null,null,{"$f":"IF(DQ376,#REF!,\"\")","v":""}]
[null,null,null,null,null,null,null,null,null,null,null,null,null,null,null,null,null,null,"□","買物代行",false,"","□","食材宅配",false,"","□","温泉・銭湯（送迎）",false,"","□","屋外作業・力仕事",false,"","□","カフェ・ファーストフード",false,"","□","休憩スペース",false,"","□","映画館",false,"","□","住宅・リフォーム",false,"",null,"□","大宮区",false,"さいたま市:大宮区","",null,"□","戸田市",{"$f":"IF(BF377=\"☑\",TRUE)","v":false},{"$f":"\"南部地域:\"&BG377","v":"南部地域:戸田市"},"",null,"□","和光市",false,"南西部地域:和光市","",null,"□","越谷市",false,"東部地域:越谷市","",null,"□","桶川市",{"$f":"IF(BX377=\"☑\",TRUE)","v":false},{"$f":"\"県央地域:\"&BY377","v":"県央地域:桶川市"},"",null,"□","坂戸市",false,"川越比企地域:坂戸市","",null,"□","狭山市",{"$f":"IF(CJ377=\"☑\",TRUE)","v":false},{"$f":"\"西部地域:\"&CK377","v":"西部地域:狭山市"},"",null,"□","羽生市",false,"利根地域:羽生市","",null,"□","深谷市",false,"北部地域:深谷市","",null,"□","皆野町",{"$f":"IF(DB377=\"☑\",TRUE)","v":false},{"$f":"\"秩父地域:\"&DC377","v":"秩父地域:皆野町"},"",null,null,null,null,null,null,null,null,null,null,{"$f":"IF(#REF!=\"☑\",TRUE)","v":{"$error":"#REF!"}},{"$f":"IF(DQ377,#REF!,\"\")","v":{"$error":"#REF!"}}]
[null,null,null,null,null,null,null,null,null,null,null,null,null,null,null,null,null,null,"□","移動販売",false,"","□","日用品配達",false,"","□","整体・マッサージ（送迎）",false,"","□","整体・マッサージ（出張）",false,"","□","飲食店",false,"","□","駐車場",false,"","□","カラオケ店",false,"","□","パソコン・スマートフォン",false,"",null,"□","見沼区",false,"さいたま市:見沼区","",null,null,null,null,null,"",null,"□","新座市",false,"南西部地域:新座市","",null,"□","八潮市",false,"東部地域:八潮市","",null,"□","北本市",{"$f":"IF(BX378=\"☑\",TRUE)","v":false},{"$f":"\"県央地域:\"&BY378","v":"県央地域:北本市"},"",null,"□","鶴ヶ島市",false,"川越比企地域:鶴ヶ島市","",null,"□","入間市",{"$f":"IF(CJ378=\"☑\",TRUE)","v":false},{"$f":"\"西部地域:\"&CK378","v":"西部地域:入間市"},"",null,"□","久喜市",false,"利根地域:久喜市","",null,"□","美里町",false,"北部地域:美里町","",null,"□","長瀞町",{"$f":"IF(DB378=\"☑\",TRUE)","v":false},{"$f":"\"秩父地域:\"&DC378","v":"秩父地域:長瀞町"},""]
[null,null,null,null,null,null,null,null,null,null,null,null,null,null,null,null,null,null,"□","割引サービス",false,"","□","薬・介護用品配達",false,"","□","乗り合いサービス",false,"","□","理容・美容（出張）",false,"","□","イートインスペース",false,"","□","貸しスペース",false,"","□","麻雀・将棋・囲碁",false,"","□","認知症サポート企業",false,"",null,"□","中央区",false,"さいたま市:中央区","",null,null,null,null,null,"",null,"□","富士見市",false,"南西部地域:富士見市","",null,"□","三郷市",false,"東部地域:三郷市","",null,"□","伊奈町",{"$f":"IF(BX379=\"☑\",TRUE)","v":false},{"$f":"\"県央地域:\"&BY379","v":"県央地域:伊奈町"},"",null,"□","毛呂山町",false,"川越比企地域:毛呂山町","",null,"□","日高市",{"$f":"IF(CJ379=\"☑\",TRUE)","v":false},{"$f":"\"西部地域:\"&CK379","v":"西部地域:日高市"},"",null,"□","蓮田市",false,"利根地域:蓮田市","",null,"□","神川町",false,"北部地域:神川町","",null,"□","小鹿野町",{"$f":"IF(DB379=\"☑\",TRUE)","v":false},{"$f":"\"秩父地域:\"&DC379","v":"秩父地域:小鹿野町"},"",null,null,null,null,null,null,null,null,null,null,{"$f":"IF(#REF!=\"☑\",TRUE)","v":{"$error":"#REF!"}},{"$f":"IF(DQ379,#REF!,\"\")","v":{"$error":"#REF!"}}]
[null,null,null,null,null,null,null,null,null,null,null,null,null,null,null,null,null,null,"□","その他（買物）",false,"","□","クリーニング",false,{"$f":"IF(Y380,X380,\"\")","v":""},"□","個別移送サービス",false,"","□","ペット",false,"","□","その他（運動・たまり場）",false,"","□","その他（設備・施設・場所貸し）",false,"","□","ゲームセンター",false,"","□","理容・美容",false,"",null,"□","桜区",false,"さいたま市:桜区","",null,null,null,null,null,"",null,"□","ふじみ野市",false,"南西部地域:ふじみ野市","",null,"□","吉川市",false,"東部地域:吉川市","",null,null,null,null,null,"",null,"□","越生町",false,"川越比企地域:越生町","",null,null,null,null,null,"",null,"□","幸手市",false,"利根地域:幸手市","",null,"□","上里町",false,"北部地域:上里町","",null,null,null,null,null,"",null,null,null,null,null,null,null,null,null,null,{"$f":"IF(#REF!=\"☑\",TRUE)","v":{"$error":"#REF!"}},{"$f":"IF(DQ380,#REF!,\"\")","v":{"$error":"#REF!"}}]
[null,null,null,null,null,null,null,null,null,null,null,null,null,null,null,null,null,null,null,null,null,null,"□","その他（宅配・デリバリー）",false,{"$f":"IF(Y381,X381,\"\")","v":""},"□","交通機関サービス",false,"","□","その他（出張サービス）",false,"",null,null,null,null,null,null,null,null,"□","旅行・レジャー",false,"","□","成年後見・相続",false,"",null,"□","浦和区",false,"さいたま市:浦和区","",null,null,null,null,null,"",null,"□","三芳町",false,"南西部地域:三芳町","",null,"□","松伏町",false,"東部地域:松伏町","",null,null,null,null,null,"",null,"□","滑川町",false,"川越比企地域:滑川町","",null,null,null,null,null,"",null,"□","白岡市",false,"利根地域:白岡市","",null,"□","寄居町",false,"北部地域:寄居町","",null,null,null,null,null,""]
[null,null,null,null,null,null,null,null,null,null,null,null,null,null,null,null,null,null,null,null,null,null,null,null,null,null,"□","その他（送迎・移動支援）",false,"",null,null,null,"",null,null,null,{"$f":"IF(AK382,AJ382,\"\")","v":""},null,null,null,{"$f":"IF(AO382,AN382,\"\")","v":""},"□","パソコン・スマホ教室",false,"","□","その他（生活サービス）",false,"",null,"□","南区",false,"さいたま市:南区","",null,null,null,null,null,"",null,null,null,null,null,"",null,null,null,null,null,"",null,null,null,null,null,"",null,"□","嵐山町",false,"川越比企地域:嵐山町","",null,null,null,null,null,"",null,"□","宮代町",false,"利根地域:宮代町","",null,null,null,null,null,"",null,null,null,null,null,""]
[null,null,null,null,null,null,null,null,null,null,null,null,null,null,null,null,null,null,null,null,null,null,null,null,null,null,null,null,null,null,null,null,null,null,null,null,null,null,null,null,null,null,"□","その他（学び・趣味）",false,"",null,null,null,null,null,"□","緑区",false,"さいたま市:緑区","",null,null,null,null,null,"",null,null,null,null,null,"",null,null,null,null,null,"",null,null,null,null,null,"",null,"□","小川町",false,"川越比企地域:小川町","",null,null,null,null,null,"",null,"□","杉戸町",false,"利根地域:杉戸町","",null,null,null,null,null,"",null,null,null,null,null,""]
[null,null,null,null,null,null,null,null,null,null,null,null,null,null,null,null,null,null,null,null,null,null,null,null,null,null,null,null,null,null,null,null,null,null,null,null,null,null,null,null,null,null,null,null,null,null,null,null,null,null,null,"□","岩槻区",{"$f":"IF(AZ384=\"☑\",TRUE)","v":false},"さいたま市:岩槻区","",null,null,null,null,null,"",null,null,null,null,null,"",null,null,null,null,null,"",null,null,null,null,null,"",null,"□","川島町",false,"川越比企地域:川島町","",null,null,null,null,null,"",null,null,null,null,null,"",null,null,null,null,null,"",null,null,null,null,null,""]
[null,null,null,null,null,null,null,null,null,null,null,null,null,null,null,null,null,null,null,null,null,null,null,null,null,null,null,null,null,null,null,null,null,null,null,null,null,null,null,null,null,null,null,null,null,null,null,null,null,null,null,null,null,null,null,null,null,null,null,null,null,null,null,null,null,null,null,null,null,null,null,null,null,null,null,null,null,null,null,null,null,"□","吉見町",false,"川越比企地域:吉見町","",null,null,null,null,null,"",null,null,null,null,null,"",null,null,null,null,null,"",null,null,null,null,null,""]
[null,null,null,null,null,null,null,null,null,null,null,null,null,null,null,null,null,null,null,null,null,null,null,null,null,null,null,null,null,null,null,null,null,null,null,null,null,null,null,null,null,null,null,null,null,null,null,null,null,null,null,null,null,null,null,null,null,null,null,null,null,null,null,null,null,null,null,null,null,null,null,null,null,null,null,null,null,null,null,null,null,"□","鳩山町",false,"川越比企地域:鳩山町","",null,null,null,null,null,"",null,null,null,null,null,"",null,null,null,null,null,"",null,null,null,null,null,""]
[null,null,null,null,null,null,null,null,null,null,null,null,null,null,null,null,null,null,null,null,null,null,null,null,null,null,null,null,null,null,null,null,null,null,null,null,null,null,null,null,null,null,null,null,null,null,null,null,null,null,null,null,null,null,null,null,null,null,null,null,null,null,null,null,null,null,null,null,null,null,null,null,null,null,null,null,null,null,null,null,null,"□","ときがわ町",false,"川越比企地域:ときがわ町","",null,null,null,null,null,"",null,null,null,null,null,"",null,null,null,null,null,"",null,null,null,null,null,""]
[null,null,null,null,null,null,null,null,null,null,null,null,null,null,null,null,null,null,null,null,null,null,null,null,null,null,null,null,null,null,null,null,null,null,null,null,null,null,null,null,null,null,null,null,null,null,null,null,null,null,null,null,null,null,null,null,null,null,null,null,null,null,null,null,null,null,null,null,null,null,null,null,null,null,null,null,null,null,null,null,null,"□","東秩父村",false,"川越比企地域:東秩父村","",null,null,null,null,null,"",null,null,null,null,null,"",null,null,null,null,null,"",null,null,null,null,null,""]
[27,null,null,null,null,null,null,null,null,null,null,null,null,null,null,null,null,null,"□","配送",{"$f":"IF(S389=\"☑\",TRUE)","v":false},{"$f":"IF(U389,T389,\"\")","v":""},"□","弁当配達",{"$f":"IF(W389=\"☑\",TRUE)","v":false},{"$f":"IF(Y389,X389,\"\")","v":""},"□","理容・美容（送迎）",{"$f":"IF(AA389=\"☑\",TRUE)","v":false},{"$f":"IF(AC389,AB389,\"\")","v":""},"□","家事代行・掃除・片付け",{"$f":"IF(AE389=\"☑\",TRUE)","v":false},{"$f":"IF(AG389,AF389,\"\")","v":""},"□","フィットネス・ジム（運動）",{"$f":"IF(AI389=\"☑\",TRUE)","v":false},{"$f":"IF(AK389,AJ389,\"\")","v":""},"□","車イス対応（バリアフリー）",{"$f":"IF(AM389=\"☑\",TRUE)","v":false},{"$f":"IF(AO389,AN389,\"\")","v":""},"□","講座・教室・イベント",{"$f":"IF(AQ389=\"☑\",TRUE)","v":false},{"$f":"IF(AS389,AR389,\"\")","v":""},"□","防犯・見守り",{"$f":"IF(AU389=\"☑\",TRUE)","v":false},{"$f":"IF(AW389,AV389,\"\")","v":""},{"$f":"_xludf.TEXTJOIN(\",\",TRUE,V389:V402,Z389:Z402,AD389:AD402,AH389:AH402,AL389:AL402,AP389:AP402,AT389:AT402,AX389:AX402)","v":""},"□","西区",{"$f":"IF(AZ389=\"☑\",TRUE)","v":false},{"$f":"\"さいたま市:\"&BA389","v":"さいたま市:西区"},{"$f":"IF(BB389,BC389,\"\")","v":""},{"$f":"_xludf.TEXTJOIN(\",\",TRUE,BD389:BD402)","v":""},"□","川口市",{"$f":"IF(BF389=\"☑\",TRUE)","v":false},{"$f":"\"南部地域:\"&BG389","v":"南部地域:川口市"},{"$f":"IF(BH389,BI389,\"\")","v":""},{"$f":"_xludf.TEXTJOIN(\",\",TRUE,BJ389:BJ402)","v":""},"□","朝霞市",{"$f":"IF(BL389=\"☑\",TRUE)","v":false},{"$f":"\"南西部地域:\"&BM389","v":"南西部地域:朝霞市"},{"$f":"IF(BN389,BO389,\"\")","v":""},{"$f":"_xludf.TEXTJOIN(\",\",TRUE,BP389:BP402)","v":""},"□","春日部市",{"$f":"IF(BR389=\"☑\",TRUE)","v":false},{"$f":"\"東部地域:\"&BS389","v":"東部地域:春日部市"},{"$f":"IF(BT389,BU389,\"\")","v":""},{"$f":"_xludf.TEXTJOIN(\",\",TRUE,BV389:BV402)","v":""},"□","鴻巣市",{"$f":"IF(BX389=\"☑\",TRUE)","v":false},{"$f":"\"県央地域:\"&BY389","v":"県央地域:鴻巣市"},{"$f":"IF(BZ389,CA389,\"\")","v":""},{"$f":"_xludf.TEXTJOIN(\",\",TRUE,CB389:CB402)","v":""},"□","川越市",{"$f":"IF(CD389=\"☑\",TRUE)","v":false},{"$f":"\"川越比企地域:\"&CE389","v":"川越比企地域:川越市"},{"$f":"IF(CF389,CG389,\"\")","v":""},{"$f":"_xludf.TEXTJOIN(\",\",TRUE,CH389:CH402)","v":""},"□","所沢市",{"$f":"IF(CJ389=\"☑\",TRUE)","v":false},{"$f":"\"西部地域:\"&CK389","v":"西部地域:所沢市"},{"$f":"IF(CL389,CM389,\"\")","v":""},{"$f":"_xludf.TEXTJOIN(\",\",TRUE,CN389:CN402)","v":""},"□","行田市",{"$f":"IF(CP389=\"☑\",TRUE)","v":false},{"$f":"\"利根地域:\"&CQ389","v":"利根地域:行田市"},{"$f":"IF(CR389,CS389,\"\")","v":""},{"$f":"_xludf.TEXTJOIN(\",\",TRUE,CT389:CT402)","v":""},"□","熊谷市",{"$f":"IF(CV389=\"☑\",TRUE)","v":false},{"$f":"\"北部地域:\"&CW389","v":"北部地域:熊谷市"},{"$f":"IF(CX389,CY389,\"\")","v":""},{"$f":"_xludf.TEXTJOIN(\",\",TRUE,CZ389:CZ402)","v":""},"□","秩父市",{"$f":"IF(DB389=\"☑\",TRUE)","v":false},{"$f":"\"秩父地域:\"&DC389","v":"秩父地域:秩父市"},{"$f":"IF(DD389,DE389,\"\")","v":""},{"$f":"_xludf.TEXTJOIN(\",\",TRUE,DF389:DF402)","v":""},{"$f":"_xlfn.TEXTJOIN(\",\",TRUE,BE389,BK389,BQ389,BW389,CC389,CI389,CO389,CU389,DA389,DG389)","v":""},null,null,null,null,null,null,null,null,{"$f":"IF(#REF!=\"☑\",TRUE)","v":{"$error":"#REF!"}},{"$f":"IF(DQ389,#REF!,\"\")","v":{"$error":"#REF!"}},{"$f":"_xludf.TEXTJOIN(\",\",TRUE,DR389:DR402)","v":{"$error":"#VALUE!"}}]
[null,null,null,null,null,null,null,null,null,null,null,null,null,null,null,null,null,null,"□","買物サポート",false,"","□","料理デリバリー（出前）",false,"","□","フィットネス・ジム（送迎）",{"$f":"IF(AA390=\"☑\",TRUE)","v":false},{"$f":"IF(AC390,AB390,\"\")","v":""},"□","出張料理",{"$f":"IF(AE390=\"☑\",TRUE)","v":false},{"$f":"IF(AG390,AF390,\"\")","v":""},"□","温泉・銭湯（たまり場）",false,"","□","多目的トイレ",false,"","□","習い事",{"$f":"IF(AQ390=\"☑\",TRUE)","v":false},{"$f":"IF(AS390,AR390,\"\")","v":""},"□","金融・保険",false,"",null,"□","北区",{"$f":"IF(AZ390=\"☑\",TRUE)","v":false},{"$f":"\"さいたま市:\"&BA390","v":"さいたま市:北区"},{"$f":"IF(BB390,BC390,\"\")","v":""},null,"□","蕨市",{"$f":"IF(BF390=\"☑\",TRUE)","v":false},{"$f":"\"南部地域:\"&BG390","v":"南部地域:蕨市"},{"$f":"IF(BH390,BI390,\"\")","v":""},null,"□","志木市",{"$f":"IF(BL390=\"☑\",TRUE)","v":false},{"$f":"\"南西部地域:\"&BM390","v":"南西部地域:志木市"},{"$f":"IF(BN390,BO390,\"\")","v":""},null,"□","草加市",{"$f":"IF(BR390=\"☑\",TRUE)","v":false},{"$f":"\"東部地域:\"&BS390","v":"東部地域:草加市"},"",null,"□","上尾市",{"$f":"IF(BX390=\"☑\",TRUE)","v":false},{"$f":"\"県央地域:\"&BY390","v":"県央地域:上尾市"},{"$f":"IF(BZ390,CA390,\"\")","v":""},null,"□","東松山市",{"$f":"IF(CD390=\"☑\",TRUE)","v":false},{"$f":"\"川越比企地域:\"&CE390","v":"川越比企地域:東松山市"},{"$f":"IF(CF390,CG390,\"\")","v":""},null,"□","飯能市",{"$f":"IF(CJ390=\"☑\",TRUE)","v":false},{"$f":"\"西部地域:\"&CK390","v":"西部地域:飯能市"},{"$f":"IF(CL390,CM390,\"\")","v":""},null,"□","加須市",{"$f":"IF(CP390=\"☑\",TRUE)","v":false},{"$f":"\"利根地域:\"&CQ390","v":"利根地域:加須市"},{"$f":"IF(CR390,CS390,\"\")","v":""},null,"□","本庄市",{"$f":"IF(CV390=\"☑\",TRUE)","v":false},{"$f":"\"北部地域:\"&CW390","v":"北部地域:本庄市"},{"$f":"IF(CX390,CY390,\"\")","v":""},null,"□","横瀬町",{"$f":"IF(DB390=\"☑\",TRUE)","v":false},{"$f":"\"秩父地域:\"&DC390","v":"秩父地域:横瀬町"},{"$f":"IF(DD390,DE390,\"\")","v":""},null,null,null,null,null,null,null,null,null,null,null,{"$f":"IF(DQ390,#REF!,\"\")","v":""}]
[null,null,null,null,null,null,null,null,null,null,null,null,null,null,null,null,null,null,"□","買物代行",false,"","□","食材宅配",false,"","□","温泉・銭湯（送迎）",false,"","□","屋外作業・力仕事",false,"","□","カフェ・ファーストフード",false,"","□","休憩スペース",false,"","□","映画館",false,"","□","住宅・リフォーム",false,"",null,"□","大宮区",false,"さいたま市:大宮区","",null,"□","戸田市",{"$f":"IF(BF391=\"☑\",TRUE)","v":false},{"$f":"\"南部地域:\"&BG391","v":"南部地域:戸田市"},"",null,"□","和光市",false,"南西部地域:和光市","",null,"□","越谷市",false,"東部地域:越谷市","",null,"□","桶川市",{"$f":"IF(BX391=\"☑\",TRUE)","v":false},{"$f":"\"県央地域:\"&BY391","v":"県央地域:桶川市"},"",null,"□","坂戸市",false,"川越比企地域:坂戸市","",null,"□","狭山市",{"$f":"IF(CJ391=\"☑\",TRUE)","v":false},{"$f":"\"西部地域:\"&CK391","v":"西部地域:狭山市"},"",null,"□","羽生市",false,"利根地域:羽生市","",null,"□","深谷市",false,"北部地域:深谷市","",null,"□","皆野町",{"$f":"IF(DB391=\"☑\",TRUE)","v":false},{"$f":"\"秩父地域:\"&DC391","v":"秩父地域:皆野町"},"",null,null,null,null,null,null,null,null,null,null,{"$f":"IF(#REF!=\"☑\",TRUE)","v":{"$error":"#REF!"}},{"$f":"IF(DQ391,#REF!,\"\")","v":{"$error":"#REF!"}}]
[null,null,null,null,null,null,null,null,null,null,null,null,null,null,null,null,null,null,"□","移動販売",false,"","□","日用品配達",false,"","□","整体・マッサージ（送迎）",false,"","□","整体・マッサージ（出張）",false,"","□","飲食店",false,"","□","駐車場",false,"","□","カラオケ店",false,"","□","パソコン・スマートフォン",false,"",null,"□","見沼区",false,"さいたま市:見沼区","",null,null,null,null,null,"",null,"□","新座市",false,"南西部地域:新座市","",null,"□","八潮市",false,"東部地域:八潮市","",null,"□","北本市",{"$f":"IF(BX392=\"☑\",TRUE)","v":false},{"$f":"\"県央地域:\"&BY392","v":"県央地域:北本市"},"",null,"□","鶴ヶ島市",false,"川越比企地域:鶴ヶ島市","",null,"□","入間市",{"$f":"IF(CJ392=\"☑\",TRUE)","v":false},{"$f":"\"西部地域:\"&CK392","v":"西部地域:入間市"},"",null,"□","久喜市",false,"利根地域:久喜市","",null,"□","美里町",false,"北部地域:美里町","",null,"□","長瀞町",{"$f":"IF(DB392=\"☑\",TRUE)","v":false},{"$f":"\"秩父地域:\"&DC392","v":"秩父地域:長瀞町"},""]
[null,null,null,null,null,null,null,null,null,null,null,null,null,null,null,null,null,null,"□","割引サービス",false,"","□","薬・介護用品配達",false,"","□","乗り合いサービス",false,"","□","理容・美容（出張）",false,"","□","イートインスペース",false,"","□","貸しスペース",false,"","□","麻雀・将棋・囲碁",false,"","□","認知症サポート企業",false,"",null,"□","中央区",false,"さいたま市:中央区","",null,null,null,null,null,"",null,"□","富士見市",false,"南西部地域:富士見市","",null,"□","三郷市",false,"東部地域:三郷市","",null,"□","伊奈町",{"$f":"IF(BX393=\"☑\",TRUE)","v":false},{"$f":"\"県央地域:\"&BY393","v":"県央地域:伊奈町"},"",null,"□","毛呂山町",false,"川越比企地域:毛呂山町","",null,"□","日高市",{"$f":"IF(CJ393=\"☑\",TRUE)","v":false},{"$f":"\"西部地域:\"&CK393","v":"西部地域:日高市"},"",null,"□","蓮田市",false,"利根地域:蓮田市","",null,"□","神川町",false,"北部地域:神川町","",null,"□","小鹿野町",{"$f":"IF(DB393=\"☑\",TRUE)","v":false},{"$f":"\"秩父地域:\"&DC393","v":"秩父地域:小鹿野町"},"",null,null,null,null,null,null,null,null,null,null,{"$f":"IF(#REF!=\"☑\",TRUE)","v":{"$error":"#REF!"}},{"$f":"IF(DQ393,#REF!,\"\")","v":{"$error":"#REF!"}}]
[null,null,null,null,null,null,null,null,null,null,null,null,null,null,null,null,null,null,"□","その他（買物）",false,"","□","クリーニング",false,{"$f":"IF(Y394,X394,\"\")","v":""},"□","個別移送サービス",false,"","□","ペット",false,"","□","その他（運動・たまり場）",false,"","□","その他（設備・施設・場所貸し）",false,"","□","ゲームセンター",false,"","□","理容・美容",false,"",null,"□","桜区",false,"さいたま市:桜区","",null,null,null,null,null,"",null,"□","ふじみ野市",false,"南西部地域:ふじみ野市","",null,"□","吉川市",false,"東部地域:吉川市","",null,null,null,null,null,"",null,"□","越生町",false,"川越比企地域:越生町","",null,null,null,null,null,"",null,"□","幸手市",false,"利根地域:幸手市","",null,"□","上里町",false,"北部地域:上里町","",null,null,null,null,null,"",null,null,null,null,null,null,null,null,null,null,{"$f":"IF(#REF!=\"☑\",TRUE)","v":{"$error":"#REF!"}},{"$f":"IF(DQ394,#REF!,\"\")","v":{"$error":"#REF!"}}]
[null,null,null,null,null,null,null,null,null,null,null,null,null,null,null,null,null,null,null,null,null,null,"□","その他（宅配・デリバリー）",false,{"$f":"IF(Y395,X395,\"\")","v":""},"□","交通機関サービス",false,"","□","その他（出張サービス）",false,"",null,null,null,null,null,null,null,null,"□","旅行・レジャー",false,"","□","成年後見・相続",false,"",null,"□","浦和区",false,"さいたま市:浦和区","",null,null,null,null,null,"",null,"□","三芳町",false,"南西部地域:三芳町","",null,"□","松伏町",false,"東部地域:松伏町","",null,null,null,null,null,"",null,"□","滑川町",false,"川越比企地域:滑川町","",null,null,null,null,null,"",null,"□","白岡市",false,"利根地域:白岡市","",null,"□","寄居町",false,"北部地域:寄居町","",null,null,null,null,null,""]
[null,null,null,null,null,null,null,null,null,null,null,null,null,null,null,null,null,null,null,null,null,null,null,null,null,null,"□","その他（送迎・移動支援）",false,"",null,null,null,"",null,null,null,{"$f":"IF(AK396,AJ396,\"\")","v":""},null,null,null,{"$f":"IF(AO396,AN396,\"\")","v":""},"□","パソコン・スマホ教室",false,"","□","その他（生活サービス）",false,"",null,"□","南区",false,"さいたま市:南区","",null,null,null,null,null,"",null,null,null,null,null,"",null,null,null,null,null,"",null,null,null,null,null,"",null,"□","嵐山町",false,"川越比企地域:嵐山町","",null,null,null,null,null,"",null,"□","宮代町",false,"利根地域:宮代町","",null,null,null,null,null,"",null,null,null,null,null,""]
[null,null,null,null,null,null,null,null,null,null,null,null,null,null,null,null,null,null,null,null,null,null,null,null,null,null,null,null,null,null,null,null,null,null,null,null,null,null,null,null,null,null,"□","その他（学び・趣味）",false,"",null,null,null,null,null,"□","緑区",false,"さいたま市:緑区","",null,null,null,null,null,"",null,null,null,null,null,"",null,null,null,null,null,"",null,null,null,null,null,"",null,"□","小川町",false,"川越比企地域:小川町","",null,null,null,null,null,"",null,"□","杉戸町",false,"利根地域:杉戸町","",null,null,null,null,null,"",null,null,null,null,null,""]
[null,null,null,null,null,null,null,null,null,null,null,null,null,null,null,null,null,null,null,null,null,null,null,null,null,null,null,null,null,null,null,null,null,null,null,null,null,null,null,null,null,null,null,null,null,null,null,null,null,null,null,"□","岩槻区",{"$f":"IF(AZ398=\"☑\",TRUE)","v":false},"さいたま市:岩槻区","",null,null,null,null,null,"",null,null,null,null,null,"",null,null,null,null,null,"",null,null,null,null,null,"",null,"□","川島町",false,"川越比企地域:川島町","",null,null,null,null,null,"",null,null,null,null,null,"",null,null,null,null,null,"",null,null,null,null,null,""]
[null,null,null,null,null,null,null,null,null,null,null,null,null,null,null,null,null,null,null,null,null,null,null,null,null,null,null,null,null,null,null,null,null,null,null,null,null,null,null,null,null,null,null,null,null,null,null,null,null,null,null,null,null,null,null,null,null,null,null,null,null,null,null,null,null,null,null,null,null,null,null,null,null,null,null,null,null,null,null,null,null,"□","吉見町",false,"川越比企地域:吉見町","",null,null,null,null,null,"",null,null,null,null,null,"",null,null,null,null,null,"",null,null,null,null,null,""]
[null,null,null,null,null,null,null,null,null,null,null,null,null,null,null,null,null,null,null,null,null,null,null,null,null,null,null,null,null,null,null,null,null,null,null,null,null,null,null,null,null,null,null,null,null,null,null,null,null,null,null,null,null,null,null,null,null,null,null,null,null,null,null,null,null,null,null,null,null,null,null,null,null,null,null,null,null,null,null,null,null,"□","鳩山町",false,"川越比企地域:鳩山町","",null,null,null,null,null,"",null,null,null,null,null,"",null,null,null,null,null,"",null,null,null,null,null,""]
[null,null,null,null,null,null,null,null,null,null,null,null,null,null,null,null,null,null,null,null,null,null,null,null,null,null,null,null,null,null,null,null,null,null,null,null,null,null,null,null,null,null,null,null,null,null,null,null,null,null,null,null,null,null,null,null,null,null,null,null,null,null,null,null,null,null,null,null,null,null,null,null,null,null,null,null,null,null,null,null,null,"□","ときがわ町",false,"川越比企地域:ときがわ町","",null,null,null,null,null,"",null,null,null,null,null,"",null,null,null,null,null,"",null,null,null,null,null,""]
[null,null,null,null,null,null,null,null,null,null,null,null,null,null,null,null,null,null,null,null,null,null,null,null,null,null,null,null,null,null,null,null,null,null,null,null,null,null,null,null,null,null,null,null,null,null,null,null,null,null,null,null,null,null,null,null,null,null,null,null,null,null,null,null,null,null,null,null,null,null,null,null,null,null,null,null,null,null,null,null,null,"□","東秩父村",false,"川越比企地域:東秩父村","",null,null,null,null,null,"",null,null,null,null,null,"",null,null,null,null,null,"",null,null,null,null,null,""]
[28,null,null,null,null,null,null,null,null,null,null,null,null,null,null,null,null,null,"□","配送",{"$f":"IF(S403=\"☑\",TRUE)","v":false},{"$f":"IF(U403,T403,\"\")","v":""},"□","弁当配達",{"$f":"IF(W403=\"☑\",TRUE)","v":false},{"$f":"IF(Y403,X403,\"\")","v":""},"□","理容・美容（送迎）",{"$f":"IF(AA403=\"☑\",TRUE)","v":false},{"$f":"IF(AC403,AB403,\"\")","v":""},"□","家事代行・掃除・片付け",{"$f":"IF(AE403=\"☑\",TRUE)","v":false},{"$f":"IF(AG403,AF403,\"\")","v":""},"□","フィットネス・ジム（運動）",{"$f":"IF(AI403=\"☑\",TRUE)","v":false},{"$f":"IF(AK403,AJ403,\"\")","v":""},"□","車イス対応（バリアフリー）",{"$f":"IF(AM403=\"☑\",TRUE)","v":false},{"$f":"IF(AO403,AN403,\"\")","v":""},"□","講座・教室・イベント",{"$f":"IF(AQ403=\"☑\",TRUE)","v":false},{"$f":"IF(AS403,AR403,\"\")","v":""},"□","防犯・見守り",{"$f":"IF(AU403=\"☑\",TRUE)","v":false},{"$f":"IF(AW403,AV403,\"\")","v":""},{"$f":"_xludf.TEXTJOIN(\",\",TRUE,V403:V416,Z403:Z416,AD403:AD416,AH403:AH416,AL403:AL416,AP403:AP416,AT403:AT416,AX403:AX416)","v":""},"□","西区",{"$f":"IF(AZ403=\"☑\",TRUE)","v":false},{"$f":"\"さいたま市:\"&BA403","v":"さいたま市:西区"},{"$f":"IF(BB403,BC403,\"\")","v":""},{"$f":"_xludf.TEXTJOIN(\",\",TRUE,BD403:BD416)","v":""},"□","川口市",{"$f":"IF(BF403=\"☑\",TRUE)","v":false},{"$f":"\"南部地域:\"&BG403","v":"南部地域:川口市"},{"$f":"IF(BH403,BI403,\"\")","v":""},{"$f":"_xludf.TEXTJOIN(\",\",TRUE,BJ403:BJ416)","v":""},"□","朝霞市",{"$f":"IF(BL403=\"☑\",TRUE)","v":false},{"$f":"\"南西部地域:\"&BM403","v":"南西部地域:朝霞市"},{"$f":"IF(BN403,BO403,\"\")","v":""},{"$f":"_xludf.TEXTJOIN(\",\",TRUE,BP403:BP416)","v":""},"□","春日部市",{"$f":"IF(BR403=\"☑\",TRUE)","v":false},{"$f":"\"東部地域:\"&BS403","v":"東部地域:春日部市"},{"$f":"IF(BT403,BU403,\"\")","v":""},{"$f":"_xludf.TEXTJOIN(\",\",TRUE,BV403:BV416)","v":""},"□","鴻巣市",{"$f":"IF(BX403=\"☑\",TRUE)","v":false},{"$f":"\"県央地域:\"&BY403","v":"県央地域:鴻巣市"},{"$f":"IF(BZ403,CA403,\"\")","v":""},{"$f":"_xludf.TEXTJOIN(\",\",TRUE,CB403:CB416)","v":""},"□","川越市",{"$f":"IF(CD403=\"☑\",TRUE)","v":false},{"$f":"\"川越比企地域:\"&CE403","v":"川越比企地域:川越市"},{"$f":"IF(CF403,CG403,\"\")","v":""},{"$f":"_xludf.TEXTJOIN(\",\",TRUE,CH403:CH416)","v":""},"□","所沢市",{"$f":"IF(CJ403=\"☑\",TRUE)","v":false},{"$f":"\"西部地域:\"&CK403","v":"西部地域:所沢市"},{"$f":"IF(CL403,CM403,\"\")","v":""},{"$f":"_xludf.TEXTJOIN(\",\",TRUE,CN403:CN416)","v":""},"□","行田市",{"$f":"IF(CP403=\"☑\",TRUE)","v":false},{"$f":"\"利根地域:\"&CQ403","v":"利根地域:行田市"},{"$f":"IF(CR403,CS403,\"\")","v":""},{"$f":"_xludf.TEXTJOIN(\",\",TRUE,CT403:CT416)","v":""},"□","熊谷市",{"$f":"IF(CV403=\"☑\",TRUE)","v":false},{"$f":"\"北部地域:\"&CW403","v":"北部地域:熊谷市"},{"$f":"IF(CX403,CY403,\"\")","v":""},{"$f":"_xludf.TEXTJOIN(\",\",TRUE,CZ403:CZ416)","v":""},"□","秩父市",{"$f":"IF(DB403=\"☑\",TRUE)","v":false},{"$f":"\"秩父地域:\"&DC403","v":"秩父地域:秩父市"},{"$f":"IF(DD403,DE403,\"\")","v":""},{"$f":"_xludf.TEXTJOIN(\",\",TRUE,DF403:DF416)","v":""},{"$f":"_xlfn.TEXTJOIN(\",\",TRUE,BE403,BK403,BQ403,BW403,CC403,CI403,CO403,CU403,DA403,DG403)","v":""},null,null,null,null,null,null,null,null,{"$f":"IF(#REF!=\"☑\",TRUE)","v":{"$error":"#REF!"}},{"$f":"IF(DQ403,#REF!,\"\")","v":{"$error":"#REF!"}},{"$f":"_xludf.TEXTJOIN(\",\",TRUE,DR403:DR416)","v":{"$error":"#VALUE!"}}]
[null,null,null,null,null,null,null,null,null,null,null,null,null,null,null,null,null,null,"□","買物サポート",false,"","□","料理デリバリー（出前）",false,"","□","フィットネス・ジム（送迎）",{"$f":"IF(AA404=\"☑\",TRUE)","v":false},{"$f":"IF(AC404,AB404,\"\")","v":""},"□","出張料理",{"$f":"IF(AE404=\"☑\",TRUE)","v":false},{"$f":"IF(AG404,AF404,\"\")","v":""},"□","温泉・銭湯（たまり場）",false,"","□","多目的トイレ",false,"","□","習い事",{"$f":"IF(AQ404=\"☑\",TRUE)","v":false},{"$f":"IF(AS404,AR404,\"\")","v":""},"□","金融・保険",false,"",null,"□","北区",{"$f":"IF(AZ404=\"☑\",TRUE)","v":false},{"$f":"\"さいたま市:\"&BA404","v":"さいたま市:北区"},{"$f":"IF(BB404,BC404,\"\")","v":""},null,"□","蕨市",{"$f":"IF(BF404=\"☑\",TRUE)","v":false},{"$f":"\"南部地域:\"&BG404","v":"南部地域:蕨市"},{"$f":"IF(BH404,BI404,\"\")","v":""},null,"□","志木市",{"$f":"IF(BL404=\"☑\",TRUE)","v":false},{"$f":"\"南西部地域:\"&BM404","v":"南西部地域:志木市"},{"$f":"IF(BN404,BO404,\"\")","v":""},null,"□","草加市",{"$f":"IF(BR404=\"☑\",TRUE)","v":false},{"$f":"\"東部地域:\"&BS404","v":"東部地域:草加市"},"",null,"□","上尾市",{"$f":"IF(BX404=\"☑\",TRUE)","v":false},{"$f":"\"県央地域:\"&BY404","v":"県央地域:上尾市"},{"$f":"IF(BZ404,CA404,\"\")","v":""},null,"□","東松山市",{"$f":"IF(CD404=\"☑\",TRUE)","v":false},{"$f":"\"川越比企地域:\"&CE404","v":"川越比企地域:東松山市"},{"$f":"IF(CF404,CG404,\"\")","v":""},null,"□","飯能市",{"$f":"IF(CJ404=\"☑\",TRUE)","v":false},{"$f":"\"西部地域:\"&CK404","v":"西部地域:飯能市"},{"$f":"IF(CL404,CM404,\"\")","v":""},null,"□","加須市",{"$f":"IF(CP404=\"☑\",TRUE)","v":false},{"$f":"\"利根地域:\"&CQ404","v":"利根地域:加須市"},{"$f":"IF(CR404,CS404,\"\")","v":""},null,"□","本庄市",{"$f":"IF(CV404=\"☑\",TRUE)","v":false},{"$f":"\"北部地域:\"&CW404","v":"北部地域:本庄市"},{"$f":"IF(CX404,CY404,\"\")","v":""},null,"□","横瀬町",{"$f":"IF(DB404=\"☑\",TRUE)","v":false},{"$f":"\"秩父地域:\"&DC404","v":"秩父地域:横瀬町"},{"$f":"IF(DD404,DE404,\"\")","v":""},null,null,null,null,null,null,null,null,null,null,null,{"$f":"IF(DQ404,#REF!,\"\")","v":""}]
[null,null,null,null,null,null,null,null,null,null,null,null,null,null,null,null,null,null,"□","買物代行",false,"","□","食材宅配",false,"","□","温泉・銭湯（送迎）",false,"","□","屋外作業・力仕事",false,"","□","カフェ・ファーストフード",false,"","□","休憩スペース",false,"","□","映画館",false,"","□","住宅・リフォーム",false,"",null,"□","大宮区",false,"さいたま市:大宮区","",null,"□","戸田市",{"$f":"IF(BF405=\"☑\",TRUE)","v":false},{"$f":"\"南部地域:\"&BG405","v":"南部地域:戸田市"},"",null,"□","和光市",false,"南西部地域:和光市","",null,"□","越谷市",false,"東部地域:越谷市","",null,"□","桶川市",{"$f":"IF(BX405=\"☑\",TRUE)","v":false},{"$f":"\"県央地域:\"&BY405","v":"県央地域:桶川市"},"",null,"□","坂戸市",false,"川越比企地域:坂戸市","",null,"□","狭山市",{"$f":"IF(CJ405=\"☑\",TRUE)","v":false},{"$f":"\"西部地域:\"&CK405","v":"西部地域:狭山市"},"",null,"□","羽生市",false,"利根地域:羽生市","",null,"□","深谷市",false,"北部地域:深谷市","",null,"□","皆野町",{"$f":"IF(DB405=\"☑\",TRUE)","v":false},{"$f":"\"秩父地域:\"&DC405","v":"秩父地域:皆野町"},"",null,null,null,null,null,null,null,null,null,null,{"$f":"IF(#REF!=\"☑\",TRUE)","v":{"$error":"#REF!"}},{"$f":"IF(DQ405,#REF!,\"\")","v":{"$error":"#REF!"}}]
[null,null,null,null,null,null,null,null,null,null,null,null,null,null,null,null,null,null,"□","移動販売",false,"","□","日用品配達",false,"","□","整体・マッサージ（送迎）",false,"","□","整体・マッサージ（出張）",false,"","□","飲食店",false,"","□","駐車場",false,"","□","カラオケ店",false,"","□","パソコン・スマートフォン",false,"",null,"□","見沼区",false,"さいたま市:見沼区","",null,null,null,null,null,"",null,"□","新座市",false,"南西部地域:新座市","",null,"□","八潮市",false,"東部地域:八潮市","",null,"□","北本市",{"$f":"IF(BX406=\"☑\",TRUE)","v":false},{"$f":"\"県央地域:\"&BY406","v":"県央地域:北本市"},"",null,"□","鶴ヶ島市",false,"川越比企地域:鶴ヶ島市","",null,"□","入間市",{"$f":"IF(CJ406=\"☑\",TRUE)","v":false},{"$f":"\"西部地域:\"&CK406","v":"西部地域:入間市"},"",null,"□","久喜市",false,"利根地域:久喜市","",null,"□","美里町",false,"北部地域:美里町","",null,"□","長瀞町",{"$f":"IF(DB406=\"☑\",TRUE)","v":false},{"$f":"\"秩父地域:\"&DC406","v":"秩父地域:長瀞町"},""]
[null,null,null,null,null,null,null,null,null,null,null,null,null,null,null,null,null,null,"□","割引サービス",false,"","□","薬・介護用品配達",false,"","□","乗り合いサービス",false,"","□","理容・美容（出張）",false,"","□","イートインスペース",false,"","□","貸しスペース",false,"","□","麻雀・将棋・囲碁",false,"","□","認知症サポート企業",false,"",null,"□","中央区",false,"さいたま市:中央区","",null,null,null,null,null,"",null,"□","富士見市",false,"南西部地域:富士見市","",null,"□","三郷市",false,"東部地域:三郷市","",null,"□","伊奈町",{"$f":"IF(BX407=\"☑\",TRUE)","v":false},{"$f":"\"県央地域:\"&BY407","v":"県央地域:伊奈町"},"",null,"□","毛呂山町",false,"川越比企地域:毛呂山町","",null,"□","日高市",{"$f":"IF(CJ407=\"☑\",TRUE)","v":false},{"$f":"\"西部地域:\"&CK407","v":"西部地域:日高市"},"",null,"□","蓮田市",false,"利根地域:蓮田市","",null,"□","神川町",false,"北部地域:神川町","",null,"□","小鹿野町",{"$f":"IF(DB407=\"☑\",TRUE)","v":false},{"$f":"\"秩父地域:\"&DC407","v":"秩父地域:小鹿野町"},"",null,null,null,null,null,null,null,null,null,null,{"$f":"IF(#REF!=\"☑\",TRUE)","v":{"$error":"#REF!"}},{"$f":"IF(DQ407,#REF!,\"\")","v":{"$error":"#REF!"}}]
[null,null,null,null,null,null,null,null,null,null,null,null,null,null,null,null,null,null,"□","その他（買物）",false,"","□","クリーニング",false,{"$f":"IF(Y408,X408,\"\")","v":""},"□","個別移送サービス",false,"","□","ペット",false,"","□","その他（運動・たまり場）",false,"","□","その他（設備・施設・場所貸し）",false,"","□","ゲームセンター",false,"","□","理容・美容",false,"",null,"□","桜区",false,"さいたま市:桜区","",null,null,null,null,null,"",null,"□","ふじみ野市",false,"南西部地域:ふじみ野市","",null,"□","吉川市",false,"東部地域:吉川市","",null,null,null,null,null,"",null,"□","越生町",false,"川越比企地域:越生町","",null,null,null,null,null,"",null,"□","幸手市",false,"利根地域:幸手市","",null,"□","上里町",false,"北部地域:上里町","",null,null,null,null,null,"",null,null,null,null,null,null,null,null,null,null,{"$f":"IF(#REF!=\"☑\",TRUE)","v":{"$error":"#REF!"}},{"$f":"IF(DQ408,#REF!,\"\")","v":{"$error":"#REF!"}}]
[null,null,null,null,null,null,null,null,null,null,null,null,null,null,null,null,null,null,null,null,null,null,"□","その他（宅配・デリバリー）",false,{"$f":"IF(Y409,X409,\"\")","v":""},"□","交通機関サービス",false,"","□","その他（出張サービス）",false,"",null,null,null,null,null,null,null,null,"□","旅行・レジャー",false,"","□","成年後見・相続",false,"",null,"□","浦和区",false,"さいたま市:浦和区","",null,null,null,null,null,"",null,"□","三芳町",false,"南西部地域:三芳町","",null,"□","松伏町",false,"東部地域:松伏町","",null,null,null,null,null,"",null,"□","滑川町",false,"川越比企地域:滑川町","",null,null,null,null,null,"",null,"□","白岡市",false,"利根地域:白岡市","",null,"□","寄居町",false,"北部地域:寄居町","",null,null,null,null,null,""]
[null,null,null,null,null,null,null,null,null,null,null,null,null,null,null,null,null,null,null,null,null,null,null,null,null,null,"□","その他（送迎・移動支援）",false,"",null,null,null,"",null,null,null,{"$f":"IF(AK410,AJ410,\"\")","v":""},null,null,null,{"$f":"IF(AO410,AN410,\"\")","v":""},"□","パソコン・スマホ教室",false,"","□","その他（生活サービス）",false,"",null,"□","南区",false,"さいたま市:南区","",null,null,null,null,null,"",null,null,null,null,null,"",null,null,null,null,null,"",null,null,null,null,null,"",null,"□","嵐山町",false,"川越比企地域:嵐山町","",null,null,null,null,null,"",null,"□","宮代町",false,"利根地域:宮代町","",null,null,null,null,null,"",null,null,null,null,null,""]
[null,null,null,null,null,null,null,null,null,null,null,null,null,null,null,null,null,null,null,null,null,null,null,null,null,null,null,null,null,null,null,null,null,null,null,null,null,null,null,null,null,null,"□","その他（学び・趣味）",false,"",null,null,null,null,null,"□","緑区",false,"さいたま市:緑区","",null,null,null,null,null,"",null,null,null,null,null,"",null,null,null,null,null,"",null,null,null,null,null,"",null,"□","小川町",false,"川越比企地域:小川町","",null,null,null,null,null,"",null,"□","杉戸町",false,"利根地域:杉戸町","",null,null,null,null,null,"",null,null,null,null,null,""]
[null,null,null,null,null,null,null,null,null,null,null,null,null,null,null,null,null,null,null,null,null,null,null,null,null,null,null,null,null,null,null,null,null,null,null,null,null,null,null,null,null,null,null,null,null,null,null,null,null,null,null,"□","岩槻区",{"$f":"IF(AZ412=\"☑\",TRUE)","v":false},"さいたま市:岩槻区","",null,null,null,null,null,"",null,null,null,null,null,"",null,null,null,null,null,"",null,null,null,null,null,"",null,"□","川島町",false,"川越比企地域:川島町","",null,null,null,null,null,"",null,null,null,null,null,"",null,null,null,null,null,"",null,null,null,null,null,""]
[null,null,null,null,null,null,null,null,null,null,null,null,null,null,null,null,null,null,null,null,null,null,null,null,null,null,null,null,null,null,null,null,null,null,null,null,null,null,null,null,null,null,null,null,null,null,null,null,null,null,null,null,null,null,null,null,null,null,null,null,null,null,null,null,null,null,null,null,null,null,null,null,null,null,null,null,null,null,null,null,null,"□","吉見町",false,"川越比企地域:吉見町","",null,null,null,null,null,"",null,null,null,null,null,"",null,null,null,null,null,"",null,null,null,null,null,""]
[null,null,null,null,null,null,null,null,null,null,null,null,null,null,null,null,null,null,null,null,null,null,null,null,null,null,null,null,null,null,null,null,null,null,null,null,null,null,null,null,null,null,null,null,null,null,null,null,null,null,null,null,null,null,null,null,null,null,null,null,null,null,null,null,null,null,null,null,null,null,null,null,null,null,null,null,null,null,null,null,null,"□","鳩山町",false,"川越比企地域:鳩山町","",null,null,null,null,null,"",null,null,null,null,null,"",null,null,null,null,null,"",null,null,null,null,null,""]
[null,null,null,null,null,null,null,null,null,null,null,null,null,null,null,null,null,null,null,null,null,null,null,null,null,null,null,null,null,null,null,null,null,null,null,null,null,null,null,null,null,null,null,null,null,null,null,null,null,null,null,null,null,null,null,null,null,null,null,null,null,null,null,null,null,null,null,null,null,null,null,null,null,null,null,null,null,null,null,null,null,"□","ときがわ町",false,"川越比企地域:ときがわ町","",null,null,null,null,null,"",null,null,null,null,null,"",null,null,null,null,null,"",null,null,null,null,null,""]
[null,null,null,null,null,null,null,null,null,null,null,null,null,null,null,null,null,null,null,null,null,null,null,null,null,null,null,null,null,null,null,null,null,null,null,null,null,null,null,null,null,null,null,null,null,null,null,null,null,null,null,null,null,null,null,null,null,null,null,null,null,null,null,null,null,null,null,null,null,null,null,null,null,null,null,null,null,null,null,null,null,"□","東秩父村",false,"川越比企地域:東秩父村","",null,null,null,null,null,"",null,null,null,null,null,"",null,null,null,null,null,"",null,null,null,null,null,""]
[29,null,null,null,null,null,null,null,null,null,null,null,null,null,null,null,null,null,"□","配送",{"$f":"IF(S417=\"☑\",TRUE)","v":false},{"$f":"IF(U417,T417,\"\")","v":""},"□","弁当配達",{"$f":"IF(W417=\"☑\",TRUE)","v":false},{"$f":"IF(Y417,X417,\"\")","v":""},"□","理容・美容（送迎）",{"$f":"IF(AA417=\"☑\",TRUE)","v":false},{"$f":"IF(AC417,AB417,\"\")","v":""},"□","家事代行・掃除・片付け",{"$f":"IF(AE417=\"☑\",TRUE)","v":false},{"$f":"IF(AG417,AF417,\"\")","v":""},"□","フィットネス・ジム（運動）",{"$f":"IF(AI417=\"☑\",TRUE)","v":false},{"$f":"IF(AK417,AJ417,\"\")","v":""},"□","車イス対応（バリアフリー）",{"$f":"IF(AM417=\"☑\",TRUE)","v":false},{"$f":"IF(AO417,AN417,\"\")","v":""},"□","講座・教室・イベント",{"$f":"IF(AQ417=\"☑\",TRUE)","v":false},{"$f":"IF(AS417,AR417,\"\")","v":""},"□","防犯・見守り",{"$f":"IF(AU417=\"☑\",TRUE)","v":false},{"$f":"IF(AW417,AV417,\"\")","v":""},{"$f":"_xludf.TEXTJOIN(\",\",TRUE,V417:V430,Z417:Z430,AD417:AD430,AH417:AH430,AL417:AL430,AP417:AP430,AT417:AT430,AX417:AX430)","v":""},"□","西区",{"$f":"IF(AZ417=\"☑\",TRUE)","v":false},{"$f":"\"さいたま市:\"&BA417","v":"さいたま市:西区"},{"$f":"IF(BB417,BC417,\"\")","v":""},{"$f":"_xludf.TEXTJOIN(\",\",TRUE,BD417:BD430)","v":""},"□","川口市",{"$f":"IF(BF417=\"☑\",TRUE)","v":false},{"$f":"\"南部地域:\"&BG417","v":"南部地域:川口市"},{"$f":"IF(BH417,BI417,\"\")","v":""},{"$f":"_xludf.TEXTJOIN(\",\",TRUE,BJ417:BJ430)","v":""},"□","朝霞市",{"$f":"IF(BL417=\"☑\",TRUE)","v":false},{"$f":"\"南西部地域:\"&BM417","v":"南西部地域:朝霞市"},{"$f":"IF(BN417,BO417,\"\")","v":""},{"$f":"_xludf.TEXTJOIN(\",\",TRUE,BP417:BP430)","v":""},"□","春日部市",{"$f":"IF(BR417=\"☑\",TRUE)","v":false},{"$f":"\"東部地域:\"&BS417","v":"東部地域:春日部市"},{"$f":"IF(BT417,BU417,\"\")","v":""},{"$f":"_xludf.TEXTJOIN(\",\",TRUE,BV417:BV430)","v":""},"□","鴻巣市",{"$f":"IF(BX417=\"☑\",TRUE)","v":false},{"$f":"\"県央地域:\"&BY417","v":"県央地域:鴻巣市"},{"$f":"IF(BZ417,CA417,\"\")","v":""},{"$f":"_xludf.TEXTJOIN(\",\",TRUE,CB417:CB430)","v":""},"□","川越市",{"$f":"IF(CD417=\"☑\",TRUE)","v":false},{"$f":"\"川越比企地域:\"&CE417","v":"川越比企地域:川越市"},{"$f":"IF(CF417,CG417,\"\")","v":""},{"$f":"_xludf.TEXTJOIN(\",\",TRUE,CH417:CH430)","v":""},"□","所沢市",{"$f":"IF(CJ417=\"☑\",TRUE)","v":false},{"$f":"\"西部地域:\"&CK417","v":"西部地域:所沢市"},{"$f":"IF(CL417,CM417,\"\")","v":""},{"$f":"_xludf.TEXTJOIN(\",\",TRUE,CN417:CN430)","v":""},"□","行田市",{"$f":"IF(CP417=\"☑\",TRUE)","v":false},{"$f":"\"利根地域:\"&CQ417","v":"利根地域:行田市"},{"$f":"IF(CR417,CS417,\"\")","v":""},{"$f":"_xludf.TEXTJOIN(\",\",TRUE,CT417:CT430)","v":""},"□","熊谷市",{"$f":"IF(CV417=\"☑\",TRUE)","v":false},{"$f":"\"北部地域:\"&CW417","v":"北部地域:熊谷市"},{"$f":"IF(CX417,CY417,\"\")","v":""},{"$f":"_xludf.TEXTJOIN(\",\",TRUE,CZ417:CZ430)","v":""},"□","秩父市",{"$f":"IF(DB417=\"☑\",TRUE)","v":false},{"$f":"\"秩父地域:\"&DC417","v":"秩父地域:秩父市"},{"$f":"IF(DD417,DE417,\"\")","v":""},{"$f":"_xludf.TEXTJOIN(\",\",TRUE,DF417:DF430)","v":""},{"$f":"_xlfn.TEXTJOIN(\",\",TRUE,BE417,BK417,BQ417,BW417,CC417,CI417,CO417,CU417,DA417,DG417)","v":""},null,null,null,null,null,null,null,null,{"$f":"IF(#REF!=\"☑\",TRUE)","v":{"$error":"#REF!"}},{"$f":"IF(DQ417,#REF!,\"\")","v":{"$error":"#REF!"}},{"$f":"_xludf.TEXTJOIN(\",\",TRUE,DR417:DR430)","v":{"$error":"#VALUE!"}}]
[null,null,null,null,null,null,null,null,null,null,null,null,null,null,null,null,null,null,"□","買物サポート",false,"","□","料理デリバリー（出前）",false,"","□","フィットネス・ジム（送迎）",{"$f":"IF(AA418=\"☑\",TRUE)","v":false},{"$f":"IF(AC418,AB418,\"\")","v":""},"□","出張料理",{"$f":"IF(AE418=\"☑\",TRUE)","v":false},{"$f":"IF(AG418,AF418,\"\")","v":""},"□","温泉・銭湯（たまり場）",false,"","□","多目的トイレ",false,"","□","習い事",{"$f":"IF(AQ418=\"☑\",TRUE)","v":false},{"$f":"IF(AS418,AR418,\"\")","v":""},"□","金融・保険",false,"",null,"□","北区",{"$f":"IF(AZ418=\"☑\",TRUE)","v":false},{"$f":"\"さいたま市:\"&BA418","v":"さいたま市:北区"},{"$f":"IF(BB418,BC418,\"\")","v":""},null,"□","蕨市",{"$f":"IF(BF418=\"☑\",TRUE)","v":false},{"$f":"\"南部地域:\"&BG418","v":"南部地域:蕨市"},{"$f":"IF(BH418,BI418,\"\")","v":""},null,"□","志木市",{"$f":"IF(BL418=\"☑\",TRUE)","v":false},{"$f":"\"南西部地域:\"&BM418","v":"南西部地域:志木市"},{"$f":"IF(BN418,BO418,\"\")","v":""},null,"□","草加市",{"$f":"IF(BR418=\"☑\",TRUE)","v":false},{"$f":"\"東部地域:\"&BS418","v":"東部地域:草加市"},"",null,"□","上尾市",{"$f":"IF(BX418=\"☑\",TRUE)","v":false},{"$f":"\"県央地域:\"&BY418","v":"県央地域:上尾市"},{"$f":"IF(BZ418,CA418,\"\")","v":""},null,"□","東松山市",{"$f":"IF(CD418=\"☑\",TRUE)","v":false},{"$f":"\"川越比企地域:\"&CE418","v":"川越比企地域:東松山市"},{"$f":"IF(CF418,CG418,\"\")","v":""},null,"□","飯能市",{"$f":"IF(CJ418=\"☑\",TRUE)","v":false},{"$f":"\"西部地域:\"&CK418","v":"西部地域:飯能市"},{"$f":"IF(CL418,CM418,\"\")","v":""},null,"□","加須市",{"$f":"IF(CP418=\"☑\",TRUE)","v":false},{"$f":"\"利根地域:\"&CQ418","v":"利根地域:加須市"},{"$f":"IF(CR418,CS418,\"\")","v":""},null,"□","本庄市",{"$f":"IF(CV418=\"☑\",TRUE)","v":false},{"$f":"\"北部地域:\"&CW418","v":"北部地域:本庄市"},{"$f":"IF(CX418,CY418,\"\")","v":""},null,"□","横瀬町",{"$f":"IF(DB418=\"☑\",TRUE)","v":false},{"$f":"\"秩父地域:\"&DC418","v":"秩父地域:横瀬町"},{"$f":"IF(DD418,DE418,\"\")","v":""},null,null,null,null,null,null,null,null,null,null,null,{"$f":"IF(DQ418,#REF!,\"\")","v":""}]
[null,null,null,null,null,null,null,null,null,null,null,null,null,null,null,null,null,null,"□","買物代行",false,"","□","食材宅配",false,"","□","温泉・銭湯（送迎）",false,"","□","屋外作業・力仕事",false,"","□","カフェ・ファーストフード",false,"","□","休憩スペース",false,"","□","映画館",false,"","□","住宅・リフォーム",false,"",null,"□","大宮区",false,"さいたま市:大宮区","",null,"□","戸田市",{"$f":"IF(BF419=\"☑\",TRUE)","v":false},{"$f":"\"南部地域:\"&BG419","v":"南部地域:戸田市"},"",null,"□","和光市",false,"南西部地域:和光市","",null,"□","越谷市",false,"東部地域:越谷市","",null,"□","桶川市",{"$f":"IF(BX419=\"☑\",TRUE)","v":false},{"$f":"\"県央地域:\"&BY419","v":"県央地域:桶川市"},"",null,"□","坂戸市",false,"川越比企地域:坂戸市","",null,"□","狭山市",{"$f":"IF(CJ419=\"☑\",TRUE)","v":false},{"$f":"\"西部地域:\"&CK419","v":"西部地域:狭山市"},"",null,"□","羽生市",false,"利根地域:羽生市","",null,"□","深谷市",false,"北部地域:深谷市","",null,"□","皆野町",{"$f":"IF(DB419=\"☑\",TRUE)","v":false},{"$f":"\"秩父地域:\"&DC419","v":"秩父地域:皆野町"},"",null,null,null,null,null,null,null,null,null,null,{"$f":"IF(#REF!=\"☑\",TRUE)","v":{"$error":"#REF!"}},{"$f":"IF(DQ419,#REF!,\"\")","v":{"$error":"#REF!"}}]
[null,null,null,null,null,null,null,null,null,null,null,null,null,null,null,null,null,null,"□","移動販売",false,"","□","日用品配達",false,"","□","整体・マッサージ（送迎）",false,"","□","整体・マッサージ（出張）",false,"","□","飲食店",false,"","□","駐車場",false,"","□","カラオケ店",false,"","□","パソコン・スマートフォン",false,"",null,"□","見沼区",false,"さいたま市:見沼区","",null,null,null,null,null,"",null,"□","新座市",false,"南西部地域:新座市","",null,"□","八潮市",false,"東部地域:八潮市","",null,"□","北本市",{"$f":"IF(BX420=\"☑\",TRUE)","v":false},{"$f":"\"県央地域:\"&BY420","v":"県央地域:北本市"},"",null,"□","鶴ヶ島市",false,"川越比企地域:鶴ヶ島市","",null,"□","入間市",{"$f":"IF(CJ420=\"☑\",TRUE)","v":false},{"$f":"\"西部地域:\"&CK420","v":"西部地域:入間市"},"",null,"□","久喜市",false,"利根地域:久喜市","",null,"□","美里町",false,"北部地域:美里町","",null,"□","長瀞町",{"$f":"IF(DB420=\"☑\",TRUE)","v":false},{"$f":"\"秩父地域:\"&DC420","v":"秩父地域:長瀞町"},""]
[null,null,null,null,null,null,null,null,null,null,null,null,null,null,null,null,null,null,"□","割引サービス",false,"","□","薬・介護用品配達",false,"","□","乗り合いサービス",false,"","□","理容・美容（出張）",false,"","□","イートインスペース",false,"","□","貸しスペース",false,"","□","麻雀・将棋・囲碁",false,"","□","認知症サポート企業",false,"",null,"□","中央区",false,"さいたま市:中央区","",null,null,null,null,null,"",null,"□","富士見市",false,"南西部地域:富士見市","",null,"□","三郷市",false,"東部地域:三郷市","",null,"□","伊奈町",{"$f":"IF(BX421=\"☑\",TRUE)","v":false},{"$f":"\"県央地域:\"&BY421","v":"県央地域:伊奈町"},"",null,"□","毛呂山町",false,"川越比企地域:毛呂山町","",null,"□","日高市",{"$f":"IF(CJ421=\"☑\",TRUE)","v":false},{"$f":"\"西部地域:\"&CK421","v":"西部地域:日高市"},"",null,"□","蓮田市",false,"利根地域:蓮田市","",null,"□","神川町",false,"北部地域:神川町","",null,"□","小鹿野町",{"$f":"IF(DB421=\"☑\",TRUE)","v":false},{"$f":"\"秩父地域:\"&DC421","v":"秩父地域:小鹿野町"},"",null,null,null,null,null,null,null,null,null,null,{"$f":"IF(#REF!=\"☑\",TRUE)","v":{"$error":"#REF!"}},{"$f":"IF(DQ421,#REF!,\"\")","v":{"$error":"#REF!"}}]
[null,null,null,null,null,null,null,null,null,null,null,null,null,null,null,null,null,null,"□","その他（買物）",false,"","□","クリーニング",false,{"$f":"IF(Y422,X422,\"\")","v":""},"□","個別移送サービス",false,"","□","ペット",false,"","□","その他（運動・たまり場）",false,"","□","その他（設備・施設・場所貸し）",false,"","□","ゲームセンター",false,"","□","理容・美容",false,"",null,"□","桜区",false,"さいたま市:桜区","",null,null,null,null,null,"",null,"□","ふじみ野市",false,"南西部地域:ふじみ野市","",null,"□","吉川市",false,"東部地域:吉川市","",null,null,null,null,null,"",null,"□","越生町",false,"川越比企地域:越生町","",null,null,null,null,null,"",null,"□","幸手市",false,"利根地域:幸手市","",null,"□","上里町",false,"北部地域:上里町","",null,null,null,null,null,"",null,null,null,null,null,null,null,null,null,null,{"$f":"IF(#REF!=\"☑\",TRUE)","v":{"$error":"#REF!"}},{"$f":"IF(DQ422,#REF!,\"\")","v":{"$error":"#REF!"}}]
[null,null,null,null,null,null,null,null,null,null,null,null,null,null,null,null,null,null,null,null,null,null,"□","その他（宅配・デリバリー）",false,{"$f":"IF(Y423,X423,\"\")","v":""},"□","交通機関サービス",false,"","□","その他（出張サービス）",false,"",null,null,null,null,null,null,null,null,"□","旅行・レジャー",false,"","□","成年後見・相続",false,"",null,"□","浦和区",false,"さいたま市:浦和区","",null,null,null,null,null,"",null,"□","三芳町",false,"南西部地域:三芳町","",null,"□","松伏町",false,"東部地域:松伏町","",null,null,null,null,null,"",null,"□","滑川町",false,"川越比企地域:滑川町","",null,null,null,null,null,"",null,"□","白岡市",false,"利根地域:白岡市","",null,"□","寄居町",false,"北部地域:寄居町","",null,null,null,null,null,""]
[null,null,null,null,null,null,null,null,null,null,null,null,null,null,null,null,null,null,null,null,null,null,null,null,null,null,"□","その他（送迎・移動支援）",false,"",null,null,null,"",null,null,null,{"$f":"IF(AK424,AJ424,\"\")","v":""},null,null,null,{"$f":"IF(AO424,AN424,\"\")","v":""},"□","パソコン・スマホ教室",false,"","□","その他（生活サービス）",false,"",null,"□","南区",false,"さいたま市:南区","",null,null,null,null,null,"",null,null,null,null,null,"",null,null,null,null,null,"",null,null,null,null,null,"",null,"□","嵐山町",false,"川越比企地域:嵐山町","",null,null,null,null,null,"",null,"□","宮代町",false,"利根地域:宮代町","",null,null,null,null,null,"",null,null,null,null,null,""]
[null,null,null,null,null,null,null,null,null,null,null,null,null,null,null,null,null,null,null,null,null,null,null,null,null,null,null,null,null,null,null,null,null,null,null,null,null,null,null,null,null,null,"□","その他（学び・趣味）",false,"",null,null,null,null,null,"□","緑区",false,"さいたま市:緑区","",null,null,null,null,null,"",null,null,null,null,null,"",null,null,null,null,null,"",null,null,null,null,null,"",null,"□","小川町",false,"川越比企地域:小川町","",null,null,null,null,null,"",null,"□","杉戸町",false,"利根地域:杉戸町","",null,null,null,null,null,"",null,null,null,null,null,""]
[null,null,null,null,null,null,null,null,null,null,null,null,null,null,null,null,null,null,null,null,null,null,null,null,null,null,null,null,null,null,null,null,null,null,null,null,null,null,null,null,null,null,null,null,null,null,null,null,null,null,null,"□","岩槻区",{"$f":"IF(AZ426=\"☑\",TRUE)","v":false},"さいたま市:岩槻区","",null,null,null,null,null,"",null,null,null,null,null,"",null,null,null,null,null,"",null,null,null,null,null,"",null,"□","川島町",false,"川越比企地域:川島町","",null,null,null,null,null,"",null,null,null,null,null,"",null,null,null,null,null,"",null,null,null,null,null,""]
[null,null,null,null,null,null,null,null,null,null,null,null,null,null,null,null,null,null,null,null,null,null,null,null,null,null,null,null,null,null,null,null,null,null,null,null,null,null,null,null,null,null,null,null,null,null,null,null,null,null,null,null,null,null,null,null,null,null,null,null,null,null,null,null,null,null,null,null,null,null,null,null,null,null,null,null,null,null,null,null,null,"□","吉見町",false,"川越比企地域:吉見町","",null,null,null,null,null,"",null,null,null,null,null,"",null,null,null,null,null,"",null,null,null,null,null,""]
[null,null,null,null,null,null,null,null,null,null,null,null,null,null,null,null,null,null,null,null,null,null,null,null,null,null,null,null,null,null,null,null,null,null,null,null,null,null,null,null,null,null,null,null,null,null,null,null,null,null,null,null,null,null,null,null,null,null,null,null,null,null,null,null,null,null,null,null,null,null,null,null,null,null,null,null,null,null,null,null,null,"□","鳩山町",false,"川越比企地域:鳩山町","",null,null,null,null,null,"",null,null,null,null,null,"",null,null,null,null,null,"",null,null,null,null,null,""]
[null,null,null,null,null,null,null,null,null,null,null,null,null,null,null,null,null,null,null,null,null,null,null,null,null,null,null,null,null,null,null,null,null,null,null,null,null,null,null,null,null,null,null,null,null,null,null,null,null,null,null,null,null,null,null,null,null,null,null,null,null,null,null,null,null,null,null,null,null,null,null,null,null,null,null,null,null,null,null,null,null,"□","ときがわ町",false,"川越比企地域:ときがわ町","",null,null,null,null,null,"",null,null,null,null,null,"",null,null,null,null,null,"",null,null,null,null,null,""]
[null,null,null,null,null,null,null,null,null,null,null,null,null,null,null,null,null,null,null,null,null,null,null,null,null,null,null,null,null,null,null,null,null,null,null,null,null,null,null,null,null,null,null,null,null,null,null,null,null,null,null,null,null,null,null,null,null,null,null,null,null,null,null,null,null,null,null,null,null,null,null,null,null,null,null,null,null,null,null,null,null,"□","東秩父村",false,"川越比企地域:東秩父村","",null,null,null,null,null,"",null,null,null,null,null,"",null,null,null,null,null,"",null,null,null,null,null,""]
[30,null,null,null,null,null,null,null,null,null,null,null,null,null,null,null,null,null,"□","配送",{"$f":"IF(S431=\"☑\",TRUE)","v":false},{"$f":"IF(U431,T431,\"\")","v":""},"□","弁当配達",{"$f":"IF(W431=\"☑\",TRUE)","v":false},{"$f":"IF(Y431,X431,\"\")","v":""},"□","理容・美容（送迎）",{"$f":"IF(AA431=\"☑\",TRUE)","v":false},{"$f":"IF(AC431,AB431,\"\")","v":""},"□","家事代行・掃除・片付け",{"$f":"IF(AE431=\"☑\",TRUE)","v":false},{"$f":"IF(AG431,AF431,\"\")","v":""},"□","フィットネス・ジム（運動）",{"$f":"IF(AI431=\"☑\",TRUE)","v":false},{"$f":"IF(AK431,AJ431,\"\")","v":""},"□","車イス対応（バリアフリー）",{"$f":"IF(AM431=\"☑\",TRUE)","v":false},{"$f":"IF(AO431,AN431,\"\")","v":""},"□","講座・教室・イベント",{"$f":"IF(AQ431=\"☑\",TRUE)","v":false},{"$f":"IF(AS431,AR431,\"\")","v":""},"□","防犯・見守り",{"$f":"IF(AU431=\"☑\",TRUE)","v":false},{"$f":"IF(AW431,AV431,\"\")","v":""},{"$f":"_xludf.TEXTJOIN(\",\",TRUE,V431:V444,Z431:Z444,AD431:AD444,AH431:AH444,AL431:AL444,AP431:AP444,AT431:AT444,AX431:AX444)","v":""},"□","西区",{"$f":"IF(AZ431=\"☑\",TRUE)","v":false},{"$f":"\"さいたま市:\"&BA431","v":"さいたま市:西区"},{"$f":"IF(BB431,BC431,\"\")","v":""},{"$f":"_xludf.TEXTJOIN(\",\",TRUE,BD431:BD444)","v":""},"□","川口市",{"$f":"IF(BF431=\"☑\",TRUE)","v":false},{"$f":"\"南部地域:\"&BG431","v":"南部地域:川口市"},{"$f":"IF(BH431,BI431,\"\")","v":""},{"$f":"_xludf.TEXTJOIN(\",\",TRUE,BJ431:BJ444)","v":""},"□","朝霞市",{"$f":"IF(BL431=\"☑\",TRUE)","v":false},{"$f":"\"南西部地域:\"&BM431","v":"南西部地域:朝霞市"},{"$f":"IF(BN431,BO431,\"\")","v":""},{"$f":"_xludf.TEXTJOIN(\",\",TRUE,BP431:BP444)","v":""},"□","春日部市",{"$f":"IF(BR431=\"☑\",TRUE)","v":false},{"$f":"\"東部地域:\"&BS431","v":"東部地域:春日部市"},{"$f":"IF(BT431,BU431,\"\")","v":""},{"$f":"_xludf.TEXTJOIN(\",\",TRUE,BV431:BV444)","v":""},"□","鴻巣市",{"$f":"IF(BX431=\"☑\",TRUE)","v":false},{"$f":"\"県央地域:\"&BY431","v":"県央地域:鴻巣市"},{"$f":"IF(BZ431,CA431,\"\")","v":""},{"$f":"_xludf.TEXTJOIN(\",\",TRUE,CB431:CB444)","v":""},"□","川越市",{"$f":"IF(CD431=\"☑\",TRUE)","v":false},{"$f":"\"川越比企地域:\"&CE431","v":"川越比企地域:川越市"},{"$f":"IF(CF431,CG431,\"\")","v":""},{"$f":"_xludf.TEXTJOIN(\",\",TRUE,CH431:CH444)","v":""},"□","所沢市",{"$f":"IF(CJ431=\"☑\",TRUE)","v":false},{"$f":"\"西部地域:\"&CK431","v":"西部地域:所沢市"},{"$f":"IF(CL431,CM431,\"\")","v":""},{"$f":"_xludf.TEXTJOIN(\",\",TRUE,CN431:CN444)","v":""},"□","行田市",{"$f":"IF(CP431=\"☑\",TRUE)","v":false},{"$f":"\"利根地域:\"&CQ431","v":"利根地域:行田市"},{"$f":"IF(CR431,CS431,\"\")","v":""},{"$f":"_xludf.TEXTJOIN(\",\",TRUE,CT431:CT444)","v":""},"□","熊谷市",{"$f":"IF(CV431=\"☑\",TRUE)","v":false},{"$f":"\"北部地域:\"&CW431","v":"北部地域:熊谷市"},{"$f":"IF(CX431,CY431,\"\")","v":""},{"$f":"_xludf.TEXTJOIN(\",\",TRUE,CZ431:CZ444)","v":""},"□","秩父市",{"$f":"IF(DB431=\"☑\",TRUE)","v":false},{"$f":"\"秩父地域:\"&DC431","v":"秩父地域:秩父市"},{"$f":"IF(DD431,DE431,\"\")","v":""},{"$f":"_xludf.TEXTJOIN(\",\",TRUE,DF431:DF444)","v":""},{"$f":"_xlfn.TEXTJOIN(\",\",TRUE,BE431,BK431,BQ431,BW431,CC431,CI431,CO431,CU431,DA431,DG431)","v":""},null,null,null,null,null,null,null,null,{"$f":"IF(#REF!=\"☑\",TRUE)","v":{"$error":"#REF!"}},{"$f":"IF(DQ431,#REF!,\"\")","v":{"$error":"#REF!"}},{"$f":"_xludf.TEXTJOIN(\",\",TRUE,DR431:DR444)","v":{"$error":"#VALUE!"}}]
[null,null,null,null,null,null,null,null,null,null,null,null,null,null,null,null,null,null,"□","買物サポート",false,"","□","料理デリバリー（出前）",false,"","□","フィットネス・ジム（送迎）",{"$f":"IF(AA432=\"☑\",TRUE)","v":false},{"$f":"IF(AC432,AB432,\"\")","v":""},"□","出張料理",{"$f":"IF(AE432=\"☑\",TRUE)","v":false},{"$f":"IF(AG432,AF432,\"\")","v":""},"□","温泉・銭湯（たまり場）",false,"","□","多目的トイレ",false,"","□","習い事",{"$f":"IF(AQ432=\"☑\",TRUE)","v":false},{"$f":"IF(AS432,AR432,\"\")","v":""},"□","金融・保険",false,"",null,"□","北区",{"$f":"IF(AZ432=\"☑\",TRUE)","v":false},{"$f":"\"さいたま市:\"&BA432","v":"さいたま市:北区"},{"$f":"IF(BB432,BC432,\"\")","v":""},null,"□","蕨市",{"$f":"IF(BF432=\"☑\",TRUE)","v":false},{"$f":"\"南部地域:\"&BG432","v":"南部地域:蕨市"},{"$f":"IF(BH432,BI432,\"\")","v":""},null,"□","志木市",{"$f":"IF(BL432=\"☑\",TRUE)","v":false},{"$f":"\"南西部地域:\"&BM432","v":"南西部地域:志木市"},{"$f":"IF(BN432,BO432,\"\")","v":""},null,"□","草加市",{"$f":"IF(BR432=\"☑\",TRUE)","v":false},{"$f":"\"東部地域:\"&BS432","v":"東部地域:草加市"},"",null,"□","上尾市",{"$f":"IF(BX432=\"☑\",TRUE)","v":false},{"$f":"\"県央地域:\"&BY432","v":"県央地域:上尾市"},{"$f":"IF(BZ432,CA432,\"\")","v":""},null,"□","東松山市",{"$f":"IF(CD432=\"☑\",TRUE)","v":false},{"$f":"\"川越比企地域:\"&CE432","v":"川越比企地域:東松山市"},{"$f":"IF(CF432,CG432,\"\")","v":""},null,"□","飯能市",{"$f":"IF(CJ432=\"☑\",TRUE)","v":false},{"$f":"\"西部地域:\"&CK432","v":"西部地域:飯能市"},{"$f":"IF(CL432,CM432,\"\")","v":""},null,"□","加須市",{"$f":"IF(CP432=\"☑\",TRUE)","v":false},{"$f":"\"利根地域:\"&CQ432","v":"利根地域:加須市"},{"$f":"IF(CR432,CS432,\"\")","v":""},null,"□","本庄市",{"$f":"IF(CV432=\"☑\",TRUE)","v":false},{"$f":"\"北部地域:\"&CW432","v":"北部地域:本庄市"},{"$f":"IF(CX432,CY432,\"\")","v":""},null,"□","横瀬町",{"$f":"IF(DB432=\"☑\",TRUE)","v":false},{"$f":"\"秩父地域:\"&DC432","v":"秩父地域:横瀬町"},{"$f":"IF(DD432,DE432,\"\")","v":""},null,null,null,null,null,null,null,null,null,null,null,{"$f":"IF(DQ432,#REF!,\"\")","v":""}]
[null,null,null,null,null,null,null,null,null,null,null,null,null,null,null,null,null,null,"□","買物代行",false,"","□","食材宅配",false,"","□","温泉・銭湯（送迎）",false,"","□","屋外作業・力仕事",false,"","□","カフェ・ファーストフード",false,"","□","休憩スペース",false,"","□","映画館",false,"","□","住宅・リフォーム",false,"",null,"□","大宮区",false,"さいたま市:大宮区","",null,"□","戸田市",{"$f":"IF(BF433=\"☑\",TRUE)","v":false},{"$f":"\"南部地域:\"&BG433","v":"南部地域:戸田市"},"",null,"□","和光市",false,"南西部地域:和光市","",null,"□","越谷市",false,"東部地域:越谷市","",null,"□","桶川市",{"$f":"IF(BX433=\"☑\",TRUE)","v":false},{"$f":"\"県央地域:\"&BY433","v":"県央地域:桶川市"},"",null,"□","坂戸市",false,"川越比企地域:坂戸市","",null,"□","狭山市",{"$f":"IF(CJ433=\"☑\",TRUE)","v":false},{"$f":"\"西部地域:\"&CK433","v":"西部地域:狭山市"},"",null,"□","羽生市",false,"利根地域:羽生市","",null,"□","深谷市",false,"北部地域:深谷市","",null,"□","皆野町",{"$f":"IF(DB433=\"☑\",TRUE)","v":false},{"$f":"\"秩父地域:\"&DC433","v":"秩父地域:皆野町"},"",null,null,null,null,null,null,null,null,null,null,{"$f":"IF(#REF!=\"☑\",TRUE)","v":{"$error":"#REF!"}},{"$f":"IF(DQ433,#REF!,\"\")","v":{"$error":"#REF!"}}]
[null,null,null,null,null,null,null,null,null,null,null,null,null,null,null,null,null,null,"□","移動販売",false,"","□","日用品配達",false,"","□","整体・マッサージ（送迎）",false,"","□","整体・マッサージ（出張）",false,"","□","飲食店",false,"","□","駐車場",false,"","□","カラオケ店",false,"","□","パソコン・スマートフォン",false,"",null,"□","見沼区",false,"さいたま市:見沼区","",null,null,null,null,null,"",null,"□","新座市",false,"南西部地域:新座市","",null,"□","八潮市",false,"東部地域:八潮市","",null,"□","北本市",{"$f":"IF(BX434=\"☑\",TRUE)","v":false},{"$f":"\"県央地域:\"&BY434","v":"県央地域:北本市"},"",null,"□","鶴ヶ島市",false,"川越比企地域:鶴ヶ島市","",null,"□","入間市",{"$f":"IF(CJ434=\"☑\",TRUE)","v":false},{"$f":"\"西部地域:\"&CK434","v":"西部地域:入間市"},"",null,"□","久喜市",false,"利根地域:久喜市","",null,"□","美里町",false,"北部地域:美里町","",null,"□","長瀞町",{"$f":"IF(DB434=\"☑\",TRUE)","v":false},{"$f":"\"秩父地域:\"&DC434","v":"秩父地域:長瀞町"},""]
[null,null,null,null,null,null,null,null,null,null,null,null,null,null,null,null,null,null,"□","割引サービス",false,"","□","薬・介護用品配達",false,"","□","乗り合いサービス",false,"","□","理容・美容（出張）",false,"","□","イートインスペース",false,"","□","貸しスペース",false,"","□","麻雀・将棋・囲碁",false,"","□","認知症サポート企業",false,"",null,"□","中央区",false,"さいたま市:中央区","",null,null,null,null,null,"",null,"□","富士見市",false,"南西部地域:富士見市","",null,"□","三郷市",false,"東部地域:三郷市","",null,"□","伊奈町",{"$f":"IF(BX435=\"☑\",TRUE)","v":false},{"$f":"\"県央地域:\"&BY435","v":"県央地域:伊奈町"},"",null,"□","毛呂山町",false,"川越比企地域:毛呂山町","",null,"□","日高市",{"$f":"IF(CJ435=\"☑\",TRUE)","v":false},{"$f":"\"西部地域:\"&CK435","v":"西部地域:日高市"},"",null,"□","蓮田市",false,"利根地域:蓮田市","",null,"□","神川町",false,"北部地域:神川町","",null,"□","小鹿野町",{"$f":"IF(DB435=\"☑\",TRUE)","v":false},{"$f":"\"秩父地域:\"&DC435","v":"秩父地域:小鹿野町"},"",null,null,null,null,null,null,null,null,null,null,{"$f":"IF(#REF!=\"☑\",TRUE)","v":{"$error":"#REF!"}},{"$f":"IF(DQ435,#REF!,\"\")","v":{"$error":"#REF!"}}]
[null,null,null,null,null,null,null,null,null,null,null,null,null,null,null,null,null,null,"□","その他（買物）",false,"","□","クリーニング",false,{"$f":"IF(Y436,X436,\"\")","v":""},"□","個別移送サービス",false,"","□","ペット",false,"","□","その他（運動・たまり場）",false,"","□","その他（設備・施設・場所貸し）",false,"","□","ゲームセンター",false,"","□","理容・美容",false,"",null,"□","桜区",false,"さいたま市:桜区","",null,null,null,null,null,"",null,"□","ふじみ野市",false,"南西部地域:ふじみ野市","",null,"□","吉川市",false,"東部地域:吉川市","",null,null,null,null,null,"",null,"□","越生町",false,"川越比企地域:越生町","",null,null,null,null,null,"",null,"□","幸手市",false,"利根地域:幸手市","",null,"□","上里町",false,"北部地域:上里町","",null,null,null,null,null,"",null,null,null,null,null,null,null,null,null,null,{"$f":"IF(#REF!=\"☑\",TRUE)","v":{"$error":"#REF!"}},{"$f":"IF(DQ436,#REF!,\"\")","v":{"$error":"#REF!"}}]
[null,null,null,null,null,null,null,null,null,null,null,null,null,null,null,null,null,null,null,null,null,null,"□","その他（宅配・デリバリー）",false,{"$f":"IF(Y437,X437,\"\")","v":""},"□","交通機関サービス",false,"","□","その他（出張サービス）",false,"",null,null,null,null,null,null,null,null,"□","旅行・レジャー",false,"","□","成年後見・相続",false,"",null,"□","浦和区",false,"さいたま市:浦和区","",null,null,null,null,null,"",null,"□","三芳町",false,"南西部地域:三芳町","",null,"□","松伏町",false,"東部地域:松伏町","",null,null,null,null,null,"",null,"□","滑川町",false,"川越比企地域:滑川町","",null,null,null,null,null,"",null,"□","白岡市",false,"利根地域:白岡市","",null,"□","寄居町",false,"北部地域:寄居町","",null,null,null,null,null,""]
[null,null,null,null,null,null,null,null,null,null,null,null,null,null,null,null,null,null,null,null,null,null,null,null,null,null,"□","その他（送迎・移動支援）",false,"",null,null,null,"",null,null,null,{"$f":"IF(AK438,AJ438,\"\")","v":""},null,null,null,{"$f":"IF(AO438,AN438,\"\")","v":""},"□","パソコン・スマホ教室",false,"","□","その他（生活サービス）",false,"",null,"□","南区",false,"さいたま市:南区","",null,null,null,null,null,"",null,null,null,null,null,"",null,null,null,null,null,"",null,null,null,null,null,"",null,"□","嵐山町",false,"川越比企地域:嵐山町","",null,null,null,null,null,"",null,"□","宮代町",false,"利根地域:宮代町","",null,null,null,null,null,"",null,null,null,null,null,""]
[null,null,null,null,null,null,null,null,null,null,null,null,null,null,null,null,null,null,null,null,null,null,null,null,null,null,null,null,null,null,null,null,null,null,null,null,null,null,null,null,null,null,"□","その他（学び・趣味）",false,"",null,null,null,null,null,"□","緑区",false,"さいたま市:緑区","",null,null,null,null,null,"",null,null,null,null,null,"",null,null,null,null,null,"",null,null,null,null,null,"",null,"□","小川町",false,"川越比企地域:小川町","",null,null,null,null,null,"",null,"□","杉戸町",false,"利根地域:杉戸町","",null,null,null,null,null,"",null,null,null,null,null,""]
[null,null,null,null,null,null,null,null,null,null,null,null,null,null,null,null,null,null,null,null,null,null,null,null,null,null,null,null,null,null,null,null,null,null,null,null,null,null,null,null,null,null,null,null,null,null,null,null,null,null,null,"□","岩槻区",{"$f":"IF(AZ440=\"☑\",TRUE)","v":false},"さいたま市:岩槻区","",null,null,null,null,null,"",null,null,null,null,null,"",null,null,null,null,null,"",null,null,null,null,null,"",null,"□","川島町",false,"川越比企地域:川島町","",null,null,null,null,null,"",null,null,null,null,null,"",null,null,null,null,null,"",null,null,null,null,null,""]
[null,null,null,null,null,null,null,null,null,null,null,null,null,null,null,null,null,null,null,null,null,null,null,null,null,null,null,null,null,null,null,null,null,null,null,null,null,null,null,null,null,null,null,null,null,null,null,null,null,null,null,null,null,null,null,null,null,null,null,null,null,null,null,null,null,null,null,null,null,null,null,null,null,null,null,null,null,null,null,null,null,"□","吉見町",false,"川越比企地域:吉見町","",null,null,null,null,null,"",null,null,null,null,null,"",null,null,null,null,null,"",null,null,null,null,null,""]
[null,null,null,null,null,null,null,null,null,null,null,null,null,null,null,null,null,null,null,null,null,null,null,null,null,null,null,null,null,null,null,null,null,null,null,null,null,null,null,null,null,null,null,null,null,null,null,null,null,null,null,null,null,null,null,null,null,null,null,null,null,null,null,null,null,null,null,null,null,null,null,null,null,null,null,null,null,null,null,null,null,"□","鳩山町",false,"川越比企地域:鳩山町","",null,null,null,null,null,"",null,null,null,null,null,"",null,null,null,null,null,"",null,null,null,null,null,""]
[null,null,null,null,null,null,null,null,null,null,null,null,null,null,null,null,null,null,null,null,null,null,null,null,null,null,null,null,null,null,null,null,null,null,null,null,null,null,null,null,null,null,null,null,null,null,null,null,null,null,null,null,null,null,null,null,null,null,null,null,null,null,null,null,null,null,null,null,null,null,null,null,null,null,null,null,null,null,null,null,null,"□","ときがわ町",false,"川越比企地域:ときがわ町","",null,null,null,null,null,"",null,null,null,null,null,"",null,null,null,null,null,"",null,null,null,null,null,""]
[null,null,null,null,null,null,null,null,null,null,null,null,null,null,null,null,null,null,null,null,null,null,null,null,null,null,null,null,null,null,null,null,null,null,null,null,null,null,null,null,null,null,null,null,null,null,null,null,null,null,null,null,null,null,null,null,null,null,null,null,null,null,null,null,null,null,null,null,null,null,null,null,null,null,null,null,null,null,null,null,null,"□","東秩父村",false,"川越比企地域:東秩父村","",null,null,null,null,null,"",null,null,null,null,null,"",null,null,null,null,null,"",null,null,null,null,null,""]
[31,null,null,null,null,null,null,null,null,null,null,null,null,null,null,null,null,null,"□","配送",{"$f":"IF(S445=\"☑\",TRUE)","v":false},{"$f":"IF(U445,T445,\"\")","v":""},"□","弁当配達",{"$f":"IF(W445=\"☑\",TRUE)","v":false},{"$f":"IF(Y445,X445,\"\")","v":""},"□","理容・美容（送迎）",{"$f":"IF(AA445=\"☑\",TRUE)","v":false},{"$f":"IF(AC445,AB445,\"\")","v":""},"□","家事代行・掃除・片付け",{"$f":"IF(AE445=\"☑\",TRUE)","v":false},{"$f":"IF(AG445,AF445,\"\")","v":""},"□","フィットネス・ジム（運動）",{"$f":"IF(AI445=\"☑\",TRUE)","v":false},{"$f":"IF(AK445,AJ445,\"\")","v":""},"□","車イス対応（バリアフリー）",{"$f":"IF(AM445=\"☑\",TRUE)","v":false},{"$f":"IF(AO445,AN445,\"\")","v":""},"□","講座・教室・イベント",{"$f":"IF(AQ445=\"☑\",TRUE)","v":false},{"$f":"IF(AS445,AR445,\"\")","v":""},"□","防犯・見守り",{"$f":"IF(AU445=\"☑\",TRUE)","v":false},{"$f":"IF(AW445,AV445,\"\")","v":""},{"$f":"_xludf.TEXTJOIN(\",\",TRUE,V445:V458,Z445:Z458,AD445:AD458,AH445:AH458,AL445:AL458,AP445:AP458,AT445:AT458,AX445:AX458)","v":""},"□","西区",{"$f":"IF(AZ445=\"☑\",TRUE)","v":false},{"$f":"\"さいたま市:\"&BA445","v":"さいたま市:西区"},{"$f":"IF(BB445,BC445,\"\")","v":""},{"$f":"_xludf.TEXTJOIN(\",\",TRUE,BD445:BD458)","v":""},"□","川口市",{"$f":"IF(BF445=\"☑\",TRUE)","v":false},{"$f":"\"南部地域:\"&BG445","v":"南部地域:川口市"},{"$f":"IF(BH445,BI445,\"\")","v":""},{"$f":"_xludf.TEXTJOIN(\",\",TRUE,BJ445:BJ458)","v":""},"□","朝霞市",{"$f":"IF(BL445=\"☑\",TRUE)","v":false},{"$f":"\"南西部地域:\"&BM445","v":"南西部地域:朝霞市"},{"$f":"IF(BN445,BO445,\"\")","v":""},{"$f":"_xludf.TEXTJOIN(\",\",TRUE,BP445:BP458)","v":""},"□","春日部市",{"$f":"IF(BR445=\"☑\",TRUE)","v":false},{"$f":"\"東部地域:\"&BS445","v":"東部地域:春日部市"},{"$f":"IF(BT445,BU445,\"\")","v":""},{"$f":"_xludf.TEXTJOIN(\",\",TRUE,BV445:BV458)","v":""},"□","鴻巣市",{"$f":"IF(BX445=\"☑\",TRUE)","v":false},{"$f":"\"県央地域:\"&BY445","v":"県央地域:鴻巣市"},{"$f":"IF(BZ445,CA445,\"\")","v":""},{"$f":"_xludf.TEXTJOIN(\",\",TRUE,CB445:CB458)","v":""},"□","川越市",{"$f":"IF(CD445=\"☑\",TRUE)","v":false},{"$f":"\"川越比企地域:\"&CE445","v":"川越比企地域:川越市"},{"$f":"IF(CF445,CG445,\"\")","v":""},{"$f":"_xludf.TEXTJOIN(\",\",TRUE,CH445:CH458)","v":""},"□","所沢市",{"$f":"IF(CJ445=\"☑\",TRUE)","v":false},{"$f":"\"西部地域:\"&CK445","v":"西部地域:所沢市"},{"$f":"IF(CL445,CM445,\"\")","v":""},{"$f":"_xludf.TEXTJOIN(\",\",TRUE,CN445:CN458)","v":""},"□","行田市",{"$f":"IF(CP445=\"☑\",TRUE)","v":false},{"$f":"\"利根地域:\"&CQ445","v":"利根地域:行田市"},{"$f":"IF(CR445,CS445,\"\")","v":""},{"$f":"_xludf.TEXTJOIN(\",\",TRUE,CT445:CT458)","v":""},"□","熊谷市",{"$f":"IF(CV445=\"☑\",TRUE)","v":false},{"$f":"\"北部地域:\"&CW445","v":"北部地域:熊谷市"},{"$f":"IF(CX445,CY445,\"\")","v":""},{"$f":"_xludf.TEXTJOIN(\",\",TRUE,CZ445:CZ458)","v":""},"□","秩父市",{"$f":"IF(DB445=\"☑\",TRUE)","v":false},{"$f":"\"秩父地域:\"&DC445","v":"秩父地域:秩父市"},{"$f":"IF(DD445,DE445,\"\")","v":""},{"$f":"_xludf.TEXTJOIN(\",\",TRUE,DF445:DF458)","v":""},{"$f":"_xlfn.TEXTJOIN(\",\",TRUE,BE445,BK445,BQ445,BW445,CC445,CI445,CO445,CU445,DA445,DG445)","v":""},null,null,null,null,null,null,null,null,{"$f":"IF(#REF!=\"☑\",TRUE)","v":{"$error":"#REF!"}},{"$f":"IF(DQ445,#REF!,\"\")","v":{"$error":"#REF!"}},{"$f":"_xludf.TEXTJOIN(\",\",TRUE,DR445:DR458)","v":{"$error":"#VALUE!"}}]
[null,null,null,null,null,null,null,null,null,null,null,null,null,null,null,null,null,null,"□","買物サポート",false,"","□","料理デリバリー（出前）",false,"","□","フィットネス・ジム（送迎）",{"$f":"IF(AA446=\"☑\",TRUE)","v":false},{"$f":"IF(AC446,AB446,\"\")","v":""},"□","出張料理",{"$f":"IF(AE446=\"☑\",TRUE)","v":false},{"$f":"IF(AG446,AF446,\"\")","v":""},"□","温泉・銭湯（たまり場）",false,"","□","多目的トイレ",false,"","□","習い事",{"$f":"IF(AQ446=\"☑\",TRUE)","v":false},{"$f":"IF(AS446,AR446,\"\")","v":""},"□","金融・保険",false,"",null,"□","北区",{"$f":"IF(AZ446=\"☑\",TRUE)","v":false},{"$f":"\"さいたま市:\"&BA446","v":"さいたま市:北区"},{"$f":"IF(BB446,BC446,\"\")","v":""},null,"□","蕨市",{"$f":"IF(BF446=\"☑\",TRUE)","v":false},{"$f":"\"南部地域:\"&BG446","v":"南部地域:蕨市"},{"$f":"IF(BH446,BI446,\"\")","v":""},null,"□","志木市",{"$f":"IF(BL446=\"☑\",TRUE)","v":false},{"$f":"\"南西部地域:\"&BM446","v":"南西部地域:志木市"},{"$f":"IF(BN446,BO446,\"\")","v":""},null,"□","草加市",{"$f":"IF(BR446=\"☑\",TRUE)","v":false},{"$f":"\"東部地域:\"&BS446","v":"東部地域:草加市"},"",null,"□","上尾市",{"$f":"IF(BX446=\"☑\",TRUE)","v":false},{"$f":"\"県央地域:\"&BY446","v":"県央地域:上尾市"},{"$f":"IF(BZ446,CA446,\"\")","v":""},null,"□","東松山市",{"$f":"IF(CD446=\"☑\",TRUE)","v":false},{"$f":"\"川越比企地域:\"&CE446","v":"川越比企地域:東松山市"},{"$f":"IF(CF446,CG446,\"\")","v":""},null,"□","飯能市",{"$f":"IF(CJ446=\"☑\",TRUE)","v":false},{"$f":"\"西部地域:\"&CK446","v":"西部地域:飯能市"},{"$f":"IF(CL446,CM446,\"\")","v":""},null,"□","加須市",{"$f":"IF(CP446=\"☑\",TRUE)","v":false},{"$f":"\"利根地域:\"&CQ446","v":"利根地域:加須市"},{"$f":"IF(CR446,CS446,\"\")","v":""},null,"□","本庄市",{"$f":"IF(CV446=\"☑\",TRUE)","v":false},{"$f":"\"北部地域:\"&CW446","v":"北部地域:本庄市"},{"$f":"IF(CX446,CY446,\"\")","v":""},null,"□","横瀬町",{"$f":"IF(DB446=\"☑\",TRUE)","v":false},{"$f":"\"秩父地域:\"&DC446","v":"秩父地域:横瀬町"},{"$f":"IF(DD446,DE446,\"\")","v":""},null,null,null,null,null,null,null,null,null,null,null,{"$f":"IF(DQ446,#REF!,\"\")","v":""}]
[null,null,null,null,null,null,null,null,null,null,null,null,null,null,null,null,null,null,"□","買物代行",false,"","□","食材宅配",false,"","□","温泉・銭湯（送迎）",false,"","□","屋外作業・力仕事",false,"","□","カフェ・ファーストフード",false,"","□","休憩スペース",false,"","□","映画館",false,"","□","住宅・リフォーム",false,"",null,"□","大宮区",false,"さいたま市:大宮区","",null,"□","戸田市",{"$f":"IF(BF447=\"☑\",TRUE)","v":false},{"$f":"\"南部地域:\"&BG447","v":"南部地域:戸田市"},"",null,"□","和光市",false,"南西部地域:和光市","",null,"□","越谷市",false,"東部地域:越谷市","",null,"□","桶川市",{"$f":"IF(BX447=\"☑\",TRUE)","v":false},{"$f":"\"県央地域:\"&BY447","v":"県央地域:桶川市"},"",null,"□","坂戸市",false,"川越比企地域:坂戸市","",null,"□","狭山市",{"$f":"IF(CJ447=\"☑\",TRUE)","v":false},{"$f":"\"西部地域:\"&CK447","v":"西部地域:狭山市"},"",null,"□","羽生市",false,"利根地域:羽生市","",null,"□","深谷市",false,"北部地域:深谷市","",null,"□","皆野町",{"$f":"IF(DB447=\"☑\",TRUE)","v":false},{"$f":"\"秩父地域:\"&DC447","v":"秩父地域:皆野町"},"",null,null,null,null,null,null,null,null,null,null,{"$f":"IF(#REF!=\"☑\",TRUE)","v":{"$error":"#REF!"}},{"$f":"IF(DQ447,#REF!,\"\")","v":{"$error":"#REF!"}}]
[null,null,null,null,null,null,null,null,null,null,null,null,null,null,null,null,null,null,"□","移動販売",false,"","□","日用品配達",false,"","□","整体・マッサージ（送迎）",false,"","□","整体・マッサージ（出張）",false,"","□","飲食店",false,"","□","駐車場",false,"","□","カラオケ店",false,"","□","パソコン・スマートフォン",false,"",null,"□","見沼区",false,"さいたま市:見沼区","",null,null,null,null,null,"",null,"□","新座市",false,"南西部地域:新座市","",null,"□","八潮市",false,"東部地域:八潮市","",null,"□","北本市",{"$f":"IF(BX448=\"☑\",TRUE)","v":false},{"$f":"\"県央地域:\"&BY448","v":"県央地域:北本市"},"",null,"□","鶴ヶ島市",false,"川越比企地域:鶴ヶ島市","",null,"□","入間市",{"$f":"IF(CJ448=\"☑\",TRUE)","v":false},{"$f":"\"西部地域:\"&CK448","v":"西部地域:入間市"},"",null,"□","久喜市",false,"利根地域:久喜市","",null,"□","美里町",false,"北部地域:美里町","",null,"□","長瀞町",{"$f":"IF(DB448=\"☑\",TRUE)","v":false},{"$f":"\"秩父地域:\"&DC448","v":"秩父地域:長瀞町"},""]
[null,null,null,null,null,null,null,null,null,null,null,null,null,null,null,null,null,null,"□","割引サービス",false,"","□","薬・介護用品配達",false,"","□","乗り合いサービス",false,"","□","理容・美容（出張）",false,"","□","イートインスペース",false,"","□","貸しスペース",false,"","□","麻雀・将棋・囲碁",false,"","□","認知症サポート企業",false,"",null,"□","中央区",false,"さいたま市:中央区","",null,null,null,null,null,"",null,"□","富士見市",false,"南西部地域:富士見市","",null,"□","三郷市",false,"東部地域:三郷市","",null,"□","伊奈町",{"$f":"IF(BX449=\"☑\",TRUE)","v":false},{"$f":"\"県央地域:\"&BY449","v":"県央地域:伊奈町"},"",null,"□","毛呂山町",false,"川越比企地域:毛呂山町","",null,"□","日高市",{"$f":"IF(CJ449=\"☑\",TRUE)","v":false},{"$f":"\"西部地域:\"&CK449","v":"西部地域:日高市"},"",null,"□","蓮田市",false,"利根地域:蓮田市","",null,"□","神川町",false,"北部地域:神川町","",null,"□","小鹿野町",{"$f":"IF(DB449=\"☑\",TRUE)","v":false},{"$f":"\"秩父地域:\"&DC449","v":"秩父地域:小鹿野町"},"",null,null,null,null,null,null,null,null,null,null,{"$f":"IF(#REF!=\"☑\",TRUE)","v":{"$error":"#REF!"}},{"$f":"IF(DQ449,#REF!,\"\")","v":{"$error":"#REF!"}}]
[null,null,null,null,null,null,null,null,null,null,null,null,null,null,null,null,null,null,"□","その他（買物）",false,"","□","クリーニング",false,{"$f":"IF(Y450,X450,\"\")","v":""},"□","個別移送サービス",false,"","□","ペット",false,"","□","その他（運動・たまり場）",false,"","□","その他（設備・施設・場所貸し）",false,"","□","ゲームセンター",false,"","□","理容・美容",false,"",null,"□","桜区",false,"さいたま市:桜区","",null,null,null,null,null,"",null,"□","ふじみ野市",false,"南西部地域:ふじみ野市","",null,"□","吉川市",false,"東部地域:吉川市","",null,null,null,null,null,"",null,"□","越生町",false,"川越比企地域:越生町","",null,null,null,null,null,"",null,"□","幸手市",false,"利根地域:幸手市","",null,"□","上里町",false,"北部地域:上里町","",null,null,null,null,null,"",null,null,null,null,null,null,null,null,null,null,{"$f":"IF(#REF!=\"☑\",TRUE)","v":{"$error":"#REF!"}},{"$f":"IF(DQ450,#REF!,\"\")","v":{"$error":"#REF!"}}]
[null,null,null,null,null,null,null,null,null,null,null,null,null,null,null,null,null,null,null,null,null,null,"□","その他（宅配・デリバリー）",false,{"$f":"IF(Y451,X451,\"\")","v":""},"□","交通機関サービス",false,"","□","その他（出張サービス）",false,"",null,null,null,null,null,null,null,null,"□","旅行・レジャー",false,"","□","成年後見・相続",false,"",null,"□","浦和区",false,"さいたま市:浦和区","",null,null,null,null,null,"",null,"□","三芳町",false,"南西部地域:三芳町","",null,"□","松伏町",false,"東部地域:松伏町","",null,null,null,null,null,"",null,"□","滑川町",false,"川越比企地域:滑川町","",null,null,null,null,null,"",null,"□","白岡市",false,"利根地域:白岡市","",null,"□","寄居町",false,"北部地域:寄居町","",null,null,null,null,null,""]
[null,null,null,null,null,null,null,null,null,null,null,null,null,null,null,null,null,null,null,null,null,null,null,null,null,null,"□","その他（送迎・移動支援）",false,"",null,null,null,"",null,null,null,{"$f":"IF(AK452,AJ452,\"\")","v":""},null,null,null,{"$f":"IF(AO452,AN452,\"\")","v":""},"□","パソコン・スマホ教室",false,"","□","その他（生活サービス）",false,"",null,"□","南区",false,"さいたま市:南区","",null,null,null,null,null,"",null,null,null,null,null,"",null,null,null,null,null,"",null,null,null,null,null,"",null,"□","嵐山町",false,"川越比企地域:嵐山町","",null,null,null,null,null,"",null,"□","宮代町",false,"利根地域:宮代町","",null,null,null,null,null,"",null,null,null,null,null,""]
[null,null,null,null,null,null,null,null,null,null,null,null,null,null,null,null,null,null,null,null,null,null,null,null,null,null,null,null,null,null,null,null,null,null,null,null,null,null,null,null,null,null,"□","その他（学び・趣味）",false,"",null,null,null,null,null,"□","緑区",false,"さいたま市:緑区","",null,null,null,null,null,"",null,null,null,null,null,"",null,null,null,null,null,"",null,null,null,null,null,"",null,"□","小川町",false,"川越比企地域:小川町","",null,null,null,null,null,"",null,"□","杉戸町",false,"利根地域:杉戸町","",null,null,null,null,null,"",null,null,null,null,null,""]
[null,null,null,null,null,null,null,null,null,null,null,null,null,null,null,null,null,null,null,null,null,null,null,null,null,null,null,null,null,null,null,null,null,null,null,null,null,null,null,null,null,null,null,null,null,null,null,null,null,null,null,"□","岩槻区",{"$f":"IF(AZ454=\"☑\",TRUE)","v":false},"さいたま市:岩槻区","",null,null,null,null,null,"",null,null,null,null,null,"",null,null,null,null,null,"",null,null,null,null,null,"",null,"□","川島町",false,"川越比企地域:川島町","",null,null,null,null,null,"",null,null,null,null,null,"",null,null,null,null,null,"",null,null,null,null,null,""]
[null,null,null,null,null,null,null,null,null,null,null,null,null,null,null,null,null,null,null,null,null,null,null,null,null,null,null,null,null,null,null,null,null,null,null,null,null,null,null,null,null,null,null,null,null,null,null,null,null,null,null,null,null,null,null,null,null,null,null,null,null,null,null,null,null,null,null,null,null,null,null,null,null,null,null,null,null,null,null,null,null,"□","吉見町",false,"川越比企地域:吉見町","",null,null,null,null,null,"",null,null,null,null,null,"",null,null,null,null,null,"",null,null,null,null,null,""]
[null,null,null,null,null,null,null,null,null,null,null,null,null,null,null,null,null,null,null,null,null,null,null,null,null,null,null,null,null,null,null,null,null,null,null,null,null,null,null,null,null,null,null,null,null,null,null,null,null,null,null,null,null,null,null,null,null,null,null,null,null,null,null,null,null,null,null,null,null,null,null,null,null,null,null,null,null,null,null,null,null,"□","鳩山町",false,"川越比企地域:鳩山町","",null,null,null,null,null,"",null,null,null,null,null,"",null,null,null,null,null,"",null,null,null,null,null,""]
[null,null,null,null,null,null,null,null,null,null,null,null,null,null,null,null,null,null,null,null,null,null,null,null,null,null,null,null,null,null,null,null,null,null,null,null,null,null,null,null,null,null,null,null,null,null,null,null,null,null,null,null,null,null,null,null,null,null,null,null,null,null,null,null,null,null,null,null,null,null,null,null,null,null,null,null,null,null,null,null,null,"□","ときがわ町",false,"川越比企地域:ときがわ町","",null,null,null,null,null,"",null,null,null,null,null,"",null,null,null,null,null,"",null,null,null,null,null,""]
[null,null,null,null,null,null,null,null,null,null,null,null,null,null,null,null,null,null,null,null,null,null,null,null,null,null,null,null,null,null,null,null,null,null,null,null,null,null,null,null,null,null,null,null,null,null,null,null,null,null,null,null,null,null,null,null,null,null,null,null,null,null,null,null,null,null,null,null,null,null,null,null,null,null,null,null,null,null,null,null,null,"□","東秩父村",false,"川越比企地域:東秩父村","",null,null,null,null,null,"",null,null,null,null,null,"",null,null,null,null,null,"",null,null,null,null,null,""]
[32,null,null,null,null,null,null,null,null,null,null,null,null,null,null,null,null,null,"□","配送",{"$f":"IF(S459=\"☑\",TRUE)","v":false},{"$f":"IF(U459,T459,\"\")","v":""},"□","弁当配達",{"$f":"IF(W459=\"☑\",TRUE)","v":false},{"$f":"IF(Y459,X459,\"\")","v":""},"□","理容・美容（送迎）",{"$f":"IF(AA459=\"☑\",TRUE)","v":false},{"$f":"IF(AC459,AB459,\"\")","v":""},"□","家事代行・掃除・片付け",{"$f":"IF(AE459=\"☑\",TRUE)","v":false},{"$f":"IF(AG459,AF459,\"\")","v":""},"□","フィットネス・ジム（運動）",{"$f":"IF(AI459=\"☑\",TRUE)","v":false},{"$f":"IF(AK459,AJ459,\"\")","v":""},"□","車イス対応（バリアフリー）",{"$f":"IF(AM459=\"☑\",TRUE)","v":false},{"$f":"IF(AO459,AN459,\"\")","v":""},"□","講座・教室・イベント",{"$f":"IF(AQ459=\"☑\",TRUE)","v":false},{"$f":"IF(AS459,AR459,\"\")","v":""},"□","防犯・見守り",{"$f":"IF(AU459=\"☑\",TRUE)","v":false},{"$f":"IF(AW459,AV459,\"\")","v":""},{"$f":"_xludf.TEXTJOIN(\",\",TRUE,V459:V472,Z459:Z472,AD459:AD472,AH459:AH472,AL459:AL472,AP459:AP472,AT459:AT472,AX459:AX472)","v":""},"□","西区",{"$f":"IF(AZ459=\"☑\",TRUE)","v":false},{"$f":"\"さいたま市:\"&BA459","v":"さいたま市:西区"},{"$f":"IF(BB459,BC459,\"\")","v":""},{"$f":"_xludf.TEXTJOIN(\",\",TRUE,BD459:BD472)","v":""},"□","川口市",{"$f":"IF(BF459=\"☑\",TRUE)","v":false},{"$f":"\"南部地域:\"&BG459","v":"南部地域:川口市"},{"$f":"IF(BH459,BI459,\"\")","v":""},{"$f":"_xludf.TEXTJOIN(\",\",TRUE,BJ459:BJ472)","v":""},"□","朝霞市",{"$f":"IF(BL459=\"☑\",TRUE)","v":false},{"$f":"\"南西部地域:\"&BM459","v":"南西部地域:朝霞市"},{"$f":"IF(BN459,BO459,\"\")","v":""},{"$f":"_xludf.TEXTJOIN(\",\",TRUE,BP459:BP472)","v":""},"□","春日部市",{"$f":"IF(BR459=\"☑\",TRUE)","v":false},{"$f":"\"東部地域:\"&BS459","v":"東部地域:春日部市"},{"$f":"IF(BT459,BU459,\"\")","v":""},{"$f":"_xludf.TEXTJOIN(\",\",TRUE,BV459:BV472)","v":""},"□","鴻巣市",{"$f":"IF(BX459=\"☑\",TRUE)","v":false},{"$f":"\"県央地域:\"&BY459","v":"県央地域:鴻巣市"},{"$f":"IF(BZ459,CA459,\"\")","v":""},{"$f":"_xludf.TEXTJOIN(\",\",TRUE,CB459:CB472)","v":""},"□","川越市",{"$f":"IF(CD459=\"☑\",TRUE)","v":false},{"$f":"\"川越比企地域:\"&CE459","v":"川越比企地域:川越市"},{"$f":"IF(CF459,CG459,\"\")","v":""},{"$f":"_xludf.TEXTJOIN(\",\",TRUE,CH459:CH472)","v":""},"□","所沢市",{"$f":"IF(CJ459=\"☑\",TRUE)","v":false},{"$f":"\"西部地域:\"&CK459","v":"西部地域:所沢市"},{"$f":"IF(CL459,CM459,\"\")","v":""},{"$f":"_xludf.TEXTJOIN(\",\",TRUE,CN459:CN472)","v":""},"□","行田市",{"$f":"IF(CP459=\"☑\",TRUE)","v":false},{"$f":"\"利根地域:\"&CQ459","v":"利根地域:行田市"},{"$f":"IF(CR459,CS459,\"\")","v":""},{"$f":"_xludf.TEXTJOIN(\",\",TRUE,CT459:CT472)","v":""},"□","熊谷市",{"$f":"IF(CV459=\"☑\",TRUE)","v":false},{"$f":"\"北部地域:\"&CW459","v":"北部地域:熊谷市"},{"$f":"IF(CX459,CY459,\"\")","v":""},{"$f":"_xludf.TEXTJOIN(\",\",TRUE,CZ459:CZ472)","v":""},"□","秩父市",{"$f":"IF(DB459=\"☑\",TRUE)","v":false},{"$f":"\"秩父地域:\"&DC459","v":"秩父地域:秩父市"},{"$f":"IF(DD459,DE459,\"\")","v":""},{"$f":"_xludf.TEXTJOIN(\",\",TRUE,DF459:DF472)","v":""},{"$f":"_xlfn.TEXTJOIN(\",\",TRUE,BE459,BK459,BQ459,BW459,CC459,CI459,CO459,CU459,DA459,DG459)","v":""},null,null,null,null,null,null,null,null,{"$f":"IF(#REF!=\"☑\",TRUE)","v":{"$error":"#REF!"}},{"$f":"IF(DQ459,#REF!,\"\")","v":{"$error":"#REF!"}},{"$f":"_xludf.TEXTJOIN(\",\",TRUE,DR459:DR472)","v":{"$error":"#VALUE!"}}]
[null,null,null,null,null,null,null,null,null,null,null,null,null,null,null,null,null,null,"□","買物サポート",false,"","□","料理デリバリー（出前）",false,"","□","フィットネス・ジム（送迎）",{"$f":"IF(AA460=\"☑\",TRUE)","v":false},{"$f":"IF(AC460,AB460,\"\")","v":""},"□","出張料理",{"$f":"IF(AE460=\"☑\",TRUE)","v":false},{"$f":"IF(AG460,AF460,\"\")","v":""},"□","温泉・銭湯（たまり場）",false,"","□","多目的トイレ",false,"","□","習い事",{"$f":"IF(AQ460=\"☑\",TRUE)","v":false},{"$f":"IF(AS460,AR460,\"\")","v":""},"□","金融・保険",false,"",null,"□","北区",{"$f":"IF(AZ460=\"☑\",TRUE)","v":false},{"$f":"\"さいたま市:\"&BA460","v":"さいたま市:北区"},{"$f":"IF(BB460,BC460,\"\")","v":""},null,"□","蕨市",{"$f":"IF(BF460=\"☑\",TRUE)","v":false},{"$f":"\"南部地域:\"&BG460","v":"南部地域:蕨市"},{"$f":"IF(BH460,BI460,\"\")","v":""},null,"□","志木市",{"$f":"IF(BL460=\"☑\",TRUE)","v":false},{"$f":"\"南西部地域:\"&BM460","v":"南西部地域:志木市"},{"$f":"IF(BN460,BO460,\"\")","v":""},null,"□","草加市",{"$f":"IF(BR460=\"☑\",TRUE)","v":false},{"$f":"\"東部地域:\"&BS460","v":"東部地域:草加市"},"",null,"□","上尾市",{"$f":"IF(BX460=\"☑\",TRUE)","v":false},{"$f":"\"県央地域:\"&BY460","v":"県央地域:上尾市"},{"$f":"IF(BZ460,CA460,\"\")","v":""},null,"□","東松山市",{"$f":"IF(CD460=\"☑\",TRUE)","v":false},{"$f":"\"川越比企地域:\"&CE460","v":"川越比企地域:東松山市"},{"$f":"IF(CF460,CG460,\"\")","v":""},null,"□","飯能市",{"$f":"IF(CJ460=\"☑\",TRUE)","v":false},{"$f":"\"西部地域:\"&CK460","v":"西部地域:飯能市"},{"$f":"IF(CL460,CM460,\"\")","v":""},null,"□","加須市",{"$f":"IF(CP460=\"☑\",TRUE)","v":false},{"$f":"\"利根地域:\"&CQ460","v":"利根地域:加須市"},{"$f":"IF(CR460,CS460,\"\")","v":""},null,"□","本庄市",{"$f":"IF(CV460=\"☑\",TRUE)","v":false},{"$f":"\"北部地域:\"&CW460","v":"北部地域:本庄市"},{"$f":"IF(CX460,CY460,\"\")","v":""},null,"□","横瀬町",{"$f":"IF(DB460=\"☑\",TRUE)","v":false},{"$f":"\"秩父地域:\"&DC460","v":"秩父地域:横瀬町"},{"$f":"IF(DD460,DE460,\"\")","v":""},null,null,null,null,null,null,null,null,null,null,null,{"$f":"IF(DQ460,#REF!,\"\")","v":""}]
[null,null,null,null,null,null,null,null,null,null,null,null,null,null,null,null,null,null,"□","買物代行",false,"","□","食材宅配",false,"","□","温泉・銭湯（送迎）",false,"","□","屋外作業・力仕事",false,"","□","カフェ・ファーストフード",false,"","□","休憩スペース",false,"","□","映画館",false,"","□","住宅・リフォーム",false,"",null,"□","大宮区",false,"さいたま市:大宮区","",null,"□","戸田市",{"$f":"IF(BF461=\"☑\",TRUE)","v":false},{"$f":"\"南部地域:\"&BG461","v":"南部地域:戸田市"},"",null,"□","和光市",false,"南西部地域:和光市","",null,"□","越谷市",false,"東部地域:越谷市","",null,"□","桶川市",{"$f":"IF(BX461=\"☑\",TRUE)","v":false},{"$f":"\"県央地域:\"&BY461","v":"県央地域:桶川市"},"",null,"□","坂戸市",false,"川越比企地域:坂戸市","",null,"□","狭山市",{"$f":"IF(CJ461=\"☑\",TRUE)","v":false},{"$f":"\"西部地域:\"&CK461","v":"西部地域:狭山市"},"",null,"□","羽生市",false,"利根地域:羽生市","",null,"□","深谷市",false,"北部地域:深谷市","",null,"□","皆野町",{"$f":"IF(DB461=\"☑\",TRUE)","v":false},{"$f":"\"秩父地域:\"&DC461","v":"秩父地域:皆野町"},"",null,null,null,null,null,null,null,null,null,null,{"$f":"IF(#REF!=\"☑\",TRUE)","v":{"$error":"#REF!"}},{"$f":"IF(DQ461,#REF!,\"\")","v":{"$error":"#REF!"}}]
[null,null,null,null,null,null,null,null,null,null,null,null,null,null,null,null,null,null,"□","移動販売",false,"","□","日用品配達",false,"","□","整体・マッサージ（送迎）",false,"","□","整体・マッサージ（出張）",false,"","□","飲食店",false,"","□","駐車場",false,"","□","カラオケ店",false,"","□","パソコン・スマートフォン",false,"",null,"□","見沼区",false,"さいたま市:見沼区","",null,null,null,null,null,"",null,"□","新座市",false,"南西部地域:新座市","",null,"□","八潮市",false,"東部地域:八潮市","",null,"□","北本市",{"$f":"IF(BX462=\"☑\",TRUE)","v":false},{"$f":"\"県央地域:\"&BY462","v":"県央地域:北本市"},"",null,"□","鶴ヶ島市",false,"川越比企地域:鶴ヶ島市","",null,"□","入間市",{"$f":"IF(CJ462=\"☑\",TRUE)","v":false},{"$f":"\"西部地域:\"&CK462","v":"西部地域:入間市"},"",null,"□","久喜市",false,"利根地域:久喜市","",null,"□","美里町",false,"北部地域:美里町","",null,"□","長瀞町",{"$f":"IF(DB462=\"☑\",TRUE)","v":false},{"$f":"\"秩父地域:\"&DC462","v":"秩父地域:長瀞町"},""]
[null,null,null,null,null,null,null,null,null,null,null,null,null,null,null,null,null,null,"□","割引サービス",false,"","□","薬・介護用品配達",false,"","□","乗り合いサービス",false,"","□","理容・美容（出張）",false,"","□","イートインスペース",false,"","□","貸しスペース",false,"","□","麻雀・将棋・囲碁",false,"","□","認知症サポート企業",false,"",null,"□","中央区",false,"さいたま市:中央区","",null,null,null,null,null,"",null,"□","富士見市",false,"南西部地域:富士見市","",null,"□","三郷市",false,"東部地域:三郷市","",null,"□","伊奈町",{"$f":"IF(BX463=\"☑\",TRUE)","v":false},{"$f":"\"県央地域:\"&BY463","v":"県央地域:伊奈町"},"",null,"□","毛呂山町",false,"川越比企地域:毛呂山町","",null,"□","日高市",{"$f":"IF(CJ463=\"☑\",TRUE)","v":false},{"$f":"\"西部地域:\"&CK463","v":"西部地域:日高市"},"",null,"□","蓮田市",false,"利根地域:蓮田市","",null,"□","神川町",false,"北部地域:神川町","",null,"□","小鹿野町",{"$f":"IF(DB463=\"☑\",TRUE)","v":false},{"$f":"\"秩父地域:\"&DC463","v":"秩父地域:小鹿野町"},"",null,null,null,null,null,null,null,null,null,null,{"$f":"IF(#REF!=\"☑\",TRUE)","v":{"$error":"#REF!"}},{"$f":"IF(DQ463,#REF!,\"\")","v":{"$error":"#REF!"}}]
[null,null,null,null,null,null,null,null,null,null,null,null,null,null,null,null,null,null,"□","その他（買物）",false,"","□","クリーニング",false,{"$f":"IF(Y464,X464,\"\")","v":""},"□","個別移送サービス",false,"","□","ペット",false,"","□","その他（運動・たまり場）",false,"","□","その他（設備・施設・場所貸し）",false,"","□","ゲームセンター",false,"","□","理容・美容",false,"",null,"□","桜区",false,"さいたま市:桜区","",null,null,null,null,null,"",null,"□","ふじみ野市",false,"南西部地域:ふじみ野市","",null,"□","吉川市",false,"東部地域:吉川市","",null,null,null,null,null,"",null,"□","越生町",false,"川越比企地域:越生町","",null,null,null,null,null,"",null,"□","幸手市",false,"利根地域:幸手市","",null,"□","上里町",false,"北部地域:上里町","",null,null,null,null,null,"",null,null,null,null,null,null,null,null,null,null,{"$f":"IF(#REF!=\"☑\",TRUE)","v":{"$error":"#REF!"}},{"$f":"IF(DQ464,#REF!,\"\")","v":{"$error":"#REF!"}}]
[null,null,null,null,null,null,null,null,null,null,null,null,null,null,null,null,null,null,null,null,null,null,"□","その他（宅配・デリバリー）",false,{"$f":"IF(Y465,X465,\"\")","v":""},"□","交通機関サービス",false,"","□","その他（出張サービス）",false,"",null,null,null,null,null,null,null,null,"□","旅行・レジャー",false,"","□","成年後見・相続",false,"",null,"□","浦和区",false,"さいたま市:浦和区","",null,null,null,null,null,"",null,"□","三芳町",false,"南西部地域:三芳町","",null,"□","松伏町",false,"東部地域:松伏町","",null,null,null,null,null,"",null,"□","滑川町",false,"川越比企地域:滑川町","",null,null,null,null,null,"",null,"□","白岡市",false,"利根地域:白岡市","",null,"□","寄居町",false,"北部地域:寄居町","",null,null,null,null,null,""]
[null,null,null,null,null,null,null,null,null,null,null,null,null,null,null,null,null,null,null,null,null,null,null,null,null,null,"□","その他（送迎・移動支援）",false,"",null,null,null,"",null,null,null,{"$f":"IF(AK466,AJ466,\"\")","v":""},null,null,null,{"$f":"IF(AO466,AN466,\"\")","v":""},"□","パソコン・スマホ教室",false,"","□","その他（生活サービス）",false,"",null,"□","南区",false,"さいたま市:南区","",null,null,null,null,null,"",null,null,null,null,null,"",null,null,null,null,null,"",null,null,null,null,null,"",null,"□","嵐山町",false,"川越比企地域:嵐山町","",null,null,null,null,null,"",null,"□","宮代町",false,"利根地域:宮代町","",null,null,null,null,null,"",null,null,null,null,null,""]
[null,null,null,null,null,null,null,null,null,null,null,null,null,null,null,null,null,null,null,null,null,null,null,null,null,null,null,null,null,null,null,null,null,null,null,null,null,null,null,null,null,null,"□","その他（学び・趣味）",false,"",null,null,null,null,null,"□","緑区",false,"さいたま市:緑区","",null,null,null,null,null,"",null,null,null,null,null,"",null,null,null,null,null,"",null,null,null,null,null,"",null,"□","小川町",false,"川越比企地域:小川町","",null,null,null,null,null,"",null,"□","杉戸町",false,"利根地域:杉戸町","",null,null,null,null,null,"",null,null,null,null,null,""]
[null,null,null,null,null,null,null,null,null,null,null,null,null,null,null,null,null,null,null,null,null,null,null,null,null,null,null,null,null,null,null,null,null,null,null,null,null,null,null,null,null,null,null,null,null,null,null,null,null,null,null,"□","岩槻区",{"$f":"IF(AZ468=\"☑\",TRUE)","v":false},"さいたま市:岩槻区","",null,null,null,null,null,"",null,null,null,null,null,"",null,null,null,null,null,"",null,null,null,null,null,"",null,"□","川島町",false,"川越比企地域:川島町","",null,null,null,null,null,"",null,null,null,null,null,"",null,null,null,null,null,"",null,null,null,null,null,""]
[null,null,null,null,null,null,null,null,null,null,null,null,null,null,null,null,null,null,null,null,null,null,null,null,null,null,null,null,null,null,null,null,null,null,null,null,null,null,null,null,null,null,null,null,null,null,null,null,null,null,null,null,null,null,null,null,null,null,null,null,null,null,null,null,null,null,null,null,null,null,null,null,null,null,null,null,null,null,null,null,null,"□","吉見町",false,"川越比企地域:吉見町","",null,null,null,null,null,"",null,null,null,null,null,"",null,null,null,null,null,"",null,null,null,null,null,""]
[null,null,null,null,null,null,null,null,null,null,null,null,null,null,null,null,null,null,null,null,null,null,null,null,null,null,null,null,null,null,null,null,null,null,null,null,null,null,null,null,null,null,null,null,null,null,null,null,null,null,null,null,null,null,null,null,null,null,null,null,null,null,null,null,null,null,null,null,null,null,null,null,null,null,null,null,null,null,null,null,null,"□","鳩山町",false,"川越比企地域:鳩山町","",null,null,null,null,null,"",null,null,null,null,null,"",null,null,null,null,null,"",null,null,null,null,null,""]
[null,null,null,null,null,null,null,null,null,null,null,null,null,null,null,null,null,null,null,null,null,null,null,null,null,null,null,null,null,null,null,null,null,null,null,null,null,null,null,null,null,null,null,null,null,null,null,null,null,null,null,null,null,null,null,null,null,null,null,null,null,null,null,null,null,null,null,null,null,null,null,null,null,null,null,null,null,null,null,null,null,"□","ときがわ町",false,"川越比企地域:ときがわ町","",null,null,null,null,null,"",null,null,null,null,null,"",null,null,null,null,null,"",null,null,null,null,null,""]
[null,null,null,null,null,null,null,null,null,null,null,null,null,null,null,null,null,null,null,null,null,null,null,null,null,null,null,null,null,null,null,null,null,null,null,null,null,null,null,null,null,null,null,null,null,null,null,null,null,null,null,null,null,null,null,null,null,null,null,null,null,null,null,null,null,null,null,null,null,null,null,null,null,null,null,null,null,null,null,null,null,"□","東秩父村",false,"川越比企地域:東秩父村","",null,null,null,null,null,"",null,null,null,null,null,"",null,null,null,null,null,"",null,null,null,null,null,""]
[33,null,null,null,null,null,null,null,null,null,null,null,null,null,null,null,null,null,"□","配送",{"$f":"IF(S473=\"☑\",TRUE)","v":false},{"$f":"IF(U473,T473,\"\")","v":""},"□","弁当配達",{"$f":"IF(W473=\"☑\",TRUE)","v":false},{"$f":"IF(Y473,X473,\"\")","v":""},"□","理容・美容（送迎）",{"$f":"IF(AA473=\"☑\",TRUE)","v":false},{"$f":"IF(AC473,AB473,\"\")","v":""},"□","家事代行・掃除・片付け",{"$f":"IF(AE473=\"☑\",TRUE)","v":false},{"$f":"IF(AG473,AF473,\"\")","v":""},"□","フィットネス・ジム（運動）",{"$f":"IF(AI473=\"☑\",TRUE)","v":false},{"$f":"IF(AK473,AJ473,\"\")","v":""},"□","車イス対応（バリアフリー）",{"$f":"IF(AM473=\"☑\",TRUE)","v":false},{"$f":"IF(AO473,AN473,\"\")","v":""},"□","講座・教室・イベント",{"$f":"IF(AQ473=\"☑\",TRUE)","v":false},{"$f":"IF(AS473,AR473,\"\")","v":""},"□","防犯・見守り",{"$f":"IF(AU473=\"☑\",TRUE)","v":false},{"$f":"IF(AW473,AV473,\"\")","v":""},{"$f":"_xludf.TEXTJOIN(\",\",TRUE,V473:V486,Z473:Z486,AD473:AD486,AH473:AH486,AL473:AL486,AP473:AP486,AT473:AT486,AX473:AX486)","v":""},"□","西区",{"$f":"IF(AZ473=\"☑\",TRUE)","v":false},{"$f":"\"さいたま市:\"&BA473","v":"さいたま市:西区"},{"$f":"IF(BB473,BC473,\"\")","v":""},{"$f":"_xludf.TEXTJOIN(\",\",TRUE,BD473:BD486)","v":""},"□","川口市",{"$f":"IF(BF473=\"☑\",TRUE)","v":false},{"$f":"\"南部地域:\"&BG473","v":"南部地域:川口市"},{"$f":"IF(BH473,BI473,\"\")","v":""},{"$f":"_xludf.TEXTJOIN(\",\",TRUE,BJ473:BJ486)","v":""},"□","朝霞市",{"$f":"IF(BL473=\"☑\",TRUE)","v":false},{"$f":"\"南西部地域:\"&BM473","v":"南西部地域:朝霞市"},{"$f":"IF(BN473,BO473,\"\")","v":""},{"$f":"_xludf.TEXTJOIN(\",\",TRUE,BP473:BP486)","v":""},"□","春日部市",{"$f":"IF(BR473=\"☑\",TRUE)","v":false},{"$f":"\"東部地域:\"&BS473","v":"東部地域:春日部市"},{"$f":"IF(BT473,BU473,\"\")","v":""},{"$f":"_xludf.TEXTJOIN(\",\",TRUE,BV473:BV486)","v":""},"□","鴻巣市",{"$f":"IF(BX473=\"☑\",TRUE)","v":false},{"$f":"\"県央地域:\"&BY473","v":"県央地域:鴻巣市"},{"$f":"IF(BZ473,CA473,\"\")","v":""},{"$f":"_xludf.TEXTJOIN(\",\",TRUE,CB473:CB486)","v":""},"□","川越市",{"$f":"IF(CD473=\"☑\",TRUE)","v":false},{"$f":"\"川越比企地域:\"&CE473","v":"川越比企地域:川越市"},{"$f":"IF(CF473,CG473,\"\")","v":""},{"$f":"_xludf.TEXTJOIN(\",\",TRUE,CH473:CH486)","v":""},"□","所沢市",{"$f":"IF(CJ473=\"☑\",TRUE)","v":false},{"$f":"\"西部地域:\"&CK473","v":"西部地域:所沢市"},{"$f":"IF(CL473,CM473,\"\")","v":""},{"$f":"_xludf.TEXTJOIN(\",\",TRUE,CN473:CN486)","v":""},"□","行田市",{"$f":"IF(CP473=\"☑\",TRUE)","v":false},{"$f":"\"利根地域:\"&CQ473","v":"利根地域:行田市"},{"$f":"IF(CR473,CS473,\"\")","v":""},{"$f":"_xludf.TEXTJOIN(\",\",TRUE,CT473:CT486)","v":""},"□","熊谷市",{"$f":"IF(CV473=\"☑\",TRUE)","v":false},{"$f":"\"北部地域:\"&CW473","v":"北部地域:熊谷市"},{"$f":"IF(CX473,CY473,\"\")","v":""},{"$f":"_xludf.TEXTJOIN(\",\",TRUE,CZ473:CZ486)","v":""},"□","秩父市",{"$f":"IF(DB473=\"☑\",TRUE)","v":false},{"$f":"\"秩父地域:\"&DC473","v":"秩父地域:秩父市"},{"$f":"IF(DD473,DE473,\"\")","v":""},{"$f":"_xludf.TEXTJOIN(\",\",TRUE,DF473:DF486)","v":""},{"$f":"_xlfn.TEXTJOIN(\",\",TRUE,BE473,BK473,BQ473,BW473,CC473,CI473,CO473,CU473,DA473,DG473)","v":""},null,null,null,null,null,null,null,null,{"$f":"IF(#REF!=\"☑\",TRUE)","v":{"$error":"#REF!"}},{"$f":"IF(DQ473,#REF!,\"\")","v":{"$error":"#REF!"}},{"$f":"_xludf.TEXTJOIN(\",\",TRUE,DR473:DR486)","v":{"$error":"#VALUE!"}}]
[null,null,null,null,null,null,null,null,null,null,null,null,null,null,null,null,null,null,"□","買物サポート",false,"","□","料理デリバリー（出前）",false,"","□","フィットネス・ジム（送迎）",{"$f":"IF(AA474=\"☑\",TRUE)","v":false},{"$f":"IF(AC474,AB474,\"\")","v":""},"□","出張料理",{"$f":"IF(AE474=\"☑\",TRUE)","v":false},{"$f":"IF(AG474,AF474,\"\")","v":""},"□","温泉・銭湯（たまり場）",false,"","□","多目的トイレ",false,"","□","習い事",{"$f":"IF(AQ474=\"☑\",TRUE)","v":false},{"$f":"IF(AS474,AR474,\"\")","v":""},"□","金融・保険",false,"",null,"□","北区",{"$f":"IF(AZ474=\"☑\",TRUE)","v":false},{"$f":"\"さいたま市:\"&BA474","v":"さいたま市:北区"},{"$f":"IF(BB474,BC474,\"\")","v":""},null,"□","蕨市",{"$f":"IF(BF474=\"☑\",TRUE)","v":false},{"$f":"\"南部地域:\"&BG474","v":"南部地域:蕨市"},{"$f":"IF(BH474,BI474,\"\")","v":""},null,"□","志木市",{"$f":"IF(BL474=\"☑\",TRUE)","v":false},{"$f":"\"南西部地域:\"&BM474","v":"南西部地域:志木市"},{"$f":"IF(BN474,BO474,\"\")","v":""},null,"□","草加市",{"$f":"IF(BR474=\"☑\",TRUE)","v":false},{"$f":"\"東部地域:\"&BS474","v":"東部地域:草加市"},"",null,"□","上尾市",{"$f":"IF(BX474=\"☑\",TRUE)","v":false},{"$f":"\"県央地域:\"&BY474","v":"県央地域:上尾市"},{"$f":"IF(BZ474,CA474,\"\")","v":""},null,"□","東松山市",{"$f":"IF(CD474=\"☑\",TRUE)","v":false},{"$f":"\"川越比企地域:\"&CE474","v":"川越比企地域:東松山市"},{"$f":"IF(CF474,CG474,\"\")","v":""},null,"□","飯能市",{"$f":"IF(CJ474=\"☑\",TRUE)","v":false},{"$f":"\"西部地域:\"&CK474","v":"西部地域:飯能市"},{"$f":"IF(CL474,CM474,\"\")","v":""},null,"□","加須市",{"$f":"IF(CP474=\"☑\",TRUE)","v":false},{"$f":"\"利根地域:\"&CQ474","v":"利根地域:加須市"},{"$f":"IF(CR474,CS474,\"\")","v":""},null,"□","本庄市",{"$f":"IF(CV474=\"☑\",TRUE)","v":false},{"$f":"\"北部地域:\"&CW474","v":"北部地域:本庄市"},{"$f":"IF(CX474,CY474,\"\")","v":""},null,"□","横瀬町",{"$f":"IF(DB474=\"☑\",TRUE)","v":false},{"$f":"\"秩父地域:\"&DC474","v":"秩父地域:横瀬町"},{"$f":"IF(DD474,DE474,\"\")","v":""},null,null,null,null,null,null,null,null,null,null,null,{"$f":"IF(DQ474,#REF!,\"\")","v":""}]
[null,null,null,null,null,null,null,null,null,null,null,null,null,null,null,null,null,null,"□","買物代行",false,"","□","食材宅配",false,"","□","温泉・銭湯（送迎）",false,"","□","屋外作業・力仕事",false,"","□","カフェ・ファーストフード",false,"","□","休憩スペース",false,"","□","映画館",false,"","□","住宅・リフォーム",false,"",null,"□","大宮区",false,"さいたま市:大宮区","",null,"□","戸田市",{"$f":"IF(BF475=\"☑\",TRUE)","v":false},{"$f":"\"南部地域:\"&BG475","v":"南部地域:戸田市"},"",null,"□","和光市",false,"南西部地域:和光市","",null,"□","越谷市",false,"東部地域:越谷市","",null,"□","桶川市",{"$f":"IF(BX475=\"☑\",TRUE)","v":false},{"$f":"\"県央地域:\"&BY475","v":"県央地域:桶川市"},"",null,"□","坂戸市",false,"川越比企地域:坂戸市","",null,"□","狭山市",{"$f":"IF(CJ475=\"☑\",TRUE)","v":false},{"$f":"\"西部地域:\"&CK475","v":"西部地域:狭山市"},"",null,"□","羽生市",false,"利根地域:羽生市","",null,"□","深谷市",false,"北部地域:深谷市","",null,"□","皆野町",{"$f":"IF(DB475=\"☑\",TRUE)","v":false},{"$f":"\"秩父地域:\"&DC475","v":"秩父地域:皆野町"},"",null,null,null,null,null,null,null,null,null,null,{"$f":"IF(#REF!=\"☑\",TRUE)","v":{"$error":"#REF!"}},{"$f":"IF(DQ475,#REF!,\"\")","v":{"$error":"#REF!"}}]
[null,null,null,null,null,null,null,null,null,null,null,null,null,null,null,null,null,null,"□","移動販売",false,"","□","日用品配達",false,"","□","整体・マッサージ（送迎）",false,"","□","整体・マッサージ（出張）",false,"","□","飲食店",false,"","□","駐車場",false,"","□","カラオケ店",false,"","□","パソコン・スマートフォン",false,"",null,"□","見沼区",false,"さいたま市:見沼区","",null,null,null,null,null,"",null,"□","新座市",false,"南西部地域:新座市","",null,"□","八潮市",false,"東部地域:八潮市","",null,"□","北本市",{"$f":"IF(BX476=\"☑\",TRUE)","v":false},{"$f":"\"県央地域:\"&BY476","v":"県央地域:北本市"},"",null,"□","鶴ヶ島市",false,"川越比企地域:鶴ヶ島市","",null,"□","入間市",{"$f":"IF(CJ476=\"☑\",TRUE)","v":false},{"$f":"\"西部地域:\"&CK476","v":"西部地域:入間市"},"",null,"□","久喜市",false,"利根地域:久喜市","",null,"□","美里町",false,"北部地域:美里町","",null,"□","長瀞町",{"$f":"IF(DB476=\"☑\",TRUE)","v":false},{"$f":"\"秩父地域:\"&DC476","v":"秩父地域:長瀞町"},""]
[null,null,null,null,null,null,null,null,null,null,null,null,null,null,null,null,null,null,"□","割引サービス",false,"","□","薬・介護用品配達",false,"","□","乗り合いサービス",false,"","□","理容・美容（出張）",false,"","□","イートインスペース",false,"","□","貸しスペース",false,"","□","麻雀・将棋・囲碁",false,"","□","認知症サポート企業",false,"",null,"□","中央区",false,"さいたま市:中央区","",null,null,null,null,null,"",null,"□","富士見市",false,"南西部地域:富士見市","",null,"□","三郷市",false,"東部地域:三郷市","",null,"□","伊奈町",{"$f":"IF(BX477=\"☑\",TRUE)","v":false},{"$f":"\"県央地域:\"&BY477","v":"県央地域:伊奈町"},"",null,"□","毛呂山町",false,"川越比企地域:毛呂山町","",null,"□","日高市",{"$f":"IF(CJ477=\"☑\",TRUE)","v":false},{"$f":"\"西部地域:\"&CK477","v":"西部地域:日高市"},"",null,"□","蓮田市",false,"利根地域:蓮田市","",null,"□","神川町",false,"北部地域:神川町","",null,"□","小鹿野町",{"$f":"IF(DB477=\"☑\",TRUE)","v":false},{"$f":"\"秩父地域:\"&DC477","v":"秩父地域:小鹿野町"},"",null,null,null,null,null,null,null,null,null,null,{"$f":"IF(#REF!=\"☑\",TRUE)","v":{"$error":"#REF!"}},{"$f":"IF(DQ477,#REF!,\"\")","v":{"$error":"#REF!"}}]
[null,null,null,null,null,null,null,null,null,null,null,null,null,null,null,null,null,null,"□","その他（買物）",false,"","□","クリーニング",false,{"$f":"IF(Y478,X478,\"\")","v":""},"□","個別移送サービス",false,"","□","ペット",false,"","□","その他（運動・たまり場）",false,"","□","その他（設備・施設・場所貸し）",false,"","□","ゲームセンター",false,"","□","理容・美容",false,"",null,"□","桜区",false,"さいたま市:桜区","",null,null,null,null,null,"",null,"□","ふじみ野市",false,"南西部地域:ふじみ野市","",null,"□","吉川市",false,"東部地域:吉川市","",null,null,null,null,null,"",null,"□","越生町",false,"川越比企地域:越生町","",null,null,null,null,null,"",null,"□","幸手市",false,"利根地域:幸手市","",null,"□","上里町",false,"北部地域:上里町","",null,null,null,null,null,"",null,null,null,null,null,null,null,null,null,null,{"$f":"IF(#REF!=\"☑\",TRUE)","v":{"$error":"#REF!"}},{"$f":"IF(DQ478,#REF!,\"\")","v":{"$error":"#REF!"}}]
[null,null,null,null,null,null,null,null,null,null,null,null,null,null,null,null,null,null,null,null,null,null,"□","その他（宅配・デリバリー）",false,{"$f":"IF(Y479,X479,\"\")","v":""},"□","交通機関サービス",false,"","□","その他（出張サービス）",false,"",null,null,null,null,null,null,null,null,"□","旅行・レジャー",false,"","□","成年後見・相続",false,"",null,"□","浦和区",false,"さいたま市:浦和区","",null,null,null,null,null,"",null,"□","三芳町",false,"南西部地域:三芳町","",null,"□","松伏町",false,"東部地域:松伏町","",null,null,null,null,null,"",null,"□","滑川町",false,"川越比企地域:滑川町","",null,null,null,null,null,"",null,"□","白岡市",false,"利根地域:白岡市","",null,"□","寄居町",false,"北部地域:寄居町","",null,null,null,null,null,""]
[null,null,null,null,null,null,null,null,null,null,null,null,null,null,null,null,null,null,null,null,null,null,null,null,null,null,"□","その他（送迎・移動支援）",false,"",null,null,null,"",null,null,null,{"$f":"IF(AK480,AJ480,\"\")","v":""},null,null,null,{"$f":"IF(AO480,AN480,\"\")","v":""},"□","パソコン・スマホ教室",false,"","□","その他（生活サービス）",false,"",null,"□","南区",false,"さいたま市:南区","",null,null,null,null,null,"",null,null,null,null,null,"",null,null,null,null,null,"",null,null,null,null,null,"",null,"□","嵐山町",false,"川越比企地域:嵐山町","",null,null,null,null,null,"",null,"□","宮代町",false,"利根地域:宮代町","",null,null,null,null,null,"",null,null,null,null,null,""]
[null,null,null,null,null,null,null,null,null,null,null,null,null,null,null,null,null,null,null,null,null,null,null,null,null,null,null,null,null,null,null,null,null,null,null,null,null,null,null,null,null,null,"□","その他（学び・趣味）",false,"",null,null,null,null,null,"□","緑区",false,"さいたま市:緑区","",null,null,null,null,null,"",null,null,null,null,null,"",null,null,null,null,null,"",null,null,null,null,null,"",null,"□","小川町",false,"川越比企地域:小川町","",null,null,null,null,null,"",null,"□","杉戸町",false,"利根地域:杉戸町","",null,null,null,null,null,"",null,null,null,null,null,""]
[null,null,null,null,null,null,null,null,null,null,null,null,null,null,null,null,null,null,null,null,null,null,null,null,null,null,null,null,null,null,null,null,null,null,null,null,null,null,null,null,null,null,null,null,null,null,null,null,null,null,null,"□","岩槻区",{"$f":"IF(AZ482=\"☑\",TRUE)","v":false},"さいたま市:岩槻区","",null,null,null,null,null,"",null,null,null,null,null,"",null,null,null,null,null,"",null,null,null,null,null,"",null,"□","川島町",false,"川越比企地域:川島町","",null,null,null,null,null,"",null,null,null,null,null,"",null,null,null,null,null,"",null,null,null,null,null,""]
[null,null,null,null,null,null,null,null,null,null,null,null,null,null,null,null,null,null,null,null,null,null,null,null,null,null,null,null,null,null,null,null,null,null,null,null,null,null,null,null,null,null,null,null,null,null,null,null,null,null,null,null,null,null,null,null,null,null,null,null,null,null,null,null,null,null,null,null,null,null,null,null,null,null,null,null,null,null,null,null,null,"□","吉見町",false,"川越比企地域:吉見町","",null,null,null,null,null,"",null,null,null,null,null,"",null,null,null,null,null,"",null,null,null,null,null,""]
[null,null,null,null,null,null,null,null,null,null,null,null,null,null,null,null,null,null,null,null,null,null,null,null,null,null,null,null,null,null,null,null,null,null,null,null,null,null,null,null,null,null,null,null,null,null,null,null,null,null,null,null,null,null,null,null,null,null,null,null,null,null,null,null,null,null,null,null,null,null,null,null,null,null,null,null,null,null,null,null,null,"□","鳩山町",false,"川越比企地域:鳩山町","",null,null,null,null,null,"",null,null,null,null,null,"",null,null,null,null,null,"",null,null,null,null,null,""]
[null,null,null,null,null,null,null,null,null,null,null,null,null,null,null,null,null,null,null,null,null,null,null,null,null,null,null,null,null,null,null,null,null,null,null,null,null,null,null,null,null,null,null,null,null,null,null,null,null,null,null,null,null,null,null,null,null,null,null,null,null,null,null,null,null,null,null,null,null,null,null,null,null,null,null,null,null,null,null,null,null,"□","ときがわ町",false,"川越比企地域:ときがわ町","",null,null,null,null,null,"",null,null,null,null,null,"",null,null,null,null,null,"",null,null,null,null,null,""]
[null,null,null,null,null,null,null,null,null,null,null,null,null,null,null,null,null,null,null,null,null,null,null,null,null,null,null,null,null,null,null,null,null,null,null,null,null,null,null,null,null,null,null,null,null,null,null,null,null,null,null,null,null,null,null,null,null,null,null,null,null,null,null,null,null,null,null,null,null,null,null,null,null,null,null,null,null,null,null,null,null,"□","東秩父村",false,"川越比企地域:東秩父村","",null,null,null,null,null,"",null,null,null,null,null,"",null,null,null,null,null,"",null,null,null,null,null,""]
[34,null,null,null,null,null,null,null,null,null,null,null,null,null,null,null,null,null,"□","配送",{"$f":"IF(S487=\"☑\",TRUE)","v":false},{"$f":"IF(U487,T487,\"\")","v":""},"□","弁当配達",{"$f":"IF(W487=\"☑\",TRUE)","v":false},{"$f":"IF(Y487,X487,\"\")","v":""},"□","理容・美容（送迎）",{"$f":"IF(AA487=\"☑\",TRUE)","v":false},{"$f":"IF(AC487,AB487,\"\")","v":""},"□","家事代行・掃除・片付け",{"$f":"IF(AE487=\"☑\",TRUE)","v":false},{"$f":"IF(AG487,AF487,\"\")","v":""},"□","フィットネス・ジム（運動）",{"$f":"IF(AI487=\"☑\",TRUE)","v":false},{"$f":"IF(AK487,AJ487,\"\")","v":""},"□","車イス対応（バリアフリー）",{"$f":"IF(AM487=\"☑\",TRUE)","v":false},{"$f":"IF(AO487,AN487,\"\")","v":""},"□","講座・教室・イベント",{"$f":"IF(AQ487=\"☑\",TRUE)","v":false},{"$f":"IF(AS487,AR487,\"\")","v":""},"□","防犯・見守り",{"$f":"IF(AU487=\"☑\",TRUE)","v":false},{"$f":"IF(AW487,AV487,\"\")","v":""},{"$f":"_xludf.TEXTJOIN(\",\",TRUE,V487:V500,Z487:Z500,AD487:AD500,AH487:AH500,AL487:AL500,AP487:AP500,AT487:AT500,AX487:AX500)","v":""},"□","西区",{"$f":"IF(AZ487=\"☑\",TRUE)","v":false},{"$f":"\"さいたま市:\"&BA487","v":"さいたま市:西区"},{"$f":"IF(BB487,BC487,\"\")","v":""},{"$f":"_xludf.TEXTJOIN(\",\",TRUE,BD487:BD500)","v":""},"□","川口市",{"$f":"IF(BF487=\"☑\",TRUE)","v":false},{"$f":"\"南部地域:\"&BG487","v":"南部地域:川口市"},{"$f":"IF(BH487,BI487,\"\")","v":""},{"$f":"_xludf.TEXTJOIN(\",\",TRUE,BJ487:BJ500)","v":""},"□","朝霞市",{"$f":"IF(BL487=\"☑\",TRUE)","v":false},{"$f":"\"南西部地域:\"&BM487","v":"南西部地域:朝霞市"},{"$f":"IF(BN487,BO487,\"\")","v":""},{"$f":"_xludf.TEXTJOIN(\",\",TRUE,BP487:BP500)","v":""},"□","春日部市",{"$f":"IF(BR487=\"☑\",TRUE)","v":false},{"$f":"\"東部地域:\"&BS487","v":"東部地域:春日部市"},{"$f":"IF(BT487,BU487,\"\")","v":""},{"$f":"_xludf.TEXTJOIN(\",\",TRUE,BV487:BV500)","v":""},"□","鴻巣市",{"$f":"IF(BX487=\"☑\",TRUE)","v":false},{"$f":"\"県央地域:\"&BY487","v":"県央地域:鴻巣市"},{"$f":"IF(BZ487,CA487,\"\")","v":""},{"$f":"_xludf.TEXTJOIN(\",\",TRUE,CB487:CB500)","v":""},"□","川越市",{"$f":"IF(CD487=\"☑\",TRUE)","v":false},{"$f":"\"川越比企地域:\"&CE487","v":"川越比企地域:川越市"},{"$f":"IF(CF487,CG487,\"\")","v":""},{"$f":"_xludf.TEXTJOIN(\",\",TRUE,CH487:CH500)","v":""},"□","所沢市",{"$f":"IF(CJ487=\"☑\",TRUE)","v":false},{"$f":"\"西部地域:\"&CK487","v":"西部地域:所沢市"},{"$f":"IF(CL487,CM487,\"\")","v":""},{"$f":"_xludf.TEXTJOIN(\",\",TRUE,CN487:CN500)","v":""},"□","行田市",{"$f":"IF(CP487=\"☑\",TRUE)","v":false},{"$f":"\"利根地域:\"&CQ487","v":"利根地域:行田市"},{"$f":"IF(CR487,CS487,\"\")","v":""},{"$f":"_xludf.TEXTJOIN(\",\",TRUE,CT487:CT500)","v":""},"□","熊谷市",{"$f":"IF(CV487=\"☑\",TRUE)","v":false},{"$f":"\"北部地域:\"&CW487","v":"北部地域:熊谷市"},{"$f":"IF(CX487,CY487,\"\")","v":""},{"$f":"_xludf.TEXTJOIN(\",\",TRUE,CZ487:CZ500)","v":""},"□","秩父市",{"$f":"IF(DB487=\"☑\",TRUE)","v":false},{"$f":"\"秩父地域:\"&DC487","v":"秩父地域:秩父市"},{"$f":"IF(DD487,DE487,\"\")","v":""},{"$f":"_xludf.TEXTJOIN(\",\",TRUE,DF487:DF500)","v":""},{"$f":"_xlfn.TEXTJOIN(\",\",TRUE,BE487,BK487,BQ487,BW487,CC487,CI487,CO487,CU487,DA487,DG487)","v":""},null,null,null,null,null,null,null,null,{"$f":"IF(#REF!=\"☑\",TRUE)","v":{"$error":"#REF!"}},{"$f":"IF(DQ487,#REF!,\"\")","v":{"$error":"#REF!"}},{"$f":"_xludf.TEXTJOIN(\",\",TRUE,DR487:DR500)","v":{"$error":"#VALUE!"}}]
[null,null,null,null,null,null,null,null,null,null,null,null,null,null,null,null,null,null,"□","買物サポート",false,"","□","料理デリバリー（出前）",false,"","□","フィットネス・ジム（送迎）",{"$f":"IF(AA488=\"☑\",TRUE)","v":false},{"$f":"IF(AC488,AB488,\"\")","v":""},"□","出張料理",{"$f":"IF(AE488=\"☑\",TRUE)","v":false},{"$f":"IF(AG488,AF488,\"\")","v":""},"□","温泉・銭湯（たまり場）",false,"","□","多目的トイレ",false,"","□","習い事",{"$f":"IF(AQ488=\"☑\",TRUE)","v":false},{"$f":"IF(AS488,AR488,\"\")","v":""},"□","金融・保険",false,"",null,"□","北区",{"$f":"IF(AZ488=\"☑\",TRUE)","v":false},{"$f":"\"さいたま市:\"&BA488","v":"さいたま市:北区"},{"$f":"IF(BB488,BC488,\"\")","v":""},null,"□","蕨市",{"$f":"IF(BF488=\"☑\",TRUE)","v":false},{"$f":"\"南部地域:\"&BG488","v":"南部地域:蕨市"},{"$f":"IF(BH488,BI488,\"\")","v":""},null,"□","志木市",{"$f":"IF(BL488=\"☑\",TRUE)","v":false},{"$f":"\"南西部地域:\"&BM488","v":"南西部地域:志木市"},{"$f":"IF(BN488,BO488,\"\")","v":""},null,"□","草加市",{"$f":"IF(BR488=\"☑\",TRUE)","v":false},{"$f":"\"東部地域:\"&BS488","v":"東部地域:草加市"},"",null,"□","上尾市",{"$f":"IF(BX488=\"☑\",TRUE)","v":false},{"$f":"\"県央地域:\"&BY488","v":"県央地域:上尾市"},{"$f":"IF(BZ488,CA488,\"\")","v":""},null,"□","東松山市",{"$f":"IF(CD488=\"☑\",TRUE)","v":false},{"$f":"\"川越比企地域:\"&CE488","v":"川越比企地域:東松山市"},{"$f":"IF(CF488,CG488,\"\")","v":""},null,"□","飯能市",{"$f":"IF(CJ488=\"☑\",TRUE)","v":false},{"$f":"\"西部地域:\"&CK488","v":"西部地域:飯能市"},{"$f":"IF(CL488,CM488,\"\")","v":""},null,"□","加須市",{"$f":"IF(CP488=\"☑\",TRUE)","v":false},{"$f":"\"利根地域:\"&CQ488","v":"利根地域:加須市"},{"$f":"IF(CR488,CS488,\"\")","v":""},null,"□","本庄市",{"$f":"IF(CV488=\"☑\",TRUE)","v":false},{"$f":"\"北部地域:\"&CW488","v":"北部地域:本庄市"},{"$f":"IF(CX488,CY488,\"\")","v":""},null,"□","横瀬町",{"$f":"IF(DB488=\"☑\",TRUE)","v":false},{"$f":"\"秩父地域:\"&DC488","v":"秩父地域:横瀬町"},{"$f":"IF(DD488,DE488,\"\")","v":""},null,null,null,null,null,null,null,null,null,null,null,{"$f":"IF(DQ488,#REF!,\"\")","v":""}]
[null,null,null,null,null,null,null,null,null,null,null,null,null,null,null,null,null,null,"□","買物代行",false,"","□","食材宅配",false,"","□","温泉・銭湯（送迎）",false,"","□","屋外作業・力仕事",false,"","□","カフェ・ファーストフード",false,"","□","休憩スペース",false,"","□","映画館",false,"","□","住宅・リフォーム",false,"",null,"□","大宮区",false,"さいたま市:大宮区","",null,"□","戸田市",{"$f":"IF(BF489=\"☑\",TRUE)","v":false},{"$f":"\"南部地域:\"&BG489","v":"南部地域:戸田市"},"",null,"□","和光市",false,"南西部地域:和光市","",null,"□","越谷市",false,"東部地域:越谷市","",null,"□","桶川市",{"$f":"IF(BX489=\"☑\",TRUE)","v":false},{"$f":"\"県央地域:\"&BY489","v":"県央地域:桶川市"},"",null,"□","坂戸市",false,"川越比企地域:坂戸市","",null,"□","狭山市",{"$f":"IF(CJ489=\"☑\",TRUE)","v":false},{"$f":"\"西部地域:\"&CK489","v":"西部地域:狭山市"},"",null,"□","羽生市",false,"利根地域:羽生市","",null,"□","深谷市",false,"北部地域:深谷市","",null,"□","皆野町",{"$f":"IF(DB489=\"☑\",TRUE)","v":false},{"$f":"\"秩父地域:\"&DC489","v":"秩父地域:皆野町"},"",null,null,null,null,null,null,null,null,null,null,{"$f":"IF(#REF!=\"☑\",TRUE)","v":{"$error":"#REF!"}},{"$f":"IF(DQ489,#REF!,\"\")","v":{"$error":"#REF!"}}]
[null,null,null,null,null,null,null,null,null,null,null,null,null,null,null,null,null,null,"□","移動販売",false,"","□","日用品配達",false,"","□","整体・マッサージ（送迎）",false,"","□","整体・マッサージ（出張）",false,"","□","飲食店",false,"","□","駐車場",false,"","□","カラオケ店",false,"","□","パソコン・スマートフォン",false,"",null,"□","見沼区",false,"さいたま市:見沼区","",null,null,null,null,null,"",null,"□","新座市",false,"南西部地域:新座市","",null,"□","八潮市",false,"東部地域:八潮市","",null,"□","北本市",{"$f":"IF(BX490=\"☑\",TRUE)","v":false},{"$f":"\"県央地域:\"&BY490","v":"県央地域:北本市"},"",null,"□","鶴ヶ島市",false,"川越比企地域:鶴ヶ島市","",null,"□","入間市",{"$f":"IF(CJ490=\"☑\",TRUE)","v":false},{"$f":"\"西部地域:\"&CK490","v":"西部地域:入間市"},"",null,"□","久喜市",false,"利根地域:久喜市","",null,"□","美里町",false,"北部地域:美里町","",null,"□","長瀞町",{"$f":"IF(DB490=\"☑\",TRUE)","v":false},{"$f":"\"秩父地域:\"&DC490","v":"秩父地域:長瀞町"},""]
[null,null,null,null,null,null,null,null,null,null,null,null,null,null,null,null,null,null,"□","割引サービス",false,"","□","薬・介護用品配達",false,"","□","乗り合いサービス",false,"","□","理容・美容（出張）",false,"","□","イートインスペース",false,"","□","貸しスペース",false,"","□","麻雀・将棋・囲碁",false,"","□","認知症サポート企業",false,"",null,"□","中央区",false,"さいたま市:中央区","",null,null,null,null,null,"",null,"□","富士見市",false,"南西部地域:富士見市","",null,"□","三郷市",false,"東部地域:三郷市","",null,"□","伊奈町",{"$f":"IF(BX491=\"☑\",TRUE)","v":false},{"$f":"\"県央地域:\"&BY491","v":"県央地域:伊奈町"},"",null,"□","毛呂山町",false,"川越比企地域:毛呂山町","",null,"□","日高市",{"$f":"IF(CJ491=\"☑\",TRUE)","v":false},{"$f":"\"西部地域:\"&CK491","v":"西部地域:日高市"},"",null,"□","蓮田市",false,"利根地域:蓮田市","",null,"□","神川町",false,"北部地域:神川町","",null,"□","小鹿野町",{"$f":"IF(DB491=\"☑\",TRUE)","v":false},{"$f":"\"秩父地域:\"&DC491","v":"秩父地域:小鹿野町"},"",null,null,null,null,null,null,null,null,null,null,{"$f":"IF(#REF!=\"☑\",TRUE)","v":{"$error":"#REF!"}},{"$f":"IF(DQ491,#REF!,\"\")","v":{"$error":"#REF!"}}]
[null,null,null,null,null,null,null,null,null,null,null,null,null,null,null,null,null,null,"□","その他（買物）",false,"","□","クリーニング",false,{"$f":"IF(Y492,X492,\"\")","v":""},"□","個別移送サービス",false,"","□","ペット",false,"","□","その他（運動・たまり場）",false,"","□","その他（設備・施設・場所貸し）",false,"","□","ゲームセンター",false,"","□","理容・美容",false,"",null,"□","桜区",false,"さいたま市:桜区","",null,null,null,null,null,"",null,"□","ふじみ野市",false,"南西部地域:ふじみ野市","",null,"□","吉川市",false,"東部地域:吉川市","",null,null,null,null,null,"",null,"□","越生町",false,"川越比企地域:越生町","",null,null,null,null,null,"",null,"□","幸手市",false,"利根地域:幸手市","",null,"□","上里町",false,"北部地域:上里町","",null,null,null,null,null,"",null,null,null,null,null,null,null,null,null,null,{"$f":"IF(#REF!=\"☑\",TRUE)","v":{"$error":"#REF!"}},{"$f":"IF(DQ492,#REF!,\"\")","v":{"$error":"#REF!"}}]
[null,null,null,null,null,null,null,null,null,null,null,null,null,null,null,null,null,null,null,null,null,null,"□","その他（宅配・デリバリー）",false,{"$f":"IF(Y493,X493,\"\")","v":""},"□","交通機関サービス",false,"","□","その他（出張サービス）",false,"",null,null,null,null,null,null,null,null,"□","旅行・レジャー",false,"","□","成年後見・相続",false,"",null,"□","浦和区",false,"さいたま市:浦和区","",null,null,null,null,null,"",null,"□","三芳町",false,"南西部地域:三芳町","",null,"□","松伏町",false,"東部地域:松伏町","",null,null,null,null,null,"",null,"□","滑川町",false,"川越比企地域:滑川町","",null,null,null,null,null,"",null,"□","白岡市",false,"利根地域:白岡市","",null,"□","寄居町",false,"北部地域:寄居町","",null,null,null,null,null,""]
[null,null,null,null,null,null,null,null,null,null,null,null,null,null,null,null,null,null,null,null,null,null,null,null,null,null,"□","その他（送迎・移動支援）",false,"",null,null,null,"",null,null,null,{"$f":"IF(AK494,AJ494,\"\")","v":""},null,null,null,{"$f":"IF(AO494,AN494,\"\")","v":""},"□","パソコン・スマホ教室",false,"","□","その他（生活サービス）",false,"",null,"□","南区",false,"さいたま市:南区","",null,null,null,null,null,"",null,null,null,null,null,"",null,null,null,null,null,"",null,null,null,null,null,"",null,"□","嵐山町",false,"川越比企地域:嵐山町","",null,null,null,null,null,"",null,"□","宮代町",false,"利根地域:宮代町","",null,null,null,null,null,"",null,null,null,null,null,""]
[null,null,null,null,null,null,null,null,null,null,null,null,null,null,null,null,null,null,null,null,null,null,null,null,null,null,null,null,null,null,null,null,null,null,null,null,null,null,null,null,null,null,"□","その他（学び・趣味）",false,"",null,null,null,null,null,"□","緑区",false,"さいたま市:緑区","",null,null,null,null,null,"",null,null,null,null,null,"",null,null,null,null,null,"",null,null,null,null,null,"",null,"□","小川町",false,"川越比企地域:小川町","",null,null,null,null,null,"",null,"□","杉戸町",false,"利根地域:杉戸町","",null,null,null,null,null,"",null,null,null,null,null,""]
[null,null,null,null,null,null,null,null,null,null,null,null,null,null,null,null,null,null,null,null,null,null,null,null,null,null,null,null,null,null,null,null,null,null,null,null,null,null,null,null,null,null,null,null,null,null,null,null,null,null,null,"□","岩槻区",{"$f":"IF(AZ496=\"☑\",TRUE)","v":false},"さいたま市:岩槻区","",null,null,null,null,null,"",null,null,null,null,null,"",null,null,null,null,null,"",null,null,null,null,null,"",null,"□","川島町",false,"川越比企地域:川島町","",null,null,null,null,null,"",null,null,null,null,null,"",null,null,null,null,null,"",null,null,null,null,null,""]
[null,null,null,null,null,null,null,null,null,null,null,null,null,null,null,null,null,null,null,null,null,null,null,null,null,null,null,null,null,null,null,null,null,null,null,null,null,null,null,null,null,null,null,null,null,null,null,null,null,null,null,null,null,null,null,null,null,null,null,null,null,null,null,null,null,null,null,null,null,null,null,null,null,null,null,null,null,null,null,null,null,"□","吉見町",false,"川越比企地域:吉見町","",null,null,null,null,null,"",null,null,null,null,null,"",null,null,null,null,null,"",null,null,null,null,null,""]
[null,null,null,null,null,null,null,null,null,null,null,null,null,null,null,null,null,null,null,null,null,null,null,null,null,null,null,null,null,null,null,null,null,null,null,null,null,null,null,null,null,null,null,null,null,null,null,null,null,null,null,null,null,null,null,null,null,null,null,null,null,null,null,null,null,null,null,null,null,null,null,null,null,null,null,null,null,null,null,null,null,"□","鳩山町",false,"川越比企地域:鳩山町","",null,null,null,null,null,"",null,null,null,null,null,"",null,null,null,null,null,"",null,null,null,null,null,""]
[null,null,null,null,null,null,null,null,null,null,null,null,null,null,null,null,null,null,null,null,null,null,null,null,null,null,null,null,null,null,null,null,null,null,null,null,null,null,null,null,null,null,null,null,null,null,null,null,null,null,null,null,null,null,null,null,null,null,null,null,null,null,null,null,null,null,null,null,null,null,null,null,null,null,null,null,null,null,null,null,null,"□","ときがわ町",false,"川越比企地域:ときがわ町","",null,null,null,null,null,"",null,null,null,null,null,"",null,null,null,null,null,"",null,null,null,null,null,""]
[null,null,null,null,null,null,null,null,null,null,null,null,null,null,null,null,null,null,null,null,null,null,null,null,null,null,null,null,null,null,null,null,null,null,null,null,null,null,null,null,null,null,null,null,null,null,null,null,null,null,null,null,null,null,null,null,null,null,null,null,null,null,null,null,null,null,null,null,null,null,null,null,null,null,null,null,null,null,null,null,null,"□","東秩父村",false,"川越比企地域:東秩父村","",null,null,null,null,null,"",null,null,null,null,null,"",null,null,null,null,null,"",null,null,null,null,null,""]
[35,null,null,null,null,null,null,null,null,null,null,null,null,null,null,null,null,null,"□","配送",{"$f":"IF(S501=\"☑\",TRUE)","v":false},{"$f":"IF(U501,T501,\"\")","v":""},"□","弁当配達",{"$f":"IF(W501=\"☑\",TRUE)","v":false},{"$f":"IF(Y501,X501,\"\")","v":""},"□","理容・美容（送迎）",{"$f":"IF(AA501=\"☑\",TRUE)","v":false},{"$f":"IF(AC501,AB501,\"\")","v":""},"□","家事代行・掃除・片付け",{"$f":"IF(AE501=\"☑\",TRUE)","v":false},{"$f":"IF(AG501,AF501,\"\")","v":""},"□","フィットネス・ジム（運動）",{"$f":"IF(AI501=\"☑\",TRUE)","v":false},{"$f":"IF(AK501,AJ501,\"\")","v":""},"□","車イス対応（バリアフリー）",{"$f":"IF(AM501=\"☑\",TRUE)","v":false},{"$f":"IF(AO501,AN501,\"\")","v":""},"□","講座・教室・イベント",{"$f":"IF(AQ501=\"☑\",TRUE)","v":false},{"$f":"IF(AS501,AR501,\"\")","v":""},"□","防犯・見守り",{"$f":"IF(AU501=\"☑\",TRUE)","v":false},{"$f":"IF(AW501,AV501,\"\")","v":""},{"$f":"_xludf.TEXTJOIN(\",\",TRUE,V501:V514,Z501:Z514,AD501:AD514,AH501:AH514,AL501:AL514,AP501:AP514,AT501:AT514,AX501:AX514)","v":""},"□","西区",{"$f":"IF(AZ501=\"☑\",TRUE)","v":false},{"$f":"\"さいたま市:\"&BA501","v":"さいたま市:西区"},{"$f":"IF(BB501,BC501,\"\")","v":""},{"$f":"_xludf.TEXTJOIN(\",\",TRUE,BD501:BD514)","v":""},"□","川口市",{"$f":"IF(BF501=\"☑\",TRUE)","v":false},{"$f":"\"南部地域:\"&BG501","v":"南部地域:川口市"},{"$f":"IF(BH501,BI501,\"\")","v":""},{"$f":"_xludf.TEXTJOIN(\",\",TRUE,BJ501:BJ514)","v":""},"□","朝霞市",{"$f":"IF(BL501=\"☑\",TRUE)","v":false},{"$f":"\"南西部地域:\"&BM501","v":"南西部地域:朝霞市"},{"$f":"IF(BN501,BO501,\"\")","v":""},{"$f":"_xludf.TEXTJOIN(\",\",TRUE,BP501:BP514)","v":""},"□","春日部市",{"$f":"IF(BR501=\"☑\",TRUE)","v":false},{"$f":"\"東部地域:\"&BS501","v":"東部地域:春日部市"},{"$f":"IF(BT501,BU501,\"\")","v":""},{"$f":"_xludf.TEXTJOIN(\",\",TRUE,BV501:BV514)","v":""},"□","鴻巣市",{"$f":"IF(BX501=\"☑\",TRUE)","v":false},{"$f":"\"県央地域:\"&BY501","v":"県央地域:鴻巣市"},{"$f":"IF(BZ501,CA501,\"\")","v":""},{"$f":"_xludf.TEXTJOIN(\",\",TRUE,CB501:CB514)","v":""},"□","川越市",{"$f":"IF(CD501=\"☑\",TRUE)","v":false},{"$f":"\"川越比企地域:\"&CE501","v":"川越比企地域:川越市"},{"$f":"IF(CF501,CG501,\"\")","v":""},{"$f":"_xludf.TEXTJOIN(\",\",TRUE,CH501:CH514)","v":""},"□","所沢市",{"$f":"IF(CJ501=\"☑\",TRUE)","v":false},{"$f":"\"西部地域:\"&CK501","v":"西部地域:所沢市"},{"$f":"IF(CL501,CM501,\"\")","v":""},{"$f":"_xludf.TEXTJOIN(\",\",TRUE,CN501:CN514)","v":""},"□","行田市",{"$f":"IF(CP501=\"☑\",TRUE)","v":false},{"$f":"\"利根地域:\"&CQ501","v":"利根地域:行田市"},{"$f":"IF(CR501,CS501,\"\")","v":""},{"$f":"_xludf.TEXTJOIN(\",\",TRUE,CT501:CT514)","v":""},"□","熊谷市",{"$f":"IF(CV501=\"☑\",TRUE)","v":false},{"$f":"\"北部地域:\"&CW501","v":"北部地域:熊谷市"},{"$f":"IF(CX501,CY501,\"\")","v":""},{"$f":"_xludf.TEXTJOIN(\",\",TRUE,CZ501:CZ514)","v":""},"□","秩父市",{"$f":"IF(DB501=\"☑\",TRUE)","v":false},{"$f":"\"秩父地域:\"&DC501","v":"秩父地域:秩父市"},{"$f":"IF(DD501,DE501,\"\")","v":""},{"$f":"_xludf.TEXTJOIN(\",\",TRUE,DF501:DF514)","v":""},{"$f":"_xlfn.TEXTJOIN(\",\",TRUE,BE501,BK501,BQ501,BW501,CC501,CI501,CO501,CU501,DA501,DG501)","v":""},null,null,null,null,null,null,null,null,{"$f":"IF(#REF!=\"☑\",TRUE)","v":{"$error":"#REF!"}},{"$f":"IF(DQ501,#REF!,\"\")","v":{"$error":"#REF!"}},{"$f":"_xludf.TEXTJOIN(\",\",TRUE,DR501:DR514)","v":{"$error":"#VALUE!"}}]
[null,null,null,null,null,null,null,null,null,null,null,null,null,null,null,null,null,null,"□","買物サポート",false,"","□","料理デリバリー（出前）",false,"","□","フィットネス・ジム（送迎）",{"$f":"IF(AA502=\"☑\",TRUE)","v":false},{"$f":"IF(AC502,AB502,\"\")","v":""},"□","出張料理",{"$f":"IF(AE502=\"☑\",TRUE)","v":false},{"$f":"IF(AG502,AF502,\"\")","v":""},"□","温泉・銭湯（たまり場）",false,"","□","多目的トイレ",false,"","□","習い事",{"$f":"IF(AQ502=\"☑\",TRUE)","v":false},{"$f":"IF(AS502,AR502,\"\")","v":""},"□","金融・保険",false,"",null,"□","北区",{"$f":"IF(AZ502=\"☑\",TRUE)","v":false},{"$f":"\"さいたま市:\"&BA502","v":"さいたま市:北区"},{"$f":"IF(BB502,BC502,\"\")","v":""},null,"□","蕨市",{"$f":"IF(BF502=\"☑\",TRUE)","v":false},{"$f":"\"南部地域:\"&BG502","v":"南部地域:蕨市"},{"$f":"IF(BH502,BI502,\"\")","v":""},null,"□","志木市",{"$f":"IF(BL502=\"☑\",TRUE)","v":false},{"$f":"\"南西部地域:\"&BM502","v":"南西部地域:志木市"},{"$f":"IF(BN502,BO502,\"\")","v":""},null,"□","草加市",{"$f":"IF(BR502=\"☑\",TRUE)","v":false},{"$f":"\"東部地域:\"&BS502","v":"東部地域:草加市"},"",null,"□","上尾市",{"$f":"IF(BX502=\"☑\",TRUE)","v":false},{"$f":"\"県央地域:\"&BY502","v":"県央地域:上尾市"},{"$f":"IF(BZ502,CA502,\"\")","v":""},null,"□","東松山市",{"$f":"IF(CD502=\"☑\",TRUE)","v":false},{"$f":"\"川越比企地域:\"&CE502","v":"川越比企地域:東松山市"},{"$f":"IF(CF502,CG502,\"\")","v":""},null,"□","飯能市",{"$f":"IF(CJ502=\"☑\",TRUE)","v":false},{"$f":"\"西部地域:\"&CK502","v":"西部地域:飯能市"},{"$f":"IF(CL502,CM502,\"\")","v":""},null,"□","加須市",{"$f":"IF(CP502=\"☑\",TRUE)","v":false},{"$f":"\"利根地域:\"&CQ502","v":"利根地域:加須市"},{"$f":"IF(CR502,CS502,\"\")","v":""},null,"□","本庄市",{"$f":"IF(CV502=\"☑\",TRUE)","v":false},{"$f":"\"北部地域:\"&CW502","v":"北部地域:本庄市"},{"$f":"IF(CX502,CY502,\"\")","v":""},null,"□","横瀬町",{"$f":"IF(DB502=\"☑\",TRUE)","v":false},{"$f":"\"秩父地域:\"&DC502","v":"秩父地域:横瀬町"},{"$f":"IF(DD502,DE502,\"\")","v":""},null,null,null,null,null,null,null,null,null,null,null,{"$f":"IF(DQ502,#REF!,\"\")","v":""}]
[null,null,null,null,null,null,null,null,null,null,null,null,null,null,null,null,null,null,"□","買物代行",false,"","□","食材宅配",false,"","□","温泉・銭湯（送迎）",false,"","□","屋外作業・力仕事",false,"","□","カフェ・ファーストフード",false,"","□","休憩スペース",false,"","□","映画館",false,"","□","住宅・リフォーム",false,"",null,"□","大宮区",false,"さいたま市:大宮区","",null,"□","戸田市",{"$f":"IF(BF503=\"☑\",TRUE)","v":false},{"$f":"\"南部地域:\"&BG503","v":"南部地域:戸田市"},"",null,"□","和光市",false,"南西部地域:和光市","",null,"□","越谷市",false,"東部地域:越谷市","",null,"□","桶川市",{"$f":"IF(BX503=\"☑\",TRUE)","v":false},{"$f":"\"県央地域:\"&BY503","v":"県央地域:桶川市"},"",null,"□","坂戸市",false,"川越比企地域:坂戸市","",null,"□","狭山市",{"$f":"IF(CJ503=\"☑\",TRUE)","v":false},{"$f":"\"西部地域:\"&CK503","v":"西部地域:狭山市"},"",null,"□","羽生市",false,"利根地域:羽生市","",null,"□","深谷市",false,"北部地域:深谷市","",null,"□","皆野町",{"$f":"IF(DB503=\"☑\",TRUE)","v":false},{"$f":"\"秩父地域:\"&DC503","v":"秩父地域:皆野町"},"",null,null,null,null,null,null,null,null,null,null,{"$f":"IF(#REF!=\"☑\",TRUE)","v":{"$error":"#REF!"}},{"$f":"IF(DQ503,#REF!,\"\")","v":{"$error":"#REF!"}}]
[null,null,null,null,null,null,null,null,null,null,null,null,null,null,null,null,null,null,"□","移動販売",false,"","□","日用品配達",false,"","□","整体・マッサージ（送迎）",false,"","□","整体・マッサージ（出張）",false,"","□","飲食店",false,"","□","駐車場",false,"","□","カラオケ店",false,"","□","パソコン・スマートフォン",false,"",null,"□","見沼区",false,"さいたま市:見沼区","",null,null,null,null,null,"",null,"□","新座市",false,"南西部地域:新座市","",null,"□","八潮市",false,"東部地域:八潮市","",null,"□","北本市",{"$f":"IF(BX504=\"☑\",TRUE)","v":false},{"$f":"\"県央地域:\"&BY504","v":"県央地域:北本市"},"",null,"□","鶴ヶ島市",false,"川越比企地域:鶴ヶ島市","",null,"□","入間市",{"$f":"IF(CJ504=\"☑\",TRUE)","v":false},{"$f":"\"西部地域:\"&CK504","v":"西部地域:入間市"},"",null,"□","久喜市",false,"利根地域:久喜市","",null,"□","美里町",false,"北部地域:美里町","",null,"□","長瀞町",{"$f":"IF(DB504=\"☑\",TRUE)","v":false},{"$f":"\"秩父地域:\"&DC504","v":"秩父地域:長瀞町"},""]
[null,null,null,null,null,null,null,null,null,null,null,null,null,null,null,null,null,null,"□","割引サービス",false,"","□","薬・介護用品配達",false,"","□","乗り合いサービス",false,"","□","理容・美容（出張）",false,"","□","イートインスペース",false,"","□","貸しスペース",false,"","□","麻雀・将棋・囲碁",false,"","□","認知症サポート企業",false,"",null,"□","中央区",false,"さいたま市:中央区","",null,null,null,null,null,"",null,"□","富士見市",false,"南西部地域:富士見市","",null,"□","三郷市",false,"東部地域:三郷市","",null,"□","伊奈町",{"$f":"IF(BX505=\"☑\",TRUE)","v":false},{"$f":"\"県央地域:\"&BY505","v":"県央地域:伊奈町"},"",null,"□","毛呂山町",false,"川越比企地域:毛呂山町","",null,"□","日高市",{"$f":"IF(CJ505=\"☑\",TRUE)","v":false},{"$f":"\"西部地域:\"&CK505","v":"西部地域:日高市"},"",null,"□","蓮田市",false,"利根地域:蓮田市","",null,"□","神川町",false,"北部地域:神川町","",null,"□","小鹿野町",{"$f":"IF(DB505=\"☑\",TRUE)","v":false},{"$f":"\"秩父地域:\"&DC505","v":"秩父地域:小鹿野町"},"",null,null,null,null,null,null,null,null,null,null,{"$f":"IF(#REF!=\"☑\",TRUE)","v":{"$error":"#REF!"}},{"$f":"IF(DQ505,#REF!,\"\")","v":{"$error":"#REF!"}}]
[null,null,null,null,null,null,null,null,null,null,null,null,null,null,null,null,null,null,"□","その他（買物）",false,"","□","クリーニング",false,{"$f":"IF(Y506,X506,\"\")","v":""},"□","個別移送サービス",false,"","□","ペット",false,"","□","その他（運動・たまり場）",false,"","□","その他（設備・施設・場所貸し）",false,"","□","ゲームセンター",false,"","□","理容・美容",false,"",null,"□","桜区",false,"さいたま市:桜区","",null,null,null,null,null,"",null,"□","ふじみ野市",false,"南西部地域:ふじみ野市","",null,"□","吉川市",false,"東部地域:吉川市","",null,null,null,null,null,"",null,"□","越生町",false,"川越比企地域:越生町","",null,null,null,null,null,"",null,"□","幸手市",false,"利根地域:幸手市","",null,"□","上里町",false,"北部地域:上里町","",null,null,null,null,null,"",null,null,null,null,null,null,null,null,null,null,{"$f":"IF(#REF!=\"☑\",TRUE)","v":{"$error":"#REF!"}},{"$f":"IF(DQ506,#REF!,\"\")","v":{"$error":"#REF!"}}]
[null,null,null,null,null,null,null,null,null,null,null,null,null,null,null,null,null,null,null,null,null,null,"□","その他（宅配・デリバリー）",false,{"$f":"IF(Y507,X507,\"\")","v":""},"□","交通機関サービス",false,"","□","その他（出張サービス）",false,"",null,null,null,null,null,null,null,null,"□","旅行・レジャー",false,"","□","成年後見・相続",false,"",null,"□","浦和区",false,"さいたま市:浦和区","",null,null,null,null,null,"",null,"□","三芳町",false,"南西部地域:三芳町","",null,"□","松伏町",false,"東部地域:松伏町","",null,null,null,null,null,"",null,"□","滑川町",false,"川越比企地域:滑川町","",null,null,null,null,null,"",null,"□","白岡市",false,"利根地域:白岡市","",null,"□","寄居町",false,"北部地域:寄居町","",null,null,null,null,null,""]
[null,null,null,null,null,null,null,null,null,null,null,null,null,null,null,null,null,null,null,null,null,null,null,null,null,null,"□","その他（送迎・移動支援）",false,"",null,null,null,"",null,null,null,{"$f":"IF(AK508,AJ508,\"\")","v":""},null,null,null,{"$f":"IF(AO508,AN508,\"\")","v":""},"□","パソコン・スマホ教室",false,"","□","その他（生活サービス）",false,"",null,"□","南区",false,"さいたま市:南区","",null,null,null,null,null,"",null,null,null,null,null,"",null,null,null,null,null,"",null,null,null,null,null,"",null,"□","嵐山町",false,"川越比企地域:嵐山町","",null,null,null,null,null,"",null,"□","宮代町",false,"利根地域:宮代町","",null,null,null,null,null,"",null,null,null,null,null,""]
[null,null,null,null,null,null,null,null,null,null,null,null,null,null,null,null,null,null,null,null,null,null,null,null,null,null,null,null,null,null,null,null,null,null,null,null,null,null,null,null,null,null,"□","その他（学び・趣味）",false,"",null,null,null,null,null,"□","緑区",false,"さいたま市:緑区","",null,null,null,null,null,"",null,null,null,null,null,"",null,null,null,null,null,"",null,null,null,null,null,"",null,"□","小川町",false,"川越比企地域:小川町","",null,null,null,null,null,"",null,"□","杉戸町",false,"利根地域:杉戸町","",null,null,null,null,null,"",null,null,null,null,null,""]
[null,null,null,null,null,null,null,null,null,null,null,null,null,null,null,null,null,null,null,null,null,null,null,null,null,null,null,null,null,null,null,null,null,null,null,null,null,null,null,null,null,null,null,null,null,null,null,null,null,null,null,"□","岩槻区",{"$f":"IF(AZ510=\"☑\",TRUE)","v":false},"さいたま市:岩槻区","",null,null,null,null,null,"",null,null,null,null,null,"",null,null,null,null,null,"",null,null,null,null,null,"",null,"□","川島町",false,"川越比企地域:川島町","",null,null,null,null,null,"",null,null,null,null,null,"",null,null,null,null,null,"",null,null,null,null,null,""]
[null,null,null,null,null,null,null,null,null,null,null,null,null,null,null,null,null,null,null,null,null,null,null,null,null,null,null,null,null,null,null,null,null,null,null,null,null,null,null,null,null,null,null,null,null,null,null,null,null,null,null,null,null,null,null,null,null,null,null,null,null,null,null,null,null,null,null,null,null,null,null,null,null,null,null,null,null,null,null,null,null,"□","吉見町",false,"川越比企地域:吉見町","",null,null,null,null,null,"",null,null,null,null,null,"",null,null,null,null,null,"",null,null,null,null,null,""]
[null,null,null,null,null,null,null,null,null,null,null,null,null,null,null,null,null,null,null,null,null,null,null,null,null,null,null,null,null,null,null,null,null,null,null,null,null,null,null,null,null,null,null,null,null,null,null,null,null,null,null,null,null,null,null,null,null,null,null,null,null,null,null,null,null,null,null,null,null,null,null,null,null,null,null,null,null,null,null,null,null,"□","鳩山町",false,"川越比企地域:鳩山町","",null,null,null,null,null,"",null,null,null,null,null,"",null,null,null,null,null,"",null,null,null,null,null,""]
[null,null,null,null,null,null,null,null,null,null,null,null,null,null,null,null,null,null,null,null,null,null,null,null,null,null,null,null,null,null,null,null,null,null,null,null,null,null,null,null,null,null,null,null,null,null,null,null,null,null,null,null,null,null,null,null,null,null,null,null,null,null,null,null,null,null,null,null,null,null,null,null,null,null,null,null,null,null,null,null,null,"□","ときがわ町",false,"川越比企地域:ときがわ町","",null,null,null,null,null,"",null,null,null,null,null,"",null,null,null,null,null,"",null,null,null,null,null,""]
[null,null,null,null,null,null,null,null,null,null,null,null,null,null,null,null,null,null,null,null,null,null,null,null,null,null,null,null,null,null,null,null,null,null,null,null,null,null,null,null,null,null,null,null,null,null,null,null,null,null,null,null,null,null,null,null,null,null,null,null,null,null,null,null,null,null,null,null,null,null,null,null,null,null,null,null,null,null,null,null,null,"□","東秩父村",false,"川越比企地域:東秩父村","",null,null,null,null,null,"",null,null,null,null,null,"",null,null,null,null,null,"",null,null,null,null,null,""]
[36,null,null,null,null,null,null,null,null,null,null,null,null,null,null,null,null,null,"□","配送",{"$f":"IF(S515=\"☑\",TRUE)","v":false},{"$f":"IF(U515,T515,\"\")","v":""},"□","弁当配達",{"$f":"IF(W515=\"☑\",TRUE)","v":false},{"$f":"IF(Y515,X515,\"\")","v":""},"□","理容・美容（送迎）",{"$f":"IF(AA515=\"☑\",TRUE)","v":false},{"$f":"IF(AC515,AB515,\"\")","v":""},"□","家事代行・掃除・片付け",{"$f":"IF(AE515=\"☑\",TRUE)","v":false},{"$f":"IF(AG515,AF515,\"\")","v":""},"□","フィットネス・ジム（運動）",{"$f":"IF(AI515=\"☑\",TRUE)","v":false},{"$f":"IF(AK515,AJ515,\"\")","v":""},"□","車イス対応（バリアフリー）",{"$f":"IF(AM515=\"☑\",TRUE)","v":false},{"$f":"IF(AO515,AN515,\"\")","v":""},"□","講座・教室・イベント",{"$f":"IF(AQ515=\"☑\",TRUE)","v":false},{"$f":"IF(AS515,AR515,\"\")","v":""},"□","防犯・見守り",{"$f":"IF(AU515=\"☑\",TRUE)","v":false},{"$f":"IF(AW515,AV515,\"\")","v":""},{"$f":"_xludf.TEXTJOIN(\",\",TRUE,V515:V528,Z515:Z528,AD515:AD528,AH515:AH528,AL515:AL528,AP515:AP528,AT515:AT528,AX515:AX528)","v":""},"□","西区",{"$f":"IF(AZ515=\"☑\",TRUE)","v":false},{"$f":"\"さいたま市:\"&BA515","v":"さいたま市:西区"},{"$f":"IF(BB515,BC515,\"\")","v":""},{"$f":"_xludf.TEXTJOIN(\",\",TRUE,BD515:BD528)","v":""},"□","川口市",{"$f":"IF(BF515=\"☑\",TRUE)","v":false},{"$f":"\"南部地域:\"&BG515","v":"南部地域:川口市"},{"$f":"IF(BH515,BI515,\"\")","v":""},{"$f":"_xludf.TEXTJOIN(\",\",TRUE,BJ515:BJ528)","v":""},"□","朝霞市",{"$f":"IF(BL515=\"☑\",TRUE)","v":false},{"$f":"\"南西部地域:\"&BM515","v":"南西部地域:朝霞市"},{"$f":"IF(BN515,BO515,\"\")","v":""},{"$f":"_xludf.TEXTJOIN(\",\",TRUE,BP515:BP528)","v":""},"□","春日部市",{"$f":"IF(BR515=\"☑\",TRUE)","v":false},{"$f":"\"東部地域:\"&BS515","v":"東部地域:春日部市"},{"$f":"IF(BT515,BU515,\"\")","v":""},{"$f":"_xludf.TEXTJOIN(\",\",TRUE,BV515:BV528)","v":""},"□","鴻巣市",{"$f":"IF(BX515=\"☑\",TRUE)","v":false},{"$f":"\"県央地域:\"&BY515","v":"県央地域:鴻巣市"},{"$f":"IF(BZ515,CA515,\"\")","v":""},{"$f":"_xludf.TEXTJOIN(\",\",TRUE,CB515:CB528)","v":""},"□","川越市",{"$f":"IF(CD515=\"☑\",TRUE)","v":false},{"$f":"\"川越比企地域:\"&CE515","v":"川越比企地域:川越市"},{"$f":"IF(CF515,CG515,\"\")","v":""},{"$f":"_xludf.TEXTJOIN(\",\",TRUE,CH515:CH528)","v":""},"□","所沢市",{"$f":"IF(CJ515=\"☑\",TRUE)","v":false},{"$f":"\"西部地域:\"&CK515","v":"西部地域:所沢市"},{"$f":"IF(CL515,CM515,\"\")","v":""},{"$f":"_xludf.TEXTJOIN(\",\",TRUE,CN515:CN528)","v":""},"□","行田市",{"$f":"IF(CP515=\"☑\",TRUE)","v":false},{"$f":"\"利根地域:\"&CQ515","v":"利根地域:行田市"},{"$f":"IF(CR515,CS515,\"\")","v":""},{"$f":"_xludf.TEXTJOIN(\",\",TRUE,CT515:CT528)","v":""},"□","熊谷市",{"$f":"IF(CV515=\"☑\",TRUE)","v":false},{"$f":"\"北部地域:\"&CW515","v":"北部地域:熊谷市"},{"$f":"IF(CX515,CY515,\"\")","v":""},{"$f":"_xludf.TEXTJOIN(\",\",TRUE,CZ515:CZ528)","v":""},"□","秩父市",{"$f":"IF(DB515=\"☑\",TRUE)","v":false},{"$f":"\"秩父地域:\"&DC515","v":"秩父地域:秩父市"},{"$f":"IF(DD515,DE515,\"\")","v":""},{"$f":"_xludf.TEXTJOIN(\",\",TRUE,DF515:DF528)","v":""},{"$f":"_xlfn.TEXTJOIN(\",\",TRUE,BE515,BK515,BQ515,BW515,CC515,CI515,CO515,CU515,DA515,DG515)","v":""},null,null,null,null,null,null,null,null,{"$f":"IF(#REF!=\"☑\",TRUE)","v":{"$error":"#REF!"}},{"$f":"IF(DQ515,#REF!,\"\")","v":{"$error":"#REF!"}},{"$f":"_xludf.TEXTJOIN(\",\",TRUE,DR515:DR528)","v":{"$error":"#VALUE!"}}]
[null,null,null,null,null,null,null,null,null,null,null,null,null,null,null,null,null,null,"□","買物サポート",false,"","□","料理デリバリー（出前）",false,"","□","フィットネス・ジム（送迎）",{"$f":"IF(AA516=\"☑\",TRUE)","v":false},{"$f":"IF(AC516,AB516,\"\")","v":""},"□","出張料理",{"$f":"IF(AE516=\"☑\",TRUE)","v":false},{"$f":"IF(AG516,AF516,\"\")","v":""},"□","温泉・銭湯（たまり場）",false,"","□","多目的トイレ",false,"","□","習い事",{"$f":"IF(AQ516=\"☑\",TRUE)","v":false},{"$f":"IF(AS516,AR516,\"\")","v":""},"□","金融・保険",false,"",null,"□","北区",{"$f":"IF(AZ516=\"☑\",TRUE)","v":false},{"$f":"\"さいたま市:\"&BA516","v":"さいたま市:北区"},{"$f":"IF(BB516,BC516,\"\")","v":""},null,"□","蕨市",{"$f":"IF(BF516=\"☑\",TRUE)","v":false},{"$f":"\"南部地域:\"&BG516","v":"南部地域:蕨市"},{"$f":"IF(BH516,BI516,\"\")","v":""},null,"□","志木市",{"$f":"IF(BL516=\"☑\",TRUE)","v":false},{"$f":"\"南西部地域:\"&BM516","v":"南西部地域:志木市"},{"$f":"IF(BN516,BO516,\"\")","v":""},null,"□","草加市",{"$f":"IF(BR516=\"☑\",TRUE)","v":false},{"$f":"\"東部地域:\"&BS516","v":"東部地域:草加市"},"",null,"□","上尾市",{"$f":"IF(BX516=\"☑\",TRUE)","v":false},{"$f":"\"県央地域:\"&BY516","v":"県央地域:上尾市"},{"$f":"IF(BZ516,CA516,\"\")","v":""},null,"□","東松山市",{"$f":"IF(CD516=\"☑\",TRUE)","v":false},{"$f":"\"川越比企地域:\"&CE516","v":"川越比企地域:東松山市"},{"$f":"IF(CF516,CG516,\"\")","v":""},null,"□","飯能市",{"$f":"IF(CJ516=\"☑\",TRUE)","v":false},{"$f":"\"西部地域:\"&CK516","v":"西部地域:飯能市"},{"$f":"IF(CL516,CM516,\"\")","v":""},null,"□","加須市",{"$f":"IF(CP516=\"☑\",TRUE)","v":false},{"$f":"\"利根地域:\"&CQ516","v":"利根地域:加須市"},{"$f":"IF(CR516,CS516,\"\")","v":""},null,"□","本庄市",{"$f":"IF(CV516=\"☑\",TRUE)","v":false},{"$f":"\"北部地域:\"&CW516","v":"北部地域:本庄市"},{"$f":"IF(CX516,CY516,\"\")","v":""},null,"□","横瀬町",{"$f":"IF(DB516=\"☑\",TRUE)","v":false},{"$f":"\"秩父地域:\"&DC516","v":"秩父地域:横瀬町"},{"$f":"IF(DD516,DE516,\"\")","v":""},null,null,null,null,null,null,null,null,null,null,null,{"$f":"IF(DQ516,#REF!,\"\")","v":""}]
[null,null,null,null,null,null,null,null,null,null,null,null,null,null,null,null,null,null,"□","買物代行",false,"","□","食材宅配",false,"","□","温泉・銭湯（送迎）",false,"","□","屋外作業・力仕事",false,"","□","カフェ・ファーストフード",false,"","□","休憩スペース",false,"","□","映画館",false,"","□","住宅・リフォーム",false,"",null,"□","大宮区",false,"さいたま市:大宮区","",null,"□","戸田市",{"$f":"IF(BF517=\"☑\",TRUE)","v":false},{"$f":"\"南部地域:\"&BG517","v":"南部地域:戸田市"},"",null,"□","和光市",false,"南西部地域:和光市","",null,"□","越谷市",false,"東部地域:越谷市","",null,"□","桶川市",{"$f":"IF(BX517=\"☑\",TRUE)","v":false},{"$f":"\"県央地域:\"&BY517","v":"県央地域:桶川市"},"",null,"□","坂戸市",false,"川越比企地域:坂戸市","",null,"□","狭山市",{"$f":"IF(CJ517=\"☑\",TRUE)","v":false},{"$f":"\"西部地域:\"&CK517","v":"西部地域:狭山市"},"",null,"□","羽生市",false,"利根地域:羽生市","",null,"□","深谷市",false,"北部地域:深谷市","",null,"□","皆野町",{"$f":"IF(DB517=\"☑\",TRUE)","v":false},{"$f":"\"秩父地域:\"&DC517","v":"秩父地域:皆野町"},"",null,null,null,null,null,null,null,null,null,null,{"$f":"IF(#REF!=\"☑\",TRUE)","v":{"$error":"#REF!"}},{"$f":"IF(DQ517,#REF!,\"\")","v":{"$error":"#REF!"}}]
[null,null,null,null,null,null,null,null,null,null,null,null,null,null,null,null,null,null,"□","移動販売",false,"","□","日用品配達",false,"","□","整体・マッサージ（送迎）",false,"","□","整体・マッサージ（出張）",false,"","□","飲食店",false,"","□","駐車場",false,"","□","カラオケ店",false,"","□","パソコン・スマートフォン",false,"",null,"□","見沼区",false,"さいたま市:見沼区","",null,null,null,null,null,"",null,"□","新座市",false,"南西部地域:新座市","",null,"□","八潮市",false,"東部地域:八潮市","",null,"□","北本市",{"$f":"IF(BX518=\"☑\",TRUE)","v":false},{"$f":"\"県央地域:\"&BY518","v":"県央地域:北本市"},"",null,"□","鶴ヶ島市",false,"川越比企地域:鶴ヶ島市","",null,"□","入間市",{"$f":"IF(CJ518=\"☑\",TRUE)","v":false},{"$f":"\"西部地域:\"&CK518","v":"西部地域:入間市"},"",null,"□","久喜市",false,"利根地域:久喜市","",null,"□","美里町",false,"北部地域:美里町","",null,"□","長瀞町",{"$f":"IF(DB518=\"☑\",TRUE)","v":false},{"$f":"\"秩父地域:\"&DC518","v":"秩父地域:長瀞町"},""]
[null,null,null,null,null,null,null,null,null,null,null,null,null,null,null,null,null,null,"□","割引サービス",false,"","□","薬・介護用品配達",false,"","□","乗り合いサービス",false,"","□","理容・美容（出張）",false,"","□","イートインスペース",false,"","□","貸しスペース",false,"","□","麻雀・将棋・囲碁",false,"","□","認知症サポート企業",false,"",null,"□","中央区",false,"さいたま市:中央区","",null,null,null,null,null,"",null,"□","富士見市",false,"南西部地域:富士見市","",null,"□","三郷市",false,"東部地域:三郷市","",null,"□","伊奈町",{"$f":"IF(BX519=\"☑\",TRUE)","v":false},{"$f":"\"県央地域:\"&BY519","v":"県央地域:伊奈町"},"",null,"□","毛呂山町",false,"川越比企地域:毛呂山町","",null,"□","日高市",{"$f":"IF(CJ519=\"☑\",TRUE)","v":false},{"$f":"\"西部地域:\"&CK519","v":"西部地域:日高市"},"",null,"□","蓮田市",false,"利根地域:蓮田市","",null,"□","神川町",false,"北部地域:神川町","",null,"□","小鹿野町",{"$f":"IF(DB519=\"☑\",TRUE)","v":false},{"$f":"\"秩父地域:\"&DC519","v":"秩父地域:小鹿野町"},"",null,null,null,null,null,null,null,null,null,null,{"$f":"IF(#REF!=\"☑\",TRUE)","v":{"$error":"#REF!"}},{"$f":"IF(DQ519,#REF!,\"\")","v":{"$error":"#REF!"}}]
[null,null,null,null,null,null,null,null,null,null,null,null,null,null,null,null,null,null,"□","その他（買物）",false,"","□","クリーニング",false,{"$f":"IF(Y520,X520,\"\")","v":""},"□","個別移送サービス",false,"","□","ペット",false,"","□","その他（運動・たまり場）",false,"","□","その他（設備・施設・場所貸し）",false,"","□","ゲームセンター",false,"","□","理容・美容",false,"",null,"□","桜区",false,"さいたま市:桜区","",null,null,null,null,null,"",null,"□","ふじみ野市",false,"南西部地域:ふじみ野市","",null,"□","吉川市",false,"東部地域:吉川市","",null,null,null,null,null,"",null,"□","越生町",false,"川越比企地域:越生町","",null,null,null,null,null,"",null,"□","幸手市",false,"利根地域:幸手市","",null,"□","上里町",false,"北部地域:上里町","",null,null,null,null,null,"",null,null,null,null,null,null,null,null,null,null,{"$f":"IF(#REF!=\"☑\",TRUE)","v":{"$error":"#REF!"}},{"$f":"IF(DQ520,#REF!,\"\")","v":{"$error":"#REF!"}}]
[null,null,null,null,null,null,null,null,null,null,null,null,null,null,null,null,null,null,null,null,null,null,"□","その他（宅配・デリバリー）",false,{"$f":"IF(Y521,X521,\"\")","v":""},"□","交通機関サービス",false,"","□","その他（出張サービス）",false,"",null,null,null,null,null,null,null,null,"□","旅行・レジャー",false,"","□","成年後見・相続",false,"",null,"□","浦和区",false,"さいたま市:浦和区","",null,null,null,null,null,"",null,"□","三芳町",false,"南西部地域:三芳町","",null,"□","松伏町",false,"東部地域:松伏町","",null,null,null,null,null,"",null,"□","滑川町",false,"川越比企地域:滑川町","",null,null,null,null,null,"",null,"□","白岡市",false,"利根地域:白岡市","",null,"□","寄居町",false,"北部地域:寄居町","",null,null,null,null,null,""]
[null,null,null,null,null,null,null,null,null,null,null,null,null,null,null,null,null,null,null,null,null,null,null,null,null,null,"□","その他（送迎・移動支援）",false,"",null,null,null,"",null,null,null,{"$f":"IF(AK522,AJ522,\"\")","v":""},null,null,null,{"$f":"IF(AO522,AN522,\"\")","v":""},"□","パソコン・スマホ教室",false,"","□","その他（生活サービス）",false,"",null,"□","南区",false,"さいたま市:南区","",null,null,null,null,null,"",null,null,null,null,null,"",null,null,null,null,null,"",null,null,null,null,null,"",null,"□","嵐山町",false,"川越比企地域:嵐山町","",null,null,null,null,null,"",null,"□","宮代町",false,"利根地域:宮代町","",null,null,null,null,null,"",null,null,null,null,null,""]
[null,null,null,null,null,null,null,null,null,null,null,null,null,null,null,null,null,null,null,null,null,null,null,null,null,null,null,null,null,null,null,null,null,null,null,null,null,null,null,null,null,null,"□","その他（学び・趣味）",false,"",null,null,null,null,null,"□","緑区",false,"さいたま市:緑区","",null,null,null,null,null,"",null,null,null,null,null,"",null,null,null,null,null,"",null,null,null,null,null,"",null,"□","小川町",false,"川越比企地域:小川町","",null,null,null,null,null,"",null,"□","杉戸町",false,"利根地域:杉戸町","",null,null,null,null,null,"",null,null,null,null,null,""]
[null,null,null,null,null,null,null,null,null,null,null,null,null,null,null,null,null,null,null,null,null,null,null,null,null,null,null,null,null,null,null,null,null,null,null,null,null,null,null,null,null,null,null,null,null,null,null,null,null,null,null,"□","岩槻区",{"$f":"IF(AZ524=\"☑\",TRUE)","v":false},"さいたま市:岩槻区","",null,null,null,null,null,"",null,null,null,null,null,"",null,null,null,null,null,"",null,null,null,null,null,"",null,"□","川島町",false,"川越比企地域:川島町","",null,null,null,null,null,"",null,null,null,null,null,"",null,null,null,null,null,"",null,null,null,null,null,""]
[null,null,null,null,null,null,null,null,null,null,null,null,null,null,null,null,null,null,null,null,null,null,null,null,null,null,null,null,null,null,null,null,null,null,null,null,null,null,null,null,null,null,null,null,null,null,null,null,null,null,null,null,null,null,null,null,null,null,null,null,null,null,null,null,null,null,null,null,null,null,null,null,null,null,null,null,null,null,null,null,null,"□","吉見町",false,"川越比企地域:吉見町","",null,null,null,null,null,"",null,null,null,null,null,"",null,null,null,null,null,"",null,null,null,null,null,""]
[null,null,null,null,null,null,null,null,null,null,null,null,null,null,null,null,null,null,null,null,null,null,null,null,null,null,null,null,null,null,null,null,null,null,null,null,null,null,null,null,null,null,null,null,null,null,null,null,null,null,null,null,null,null,null,null,null,null,null,null,null,null,null,null,null,null,null,null,null,null,null,null,null,null,null,null,null,null,null,null,null,"□","鳩山町",false,"川越比企地域:鳩山町","",null,null,null,null,null,"",null,null,null,null,null,"",null,null,null,null,null,"",null,null,null,null,null,""]
[null,null,null,null,null,null,null,null,null,null,null,null,null,null,null,null,null,null,null,null,null,null,null,null,null,null,null,null,null,null,null,null,null,null,null,null,null,null,null,null,null,null,null,null,null,null,null,null,null,null,null,null,null,null,null,null,null,null,null,null,null,null,null,null,null,null,null,null,null,null,null,null,null,null,null,null,null,null,null,null,null,"□","ときがわ町",false,"川越比企地域:ときがわ町","",null,null,null,null,null,"",null,null,null,null,null,"",null,null,null,null,null,"",null,null,null,null,null,""]
[null,null,null,null,null,null,null,null,null,null,null,null,null,null,null,null,null,null,null,null,null,null,null,null,null,null,null,null,null,null,null,null,null,null,null,null,null,null,null,null,null,null,null,null,null,null,null,null,null,null,null,null,null,null,null,null,null,null,null,null,null,null,null,null,null,null,null,null,null,null,null,null,null,null,null,null,null,null,null,null,null,"□","東秩父村",false,"川越比企地域:東秩父村","",null,null,null,null,null,"",null,null,null,null,null,"",null,null,null,null,null,"",null,null,null,null,null,""]
[37,null,null,null,null,null,null,null,null,null,null,null,null,null,null,null,null,null,"□","配送",{"$f":"IF(S529=\"☑\",TRUE)","v":false},{"$f":"IF(U529,T529,\"\")","v":""},"□","弁当配達",{"$f":"IF(W529=\"☑\",TRUE)","v":false},{"$f":"IF(Y529,X529,\"\")","v":""},"□","理容・美容（送迎）",{"$f":"IF(AA529=\"☑\",TRUE)","v":false},{"$f":"IF(AC529,AB529,\"\")","v":""},"□","家事代行・掃除・片付け",{"$f":"IF(AE529=\"☑\",TRUE)","v":false},{"$f":"IF(AG529,AF529,\"\")","v":""},"□","フィットネス・ジム（運動）",{"$f":"IF(AI529=\"☑\",TRUE)","v":false},{"$f":"IF(AK529,AJ529,\"\")","v":""},"□","車イス対応（バリアフリー）",{"$f":"IF(AM529=\"☑\",TRUE)","v":false},{"$f":"IF(AO529,AN529,\"\")","v":""},"□","講座・教室・イベント",{"$f":"IF(AQ529=\"☑\",TRUE)","v":false},{"$f":"IF(AS529,AR529,\"\")","v":""},"□","防犯・見守り",{"$f":"IF(AU529=\"☑\",TRUE)","v":false},{"$f":"IF(AW529,AV529,\"\")","v":""},{"$f":"_xludf.TEXTJOIN(\",\",TRUE,V529:V542,Z529:Z542,AD529:AD542,AH529:AH542,AL529:AL542,AP529:AP542,AT529:AT542,AX529:AX542)","v":""},"□","西区",{"$f":"IF(AZ529=\"☑\",TRUE)","v":false},{"$f":"\"さいたま市:\"&BA529","v":"さいたま市:西区"},{"$f":"IF(BB529,BC529,\"\")","v":""},{"$f":"_xludf.TEXTJOIN(\",\",TRUE,BD529:BD542)","v":""},"□","川口市",{"$f":"IF(BF529=\"☑\",TRUE)","v":false},{"$f":"\"南部地域:\"&BG529","v":"南部地域:川口市"},{"$f":"IF(BH529,BI529,\"\")","v":""},{"$f":"_xludf.TEXTJOIN(\",\",TRUE,BJ529:BJ542)","v":""},"□","朝霞市",{"$f":"IF(BL529=\"☑\",TRUE)","v":false},{"$f":"\"南西部地域:\"&BM529","v":"南西部地域:朝霞市"},{"$f":"IF(BN529,BO529,\"\")","v":""},{"$f":"_xludf.TEXTJOIN(\",\",TRUE,BP529:BP542)","v":""},"□","春日部市",{"$f":"IF(BR529=\"☑\",TRUE)","v":false},{"$f":"\"東部地域:\"&BS529","v":"東部地域:春日部市"},{"$f":"IF(BT529,BU529,\"\")","v":""},{"$f":"_xludf.TEXTJOIN(\",\",TRUE,BV529:BV542)","v":""},"□","鴻巣市",{"$f":"IF(BX529=\"☑\",TRUE)","v":false},{"$f":"\"県央地域:\"&BY529","v":"県央地域:鴻巣市"},{"$f":"IF(BZ529,CA529,\"\")","v":""},{"$f":"_xludf.TEXTJOIN(\",\",TRUE,CB529:CB542)","v":""},"□","川越市",{"$f":"IF(CD529=\"☑\",TRUE)","v":false},{"$f":"\"川越比企地域:\"&CE529","v":"川越比企地域:川越市"},{"$f":"IF(CF529,CG529,\"\")","v":""},{"$f":"_xludf.TEXTJOIN(\",\",TRUE,CH529:CH542)","v":""},"□","所沢市",{"$f":"IF(CJ529=\"☑\",TRUE)","v":false},{"$f":"\"西部地域:\"&CK529","v":"西部地域:所沢市"},{"$f":"IF(CL529,CM529,\"\")","v":""},{"$f":"_xludf.TEXTJOIN(\",\",TRUE,CN529:CN542)","v":""},"□","行田市",{"$f":"IF(CP529=\"☑\",TRUE)","v":false},{"$f":"\"利根地域:\"&CQ529","v":"利根地域:行田市"},{"$f":"IF(CR529,CS529,\"\")","v":""},{"$f":"_xludf.TEXTJOIN(\",\",TRUE,CT529:CT542)","v":""},"□","熊谷市",{"$f":"IF(CV529=\"☑\",TRUE)","v":false},{"$f":"\"北部地域:\"&CW529","v":"北部地域:熊谷市"},{"$f":"IF(CX529,CY529,\"\")","v":""},{"$f":"_xludf.TEXTJOIN(\",\",TRUE,CZ529:CZ542)","v":""},"□","秩父市",{"$f":"IF(DB529=\"☑\",TRUE)","v":false},{"$f":"\"秩父地域:\"&DC529","v":"秩父地域:秩父市"},{"$f":"IF(DD529,DE529,\"\")","v":""},{"$f":"_xludf.TEXTJOIN(\",\",TRUE,DF529:DF542)","v":""},{"$f":"_xlfn.TEXTJOIN(\",\",TRUE,BE529,BK529,BQ529,BW529,CC529,CI529,CO529,CU529,DA529,DG529)","v":""},null,null,null,null,null,null,null,null,{"$f":"IF(#REF!=\"☑\",TRUE)","v":{"$error":"#REF!"}},{"$f":"IF(DQ529,#REF!,\"\")","v":{"$error":"#REF!"}},{"$f":"_xludf.TEXTJOIN(\",\",TRUE,DR529:DR542)","v":{"$error":"#VALUE!"}}]
[null,null,null,null,null,null,null,null,null,null,null,null,null,null,null,null,null,null,"□","買物サポート",false,"","□","料理デリバリー（出前）",false,"","□","フィットネス・ジム（送迎）",{"$f":"IF(AA530=\"☑\",TRUE)","v":false},{"$f":"IF(AC530,AB530,\"\")","v":""},"□","出張料理",{"$f":"IF(AE530=\"☑\",TRUE)","v":false},{"$f":"IF(AG530,AF530,\"\")","v":""},"□","温泉・銭湯（たまり場）",false,"","□","多目的トイレ",false,"","□","習い事",{"$f":"IF(AQ530=\"☑\",TRUE)","v":false},{"$f":"IF(AS530,AR530,\"\")","v":""},"□","金融・保険",false,"",null,"□","北区",{"$f":"IF(AZ530=\"☑\",TRUE)","v":false},{"$f":"\"さいたま市:\"&BA530","v":"さいたま市:北区"},{"$f":"IF(BB530,BC530,\"\")","v":""},null,"□","蕨市",{"$f":"IF(BF530=\"☑\",TRUE)","v":false},{"$f":"\"南部地域:\"&BG530","v":"南部地域:蕨市"},{"$f":"IF(BH530,BI530,\"\")","v":""},null,"□","志木市",{"$f":"IF(BL530=\"☑\",TRUE)","v":false},{"$f":"\"南西部地域:\"&BM530","v":"南西部地域:志木市"},{"$f":"IF(BN530,BO530,\"\")","v":""},null,"□","草加市",{"$f":"IF(BR530=\"☑\",TRUE)","v":false},{"$f":"\"東部地域:\"&BS530","v":"東部地域:草加市"},"",null,"□","上尾市",{"$f":"IF(BX530=\"☑\",TRUE)","v":false},{"$f":"\"県央地域:\"&BY530","v":"県央地域:上尾市"},{"$f":"IF(BZ530,CA530,\"\")","v":""},null,"□","東松山市",{"$f":"IF(CD530=\"☑\",TRUE)","v":false},{"$f":"\"川越比企地域:\"&CE530","v":"川越比企地域:東松山市"},{"$f":"IF(CF530,CG530,\"\")","v":""},null,"□","飯能市",{"$f":"IF(CJ530=\"☑\",TRUE)","v":false},{"$f":"\"西部地域:\"&CK530","v":"西部地域:飯能市"},{"$f":"IF(CL530,CM530,\"\")","v":""},null,"□","加須市",{"$f":"IF(CP530=\"☑\",TRUE)","v":false},{"$f":"\"利根地域:\"&CQ530","v":"利根地域:加須市"},{"$f":"IF(CR530,CS530,\"\")","v":""},null,"□","本庄市",{"$f":"IF(CV530=\"☑\",TRUE)","v":false},{"$f":"\"北部地域:\"&CW530","v":"北部地域:本庄市"},{"$f":"IF(CX530,CY530,\"\")","v":""},null,"□","横瀬町",{"$f":"IF(DB530=\"☑\",TRUE)","v":false},{"$f":"\"秩父地域:\"&DC530","v":"秩父地域:横瀬町"},{"$f":"IF(DD530,DE530,\"\")","v":""},null,null,null,null,null,null,null,null,null,null,null,{"$f":"IF(DQ530,#REF!,\"\")","v":""}]
[null,null,null,null,null,null,null,null,null,null,null,null,null,null,null,null,null,null,"□","買物代行",false,"","□","食材宅配",false,"","□","温泉・銭湯（送迎）",false,"","□","屋外作業・力仕事",false,"","□","カフェ・ファーストフード",false,"","□","休憩スペース",false,"","□","映画館",false,"","□","住宅・リフォーム",false,"",null,"□","大宮区",false,"さいたま市:大宮区","",null,"□","戸田市",{"$f":"IF(BF531=\"☑\",TRUE)","v":false},{"$f":"\"南部地域:\"&BG531","v":"南部地域:戸田市"},"",null,"□","和光市",false,"南西部地域:和光市","",null,"□","越谷市",false,"東部地域:越谷市","",null,"□","桶川市",{"$f":"IF(BX531=\"☑\",TRUE)","v":false},{"$f":"\"県央地域:\"&BY531","v":"県央地域:桶川市"},"",null,"□","坂戸市",false,"川越比企地域:坂戸市","",null,"□","狭山市",{"$f":"IF(CJ531=\"☑\",TRUE)","v":false},{"$f":"\"西部地域:\"&CK531","v":"西部地域:狭山市"},"",null,"□","羽生市",false,"利根地域:羽生市","",null,"□","深谷市",false,"北部地域:深谷市","",null,"□","皆野町",{"$f":"IF(DB531=\"☑\",TRUE)","v":false},{"$f":"\"秩父地域:\"&DC531","v":"秩父地域:皆野町"},"",null,null,null,null,null,null,null,null,null,null,{"$f":"IF(#REF!=\"☑\",TRUE)","v":{"$error":"#REF!"}},{"$f":"IF(DQ531,#REF!,\"\")","v":{"$error":"#REF!"}}]
[null,null,null,null,null,null,null,null,null,null,null,null,null,null,null,null,null,null,"□","移動販売",false,"","□","日用品配達",false,"","□","整体・マッサージ（送迎）",false,"","□","整体・マッサージ（出張）",false,"","□","飲食店",false,"","□","駐車場",false,"","□","カラオケ店",false,"","□","パソコン・スマートフォン",false,"",null,"□","見沼区",false,"さいたま市:見沼区","",null,null,null,null,null,"",null,"□","新座市",false,"南西部地域:新座市","",null,"□","八潮市",false,"東部地域:八潮市","",null,"□","北本市",{"$f":"IF(BX532=\"☑\",TRUE)","v":false},{"$f":"\"県央地域:\"&BY532","v":"県央地域:北本市"},"",null,"□","鶴ヶ島市",false,"川越比企地域:鶴ヶ島市","",null,"□","入間市",{"$f":"IF(CJ532=\"☑\",TRUE)","v":false},{"$f":"\"西部地域:\"&CK532","v":"西部地域:入間市"},"",null,"□","久喜市",false,"利根地域:久喜市","",null,"□","美里町",false,"北部地域:美里町","",null,"□","長瀞町",{"$f":"IF(DB532=\"☑\",TRUE)","v":false},{"$f":"\"秩父地域:\"&DC532","v":"秩父地域:長瀞町"},""]
[null,null,null,null,null,null,null,null,null,null,null,null,null,null,null,null,null,null,"□","割引サービス",false,"","□","薬・介護用品配達",false,"","□","乗り合いサービス",false,"","□","理容・美容（出張）",false,"","□","イートインスペース",false,"","□","貸しスペース",false,"","□","麻雀・将棋・囲碁",false,"","□","認知症サポート企業",false,"",null,"□","中央区",false,"さいたま市:中央区","",null,null,null,null,null,"",null,"□","富士見市",false,"南西部地域:富士見市","",null,"□","三郷市",false,"東部地域:三郷市","",null,"□","伊奈町",{"$f":"IF(BX533=\"☑\",TRUE)","v":false},{"$f":"\"県央地域:\"&BY533","v":"県央地域:伊奈町"},"",null,"□","毛呂山町",false,"川越比企地域:毛呂山町","",null,"□","日高市",{"$f":"IF(CJ533=\"☑\",TRUE)","v":false},{"$f":"\"西部地域:\"&CK533","v":"西部地域:日高市"},"",null,"□","蓮田市",false,"利根地域:蓮田市","",null,"□","神川町",false,"北部地域:神川町","",null,"□","小鹿野町",{"$f":"IF(DB533=\"☑\",TRUE)","v":false},{"$f":"\"秩父地域:\"&DC533","v":"秩父地域:小鹿野町"},"",null,null,null,null,null,null,null,null,null,null,{"$f":"IF(#REF!=\"☑\",TRUE)","v":{"$error":"#REF!"}},{"$f":"IF(DQ533,#REF!,\"\")","v":{"$error":"#REF!"}}]
[null,null,null,null,null,null,null,null,null,null,null,null,null,null,null,null,null,null,"□","その他（買物）",false,"","□","クリーニング",false,{"$f":"IF(Y534,X534,\"\")","v":""},"□","個別移送サービス",false,"","□","ペット",false,"","□","その他（運動・たまり場）",false,"","□","その他（設備・施設・場所貸し）",false,"","□","ゲームセンター",false,"","□","理容・美容",false,"",null,"□","桜区",false,"さいたま市:桜区","",null,null,null,null,null,"",null,"□","ふじみ野市",false,"南西部地域:ふじみ野市","",null,"□","吉川市",false,"東部地域:吉川市","",null,null,null,null,null,"",null,"□","越生町",false,"川越比企地域:越生町","",null,null,null,null,null,"",null,"□","幸手市",false,"利根地域:幸手市","",null,"□","上里町",false,"北部地域:上里町","",null,null,null,null,null,"",null,null,null,null,null,null,null,null,null,null,{"$f":"IF(#REF!=\"☑\",TRUE)","v":{"$error":"#REF!"}},{"$f":"IF(DQ534,#REF!,\"\")","v":{"$error":"#REF!"}}]
[null,null,null,null,null,null,null,null,null,null,null,null,null,null,null,null,null,null,null,null,null,null,"□","その他（宅配・デリバリー）",false,{"$f":"IF(Y535,X535,\"\")","v":""},"□","交通機関サービス",false,"","□","その他（出張サービス）",false,"",null,null,null,null,null,null,null,null,"□","旅行・レジャー",false,"","□","成年後見・相続",false,"",null,"□","浦和区",false,"さいたま市:浦和区","",null,null,null,null,null,"",null,"□","三芳町",false,"南西部地域:三芳町","",null,"□","松伏町",false,"東部地域:松伏町","",null,null,null,null,null,"",null,"□","滑川町",false,"川越比企地域:滑川町","",null,null,null,null,null,"",null,"□","白岡市",false,"利根地域:白岡市","",null,"□","寄居町",false,"北部地域:寄居町","",null,null,null,null,null,""]
[null,null,null,null,null,null,null,null,null,null,null,null,null,null,null,null,null,null,null,null,null,null,null,null,null,null,"□","その他（送迎・移動支援）",false,"",null,null,null,"",null,null,null,{"$f":"IF(AK536,AJ536,\"\")","v":""},null,null,null,{"$f":"IF(AO536,AN536,\"\")","v":""},"□","パソコン・スマホ教室",false,"","□","その他（生活サービス）",false,"",null,"□","南区",false,"さいたま市:南区","",null,null,null,null,null,"",null,null,null,null,null,"",null,null,null,null,null,"",null,null,null,null,null,"",null,"□","嵐山町",false,"川越比企地域:嵐山町","",null,null,null,null,null,"",null,"□","宮代町",false,"利根地域:宮代町","",null,null,null,null,null,"",null,null,null,null,null,""]
[null,null,null,null,null,null,null,null,null,null,null,null,null,null,null,null,null,null,null,null,null,null,null,null,null,null,null,null,null,null,null,null,null,null,null,null,null,null,null,null,null,null,"□","その他（学び・趣味）",false,"",null,null,null,null,null,"□","緑区",false,"さいたま市:緑区","",null,null,null,null,null,"",null,null,null,null,null,"",null,null,null,null,null,"",null,null,null,null,null,"",null,"□","小川町",false,"川越比企地域:小川町","",null,null,null,null,null,"",null,"□","杉戸町",false,"利根地域:杉戸町","",null,null,null,null,null,"",null,null,null,null,null,""]
[null,null,null,null,null,null,null,null,null,null,null,null,null,null,null,null,null,null,null,null,null,null,null,null,null,null,null,null,null,null,null,null,null,null,null,null,null,null,null,null,null,null,null,null,null,null,null,null,null,null,null,"□","岩槻区",{"$f":"IF(AZ538=\"☑\",TRUE)","v":false},"さいたま市:岩槻区","",null,null,null,null,null,"",null,null,null,null,null,"",null,null,null,null,null,"",null,null,null,null,null,"",null,"□","川島町",false,"川越比企地域:川島町","",null,null,null,null,null,"",null,null,null,null,null,"",null,null,null,null,null,"",null,null,null,null,null,""]
[null,null,null,null,null,null,null,null,null,null,null,null,null,null,null,null,null,null,null,null,null,null,null,null,null,null,null,null,null,null,null,null,null,null,null,null,null,null,null,null,null,null,null,null,null,null,null,null,null,null,null,null,null,null,null,null,null,null,null,null,null,null,null,null,null,null,null,null,null,null,null,null,null,null,null,null,null,null,null,null,null,"□","吉見町",false,"川越比企地域:吉見町","",null,null,null,null,null,"",null,null,null,null,null,"",null,null,null,null,null,"",null,null,null,null,null,""]
[null,null,null,null,null,null,null,null,null,null,null,null,null,null,null,null,null,null,null,null,null,null,null,null,null,null,null,null,null,null,null,null,null,null,null,null,null,null,null,null,null,null,null,null,null,null,null,null,null,null,null,null,null,null,null,null,null,null,null,null,null,null,null,null,null,null,null,null,null,null,null,null,null,null,null,null,null,null,null,null,null,"□","鳩山町",false,"川越比企地域:鳩山町","",null,null,null,null,null,"",null,null,null,null,null,"",null,null,null,null,null,"",null,null,null,null,null,""]
[null,null,null,null,null,null,null,null,null,null,null,null,null,null,null,null,null,null,null,null,null,null,null,null,null,null,null,null,null,null,null,null,null,null,null,null,null,null,null,null,null,null,null,null,null,null,null,null,null,null,null,null,null,null,null,null,null,null,null,null,null,null,null,null,null,null,null,null,null,null,null,null,null,null,null,null,null,null,null,null,null,"□","ときがわ町",false,"川越比企地域:ときがわ町","",null,null,null,null,null,"",null,null,null,null,null,"",null,null,null,null,null,"",null,null,null,null,null,""]
[null,null,null,null,null,null,null,null,null,null,null,null,null,null,null,null,null,null,null,null,null,null,null,null,null,null,null,null,null,null,null,null,null,null,null,null,null,null,null,null,null,null,null,null,null,null,null,null,null,null,null,null,null,null,null,null,null,null,null,null,null,null,null,null,null,null,null,null,null,null,null,null,null,null,null,null,null,null,null,null,null,"□","東秩父村",false,"川越比企地域:東秩父村","",null,null,null,null,null,"",null,null,null,null,null,"",null,null,null,null,null,"",null,null,null,null,null,""]
[38,null,null,null,null,null,null,null,null,null,null,null,null,null,null,null,null,null,"□","配送",{"$f":"IF(S543=\"☑\",TRUE)","v":false},{"$f":"IF(U543,T543,\"\")","v":""},"□","弁当配達",{"$f":"IF(W543=\"☑\",TRUE)","v":false},{"$f":"IF(Y543,X543,\"\")","v":""},"□","理容・美容（送迎）",{"$f":"IF(AA543=\"☑\",TRUE)","v":false},{"$f":"IF(AC543,AB543,\"\")","v":""},"□","家事代行・掃除・片付け",{"$f":"IF(AE543=\"☑\",TRUE)","v":false},{"$f":"IF(AG543,AF543,\"\")","v":""},"□","フィットネス・ジム（運動）",{"$f":"IF(AI543=\"☑\",TRUE)","v":false},{"$f":"IF(AK543,AJ543,\"\")","v":""},"□","車イス対応（バリアフリー）",{"$f":"IF(AM543=\"☑\",TRUE)","v":false},{"$f":"IF(AO543,AN543,\"\")","v":""},"□","講座・教室・イベント",{"$f":"IF(AQ543=\"☑\",TRUE)","v":false},{"$f":"IF(AS543,AR543,\"\")","v":""},"□","防犯・見守り",{"$f":"IF(AU543=\"☑\",TRUE)","v":false},{"$f":"IF(AW543,AV543,\"\")","v":""},{"$f":"_xludf.TEXTJOIN(\",\",TRUE,V543:V556,Z543:Z556,AD543:AD556,AH543:AH556,AL543:AL556,AP543:AP556,AT543:AT556,AX543:AX556)","v":""},"□","西区",{"$f":"IF(AZ543=\"☑\",TRUE)","v":false},{"$f":"\"さいたま市:\"&BA543","v":"さいたま市:西区"},{"$f":"IF(BB543,BC543,\"\")","v":""},{"$f":"_xludf.TEXTJOIN(\",\",TRUE,BD543:BD556)","v":""},"□","川口市",{"$f":"IF(BF543=\"☑\",TRUE)","v":false},{"$f":"\"南部地域:\"&BG543","v":"南部地域:川口市"},{"$f":"IF(BH543,BI543,\"\")","v":""},{"$f":"_xludf.TEXTJOIN(\",\",TRUE,BJ543:BJ556)","v":""},"□","朝霞市",{"$f":"IF(BL543=\"☑\",TRUE)","v":false},{"$f":"\"南西部地域:\"&BM543","v":"南西部地域:朝霞市"},{"$f":"IF(BN543,BO543,\"\")","v":""},{"$f":"_xludf.TEXTJOIN(\",\",TRUE,BP543:BP556)","v":""},"□","春日部市",{"$f":"IF(BR543=\"☑\",TRUE)","v":false},{"$f":"\"東部地域:\"&BS543","v":"東部地域:春日部市"},{"$f":"IF(BT543,BU543,\"\")","v":""},{"$f":"_xludf.TEXTJOIN(\",\",TRUE,BV543:BV556)","v":""},"□","鴻巣市",{"$f":"IF(BX543=\"☑\",TRUE)","v":false},{"$f":"\"県央地域:\"&BY543","v":"県央地域:鴻巣市"},{"$f":"IF(BZ543,CA543,\"\")","v":""},{"$f":"_xludf.TEXTJOIN(\",\",TRUE,CB543:CB556)","v":""},"□","川越市",{"$f":"IF(CD543=\"☑\",TRUE)","v":false},{"$f":"\"川越比企地域:\"&CE543","v":"川越比企地域:川越市"},{"$f":"IF(CF543,CG543,\"\")","v":""},{"$f":"_xludf.TEXTJOIN(\",\",TRUE,CH543:CH556)","v":""},"□","所沢市",{"$f":"IF(CJ543=\"☑\",TRUE)","v":false},{"$f":"\"西部地域:\"&CK543","v":"西部地域:所沢市"},{"$f":"IF(CL543,CM543,\"\")","v":""},{"$f":"_xludf.TEXTJOIN(\",\",TRUE,CN543:CN556)","v":""},"□","行田市",{"$f":"IF(CP543=\"☑\",TRUE)","v":false},{"$f":"\"利根地域:\"&CQ543","v":"利根地域:行田市"},{"$f":"IF(CR543,CS543,\"\")","v":""},{"$f":"_xludf.TEXTJOIN(\",\",TRUE,CT543:CT556)","v":""},"□","熊谷市",{"$f":"IF(CV543=\"☑\",TRUE)","v":false},{"$f":"\"北部地域:\"&CW543","v":"北部地域:熊谷市"},{"$f":"IF(CX543,CY543,\"\")","v":""},{"$f":"_xludf.TEXTJOIN(\",\",TRUE,CZ543:CZ556)","v":""},"□","秩父市",{"$f":"IF(DB543=\"☑\",TRUE)","v":false},{"$f":"\"秩父地域:\"&DC543","v":"秩父地域:秩父市"},{"$f":"IF(DD543,DE543,\"\")","v":""},{"$f":"_xludf.TEXTJOIN(\",\",TRUE,DF543:DF556)","v":""},{"$f":"_xlfn.TEXTJOIN(\",\",TRUE,BE543,BK543,BQ543,BW543,CC543,CI543,CO543,CU543,DA543,DG543)","v":""},null,null,null,null,null,null,null,null,{"$f":"IF(#REF!=\"☑\",TRUE)","v":{"$error":"#REF!"}},{"$f":"IF(DQ543,#REF!,\"\")","v":{"$error":"#REF!"}},{"$f":"_xludf.TEXTJOIN(\",\",TRUE,DR543:DR556)","v":{"$error":"#VALUE!"}}]
[null,null,null,null,null,null,null,null,null,null,null,null,null,null,null,null,null,null,"□","買物サポート",false,"","□","料理デリバリー（出前）",false,"","□","フィットネス・ジム（送迎）",{"$f":"IF(AA544=\"☑\",TRUE)","v":false},{"$f":"IF(AC544,AB544,\"\")","v":""},"□","出張料理",{"$f":"IF(AE544=\"☑\",TRUE)","v":false},{"$f":"IF(AG544,AF544,\"\")","v":""},"□","温泉・銭湯（たまり場）",false,"","□","多目的トイレ",false,"","□","習い事",{"$f":"IF(AQ544=\"☑\",TRUE)","v":false},{"$f":"IF(AS544,AR544,\"\")","v":""},"□","金融・保険",false,"",null,"□","北区",{"$f":"IF(AZ544=\"☑\",TRUE)","v":false},{"$f":"\"さいたま市:\"&BA544","v":"さいたま市:北区"},{"$f":"IF(BB544,BC544,\"\")","v":""},null,"□","蕨市",{"$f":"IF(BF544=\"☑\",TRUE)","v":false},{"$f":"\"南部地域:\"&BG544","v":"南部地域:蕨市"},{"$f":"IF(BH544,BI544,\"\")","v":""},null,"□","志木市",{"$f":"IF(BL544=\"☑\",TRUE)","v":false},{"$f":"\"南西部地域:\"&BM544","v":"南西部地域:志木市"},{"$f":"IF(BN544,BO544,\"\")","v":""},null,"□","草加市",{"$f":"IF(BR544=\"☑\",TRUE)","v":false},{"$f":"\"東部地域:\"&BS544","v":"東部地域:草加市"},"",null,"□","上尾市",{"$f":"IF(BX544=\"☑\",TRUE)","v":false},{"$f":"\"県央地域:\"&BY544","v":"県央地域:上尾市"},{"$f":"IF(BZ544,CA544,\"\")","v":""},null,"□","東松山市",{"$f":"IF(CD544=\"☑\",TRUE)","v":false},{"$f":"\"川越比企地域:\"&CE544","v":"川越比企地域:東松山市"},{"$f":"IF(CF544,CG544,\"\")","v":""},null,"□","飯能市",{"$f":"IF(CJ544=\"☑\",TRUE)","v":false},{"$f":"\"西部地域:\"&CK544","v":"西部地域:飯能市"},{"$f":"IF(CL544,CM544,\"\")","v":""},null,"□","加須市",{"$f":"IF(CP544=\"☑\",TRUE)","v":false},{"$f":"\"利根地域:\"&CQ544","v":"利根地域:加須市"},{"$f":"IF(CR544,CS544,\"\")","v":""},null,"□","本庄市",{"$f":"IF(CV544=\"☑\",TRUE)","v":false},{"$f":"\"北部地域:\"&CW544","v":"北部地域:本庄市"},{"$f":"IF(CX544,CY544,\"\")","v":""},null,"□","横瀬町",{"$f":"IF(DB544=\"☑\",TRUE)","v":false},{"$f":"\"秩父地域:\"&DC544","v":"秩父地域:横瀬町"},{"$f":"IF(DD544,DE544,\"\")","v":""},null,null,null,null,null,null,null,null,null,null,null,{"$f":"IF(DQ544,#REF!,\"\")","v":""}]
[null,null,null,null,null,null,null,null,null,null,null,null,null,null,null,null,null,null,"□","買物代行",false,"","□","食材宅配",false,"","□","温泉・銭湯（送迎）",false,"","□","屋外作業・力仕事",false,"","□","カフェ・ファーストフード",false,"","□","休憩スペース",false,"","□","映画館",false,"","□","住宅・リフォーム",false,"",null,"□","大宮区",false,"さいたま市:大宮区","",null,"□","戸田市",{"$f":"IF(BF545=\"☑\",TRUE)","v":false},{"$f":"\"南部地域:\"&BG545","v":"南部地域:戸田市"},"",null,"□","和光市",false,"南西部地域:和光市","",null,"□","越谷市",false,"東部地域:越谷市","",null,"□","桶川市",{"$f":"IF(BX545=\"☑\",TRUE)","v":false},{"$f":"\"県央地域:\"&BY545","v":"県央地域:桶川市"},"",null,"□","坂戸市",false,"川越比企地域:坂戸市","",null,"□","狭山市",{"$f":"IF(CJ545=\"☑\",TRUE)","v":false},{"$f":"\"西部地域:\"&CK545","v":"西部地域:狭山市"},"",null,"□","羽生市",false,"利根地域:羽生市","",null,"□","深谷市",false,"北部地域:深谷市","",null,"□","皆野町",{"$f":"IF(DB545=\"☑\",TRUE)","v":false},{"$f":"\"秩父地域:\"&DC545","v":"秩父地域:皆野町"},"",null,null,null,null,null,null,null,null,null,null,{"$f":"IF(#REF!=\"☑\",TRUE)","v":{"$error":"#REF!"}},{"$f":"IF(DQ545,#REF!,\"\")","v":{"$error":"#REF!"}}]
[null,null,null,null,null,null,null,null,null,null,null,null,null,null,null,null,null,null,"□","移動販売",false,"","□","日用品配達",false,"","□","整体・マッサージ（送迎）",false,"","□","整体・マッサージ（出張）",false,"","□","飲食店",false,"","□","駐車場",false,"","□","カラオケ店",false,"","□","パソコン・スマートフォン",false,"",null,"□","見沼区",false,"さいたま市:見沼区","",null,null,null,null,null,"",null,"□","新座市",false,"南西部地域:新座市","",null,"□","八潮市",false,"東部地域:八潮市","",null,"□","北本市",{"$f":"IF(BX546=\"☑\",TRUE)","v":false},{"$f":"\"県央地域:\"&BY546","v":"県央地域:北本市"},"",null,"□","鶴ヶ島市",false,"川越比企地域:鶴ヶ島市","",null,"□","入間市",{"$f":"IF(CJ546=\"☑\",TRUE)","v":false},{"$f":"\"西部地域:\"&CK546","v":"西部地域:入間市"},"",null,"□","久喜市",false,"利根地域:久喜市","",null,"□","美里町",false,"北部地域:美里町","",null,"□","長瀞町",{"$f":"IF(DB546=\"☑\",TRUE)","v":false},{"$f":"\"秩父地域:\"&DC546","v":"秩父地域:長瀞町"},""]
[null,null,null,null,null,null,null,null,null,null,null,null,null,null,null,null,null,null,"□","割引サービス",false,"","□","薬・介護用品配達",false,"","□","乗り合いサービス",false,"","□","理容・美容（出張）",false,"","□","イートインスペース",false,"","□","貸しスペース",false,"","□","麻雀・将棋・囲碁",false,"","□","認知症サポート企業",false,"",null,"□","中央区",false,"さいたま市:中央区","",null,null,null,null,null,"",null,"□","富士見市",false,"南西部地域:富士見市","",null,"□","三郷市",false,"東部地域:三郷市","",null,"□","伊奈町",{"$f":"IF(BX547=\"☑\",TRUE)","v":false},{"$f":"\"県央地域:\"&BY547","v":"県央地域:伊奈町"},"",null,"□","毛呂山町",false,"川越比企地域:毛呂山町","",null,"□","日高市",{"$f":"IF(CJ547=\"☑\",TRUE)","v":false},{"$f":"\"西部地域:\"&CK547","v":"西部地域:日高市"},"",null,"□","蓮田市",false,"利根地域:蓮田市","",null,"□","神川町",false,"北部地域:神川町","",null,"□","小鹿野町",{"$f":"IF(DB547=\"☑\",TRUE)","v":false},{"$f":"\"秩父地域:\"&DC547","v":"秩父地域:小鹿野町"},"",null,null,null,null,null,null,null,null,null,null,{"$f":"IF(#REF!=\"☑\",TRUE)","v":{"$error":"#REF!"}},{"$f":"IF(DQ547,#REF!,\"\")","v":{"$error":"#REF!"}}]
[null,null,null,null,null,null,null,null,null,null,null,null,null,null,null,null,null,null,"□","その他（買物）",false,"","□","クリーニング",false,{"$f":"IF(Y548,X548,\"\")","v":""},"□","個別移送サービス",false,"","□","ペット",false,"","□","その他（運動・たまり場）",false,"","□","その他（設備・施設・場所貸し）",false,"","□","ゲームセンター",false,"","□","理容・美容",false,"",null,"□","桜区",false,"さいたま市:桜区","",null,null,null,null,null,"",null,"□","ふじみ野市",false,"南西部地域:ふじみ野市","",null,"□","吉川市",false,"東部地域:吉川市","",null,null,null,null,null,"",null,"□","越生町",false,"川越比企地域:越生町","",null,null,null,null,null,"",null,"□","幸手市",false,"利根地域:幸手市","",null,"□","上里町",false,"北部地域:上里町","",null,null,null,null,null,"",null,null,null,null,null,null,null,null,null,null,{"$f":"IF(#REF!=\"☑\",TRUE)","v":{"$error":"#REF!"}},{"$f":"IF(DQ548,#REF!,\"\")","v":{"$error":"#REF!"}}]
[null,null,null,null,null,null,null,null,null,null,null,null,null,null,null,null,null,null,null,null,null,null,"□","その他（宅配・デリバリー）",false,{"$f":"IF(Y549,X549,\"\")","v":""},"□","交通機関サービス",false,"","□","その他（出張サービス）",false,"",null,null,null,null,null,null,null,null,"□","旅行・レジャー",false,"","□","成年後見・相続",false,"",null,"□","浦和区",false,"さいたま市:浦和区","",null,null,null,null,null,"",null,"□","三芳町",false,"南西部地域:三芳町","",null,"□","松伏町",false,"東部地域:松伏町","",null,null,null,null,null,"",null,"□","滑川町",false,"川越比企地域:滑川町","",null,null,null,null,null,"",null,"□","白岡市",false,"利根地域:白岡市","",null,"□","寄居町",false,"北部地域:寄居町","",null,null,null,null,null,""]
[null,null,null,null,null,null,null,null,null,null,null,null,null,null,null,null,null,null,null,null,null,null,null,null,null,null,"□","その他（送迎・移動支援）",false,"",null,null,null,"",null,null,null,{"$f":"IF(AK550,AJ550,\"\")","v":""},null,null,null,{"$f":"IF(AO550,AN550,\"\")","v":""},"□","パソコン・スマホ教室",false,"","□","その他（生活サービス）",false,"",null,"□","南区",false,"さいたま市:南区","",null,null,null,null,null,"",null,null,null,null,null,"",null,null,null,null,null,"",null,null,null,null,null,"",null,"□","嵐山町",false,"川越比企地域:嵐山町","",null,null,null,null,null,"",null,"□","宮代町",false,"利根地域:宮代町","",null,null,null,null,null,"",null,null,null,null,null,""]
[null,null,null,null,null,null,null,null,null,null,null,null,null,null,null,null,null,null,null,null,null,null,null,null,null,null,null,null,null,null,null,null,null,null,null,null,null,null,null,null,null,null,"□","その他（学び・趣味）",false,"",null,null,null,null,null,"□","緑区",false,"さいたま市:緑区","",null,null,null,null,null,"",null,null,null,null,null,"",null,null,null,null,null,"",null,null,null,null,null,"",null,"□","小川町",false,"川越比企地域:小川町","",null,null,null,null,null,"",null,"□","杉戸町",false,"利根地域:杉戸町","",null,null,null,null,null,"",null,null,null,null,null,""]
[null,null,null,null,null,null,null,null,null,null,null,null,null,null,null,null,null,null,null,null,null,null,null,null,null,null,null,null,null,null,null,null,null,null,null,null,null,null,null,null,null,null,null,null,null,null,null,null,null,null,null,"□","岩槻区",{"$f":"IF(AZ552=\"☑\",TRUE)","v":false},"さいたま市:岩槻区","",null,null,null,null,null,"",null,null,null,null,null,"",null,null,null,null,null,"",null,null,null,null,null,"",null,"□","川島町",false,"川越比企地域:川島町","",null,null,null,null,null,"",null,null,null,null,null,"",null,null,null,null,null,"",null,null,null,null,null,""]
[null,null,null,null,null,null,null,null,null,null,null,null,null,null,null,null,null,null,null,null,null,null,null,null,null,null,null,null,null,null,null,null,null,null,null,null,null,null,null,null,null,null,null,null,null,null,null,null,null,null,null,null,null,null,null,null,null,null,null,null,null,null,null,null,null,null,null,null,null,null,null,null,null,null,null,null,null,null,null,null,null,"□","吉見町",false,"川越比企地域:吉見町","",null,null,null,null,null,"",null,null,null,null,null,"",null,null,null,null,null,"",null,null,null,null,null,""]
[null,null,null,null,null,null,null,null,null,null,null,null,null,null,null,null,null,null,null,null,null,null,null,null,null,null,null,null,null,null,null,null,null,null,null,null,null,null,null,null,null,null,null,null,null,null,null,null,null,null,null,null,null,null,null,null,null,null,null,null,null,null,null,null,null,null,null,null,null,null,null,null,null,null,null,null,null,null,null,null,null,"□","鳩山町",false,"川越比企地域:鳩山町","",null,null,null,null,null,"",null,null,null,null,null,"",null,null,null,null,null,"",null,null,null,null,null,""]
[null,null,null,null,null,null,null,null,null,null,null,null,null,null,null,null,null,null,null,null,null,null,null,null,null,null,null,null,null,null,null,null,null,null,null,null,null,null,null,null,null,null,null,null,null,null,null,null,null,null,null,null,null,null,null,null,null,null,null,null,null,null,null,null,null,null,null,null,null,null,null,null,null,null,null,null,null,null,null,null,null,"□","ときがわ町",false,"川越比企地域:ときがわ町","",null,null,null,null,null,"",null,null,null,null,null,"",null,null,null,null,null,"",null,null,null,null,null,""]
[null,null,null,null,null,null,null,null,null,null,null,null,null,null,null,null,null,null,null,null,null,null,null,null,null,null,null,null,null,null,null,null,null,null,null,null,null,null,null,null,null,null,null,null,null,null,null,null,null,null,null,null,null,null,null,null,null,null,null,null,null,null,null,null,null,null,null,null,null,null,null,null,null,null,null,null,null,null,null,null,null,"□","東秩父村",false,"川越比企地域:東秩父村","",null,null,null,null,null,"",null,null,null,null,null,"",null,null,null,null,null,"",null,null,null,null,null,""]
[39,null,null,null,null,null,null,null,null,null,null,null,null,null,null,null,null,null,"□","配送",{"$f":"IF(S557=\"☑\",TRUE)","v":false},{"$f":"IF(U557,T557,\"\")","v":""},"□","弁当配達",{"$f":"IF(W557=\"☑\",TRUE)","v":false},{"$f":"IF(Y557,X557,\"\")","v":""},"□","理容・美容（送迎）",{"$f":"IF(AA557=\"☑\",TRUE)","v":false},{"$f":"IF(AC557,AB557,\"\")","v":""},"□","家事代行・掃除・片付け",{"$f":"IF(AE557=\"☑\",TRUE)","v":false},{"$f":"IF(AG557,AF557,\"\")","v":""},"□","フィットネス・ジム（運動）",{"$f":"IF(AI557=\"☑\",TRUE)","v":false},{"$f":"IF(AK557,AJ557,\"\")","v":""},"□","車イス対応（バリアフリー）",{"$f":"IF(AM557=\"☑\",TRUE)","v":false},{"$f":"IF(AO557,AN557,\"\")","v":""},"□","講座・教室・イベント",{"$f":"IF(AQ557=\"☑\",TRUE)","v":false},{"$f":"IF(AS557,AR557,\"\")","v":""},"□","防犯・見守り",{"$f":"IF(AU557=\"☑\",TRUE)","v":false},{"$f":"IF(AW557,AV557,\"\")","v":""},{"$f":"_xludf.TEXTJOIN(\",\",TRUE,V557:V570,Z557:Z570,AD557:AD570,AH557:AH570,AL557:AL570,AP557:AP570,AT557:AT570,AX557:AX570)","v":""},"□","西区",{"$f":"IF(AZ557=\"☑\",TRUE)","v":false},{"$f":"\"さいたま市:\"&BA557","v":"さいたま市:西区"},{"$f":"IF(BB557,BC557,\"\")","v":""},{"$f":"_xludf.TEXTJOIN(\",\",TRUE,BD557:BD570)","v":""},"□","川口市",{"$f":"IF(BF557=\"☑\",TRUE)","v":false},{"$f":"\"南部地域:\"&BG557","v":"南部地域:川口市"},{"$f":"IF(BH557,BI557,\"\")","v":""},{"$f":"_xludf.TEXTJOIN(\",\",TRUE,BJ557:BJ570)","v":""},"□","朝霞市",{"$f":"IF(BL557=\"☑\",TRUE)","v":false},{"$f":"\"南西部地域:\"&BM557","v":"南西部地域:朝霞市"},{"$f":"IF(BN557,BO557,\"\")","v":""},{"$f":"_xludf.TEXTJOIN(\",\",TRUE,BP557:BP570)","v":""},"□","春日部市",{"$f":"IF(BR557=\"☑\",TRUE)","v":false},{"$f":"\"東部地域:\"&BS557","v":"東部地域:春日部市"},{"$f":"IF(BT557,BU557,\"\")","v":""},{"$f":"_xludf.TEXTJOIN(\",\",TRUE,BV557:BV570)","v":""},"□","鴻巣市",{"$f":"IF(BX557=\"☑\",TRUE)","v":false},{"$f":"\"県央地域:\"&BY557","v":"県央地域:鴻巣市"},{"$f":"IF(BZ557,CA557,\"\")","v":""},{"$f":"_xludf.TEXTJOIN(\",\",TRUE,CB557:CB570)","v":""},"□","川越市",{"$f":"IF(CD557=\"☑\",TRUE)","v":false},{"$f":"\"川越比企地域:\"&CE557","v":"川越比企地域:川越市"},{"$f":"IF(CF557,CG557,\"\")","v":""},{"$f":"_xludf.TEXTJOIN(\",\",TRUE,CH557:CH570)","v":""},"□","所沢市",{"$f":"IF(CJ557=\"☑\",TRUE)","v":false},{"$f":"\"西部地域:\"&CK557","v":"西部地域:所沢市"},{"$f":"IF(CL557,CM557,\"\")","v":""},{"$f":"_xludf.TEXTJOIN(\",\",TRUE,CN557:CN570)","v":""},"□","行田市",{"$f":"IF(CP557=\"☑\",TRUE)","v":false},{"$f":"\"利根地域:\"&CQ557","v":"利根地域:行田市"},{"$f":"IF(CR557,CS557,\"\")","v":""},{"$f":"_xludf.TEXTJOIN(\",\",TRUE,CT557:CT570)","v":""},"□","熊谷市",{"$f":"IF(CV557=\"☑\",TRUE)","v":false},{"$f":"\"北部地域:\"&CW557","v":"北部地域:熊谷市"},{"$f":"IF(CX557,CY557,\"\")","v":""},{"$f":"_xludf.TEXTJOIN(\",\",TRUE,CZ557:CZ570)","v":""},"□","秩父市",{"$f":"IF(DB557=\"☑\",TRUE)","v":false},{"$f":"\"秩父地域:\"&DC557","v":"秩父地域:秩父市"},{"$f":"IF(DD557,DE557,\"\")","v":""},{"$f":"_xludf.TEXTJOIN(\",\",TRUE,DF557:DF570)","v":""},{"$f":"_xlfn.TEXTJOIN(\",\",TRUE,BE557,BK557,BQ557,BW557,CC557,CI557,CO557,CU557,DA557,DG557)","v":""},null,null,null,null,null,null,null,null,{"$f":"IF(#REF!=\"☑\",TRUE)","v":{"$error":"#REF!"}},{"$f":"IF(DQ557,#REF!,\"\")","v":{"$error":"#REF!"}},{"$f":"_xludf.TEXTJOIN(\",\",TRUE,DR557:DR570)","v":{"$error":"#VALUE!"}}]
[null,null,null,null,null,null,null,null,null,null,null,null,null,null,null,null,null,null,"□","買物サポート",false,"","□","料理デリバリー（出前）",false,"","□","フィットネス・ジム（送迎）",{"$f":"IF(AA558=\"☑\",TRUE)","v":false},{"$f":"IF(AC558,AB558,\"\")","v":""},"□","出張料理",{"$f":"IF(AE558=\"☑\",TRUE)","v":false},{"$f":"IF(AG558,AF558,\"\")","v":""},"□","温泉・銭湯（たまり場）",false,"","□","多目的トイレ",false,"","□","習い事",{"$f":"IF(AQ558=\"☑\",TRUE)","v":false},{"$f":"IF(AS558,AR558,\"\")","v":""},"□","金融・保険",false,"",null,"□","北区",{"$f":"IF(AZ558=\"☑\",TRUE)","v":false},{"$f":"\"さいたま市:\"&BA558","v":"さいたま市:北区"},{"$f":"IF(BB558,BC558,\"\")","v":""},null,"□","蕨市",{"$f":"IF(BF558=\"☑\",TRUE)","v":false},{"$f":"\"南部地域:\"&BG558","v":"南部地域:蕨市"},{"$f":"IF(BH558,BI558,\"\")","v":""},null,"□","志木市",{"$f":"IF(BL558=\"☑\",TRUE)","v":false},{"$f":"\"南西部地域:\"&BM558","v":"南西部地域:志木市"},{"$f":"IF(BN558,BO558,\"\")","v":""},null,"□","草加市",{"$f":"IF(BR558=\"☑\",TRUE)","v":false},{"$f":"\"東部地域:\"&BS558","v":"東部地域:草加市"},"",null,"□","上尾市",{"$f":"IF(BX558=\"☑\",TRUE)","v":false},{"$f":"\"県央地域:\"&BY558","v":"県央地域:上尾市"},{"$f":"IF(BZ558,CA558,\"\")","v":""},null,"□","東松山市",{"$f":"IF(CD558=\"☑\",TRUE)","v":false},{"$f":"\"川越比企地域:\"&CE558","v":"川越比企地域:東松山市"},{"$f":"IF(CF558,CG558,\"\")","v":""},null,"□","飯能市",{"$f":"IF(CJ558=\"☑\",TRUE)","v":false},{"$f":"\"西部地域:\"&CK558","v":"西部地域:飯能市"},{"$f":"IF(CL558,CM558,\"\")","v":""},null,"□","加須市",{"$f":"IF(CP558=\"☑\",TRUE)","v":false},{"$f":"\"利根地域:\"&CQ558","v":"利根地域:加須市"},{"$f":"IF(CR558,CS558,\"\")","v":""},null,"□","本庄市",{"$f":"IF(CV558=\"☑\",TRUE)","v":false},{"$f":"\"北部地域:\"&CW558","v":"北部地域:本庄市"},{"$f":"IF(CX558,CY558,\"\")","v":""},null,"□","横瀬町",{"$f":"IF(DB558=\"☑\",TRUE)","v":false},{"$f":"\"秩父地域:\"&DC558","v":"秩父地域:横瀬町"},{"$f":"IF(DD558,DE558,\"\")","v":""},null,null,null,null,null,null,null,null,null,null,null,{"$f":"IF(DQ558,#REF!,\"\")","v":""}]
[null,null,null,null,null,null,null,null,null,null,null,null,null,null,null,null,null,null,"□","買物代行",false,"","□","食材宅配",false,"","□","温泉・銭湯（送迎）",false,"","□","屋外作業・力仕事",false,"","□","カフェ・ファーストフード",false,"","□","休憩スペース",false,"","□","映画館",false,"","□","住宅・リフォーム",false,"",null,"□","大宮区",false,"さいたま市:大宮区","",null,"□","戸田市",{"$f":"IF(BF559=\"☑\",TRUE)","v":false},{"$f":"\"南部地域:\"&BG559","v":"南部地域:戸田市"},"",null,"□","和光市",false,"南西部地域:和光市","",null,"□","越谷市",false,"東部地域:越谷市","",null,"□","桶川市",{"$f":"IF(BX559=\"☑\",TRUE)","v":false},{"$f":"\"県央地域:\"&BY559","v":"県央地域:桶川市"},"",null,"□","坂戸市",false,"川越比企地域:坂戸市","",null,"□","狭山市",{"$f":"IF(CJ559=\"☑\",TRUE)","v":false},{"$f":"\"西部地域:\"&CK559","v":"西部地域:狭山市"},"",null,"□","羽生市",false,"利根地域:羽生市","",null,"□","深谷市",false,"北部地域:深谷市","",null,"□","皆野町",{"$f":"IF(DB559=\"☑\",TRUE)","v":false},{"$f":"\"秩父地域:\"&DC559","v":"秩父地域:皆野町"},"",null,null,null,null,null,null,null,null,null,null,{"$f":"IF(#REF!=\"☑\",TRUE)","v":{"$error":"#REF!"}},{"$f":"IF(DQ559,#REF!,\"\")","v":{"$error":"#REF!"}}]
[null,null,null,null,null,null,null,null,null,null,null,null,null,null,null,null,null,null,"□","移動販売",false,"","□","日用品配達",false,"","□","整体・マッサージ（送迎）",false,"","□","整体・マッサージ（出張）",false,"","□","飲食店",false,"","□","駐車場",false,"","□","カラオケ店",false,"","□","パソコン・スマートフォン",false,"",null,"□","見沼区",false,"さいたま市:見沼区","",null,null,null,null,null,"",null,"□","新座市",false,"南西部地域:新座市","",null,"□","八潮市",false,"東部地域:八潮市","",null,"□","北本市",{"$f":"IF(BX560=\"☑\",TRUE)","v":false},{"$f":"\"県央地域:\"&BY560","v":"県央地域:北本市"},"",null,"□","鶴ヶ島市",false,"川越比企地域:鶴ヶ島市","",null,"□","入間市",{"$f":"IF(CJ560=\"☑\",TRUE)","v":false},{"$f":"\"西部地域:\"&CK560","v":"西部地域:入間市"},"",null,"□","久喜市",false,"利根地域:久喜市","",null,"□","美里町",false,"北部地域:美里町","",null,"□","長瀞町",{"$f":"IF(DB560=\"☑\",TRUE)","v":false},{"$f":"\"秩父地域:\"&DC560","v":"秩父地域:長瀞町"},""]
[null,null,null,null,null,null,null,null,null,null,null,null,null,null,null,null,null,null,"□","割引サービス",false,"","□","薬・介護用品配達",false,"","□","乗り合いサービス",false,"","□","理容・美容（出張）",false,"","□","イートインスペース",false,"","□","貸しスペース",false,"","□","麻雀・将棋・囲碁",false,"","□","認知症サポート企業",false,"",null,"□","中央区",false,"さいたま市:中央区","",null,null,null,null,null,"",null,"□","富士見市",false,"南西部地域:富士見市","",null,"□","三郷市",false,"東部地域:三郷市","",null,"□","伊奈町",{"$f":"IF(BX561=\"☑\",TRUE)","v":false},{"$f":"\"県央地域:\"&BY561","v":"県央地域:伊奈町"},"",null,"□","毛呂山町",false,"川越比企地域:毛呂山町","",null,"□","日高市",{"$f":"IF(CJ561=\"☑\",TRUE)","v":false},{"$f":"\"西部地域:\"&CK561","v":"西部地域:日高市"},"",null,"□","蓮田市",false,"利根地域:蓮田市","",null,"□","神川町",false,"北部地域:神川町","",null,"□","小鹿野町",{"$f":"IF(DB561=\"☑\",TRUE)","v":false},{"$f":"\"秩父地域:\"&DC561","v":"秩父地域:小鹿野町"},"",null,null,null,null,null,null,null,null,null,null,{"$f":"IF(#REF!=\"☑\",TRUE)","v":{"$error":"#REF!"}},{"$f":"IF(DQ561,#REF!,\"\")","v":{"$error":"#REF!"}}]
[null,null,null,null,null,null,null,null,null,null,null,null,null,null,null,null,null,null,"□","その他（買物）",false,"","□","クリーニング",false,{"$f":"IF(Y562,X562,\"\")","v":""},"□","個別移送サービス",false,"","□","ペット",false,"","□","その他（運動・たまり場）",false,"","□","その他（設備・施設・場所貸し）",false,"","□","ゲームセンター",false,"","□","理容・美容",false,"",null,"□","桜区",false,"さいたま市:桜区","",null,null,null,null,null,"",null,"□","ふじみ野市",false,"南西部地域:ふじみ野市","",null,"□","吉川市",false,"東部地域:吉川市","",null,null,null,null,null,"",null,"□","越生町",false,"川越比企地域:越生町","",null,null,null,null,null,"",null,"□","幸手市",false,"利根地域:幸手市","",null,"□","上里町",false,"北部地域:上里町","",null,null,null,null,null,"",null,null,null,null,null,null,null,null,null,null,{"$f":"IF(#REF!=\"☑\",TRUE)","v":{"$error":"#REF!"}},{"$f":"IF(DQ562,#REF!,\"\")","v":{"$error":"#REF!"}}]
[null,null,null,null,null,null,null,null,null,null,null,null,null,null,null,null,null,null,null,null,null,null,"□","その他（宅配・デリバリー）",false,{"$f":"IF(Y563,X563,\"\")","v":""},"□","交通機関サービス",false,"","□","その他（出張サービス）",false,"",null,null,null,null,null,null,null,null,"□","旅行・レジャー",false,"","□","成年後見・相続",false,"",null,"□","浦和区",false,"さいたま市:浦和区","",null,null,null,null,null,"",null,"□","三芳町",false,"南西部地域:三芳町","",null,"□","松伏町",false,"東部地域:松伏町","",null,null,null,null,null,"",null,"□","滑川町",false,"川越比企地域:滑川町","",null,null,null,null,null,"",null,"□","白岡市",false,"利根地域:白岡市","",null,"□","寄居町",false,"北部地域:寄居町","",null,null,null,null,null,""]
[null,null,null,null,null,null,null,null,null,null,null,null,null,null,null,null,null,null,null,null,null,null,null,null,null,null,"□","その他（送迎・移動支援）",false,"",null,null,null,"",null,null,null,{"$f":"IF(AK564,AJ564,\"\")","v":""},null,null,null,{"$f":"IF(AO564,AN564,\"\")","v":""},"□","パソコン・スマホ教室",false,"","□","その他（生活サービス）",false,"",null,"□","南区",false,"さいたま市:南区","",null,null,null,null,null,"",null,null,null,null,null,"",null,null,null,null,null,"",null,null,null,null,null,"",null,"□","嵐山町",false,"川越比企地域:嵐山町","",null,null,null,null,null,"",null,"□","宮代町",false,"利根地域:宮代町","",null,null,null,null,null,"",null,null,null,null,null,""]
[null,null,null,null,null,null,null,null,null,null,null,null,null,null,null,null,null,null,null,null,null,null,null,null,null,null,null,null,null,null,null,null,null,null,null,null,null,null,null,null,null,null,"□","その他（学び・趣味）",false,"",null,null,null,null,null,"□","緑区",false,"さいたま市:緑区","",null,null,null,null,null,"",null,null,null,null,null,"",null,null,null,null,null,"",null,null,null,null,null,"",null,"□","小川町",false,"川越比企地域:小川町","",null,null,null,null,null,"",null,"□","杉戸町",false,"利根地域:杉戸町","",null,null,null,null,null,"",null,null,null,null,null,""]
[null,null,null,null,null,null,null,null,null,null,null,null,null,null,null,null,null,null,null,null,null,null,null,null,null,null,null,null,null,null,null,null,null,null,null,null,null,null,null,null,null,null,null,null,null,null,null,null,null,null,null,"□","岩槻区",{"$f":"IF(AZ566=\"☑\",TRUE)","v":false},"さいたま市:岩槻区","",null,null,null,null,null,"",null,null,null,null,null,"",null,null,null,null,null,"",null,null,null,null,null,"",null,"□","川島町",false,"川越比企地域:川島町","",null,null,null,null,null,"",null,null,null,null,null,"",null,null,null,null,null,"",null,null,null,null,null,""]
[null,null,null,null,null,null,null,null,null,null,null,null,null,null,null,null,null,null,null,null,null,null,null,null,null,null,null,null,null,null,null,null,null,null,null,null,null,null,null,null,null,null,null,null,null,null,null,null,null,null,null,null,null,null,null,null,null,null,null,null,null,null,null,null,null,null,null,null,null,null,null,null,null,null,null,null,null,null,null,null,null,"□","吉見町",false,"川越比企地域:吉見町","",null,null,null,null,null,"",null,null,null,null,null,"",null,null,null,null,null,"",null,null,null,null,null,""]
[null,null,null,null,null,null,null,null,null,null,null,null,null,null,null,null,null,null,null,null,null,null,null,null,null,null,null,null,null,null,null,null,null,null,null,null,null,null,null,null,null,null,null,null,null,null,null,null,null,null,null,null,null,null,null,null,null,null,null,null,null,null,null,null,null,null,null,null,null,null,null,null,null,null,null,null,null,null,null,null,null,"□","鳩山町",false,"川越比企地域:鳩山町","",null,null,null,null,null,"",null,null,null,null,null,"",null,null,null,null,null,"",null,null,null,null,null,""]
[null,null,null,null,null,null,null,null,null,null,null,null,null,null,null,null,null,null,null,null,null,null,null,null,null,null,null,null,null,null,null,null,null,null,null,null,null,null,null,null,null,null,null,null,null,null,null,null,null,null,null,null,null,null,null,null,null,null,null,null,null,null,null,null,null,null,null,null,null,null,null,null,null,null,null,null,null,null,null,null,null,"□","ときがわ町",false,"川越比企地域:ときがわ町","",null,null,null,null,null,"",null,null,null,null,null,"",null,null,null,null,null,"",null,null,null,null,null,""]
[null,null,null,null,null,null,null,null,null,null,null,null,null,null,null,null,null,null,null,null,null,null,null,null,null,null,null,null,null,null,null,null,null,null,null,null,null,null,null,null,null,null,null,null,null,null,null,null,null,null,null,null,null,null,null,null,null,null,null,null,null,null,null,null,null,null,null,null,null,null,null,null,null,null,null,null,null,null,null,null,null,"□","東秩父村",false,"川越比企地域:東秩父村","",null,null,null,null,null,"",null,null,null,null,null,"",null,null,null,null,null,"",null,null,null,null,null,""]
[40,null,null,null,null,null,null,null,null,null,null,null,null,null,null,null,null,null,"□","配送",{"$f":"IF(S571=\"☑\",TRUE)","v":false},{"$f":"IF(U571,T571,\"\")","v":""},"□","弁当配達",{"$f":"IF(W571=\"☑\",TRUE)","v":false},{"$f":"IF(Y571,X571,\"\")","v":""},"□","理容・美容（送迎）",{"$f":"IF(AA571=\"☑\",TRUE)","v":false},{"$f":"IF(AC571,AB571,\"\")","v":""},"□","家事代行・掃除・片付け",{"$f":"IF(AE571=\"☑\",TRUE)","v":false},{"$f":"IF(AG571,AF571,\"\")","v":""},"□","フィットネス・ジム（運動）",{"$f":"IF(AI571=\"☑\",TRUE)","v":false},{"$f":"IF(AK571,AJ571,\"\")","v":""},"□","車イス対応（バリアフリー）",{"$f":"IF(AM571=\"☑\",TRUE)","v":false},{"$f":"IF(AO571,AN571,\"\")","v":""},"□","講座・教室・イベント",{"$f":"IF(AQ571=\"☑\",TRUE)","v":false},{"$f":"IF(AS571,AR571,\"\")","v":""},"□","防犯・見守り",{"$f":"IF(AU571=\"☑\",TRUE)","v":false},{"$f":"IF(AW571,AV571,\"\")","v":""},{"$f":"_xludf.TEXTJOIN(\",\",TRUE,V571:V584,Z571:Z584,AD571:AD584,AH571:AH584,AL571:AL584,AP571:AP584,AT571:AT584,AX571:AX584)","v":""},"□","西区",{"$f":"IF(AZ571=\"☑\",TRUE)","v":false},{"$f":"\"さいたま市:\"&BA571","v":"さいたま市:西区"},{"$f":"IF(BB571,BC571,\"\")","v":""},{"$f":"_xludf.TEXTJOIN(\",\",TRUE,BD571:BD584)","v":""},"□","川口市",{"$f":"IF(BF571=\"☑\",TRUE)","v":false},{"$f":"\"南部地域:\"&BG571","v":"南部地域:川口市"},{"$f":"IF(BH571,BI571,\"\")","v":""},{"$f":"_xludf.TEXTJOIN(\",\",TRUE,BJ571:BJ584)","v":""},"□","朝霞市",{"$f":"IF(BL571=\"☑\",TRUE)","v":false},{"$f":"\"南西部地域:\"&BM571","v":"南西部地域:朝霞市"},{"$f":"IF(BN571,BO571,\"\")","v":""},{"$f":"_xludf.TEXTJOIN(\",\",TRUE,BP571:BP584)","v":""},"□","春日部市",{"$f":"IF(BR571=\"☑\",TRUE)","v":false},{"$f":"\"東部地域:\"&BS571","v":"東部地域:春日部市"},{"$f":"IF(BT571,BU571,\"\")","v":""},{"$f":"_xludf.TEXTJOIN(\",\",TRUE,BV571:BV584)","v":""},"□","鴻巣市",{"$f":"IF(BX571=\"☑\",TRUE)","v":false},{"$f":"\"県央地域:\"&BY571","v":"県央地域:鴻巣市"},{"$f":"IF(BZ571,CA571,\"\")","v":""},{"$f":"_xludf.TEXTJOIN(\",\",TRUE,CB571:CB584)","v":""},"□","川越市",{"$f":"IF(CD571=\"☑\",TRUE)","v":false},{"$f":"\"川越比企地域:\"&CE571","v":"川越比企地域:川越市"},{"$f":"IF(CF571,CG571,\"\")","v":""},{"$f":"_xludf.TEXTJOIN(\",\",TRUE,CH571:CH584)","v":""},"□","所沢市",{"$f":"IF(CJ571=\"☑\",TRUE)","v":false},{"$f":"\"西部地域:\"&CK571","v":"西部地域:所沢市"},{"$f":"IF(CL571,CM571,\"\")","v":""},{"$f":"_xludf.TEXTJOIN(\",\",TRUE,CN571:CN584)","v":""},"□","行田市",{"$f":"IF(CP571=\"☑\",TRUE)","v":false},{"$f":"\"利根地域:\"&CQ571","v":"利根地域:行田市"},{"$f":"IF(CR571,CS571,\"\")","v":""},{"$f":"_xludf.TEXTJOIN(\",\",TRUE,CT571:CT584)","v":""},"□","熊谷市",{"$f":"IF(CV571=\"☑\",TRUE)","v":false},{"$f":"\"北部地域:\"&CW571","v":"北部地域:熊谷市"},{"$f":"IF(CX571,CY571,\"\")","v":""},{"$f":"_xludf.TEXTJOIN(\",\",TRUE,CZ571:CZ584)","v":""},"□","秩父市",{"$f":"IF(DB571=\"☑\",TRUE)","v":false},{"$f":"\"秩父地域:\"&DC571","v":"秩父地域:秩父市"},{"$f":"IF(DD571,DE571,\"\")","v":""},{"$f":"_xludf.TEXTJOIN(\",\",TRUE,DF571:DF584)","v":""},{"$f":"_xlfn.TEXTJOIN(\",\",TRUE,BE571,BK571,BQ571,BW571,CC571,CI571,CO571,CU571,DA571,DG571)","v":""},null,null,null,null,null,null,null,null,{"$f":"IF(#REF!=\"☑\",TRUE)","v":{"$error":"#REF!"}},{"$f":"IF(DQ571,#REF!,\"\")","v":{"$error":"#REF!"}},{"$f":"_xludf.TEXTJOIN(\",\",TRUE,DR571:DR584)","v":{"$error":"#VALUE!"}}]
[null,null,null,null,null,null,null,null,null,null,null,null,null,null,null,null,null,null,"□","買物サポート",false,"","□","料理デリバリー（出前）",false,"","□","フィットネス・ジム（送迎）",{"$f":"IF(AA572=\"☑\",TRUE)","v":false},{"$f":"IF(AC572,AB572,\"\")","v":""},"□","出張料理",{"$f":"IF(AE572=\"☑\",TRUE)","v":false},{"$f":"IF(AG572,AF572,\"\")","v":""},"□","温泉・銭湯（たまり場）",false,"","□","多目的トイレ",false,"","□","習い事",{"$f":"IF(AQ572=\"☑\",TRUE)","v":false},{"$f":"IF(AS572,AR572,\"\")","v":""},"□","金融・保険",false,"",null,"□","北区",{"$f":"IF(AZ572=\"☑\",TRUE)","v":false},{"$f":"\"さいたま市:\"&BA572","v":"さいたま市:北区"},{"$f":"IF(BB572,BC572,\"\")","v":""},null,"□","蕨市",{"$f":"IF(BF572=\"☑\",TRUE)","v":false},{"$f":"\"南部地域:\"&BG572","v":"南部地域:蕨市"},{"$f":"IF(BH572,BI572,\"\")","v":""},null,"□","志木市",{"$f":"IF(BL572=\"☑\",TRUE)","v":false},{"$f":"\"南西部地域:\"&BM572","v":"南西部地域:志木市"},{"$f":"IF(BN572,BO572,\"\")","v":""},null,"□","草加市",{"$f":"IF(BR572=\"☑\",TRUE)","v":false},{"$f":"\"東部地域:\"&BS572","v":"東部地域:草加市"},"",null,"□","上尾市",{"$f":"IF(BX572=\"☑\",TRUE)","v":false},{"$f":"\"県央地域:\"&BY572","v":"県央地域:上尾市"},{"$f":"IF(BZ572,CA572,\"\")","v":""},null,"□","東松山市",{"$f":"IF(CD572=\"☑\",TRUE)","v":false},{"$f":"\"川越比企地域:\"&CE572","v":"川越比企地域:東松山市"},{"$f":"IF(CF572,CG572,\"\")","v":""},null,"□","飯能市",{"$f":"IF(CJ572=\"☑\",TRUE)","v":false},{"$f":"\"西部地域:\"&CK572","v":"西部地域:飯能市"},{"$f":"IF(CL572,CM572,\"\")","v":""},null,"□","加須市",{"$f":"IF(CP572=\"☑\",TRUE)","v":false},{"$f":"\"利根地域:\"&CQ572","v":"利根地域:加須市"},{"$f":"IF(CR572,CS572,\"\")","v":""},null,"□","本庄市",{"$f":"IF(CV572=\"☑\",TRUE)","v":false},{"$f":"\"北部地域:\"&CW572","v":"北部地域:本庄市"},{"$f":"IF(CX572,CY572,\"\")","v":""},null,"□","横瀬町",{"$f":"IF(DB572=\"☑\",TRUE)","v":false},{"$f":"\"秩父地域:\"&DC572","v":"秩父地域:横瀬町"},{"$f":"IF(DD572,DE572,\"\")","v":""},null,null,null,null,null,null,null,null,null,null,null,{"$f":"IF(DQ572,#REF!,\"\")","v":""}]
[null,null,null,null,null,null,null,null,null,null,null,null,null,null,null,null,null,null,"□","買物代行",false,"","□","食材宅配",false,"","□","温泉・銭湯（送迎）",false,"","□","屋外作業・力仕事",false,"","□","カフェ・ファーストフード",false,"","□","休憩スペース",false,"","□","映画館",false,"","□","住宅・リフォーム",false,"",null,"□","大宮区",false,"さいたま市:大宮区","",null,"□","戸田市",{"$f":"IF(BF573=\"☑\",TRUE)","v":false},{"$f":"\"南部地域:\"&BG573","v":"南部地域:戸田市"},"",null,"□","和光市",false,"南西部地域:和光市","",null,"□","越谷市",false,"東部地域:越谷市","",null,"□","桶川市",{"$f":"IF(BX573=\"☑\",TRUE)","v":false},{"$f":"\"県央地域:\"&BY573","v":"県央地域:桶川市"},"",null,"□","坂戸市",false,"川越比企地域:坂戸市","",null,"□","狭山市",{"$f":"IF(CJ573=\"☑\",TRUE)","v":false},{"$f":"\"西部地域:\"&CK573","v":"西部地域:狭山市"},"",null,"□","羽生市",false,"利根地域:羽生市","",null,"□","深谷市",false,"北部地域:深谷市","",null,"□","皆野町",{"$f":"IF(DB573=\"☑\",TRUE)","v":false},{"$f":"\"秩父地域:\"&DC573","v":"秩父地域:皆野町"},"",null,null,null,null,null,null,null,null,null,null,{"$f":"IF(#REF!=\"☑\",TRUE)","v":{"$error":"#REF!"}},{"$f":"IF(DQ573,#REF!,\"\")","v":{"$error":"#REF!"}}]
[null,null,null,null,null,null,null,null,null,null,null,null,null,null,null,null,null,null,"□","移動販売",false,"","□","日用品配達",false,"","□","整体・マッサージ（送迎）",false,"","□","整体・マッサージ（出張）",false,"","□","飲食店",false,"","□","駐車場",false,"","□","カラオケ店",false,"","□","パソコン・スマートフォン",false,"",null,"□","見沼区",false,"さいたま市:見沼区","",null,null,null,null,null,"",null,"□","新座市",false,"南西部地域:新座市","",null,"□","八潮市",false,"東部地域:八潮市","",null,"□","北本市",{"$f":"IF(BX574=\"☑\",TRUE)","v":false},{"$f":"\"県央地域:\"&BY574","v":"県央地域:北本市"},"",null,"□","鶴ヶ島市",false,"川越比企地域:鶴ヶ島市","",null,"□","入間市",{"$f":"IF(CJ574=\"☑\",TRUE)","v":false},{"$f":"\"西部地域:\"&CK574","v":"西部地域:入間市"},"",null,"□","久喜市",false,"利根地域:久喜市","",null,"□","美里町",false,"北部地域:美里町","",null,"□","長瀞町",{"$f":"IF(DB574=\"☑\",TRUE)","v":false},{"$f":"\"秩父地域:\"&DC574","v":"秩父地域:長瀞町"},""]
[null,null,null,null,null,null,null,null,null,null,null,null,null,null,null,null,null,null,"□","割引サービス",false,"","□","薬・介護用品配達",false,"","□","乗り合いサービス",false,"","□","理容・美容（出張）",false,"","□","イートインスペース",false,"","□","貸しスペース",false,"","□","麻雀・将棋・囲碁",false,"","□","認知症サポート企業",false,"",null,"□","中央区",false,"さいたま市:中央区","",null,null,null,null,null,"",null,"□","富士見市",false,"南西部地域:富士見市","",null,"□","三郷市",false,"東部地域:三郷市","",null,"□","伊奈町",{"$f":"IF(BX575=\"☑\",TRUE)","v":false},{"$f":"\"県央地域:\"&BY575","v":"県央地域:伊奈町"},"",null,"□","毛呂山町",false,"川越比企地域:毛呂山町","",null,"□","日高市",{"$f":"IF(CJ575=\"☑\",TRUE)","v":false},{"$f":"\"西部地域:\"&CK575","v":"西部地域:日高市"},"",null,"□","蓮田市",false,"利根地域:蓮田市","",null,"□","神川町",false,"北部地域:神川町","",null,"□","小鹿野町",{"$f":"IF(DB575=\"☑\",TRUE)","v":false},{"$f":"\"秩父地域:\"&DC575","v":"秩父地域:小鹿野町"},"",null,null,null,null,null,null,null,null,null,null,{"$f":"IF(#REF!=\"☑\",TRUE)","v":{"$error":"#REF!"}},{"$f":"IF(DQ575,#REF!,\"\")","v":{"$error":"#REF!"}}]
[null,null,null,null,null,null,null,null,null,null,null,null,null,null,null,null,null,null,"□","その他（買物）",false,"","□","クリーニング",false,{"$f":"IF(Y576,X576,\"\")","v":""},"□","個別移送サービス",false,"","□","ペット",false,"","□","その他（運動・たまり場）",false,"","□","その他（設備・施設・場所貸し）",false,"","□","ゲームセンター",false,"","□","理容・美容",false,"",null,"□","桜区",false,"さいたま市:桜区","",null,null,null,null,null,"",null,"□","ふじみ野市",false,"南西部地域:ふじみ野市","",null,"□","吉川市",false,"東部地域:吉川市","",null,null,null,null,null,"",null,"□","越生町",false,"川越比企地域:越生町","",null,null,null,null,null,"",null,"□","幸手市",false,"利根地域:幸手市","",null,"□","上里町",false,"北部地域:上里町","",null,null,null,null,null,"",null,null,null,null,null,null,null,null,null,null,{"$f":"IF(#REF!=\"☑\",TRUE)","v":{"$error":"#REF!"}},{"$f":"IF(DQ576,#REF!,\"\")","v":{"$error":"#REF!"}}]
[null,null,null,null,null,null,null,null,null,null,null,null,null,null,null,null,null,null,null,null,null,null,"□","その他（宅配・デリバリー）",false,{"$f":"IF(Y577,X577,\"\")","v":""},"□","交通機関サービス",false,"","□","その他（出張サービス）",false,"",null,null,null,null,null,null,null,null,"□","旅行・レジャー",false,"","□","成年後見・相続",false,"",null,"□","浦和区",false,"さいたま市:浦和区","",null,null,null,null,null,"",null,"□","三芳町",false,"南西部地域:三芳町","",null,"□","松伏町",false,"東部地域:松伏町","",null,null,null,null,null,"",null,"□","滑川町",false,"川越比企地域:滑川町","",null,null,null,null,null,"",null,"□","白岡市",false,"利根地域:白岡市","",null,"□","寄居町",false,"北部地域:寄居町","",null,null,null,null,null,""]
[null,null,null,null,null,null,null,null,null,null,null,null,null,null,null,null,null,null,null,null,null,null,null,null,null,null,"□","その他（送迎・移動支援）",false,"",null,null,null,"",null,null,null,{"$f":"IF(AK578,AJ578,\"\")","v":""},null,null,null,{"$f":"IF(AO578,AN578,\"\")","v":""},"□","パソコン・スマホ教室",false,"","□","その他（生活サービス）",false,"",null,"□","南区",false,"さいたま市:南区","",null,null,null,null,null,"",null,null,null,null,null,"",null,null,null,null,null,"",null,null,null,null,null,"",null,"□","嵐山町",false,"川越比企地域:嵐山町","",null,null,null,null,null,"",null,"□","宮代町",false,"利根地域:宮代町","",null,null,null,null,null,"",null,null,null,null,null,""]
[null,null,null,null,null,null,null,null,null,null,null,null,null,null,null,null,null,null,null,null,null,null,null,null,null,null,null,null,null,null,null,null,null,null,null,null,null,null,null,null,null,null,"□","その他（学び・趣味）",false,"",null,null,null,null,null,"□","緑区",false,"さいたま市:緑区","",null,null,null,null,null,"",null,null,null,null,null,"",null,null,null,null,null,"",null,null,null,null,null,"",null,"□","小川町",false,"川越比企地域:小川町","",null,null,null,null,null,"",null,"□","杉戸町",false,"利根地域:杉戸町","",null,null,null,null,null,"",null,null,null,null,null,""]
[null,null,null,null,null,null,null,null,null,null,null,null,null,null,null,null,null,null,null,null,null,null,null,null,null,null,null,null,null,null,null,null,null,null,null,null,null,null,null,null,null,null,null,null,null,null,null,null,null,null,null,"□","岩槻区",{"$f":"IF(AZ580=\"☑\",TRUE)","v":false},"さいたま市:岩槻区","",null,null,null,null,null,"",null,null,null,null,null,"",null,null,null,null,null,"",null,null,null,null,null,"",null,"□","川島町",false,"川越比企地域:川島町","",null,null,null,null,null,"",null,null,null,null,null,"",null,null,null,null,null,"",null,null,null,null,null,""]
[null,null,null,null,null,null,null,null,null,null,null,null,null,null,null,null,null,null,null,null,null,null,null,null,null,null,null,null,null,null,null,null,null,null,null,null,null,null,null,null,null,null,null,null,null,null,null,null,null,null,null,null,null,null,null,null,null,null,null,null,null,null,null,null,null,null,null,null,null,null,null,null,null,null,null,null,null,null,null,null,null,"□","吉見町",false,"川越比企地域:吉見町","",null,null,null,null,null,"",null,null,null,null,null,"",null,null,null,null,null,"",null,null,null,null,null,""]
[null,null,null,null,null,null,null,null,null,null,null,null,null,null,null,null,null,null,null,null,null,null,null,null,null,null,null,null,null,null,null,null,null,null,null,null,null,null,null,null,null,null,null,null,null,null,null,null,null,null,null,null,null,null,null,null,null,null,null,null,null,null,null,null,null,null,null,null,null,null,null,null,null,null,null,null,null,null,null,null,null,"□","鳩山町",false,"川越比企地域:鳩山町","",null,null,null,null,null,"",null,null,null,null,null,"",null,null,null,null,null,"",null,null,null,null,null,""]
[null,null,null,null,null,null,null,null,null,null,null,null,null,null,null,null,null,null,null,null,null,null,null,null,null,null,null,null,null,null,null,null,null,null,null,null,null,null,null,null,null,null,null,null,null,null,null,null,null,null,null,null,null,null,null,null,null,null,null,null,null,null,null,null,null,null,null,null,null,null,null,null,null,null,null,null,null,null,null,null,null,"□","ときがわ町",false,"川越比企地域:ときがわ町","",null,null,null,null,null,"",null,null,null,null,null,"",null,null,null,null,null,"",null,null,null,null,null,""]
[null,null,null,null,null,null,null,null,null,null,null,null,null,null,null,null,null,null,null,null,null,null,null,null,null,null,null,null,null,null,null,null,null,null,null,null,null,null,null,null,null,null,null,null,null,null,null,null,null,null,null,null,null,null,null,null,null,null,null,null,null,null,null,null,null,null,null,null,null,null,null,null,null,null,null,null,null,null,null,null,null,"□","東秩父村",false,"川越比企地域:東秩父村","",null,null,null,null,null,"",null,null,null,null,null,"",null,null,null,null,null,"",null,null,null,null,null,""]
[41,null,null,null,null,null,null,null,null,null,null,null,null,null,null,null,null,null,"□","配送",{"$f":"IF(S585=\"☑\",TRUE)","v":false},{"$f":"IF(U585,T585,\"\")","v":""},"□","弁当配達",{"$f":"IF(W585=\"☑\",TRUE)","v":false},{"$f":"IF(Y585,X585,\"\")","v":""},"□","理容・美容（送迎）",{"$f":"IF(AA585=\"☑\",TRUE)","v":false},{"$f":"IF(AC585,AB585,\"\")","v":""},"□","家事代行・掃除・片付け",{"$f":"IF(AE585=\"☑\",TRUE)","v":false},{"$f":"IF(AG585,AF585,\"\")","v":""},"□","フィットネス・ジム（運動）",{"$f":"IF(AI585=\"☑\",TRUE)","v":false},{"$f":"IF(AK585,AJ585,\"\")","v":""},"□","車イス対応（バリアフリー）",{"$f":"IF(AM585=\"☑\",TRUE)","v":false},{"$f":"IF(AO585,AN585,\"\")","v":""},"□","講座・教室・イベント",{"$f":"IF(AQ585=\"☑\",TRUE)","v":false},{"$f":"IF(AS585,AR585,\"\")","v":""},"□","防犯・見守り",{"$f":"IF(AU585=\"☑\",TRUE)","v":false},{"$f":"IF(AW585,AV585,\"\")","v":""},{"$f":"_xludf.TEXTJOIN(\",\",TRUE,V585:V598,Z585:Z598,AD585:AD598,AH585:AH598,AL585:AL598,AP585:AP598,AT585:AT598,AX585:AX598)","v":""},"□","西区",{"$f":"IF(AZ585=\"☑\",TRUE)","v":false},{"$f":"\"さいたま市:\"&BA585","v":"さいたま市:西区"},{"$f":"IF(BB585,BC585,\"\")","v":""},{"$f":"_xludf.TEXTJOIN(\",\",TRUE,BD585:BD598)","v":""},"□","川口市",{"$f":"IF(BF585=\"☑\",TRUE)","v":false},{"$f":"\"南部地域:\"&BG585","v":"南部地域:川口市"},{"$f":"IF(BH585,BI585,\"\")","v":""},{"$f":"_xludf.TEXTJOIN(\",\",TRUE,BJ585:BJ598)","v":""},"□","朝霞市",{"$f":"IF(BL585=\"☑\",TRUE)","v":false},{"$f":"\"南西部地域:\"&BM585","v":"南西部地域:朝霞市"},{"$f":"IF(BN585,BO585,\"\")","v":""},{"$f":"_xludf.TEXTJOIN(\",\",TRUE,BP585:BP598)","v":""},"□","春日部市",{"$f":"IF(BR585=\"☑\",TRUE)","v":false},{"$f":"\"東部地域:\"&BS585","v":"東部地域:春日部市"},{"$f":"IF(BT585,BU585,\"\")","v":""},{"$f":"_xludf.TEXTJOIN(\",\",TRUE,BV585:BV598)","v":""},"□","鴻巣市",{"$f":"IF(BX585=\"☑\",TRUE)","v":false},{"$f":"\"県央地域:\"&BY585","v":"県央地域:鴻巣市"},{"$f":"IF(BZ585,CA585,\"\")","v":""},{"$f":"_xludf.TEXTJOIN(\",\",TRUE,CB585:CB598)","v":""},"□","川越市",{"$f":"IF(CD585=\"☑\",TRUE)","v":false},{"$f":"\"川越比企地域:\"&CE585","v":"川越比企地域:川越市"},{"$f":"IF(CF585,CG585,\"\")","v":""},{"$f":"_xludf.TEXTJOIN(\",\",TRUE,CH585:CH598)","v":""},"□","所沢市",{"$f":"IF(CJ585=\"☑\",TRUE)","v":false},{"$f":"\"西部地域:\"&CK585","v":"西部地域:所沢市"},{"$f":"IF(CL585,CM585,\"\")","v":""},{"$f":"_xludf.TEXTJOIN(\",\",TRUE,CN585:CN598)","v":""},"□","行田市",{"$f":"IF(CP585=\"☑\",TRUE)","v":false},{"$f":"\"利根地域:\"&CQ585","v":"利根地域:行田市"},{"$f":"IF(CR585,CS585,\"\")","v":""},{"$f":"_xludf.TEXTJOIN(\",\",TRUE,CT585:CT598)","v":""},"□","熊谷市",{"$f":"IF(CV585=\"☑\",TRUE)","v":false},{"$f":"\"北部地域:\"&CW585","v":"北部地域:熊谷市"},{"$f":"IF(CX585,CY585,\"\")","v":""},{"$f":"_xludf.TEXTJOIN(\",\",TRUE,CZ585:CZ598)","v":""},"□","秩父市",{"$f":"IF(DB585=\"☑\",TRUE)","v":false},{"$f":"\"秩父地域:\"&DC585","v":"秩父地域:秩父市"},{"$f":"IF(DD585,DE585,\"\")","v":""},{"$f":"_xludf.TEXTJOIN(\",\",TRUE,DF585:DF598)","v":""},{"$f":"_xlfn.TEXTJOIN(\",\",TRUE,BE585,BK585,BQ585,BW585,CC585,CI585,CO585,CU585,DA585,DG585)","v":""},null,null,null,null,null,null,null,null,{"$f":"IF(#REF!=\"☑\",TRUE)","v":{"$error":"#REF!"}},{"$f":"IF(DQ585,#REF!,\"\")","v":{"$error":"#REF!"}},{"$f":"_xludf.TEXTJOIN(\",\",TRUE,DR585:DR598)","v":{"$error":"#VALUE!"}}]
[null,null,null,null,null,null,null,null,null,null,null,null,null,null,null,null,null,null,"□","買物サポート",false,"","□","料理デリバリー（出前）",false,"","□","フィットネス・ジム（送迎）",{"$f":"IF(AA586=\"☑\",TRUE)","v":false},{"$f":"IF(AC586,AB586,\"\")","v":""},"□","出張料理",{"$f":"IF(AE586=\"☑\",TRUE)","v":false},{"$f":"IF(AG586,AF586,\"\")","v":""},"□","温泉・銭湯（たまり場）",false,"","□","多目的トイレ",false,"","□","習い事",{"$f":"IF(AQ586=\"☑\",TRUE)","v":false},{"$f":"IF(AS586,AR586,\"\")","v":""},"□","金融・保険",false,"",null,"□","北区",{"$f":"IF(AZ586=\"☑\",TRUE)","v":false},{"$f":"\"さいたま市:\"&BA586","v":"さいたま市:北区"},{"$f":"IF(BB586,BC586,\"\")","v":""},null,"□","蕨市",{"$f":"IF(BF586=\"☑\",TRUE)","v":false},{"$f":"\"南部地域:\"&BG586","v":"南部地域:蕨市"},{"$f":"IF(BH586,BI586,\"\")","v":""},null,"□","志木市",{"$f":"IF(BL586=\"☑\",TRUE)","v":false},{"$f":"\"南西部地域:\"&BM586","v":"南西部地域:志木市"},{"$f":"IF(BN586,BO586,\"\")","v":""},null,"□","草加市",{"$f":"IF(BR586=\"☑\",TRUE)","v":false},{"$f":"\"東部地域:\"&BS586","v":"東部地域:草加市"},"",null,"□","上尾市",{"$f":"IF(BX586=\"☑\",TRUE)","v":false},{"$f":"\"県央地域:\"&BY586","v":"県央地域:上尾市"},{"$f":"IF(BZ586,CA586,\"\")","v":""},null,"□","東松山市",{"$f":"IF(CD586=\"☑\",TRUE)","v":false},{"$f":"\"川越比企地域:\"&CE586","v":"川越比企地域:東松山市"},{"$f":"IF(CF586,CG586,\"\")","v":""},null,"□","飯能市",{"$f":"IF(CJ586=\"☑\",TRUE)","v":false},{"$f":"\"西部地域:\"&CK586","v":"西部地域:飯能市"},{"$f":"IF(CL586,CM586,\"\")","v":""},null,"□","加須市",{"$f":"IF(CP586=\"☑\",TRUE)","v":false},{"$f":"\"利根地域:\"&CQ586","v":"利根地域:加須市"},{"$f":"IF(CR586,CS586,\"\")","v":""},null,"□","本庄市",{"$f":"IF(CV586=\"☑\",TRUE)","v":false},{"$f":"\"北部地域:\"&CW586","v":"北部地域:本庄市"},{"$f":"IF(CX586,CY586,\"\")","v":""},null,"□","横瀬町",{"$f":"IF(DB586=\"☑\",TRUE)","v":false},{"$f":"\"秩父地域:\"&DC586","v":"秩父地域:横瀬町"},{"$f":"IF(DD586,DE586,\"\")","v":""},null,null,null,null,null,null,null,null,null,null,null,{"$f":"IF(DQ586,#REF!,\"\")","v":""}]
[null,null,null,null,null,null,null,null,null,null,null,null,null,null,null,null,null,null,"□","買物代行",false,"","□","食材宅配",false,"","□","温泉・銭湯（送迎）",false,"","□","屋外作業・力仕事",false,"","□","カフェ・ファーストフード",false,"","□","休憩スペース",false,"","□","映画館",false,"","□","住宅・リフォーム",false,"",null,"□","大宮区",false,"さいたま市:大宮区","",null,"□","戸田市",{"$f":"IF(BF587=\"☑\",TRUE)","v":false},{"$f":"\"南部地域:\"&BG587","v":"南部地域:戸田市"},"",null,"□","和光市",false,"南西部地域:和光市","",null,"□","越谷市",false,"東部地域:越谷市","",null,"□","桶川市",{"$f":"IF(BX587=\"☑\",TRUE)","v":false},{"$f":"\"県央地域:\"&BY587","v":"県央地域:桶川市"},"",null,"□","坂戸市",false,"川越比企地域:坂戸市","",null,"□","狭山市",{"$f":"IF(CJ587=\"☑\",TRUE)","v":false},{"$f":"\"西部地域:\"&CK587","v":"西部地域:狭山市"},"",null,"□","羽生市",false,"利根地域:羽生市","",null,"□","深谷市",false,"北部地域:深谷市","",null,"□","皆野町",{"$f":"IF(DB587=\"☑\",TRUE)","v":false},{"$f":"\"秩父地域:\"&DC587","v":"秩父地域:皆野町"},"",null,null,null,null,null,null,null,null,null,null,{"$f":"IF(#REF!=\"☑\",TRUE)","v":{"$error":"#REF!"}},{"$f":"IF(DQ587,#REF!,\"\")","v":{"$error":"#REF!"}}]
[null,null,null,null,null,null,null,null,null,null,null,null,null,null,null,null,null,null,"□","移動販売",false,"","□","日用品配達",false,"","□","整体・マッサージ（送迎）",false,"","□","整体・マッサージ（出張）",false,"","□","飲食店",false,"","□","駐車場",false,"","□","カラオケ店",false,"","□","パソコン・スマートフォン",false,"",null,"□","見沼区",false,"さいたま市:見沼区","",null,null,null,null,null,"",null,"□","新座市",false,"南西部地域:新座市","",null,"□","八潮市",false,"東部地域:八潮市","",null,"□","北本市",{"$f":"IF(BX588=\"☑\",TRUE)","v":false},{"$f":"\"県央地域:\"&BY588","v":"県央地域:北本市"},"",null,"□","鶴ヶ島市",false,"川越比企地域:鶴ヶ島市","",null,"□","入間市",{"$f":"IF(CJ588=\"☑\",TRUE)","v":false},{"$f":"\"西部地域:\"&CK588","v":"西部地域:入間市"},"",null,"□","久喜市",false,"利根地域:久喜市","",null,"□","美里町",false,"北部地域:美里町","",null,"□","長瀞町",{"$f":"IF(DB588=\"☑\",TRUE)","v":false},{"$f":"\"秩父地域:\"&DC588","v":"秩父地域:長瀞町"},""]
[null,null,null,null,null,null,null,null,null,null,null,null,null,null,null,null,null,null,"□","割引サービス",false,"","□","薬・介護用品配達",false,"","□","乗り合いサービス",false,"","□","理容・美容（出張）",false,"","□","イートインスペース",false,"","□","貸しスペース",false,"","□","麻雀・将棋・囲碁",false,"","□","認知症サポート企業",false,"",null,"□","中央区",false,"さいたま市:中央区","",null,null,null,null,null,"",null,"□","富士見市",false,"南西部地域:富士見市","",null,"□","三郷市",false,"東部地域:三郷市","",null,"□","伊奈町",{"$f":"IF(BX589=\"☑\",TRUE)","v":false},{"$f":"\"県央地域:\"&BY589","v":"県央地域:伊奈町"},"",null,"□","毛呂山町",false,"川越比企地域:毛呂山町","",null,"□","日高市",{"$f":"IF(CJ589=\"☑\",TRUE)","v":false},{"$f":"\"西部地域:\"&CK589","v":"西部地域:日高市"},"",null,"□","蓮田市",false,"利根地域:蓮田市","",null,"□","神川町",false,"北部地域:神川町","",null,"□","小鹿野町",{"$f":"IF(DB589=\"☑\",TRUE)","v":false},{"$f":"\"秩父地域:\"&DC589","v":"秩父地域:小鹿野町"},"",null,null,null,null,null,null,null,null,null,null,{"$f":"IF(#REF!=\"☑\",TRUE)","v":{"$error":"#REF!"}},{"$f":"IF(DQ589,#REF!,\"\")","v":{"$error":"#REF!"}}]
[null,null,null,null,null,null,null,null,null,null,null,null,null,null,null,null,null,null,"□","その他（買物）",false,"","□","クリーニング",false,{"$f":"IF(Y590,X590,\"\")","v":""},"□","個別移送サービス",false,"","□","ペット",false,"","□","その他（運動・たまり場）",false,"","□","その他（設備・施設・場所貸し）",false,"","□","ゲームセンター",false,"","□","理容・美容",false,"",null,"□","桜区",false,"さいたま市:桜区","",null,null,null,null,null,"",null,"□","ふじみ野市",false,"南西部地域:ふじみ野市","",null,"□","吉川市",false,"東部地域:吉川市","",null,null,null,null,null,"",null,"□","越生町",false,"川越比企地域:越生町","",null,null,null,null,null,"",null,"□","幸手市",false,"利根地域:幸手市","",null,"□","上里町",false,"北部地域:上里町","",null,null,null,null,null,"",null,null,null,null,null,null,null,null,null,null,{"$f":"IF(#REF!=\"☑\",TRUE)","v":{"$error":"#REF!"}},{"$f":"IF(DQ590,#REF!,\"\")","v":{"$error":"#REF!"}}]
[null,null,null,null,null,null,null,null,null,null,null,null,null,null,null,null,null,null,null,null,null,null,"□","その他（宅配・デリバリー）",false,{"$f":"IF(Y591,X591,\"\")","v":""},"□","交通機関サービス",false,"","□","その他（出張サービス）",false,"",null,null,null,null,null,null,null,null,"□","旅行・レジャー",false,"","□","成年後見・相続",false,"",null,"□","浦和区",false,"さいたま市:浦和区","",null,null,null,null,null,"",null,"□","三芳町",false,"南西部地域:三芳町","",null,"□","松伏町",false,"東部地域:松伏町","",null,null,null,null,null,"",null,"□","滑川町",false,"川越比企地域:滑川町","",null,null,null,null,null,"",null,"□","白岡市",false,"利根地域:白岡市","",null,"□","寄居町",false,"北部地域:寄居町","",null,null,null,null,null,""]
[null,null,null,null,null,null,null,null,null,null,null,null,null,null,null,null,null,null,null,null,null,null,null,null,null,null,"□","その他（送迎・移動支援）",false,"",null,null,null,"",null,null,null,{"$f":"IF(AK592,AJ592,\"\")","v":""},null,null,null,{"$f":"IF(AO592,AN592,\"\")","v":""},"□","パソコン・スマホ教室",false,"","□","その他（生活サービス）",false,"",null,"□","南区",false,"さいたま市:南区","",null,null,null,null,null,"",null,null,null,null,null,"",null,null,null,null,null,"",null,null,null,null,null,"",null,"□","嵐山町",false,"川越比企地域:嵐山町","",null,null,null,null,null,"",null,"□","宮代町",false,"利根地域:宮代町","",null,null,null,null,null,"",null,null,null,null,null,""]
[null,null,null,null,null,null,null,null,null,null,null,null,null,null,null,null,null,null,null,null,null,null,null,null,null,null,null,null,null,null,null,null,null,null,null,null,null,null,null,null,null,null,"□","その他（学び・趣味）",false,"",null,null,null,null,null,"□","緑区",false,"さいたま市:緑区","",null,null,null,null,null,"",null,null,null,null,null,"",null,null,null,null,null,"",null,null,null,null,null,"",null,"□","小川町",false,"川越比企地域:小川町","",null,null,null,null,null,"",null,"□","杉戸町",false,"利根地域:杉戸町","",null,null,null,null,null,"",null,null,null,null,null,""]
[null,null,null,null,null,null,null,null,null,null,null,null,null,null,null,null,null,null,null,null,null,null,null,null,null,null,null,null,null,null,null,null,null,null,null,null,null,null,null,null,null,null,null,null,null,null,null,null,null,null,null,"□","岩槻区",{"$f":"IF(AZ594=\"☑\",TRUE)","v":false},"さいたま市:岩槻区","",null,null,null,null,null,"",null,null,null,null,null,"",null,null,null,null,null,"",null,null,null,null,null,"",null,"□","川島町",false,"川越比企地域:川島町","",null,null,null,null,null,"",null,null,null,null,null,"",null,null,null,null,null,"",null,null,null,null,null,""]
[null,null,null,null,null,null,null,null,null,null,null,null,null,null,null,null,null,null,null,null,null,null,null,null,null,null,null,null,null,null,null,null,null,null,null,null,null,null,null,null,null,null,null,null,null,null,null,null,null,null,null,null,null,null,null,null,null,null,null,null,null,null,null,null,null,null,null,null,null,null,null,null,null,null,null,null,null,null,null,null,null,"□","吉見町",false,"川越比企地域:吉見町","",null,null,null,null,null,"",null,null,null,null,null,"",null,null,null,null,null,"",null,null,null,null,null,""]
[null,null,null,null,null,null,null,null,null,null,null,null,null,null,null,null,null,null,null,null,null,null,null,null,null,null,null,null,null,null,null,null,null,null,null,null,null,null,null,null,null,null,null,null,null,null,null,null,null,null,null,null,null,null,null,null,null,null,null,null,null,null,null,null,null,null,null,null,null,null,null,null,null,null,null,null,null,null,null,null,null,"□","鳩山町",false,"川越比企地域:鳩山町","",null,null,null,null,null,"",null,null,null,null,null,"",null,null,null,null,null,"",null,null,null,null,null,""]
[null,null,null,null,null,null,null,null,null,null,null,null,null,null,null,null,null,null,null,null,null,null,null,null,null,null,null,null,null,null,null,null,null,null,null,null,null,null,null,null,null,null,null,null,null,null,null,null,null,null,null,null,null,null,null,null,null,null,null,null,null,null,null,null,null,null,null,null,null,null,null,null,null,null,null,null,null,null,null,null,null,"□","ときがわ町",false,"川越比企地域:ときがわ町","",null,null,null,null,null,"",null,null,null,null,null,"",null,null,null,null,null,"",null,null,null,null,null,""]
[null,null,null,null,null,null,null,null,null,null,null,null,null,null,null,null,null,null,null,null,null,null,null,null,null,null,null,null,null,null,null,null,null,null,null,null,null,null,null,null,null,null,null,null,null,null,null,null,null,null,null,null,null,null,null,null,null,null,null,null,null,null,null,null,null,null,null,null,null,null,null,null,null,null,null,null,null,null,null,null,null,"□","東秩父村",false,"川越比企地域:東秩父村","",null,null,null,null,null,"",null,null,null,null,null,"",null,null,null,null,null,"",null,null,null,null,null,""]
[42,null,null,null,null,null,null,null,null,null,null,null,null,null,null,null,null,null,"□","配送",{"$f":"IF(S599=\"☑\",TRUE)","v":false},{"$f":"IF(U599,T599,\"\")","v":""},"□","弁当配達",{"$f":"IF(W599=\"☑\",TRUE)","v":false},{"$f":"IF(Y599,X599,\"\")","v":""},"□","理容・美容（送迎）",{"$f":"IF(AA599=\"☑\",TRUE)","v":false},{"$f":"IF(AC599,AB599,\"\")","v":""},"□","家事代行・掃除・片付け",{"$f":"IF(AE599=\"☑\",TRUE)","v":false},{"$f":"IF(AG599,AF599,\"\")","v":""},"□","フィットネス・ジム（運動）",{"$f":"IF(AI599=\"☑\",TRUE)","v":false},{"$f":"IF(AK599,AJ599,\"\")","v":""},"□","車イス対応（バリアフリー）",{"$f":"IF(AM599=\"☑\",TRUE)","v":false},{"$f":"IF(AO599,AN599,\"\")","v":""},"□","講座・教室・イベント",{"$f":"IF(AQ599=\"☑\",TRUE)","v":false},{"$f":"IF(AS599,AR599,\"\")","v":""},"□","防犯・見守り",{"$f":"IF(AU599=\"☑\",TRUE)","v":false},{"$f":"IF(AW599,AV599,\"\")","v":""},{"$f":"_xludf.TEXTJOIN(\",\",TRUE,V599:V612,Z599:Z612,AD599:AD612,AH599:AH612,AL599:AL612,AP599:AP612,AT599:AT612,AX599:AX612)","v":""},"□","西区",{"$f":"IF(AZ599=\"☑\",TRUE)","v":false},{"$f":"\"さいたま市:\"&BA599","v":"さいたま市:西区"},{"$f":"IF(BB599,BC599,\"\")","v":""},{"$f":"_xludf.TEXTJOIN(\",\",TRUE,BD599:BD612)","v":""},"□","川口市",{"$f":"IF(BF599=\"☑\",TRUE)","v":false},{"$f":"\"南部地域:\"&BG599","v":"南部地域:川口市"},{"$f":"IF(BH599,BI599,\"\")","v":""},{"$f":"_xludf.TEXTJOIN(\",\",TRUE,BJ599:BJ612)","v":""},"□","朝霞市",{"$f":"IF(BL599=\"☑\",TRUE)","v":false},{"$f":"\"南西部地域:\"&BM599","v":"南西部地域:朝霞市"},{"$f":"IF(BN599,BO599,\"\")","v":""},{"$f":"_xludf.TEXTJOIN(\",\",TRUE,BP599:BP612)","v":""},"□","春日部市",{"$f":"IF(BR599=\"☑\",TRUE)","v":false},{"$f":"\"東部地域:\"&BS599","v":"東部地域:春日部市"},{"$f":"IF(BT599,BU599,\"\")","v":""},{"$f":"_xludf.TEXTJOIN(\",\",TRUE,BV599:BV612)","v":""},"□","鴻巣市",{"$f":"IF(BX599=\"☑\",TRUE)","v":false},{"$f":"\"県央地域:\"&BY599","v":"県央地域:鴻巣市"},{"$f":"IF(BZ599,CA599,\"\")","v":""},{"$f":"_xludf.TEXTJOIN(\",\",TRUE,CB599:CB612)","v":""},"□","川越市",{"$f":"IF(CD599=\"☑\",TRUE)","v":false},{"$f":"\"川越比企地域:\"&CE599","v":"川越比企地域:川越市"},{"$f":"IF(CF599,CG599,\"\")","v":""},{"$f":"_xludf.TEXTJOIN(\",\",TRUE,CH599:CH612)","v":""},"□","所沢市",{"$f":"IF(CJ599=\"☑\",TRUE)","v":false},{"$f":"\"西部地域:\"&CK599","v":"西部地域:所沢市"},{"$f":"IF(CL599,CM599,\"\")","v":""},{"$f":"_xludf.TEXTJOIN(\",\",TRUE,CN599:CN612)","v":""},"□","行田市",{"$f":"IF(CP599=\"☑\",TRUE)","v":false},{"$f":"\"利根地域:\"&CQ599","v":"利根地域:行田市"},{"$f":"IF(CR599,CS599,\"\")","v":""},{"$f":"_xludf.TEXTJOIN(\",\",TRUE,CT599:CT612)","v":""},"□","熊谷市",{"$f":"IF(CV599=\"☑\",TRUE)","v":false},{"$f":"\"北部地域:\"&CW599","v":"北部地域:熊谷市"},{"$f":"IF(CX599,CY599,\"\")","v":""},{"$f":"_xludf.TEXTJOIN(\",\",TRUE,CZ599:CZ612)","v":""},"□","秩父市",{"$f":"IF(DB599=\"☑\",TRUE)","v":false},{"$f":"\"秩父地域:\"&DC599","v":"秩父地域:秩父市"},{"$f":"IF(DD599,DE599,\"\")","v":""},{"$f":"_xludf.TEXTJOIN(\",\",TRUE,DF599:DF612)","v":""},{"$f":"_xlfn.TEXTJOIN(\",\",TRUE,BE599,BK599,BQ599,BW599,CC599,CI599,CO599,CU599,DA599,DG599)","v":""},null,null,null,null,null,null,null,null,{"$f":"IF(#REF!=\"☑\",TRUE)","v":{"$error":"#REF!"}},{"$f":"IF(DQ599,#REF!,\"\")","v":{"$error":"#REF!"}},{"$f":"_xludf.TEXTJOIN(\",\",TRUE,DR599:DR612)","v":{"$error":"#VALUE!"}}]
[null,null,null,null,null,null,null,null,null,null,null,null,null,null,null,null,null,null,"□","買物サポート",false,"","□","料理デリバリー（出前）",false,"","□","フィットネス・ジム（送迎）",{"$f":"IF(AA600=\"☑\",TRUE)","v":false},{"$f":"IF(AC600,AB600,\"\")","v":""},"□","出張料理",{"$f":"IF(AE600=\"☑\",TRUE)","v":false},{"$f":"IF(AG600,AF600,\"\")","v":""},"□","温泉・銭湯（たまり場）",false,"","□","多目的トイレ",false,"","□","習い事",{"$f":"IF(AQ600=\"☑\",TRUE)","v":false},{"$f":"IF(AS600,AR600,\"\")","v":""},"□","金融・保険",false,"",null,"□","北区",{"$f":"IF(AZ600=\"☑\",TRUE)","v":false},{"$f":"\"さいたま市:\"&BA600","v":"さいたま市:北区"},{"$f":"IF(BB600,BC600,\"\")","v":""},null,"□","蕨市",{"$f":"IF(BF600=\"☑\",TRUE)","v":false},{"$f":"\"南部地域:\"&BG600","v":"南部地域:蕨市"},{"$f":"IF(BH600,BI600,\"\")","v":""},null,"□","志木市",{"$f":"IF(BL600=\"☑\",TRUE)","v":false},{"$f":"\"南西部地域:\"&BM600","v":"南西部地域:志木市"},{"$f":"IF(BN600,BO600,\"\")","v":""},null,"□","草加市",{"$f":"IF(BR600=\"☑\",TRUE)","v":false},{"$f":"\"東部地域:\"&BS600","v":"東部地域:草加市"},"",null,"□","上尾市",{"$f":"IF(BX600=\"☑\",TRUE)","v":false},{"$f":"\"県央地域:\"&BY600","v":"県央地域:上尾市"},{"$f":"IF(BZ600,CA600,\"\")","v":""},null,"□","東松山市",{"$f":"IF(CD600=\"☑\",TRUE)","v":false},{"$f":"\"川越比企地域:\"&CE600","v":"川越比企地域:東松山市"},{"$f":"IF(CF600,CG600,\"\")","v":""},null,"□","飯能市",{"$f":"IF(CJ600=\"☑\",TRUE)","v":false},{"$f":"\"西部地域:\"&CK600","v":"西部地域:飯能市"},{"$f":"IF(CL600,CM600,\"\")","v":""},null,"□","加須市",{"$f":"IF(CP600=\"☑\",TRUE)","v":false},{"$f":"\"利根地域:\"&CQ600","v":"利根地域:加須市"},{"$f":"IF(CR600,CS600,\"\")","v":""},null,"□","本庄市",{"$f":"IF(CV600=\"☑\",TRUE)","v":false},{"$f":"\"北部地域:\"&CW600","v":"北部地域:本庄市"},{"$f":"IF(CX600,CY600,\"\")","v":""},null,"□","横瀬町",{"$f":"IF(DB600=\"☑\",TRUE)","v":false},{"$f":"\"秩父地域:\"&DC600","v":"秩父地域:横瀬町"},{"$f":"IF(DD600,DE600,\"\")","v":""},null,null,null,null,null,null,null,null,null,null,null,{"$f":"IF(DQ600,#REF!,\"\")","v":""}]
[null,null,null,null,null,null,null,null,null,null,null,null,null,null,null,null,null,null,"□","買物代行",false,"","□","食材宅配",false,"","□","温泉・銭湯（送迎）",false,"","□","屋外作業・力仕事",false,"","□","カフェ・ファーストフード",false,"","□","休憩スペース",false,"","□","映画館",false,"","□","住宅・リフォーム",false,"",null,"□","大宮区",false,"さいたま市:大宮区","",null,"□","戸田市",{"$f":"IF(BF601=\"☑\",TRUE)","v":false},{"$f":"\"南部地域:\"&BG601","v":"南部地域:戸田市"},"",null,"□","和光市",false,"南西部地域:和光市","",null,"□","越谷市",false,"東部地域:越谷市","",null,"□","桶川市",{"$f":"IF(BX601=\"☑\",TRUE)","v":false},{"$f":"\"県央地域:\"&BY601","v":"県央地域:桶川市"},"",null,"□","坂戸市",false,"川越比企地域:坂戸市","",null,"□","狭山市",{"$f":"IF(CJ601=\"☑\",TRUE)","v":false},{"$f":"\"西部地域:\"&CK601","v":"西部地域:狭山市"},"",null,"□","羽生市",false,"利根地域:羽生市","",null,"□","深谷市",false,"北部地域:深谷市","",null,"□","皆野町",{"$f":"IF(DB601=\"☑\",TRUE)","v":false},{"$f":"\"秩父地域:\"&DC601","v":"秩父地域:皆野町"},"",null,null,null,null,null,null,null,null,null,null,{"$f":"IF(#REF!=\"☑\",TRUE)","v":{"$error":"#REF!"}},{"$f":"IF(DQ601,#REF!,\"\")","v":{"$error":"#REF!"}}]
[null,null,null,null,null,null,null,null,null,null,null,null,null,null,null,null,null,null,"□","移動販売",false,"","□","日用品配達",false,"","□","整体・マッサージ（送迎）",false,"","□","整体・マッサージ（出張）",false,"","□","飲食店",false,"","□","駐車場",false,"","□","カラオケ店",false,"","□","パソコン・スマートフォン",false,"",null,"□","見沼区",false,"さいたま市:見沼区","",null,null,null,null,null,"",null,"□","新座市",false,"南西部地域:新座市","",null,"□","八潮市",false,"東部地域:八潮市","",null,"□","北本市",{"$f":"IF(BX602=\"☑\",TRUE)","v":false},{"$f":"\"県央地域:\"&BY602","v":"県央地域:北本市"},"",null,"□","鶴ヶ島市",false,"川越比企地域:鶴ヶ島市","",null,"□","入間市",{"$f":"IF(CJ602=\"☑\",TRUE)","v":false},{"$f":"\"西部地域:\"&CK602","v":"西部地域:入間市"},"",null,"□","久喜市",false,"利根地域:久喜市","",null,"□","美里町",false,"北部地域:美里町","",null,"□","長瀞町",{"$f":"IF(DB602=\"☑\",TRUE)","v":false},{"$f":"\"秩父地域:\"&DC602","v":"秩父地域:長瀞町"},""]
[null,null,null,null,null,null,null,null,null,null,null,null,null,null,null,null,null,null,"□","割引サービス",false,"","□","薬・介護用品配達",false,"","□","乗り合いサービス",false,"","□","理容・美容（出張）",false,"","□","イートインスペース",false,"","□","貸しスペース",false,"","□","麻雀・将棋・囲碁",false,"","□","認知症サポート企業",false,"",null,"□","中央区",false,"さいたま市:中央区","",null,null,null,null,null,"",null,"□","富士見市",false,"南西部地域:富士見市","",null,"□","三郷市",false,"東部地域:三郷市","",null,"□","伊奈町",{"$f":"IF(BX603=\"☑\",TRUE)","v":false},{"$f":"\"県央地域:\"&BY603","v":"県央地域:伊奈町"},"",null,"□","毛呂山町",false,"川越比企地域:毛呂山町","",null,"□","日高市",{"$f":"IF(CJ603=\"☑\",TRUE)","v":false},{"$f":"\"西部地域:\"&CK603","v":"西部地域:日高市"},"",null,"□","蓮田市",false,"利根地域:蓮田市","",null,"□","神川町",false,"北部地域:神川町","",null,"□","小鹿野町",{"$f":"IF(DB603=\"☑\",TRUE)","v":false},{"$f":"\"秩父地域:\"&DC603","v":"秩父地域:小鹿野町"},"",null,null,null,null,null,null,null,null,null,null,{"$f":"IF(#REF!=\"☑\",TRUE)","v":{"$error":"#REF!"}},{"$f":"IF(DQ603,#REF!,\"\")","v":{"$error":"#REF!"}}]
[null,null,null,null,null,null,null,null,null,null,null,null,null,null,null,null,null,null,"□","その他（買物）",false,"","□","クリーニング",false,{"$f":"IF(Y604,X604,\"\")","v":""},"□","個別移送サービス",false,"","□","ペット",false,"","□","その他（運動・たまり場）",false,"","□","その他（設備・施設・場所貸し）",false,"","□","ゲームセンター",false,"","□","理容・美容",false,"",null,"□","桜区",false,"さいたま市:桜区","",null,null,null,null,null,"",null,"□","ふじみ野市",false,"南西部地域:ふじみ野市","",null,"□","吉川市",false,"東部地域:吉川市","",null,null,null,null,null,"",null,"□","越生町",false,"川越比企地域:越生町","",null,null,null,null,null,"",null,"□","幸手市",false,"利根地域:幸手市","",null,"□","上里町",false,"北部地域:上里町","",null,null,null,null,null,"",null,null,null,null,null,null,null,null,null,null,{"$f":"IF(#REF!=\"☑\",TRUE)","v":{"$error":"#REF!"}},{"$f":"IF(DQ604,#REF!,\"\")","v":{"$error":"#REF!"}}]
[null,null,null,null,null,null,null,null,null,null,null,null,null,null,null,null,null,null,null,null,null,null,"□","その他（宅配・デリバリー）",false,{"$f":"IF(Y605,X605,\"\")","v":""},"□","交通機関サービス",false,"","□","その他（出張サービス）",false,"",null,null,null,null,null,null,null,null,"□","旅行・レジャー",false,"","□","成年後見・相続",false,"",null,"□","浦和区",false,"さいたま市:浦和区","",null,null,null,null,null,"",null,"□","三芳町",false,"南西部地域:三芳町","",null,"□","松伏町",false,"東部地域:松伏町","",null,null,null,null,null,"",null,"□","滑川町",false,"川越比企地域:滑川町","",null,null,null,null,null,"",null,"□","白岡市",false,"利根地域:白岡市","",null,"□","寄居町",false,"北部地域:寄居町","",null,null,null,null,null,""]
[null,null,null,null,null,null,null,null,null,null,null,null,null,null,null,null,null,null,null,null,null,null,null,null,null,null,"□","その他（送迎・移動支援）",false,"",null,null,null,"",null,null,null,{"$f":"IF(AK606,AJ606,\"\")","v":""},null,null,null,{"$f":"IF(AO606,AN606,\"\")","v":""},"□","パソコン・スマホ教室",false,"","□","その他（生活サービス）",false,"",null,"□","南区",false,"さいたま市:南区","",null,null,null,null,null,"",null,null,null,null,null,"",null,null,null,null,null,"",null,null,null,null,null,"",null,"□","嵐山町",false,"川越比企地域:嵐山町","",null,null,null,null,null,"",null,"□","宮代町",false,"利根地域:宮代町","",null,null,null,null,null,"",null,null,null,null,null,""]
[null,null,null,null,null,null,null,null,null,null,null,null,null,null,null,null,null,null,null,null,null,null,null,null,null,null,null,null,null,null,null,null,null,null,null,null,null,null,null,null,null,null,"□","その他（学び・趣味）",false,"",null,null,null,null,null,"□","緑区",false,"さいたま市:緑区","",null,null,null,null,null,"",null,null,null,null,null,"",null,null,null,null,null,"",null,null,null,null,null,"",null,"□","小川町",false,"川越比企地域:小川町","",null,null,null,null,null,"",null,"□","杉戸町",false,"利根地域:杉戸町","",null,null,null,null,null,"",null,null,null,null,null,""]
[null,null,null,null,null,null,null,null,null,null,null,null,null,null,null,null,null,null,null,null,null,null,null,null,null,null,null,null,null,null,null,null,null,null,null,null,null,null,null,null,null,null,null,null,null,null,null,null,null,null,null,"□","岩槻区",{"$f":"IF(AZ608=\"☑\",TRUE)","v":false},"さいたま市:岩槻区","",null,null,null,null,null,"",null,null,null,null,null,"",null,null,null,null,null,"",null,null,null,null,null,"",null,"□","川島町",false,"川越比企地域:川島町","",null,null,null,null,null,"",null,null,null,null,null,"",null,null,null,null,null,"",null,null,null,null,null,""]
[null,null,null,null,null,null,null,null,null,null,null,null,null,null,null,null,null,null,null,null,null,null,null,null,null,null,null,null,null,null,null,null,null,null,null,null,null,null,null,null,null,null,null,null,null,null,null,null,null,null,null,null,null,null,null,null,null,null,null,null,null,null,null,null,null,null,null,null,null,null,null,null,null,null,null,null,null,null,null,null,null,"□","吉見町",false,"川越比企地域:吉見町","",null,null,null,null,null,"",null,null,null,null,null,"",null,null,null,null,null,"",null,null,null,null,null,""]
[null,null,null,null,null,null,null,null,null,null,null,null,null,null,null,null,null,null,null,null,null,null,null,null,null,null,null,null,null,null,null,null,null,null,null,null,null,null,null,null,null,null,null,null,null,null,null,null,null,null,null,null,null,null,null,null,null,null,null,null,null,null,null,null,null,null,null,null,null,null,null,null,null,null,null,null,null,null,null,null,null,"□","鳩山町",false,"川越比企地域:鳩山町","",null,null,null,null,null,"",null,null,null,null,null,"",null,null,null,null,null,"",null,null,null,null,null,""]
[null,null,null,null,null,null,null,null,null,null,null,null,null,null,null,null,null,null,null,null,null,null,null,null,null,null,null,null,null,null,null,null,null,null,null,null,null,null,null,null,null,null,null,null,null,null,null,null,null,null,null,null,null,null,null,null,null,null,null,null,null,null,null,null,null,null,null,null,null,null,null,null,null,null,null,null,null,null,null,null,null,"□","ときがわ町",false,"川越比企地域:ときがわ町","",null,null,null,null,null,"",null,null,null,null,null,"",null,null,null,null,null,"",null,null,null,null,null,""]
[null,null,null,null,null,null,null,null,null,null,null,null,null,null,null,null,null,null,null,null,null,null,null,null,null,null,null,null,null,null,null,null,null,null,null,null,null,null,null,null,null,null,null,null,null,null,null,null,null,null,null,null,null,null,null,null,null,null,null,null,null,null,null,null,null,null,null,null,null,null,null,null,null,null,null,null,null,null,null,null,null,"□","東秩父村",false,"川越比企地域:東秩父村","",null,null,null,null,null,"",null,null,null,null,null,"",null,null,null,null,null,"",null,null,null,null,null,""]
[43,null,null,null,null,null,null,null,null,null,null,null,null,null,null,null,null,null,"□","配送",{"$f":"IF(S613=\"☑\",TRUE)","v":false},{"$f":"IF(U613,T613,\"\")","v":""},"□","弁当配達",{"$f":"IF(W613=\"☑\",TRUE)","v":false},{"$f":"IF(Y613,X613,\"\")","v":""},"□","理容・美容（送迎）",{"$f":"IF(AA613=\"☑\",TRUE)","v":false},{"$f":"IF(AC613,AB613,\"\")","v":""},"□","家事代行・掃除・片付け",{"$f":"IF(AE613=\"☑\",TRUE)","v":false},{"$f":"IF(AG613,AF613,\"\")","v":""},"□","フィットネス・ジム（運動）",{"$f":"IF(AI613=\"☑\",TRUE)","v":false},{"$f":"IF(AK613,AJ613,\"\")","v":""},"□","車イス対応（バリアフリー）",{"$f":"IF(AM613=\"☑\",TRUE)","v":false},{"$f":"IF(AO613,AN613,\"\")","v":""},"□","講座・教室・イベント",{"$f":"IF(AQ613=\"☑\",TRUE)","v":false},{"$f":"IF(AS613,AR613,\"\")","v":""},"□","防犯・見守り",{"$f":"IF(AU613=\"☑\",TRUE)","v":false},{"$f":"IF(AW613,AV613,\"\")","v":""},{"$f":"_xludf.TEXTJOIN(\",\",TRUE,V613:V626,Z613:Z626,AD613:AD626,AH613:AH626,AL613:AL626,AP613:AP626,AT613:AT626,AX613:AX626)","v":""},"□","西区",{"$f":"IF(AZ613=\"☑\",TRUE)","v":false},{"$f":"\"さいたま市:\"&BA613","v":"さいたま市:西区"},{"$f":"IF(BB613,BC613,\"\")","v":""},{"$f":"_xludf.TEXTJOIN(\",\",TRUE,BD613:BD626)","v":""},"□","川口市",{"$f":"IF(BF613=\"☑\",TRUE)","v":false},{"$f":"\"南部地域:\"&BG613","v":"南部地域:川口市"},{"$f":"IF(BH613,BI613,\"\")","v":""},{"$f":"_xludf.TEXTJOIN(\",\",TRUE,BJ613:BJ626)","v":""},"□","朝霞市",{"$f":"IF(BL613=\"☑\",TRUE)","v":false},{"$f":"\"南西部地域:\"&BM613","v":"南西部地域:朝霞市"},{"$f":"IF(BN613,BO613,\"\")","v":""},{"$f":"_xludf.TEXTJOIN(\",\",TRUE,BP613:BP626)","v":""},"□","春日部市",{"$f":"IF(BR613=\"☑\",TRUE)","v":false},{"$f":"\"東部地域:\"&BS613","v":"東部地域:春日部市"},{"$f":"IF(BT613,BU613,\"\")","v":""},{"$f":"_xludf.TEXTJOIN(\",\",TRUE,BV613:BV626)","v":""},"□","鴻巣市",{"$f":"IF(BX613=\"☑\",TRUE)","v":false},{"$f":"\"県央地域:\"&BY613","v":"県央地域:鴻巣市"},{"$f":"IF(BZ613,CA613,\"\")","v":""},{"$f":"_xludf.TEXTJOIN(\",\",TRUE,CB613:CB626)","v":""},"□","川越市",{"$f":"IF(CD613=\"☑\",TRUE)","v":false},{"$f":"\"川越比企地域:\"&CE613","v":"川越比企地域:川越市"},{"$f":"IF(CF613,CG613,\"\")","v":""},{"$f":"_xludf.TEXTJOIN(\",\",TRUE,CH613:CH626)","v":""},"□","所沢市",{"$f":"IF(CJ613=\"☑\",TRUE)","v":false},{"$f":"\"西部地域:\"&CK613","v":"西部地域:所沢市"},{"$f":"IF(CL613,CM613,\"\")","v":""},{"$f":"_xludf.TEXTJOIN(\",\",TRUE,CN613:CN626)","v":""},"□","行田市",{"$f":"IF(CP613=\"☑\",TRUE)","v":false},{"$f":"\"利根地域:\"&CQ613","v":"利根地域:行田市"},{"$f":"IF(CR613,CS613,\"\")","v":""},{"$f":"_xludf.TEXTJOIN(\",\",TRUE,CT613:CT626)","v":""},"□","熊谷市",{"$f":"IF(CV613=\"☑\",TRUE)","v":false},{"$f":"\"北部地域:\"&CW613","v":"北部地域:熊谷市"},{"$f":"IF(CX613,CY613,\"\")","v":""},{"$f":"_xludf.TEXTJOIN(\",\",TRUE,CZ613:CZ626)","v":""},"□","秩父市",{"$f":"IF(DB613=\"☑\",TRUE)","v":false},{"$f":"\"秩父地域:\"&DC613","v":"秩父地域:秩父市"},{"$f":"IF(DD613,DE613,\"\")","v":""},{"$f":"_xludf.TEXTJOIN(\",\",TRUE,DF613:DF626)","v":""},{"$f":"_xlfn.TEXTJOIN(\",\",TRUE,BE613,BK613,BQ613,BW613,CC613,CI613,CO613,CU613,DA613,DG613)","v":""},null,null,null,null,null,null,null,null,{"$f":"IF(#REF!=\"☑\",TRUE)","v":{"$error":"#REF!"}},{"$f":"IF(DQ613,#REF!,\"\")","v":{"$error":"#REF!"}},{"$f":"_xludf.TEXTJOIN(\",\",TRUE,DR613:DR626)","v":{"$error":"#VALUE!"}}]
[null,null,null,null,null,null,null,null,null,null,null,null,null,null,null,null,null,null,"□","買物サポート",false,"","□","料理デリバリー（出前）",false,"","□","フィットネス・ジム（送迎）",{"$f":"IF(AA614=\"☑\",TRUE)","v":false},{"$f":"IF(AC614,AB614,\"\")","v":""},"□","出張料理",{"$f":"IF(AE614=\"☑\",TRUE)","v":false},{"$f":"IF(AG614,AF614,\"\")","v":""},"□","温泉・銭湯（たまり場）",false,"","□","多目的トイレ",false,"","□","習い事",{"$f":"IF(AQ614=\"☑\",TRUE)","v":false},{"$f":"IF(AS614,AR614,\"\")","v":""},"□","金融・保険",false,"",null,"□","北区",{"$f":"IF(AZ614=\"☑\",TRUE)","v":false},{"$f":"\"さいたま市:\"&BA614","v":"さいたま市:北区"},{"$f":"IF(BB614,BC614,\"\")","v":""},null,"□","蕨市",{"$f":"IF(BF614=\"☑\",TRUE)","v":false},{"$f":"\"南部地域:\"&BG614","v":"南部地域:蕨市"},{"$f":"IF(BH614,BI614,\"\")","v":""},null,"□","志木市",{"$f":"IF(BL614=\"☑\",TRUE)","v":false},{"$f":"\"南西部地域:\"&BM614","v":"南西部地域:志木市"},{"$f":"IF(BN614,BO614,\"\")","v":""},null,"□","草加市",{"$f":"IF(BR614=\"☑\",TRUE)","v":false},{"$f":"\"東部地域:\"&BS614","v":"東部地域:草加市"},"",null,"□","上尾市",{"$f":"IF(BX614=\"☑\",TRUE)","v":false},{"$f":"\"県央地域:\"&BY614","v":"県央地域:上尾市"},{"$f":"IF(BZ614,CA614,\"\")","v":""},null,"□","東松山市",{"$f":"IF(CD614=\"☑\",TRUE)","v":false},{"$f":"\"川越比企地域:\"&CE614","v":"川越比企地域:東松山市"},{"$f":"IF(CF614,CG614,\"\")","v":""},null,"□","飯能市",{"$f":"IF(CJ614=\"☑\",TRUE)","v":false},{"$f":"\"西部地域:\"&CK614","v":"西部地域:飯能市"},{"$f":"IF(CL614,CM614,\"\")","v":""},null,"□","加須市",{"$f":"IF(CP614=\"☑\",TRUE)","v":false},{"$f":"\"利根地域:\"&CQ614","v":"利根地域:加須市"},{"$f":"IF(CR614,CS614,\"\")","v":""},null,"□","本庄市",{"$f":"IF(CV614=\"☑\",TRUE)","v":false},{"$f":"\"北部地域:\"&CW614","v":"北部地域:本庄市"},{"$f":"IF(CX614,CY614,\"\")","v":""},null,"□","横瀬町",{"$f":"IF(DB614=\"☑\",TRUE)","v":false},{"$f":"\"秩父地域:\"&DC614","v":"秩父地域:横瀬町"},{"$f":"IF(DD614,DE614,\"\")","v":""},null,null,null,null,null,null,null,null,null,null,null,{"$f":"IF(DQ614,#REF!,\"\")","v":""}]
[null,null,null,null,null,null,null,null,null,null,null,null,null,null,null,null,null,null,"□","買物代行",false,"","□","食材宅配",false,"","□","温泉・銭湯（送迎）",false,"","□","屋外作業・力仕事",false,"","□","カフェ・ファーストフード",false,"","□","休憩スペース",false,"","□","映画館",false,"","□","住宅・リフォーム",false,"",null,"□","大宮区",false,"さいたま市:大宮区","",null,"□","戸田市",{"$f":"IF(BF615=\"☑\",TRUE)","v":false},{"$f":"\"南部地域:\"&BG615","v":"南部地域:戸田市"},"",null,"□","和光市",false,"南西部地域:和光市","",null,"□","越谷市",false,"東部地域:越谷市","",null,"□","桶川市",{"$f":"IF(BX615=\"☑\",TRUE)","v":false},{"$f":"\"県央地域:\"&BY615","v":"県央地域:桶川市"},"",null,"□","坂戸市",false,"川越比企地域:坂戸市","",null,"□","狭山市",{"$f":"IF(CJ615=\"☑\",TRUE)","v":false},{"$f":"\"西部地域:\"&CK615","v":"西部地域:狭山市"},"",null,"□","羽生市",false,"利根地域:羽生市","",null,"□","深谷市",false,"北部地域:深谷市","",null,"□","皆野町",{"$f":"IF(DB615=\"☑\",TRUE)","v":false},{"$f":"\"秩父地域:\"&DC615","v":"秩父地域:皆野町"},"",null,null,null,null,null,null,null,null,null,null,{"$f":"IF(#REF!=\"☑\",TRUE)","v":{"$error":"#REF!"}},{"$f":"IF(DQ615,#REF!,\"\")","v":{"$error":"#REF!"}}]
[null,null,null,null,null,null,null,null,null,null,null,null,null,null,null,null,null,null,"□","移動販売",false,"","□","日用品配達",false,"","□","整体・マッサージ（送迎）",false,"","□","整体・マッサージ（出張）",false,"","□","飲食店",false,"","□","駐車場",false,"","□","カラオケ店",false,"","□","パソコン・スマートフォン",false,"",null,"□","見沼区",false,"さいたま市:見沼区","",null,null,null,null,null,"",null,"□","新座市",false,"南西部地域:新座市","",null,"□","八潮市",false,"東部地域:八潮市","",null,"□","北本市",{"$f":"IF(BX616=\"☑\",TRUE)","v":false},{"$f":"\"県央地域:\"&BY616","v":"県央地域:北本市"},"",null,"□","鶴ヶ島市",false,"川越比企地域:鶴ヶ島市","",null,"□","入間市",{"$f":"IF(CJ616=\"☑\",TRUE)","v":false},{"$f":"\"西部地域:\"&CK616","v":"西部地域:入間市"},"",null,"□","久喜市",false,"利根地域:久喜市","",null,"□","美里町",false,"北部地域:美里町","",null,"□","長瀞町",{"$f":"IF(DB616=\"☑\",TRUE)","v":false},{"$f":"\"秩父地域:\"&DC616","v":"秩父地域:長瀞町"},""]
[null,null,null,null,null,null,null,null,null,null,null,null,null,null,null,null,null,null,"□","割引サービス",false,"","□","薬・介護用品配達",false,"","□","乗り合いサービス",false,"","□","理容・美容（出張）",false,"","□","イートインスペース",false,"","□","貸しスペース",false,"","□","麻雀・将棋・囲碁",false,"","□","認知症サポート企業",false,"",null,"□","中央区",false,"さいたま市:中央区","",null,null,null,null,null,"",null,"□","富士見市",false,"南西部地域:富士見市","",null,"□","三郷市",false,"東部地域:三郷市","",null,"□","伊奈町",{"$f":"IF(BX617=\"☑\",TRUE)","v":false},{"$f":"\"県央地域:\"&BY617","v":"県央地域:伊奈町"},"",null,"□","毛呂山町",false,"川越比企地域:毛呂山町","",null,"□","日高市",{"$f":"IF(CJ617=\"☑\",TRUE)","v":false},{"$f":"\"西部地域:\"&CK617","v":"西部地域:日高市"},"",null,"□","蓮田市",false,"利根地域:蓮田市","",null,"□","神川町",false,"北部地域:神川町","",null,"□","小鹿野町",{"$f":"IF(DB617=\"☑\",TRUE)","v":false},{"$f":"\"秩父地域:\"&DC617","v":"秩父地域:小鹿野町"},"",null,null,null,null,null,null,null,null,null,null,{"$f":"IF(#REF!=\"☑\",TRUE)","v":{"$error":"#REF!"}},{"$f":"IF(DQ617,#REF!,\"\")","v":{"$error":"#REF!"}}]
[null,null,null,null,null,null,null,null,null,null,null,null,null,null,null,null,null,null,"□","その他（買物）",false,"","□","クリーニング",false,{"$f":"IF(Y618,X618,\"\")","v":""},"□","個別移送サービス",false,"","□","ペット",false,"","□","その他（運動・たまり場）",false,"","□","その他（設備・施設・場所貸し）",false,"","□","ゲームセンター",false,"","□","理容・美容",false,"",null,"□","桜区",false,"さいたま市:桜区","",null,null,null,null,null,"",null,"□","ふじみ野市",false,"南西部地域:ふじみ野市","",null,"□","吉川市",false,"東部地域:吉川市","",null,null,null,null,null,"",null,"□","越生町",false,"川越比企地域:越生町","",null,null,null,null,null,"",null,"□","幸手市",false,"利根地域:幸手市","",null,"□","上里町",false,"北部地域:上里町","",null,null,null,null,null,"",null,null,null,null,null,null,null,null,null,null,{"$f":"IF(#REF!=\"☑\",TRUE)","v":{"$error":"#REF!"}},{"$f":"IF(DQ618,#REF!,\"\")","v":{"$error":"#REF!"}}]
[null,null,null,null,null,null,null,null,null,null,null,null,null,null,null,null,null,null,null,null,null,null,"□","その他（宅配・デリバリー）",false,{"$f":"IF(Y619,X619,\"\")","v":""},"□","交通機関サービス",false,"","□","その他（出張サービス）",false,"",null,null,null,null,null,null,null,null,"□","旅行・レジャー",false,"","□","成年後見・相続",false,"",null,"□","浦和区",false,"さいたま市:浦和区","",null,null,null,null,null,"",null,"□","三芳町",false,"南西部地域:三芳町","",null,"□","松伏町",false,"東部地域:松伏町","",null,null,null,null,null,"",null,"□","滑川町",false,"川越比企地域:滑川町","",null,null,null,null,null,"",null,"□","白岡市",false,"利根地域:白岡市","",null,"□","寄居町",false,"北部地域:寄居町","",null,null,null,null,null,""]
[null,null,null,null,null,null,null,null,null,null,null,null,null,null,null,null,null,null,null,null,null,null,null,null,null,null,"□","その他（送迎・移動支援）",false,"",null,null,null,"",null,null,null,{"$f":"IF(AK620,AJ620,\"\")","v":""},null,null,null,{"$f":"IF(AO620,AN620,\"\")","v":""},"□","パソコン・スマホ教室",false,"","□","その他（生活サービス）",false,"",null,"□","南区",false,"さいたま市:南区","",null,null,null,null,null,"",null,null,null,null,null,"",null,null,null,null,null,"",null,null,null,null,null,"",null,"□","嵐山町",false,"川越比企地域:嵐山町","",null,null,null,null,null,"",null,"□","宮代町",false,"利根地域:宮代町","",null,null,null,null,null,"",null,null,null,null,null,""]
[null,null,null,null,null,null,null,null,null,null,null,null,null,null,null,null,null,null,null,null,null,null,null,null,null,null,null,null,null,null,null,null,null,null,null,null,null,null,null,null,null,null,"□","その他（学び・趣味）",false,"",null,null,null,null,null,"□","緑区",false,"さいたま市:緑区","",null,null,null,null,null,"",null,null,null,null,null,"",null,null,null,null,null,"",null,null,null,null,null,"",null,"□","小川町",false,"川越比企地域:小川町","",null,null,null,null,null,"",null,"□","杉戸町",false,"利根地域:杉戸町","",null,null,null,null,null,"",null,null,null,null,null,""]
[null,null,null,null,null,null,null,null,null,null,null,null,null,null,null,null,null,null,null,null,null,null,null,null,null,null,null,null,null,null,null,null,null,null,null,null,null,null,null,null,null,null,null,null,null,null,null,null,null,null,null,"□","岩槻区",{"$f":"IF(AZ622=\"☑\",TRUE)","v":false},"さいたま市:岩槻区","",null,null,null,null,null,"",null,null,null,null,null,"",null,null,null,null,null,"",null,null,null,null,null,"",null,"□","川島町",false,"川越比企地域:川島町","",null,null,null,null,null,"",null,null,null,null,null,"",null,null,null,null,null,"",null,null,null,null,null,""]
[null,null,null,null,null,null,null,null,null,null,null,null,null,null,null,null,null,null,null,null,null,null,null,null,null,null,null,null,null,null,null,null,null,null,null,null,null,null,null,null,null,null,null,null,null,null,null,null,null,null,null,null,null,null,null,null,null,null,null,null,null,null,null,null,null,null,null,null,null,null,null,null,null,null,null,null,null,null,null,null,null,"□","吉見町",false,"川越比企地域:吉見町","",null,null,null,null,null,"",null,null,null,null,null,"",null,null,null,null,null,"",null,null,null,null,null,""]
[null,null,null,null,null,null,null,null,null,null,null,null,null,null,null,null,null,null,null,null,null,null,null,null,null,null,null,null,null,null,null,null,null,null,null,null,null,null,null,null,null,null,null,null,null,null,null,null,null,null,null,null,null,null,null,null,null,null,null,null,null,null,null,null,null,null,null,null,null,null,null,null,null,null,null,null,null,null,null,null,null,"□","鳩山町",false,"川越比企地域:鳩山町","",null,null,null,null,null,"",null,null,null,null,null,"",null,null,null,null,null,"",null,null,null,null,null,""]
[null,null,null,null,null,null,null,null,null,null,null,null,null,null,null,null,null,null,null,null,null,null,null,null,null,null,null,null,null,null,null,null,null,null,null,null,null,null,null,null,null,null,null,null,null,null,null,null,null,null,null,null,null,null,null,null,null,null,null,null,null,null,null,null,null,null,null,null,null,null,null,null,null,null,null,null,null,null,null,null,null,"□","ときがわ町",false,"川越比企地域:ときがわ町","",null,null,null,null,null,"",null,null,null,null,null,"",null,null,null,null,null,"",null,null,null,null,null,""]
[null,null,null,null,null,null,null,null,null,null,null,null,null,null,null,null,null,null,null,null,null,null,null,null,null,null,null,null,null,null,null,null,null,null,null,null,null,null,null,null,null,null,null,null,null,null,null,null,null,null,null,null,null,null,null,null,null,null,null,null,null,null,null,null,null,null,null,null,null,null,null,null,null,null,null,null,null,null,null,null,null,"□","東秩父村",false,"川越比企地域:東秩父村","",null,null,null,null,null,"",null,null,null,null,null,"",null,null,null,null,null,"",null,null,null,null,null,""]
[44,null,null,null,null,null,null,null,null,null,null,null,null,null,null,null,null,null,"□","配送",{"$f":"IF(S627=\"☑\",TRUE)","v":false},{"$f":"IF(U627,T627,\"\")","v":""},"□","弁当配達",{"$f":"IF(W627=\"☑\",TRUE)","v":false},{"$f":"IF(Y627,X627,\"\")","v":""},"□","理容・美容（送迎）",{"$f":"IF(AA627=\"☑\",TRUE)","v":false},{"$f":"IF(AC627,AB627,\"\")","v":""},"□","家事代行・掃除・片付け",{"$f":"IF(AE627=\"☑\",TRUE)","v":false},{"$f":"IF(AG627,AF627,\"\")","v":""},"□","フィットネス・ジム（運動）",{"$f":"IF(AI627=\"☑\",TRUE)","v":false},{"$f":"IF(AK627,AJ627,\"\")","v":""},"□","車イス対応（バリアフリー）",{"$f":"IF(AM627=\"☑\",TRUE)","v":false},{"$f":"IF(AO627,AN627,\"\")","v":""},"□","講座・教室・イベント",{"$f":"IF(AQ627=\"☑\",TRUE)","v":false},{"$f":"IF(AS627,AR627,\"\")","v":""},"□","防犯・見守り",{"$f":"IF(AU627=\"☑\",TRUE)","v":false},{"$f":"IF(AW627,AV627,\"\")","v":""},{"$f":"_xludf.TEXTJOIN(\",\",TRUE,V627:V640,Z627:Z640,AD627:AD640,AH627:AH640,AL627:AL640,AP627:AP640,AT627:AT640,AX627:AX640)","v":""},"□","西区",{"$f":"IF(AZ627=\"☑\",TRUE)","v":false},{"$f":"\"さいたま市:\"&BA627","v":"さいたま市:西区"},{"$f":"IF(BB627,BC627,\"\")","v":""},{"$f":"_xludf.TEXTJOIN(\",\",TRUE,BD627:BD640)","v":""},"□","川口市",{"$f":"IF(BF627=\"☑\",TRUE)","v":false},{"$f":"\"南部地域:\"&BG627","v":"南部地域:川口市"},{"$f":"IF(BH627,BI627,\"\")","v":""},{"$f":"_xludf.TEXTJOIN(\",\",TRUE,BJ627:BJ640)","v":""},"□","朝霞市",{"$f":"IF(BL627=\"☑\",TRUE)","v":false},{"$f":"\"南西部地域:\"&BM627","v":"南西部地域:朝霞市"},{"$f":"IF(BN627,BO627,\"\")","v":""},{"$f":"_xludf.TEXTJOIN(\",\",TRUE,BP627:BP640)","v":""},"□","春日部市",{"$f":"IF(BR627=\"☑\",TRUE)","v":false},{"$f":"\"東部地域:\"&BS627","v":"東部地域:春日部市"},{"$f":"IF(BT627,BU627,\"\")","v":""},{"$f":"_xludf.TEXTJOIN(\",\",TRUE,BV627:BV640)","v":""},"□","鴻巣市",{"$f":"IF(BX627=\"☑\",TRUE)","v":false},{"$f":"\"県央地域:\"&BY627","v":"県央地域:鴻巣市"},{"$f":"IF(BZ627,CA627,\"\")","v":""},{"$f":"_xludf.TEXTJOIN(\",\",TRUE,CB627:CB640)","v":""},"□","川越市",{"$f":"IF(CD627=\"☑\",TRUE)","v":false},{"$f":"\"川越比企地域:\"&CE627","v":"川越比企地域:川越市"},{"$f":"IF(CF627,CG627,\"\")","v":""},{"$f":"_xludf.TEXTJOIN(\",\",TRUE,CH627:CH640)","v":""},"□","所沢市",{"$f":"IF(CJ627=\"☑\",TRUE)","v":false},{"$f":"\"西部地域:\"&CK627","v":"西部地域:所沢市"},{"$f":"IF(CL627,CM627,\"\")","v":""},{"$f":"_xludf.TEXTJOIN(\",\",TRUE,CN627:CN640)","v":""},"□","行田市",{"$f":"IF(CP627=\"☑\",TRUE)","v":false},{"$f":"\"利根地域:\"&CQ627","v":"利根地域:行田市"},{"$f":"IF(CR627,CS627,\"\")","v":""},{"$f":"_xludf.TEXTJOIN(\",\",TRUE,CT627:CT640)","v":""},"□","熊谷市",{"$f":"IF(CV627=\"☑\",TRUE)","v":false},{"$f":"\"北部地域:\"&CW627","v":"北部地域:熊谷市"},{"$f":"IF(CX627,CY627,\"\")","v":""},{"$f":"_xludf.TEXTJOIN(\",\",TRUE,CZ627:CZ640)","v":""},"□","秩父市",{"$f":"IF(DB627=\"☑\",TRUE)","v":false},{"$f":"\"秩父地域:\"&DC627","v":"秩父地域:秩父市"},{"$f":"IF(DD627,DE627,\"\")","v":""},{"$f":"_xludf.TEXTJOIN(\",\",TRUE,DF627:DF640)","v":""},{"$f":"_xlfn.TEXTJOIN(\",\",TRUE,BE627,BK627,BQ627,BW627,CC627,CI627,CO627,CU627,DA627,DG627)","v":""},null,null,null,null,null,null,null,null,{"$f":"IF(#REF!=\"☑\",TRUE)","v":{"$error":"#REF!"}},{"$f":"IF(DQ627,#REF!,\"\")","v":{"$error":"#REF!"}},{"$f":"_xludf.TEXTJOIN(\",\",TRUE,DR627:DR640)","v":{"$error":"#VALUE!"}}]
[null,null,null,null,null,null,null,null,null,null,null,null,null,null,null,null,null,null,"□","買物サポート",false,"","□","料理デリバリー（出前）",false,"","□","フィットネス・ジム（送迎）",{"$f":"IF(AA628=\"☑\",TRUE)","v":false},{"$f":"IF(AC628,AB628,\"\")","v":""},"□","出張料理",{"$f":"IF(AE628=\"☑\",TRUE)","v":false},{"$f":"IF(AG628,AF628,\"\")","v":""},"□","温泉・銭湯（たまり場）",false,"","□","多目的トイレ",false,"","□","習い事",{"$f":"IF(AQ628=\"☑\",TRUE)","v":false},{"$f":"IF(AS628,AR628,\"\")","v":""},"□","金融・保険",false,"",null,"□","北区",{"$f":"IF(AZ628=\"☑\",TRUE)","v":false},{"$f":"\"さいたま市:\"&BA628","v":"さいたま市:北区"},{"$f":"IF(BB628,BC628,\"\")","v":""},null,"□","蕨市",{"$f":"IF(BF628=\"☑\",TRUE)","v":false},{"$f":"\"南部地域:\"&BG628","v":"南部地域:蕨市"},{"$f":"IF(BH628,BI628,\"\")","v":""},null,"□","志木市",{"$f":"IF(BL628=\"☑\",TRUE)","v":false},{"$f":"\"南西部地域:\"&BM628","v":"南西部地域:志木市"},{"$f":"IF(BN628,BO628,\"\")","v":""},null,"□","草加市",{"$f":"IF(BR628=\"☑\",TRUE)","v":false},{"$f":"\"東部地域:\"&BS628","v":"東部地域:草加市"},"",null,"□","上尾市",{"$f":"IF(BX628=\"☑\",TRUE)","v":false},{"$f":"\"県央地域:\"&BY628","v":"県央地域:上尾市"},{"$f":"IF(BZ628,CA628,\"\")","v":""},null,"□","東松山市",{"$f":"IF(CD628=\"☑\",TRUE)","v":false},{"$f":"\"川越比企地域:\"&CE628","v":"川越比企地域:東松山市"},{"$f":"IF(CF628,CG628,\"\")","v":""},null,"□","飯能市",{"$f":"IF(CJ628=\"☑\",TRUE)","v":false},{"$f":"\"西部地域:\"&CK628","v":"西部地域:飯能市"},{"$f":"IF(CL628,CM628,\"\")","v":""},null,"□","加須市",{"$f":"IF(CP628=\"☑\",TRUE)","v":false},{"$f":"\"利根地域:\"&CQ628","v":"利根地域:加須市"},{"$f":"IF(CR628,CS628,\"\")","v":""},null,"□","本庄市",{"$f":"IF(CV628=\"☑\",TRUE)","v":false},{"$f":"\"北部地域:\"&CW628","v":"北部地域:本庄市"},{"$f":"IF(CX628,CY628,\"\")","v":""},null,"□","横瀬町",{"$f":"IF(DB628=\"☑\",TRUE)","v":false},{"$f":"\"秩父地域:\"&DC628","v":"秩父地域:横瀬町"},{"$f":"IF(DD628,DE628,\"\")","v":""},null,null,null,null,null,null,null,null,null,null,null,{"$f":"IF(DQ628,#REF!,\"\")","v":""}]
[null,null,null,null,null,null,null,null,null,null,null,null,null,null,null,null,null,null,"□","買物代行",false,"","□","食材宅配",false,"","□","温泉・銭湯（送迎）",false,"","□","屋外作業・力仕事",false,"","□","カフェ・ファーストフード",false,"","□","休憩スペース",false,"","□","映画館",false,"","□","住宅・リフォーム",false,"",null,"□","大宮区",false,"さいたま市:大宮区","",null,"□","戸田市",{"$f":"IF(BF629=\"☑\",TRUE)","v":false},{"$f":"\"南部地域:\"&BG629","v":"南部地域:戸田市"},"",null,"□","和光市",false,"南西部地域:和光市","",null,"□","越谷市",false,"東部地域:越谷市","",null,"□","桶川市",{"$f":"IF(BX629=\"☑\",TRUE)","v":false},{"$f":"\"県央地域:\"&BY629","v":"県央地域:桶川市"},"",null,"□","坂戸市",false,"川越比企地域:坂戸市","",null,"□","狭山市",{"$f":"IF(CJ629=\"☑\",TRUE)","v":false},{"$f":"\"西部地域:\"&CK629","v":"西部地域:狭山市"},"",null,"□","羽生市",false,"利根地域:羽生市","",null,"□","深谷市",false,"北部地域:深谷市","",null,"□","皆野町",{"$f":"IF(DB629=\"☑\",TRUE)","v":false},{"$f":"\"秩父地域:\"&DC629","v":"秩父地域:皆野町"},"",null,null,null,null,null,null,null,null,null,null,{"$f":"IF(#REF!=\"☑\",TRUE)","v":{"$error":"#REF!"}},{"$f":"IF(DQ629,#REF!,\"\")","v":{"$error":"#REF!"}}]
[null,null,null,null,null,null,null,null,null,null,null,null,null,null,null,null,null,null,"□","移動販売",false,"","□","日用品配達",false,"","□","整体・マッサージ（送迎）",false,"","□","整体・マッサージ（出張）",false,"","□","飲食店",false,"","□","駐車場",false,"","□","カラオケ店",false,"","□","パソコン・スマートフォン",false,"",null,"□","見沼区",false,"さいたま市:見沼区","",null,null,null,null,null,"",null,"□","新座市",false,"南西部地域:新座市","",null,"□","八潮市",false,"東部地域:八潮市","",null,"□","北本市",{"$f":"IF(BX630=\"☑\",TRUE)","v":false},{"$f":"\"県央地域:\"&BY630","v":"県央地域:北本市"},"",null,"□","鶴ヶ島市",false,"川越比企地域:鶴ヶ島市","",null,"□","入間市",{"$f":"IF(CJ630=\"☑\",TRUE)","v":false},{"$f":"\"西部地域:\"&CK630","v":"西部地域:入間市"},"",null,"□","久喜市",false,"利根地域:久喜市","",null,"□","美里町",false,"北部地域:美里町","",null,"□","長瀞町",{"$f":"IF(DB630=\"☑\",TRUE)","v":false},{"$f":"\"秩父地域:\"&DC630","v":"秩父地域:長瀞町"},""]
[null,null,null,null,null,null,null,null,null,null,null,null,null,null,null,null,null,null,"□","割引サービス",false,"","□","薬・介護用品配達",false,"","□","乗り合いサービス",false,"","□","理容・美容（出張）",false,"","□","イートインスペース",false,"","□","貸しスペース",false,"","□","麻雀・将棋・囲碁",false,"","□","認知症サポート企業",false,"",null,"□","中央区",false,"さいたま市:中央区","",null,null,null,null,null,"",null,"□","富士見市",false,"南西部地域:富士見市","",null,"□","三郷市",false,"東部地域:三郷市","",null,"□","伊奈町",{"$f":"IF(BX631=\"☑\",TRUE)","v":false},{"$f":"\"県央地域:\"&BY631","v":"県央地域:伊奈町"},"",null,"□","毛呂山町",false,"川越比企地域:毛呂山町","",null,"□","日高市",{"$f":"IF(CJ631=\"☑\",TRUE)","v":false},{"$f":"\"西部地域:\"&CK631","v":"西部地域:日高市"},"",null,"□","蓮田市",false,"利根地域:蓮田市","",null,"□","神川町",false,"北部地域:神川町","",null,"□","小鹿野町",{"$f":"IF(DB631=\"☑\",TRUE)","v":false},{"$f":"\"秩父地域:\"&DC631","v":"秩父地域:小鹿野町"},"",null,null,null,null,null,null,null,null,null,null,{"$f":"IF(#REF!=\"☑\",TRUE)","v":{"$error":"#REF!"}},{"$f":"IF(DQ631,#REF!,\"\")","v":{"$error":"#REF!"}}]
[null,null,null,null,null,null,null,null,null,null,null,null,null,null,null,null,null,null,"□","その他（買物）",false,"","□","クリーニング",false,{"$f":"IF(Y632,X632,\"\")","v":""},"□","個別移送サービス",false,"","□","ペット",false,"","□","その他（運動・たまり場）",false,"","□","その他（設備・施設・場所貸し）",false,"","□","ゲームセンター",false,"","□","理容・美容",false,"",null,"□","桜区",false,"さいたま市:桜区","",null,null,null,null,null,"",null,"□","ふじみ野市",false,"南西部地域:ふじみ野市","",null,"□","吉川市",false,"東部地域:吉川市","",null,null,null,null,null,"",null,"□","越生町",false,"川越比企地域:越生町","",null,null,null,null,null,"",null,"□","幸手市",false,"利根地域:幸手市","",null,"□","上里町",false,"北部地域:上里町","",null,null,null,null,null,"",null,null,null,null,null,null,null,null,null,null,{"$f":"IF(#REF!=\"☑\",TRUE)","v":{"$error":"#REF!"}},{"$f":"IF(DQ632,#REF!,\"\")","v":{"$error":"#REF!"}}]
[null,null,null,null,null,null,null,null,null,null,null,null,null,null,null,null,null,null,null,null,null,null,"□","その他（宅配・デリバリー）",false,{"$f":"IF(Y633,X633,\"\")","v":""},"□","交通機関サービス",false,"","□","その他（出張サービス）",false,"",null,null,null,null,null,null,null,null,"□","旅行・レジャー",false,"","□","成年後見・相続",false,"",null,"□","浦和区",false,"さいたま市:浦和区","",null,null,null,null,null,"",null,"□","三芳町",false,"南西部地域:三芳町","",null,"□","松伏町",false,"東部地域:松伏町","",null,null,null,null,null,"",null,"□","滑川町",false,"川越比企地域:滑川町","",null,null,null,null,null,"",null,"□","白岡市",false,"利根地域:白岡市","",null,"□","寄居町",false,"北部地域:寄居町","",null,null,null,null,null,""]
[null,null,null,null,null,null,null,null,null,null,null,null,null,null,null,null,null,null,null,null,null,null,null,null,null,null,"□","その他（送迎・移動支援）",false,"",null,null,null,"",null,null,null,{"$f":"IF(AK634,AJ634,\"\")","v":""},null,null,null,{"$f":"IF(AO634,AN634,\"\")","v":""},"□","パソコン・スマホ教室",false,"","□","その他（生活サービス）",false,"",null,"□","南区",false,"さいたま市:南区","",null,null,null,null,null,"",null,null,null,null,null,"",null,null,null,null,null,"",null,null,null,null,null,"",null,"□","嵐山町",false,"川越比企地域:嵐山町","",null,null,null,null,null,"",null,"□","宮代町",false,"利根地域:宮代町","",null,null,null,null,null,"",null,null,null,null,null,""]
[null,null,null,null,null,null,null,null,null,null,null,null,null,null,null,null,null,null,null,null,null,null,null,null,null,null,null,null,null,null,null,null,null,null,null,null,null,null,null,null,null,null,"□","その他（学び・趣味）",false,"",null,null,null,null,null,"□","緑区",false,"さいたま市:緑区","",null,null,null,null,null,"",null,null,null,null,null,"",null,null,null,null,null,"",null,null,null,null,null,"",null,"□","小川町",false,"川越比企地域:小川町","",null,null,null,null,null,"",null,"□","杉戸町",false,"利根地域:杉戸町","",null,null,null,null,null,"",null,null,null,null,null,""]
[null,null,null,null,null,null,null,null,null,null,null,null,null,null,null,null,null,null,null,null,null,null,null,null,null,null,null,null,null,null,null,null,null,null,null,null,null,null,null,null,null,null,null,null,null,null,null,null,null,null,null,"□","岩槻区",{"$f":"IF(AZ636=\"☑\",TRUE)","v":false},"さいたま市:岩槻区","",null,null,null,null,null,"",null,null,null,null,null,"",null,null,null,null,null,"",null,null,null,null,null,"",null,"□","川島町",false,"川越比企地域:川島町","",null,null,null,null,null,"",null,null,null,null,null,"",null,null,null,null,null,"",null,null,null,null,null,""]
[null,null,null,null,null,null,null,null,null,null,null,null,null,null,null,null,null,null,null,null,null,null,null,null,null,null,null,null,null,null,null,null,null,null,null,null,null,null,null,null,null,null,null,null,null,null,null,null,null,null,null,null,null,null,null,null,null,null,null,null,null,null,null,null,null,null,null,null,null,null,null,null,null,null,null,null,null,null,null,null,null,"□","吉見町",false,"川越比企地域:吉見町","",null,null,null,null,null,"",null,null,null,null,null,"",null,null,null,null,null,"",null,null,null,null,null,""]
[null,null,null,null,null,null,null,null,null,null,null,null,null,null,null,null,null,null,null,null,null,null,null,null,null,null,null,null,null,null,null,null,null,null,null,null,null,null,null,null,null,null,null,null,null,null,null,null,null,null,null,null,null,null,null,null,null,null,null,null,null,null,null,null,null,null,null,null,null,null,null,null,null,null,null,null,null,null,null,null,null,"□","鳩山町",false,"川越比企地域:鳩山町","",null,null,null,null,null,"",null,null,null,null,null,"",null,null,null,null,null,"",null,null,null,null,null,""]
[null,null,null,null,null,null,null,null,null,null,null,null,null,null,null,null,null,null,null,null,null,null,null,null,null,null,null,null,null,null,null,null,null,null,null,null,null,null,null,null,null,null,null,null,null,null,null,null,null,null,null,null,null,null,null,null,null,null,null,null,null,null,null,null,null,null,null,null,null,null,null,null,null,null,null,null,null,null,null,null,null,"□","ときがわ町",false,"川越比企地域:ときがわ町","",null,null,null,null,null,"",null,null,null,null,null,"",null,null,null,null,null,"",null,null,null,null,null,""]
[null,null,null,null,null,null,null,null,null,null,null,null,null,null,null,null,null,null,null,null,null,null,null,null,null,null,null,null,null,null,null,null,null,null,null,null,null,null,null,null,null,null,null,null,null,null,null,null,null,null,null,null,null,null,null,null,null,null,null,null,null,null,null,null,null,null,null,null,null,null,null,null,null,null,null,null,null,null,null,null,null,"□","東秩父村",false,"川越比企地域:東秩父村","",null,null,null,null,null,"",null,null,null,null,null,"",null,null,null,null,null,"",null,null,null,null,null,""]
[45,null,null,null,null,null,null,null,null,null,null,null,null,null,null,null,null,null,"□","配送",{"$f":"IF(S641=\"☑\",TRUE)","v":false},{"$f":"IF(U641,T641,\"\")","v":""},"□","弁当配達",{"$f":"IF(W641=\"☑\",TRUE)","v":false},{"$f":"IF(Y641,X641,\"\")","v":""},"□","理容・美容（送迎）",{"$f":"IF(AA641=\"☑\",TRUE)","v":false},{"$f":"IF(AC641,AB641,\"\")","v":""},"□","家事代行・掃除・片付け",{"$f":"IF(AE641=\"☑\",TRUE)","v":false},{"$f":"IF(AG641,AF641,\"\")","v":""},"□","フィットネス・ジム（運動）",{"$f":"IF(AI641=\"☑\",TRUE)","v":false},{"$f":"IF(AK641,AJ641,\"\")","v":""},"□","車イス対応（バリアフリー）",{"$f":"IF(AM641=\"☑\",TRUE)","v":false},{"$f":"IF(AO641,AN641,\"\")","v":""},"□","講座・教室・イベント",{"$f":"IF(AQ641=\"☑\",TRUE)","v":false},{"$f":"IF(AS641,AR641,\"\")","v":""},"□","防犯・見守り",{"$f":"IF(AU641=\"☑\",TRUE)","v":false},{"$f":"IF(AW641,AV641,\"\")","v":""},{"$f":"_xludf.TEXTJOIN(\",\",TRUE,V641:V654,Z641:Z654,AD641:AD654,AH641:AH654,AL641:AL654,AP641:AP654,AT641:AT654,AX641:AX654)","v":""},"□","西区",{"$f":"IF(AZ641=\"☑\",TRUE)","v":false},{"$f":"\"さいたま市:\"&BA641","v":"さいたま市:西区"},{"$f":"IF(BB641,BC641,\"\")","v":""},{"$f":"_xludf.TEXTJOIN(\",\",TRUE,BD641:BD654)","v":""},"□","川口市",{"$f":"IF(BF641=\"☑\",TRUE)","v":false},{"$f":"\"南部地域:\"&BG641","v":"南部地域:川口市"},{"$f":"IF(BH641,BI641,\"\")","v":""},{"$f":"_xludf.TEXTJOIN(\",\",TRUE,BJ641:BJ654)","v":""},"□","朝霞市",{"$f":"IF(BL641=\"☑\",TRUE)","v":false},{"$f":"\"南西部地域:\"&BM641","v":"南西部地域:朝霞市"},{"$f":"IF(BN641,BO641,\"\")","v":""},{"$f":"_xludf.TEXTJOIN(\",\",TRUE,BP641:BP654)","v":""},"□","春日部市",{"$f":"IF(BR641=\"☑\",TRUE)","v":false},{"$f":"\"東部地域:\"&BS641","v":"東部地域:春日部市"},{"$f":"IF(BT641,BU641,\"\")","v":""},{"$f":"_xludf.TEXTJOIN(\",\",TRUE,BV641:BV654)","v":""},"□","鴻巣市",{"$f":"IF(BX641=\"☑\",TRUE)","v":false},{"$f":"\"県央地域:\"&BY641","v":"県央地域:鴻巣市"},{"$f":"IF(BZ641,CA641,\"\")","v":""},{"$f":"_xludf.TEXTJOIN(\",\",TRUE,CB641:CB654)","v":""},"□","川越市",{"$f":"IF(CD641=\"☑\",TRUE)","v":false},{"$f":"\"川越比企地域:\"&CE641","v":"川越比企地域:川越市"},{"$f":"IF(CF641,CG641,\"\")","v":""},{"$f":"_xludf.TEXTJOIN(\",\",TRUE,CH641:CH654)","v":""},"□","所沢市",{"$f":"IF(CJ641=\"☑\",TRUE)","v":false},{"$f":"\"西部地域:\"&CK641","v":"西部地域:所沢市"},{"$f":"IF(CL641,CM641,\"\")","v":""},{"$f":"_xludf.TEXTJOIN(\",\",TRUE,CN641:CN654)","v":""},"□","行田市",{"$f":"IF(CP641=\"☑\",TRUE)","v":false},{"$f":"\"利根地域:\"&CQ641","v":"利根地域:行田市"},{"$f":"IF(CR641,CS641,\"\")","v":""},{"$f":"_xludf.TEXTJOIN(\",\",TRUE,CT641:CT654)","v":""},"□","熊谷市",{"$f":"IF(CV641=\"☑\",TRUE)","v":false},{"$f":"\"北部地域:\"&CW641","v":"北部地域:熊谷市"},{"$f":"IF(CX641,CY641,\"\")","v":""},{"$f":"_xludf.TEXTJOIN(\",\",TRUE,CZ641:CZ654)","v":""},"□","秩父市",{"$f":"IF(DB641=\"☑\",TRUE)","v":false},{"$f":"\"秩父地域:\"&DC641","v":"秩父地域:秩父市"},{"$f":"IF(DD641,DE641,\"\")","v":""},{"$f":"_xludf.TEXTJOIN(\",\",TRUE,DF641:DF654)","v":""},{"$f":"_xlfn.TEXTJOIN(\",\",TRUE,BE641,BK641,BQ641,BW641,CC641,CI641,CO641,CU641,DA641,DG641)","v":""},null,null,null,null,null,null,null,null,{"$f":"IF(#REF!=\"☑\",TRUE)","v":{"$error":"#REF!"}},{"$f":"IF(DQ641,#REF!,\"\")","v":{"$error":"#REF!"}},{"$f":"_xludf.TEXTJOIN(\",\",TRUE,DR641:DR654)","v":{"$error":"#VALUE!"}}]
[null,null,null,null,null,null,null,null,null,null,null,null,null,null,null,null,null,null,"□","買物サポート",false,"","□","料理デリバリー（出前）",false,"","□","フィットネス・ジム（送迎）",{"$f":"IF(AA642=\"☑\",TRUE)","v":false},{"$f":"IF(AC642,AB642,\"\")","v":""},"□","出張料理",{"$f":"IF(AE642=\"☑\",TRUE)","v":false},{"$f":"IF(AG642,AF642,\"\")","v":""},"□","温泉・銭湯（たまり場）",false,"","□","多目的トイレ",false,"","□","習い事",{"$f":"IF(AQ642=\"☑\",TRUE)","v":false},{"$f":"IF(AS642,AR642,\"\")","v":""},"□","金融・保険",false,"",null,"□","北区",{"$f":"IF(AZ642=\"☑\",TRUE)","v":false},{"$f":"\"さいたま市:\"&BA642","v":"さいたま市:北区"},{"$f":"IF(BB642,BC642,\"\")","v":""},null,"□","蕨市",{"$f":"IF(BF642=\"☑\",TRUE)","v":false},{"$f":"\"南部地域:\"&BG642","v":"南部地域:蕨市"},{"$f":"IF(BH642,BI642,\"\")","v":""},null,"□","志木市",{"$f":"IF(BL642=\"☑\",TRUE)","v":false},{"$f":"\"南西部地域:\"&BM642","v":"南西部地域:志木市"},{"$f":"IF(BN642,BO642,\"\")","v":""},null,"□","草加市",{"$f":"IF(BR642=\"☑\",TRUE)","v":false},{"$f":"\"東部地域:\"&BS642","v":"東部地域:草加市"},"",null,"□","上尾市",{"$f":"IF(BX642=\"☑\",TRUE)","v":false},{"$f":"\"県央地域:\"&BY642","v":"県央地域:上尾市"},{"$f":"IF(BZ642,CA642,\"\")","v":""},null,"□","東松山市",{"$f":"IF(CD642=\"☑\",TRUE)","v":false},{"$f":"\"川越比企地域:\"&CE642","v":"川越比企地域:東松山市"},{"$f":"IF(CF642,CG642,\"\")","v":""},null,"□","飯能市",{"$f":"IF(CJ642=\"☑\",TRUE)","v":false},{"$f":"\"西部地域:\"&CK642","v":"西部地域:飯能市"},{"$f":"IF(CL642,CM642,\"\")","v":""},null,"□","加須市",{"$f":"IF(CP642=\"☑\",TRUE)","v":false},{"$f":"\"利根地域:\"&CQ642","v":"利根地域:加須市"},{"$f":"IF(CR642,CS642,\"\")","v":""},null,"□","本庄市",{"$f":"IF(CV642=\"☑\",TRUE)","v":false},{"$f":"\"北部地域:\"&CW642","v":"北部地域:本庄市"},{"$f":"IF(CX642,CY642,\"\")","v":""},null,"□","横瀬町",{"$f":"IF(DB642=\"☑\",TRUE)","v":false},{"$f":"\"秩父地域:\"&DC642","v":"秩父地域:横瀬町"},{"$f":"IF(DD642,DE642,\"\")","v":""},null,null,null,null,null,null,null,null,null,null,null,{"$f":"IF(DQ642,#REF!,\"\")","v":""}]
[null,null,null,null,null,null,null,null,null,null,null,null,null,null,null,null,null,null,"□","買物代行",false,"","□","食材宅配",false,"","□","温泉・銭湯（送迎）",false,"","□","屋外作業・力仕事",false,"","□","カフェ・ファーストフード",false,"","□","休憩スペース",false,"","□","映画館",false,"","□","住宅・リフォーム",false,"",null,"□","大宮区",false,"さいたま市:大宮区","",null,"□","戸田市",{"$f":"IF(BF643=\"☑\",TRUE)","v":false},{"$f":"\"南部地域:\"&BG643","v":"南部地域:戸田市"},"",null,"□","和光市",false,"南西部地域:和光市","",null,"□","越谷市",false,"東部地域:越谷市","",null,"□","桶川市",{"$f":"IF(BX643=\"☑\",TRUE)","v":false},{"$f":"\"県央地域:\"&BY643","v":"県央地域:桶川市"},"",null,"□","坂戸市",false,"川越比企地域:坂戸市","",null,"□","狭山市",{"$f":"IF(CJ643=\"☑\",TRUE)","v":false},{"$f":"\"西部地域:\"&CK643","v":"西部地域:狭山市"},"",null,"□","羽生市",false,"利根地域:羽生市","",null,"□","深谷市",false,"北部地域:深谷市","",null,"□","皆野町",{"$f":"IF(DB643=\"☑\",TRUE)","v":false},{"$f":"\"秩父地域:\"&DC643","v":"秩父地域:皆野町"},"",null,null,null,null,null,null,null,null,null,null,{"$f":"IF(#REF!=\"☑\",TRUE)","v":{"$error":"#REF!"}},{"$f":"IF(DQ643,#REF!,\"\")","v":{"$error":"#REF!"}}]
[null,null,null,null,null,null,null,null,null,null,null,null,null,null,null,null,null,null,"□","移動販売",false,"","□","日用品配達",false,"","□","整体・マッサージ（送迎）",false,"","□","整体・マッサージ（出張）",false,"","□","飲食店",false,"","□","駐車場",false,"","□","カラオケ店",false,"","□","パソコン・スマートフォン",false,"",null,"□","見沼区",false,"さいたま市:見沼区","",null,null,null,null,null,"",null,"□","新座市",false,"南西部地域:新座市","",null,"□","八潮市",false,"東部地域:八潮市","",null,"□","北本市",{"$f":"IF(BX644=\"☑\",TRUE)","v":false},{"$f":"\"県央地域:\"&BY644","v":"県央地域:北本市"},"",null,"□","鶴ヶ島市",false,"川越比企地域:鶴ヶ島市","",null,"□","入間市",{"$f":"IF(CJ644=\"☑\",TRUE)","v":false},{"$f":"\"西部地域:\"&CK644","v":"西部地域:入間市"},"",null,"□","久喜市",false,"利根地域:久喜市","",null,"□","美里町",false,"北部地域:美里町","",null,"□","長瀞町",{"$f":"IF(DB644=\"☑\",TRUE)","v":false},{"$f":"\"秩父地域:\"&DC644","v":"秩父地域:長瀞町"},""]
[null,null,null,null,null,null,null,null,null,null,null,null,null,null,null,null,null,null,"□","割引サービス",false,"","□","薬・介護用品配達",false,"","□","乗り合いサービス",false,"","□","理容・美容（出張）",false,"","□","イートインスペース",false,"","□","貸しスペース",false,"","□","麻雀・将棋・囲碁",false,"","□","認知症サポート企業",false,"",null,"□","中央区",false,"さいたま市:中央区","",null,null,null,null,null,"",null,"□","富士見市",false,"南西部地域:富士見市","",null,"□","三郷市",false,"東部地域:三郷市","",null,"□","伊奈町",{"$f":"IF(BX645=\"☑\",TRUE)","v":false},{"$f":"\"県央地域:\"&BY645","v":"県央地域:伊奈町"},"",null,"□","毛呂山町",false,"川越比企地域:毛呂山町","",null,"□","日高市",{"$f":"IF(CJ645=\"☑\",TRUE)","v":false},{"$f":"\"西部地域:\"&CK645","v":"西部地域:日高市"},"",null,"□","蓮田市",false,"利根地域:蓮田市","",null,"□","神川町",false,"北部地域:神川町","",null,"□","小鹿野町",{"$f":"IF(DB645=\"☑\",TRUE)","v":false},{"$f":"\"秩父地域:\"&DC645","v":"秩父地域:小鹿野町"},"",null,null,null,null,null,null,null,null,null,null,{"$f":"IF(#REF!=\"☑\",TRUE)","v":{"$error":"#REF!"}},{"$f":"IF(DQ645,#REF!,\"\")","v":{"$error":"#REF!"}}]
[null,null,null,null,null,null,null,null,null,null,null,null,null,null,null,null,null,null,"□","その他（買物）",false,"","□","クリーニング",false,{"$f":"IF(Y646,X646,\"\")","v":""},"□","個別移送サービス",false,"","□","ペット",false,"","□","その他（運動・たまり場）",false,"","□","その他（設備・施設・場所貸し）",false,"","□","ゲームセンター",false,"","□","理容・美容",false,"",null,"□","桜区",false,"さいたま市:桜区","",null,null,null,null,null,"",null,"□","ふじみ野市",false,"南西部地域:ふじみ野市","",null,"□","吉川市",false,"東部地域:吉川市","",null,null,null,null,null,"",null,"□","越生町",false,"川越比企地域:越生町","",null,null,null,null,null,"",null,"□","幸手市",false,"利根地域:幸手市","",null,"□","上里町",false,"北部地域:上里町","",null,null,null,null,null,"",null,null,null,null,null,null,null,null,null,null,{"$f":"IF(#REF!=\"☑\",TRUE)","v":{"$error":"#REF!"}},{"$f":"IF(DQ646,#REF!,\"\")","v":{"$error":"#REF!"}}]
[null,null,null,null,null,null,null,null,null,null,null,null,null,null,null,null,null,null,null,null,null,null,"□","その他（宅配・デリバリー）",false,{"$f":"IF(Y647,X647,\"\")","v":""},"□","交通機関サービス",false,"","□","その他（出張サービス）",false,"",null,null,null,null,null,null,null,null,"□","旅行・レジャー",false,"","□","成年後見・相続",false,"",null,"□","浦和区",false,"さいたま市:浦和区","",null,null,null,null,null,"",null,"□","三芳町",false,"南西部地域:三芳町","",null,"□","松伏町",false,"東部地域:松伏町","",null,null,null,null,null,"",null,"□","滑川町",false,"川越比企地域:滑川町","",null,null,null,null,null,"",null,"□","白岡市",false,"利根地域:白岡市","",null,"□","寄居町",false,"北部地域:寄居町","",null,null,null,null,null,""]
[null,null,null,null,null,null,null,null,null,null,null,null,null,null,null,null,null,null,null,null,null,null,null,null,null,null,"□","その他（送迎・移動支援）",false,"",null,null,null,"",null,null,null,{"$f":"IF(AK648,AJ648,\"\")","v":""},null,null,null,{"$f":"IF(AO648,AN648,\"\")","v":""},"□","パソコン・スマホ教室",false,"","□","その他（生活サービス）",false,"",null,"□","南区",false,"さいたま市:南区","",null,null,null,null,null,"",null,null,null,null,null,"",null,null,null,null,null,"",null,null,null,null,null,"",null,"□","嵐山町",false,"川越比企地域:嵐山町","",null,null,null,null,null,"",null,"□","宮代町",false,"利根地域:宮代町","",null,null,null,null,null,"",null,null,null,null,null,""]
[null,null,null,null,null,null,null,null,null,null,null,null,null,null,null,null,null,null,null,null,null,null,null,null,null,null,null,null,null,null,null,null,null,null,null,null,null,null,null,null,null,null,"□","その他（学び・趣味）",false,"",null,null,null,null,null,"□","緑区",false,"さいたま市:緑区","",null,null,null,null,null,"",null,null,null,null,null,"",null,null,null,null,null,"",null,null,null,null,null,"",null,"□","小川町",false,"川越比企地域:小川町","",null,null,null,null,null,"",null,"□","杉戸町",false,"利根地域:杉戸町","",null,null,null,null,null,"",null,null,null,null,null,""]
[null,null,null,null,null,null,null,null,null,null,null,null,null,null,null,null,null,null,null,null,null,null,null,null,null,null,null,null,null,null,null,null,null,null,null,null,null,null,null,null,null,null,null,null,null,null,null,null,null,null,null,"□","岩槻区",{"$f":"IF(AZ650=\"☑\",TRUE)","v":false},"さいたま市:岩槻区","",null,null,null,null,null,"",null,null,null,null,null,"",null,null,null,null,null,"",null,null,null,null,null,"",null,"□","川島町",false,"川越比企地域:川島町","",null,null,null,null,null,"",null,null,null,null,null,"",null,null,null,null,null,"",null,null,null,null,null,""]
[null,null,null,null,null,null,null,null,null,null,null,null,null,null,null,null,null,null,null,null,null,null,null,null,null,null,null,null,null,null,null,null,null,null,null,null,null,null,null,null,null,null,null,null,null,null,null,null,null,null,null,null,null,null,null,null,null,null,null,null,null,null,null,null,null,null,null,null,null,null,null,null,null,null,null,null,null,null,null,null,null,"□","吉見町",false,"川越比企地域:吉見町","",null,null,null,null,null,"",null,null,null,null,null,"",null,null,null,null,null,"",null,null,null,null,null,""]
[null,null,null,null,null,null,null,null,null,null,null,null,null,null,null,null,null,null,null,null,null,null,null,null,null,null,null,null,null,null,null,null,null,null,null,null,null,null,null,null,null,null,null,null,null,null,null,null,null,null,null,null,null,null,null,null,null,null,null,null,null,null,null,null,null,null,null,null,null,null,null,null,null,null,null,null,null,null,null,null,null,"□","鳩山町",false,"川越比企地域:鳩山町","",null,null,null,null,null,"",null,null,null,null,null,"",null,null,null,null,null,"",null,null,null,null,null,""]
[null,null,null,null,null,null,null,null,null,null,null,null,null,null,null,null,null,null,null,null,null,null,null,null,null,null,null,null,null,null,null,null,null,null,null,null,null,null,null,null,null,null,null,null,null,null,null,null,null,null,null,null,null,null,null,null,null,null,null,null,null,null,null,null,null,null,null,null,null,null,null,null,null,null,null,null,null,null,null,null,null,"□","ときがわ町",false,"川越比企地域:ときがわ町","",null,null,null,null,null,"",null,null,null,null,null,"",null,null,null,null,null,"",null,null,null,null,null,""]
[null,null,null,null,null,null,null,null,null,null,null,null,null,null,null,null,null,null,null,null,null,null,null,null,null,null,null,null,null,null,null,null,null,null,null,null,null,null,null,null,null,null,null,null,null,null,null,null,null,null,null,null,null,null,null,null,null,null,null,null,null,null,null,null,null,null,null,null,null,null,null,null,null,null,null,null,null,null,null,null,null,"□","東秩父村",false,"川越比企地域:東秩父村","",null,null,null,null,null,"",null,null,null,null,null,"",null,null,null,null,null,"",null,null,null,null,null,""]
[46,null,null,null,null,null,null,null,null,null,null,null,null,null,null,null,null,null,"□","配送",{"$f":"IF(S655=\"☑\",TRUE)","v":false},{"$f":"IF(U655,T655,\"\")","v":""},"□","弁当配達",{"$f":"IF(W655=\"☑\",TRUE)","v":false},{"$f":"IF(Y655,X655,\"\")","v":""},"□","理容・美容（送迎）",{"$f":"IF(AA655=\"☑\",TRUE)","v":false},{"$f":"IF(AC655,AB655,\"\")","v":""},"□","家事代行・掃除・片付け",{"$f":"IF(AE655=\"☑\",TRUE)","v":false},{"$f":"IF(AG655,AF655,\"\")","v":""},"□","フィットネス・ジム（運動）",{"$f":"IF(AI655=\"☑\",TRUE)","v":false},{"$f":"IF(AK655,AJ655,\"\")","v":""},"□","車イス対応（バリアフリー）",{"$f":"IF(AM655=\"☑\",TRUE)","v":false},{"$f":"IF(AO655,AN655,\"\")","v":""},"□","講座・教室・イベント",{"$f":"IF(AQ655=\"☑\",TRUE)","v":false},{"$f":"IF(AS655,AR655,\"\")","v":""},"□","防犯・見守り",{"$f":"IF(AU655=\"☑\",TRUE)","v":false},{"$f":"IF(AW655,AV655,\"\")","v":""},{"$f":"_xludf.TEXTJOIN(\",\",TRUE,V655:V668,Z655:Z668,AD655:AD668,AH655:AH668,AL655:AL668,AP655:AP668,AT655:AT668,AX655:AX668)","v":""},"□","西区",{"$f":"IF(AZ655=\"☑\",TRUE)","v":false},{"$f":"\"さいたま市:\"&BA655","v":"さいたま市:西区"},{"$f":"IF(BB655,BC655,\"\")","v":""},{"$f":"_xludf.TEXTJOIN(\",\",TRUE,BD655:BD668)","v":""},"□","川口市",{"$f":"IF(BF655=\"☑\",TRUE)","v":false},{"$f":"\"南部地域:\"&BG655","v":"南部地域:川口市"},{"$f":"IF(BH655,BI655,\"\")","v":""},{"$f":"_xludf.TEXTJOIN(\",\",TRUE,BJ655:BJ668)","v":""},"□","朝霞市",{"$f":"IF(BL655=\"☑\",TRUE)","v":false},{"$f":"\"南西部地域:\"&BM655","v":"南西部地域:朝霞市"},{"$f":"IF(BN655,BO655,\"\")","v":""},{"$f":"_xludf.TEXTJOIN(\",\",TRUE,BP655:BP668)","v":""},"□","春日部市",{"$f":"IF(BR655=\"☑\",TRUE)","v":false},{"$f":"\"東部地域:\"&BS655","v":"東部地域:春日部市"},{"$f":"IF(BT655,BU655,\"\")","v":""},{"$f":"_xludf.TEXTJOIN(\",\",TRUE,BV655:BV668)","v":""},"□","鴻巣市",{"$f":"IF(BX655=\"☑\",TRUE)","v":false},{"$f":"\"県央地域:\"&BY655","v":"県央地域:鴻巣市"},{"$f":"IF(BZ655,CA655,\"\")","v":""},{"$f":"_xludf.TEXTJOIN(\",\",TRUE,CB655:CB668)","v":""},"□","川越市",{"$f":"IF(CD655=\"☑\",TRUE)","v":false},{"$f":"\"川越比企地域:\"&CE655","v":"川越比企地域:川越市"},{"$f":"IF(CF655,CG655,\"\")","v":""},{"$f":"_xludf.TEXTJOIN(\",\",TRUE,CH655:CH668)","v":""},"□","所沢市",{"$f":"IF(CJ655=\"☑\",TRUE)","v":false},{"$f":"\"西部地域:\"&CK655","v":"西部地域:所沢市"},{"$f":"IF(CL655,CM655,\"\")","v":""},{"$f":"_xludf.TEXTJOIN(\",\",TRUE,CN655:CN668)","v":""},"□","行田市",{"$f":"IF(CP655=\"☑\",TRUE)","v":false},{"$f":"\"利根地域:\"&CQ655","v":"利根地域:行田市"},{"$f":"IF(CR655,CS655,\"\")","v":""},{"$f":"_xludf.TEXTJOIN(\",\",TRUE,CT655:CT668)","v":""},"□","熊谷市",{"$f":"IF(CV655=\"☑\",TRUE)","v":false},{"$f":"\"北部地域:\"&CW655","v":"北部地域:熊谷市"},{"$f":"IF(CX655,CY655,\"\")","v":""},{"$f":"_xludf.TEXTJOIN(\",\",TRUE,CZ655:CZ668)","v":""},"□","秩父市",{"$f":"IF(DB655=\"☑\",TRUE)","v":false},{"$f":"\"秩父地域:\"&DC655","v":"秩父地域:秩父市"},{"$f":"IF(DD655,DE655,\"\")","v":""},{"$f":"_xludf.TEXTJOIN(\",\",TRUE,DF655:DF668)","v":""},{"$f":"_xlfn.TEXTJOIN(\",\",TRUE,BE655,BK655,BQ655,BW655,CC655,CI655,CO655,CU655,DA655,DG655)","v":""},null,null,null,null,null,null,null,null,{"$f":"IF(#REF!=\"☑\",TRUE)","v":{"$error":"#REF!"}},{"$f":"IF(DQ655,#REF!,\"\")","v":{"$error":"#REF!"}},{"$f":"_xludf.TEXTJOIN(\",\",TRUE,DR655:DR668)","v":{"$error":"#VALUE!"}}]
[null,null,null,null,null,null,null,null,null,null,null,null,null,null,null,null,null,null,"□","買物サポート",false,"","□","料理デリバリー（出前）",false,"","□","フィットネス・ジム（送迎）",{"$f":"IF(AA656=\"☑\",TRUE)","v":false},{"$f":"IF(AC656,AB656,\"\")","v":""},"□","出張料理",{"$f":"IF(AE656=\"☑\",TRUE)","v":false},{"$f":"IF(AG656,AF656,\"\")","v":""},"□","温泉・銭湯（たまり場）",false,"","□","多目的トイレ",false,"","□","習い事",{"$f":"IF(AQ656=\"☑\",TRUE)","v":false},{"$f":"IF(AS656,AR656,\"\")","v":""},"□","金融・保険",false,"",null,"□","北区",{"$f":"IF(AZ656=\"☑\",TRUE)","v":false},{"$f":"\"さいたま市:\"&BA656","v":"さいたま市:北区"},{"$f":"IF(BB656,BC656,\"\")","v":""},null,"□","蕨市",{"$f":"IF(BF656=\"☑\",TRUE)","v":false},{"$f":"\"南部地域:\"&BG656","v":"南部地域:蕨市"},{"$f":"IF(BH656,BI656,\"\")","v":""},null,"□","志木市",{"$f":"IF(BL656=\"☑\",TRUE)","v":false},{"$f":"\"南西部地域:\"&BM656","v":"南西部地域:志木市"},{"$f":"IF(BN656,BO656,\"\")","v":""},null,"□","草加市",{"$f":"IF(BR656=\"☑\",TRUE)","v":false},{"$f":"\"東部地域:\"&BS656","v":"東部地域:草加市"},"",null,"□","上尾市",{"$f":"IF(BX656=\"☑\",TRUE)","v":false},{"$f":"\"県央地域:\"&BY656","v":"県央地域:上尾市"},{"$f":"IF(BZ656,CA656,\"\")","v":""},null,"□","東松山市",{"$f":"IF(CD656=\"☑\",TRUE)","v":false},{"$f":"\"川越比企地域:\"&CE656","v":"川越比企地域:東松山市"},{"$f":"IF(CF656,CG656,\"\")","v":""},null,"□","飯能市",{"$f":"IF(CJ656=\"☑\",TRUE)","v":false},{"$f":"\"西部地域:\"&CK656","v":"西部地域:飯能市"},{"$f":"IF(CL656,CM656,\"\")","v":""},null,"□","加須市",{"$f":"IF(CP656=\"☑\",TRUE)","v":false},{"$f":"\"利根地域:\"&CQ656","v":"利根地域:加須市"},{"$f":"IF(CR656,CS656,\"\")","v":""},null,"□","本庄市",{"$f":"IF(CV656=\"☑\",TRUE)","v":false},{"$f":"\"北部地域:\"&CW656","v":"北部地域:本庄市"},{"$f":"IF(CX656,CY656,\"\")","v":""},null,"□","横瀬町",{"$f":"IF(DB656=\"☑\",TRUE)","v":false},{"$f":"\"秩父地域:\"&DC656","v":"秩父地域:横瀬町"},{"$f":"IF(DD656,DE656,\"\")","v":""},null,null,null,null,null,null,null,null,null,null,null,{"$f":"IF(DQ656,#REF!,\"\")","v":""}]
[null,null,null,null,null,null,null,null,null,null,null,null,null,null,null,null,null,null,"□","買物代行",false,"","□","食材宅配",false,"","□","温泉・銭湯（送迎）",false,"","□","屋外作業・力仕事",false,"","□","カフェ・ファーストフード",false,"","□","休憩スペース",false,"","□","映画館",false,"","□","住宅・リフォーム",false,"",null,"□","大宮区",false,"さいたま市:大宮区","",null,"□","戸田市",{"$f":"IF(BF657=\"☑\",TRUE)","v":false},{"$f":"\"南部地域:\"&BG657","v":"南部地域:戸田市"},"",null,"□","和光市",false,"南西部地域:和光市","",null,"□","越谷市",false,"東部地域:越谷市","",null,"□","桶川市",{"$f":"IF(BX657=\"☑\",TRUE)","v":false},{"$f":"\"県央地域:\"&BY657","v":"県央地域:桶川市"},"",null,"□","坂戸市",false,"川越比企地域:坂戸市","",null,"□","狭山市",{"$f":"IF(CJ657=\"☑\",TRUE)","v":false},{"$f":"\"西部地域:\"&CK657","v":"西部地域:狭山市"},"",null,"□","羽生市",false,"利根地域:羽生市","",null,"□","深谷市",false,"北部地域:深谷市","",null,"□","皆野町",{"$f":"IF(DB657=\"☑\",TRUE)","v":false},{"$f":"\"秩父地域:\"&DC657","v":"秩父地域:皆野町"},"",null,null,null,null,null,null,null,null,null,null,{"$f":"IF(#REF!=\"☑\",TRUE)","v":{"$error":"#REF!"}},{"$f":"IF(DQ657,#REF!,\"\")","v":{"$error":"#REF!"}}]
[null,null,null,null,null,null,null,null,null,null,null,null,null,null,null,null,null,null,"□","移動販売",false,"","□","日用品配達",false,"","□","整体・マッサージ（送迎）",false,"","□","整体・マッサージ（出張）",false,"","□","飲食店",false,"","□","駐車場",false,"","□","カラオケ店",false,"","□","パソコン・スマートフォン",false,"",null,"□","見沼区",false,"さいたま市:見沼区","",null,null,null,null,null,"",null,"□","新座市",false,"南西部地域:新座市","",null,"□","八潮市",false,"東部地域:八潮市","",null,"□","北本市",{"$f":"IF(BX658=\"☑\",TRUE)","v":false},{"$f":"\"県央地域:\"&BY658","v":"県央地域:北本市"},"",null,"□","鶴ヶ島市",false,"川越比企地域:鶴ヶ島市","",null,"□","入間市",{"$f":"IF(CJ658=\"☑\",TRUE)","v":false},{"$f":"\"西部地域:\"&CK658","v":"西部地域:入間市"},"",null,"□","久喜市",false,"利根地域:久喜市","",null,"□","美里町",false,"北部地域:美里町","",null,"□","長瀞町",{"$f":"IF(DB658=\"☑\",TRUE)","v":false},{"$f":"\"秩父地域:\"&DC658","v":"秩父地域:長瀞町"},""]
[null,null,null,null,null,null,null,null,null,null,null,null,null,null,null,null,null,null,"□","割引サービス",false,"","□","薬・介護用品配達",false,"","□","乗り合いサービス",false,"","□","理容・美容（出張）",false,"","□","イートインスペース",false,"","□","貸しスペース",false,"","□","麻雀・将棋・囲碁",false,"","□","認知症サポート企業",false,"",null,"□","中央区",false,"さいたま市:中央区","",null,null,null,null,null,"",null,"□","富士見市",false,"南西部地域:富士見市","",null,"□","三郷市",false,"東部地域:三郷市","",null,"□","伊奈町",{"$f":"IF(BX659=\"☑\",TRUE)","v":false},{"$f":"\"県央地域:\"&BY659","v":"県央地域:伊奈町"},"",null,"□","毛呂山町",false,"川越比企地域:毛呂山町","",null,"□","日高市",{"$f":"IF(CJ659=\"☑\",TRUE)","v":false},{"$f":"\"西部地域:\"&CK659","v":"西部地域:日高市"},"",null,"□","蓮田市",false,"利根地域:蓮田市","",null,"□","神川町",false,"北部地域:神川町","",null,"□","小鹿野町",{"$f":"IF(DB659=\"☑\",TRUE)","v":false},{"$f":"\"秩父地域:\"&DC659","v":"秩父地域:小鹿野町"},"",null,null,null,null,null,null,null,null,null,null,{"$f":"IF(#REF!=\"☑\",TRUE)","v":{"$error":"#REF!"}},{"$f":"IF(DQ659,#REF!,\"\")","v":{"$error":"#REF!"}}]
[null,null,null,null,null,null,null,null,null,null,null,null,null,null,null,null,null,null,"□","その他（買物）",false,"","□","クリーニング",false,{"$f":"IF(Y660,X660,\"\")","v":""},"□","個別移送サービス",false,"","□","ペット",false,"","□","その他（運動・たまり場）",false,"","□","その他（設備・施設・場所貸し）",false,"","□","ゲームセンター",false,"","□","理容・美容",false,"",null,"□","桜区",false,"さいたま市:桜区","",null,null,null,null,null,"",null,"□","ふじみ野市",false,"南西部地域:ふじみ野市","",null,"□","吉川市",false,"東部地域:吉川市","",null,null,null,null,null,"",null,"□","越生町",false,"川越比企地域:越生町","",null,null,null,null,null,"",null,"□","幸手市",false,"利根地域:幸手市","",null,"□","上里町",false,"北部地域:上里町","",null,null,null,null,null,"",null,null,null,null,null,null,null,null,null,null,{"$f":"IF(#REF!=\"☑\",TRUE)","v":{"$error":"#REF!"}},{"$f":"IF(DQ660,#REF!,\"\")","v":{"$error":"#REF!"}}]
[null,null,null,null,null,null,null,null,null,null,null,null,null,null,null,null,null,null,null,null,null,null,"□","その他（宅配・デリバリー）",false,{"$f":"IF(Y661,X661,\"\")","v":""},"□","交通機関サービス",false,"","□","その他（出張サービス）",false,"",null,null,null,null,null,null,null,null,"□","旅行・レジャー",false,"","□","成年後見・相続",false,"",null,"□","浦和区",false,"さいたま市:浦和区","",null,null,null,null,null,"",null,"□","三芳町",false,"南西部地域:三芳町","",null,"□","松伏町",false,"東部地域:松伏町","",null,null,null,null,null,"",null,"□","滑川町",false,"川越比企地域:滑川町","",null,null,null,null,null,"",null,"□","白岡市",false,"利根地域:白岡市","",null,"□","寄居町",false,"北部地域:寄居町","",null,null,null,null,null,""]
[null,null,null,null,null,null,null,null,null,null,null,null,null,null,null,null,null,null,null,null,null,null,null,null,null,null,"□","その他（送迎・移動支援）",false,"",null,null,null,"",null,null,null,{"$f":"IF(AK662,AJ662,\"\")","v":""},null,null,null,{"$f":"IF(AO662,AN662,\"\")","v":""},"□","パソコン・スマホ教室",false,"","□","その他（生活サービス）",false,"",null,"□","南区",false,"さいたま市:南区","",null,null,null,null,null,"",null,null,null,null,null,"",null,null,null,null,null,"",null,null,null,null,null,"",null,"□","嵐山町",false,"川越比企地域:嵐山町","",null,null,null,null,null,"",null,"□","宮代町",false,"利根地域:宮代町","",null,null,null,null,null,"",null,null,null,null,null,""]
[null,null,null,null,null,null,null,null,null,null,null,null,null,null,null,null,null,null,null,null,null,null,null,null,null,null,null,null,null,null,null,null,null,null,null,null,null,null,null,null,null,null,"□","その他（学び・趣味）",false,"",null,null,null,null,null,"□","緑区",false,"さいたま市:緑区","",null,null,null,null,null,"",null,null,null,null,null,"",null,null,null,null,null,"",null,null,null,null,null,"",null,"□","小川町",false,"川越比企地域:小川町","",null,null,null,null,null,"",null,"□","杉戸町",false,"利根地域:杉戸町","",null,null,null,null,null,"",null,null,null,null,null,""]
[null,null,null,null,null,null,null,null,null,null,null,null,null,null,null,null,null,null,null,null,null,null,null,null,null,null,null,null,null,null,null,null,null,null,null,null,null,null,null,null,null,null,null,null,null,null,null,null,null,null,null,"□","岩槻区",{"$f":"IF(AZ664=\"☑\",TRUE)","v":false},"さいたま市:岩槻区","",null,null,null,null,null,"",null,null,null,null,null,"",null,null,null,null,null,"",null,null,null,null,null,"",null,"□","川島町",false,"川越比企地域:川島町","",null,null,null,null,null,"",null,null,null,null,null,"",null,null,null,null,null,"",null,null,null,null,null,""]
[null,null,null,null,null,null,null,null,null,null,null,null,null,null,null,null,null,null,null,null,null,null,null,null,null,null,null,null,null,null,null,null,null,null,null,null,null,null,null,null,null,null,null,null,null,null,null,null,null,null,null,null,null,null,null,null,null,null,null,null,null,null,null,null,null,null,null,null,null,null,null,null,null,null,null,null,null,null,null,null,null,"□","吉見町",false,"川越比企地域:吉見町","",null,null,null,null,null,"",null,null,null,null,null,"",null,null,null,null,null,"",null,null,null,null,null,""]
[null,null,null,null,null,null,null,null,null,null,null,null,null,null,null,null,null,null,null,null,null,null,null,null,null,null,null,null,null,null,null,null,null,null,null,null,null,null,null,null,null,null,null,null,null,null,null,null,null,null,null,null,null,null,null,null,null,null,null,null,null,null,null,null,null,null,null,null,null,null,null,null,null,null,null,null,null,null,null,null,null,"□","鳩山町",false,"川越比企地域:鳩山町","",null,null,null,null,null,"",null,null,null,null,null,"",null,null,null,null,null,"",null,null,null,null,null,""]
[null,null,null,null,null,null,null,null,null,null,null,null,null,null,null,null,null,null,null,null,null,null,null,null,null,null,null,null,null,null,null,null,null,null,null,null,null,null,null,null,null,null,null,null,null,null,null,null,null,null,null,null,null,null,null,null,null,null,null,null,null,null,null,null,null,null,null,null,null,null,null,null,null,null,null,null,null,null,null,null,null,"□","ときがわ町",false,"川越比企地域:ときがわ町","",null,null,null,null,null,"",null,null,null,null,null,"",null,null,null,null,null,"",null,null,null,null,null,""]
[null,null,null,null,null,null,null,null,null,null,null,null,null,null,null,null,null,null,null,null,null,null,null,null,null,null,null,null,null,null,null,null,null,null,null,null,null,null,null,null,null,null,null,null,null,null,null,null,null,null,null,null,null,null,null,null,null,null,null,null,null,null,null,null,null,null,null,null,null,null,null,null,null,null,null,null,null,null,null,null,null,"□","東秩父村",false,"川越比企地域:東秩父村","",null,null,null,null,null,"",null,null,null,null,null,"",null,null,null,null,null,"",null,null,null,null,null,""]
[47,null,null,null,null,null,null,null,null,null,null,null,null,null,null,null,null,null,"□","配送",{"$f":"IF(S669=\"☑\",TRUE)","v":false},{"$f":"IF(U669,T669,\"\")","v":""},"□","弁当配達",{"$f":"IF(W669=\"☑\",TRUE)","v":false},{"$f":"IF(Y669,X669,\"\")","v":""},"□","理容・美容（送迎）",{"$f":"IF(AA669=\"☑\",TRUE)","v":false},{"$f":"IF(AC669,AB669,\"\")","v":""},"□","家事代行・掃除・片付け",{"$f":"IF(AE669=\"☑\",TRUE)","v":false},{"$f":"IF(AG669,AF669,\"\")","v":""},"□","フィットネス・ジム（運動）",{"$f":"IF(AI669=\"☑\",TRUE)","v":false},{"$f":"IF(AK669,AJ669,\"\")","v":""},"□","車イス対応（バリアフリー）",{"$f":"IF(AM669=\"☑\",TRUE)","v":false},{"$f":"IF(AO669,AN669,\"\")","v":""},"□","講座・教室・イベント",{"$f":"IF(AQ669=\"☑\",TRUE)","v":false},{"$f":"IF(AS669,AR669,\"\")","v":""},"□","防犯・見守り",{"$f":"IF(AU669=\"☑\",TRUE)","v":false},{"$f":"IF(AW669,AV669,\"\")","v":""},{"$f":"_xludf.TEXTJOIN(\",\",TRUE,V669:V682,Z669:Z682,AD669:AD682,AH669:AH682,AL669:AL682,AP669:AP682,AT669:AT682,AX669:AX682)","v":""},"□","西区",{"$f":"IF(AZ669=\"☑\",TRUE)","v":false},{"$f":"\"さいたま市:\"&BA669","v":"さいたま市:西区"},{"$f":"IF(BB669,BC669,\"\")","v":""},{"$f":"_xludf.TEXTJOIN(\",\",TRUE,BD669:BD682)","v":""},"□","川口市",{"$f":"IF(BF669=\"☑\",TRUE)","v":false},{"$f":"\"南部地域:\"&BG669","v":"南部地域:川口市"},{"$f":"IF(BH669,BI669,\"\")","v":""},{"$f":"_xludf.TEXTJOIN(\",\",TRUE,BJ669:BJ682)","v":""},"□","朝霞市",{"$f":"IF(BL669=\"☑\",TRUE)","v":false},{"$f":"\"南西部地域:\"&BM669","v":"南西部地域:朝霞市"},{"$f":"IF(BN669,BO669,\"\")","v":""},{"$f":"_xludf.TEXTJOIN(\",\",TRUE,BP669:BP682)","v":""},"□","春日部市",{"$f":"IF(BR669=\"☑\",TRUE)","v":false},{"$f":"\"東部地域:\"&BS669","v":"東部地域:春日部市"},{"$f":"IF(BT669,BU669,\"\")","v":""},{"$f":"_xludf.TEXTJOIN(\",\",TRUE,BV669:BV682)","v":""},"□","鴻巣市",{"$f":"IF(BX669=\"☑\",TRUE)","v":false},{"$f":"\"県央地域:\"&BY669","v":"県央地域:鴻巣市"},{"$f":"IF(BZ669,CA669,\"\")","v":""},{"$f":"_xludf.TEXTJOIN(\",\",TRUE,CB669:CB682)","v":""},"□","川越市",{"$f":"IF(CD669=\"☑\",TRUE)","v":false},{"$f":"\"川越比企地域:\"&CE669","v":"川越比企地域:川越市"},{"$f":"IF(CF669,CG669,\"\")","v":""},{"$f":"_xludf.TEXTJOIN(\",\",TRUE,CH669:CH682)","v":""},"□","所沢市",{"$f":"IF(CJ669=\"☑\",TRUE)","v":false},{"$f":"\"西部地域:\"&CK669","v":"西部地域:所沢市"},{"$f":"IF(CL669,CM669,\"\")","v":""},{"$f":"_xludf.TEXTJOIN(\",\",TRUE,CN669:CN682)","v":""},"□","行田市",{"$f":"IF(CP669=\"☑\",TRUE)","v":false},{"$f":"\"利根地域:\"&CQ669","v":"利根地域:行田市"},{"$f":"IF(CR669,CS669,\"\")","v":""},{"$f":"_xludf.TEXTJOIN(\",\",TRUE,CT669:CT682)","v":""},"□","熊谷市",{"$f":"IF(CV669=\"☑\",TRUE)","v":false},{"$f":"\"北部地域:\"&CW669","v":"北部地域:熊谷市"},{"$f":"IF(CX669,CY669,\"\")","v":""},{"$f":"_xludf.TEXTJOIN(\",\",TRUE,CZ669:CZ682)","v":""},"□","秩父市",{"$f":"IF(DB669=\"☑\",TRUE)","v":false},{"$f":"\"秩父地域:\"&DC669","v":"秩父地域:秩父市"},{"$f":"IF(DD669,DE669,\"\")","v":""},{"$f":"_xludf.TEXTJOIN(\",\",TRUE,DF669:DF682)","v":""},{"$f":"_xlfn.TEXTJOIN(\",\",TRUE,BE669,BK669,BQ669,BW669,CC669,CI669,CO669,CU669,DA669,DG669)","v":""},null,null,null,null,null,null,null,null,{"$f":"IF(#REF!=\"☑\",TRUE)","v":{"$error":"#REF!"}},{"$f":"IF(DQ669,#REF!,\"\")","v":{"$error":"#REF!"}},{"$f":"_xludf.TEXTJOIN(\",\",TRUE,DR669:DR682)","v":{"$error":"#VALUE!"}}]
[null,null,null,null,null,null,null,null,null,null,null,null,null,null,null,null,null,null,"□","買物サポート",false,"","□","料理デリバリー（出前）",false,"","□","フィットネス・ジム（送迎）",{"$f":"IF(AA670=\"☑\",TRUE)","v":false},{"$f":"IF(AC670,AB670,\"\")","v":""},"□","出張料理",{"$f":"IF(AE670=\"☑\",TRUE)","v":false},{"$f":"IF(AG670,AF670,\"\")","v":""},"□","温泉・銭湯（たまり場）",false,"","□","多目的トイレ",false,"","□","習い事",{"$f":"IF(AQ670=\"☑\",TRUE)","v":false},{"$f":"IF(AS670,AR670,\"\")","v":""},"□","金融・保険",false,"",null,"□","北区",{"$f":"IF(AZ670=\"☑\",TRUE)","v":false},{"$f":"\"さいたま市:\"&BA670","v":"さいたま市:北区"},{"$f":"IF(BB670,BC670,\"\")","v":""},null,"□","蕨市",{"$f":"IF(BF670=\"☑\",TRUE)","v":false},{"$f":"\"南部地域:\"&BG670","v":"南部地域:蕨市"},{"$f":"IF(BH670,BI670,\"\")","v":""},null,"□","志木市",{"$f":"IF(BL670=\"☑\",TRUE)","v":false},{"$f":"\"南西部地域:\"&BM670","v":"南西部地域:志木市"},{"$f":"IF(BN670,BO670,\"\")","v":""},null,"□","草加市",{"$f":"IF(BR670=\"☑\",TRUE)","v":false},{"$f":"\"東部地域:\"&BS670","v":"東部地域:草加市"},"",null,"□","上尾市",{"$f":"IF(BX670=\"☑\",TRUE)","v":false},{"$f":"\"県央地域:\"&BY670","v":"県央地域:上尾市"},{"$f":"IF(BZ670,CA670,\"\")","v":""},null,"□","東松山市",{"$f":"IF(CD670=\"☑\",TRUE)","v":false},{"$f":"\"川越比企地域:\"&CE670","v":"川越比企地域:東松山市"},{"$f":"IF(CF670,CG670,\"\")","v":""},null,"□","飯能市",{"$f":"IF(CJ670=\"☑\",TRUE)","v":false},{"$f":"\"西部地域:\"&CK670","v":"西部地域:飯能市"},{"$f":"IF(CL670,CM670,\"\")","v":""},null,"□","加須市",{"$f":"IF(CP670=\"☑\",TRUE)","v":false},{"$f":"\"利根地域:\"&CQ670","v":"利根地域:加須市"},{"$f":"IF(CR670,CS670,\"\")","v":""},null,"□","本庄市",{"$f":"IF(CV670=\"☑\",TRUE)","v":false},{"$f":"\"北部地域:\"&CW670","v":"北部地域:本庄市"},{"$f":"IF(CX670,CY670,\"\")","v":""},null,"□","横瀬町",{"$f":"IF(DB670=\"☑\",TRUE)","v":false},{"$f":"\"秩父地域:\"&DC670","v":"秩父地域:横瀬町"},{"$f":"IF(DD670,DE670,\"\")","v":""},null,null,null,null,null,null,null,null,null,null,null,{"$f":"IF(DQ670,#REF!,\"\")","v":""}]
[null,null,null,null,null,null,null,null,null,null,null,null,null,null,null,null,null,null,"□","買物代行",false,"","□","食材宅配",false,"","□","温泉・銭湯（送迎）",false,"","□","屋外作業・力仕事",false,"","□","カフェ・ファーストフード",false,"","□","休憩スペース",false,"","□","映画館",false,"","□","住宅・リフォーム",false,"",null,"□","大宮区",false,"さいたま市:大宮区","",null,"□","戸田市",{"$f":"IF(BF671=\"☑\",TRUE)","v":false},{"$f":"\"南部地域:\"&BG671","v":"南部地域:戸田市"},"",null,"□","和光市",false,"南西部地域:和光市","",null,"□","越谷市",false,"東部地域:越谷市","",null,"□","桶川市",{"$f":"IF(BX671=\"☑\",TRUE)","v":false},{"$f":"\"県央地域:\"&BY671","v":"県央地域:桶川市"},"",null,"□","坂戸市",false,"川越比企地域:坂戸市","",null,"□","狭山市",{"$f":"IF(CJ671=\"☑\",TRUE)","v":false},{"$f":"\"西部地域:\"&CK671","v":"西部地域:狭山市"},"",null,"□","羽生市",false,"利根地域:羽生市","",null,"□","深谷市",false,"北部地域:深谷市","",null,"□","皆野町",{"$f":"IF(DB671=\"☑\",TRUE)","v":false},{"$f":"\"秩父地域:\"&DC671","v":"秩父地域:皆野町"},"",null,null,null,null,null,null,null,null,null,null,{"$f":"IF(#REF!=\"☑\",TRUE)","v":{"$error":"#REF!"}},{"$f":"IF(DQ671,#REF!,\"\")","v":{"$error":"#REF!"}}]
[null,null,null,null,null,null,null,null,null,null,null,null,null,null,null,null,null,null,"□","移動販売",false,"","□","日用品配達",false,"","□","整体・マッサージ（送迎）",false,"","□","整体・マッサージ（出張）",false,"","□","飲食店",false,"","□","駐車場",false,"","□","カラオケ店",false,"","□","パソコン・スマートフォン",false,"",null,"□","見沼区",false,"さいたま市:見沼区","",null,null,null,null,null,"",null,"□","新座市",false,"南西部地域:新座市","",null,"□","八潮市",false,"東部地域:八潮市","",null,"□","北本市",{"$f":"IF(BX672=\"☑\",TRUE)","v":false},{"$f":"\"県央地域:\"&BY672","v":"県央地域:北本市"},"",null,"□","鶴ヶ島市",false,"川越比企地域:鶴ヶ島市","",null,"□","入間市",{"$f":"IF(CJ672=\"☑\",TRUE)","v":false},{"$f":"\"西部地域:\"&CK672","v":"西部地域:入間市"},"",null,"□","久喜市",false,"利根地域:久喜市","",null,"□","美里町",false,"北部地域:美里町","",null,"□","長瀞町",{"$f":"IF(DB672=\"☑\",TRUE)","v":false},{"$f":"\"秩父地域:\"&DC672","v":"秩父地域:長瀞町"},""]
[null,null,null,null,null,null,null,null,null,null,null,null,null,null,null,null,null,null,"□","割引サービス",false,"","□","薬・介護用品配達",false,"","□","乗り合いサービス",false,"","□","理容・美容（出張）",false,"","□","イートインスペース",false,"","□","貸しスペース",false,"","□","麻雀・将棋・囲碁",false,"","□","認知症サポート企業",false,"",null,"□","中央区",false,"さいたま市:中央区","",null,null,null,null,null,"",null,"□","富士見市",false,"南西部地域:富士見市","",null,"□","三郷市",false,"東部地域:三郷市","",null,"□","伊奈町",{"$f":"IF(BX673=\"☑\",TRUE)","v":false},{"$f":"\"県央地域:\"&BY673","v":"県央地域:伊奈町"},"",null,"□","毛呂山町",false,"川越比企地域:毛呂山町","",null,"□","日高市",{"$f":"IF(CJ673=\"☑\",TRUE)","v":false},{"$f":"\"西部地域:\"&CK673","v":"西部地域:日高市"},"",null,"□","蓮田市",false,"利根地域:蓮田市","",null,"□","神川町",false,"北部地域:神川町","",null,"□","小鹿野町",{"$f":"IF(DB673=\"☑\",TRUE)","v":false},{"$f":"\"秩父地域:\"&DC673","v":"秩父地域:小鹿野町"},"",null,null,null,null,null,null,null,null,null,null,{"$f":"IF(#REF!=\"☑\",TRUE)","v":{"$error":"#REF!"}},{"$f":"IF(DQ673,#REF!,\"\")","v":{"$error":"#REF!"}}]
[null,null,null,null,null,null,null,null,null,null,null,null,null,null,null,null,null,null,"□","その他（買物）",false,"","□","クリーニング",false,{"$f":"IF(Y674,X674,\"\")","v":""},"□","個別移送サービス",false,"","□","ペット",false,"","□","その他（運動・たまり場）",false,"","□","その他（設備・施設・場所貸し）",false,"","□","ゲームセンター",false,"","□","理容・美容",false,"",null,"□","桜区",false,"さいたま市:桜区","",null,null,null,null,null,"",null,"□","ふじみ野市",false,"南西部地域:ふじみ野市","",null,"□","吉川市",false,"東部地域:吉川市","",null,null,null,null,null,"",null,"□","越生町",false,"川越比企地域:越生町","",null,null,null,null,null,"",null,"□","幸手市",false,"利根地域:幸手市","",null,"□","上里町",false,"北部地域:上里町","",null,null,null,null,null,"",null,null,null,null,null,null,null,null,null,null,{"$f":"IF(#REF!=\"☑\",TRUE)","v":{"$error":"#REF!"}},{"$f":"IF(DQ674,#REF!,\"\")","v":{"$error":"#REF!"}}]
[null,null,null,null,null,null,null,null,null,null,null,null,null,null,null,null,null,null,null,null,null,null,"□","その他（宅配・デリバリー）",false,{"$f":"IF(Y675,X675,\"\")","v":""},"□","交通機関サービス",false,"","□","その他（出張サービス）",false,"",null,null,null,null,null,null,null,null,"□","旅行・レジャー",false,"","□","成年後見・相続",false,"",null,"□","浦和区",false,"さいたま市:浦和区","",null,null,null,null,null,"",null,"□","三芳町",false,"南西部地域:三芳町","",null,"□","松伏町",false,"東部地域:松伏町","",null,null,null,null,null,"",null,"□","滑川町",false,"川越比企地域:滑川町","",null,null,null,null,null,"",null,"□","白岡市",false,"利根地域:白岡市","",null,"□","寄居町",false,"北部地域:寄居町","",null,null,null,null,null,""]
[null,null,null,null,null,null,null,null,null,null,null,null,null,null,null,null,null,null,null,null,null,null,null,null,null,null,"□","その他（送迎・移動支援）",false,"",null,null,null,"",null,null,null,{"$f":"IF(AK676,AJ676,\"\")","v":""},null,null,null,{"$f":"IF(AO676,AN676,\"\")","v":""},"□","パソコン・スマホ教室",false,"","□","その他（生活サービス）",false,"",null,"□","南区",false,"さいたま市:南区","",null,null,null,null,null,"",null,null,null,null,null,"",null,null,null,null,null,"",null,null,null,null,null,"",null,"□","嵐山町",false,"川越比企地域:嵐山町","",null,null,null,null,null,"",null,"□","宮代町",false,"利根地域:宮代町","",null,null,null,null,null,"",null,null,null,null,null,""]
[null,null,null,null,null,null,null,null,null,null,null,null,null,null,null,null,null,null,null,null,null,null,null,null,null,null,null,null,null,null,null,null,null,null,null,null,null,null,null,null,null,null,"□","その他（学び・趣味）",false,"",null,null,null,null,null,"□","緑区",false,"さいたま市:緑区","",null,null,null,null,null,"",null,null,null,null,null,"",null,null,null,null,null,"",null,null,null,null,null,"",null,"□","小川町",false,"川越比企地域:小川町","",null,null,null,null,null,"",null,"□","杉戸町",false,"利根地域:杉戸町","",null,null,null,null,null,"",null,null,null,null,null,""]
[null,null,null,null,null,null,null,null,null,null,null,null,null,null,null,null,null,null,null,null,null,null,null,null,null,null,null,null,null,null,null,null,null,null,null,null,null,null,null,null,null,null,null,null,null,null,null,null,null,null,null,"□","岩槻区",{"$f":"IF(AZ678=\"☑\",TRUE)","v":false},"さいたま市:岩槻区","",null,null,null,null,null,"",null,null,null,null,null,"",null,null,null,null,null,"",null,null,null,null,null,"",null,"□","川島町",false,"川越比企地域:川島町","",null,null,null,null,null,"",null,null,null,null,null,"",null,null,null,null,null,"",null,null,null,null,null,""]
[null,null,null,null,null,null,null,null,null,null,null,null,null,null,null,null,null,null,null,null,null,null,null,null,null,null,null,null,null,null,null,null,null,null,null,null,null,null,null,null,null,null,null,null,null,null,null,null,null,null,null,null,null,null,null,null,null,null,null,null,null,null,null,null,null,null,null,null,null,null,null,null,null,null,null,null,null,null,null,null,null,"□","吉見町",false,"川越比企地域:吉見町","",null,null,null,null,null,"",null,null,null,null,null,"",null,null,null,null,null,"",null,null,null,null,null,""]
[null,null,null,null,null,null,null,null,null,null,null,null,null,null,null,null,null,null,null,null,null,null,null,null,null,null,null,null,null,null,null,null,null,null,null,null,null,null,null,null,null,null,null,null,null,null,null,null,null,null,null,null,null,null,null,null,null,null,null,null,null,null,null,null,null,null,null,null,null,null,null,null,null,null,null,null,null,null,null,null,null,"□","鳩山町",false,"川越比企地域:鳩山町","",null,null,null,null,null,"",null,null,null,null,null,"",null,null,null,null,null,"",null,null,null,null,null,""]
[null,null,null,null,null,null,null,null,null,null,null,null,null,null,null,null,null,null,null,null,null,null,null,null,null,null,null,null,null,null,null,null,null,null,null,null,null,null,null,null,null,null,null,null,null,null,null,null,null,null,null,null,null,null,null,null,null,null,null,null,null,null,null,null,null,null,null,null,null,null,null,null,null,null,null,null,null,null,null,null,null,"□","ときがわ町",false,"川越比企地域:ときがわ町","",null,null,null,null,null,"",null,null,null,null,null,"",null,null,null,null,null,"",null,null,null,null,null,""]
[null,null,null,null,null,null,null,null,null,null,null,null,null,null,null,null,null,null,null,null,null,null,null,null,null,null,null,null,null,null,null,null,null,null,null,null,null,null,null,null,null,null,null,null,null,null,null,null,null,null,null,null,null,null,null,null,null,null,null,null,null,null,null,null,null,null,null,null,null,null,null,null,null,null,null,null,null,null,null,null,null,"□","東秩父村",false,"川越比企地域:東秩父村","",null,null,null,null,null,"",null,null,null,null,null,"",null,null,null,null,null,"",null,null,null,null,null,""]
[48,null,null,null,null,null,null,null,null,null,null,null,null,null,null,null,null,null,"□","配送",{"$f":"IF(S683=\"☑\",TRUE)","v":false},{"$f":"IF(U683,T683,\"\")","v":""},"□","弁当配達",{"$f":"IF(W683=\"☑\",TRUE)","v":false},{"$f":"IF(Y683,X683,\"\")","v":""},"□","理容・美容（送迎）",{"$f":"IF(AA683=\"☑\",TRUE)","v":false},{"$f":"IF(AC683,AB683,\"\")","v":""},"□","家事代行・掃除・片付け",{"$f":"IF(AE683=\"☑\",TRUE)","v":false},{"$f":"IF(AG683,AF683,\"\")","v":""},"□","フィットネス・ジム（運動）",{"$f":"IF(AI683=\"☑\",TRUE)","v":false},{"$f":"IF(AK683,AJ683,\"\")","v":""},"□","車イス対応（バリアフリー）",{"$f":"IF(AM683=\"☑\",TRUE)","v":false},{"$f":"IF(AO683,AN683,\"\")","v":""},"□","講座・教室・イベント",{"$f":"IF(AQ683=\"☑\",TRUE)","v":false},{"$f":"IF(AS683,AR683,\"\")","v":""},"□","防犯・見守り",{"$f":"IF(AU683=\"☑\",TRUE)","v":false},{"$f":"IF(AW683,AV683,\"\")","v":""},{"$f":"_xludf.TEXTJOIN(\",\",TRUE,V683:V696,Z683:Z696,AD683:AD696,AH683:AH696,AL683:AL696,AP683:AP696,AT683:AT696,AX683:AX696)","v":""},"□","西区",{"$f":"IF(AZ683=\"☑\",TRUE)","v":false},{"$f":"\"さいたま市:\"&BA683","v":"さいたま市:西区"},{"$f":"IF(BB683,BC683,\"\")","v":""},{"$f":"_xludf.TEXTJOIN(\",\",TRUE,BD683:BD696)","v":""},"□","川口市",{"$f":"IF(BF683=\"☑\",TRUE)","v":false},{"$f":"\"南部地域:\"&BG683","v":"南部地域:川口市"},{"$f":"IF(BH683,BI683,\"\")","v":""},{"$f":"_xludf.TEXTJOIN(\",\",TRUE,BJ683:BJ696)","v":""},"□","朝霞市",{"$f":"IF(BL683=\"☑\",TRUE)","v":false},{"$f":"\"南西部地域:\"&BM683","v":"南西部地域:朝霞市"},{"$f":"IF(BN683,BO683,\"\")","v":""},{"$f":"_xludf.TEXTJOIN(\",\",TRUE,BP683:BP696)","v":""},"□","春日部市",{"$f":"IF(BR683=\"☑\",TRUE)","v":false},{"$f":"\"東部地域:\"&BS683","v":"東部地域:春日部市"},{"$f":"IF(BT683,BU683,\"\")","v":""},{"$f":"_xludf.TEXTJOIN(\",\",TRUE,BV683:BV696)","v":""},"□","鴻巣市",{"$f":"IF(BX683=\"☑\",TRUE)","v":false},{"$f":"\"県央地域:\"&BY683","v":"県央地域:鴻巣市"},{"$f":"IF(BZ683,CA683,\"\")","v":""},{"$f":"_xludf.TEXTJOIN(\",\",TRUE,CB683:CB696)","v":""},"□","川越市",{"$f":"IF(CD683=\"☑\",TRUE)","v":false},{"$f":"\"川越比企地域:\"&CE683","v":"川越比企地域:川越市"},{"$f":"IF(CF683,CG683,\"\")","v":""},{"$f":"_xludf.TEXTJOIN(\",\",TRUE,CH683:CH696)","v":""},"□","所沢市",{"$f":"IF(CJ683=\"☑\",TRUE)","v":false},{"$f":"\"西部地域:\"&CK683","v":"西部地域:所沢市"},{"$f":"IF(CL683,CM683,\"\")","v":""},{"$f":"_xludf.TEXTJOIN(\",\",TRUE,CN683:CN696)","v":""},"□","行田市",{"$f":"IF(CP683=\"☑\",TRUE)","v":false},{"$f":"\"利根地域:\"&CQ683","v":"利根地域:行田市"},{"$f":"IF(CR683,CS683,\"\")","v":""},{"$f":"_xludf.TEXTJOIN(\",\",TRUE,CT683:CT696)","v":""},"□","熊谷市",{"$f":"IF(CV683=\"☑\",TRUE)","v":false},{"$f":"\"北部地域:\"&CW683","v":"北部地域:熊谷市"},{"$f":"IF(CX683,CY683,\"\")","v":""},{"$f":"_xludf.TEXTJOIN(\",\",TRUE,CZ683:CZ696)","v":""},"□","秩父市",{"$f":"IF(DB683=\"☑\",TRUE)","v":false},{"$f":"\"秩父地域:\"&DC683","v":"秩父地域:秩父市"},{"$f":"IF(DD683,DE683,\"\")","v":""},{"$f":"_xludf.TEXTJOIN(\",\",TRUE,DF683:DF696)","v":""},{"$f":"_xlfn.TEXTJOIN(\",\",TRUE,BE683,BK683,BQ683,BW683,CC683,CI683,CO683,CU683,DA683,DG683)","v":""},null,null,null,null,null,null,null,null,{"$f":"IF(#REF!=\"☑\",TRUE)","v":{"$error":"#REF!"}},{"$f":"IF(DQ683,#REF!,\"\")","v":{"$error":"#REF!"}},{"$f":"_xludf.TEXTJOIN(\",\",TRUE,DR683:DR696)","v":{"$error":"#VALUE!"}}]
[null,null,null,null,null,null,null,null,null,null,null,null,null,null,null,null,null,null,"□","買物サポート",false,"","□","料理デリバリー（出前）",false,"","□","フィットネス・ジム（送迎）",{"$f":"IF(AA684=\"☑\",TRUE)","v":false},{"$f":"IF(AC684,AB684,\"\")","v":""},"□","出張料理",{"$f":"IF(AE684=\"☑\",TRUE)","v":false},{"$f":"IF(AG684,AF684,\"\")","v":""},"□","温泉・銭湯（たまり場）",false,"","□","多目的トイレ",false,"","□","習い事",{"$f":"IF(AQ684=\"☑\",TRUE)","v":false},{"$f":"IF(AS684,AR684,\"\")","v":""},"□","金融・保険",false,"",null,"□","北区",{"$f":"IF(AZ684=\"☑\",TRUE)","v":false},{"$f":"\"さいたま市:\"&BA684","v":"さいたま市:北区"},{"$f":"IF(BB684,BC684,\"\")","v":""},null,"□","蕨市",{"$f":"IF(BF684=\"☑\",TRUE)","v":false},{"$f":"\"南部地域:\"&BG684","v":"南部地域:蕨市"},{"$f":"IF(BH684,BI684,\"\")","v":""},null,"□","志木市",{"$f":"IF(BL684=\"☑\",TRUE)","v":false},{"$f":"\"南西部地域:\"&BM684","v":"南西部地域:志木市"},{"$f":"IF(BN684,BO684,\"\")","v":""},null,"□","草加市",{"$f":"IF(BR684=\"☑\",TRUE)","v":false},{"$f":"\"東部地域:\"&BS684","v":"東部地域:草加市"},"",null,"□","上尾市",{"$f":"IF(BX684=\"☑\",TRUE)","v":false},{"$f":"\"県央地域:\"&BY684","v":"県央地域:上尾市"},{"$f":"IF(BZ684,CA684,\"\")","v":""},null,"□","東松山市",{"$f":"IF(CD684=\"☑\",TRUE)","v":false},{"$f":"\"川越比企地域:\"&CE684","v":"川越比企地域:東松山市"},{"$f":"IF(CF684,CG684,\"\")","v":""},null,"□","飯能市",{"$f":"IF(CJ684=\"☑\",TRUE)","v":false},{"$f":"\"西部地域:\"&CK684","v":"西部地域:飯能市"},{"$f":"IF(CL684,CM684,\"\")","v":""},null,"□","加須市",{"$f":"IF(CP684=\"☑\",TRUE)","v":false},{"$f":"\"利根地域:\"&CQ684","v":"利根地域:加須市"},{"$f":"IF(CR684,CS684,\"\")","v":""},null,"□","本庄市",{"$f":"IF(CV684=\"☑\",TRUE)","v":false},{"$f":"\"北部地域:\"&CW684","v":"北部地域:本庄市"},{"$f":"IF(CX684,CY684,\"\")","v":""},null,"□","横瀬町",{"$f":"IF(DB684=\"☑\",TRUE)","v":false},{"$f":"\"秩父地域:\"&DC684","v":"秩父地域:横瀬町"},{"$f":"IF(DD684,DE684,\"\")","v":""},null,null,null,null,null,null,null,null,null,null,null,{"$f":"IF(DQ684,#REF!,\"\")","v":""}]
[null,null,null,null,null,null,null,null,null,null,null,null,null,null,null,null,null,null,"□","買物代行",false,"","□","食材宅配",false,"","□","温泉・銭湯（送迎）",false,"","□","屋外作業・力仕事",false,"","□","カフェ・ファーストフード",false,"","□","休憩スペース",false,"","□","映画館",false,"","□","住宅・リフォーム",false,"",null,"□","大宮区",false,"さいたま市:大宮区","",null,"□","戸田市",{"$f":"IF(BF685=\"☑\",TRUE)","v":false},{"$f":"\"南部地域:\"&BG685","v":"南部地域:戸田市"},"",null,"□","和光市",false,"南西部地域:和光市","",null,"□","越谷市",false,"東部地域:越谷市","",null,"□","桶川市",{"$f":"IF(BX685=\"☑\",TRUE)","v":false},{"$f":"\"県央地域:\"&BY685","v":"県央地域:桶川市"},"",null,"□","坂戸市",false,"川越比企地域:坂戸市","",null,"□","狭山市",{"$f":"IF(CJ685=\"☑\",TRUE)","v":false},{"$f":"\"西部地域:\"&CK685","v":"西部地域:狭山市"},"",null,"□","羽生市",false,"利根地域:羽生市","",null,"□","深谷市",false,"北部地域:深谷市","",null,"□","皆野町",{"$f":"IF(DB685=\"☑\",TRUE)","v":false},{"$f":"\"秩父地域:\"&DC685","v":"秩父地域:皆野町"},"",null,null,null,null,null,null,null,null,null,null,{"$f":"IF(#REF!=\"☑\",TRUE)","v":{"$error":"#REF!"}},{"$f":"IF(DQ685,#REF!,\"\")","v":{"$error":"#REF!"}}]
[null,null,null,null,null,null,null,null,null,null,null,null,null,null,null,null,null,null,"□","移動販売",false,"","□","日用品配達",false,"","□","整体・マッサージ（送迎）",false,"","□","整体・マッサージ（出張）",false,"","□","飲食店",false,"","□","駐車場",false,"","□","カラオケ店",false,"","□","パソコン・スマートフォン",false,"",null,"□","見沼区",false,"さいたま市:見沼区","",null,null,null,null,null,"",null,"□","新座市",false,"南西部地域:新座市","",null,"□","八潮市",false,"東部地域:八潮市","",null,"□","北本市",{"$f":"IF(BX686=\"☑\",TRUE)","v":false},{"$f":"\"県央地域:\"&BY686","v":"県央地域:北本市"},"",null,"□","鶴ヶ島市",false,"川越比企地域:鶴ヶ島市","",null,"□","入間市",{"$f":"IF(CJ686=\"☑\",TRUE)","v":false},{"$f":"\"西部地域:\"&CK686","v":"西部地域:入間市"},"",null,"□","久喜市",false,"利根地域:久喜市","",null,"□","美里町",false,"北部地域:美里町","",null,"□","長瀞町",{"$f":"IF(DB686=\"☑\",TRUE)","v":false},{"$f":"\"秩父地域:\"&DC686","v":"秩父地域:長瀞町"},""]
[null,null,null,null,null,null,null,null,null,null,null,null,null,null,null,null,null,null,"□","割引サービス",false,"","□","薬・介護用品配達",false,"","□","乗り合いサービス",false,"","□","理容・美容（出張）",false,"","□","イートインスペース",false,"","□","貸しスペース",false,"","□","麻雀・将棋・囲碁",false,"","□","認知症サポート企業",false,"",null,"□","中央区",false,"さいたま市:中央区","",null,null,null,null,null,"",null,"□","富士見市",false,"南西部地域:富士見市","",null,"□","三郷市",false,"東部地域:三郷市","",null,"□","伊奈町",{"$f":"IF(BX687=\"☑\",TRUE)","v":false},{"$f":"\"県央地域:\"&BY687","v":"県央地域:伊奈町"},"",null,"□","毛呂山町",false,"川越比企地域:毛呂山町","",null,"□","日高市",{"$f":"IF(CJ687=\"☑\",TRUE)","v":false},{"$f":"\"西部地域:\"&CK687","v":"西部地域:日高市"},"",null,"□","蓮田市",false,"利根地域:蓮田市","",null,"□","神川町",false,"北部地域:神川町","",null,"□","小鹿野町",{"$f":"IF(DB687=\"☑\",TRUE)","v":false},{"$f":"\"秩父地域:\"&DC687","v":"秩父地域:小鹿野町"},"",null,null,null,null,null,null,null,null,null,null,{"$f":"IF(#REF!=\"☑\",TRUE)","v":{"$error":"#REF!"}},{"$f":"IF(DQ687,#REF!,\"\")","v":{"$error":"#REF!"}}]
[null,null,null,null,null,null,null,null,null,null,null,null,null,null,null,null,null,null,"□","その他（買物）",false,"","□","クリーニング",false,{"$f":"IF(Y688,X688,\"\")","v":""},"□","個別移送サービス",false,"","□","ペット",false,"","□","その他（運動・たまり場）",false,"","□","その他（設備・施設・場所貸し）",false,"","□","ゲームセンター",false,"","□","理容・美容",false,"",null,"□","桜区",false,"さいたま市:桜区","",null,null,null,null,null,"",null,"□","ふじみ野市",false,"南西部地域:ふじみ野市","",null,"□","吉川市",false,"東部地域:吉川市","",null,null,null,null,null,"",null,"□","越生町",false,"川越比企地域:越生町","",null,null,null,null,null,"",null,"□","幸手市",false,"利根地域:幸手市","",null,"□","上里町",false,"北部地域:上里町","",null,null,null,null,null,"",null,null,null,null,null,null,null,null,null,null,{"$f":"IF(#REF!=\"☑\",TRUE)","v":{"$error":"#REF!"}},{"$f":"IF(DQ688,#REF!,\"\")","v":{"$error":"#REF!"}}]
[null,null,null,null,null,null,null,null,null,null,null,null,null,null,null,null,null,null,null,null,null,null,"□","その他（宅配・デリバリー）",false,{"$f":"IF(Y689,X689,\"\")","v":""},"□","交通機関サービス",false,"","□","その他（出張サービス）",false,"",null,null,null,null,null,null,null,null,"□","旅行・レジャー",false,"","□","成年後見・相続",false,"",null,"□","浦和区",false,"さいたま市:浦和区","",null,null,null,null,null,"",null,"□","三芳町",false,"南西部地域:三芳町","",null,"□","松伏町",false,"東部地域:松伏町","",null,null,null,null,null,"",null,"□","滑川町",false,"川越比企地域:滑川町","",null,null,null,null,null,"",null,"□","白岡市",false,"利根地域:白岡市","",null,"□","寄居町",false,"北部地域:寄居町","",null,null,null,null,null,""]
[null,null,null,null,null,null,null,null,null,null,null,null,null,null,null,null,null,null,null,null,null,null,null,null,null,null,"□","その他（送迎・移動支援）",false,"",null,null,null,"",null,null,null,{"$f":"IF(AK690,AJ690,\"\")","v":""},null,null,null,{"$f":"IF(AO690,AN690,\"\")","v":""},"□","パソコン・スマホ教室",false,"","□","その他（生活サービス）",false,"",null,"□","南区",false,"さいたま市:南区","",null,null,null,null,null,"",null,null,null,null,null,"",null,null,null,null,null,"",null,null,null,null,null,"",null,"□","嵐山町",false,"川越比企地域:嵐山町","",null,null,null,null,null,"",null,"□","宮代町",false,"利根地域:宮代町","",null,null,null,null,null,"",null,null,null,null,null,""]
[null,null,null,null,null,null,null,null,null,null,null,null,null,null,null,null,null,null,null,null,null,null,null,null,null,null,null,null,null,null,null,null,null,null,null,null,null,null,null,null,null,null,"□","その他（学び・趣味）",false,"",null,null,null,null,null,"□","緑区",false,"さいたま市:緑区","",null,null,null,null,null,"",null,null,null,null,null,"",null,null,null,null,null,"",null,null,null,null,null,"",null,"□","小川町",false,"川越比企地域:小川町","",null,null,null,null,null,"",null,"□","杉戸町",false,"利根地域:杉戸町","",null,null,null,null,null,"",null,null,null,null,null,""]
[null,null,null,null,null,null,null,null,null,null,null,null,null,null,null,null,null,null,null,null,null,null,null,null,null,null,null,null,null,null,null,null,null,null,null,null,null,null,null,null,null,null,null,null,null,null,null,null,null,null,null,"□","岩槻区",{"$f":"IF(AZ692=\"☑\",TRUE)","v":false},"さいたま市:岩槻区","",null,null,null,null,null,"",null,null,null,null,null,"",null,null,null,null,null,"",null,null,null,null,null,"",null,"□","川島町",false,"川越比企地域:川島町","",null,null,null,null,null,"",null,null,null,null,null,"",null,null,null,null,null,"",null,null,null,null,null,""]
[null,null,null,null,null,null,null,null,null,null,null,null,null,null,null,null,null,null,null,null,null,null,null,null,null,null,null,null,null,null,null,null,null,null,null,null,null,null,null,null,null,null,null,null,null,null,null,null,null,null,null,null,null,null,null,null,null,null,null,null,null,null,null,null,null,null,null,null,null,null,null,null,null,null,null,null,null,null,null,null,null,"□","吉見町",false,"川越比企地域:吉見町","",null,null,null,null,null,"",null,null,null,null,null,"",null,null,null,null,null,"",null,null,null,null,null,""]
[null,null,null,null,null,null,null,null,null,null,null,null,null,null,null,null,null,null,null,null,null,null,null,null,null,null,null,null,null,null,null,null,null,null,null,null,null,null,null,null,null,null,null,null,null,null,null,null,null,null,null,null,null,null,null,null,null,null,null,null,null,null,null,null,null,null,null,null,null,null,null,null,null,null,null,null,null,null,null,null,null,"□","鳩山町",false,"川越比企地域:鳩山町","",null,null,null,null,null,"",null,null,null,null,null,"",null,null,null,null,null,"",null,null,null,null,null,""]
[null,null,null,null,null,null,null,null,null,null,null,null,null,null,null,null,null,null,null,null,null,null,null,null,null,null,null,null,null,null,null,null,null,null,null,null,null,null,null,null,null,null,null,null,null,null,null,null,null,null,null,null,null,null,null,null,null,null,null,null,null,null,null,null,null,null,null,null,null,null,null,null,null,null,null,null,null,null,null,null,null,"□","ときがわ町",false,"川越比企地域:ときがわ町","",null,null,null,null,null,"",null,null,null,null,null,"",null,null,null,null,null,"",null,null,null,null,null,""]
[null,null,null,null,null,null,null,null,null,null,null,null,null,null,null,null,null,null,null,null,null,null,null,null,null,null,null,null,null,null,null,null,null,null,null,null,null,null,null,null,null,null,null,null,null,null,null,null,null,null,null,null,null,null,null,null,null,null,null,null,null,null,null,null,null,null,null,null,null,null,null,null,null,null,null,null,null,null,null,null,null,"□","東秩父村",false,"川越比企地域:東秩父村","",null,null,null,null,null,"",null,null,null,null,null,"",null,null,null,null,null,"",null,null,null,null,null,""]
[49,null,null,null,null,null,null,null,null,null,null,null,null,null,null,null,null,null,"□","配送",{"$f":"IF(S697=\"☑\",TRUE)","v":false},{"$f":"IF(U697,T697,\"\")","v":""},"□","弁当配達",{"$f":"IF(W697=\"☑\",TRUE)","v":false},{"$f":"IF(Y697,X697,\"\")","v":""},"□","理容・美容（送迎）",{"$f":"IF(AA697=\"☑\",TRUE)","v":false},{"$f":"IF(AC697,AB697,\"\")","v":""},"□","家事代行・掃除・片付け",{"$f":"IF(AE697=\"☑\",TRUE)","v":false},{"$f":"IF(AG697,AF697,\"\")","v":""},"□","フィットネス・ジム（運動）",{"$f":"IF(AI697=\"☑\",TRUE)","v":false},{"$f":"IF(AK697,AJ697,\"\")","v":""},"□","車イス対応（バリアフリー）",{"$f":"IF(AM697=\"☑\",TRUE)","v":false},{"$f":"IF(AO697,AN697,\"\")","v":""},"□","講座・教室・イベント",{"$f":"IF(AQ697=\"☑\",TRUE)","v":false},{"$f":"IF(AS697,AR697,\"\")","v":""},"□","防犯・見守り",{"$f":"IF(AU697=\"☑\",TRUE)","v":false},{"$f":"IF(AW697,AV697,\"\")","v":""},{"$f":"_xludf.TEXTJOIN(\",\",TRUE,V697:V710,Z697:Z710,AD697:AD710,AH697:AH710,AL697:AL710,AP697:AP710,AT697:AT710,AX697:AX710)","v":""},"□","西区",{"$f":"IF(AZ697=\"☑\",TRUE)","v":false},{"$f":"\"さいたま市:\"&BA697","v":"さいたま市:西区"},{"$f":"IF(BB697,BC697,\"\")","v":""},{"$f":"_xludf.TEXTJOIN(\",\",TRUE,BD697:BD710)","v":""},"□","川口市",{"$f":"IF(BF697=\"☑\",TRUE)","v":false},{"$f":"\"南部地域:\"&BG697","v":"南部地域:川口市"},{"$f":"IF(BH697,BI697,\"\")","v":""},{"$f":"_xludf.TEXTJOIN(\",\",TRUE,BJ697:BJ710)","v":""},"□","朝霞市",{"$f":"IF(BL697=\"☑\",TRUE)","v":false},{"$f":"\"南西部地域:\"&BM697","v":"南西部地域:朝霞市"},{"$f":"IF(BN697,BO697,\"\")","v":""},{"$f":"_xludf.TEXTJOIN(\",\",TRUE,BP697:BP710)","v":""},"□","春日部市",{"$f":"IF(BR697=\"☑\",TRUE)","v":false},{"$f":"\"東部地域:\"&BS697","v":"東部地域:春日部市"},{"$f":"IF(BT697,BU697,\"\")","v":""},{"$f":"_xludf.TEXTJOIN(\",\",TRUE,BV697:BV710)","v":""},"□","鴻巣市",{"$f":"IF(BX697=\"☑\",TRUE)","v":false},{"$f":"\"県央地域:\"&BY697","v":"県央地域:鴻巣市"},{"$f":"IF(BZ697,CA697,\"\")","v":""},{"$f":"_xludf.TEXTJOIN(\",\",TRUE,CB697:CB710)","v":""},"□","川越市",{"$f":"IF(CD697=\"☑\",TRUE)","v":false},{"$f":"\"川越比企地域:\"&CE697","v":"川越比企地域:川越市"},{"$f":"IF(CF697,CG697,\"\")","v":""},{"$f":"_xludf.TEXTJOIN(\",\",TRUE,CH697:CH710)","v":""},"□","所沢市",{"$f":"IF(CJ697=\"☑\",TRUE)","v":false},{"$f":"\"西部地域:\"&CK697","v":"西部地域:所沢市"},{"$f":"IF(CL697,CM697,\"\")","v":""},{"$f":"_xludf.TEXTJOIN(\",\",TRUE,CN697:CN710)","v":""},"□","行田市",{"$f":"IF(CP697=\"☑\",TRUE)","v":false},{"$f":"\"利根地域:\"&CQ697","v":"利根地域:行田市"},{"$f":"IF(CR697,CS697,\"\")","v":""},{"$f":"_xludf.TEXTJOIN(\",\",TRUE,CT697:CT710)","v":""},"□","熊谷市",{"$f":"IF(CV697=\"☑\",TRUE)","v":false},{"$f":"\"北部地域:\"&CW697","v":"北部地域:熊谷市"},{"$f":"IF(CX697,CY697,\"\")","v":""},{"$f":"_xludf.TEXTJOIN(\",\",TRUE,CZ697:CZ710)","v":""},"□","秩父市",{"$f":"IF(DB697=\"☑\",TRUE)","v":false},{"$f":"\"秩父地域:\"&DC697","v":"秩父地域:秩父市"},{"$f":"IF(DD697,DE697,\"\")","v":""},{"$f":"_xludf.TEXTJOIN(\",\",TRUE,DF697:DF710)","v":""},{"$f":"_xlfn.TEXTJOIN(\",\",TRUE,BE697,BK697,BQ697,BW697,CC697,CI697,CO697,CU697,DA697,DG697)","v":""},null,null,null,null,null,null,null,null,{"$f":"IF(#REF!=\"☑\",TRUE)","v":{"$error":"#REF!"}},{"$f":"IF(DQ697,#REF!,\"\")","v":{"$error":"#REF!"}},{"$f":"_xludf.TEXTJOIN(\",\",TRUE,DR697:DR710)","v":{"$error":"#VALUE!"}}]
[null,null,null,null,null,null,null,null,null,null,null,null,null,null,null,null,null,null,"□","買物サポート",false,"","□","料理デリバリー（出前）",false,"","□","フィットネス・ジム（送迎）",{"$f":"IF(AA698=\"☑\",TRUE)","v":false},{"$f":"IF(AC698,AB698,\"\")","v":""},"□","出張料理",{"$f":"IF(AE698=\"☑\",TRUE)","v":false},{"$f":"IF(AG698,AF698,\"\")","v":""},"□","温泉・銭湯（たまり場）",false,"","□","多目的トイレ",false,"","□","習い事",{"$f":"IF(AQ698=\"☑\",TRUE)","v":false},{"$f":"IF(AS698,AR698,\"\")","v":""},"□","金融・保険",false,"",null,"□","北区",{"$f":"IF(AZ698=\"☑\",TRUE)","v":false},{"$f":"\"さいたま市:\"&BA698","v":"さいたま市:北区"},{"$f":"IF(BB698,BC698,\"\")","v":""},null,"□","蕨市",{"$f":"IF(BF698=\"☑\",TRUE)","v":false},{"$f":"\"南部地域:\"&BG698","v":"南部地域:蕨市"},{"$f":"IF(BH698,BI698,\"\")","v":""},null,"□","志木市",{"$f":"IF(BL698=\"☑\",TRUE)","v":false},{"$f":"\"南西部地域:\"&BM698","v":"南西部地域:志木市"},{"$f":"IF(BN698,BO698,\"\")","v":""},null,"□","草加市",{"$f":"IF(BR698=\"☑\",TRUE)","v":false},{"$f":"\"東部地域:\"&BS698","v":"東部地域:草加市"},"",null,"□","上尾市",{"$f":"IF(BX698=\"☑\",TRUE)","v":false},{"$f":"\"県央地域:\"&BY698","v":"県央地域:上尾市"},{"$f":"IF(BZ698,CA698,\"\")","v":""},null,"□","東松山市",{"$f":"IF(CD698=\"☑\",TRUE)","v":false},{"$f":"\"川越比企地域:\"&CE698","v":"川越比企地域:東松山市"},{"$f":"IF(CF698,CG698,\"\")","v":""},null,"□","飯能市",{"$f":"IF(CJ698=\"☑\",TRUE)","v":false},{"$f":"\"西部地域:\"&CK698","v":"西部地域:飯能市"},{"$f":"IF(CL698,CM698,\"\")","v":""},null,"□","加須市",{"$f":"IF(CP698=\"☑\",TRUE)","v":false},{"$f":"\"利根地域:\"&CQ698","v":"利根地域:加須市"},{"$f":"IF(CR698,CS698,\"\")","v":""},null,"□","本庄市",{"$f":"IF(CV698=\"☑\",TRUE)","v":false},{"$f":"\"北部地域:\"&CW698","v":"北部地域:本庄市"},{"$f":"IF(CX698,CY698,\"\")","v":""},null,"□","横瀬町",{"$f":"IF(DB698=\"☑\",TRUE)","v":false},{"$f":"\"秩父地域:\"&DC698","v":"秩父地域:横瀬町"},{"$f":"IF(DD698,DE698,\"\")","v":""},null,null,null,null,null,null,null,null,null,null,null,{"$f":"IF(DQ698,#REF!,\"\")","v":""}]
[null,null,null,null,null,null,null,null,null,null,null,null,null,null,null,null,null,null,"□","買物代行",false,"","□","食材宅配",false,"","□","温泉・銭湯（送迎）",false,"","□","屋外作業・力仕事",false,"","□","カフェ・ファーストフード",false,"","□","休憩スペース",false,"","□","映画館",false,"","□","住宅・リフォーム",false,"",null,"□","大宮区",false,"さいたま市:大宮区","",null,"□","戸田市",{"$f":"IF(BF699=\"☑\",TRUE)","v":false},{"$f":"\"南部地域:\"&BG699","v":"南部地域:戸田市"},"",null,"□","和光市",false,"南西部地域:和光市","",null,"□","越谷市",false,"東部地域:越谷市","",null,"□","桶川市",{"$f":"IF(BX699=\"☑\",TRUE)","v":false},{"$f":"\"県央地域:\"&BY699","v":"県央地域:桶川市"},"",null,"□","坂戸市",false,"川越比企地域:坂戸市","",null,"□","狭山市",{"$f":"IF(CJ699=\"☑\",TRUE)","v":false},{"$f":"\"西部地域:\"&CK699","v":"西部地域:狭山市"},"",null,"□","羽生市",false,"利根地域:羽生市","",null,"□","深谷市",false,"北部地域:深谷市","",null,"□","皆野町",{"$f":"IF(DB699=\"☑\",TRUE)","v":false},{"$f":"\"秩父地域:\"&DC699","v":"秩父地域:皆野町"},"",null,null,null,null,null,null,null,null,null,null,{"$f":"IF(#REF!=\"☑\",TRUE)","v":{"$error":"#REF!"}},{"$f":"IF(DQ699,#REF!,\"\")","v":{"$error":"#REF!"}}]
[null,null,null,null,null,null,null,null,null,null,null,null,null,null,null,null,null,null,"□","移動販売",false,"","□","日用品配達",false,"","□","整体・マッサージ（送迎）",false,"","□","整体・マッサージ（出張）",false,"","□","飲食店",false,"","□","駐車場",false,"","□","カラオケ店",false,"","□","パソコン・スマートフォン",false,"",null,"□","見沼区",false,"さいたま市:見沼区","",null,null,null,null,null,"",null,"□","新座市",false,"南西部地域:新座市","",null,"□","八潮市",false,"東部地域:八潮市","",null,"□","北本市",{"$f":"IF(BX700=\"☑\",TRUE)","v":false},{"$f":"\"県央地域:\"&BY700","v":"県央地域:北本市"},"",null,"□","鶴ヶ島市",false,"川越比企地域:鶴ヶ島市","",null,"□","入間市",{"$f":"IF(CJ700=\"☑\",TRUE)","v":false},{"$f":"\"西部地域:\"&CK700","v":"西部地域:入間市"},"",null,"□","久喜市",false,"利根地域:久喜市","",null,"□","美里町",false,"北部地域:美里町","",null,"□","長瀞町",{"$f":"IF(DB700=\"☑\",TRUE)","v":false},{"$f":"\"秩父地域:\"&DC700","v":"秩父地域:長瀞町"},""]
[null,null,null,null,null,null,null,null,null,null,null,null,null,null,null,null,null,null,"□","割引サービス",false,"","□","薬・介護用品配達",false,"","□","乗り合いサービス",false,"","□","理容・美容（出張）",false,"","□","イートインスペース",false,"","□","貸しスペース",false,"","□","麻雀・将棋・囲碁",false,"","□","認知症サポート企業",false,"",null,"□","中央区",false,"さいたま市:中央区","",null,null,null,null,null,"",null,"□","富士見市",false,"南西部地域:富士見市","",null,"□","三郷市",false,"東部地域:三郷市","",null,"□","伊奈町",{"$f":"IF(BX701=\"☑\",TRUE)","v":false},{"$f":"\"県央地域:\"&BY701","v":"県央地域:伊奈町"},"",null,"□","毛呂山町",false,"川越比企地域:毛呂山町","",null,"□","日高市",{"$f":"IF(CJ701=\"☑\",TRUE)","v":false},{"$f":"\"西部地域:\"&CK701","v":"西部地域:日高市"},"",null,"□","蓮田市",false,"利根地域:蓮田市","",null,"□","神川町",false,"北部地域:神川町","",null,"□","小鹿野町",{"$f":"IF(DB701=\"☑\",TRUE)","v":false},{"$f":"\"秩父地域:\"&DC701","v":"秩父地域:小鹿野町"},"",null,null,null,null,null,null,null,null,null,null,{"$f":"IF(#REF!=\"☑\",TRUE)","v":{"$error":"#REF!"}},{"$f":"IF(DQ701,#REF!,\"\")","v":{"$error":"#REF!"}}]
[null,null,null,null,null,null,null,null,null,null,null,null,null,null,null,null,null,null,"□","その他（買物）",false,"","□","クリーニング",false,{"$f":"IF(Y702,X702,\"\")","v":""},"□","個別移送サービス",false,"","□","ペット",false,"","□","その他（運動・たまり場）",false,"","□","その他（設備・施設・場所貸し）",false,"","□","ゲームセンター",false,"","□","理容・美容",false,"",null,"□","桜区",false,"さいたま市:桜区","",null,null,null,null,null,"",null,"□","ふじみ野市",false,"南西部地域:ふじみ野市","",null,"□","吉川市",false,"東部地域:吉川市","",null,null,null,null,null,"",null,"□","越生町",false,"川越比企地域:越生町","",null,null,null,null,null,"",null,"□","幸手市",false,"利根地域:幸手市","",null,"□","上里町",false,"北部地域:上里町","",null,null,null,null,null,"",null,null,null,null,null,null,null,null,null,null,{"$f":"IF(#REF!=\"☑\",TRUE)","v":{"$error":"#REF!"}},{"$f":"IF(DQ702,#REF!,\"\")","v":{"$error":"#REF!"}}]
[null,null,null,null,null,null,null,null,null,null,null,null,null,null,null,null,null,null,null,null,null,null,"□","その他（宅配・デリバリー）",false,{"$f":"IF(Y703,X703,\"\")","v":""},"□","交通機関サービス",false,"","□","その他（出張サービス）",false,"",null,null,null,null,null,null,null,null,"□","旅行・レジャー",false,"","□","成年後見・相続",false,"",null,"□","浦和区",false,"さいたま市:浦和区","",null,null,null,null,null,"",null,"□","三芳町",false,"南西部地域:三芳町","",null,"□","松伏町",false,"東部地域:松伏町","",null,null,null,null,null,"",null,"□","滑川町",false,"川越比企地域:滑川町","",null,null,null,null,null,"",null,"□","白岡市",false,"利根地域:白岡市","",null,"□","寄居町",false,"北部地域:寄居町","",null,null,null,null,null,""]
[null,null,null,null,null,null,null,null,null,null,null,null,null,null,null,null,null,null,null,null,null,null,null,null,null,null,"□","その他（送迎・移動支援）",false,"",null,null,null,"",null,null,null,{"$f":"IF(AK704,AJ704,\"\")","v":""},null,null,null,{"$f":"IF(AO704,AN704,\"\")","v":""},"□","パソコン・スマホ教室",false,"","□","その他（生活サービス）",false,"",null,"□","南区",false,"さいたま市:南区","",null,null,null,null,null,"",null,null,null,null,null,"",null,null,null,null,null,"",null,null,null,null,null,"",null,"□","嵐山町",false,"川越比企地域:嵐山町","",null,null,null,null,null,"",null,"□","宮代町",false,"利根地域:宮代町","",null,null,null,null,null,"",null,null,null,null,null,""]
[null,null,null,null,null,null,null,null,null,null,null,null,null,null,null,null,null,null,null,null,null,null,null,null,null,null,null,null,null,null,null,null,null,null,null,null,null,null,null,null,null,null,"□","その他（学び・趣味）",false,"",null,null,null,null,null,"□","緑区",false,"さいたま市:緑区","",null,null,null,null,null,"",null,null,null,null,null,"",null,null,null,null,null,"",null,null,null,null,null,"",null,"□","小川町",false,"川越比企地域:小川町","",null,null,null,null,null,"",null,"□","杉戸町",false,"利根地域:杉戸町","",null,null,null,null,null,"",null,null,null,null,null,""]
[null,null,null,null,null,null,null,null,null,null,null,null,null,null,null,null,null,null,null,null,null,null,null,null,null,null,null,null,null,null,null,null,null,null,null,null,null,null,null,null,null,null,null,null,null,null,null,null,null,null,null,"□","岩槻区",{"$f":"IF(AZ706=\"☑\",TRUE)","v":false},"さいたま市:岩槻区","",null,null,null,null,null,"",null,null,null,null,null,"",null,null,null,null,null,"",null,null,null,null,null,"",null,"□","川島町",false,"川越比企地域:川島町","",null,null,null,null,null,"",null,null,null,null,null,"",null,null,null,null,null,"",null,null,null,null,null,""]
[null,null,null,null,null,null,null,null,null,null,null,null,null,null,null,null,null,null,null,null,null,null,null,null,null,null,null,null,null,null,null,null,null,null,null,null,null,null,null,null,null,null,null,null,null,null,null,null,null,null,null,null,null,null,null,null,null,null,null,null,null,null,null,null,null,null,null,null,null,null,null,null,null,null,null,null,null,null,null,null,null,"□","吉見町",false,"川越比企地域:吉見町","",null,null,null,null,null,"",null,null,null,null,null,"",null,null,null,null,null,"",null,null,null,null,null,""]
[null,null,null,null,null,null,null,null,null,null,null,null,null,null,null,null,null,null,null,null,null,null,null,null,null,null,null,null,null,null,null,null,null,null,null,null,null,null,null,null,null,null,null,null,null,null,null,null,null,null,null,null,null,null,null,null,null,null,null,null,null,null,null,null,null,null,null,null,null,null,null,null,null,null,null,null,null,null,null,null,null,"□","鳩山町",false,"川越比企地域:鳩山町","",null,null,null,null,null,"",null,null,null,null,null,"",null,null,null,null,null,"",null,null,null,null,null,""]
[null,null,null,null,null,null,null,null,null,null,null,null,null,null,null,null,null,null,null,null,null,null,null,null,null,null,null,null,null,null,null,null,null,null,null,null,null,null,null,null,null,null,null,null,null,null,null,null,null,null,null,null,null,null,null,null,null,null,null,null,null,null,null,null,null,null,null,null,null,null,null,null,null,null,null,null,null,null,null,null,null,"□","ときがわ町",false,"川越比企地域:ときがわ町","",null,null,null,null,null,"",null,null,null,null,null,"",null,null,null,null,null,"",null,null,null,null,null,""]
[null,null,null,null,null,null,null,null,null,null,null,null,null,null,null,null,null,null,null,null,null,null,null,null,null,null,null,null,null,null,null,null,null,null,null,null,null,null,null,null,null,null,null,null,null,null,null,null,null,null,null,null,null,null,null,null,null,null,null,null,null,null,null,null,null,null,null,null,null,null,null,null,null,null,null,null,null,null,null,null,null,"□","東秩父村",false,"川越比企地域:東秩父村","",null,null,null,null,null,"",null,null,null,null,null,"",null,null,null,null,null,"",null,null,null,null,null,""]
[50,null,null,null,null,null,null,null,null,null,null,null,null,null,null,null,null,null,"□","配送",{"$f":"IF(S711=\"☑\",TRUE)","v":false},{"$f":"IF(U711,T711,\"\")","v":""},"□","弁当配達",{"$f":"IF(W711=\"☑\",TRUE)","v":false},{"$f":"IF(Y711,X711,\"\")","v":""},"□","理容・美容（送迎）",{"$f":"IF(AA711=\"☑\",TRUE)","v":false},{"$f":"IF(AC711,AB711,\"\")","v":""},"□","家事代行・掃除・片付け",{"$f":"IF(AE711=\"☑\",TRUE)","v":false},{"$f":"IF(AG711,AF711,\"\")","v":""},"□","フィットネス・ジム（運動）",{"$f":"IF(AI711=\"☑\",TRUE)","v":false},{"$f":"IF(AK711,AJ711,\"\")","v":""},"□","車イス対応（バリアフリー）",{"$f":"IF(AM711=\"☑\",TRUE)","v":false},{"$f":"IF(AO711,AN711,\"\")","v":""},"□","講座・教室・イベント",{"$f":"IF(AQ711=\"☑\",TRUE)","v":false},{"$f":"IF(AS711,AR711,\"\")","v":""},"□","防犯・見守り",{"$f":"IF(AU711=\"☑\",TRUE)","v":false},{"$f":"IF(AW711,AV711,\"\")","v":""},{"$f":"_xludf.TEXTJOIN(\",\",TRUE,V711:V724,Z711:Z724,AD711:AD724,AH711:AH724,AL711:AL724,AP711:AP724,AT711:AT724,AX711:AX724)","v":""},"□","西区",{"$f":"IF(AZ711=\"☑\",TRUE)","v":false},{"$f":"\"さいたま市:\"&BA711","v":"さいたま市:西区"},{"$f":"IF(BB711,BC711,\"\")","v":""},{"$f":"_xludf.TEXTJOIN(\",\",TRUE,BD711:BD724)","v":""},"□","川口市",{"$f":"IF(BF711=\"☑\",TRUE)","v":false},{"$f":"\"南部地域:\"&BG711","v":"南部地域:川口市"},{"$f":"IF(BH711,BI711,\"\")","v":""},{"$f":"_xludf.TEXTJOIN(\",\",TRUE,BJ711:BJ724)","v":""},"□","朝霞市",{"$f":"IF(BL711=\"☑\",TRUE)","v":false},{"$f":"\"南西部地域:\"&BM711","v":"南西部地域:朝霞市"},{"$f":"IF(BN711,BO711,\"\")","v":""},{"$f":"_xludf.TEXTJOIN(\",\",TRUE,BP711:BP724)","v":""},"□","春日部市",{"$f":"IF(BR711=\"☑\",TRUE)","v":false},{"$f":"\"東部地域:\"&BS711","v":"東部地域:春日部市"},{"$f":"IF(BT711,BU711,\"\")","v":""},{"$f":"_xludf.TEXTJOIN(\",\",TRUE,BV711:BV724)","v":""},"□","鴻巣市",{"$f":"IF(BX711=\"☑\",TRUE)","v":false},{"$f":"\"県央地域:\"&BY711","v":"県央地域:鴻巣市"},{"$f":"IF(BZ711,CA711,\"\")","v":""},{"$f":"_xludf.TEXTJOIN(\",\",TRUE,CB711:CB724)","v":""},"□","川越市",{"$f":"IF(CD711=\"☑\",TRUE)","v":false},{"$f":"\"川越比企地域:\"&CE711","v":"川越比企地域:川越市"},{"$f":"IF(CF711,CG711,\"\")","v":""},{"$f":"_xludf.TEXTJOIN(\",\",TRUE,CH711:CH724)","v":""},"□","所沢市",{"$f":"IF(CJ711=\"☑\",TRUE)","v":false},{"$f":"\"西部地域:\"&CK711","v":"西部地域:所沢市"},{"$f":"IF(CL711,CM711,\"\")","v":""},{"$f":"_xludf.TEXTJOIN(\",\",TRUE,CN711:CN724)","v":""},"□","行田市",{"$f":"IF(CP711=\"☑\",TRUE)","v":false},{"$f":"\"利根地域:\"&CQ711","v":"利根地域:行田市"},{"$f":"IF(CR711,CS711,\"\")","v":""},{"$f":"_xludf.TEXTJOIN(\",\",TRUE,CT711:CT724)","v":""},"□","熊谷市",{"$f":"IF(CV711=\"☑\",TRUE)","v":false},{"$f":"\"北部地域:\"&CW711","v":"北部地域:熊谷市"},{"$f":"IF(CX711,CY711,\"\")","v":""},{"$f":"_xludf.TEXTJOIN(\",\",TRUE,CZ711:CZ724)","v":""},"□","秩父市",{"$f":"IF(DB711=\"☑\",TRUE)","v":false},{"$f":"\"秩父地域:\"&DC711","v":"秩父地域:秩父市"},{"$f":"IF(DD711,DE711,\"\")","v":""},{"$f":"_xludf.TEXTJOIN(\",\",TRUE,DF711:DF724)","v":""},{"$f":"_xlfn.TEXTJOIN(\",\",TRUE,BE711,BK711,BQ711,BW711,CC711,CI711,CO711,CU711,DA711,DG711)","v":""},null,null,null,null,null,null,null,null,{"$f":"IF(#REF!=\"☑\",TRUE)","v":{"$error":"#REF!"}},{"$f":"IF(DQ711,#REF!,\"\")","v":{"$error":"#REF!"}},{"$f":"_xludf.TEXTJOIN(\",\",TRUE,DR711:DR724)","v":{"$error":"#VALUE!"}}]
[null,null,null,null,null,null,null,null,null,null,null,null,null,null,null,null,null,null,"□","買物サポート",false,"","□","料理デリバリー（出前）",false,"","□","フィットネス・ジム（送迎）",{"$f":"IF(AA712=\"☑\",TRUE)","v":false},{"$f":"IF(AC712,AB712,\"\")","v":""},"□","出張料理",{"$f":"IF(AE712=\"☑\",TRUE)","v":false},{"$f":"IF(AG712,AF712,\"\")","v":""},"□","温泉・銭湯（たまり場）",false,"","□","多目的トイレ",false,"","□","習い事",{"$f":"IF(AQ712=\"☑\",TRUE)","v":false},{"$f":"IF(AS712,AR712,\"\")","v":""},"□","金融・保険",false,"",null,"□","北区",{"$f":"IF(AZ712=\"☑\",TRUE)","v":false},{"$f":"\"さいたま市:\"&BA712","v":"さいたま市:北区"},{"$f":"IF(BB712,BC712,\"\")","v":""},null,"□","蕨市",{"$f":"IF(BF712=\"☑\",TRUE)","v":false},{"$f":"\"南部地域:\"&BG712","v":"南部地域:蕨市"},{"$f":"IF(BH712,BI712,\"\")","v":""},null,"□","志木市",{"$f":"IF(BL712=\"☑\",TRUE)","v":false},{"$f":"\"南西部地域:\"&BM712","v":"南西部地域:志木市"},{"$f":"IF(BN712,BO712,\"\")","v":""},null,"□","草加市",{"$f":"IF(BR712=\"☑\",TRUE)","v":false},{"$f":"\"東部地域:\"&BS712","v":"東部地域:草加市"},"",null,"□","上尾市",{"$f":"IF(BX712=\"☑\",TRUE)","v":false},{"$f":"\"県央地域:\"&BY712","v":"県央地域:上尾市"},{"$f":"IF(BZ712,CA712,\"\")","v":""},null,"□","東松山市",{"$f":"IF(CD712=\"☑\",TRUE)","v":false},{"$f":"\"川越比企地域:\"&CE712","v":"川越比企地域:東松山市"},{"$f":"IF(CF712,CG712,\"\")","v":""},null,"□","飯能市",{"$f":"IF(CJ712=\"☑\",TRUE)","v":false},{"$f":"\"西部地域:\"&CK712","v":"西部地域:飯能市"},{"$f":"IF(CL712,CM712,\"\")","v":""},null,"□","加須市",{"$f":"IF(CP712=\"☑\",TRUE)","v":false},{"$f":"\"利根地域:\"&CQ712","v":"利根地域:加須市"},{"$f":"IF(CR712,CS712,\"\")","v":""},null,"□","本庄市",{"$f":"IF(CV712=\"☑\",TRUE)","v":false},{"$f":"\"北部地域:\"&CW712","v":"北部地域:本庄市"},{"$f":"IF(CX712,CY712,\"\")","v":""},null,"□","横瀬町",{"$f":"IF(DB712=\"☑\",TRUE)","v":false},{"$f":"\"秩父地域:\"&DC712","v":"秩父地域:横瀬町"},{"$f":"IF(DD712,DE712,\"\")","v":""},null,null,null,null,null,null,null,null,null,null,null,{"$f":"IF(DQ712,#REF!,\"\")","v":""}]
[null,null,null,null,null,null,null,null,null,null,null,null,null,null,null,null,null,null,"□","買物代行",false,"","□","食材宅配",false,"","□","温泉・銭湯（送迎）",false,"","□","屋外作業・力仕事",false,"","□","カフェ・ファーストフード",false,"","□","休憩スペース",false,"","□","映画館",false,"","□","住宅・リフォーム",false,"",null,"□","大宮区",false,"さいたま市:大宮区","",null,"□","戸田市",{"$f":"IF(BF713=\"☑\",TRUE)","v":false},{"$f":"\"南部地域:\"&BG713","v":"南部地域:戸田市"},"",null,"□","和光市",false,"南西部地域:和光市","",null,"□","越谷市",false,"東部地域:越谷市","",null,"□","桶川市",{"$f":"IF(BX713=\"☑\",TRUE)","v":false},{"$f":"\"県央地域:\"&BY713","v":"県央地域:桶川市"},"",null,"□","坂戸市",false,"川越比企地域:坂戸市","",null,"□","狭山市",{"$f":"IF(CJ713=\"☑\",TRUE)","v":false},{"$f":"\"西部地域:\"&CK713","v":"西部地域:狭山市"},"",null,"□","羽生市",false,"利根地域:羽生市","",null,"□","深谷市",false,"北部地域:深谷市","",null,"□","皆野町",{"$f":"IF(DB713=\"☑\",TRUE)","v":false},{"$f":"\"秩父地域:\"&DC713","v":"秩父地域:皆野町"},"",null,null,null,null,null,null,null,null,null,null,{"$f":"IF(#REF!=\"☑\",TRUE)","v":{"$error":"#REF!"}},{"$f":"IF(DQ713,#REF!,\"\")","v":{"$error":"#REF!"}}]
[null,null,null,null,null,null,null,null,null,null,null,null,null,null,null,null,null,null,"□","移動販売",false,"","□","日用品配達",false,"","□","整体・マッサージ（送迎）",false,"","□","整体・マッサージ（出張）",false,"","□","飲食店",false,"","□","駐車場",false,"","□","カラオケ店",false,"","□","パソコン・スマートフォン",false,"",null,"□","見沼区",false,"さいたま市:見沼区","",null,null,null,null,null,"",null,"□","新座市",false,"南西部地域:新座市","",null,"□","八潮市",false,"東部地域:八潮市","",null,"□","北本市",{"$f":"IF(BX714=\"☑\",TRUE)","v":false},{"$f":"\"県央地域:\"&BY714","v":"県央地域:北本市"},"",null,"□","鶴ヶ島市",false,"川越比企地域:鶴ヶ島市","",null,"□","入間市",{"$f":"IF(CJ714=\"☑\",TRUE)","v":false},{"$f":"\"西部地域:\"&CK714","v":"西部地域:入間市"},"",null,"□","久喜市",false,"利根地域:久喜市","",null,"□","美里町",false,"北部地域:美里町","",null,"□","長瀞町",{"$f":"IF(DB714=\"☑\",TRUE)","v":false},{"$f":"\"秩父地域:\"&DC714","v":"秩父地域:長瀞町"},""]
[null,null,null,null,null,null,null,null,null,null,null,null,null,null,null,null,null,null,"□","割引サービス",false,"","□","薬・介護用品配達",false,"","□","乗り合いサービス",false,"","□","理容・美容（出張）",false,"","□","イートインスペース",false,"","□","貸しスペース",false,"","□","麻雀・将棋・囲碁",false,"","□","認知症サポート企業",false,"",null,"□","中央区",false,"さいたま市:中央区","",null,null,null,null,null,"",null,"□","富士見市",false,"南西部地域:富士見市","",null,"□","三郷市",false,"東部地域:三郷市","",null,"□","伊奈町",{"$f":"IF(BX715=\"☑\",TRUE)","v":false},{"$f":"\"県央地域:\"&BY715","v":"県央地域:伊奈町"},"",null,"□","毛呂山町",false,"川越比企地域:毛呂山町","",null,"□","日高市",{"$f":"IF(CJ715=\"☑\",TRUE)","v":false},{"$f":"\"西部地域:\"&CK715","v":"西部地域:日高市"},"",null,"□","蓮田市",false,"利根地域:蓮田市","",null,"□","神川町",false,"北部地域:神川町","",null,"□","小鹿野町",{"$f":"IF(DB715=\"☑\",TRUE)","v":false},{"$f":"\"秩父地域:\"&DC715","v":"秩父地域:小鹿野町"},"",null,null,null,null,null,null,null,null,null,null,{"$f":"IF(#REF!=\"☑\",TRUE)","v":{"$error":"#REF!"}},{"$f":"IF(DQ715,#REF!,\"\")","v":{"$error":"#REF!"}}]
[null,null,null,null,null,null,null,null,null,null,null,null,null,null,null,null,null,null,"□","その他（買物）",false,"","□","クリーニング",false,{"$f":"IF(Y716,X716,\"\")","v":""},"□","個別移送サービス",false,"","□","ペット",false,"","□","その他（運動・たまり場）",false,"","□","その他（設備・施設・場所貸し）",false,"","□","ゲームセンター",false,"","□","理容・美容",false,"",null,"□","桜区",false,"さいたま市:桜区","",null,null,null,null,null,"",null,"□","ふじみ野市",false,"南西部地域:ふじみ野市","",null,"□","吉川市",false,"東部地域:吉川市","",null,null,null,null,null,"",null,"□","越生町",false,"川越比企地域:越生町","",null,null,null,null,null,"",null,"□","幸手市",false,"利根地域:幸手市","",null,"□","上里町",false,"北部地域:上里町","",null,null,null,null,null,"",null,null,null,null,null,null,null,null,null,null,{"$f":"IF(#REF!=\"☑\",TRUE)","v":{"$error":"#REF!"}},{"$f":"IF(DQ716,#REF!,\"\")","v":{"$error":"#REF!"}}]
[null,null,null,null,null,null,null,null,null,null,null,null,null,null,null,null,null,null,null,null,null,null,"□","その他（宅配・デリバリー）",false,{"$f":"IF(Y717,X717,\"\")","v":""},"□","交通機関サービス",false,"","□","その他（出張サービス）",false,"",null,null,null,null,null,null,null,null,"□","旅行・レジャー",false,"","□","成年後見・相続",false,"",null,"□","浦和区",false,"さいたま市:浦和区","",null,null,null,null,null,"",null,"□","三芳町",false,"南西部地域:三芳町","",null,"□","松伏町",false,"東部地域:松伏町","",null,null,null,null,null,"",null,"□","滑川町",false,"川越比企地域:滑川町","",null,null,null,null,null,"",null,"□","白岡市",false,"利根地域:白岡市","",null,"□","寄居町",false,"北部地域:寄居町","",null,null,null,null,null,""]
[null,null,null,null,null,null,null,null,null,null,null,null,null,null,null,null,null,null,null,null,null,null,null,null,null,null,"□","その他（送迎・移動支援）",false,"",null,null,null,"",null,null,null,{"$f":"IF(AK718,AJ718,\"\")","v":""},null,null,null,{"$f":"IF(AO718,AN718,\"\")","v":""},"□","パソコン・スマホ教室",false,"","□","その他（生活サービス）",false,"",null,"□","南区",false,"さいたま市:南区","",null,null,null,null,null,"",null,null,null,null,null,"",null,null,null,null,null,"",null,null,null,null,null,"",null,"□","嵐山町",false,"川越比企地域:嵐山町","",null,null,null,null,null,"",null,"□","宮代町",false,"利根地域:宮代町","",null,null,null,null,null,"",null,null,null,null,null,""]
[null,null,null,null,null,null,null,null,null,null,null,null,null,null,null,null,null,null,null,null,null,null,null,null,null,null,null,null,null,null,null,null,null,null,null,null,null,null,null,null,null,null,"□","その他（学び・趣味）",false,"",null,null,null,null,null,"□","緑区",false,"さいたま市:緑区","",null,null,null,null,null,"",null,null,null,null,null,"",null,null,null,null,null,"",null,null,null,null,null,"",null,"□","小川町",false,"川越比企地域:小川町","",null,null,null,null,null,"",null,"□","杉戸町",false,"利根地域:杉戸町","",null,null,null,null,null,"",null,null,null,null,null,""]
[null,null,null,null,null,null,null,null,null,null,null,null,null,null,null,null,null,null,null,null,null,null,null,null,null,null,null,null,null,null,null,null,null,null,null,null,null,null,null,null,null,null,null,null,null,null,null,null,null,null,null,"□","岩槻区",{"$f":"IF(AZ720=\"☑\",TRUE)","v":false},"さいたま市:岩槻区","",null,null,null,null,null,"",null,null,null,null,null,"",null,null,null,null,null,"",null,null,null,null,null,"",null,"□","川島町",false,"川越比企地域:川島町","",null,null,null,null,null,"",null,null,null,null,null,"",null,null,null,null,null,"",null,null,null,null,null,""]
[null,null,null,null,null,null,null,null,null,null,null,null,null,null,null,null,null,null,null,null,null,null,null,null,null,null,null,null,null,null,null,null,null,null,null,null,null,null,null,null,null,null,null,null,null,null,null,null,null,null,null,null,null,null,null,null,null,null,null,null,null,null,null,null,null,null,null,null,null,null,null,null,null,null,null,null,null,null,null,null,null,"□","吉見町",false,"川越比企地域:吉見町","",null,null,null,null,null,"",null,null,null,null,null,"",null,null,null,null,null,"",null,null,null,null,null,""]
[null,null,null,null,null,null,null,null,null,null,null,null,null,null,null,null,null,null,null,null,null,null,null,null,null,null,null,null,null,null,null,null,null,null,null,null,null,null,null,null,null,null,null,null,null,null,null,null,null,null,null,null,null,null,null,null,null,null,null,null,null,null,null,null,null,null,null,null,null,null,null,null,null,null,null,null,null,null,null,null,null,"□","鳩山町",false,"川越比企地域:鳩山町","",null,null,null,null,null,"",null,null,null,null,null,"",null,null,null,null,null,"",null,null,null,null,null,""]
[null,null,null,null,null,null,null,null,null,null,null,null,null,null,null,null,null,null,null,null,null,null,null,null,null,null,null,null,null,null,null,null,null,null,null,null,null,null,null,null,null,null,null,null,null,null,null,null,null,null,null,null,null,null,null,null,null,null,null,null,null,null,null,null,null,null,null,null,null,null,null,null,null,null,null,null,null,null,null,null,null,"□","ときがわ町",false,"川越比企地域:ときがわ町","",null,null,null,null,null,"",null,null,null,null,null,"",null,null,null,null,null,"",null,null,null,null,null,""]
[null,null,null,null,null,null,null,null,null,null,null,null,null,null,null,null,null,null,null,null,null,null,null,null,null,null,null,null,null,null,null,null,null,null,null,null,null,null,null,null,null,null,null,null,null,null,null,null,null,null,null,null,null,null,null,null,null,null,null,null,null,null,null,null,null,null,null,null,null,null,null,null,null,null,null,null,null,null,null,null,null,"□","東秩父村",false,"川越比企地域:東秩父村","",null,null,null,null,null,"",null,null,null,null,null,"",null,null,null,null,null,"",null,null,null,null,null,""]

{"sheet":"データ処理","index":1,"n_rows":59,"n_cols":185,"rows_kept":59,"cut":false,"hidden":true,"merged":[[5,6,5,7],[4,51,4,52],[4,23,4,24],[4,25,4,26],[4,27,4,28],[4,41,4,42],[4,47,4,48],[4,29,4,30],[4,31,4,32],[4,33,4,34],[4,35,4,36],[4,37,4,38],[4,39,4,40],[4,45,4,46],[4,43,4,44],[4,49,4,50],[4,125,4,126],[4,127,4,128],[4,55,4,56],[4,57,4,58],[4,59,4,60],[4,79,4,80],[4,81,4,82],[4,53,4,54],[4,61,4,62],[4,63,4,64],[4,65,4,66],[4,67,4,68],[4,139,4,140],[4,69,4,70],[4,135,4,136],[4,107,4,108],[4,109,4,110],[4,111,4,112],[4,113,4,114],[4,83,4,84],[4,93,4,94],[4,71,4,72],[4,73,4,74],[4,75,4,76],[4,77,4,78],[4,105,4,106],[4,129,4,130],[4,131,4,132],[4,161,4,162],[4,85,4,86],[4,87,4,88],[4,89,4,90],[4,91,4,92],[4,159,4,160],[4,95,4,96],[4,97,4,98],[4,99,4,100],[4,101,4,102],[4,103,4,104],[4,151,4,152],[4,115,4,116],[4,133,4,134],[4,157,4,158],[4,137,4,138],[4,0,5,0],[4,1,5,1],[4,179,4,180],[4,165,4,166],[4,143,4,144],[4,145,4,146],[4,147,4,148],[4,149,4,150],[4,163,4,164],[4,141,4,142],[4,119,4,120],[4,121,4,122],[4,123,4,124],[4,153,4,154],[4,155,4,156],[4,117,4,118],[4,184,5,184],[4,183,5,183],[4,181,4,182],[4,167,4,168],[4,169,4,170],[4,171,4,172],[4,173,4,174],[4,175,4,176],[4,177,4,178]]}
[null,null,null,null,null,null,null,null,null,null,null,null,null,null,null,null,null,null,null,null,null,null,null,null,null,null,null,null,null,null,null,null,null,null,null,null,null,null,null,null,null,null,null,null,null,null,null,null,null,null,null,null,null,null,null,null,null,null,null,null,null,null,null,null,null,null,null,null,null,null,null,null,null,null,null,null,null,null,null,null,null,null,null,null,null,null,null,null,null,null,null,null,null,null,"a1d4333986c247ed59272ba7ceebd4dfc2dfa6193b59ae9f8fe88c6f5c98b0de","auth_code:xRYeT67xyj5ksiZrzpE4bukciForMIue",null,null,null,null,null,null,null,null,null,null,null,null,null,null,null,null,null,null,null,null,null,null,null,null,null,null,null,null,"auth_code:URYkT3YxyjYk7iZdzpEUbuVcqFTrfUSe"]
[null,null,"サービス情報一覧 【埼玉県プラチナ・サポート・ショップ情報システム】"]
[]
[]
["管理番号","メモ欄","情報入力形式","情報提供元 県、市町村、社協　名称","事業者区分","店舗・サービス名","お問合せ先　固定電話","お問合せ先　携帯電話","お問合せ先　FAX","お問合せ先　Email","店舗名・サービス名","カテゴリ","サービス内容","ホームページ","サービス提供エリア（市町村）","サービス提供エリア（詳細）","有償・無償","費用","営業時間、定休日","利用方法","PR","印刷用その他"," 空き情報","非公開情報1",null,"非公開情報2",null,"非公開情報3",null,"非公開情報4",null,"非公開情報5",null,"非公開情報6",null,"非公開情報7",null,"非公開情報8",null,"非公開情報9",null,"非公開情報10",null,"サービス内容詳細",null,"サービス提供期間",null,"利用時間",null,"備考",null,"会社名/屋号/氏名",null,"会社　郵便番号",null,"会社　住所",null,"会社　担当部署・担当者名",null,"会社　電話番号",null,"会社　メールアドレス",null,"サービス提供期限",null,"利用可能曜日",null,"利用時間帯",null,"制度登録状況",null,"項目名\n[*任意項目]",null,"追加入力項目6\n(選択形式)",null,"追加入力項目7\n(選択形式)",null,"追加入力項目8\n(選択形式)",null,"追加入力項目9\n(選択形式)",null,"追加入力項目10\n(選択形式)",null,"店舗（サービス）住所1",null,"店舗（サービス）住所2",null,"店舗（サービス）住所3",null,"店舗（サービス）住所4",null,"店舗（サービス）住所5",null,"店舗（サービス）住所6",null,"店舗（サービス）住所7",null,"店舗（サービス）住所8",null,"店舗（サービス）住所9",null,"店舗（サービス）住所10",null,"店舗（サービス）住所11",null,"店舗（サービス）住所12",null,"店舗（サービス）住所13",null,"店舗（サービス）住所14",null,"店舗（サービス）住所15",null,"店舗（サービス）住所16",null,"店舗（サービス）住所17",null,"店舗（サービス）住所18",null,"店舗（サービス）住所19",null,"店舗（サービス）住所20",null,"店舗（サービス）住所21",null,"店舗（サービス）住所22",null,"店舗（サービス）住所23",null,"店舗（サービス）住所24",null,"店舗（サービス）住所25",null,"店舗（サービス）住所26",null,"店舗（サービス）住所27",null,"店舗（サービス）住所28",null,"店舗（サービス）住所29",null,"店舗（サービス）住所30",null,"店舗（サービス）住所31",null,"店舗（サービス）住所32",null,"店舗（サービス）住所33",null,"店舗（サービス）住所34",null,"店舗（サービス）住所35",null,"店舗（サービス）住所36",null,"店舗（サービス）住所37",null,"店舗（サービス）住所38",null,"店舗（サービス）住所39",null,"店舗（サービス）住所40",null,"店舗（サービス）住所41",null,"店舗（サービス）住所42",null,"店舗（サービス）住所43",null,"店舗（サービス）住所44",null,"店舗（サービス）住所45",null,"店舗（サービス）住所46",null,"店舗（サービス）住所47",null,"店舗（サービス）住所48",null,"店舗（サービス）住所49",null,"店舗（サービス）住所50",null,"更新日","担当者"]
[null,null,"[*必須項目]","[*必須項目]","[*任意項目]","[*必須項目]","[*必須項目（少なくとも一方）]",null,"[*任意項目]","[*任意項目]","[*必須項目]","[*必須項目]","[*必須項目]","[*任意項目]","[*任意項目]","[*任意項目]","[*必須項目]","[*任意項目]","[*任意項目]","[*任意項目]","[*任意項目]","[*任意項目]","[*任意項目]","特記事項 サービス情報入手ルート（情報提供者、連絡先等）","内容\n[*任意項目]","会社　FAX番号","内容\n[*任意項目]","会社　ホームページ","内容\n[*任意項目]","項目名\n[*任意項目]","内容\n[*任意項目]","項目名\n[*任意項目]","内容\n[*任意項目]","項目名\n[*任意項目]","内容\n[*任意項目]","項目名\n[*任意項目]","内容\n[*任意項目]","項目名\n[*任意項目]","内容\n[*任意項目]","項目名\n[*任意項目]","内容\n[*任意項目]","項目名\n[*任意項目]","内容\n[*任意項目]","サービス内容詳細","内容\n[*任意項目]","サービス提供期間","内容\n[*任意項目]","利用時間","内容\n[*任意項目]","備考","内容\n[*任意項目]","会社名/屋号/氏名","内容\n[*任意項目]","会社　郵便番号","内容\n[*任意項目]","会社　住所","内容\n[*任意項目]","会社　担当部署・担当者名","内容\n[*任意項目]","会社　電話番号","内容\n[*任意項目]","会社　メールアドレス","内容\n[*任意項目]","サービス提供期限","内容\n[*任意項目]","利用可能曜日","内容\n[*任意項目]","利用時間帯","内容\n[*任意項目]","制度登録状況","内容\n[*任意項目]","項目名\n[*任意項目]","内容\n[*任意項目]","項目名\n[*任意項目]","内容\n[*任意項目]","項目名\n[*任意項目]","内容\n[*任意項目]","項目名\n[*任意項目]","内容\n[*任意項目]","項目名\n[*任意項目]","内容\n[*任意項目]","項目名\n[*任意項目]","内容\n[*任意項目]","名称\n[*任意項目]","住所\n[*任意項目]","名称\n[*任意項目]","住所\n[*任意項目]","名称\n[*任意項目]","住所\n[*任意項目]","名称\n[*任意項目]","住所\n[*任意項目]","名称\n[*任意項目]","住所\n[*任意項目]","名称\n[*任意項目]","住所\n[*任意項目]","名称\n[*任意項目]","住所\n[*任意項目]","名称\n[*任意項目]","住所\n[*任意項目]","名称\n[*任意項目]","住所\n[*任意項目]","名称\n[*任意項目]","住所\n[*任意項目]","名称\n[*任意項目]","住所\n[*任意項目]","名称\n[*任意項目]","住所\n[*任意項目]","名称\n[*任意項目]","住所\n[*任意項目]","名称\n[*任意項目]","住所\n[*任意項目]","名称\n[*任意項目]","住所\n[*任意項目]","名称\n[*任意項目]","住所\n[*任意項目]","名称\n[*任意項目]","住所\n[*任意項目]","名称\n[*任意項目]","住所\n[*任意項目]","名称\n[*任意項目]","住所\n[*任意項目]","名称\n[*任意項目]","住所\n[*任意項目]","名称\n[*任意項目]","住所\n[*任意項目]","名称\n[*任意項目]","住所\n[*任意項目]","名称\n[*任意項目]","住所\n[*任意項目]","名称\n[*任意項目]","住所\n[*任意項目]","名称\n[*任意項目]","住所\n[*任意項目]","名称\n[*任意項目]","住所\n[*任意項目]","名称\n[*任意項目]","住所\n[*任意項目]","名称\n[*任意項目]","住所\n[*任意項目]","名称\n[*任意項目]","住所\n[*任意項目]","名称\n[*任意項目]","住所\n[*任意項目]","名称\n[*任意項目]","住所\n[*任意項目]","名称\n[*任意項目]","住所\n[*任意項目]","名称\n[*任意項目]","住所\n[*任意項目]","名称\n[*任意項目]","住所\n[*任意項目]","名称\n[*任意項目]","住所\n[*任意項目]","名称\n[*任意項目]","住所\n[*任意項目]","名称\n[*任意項目]","住所\n[*任意項目]","名称\n[*任意項目]","住所\n[*任意項目]","名称\n[*任意項目]","住所\n[*任意項目]","名称\n[*任意項目]","住所\n[*任意項目]","名称\n[*任意項目]","住所\n[*任意項目]","名称\n[*任意項目]","住所\n[*任意項目]","名称\n[*任意項目]","住所\n[*任意項目]","名称\n[*任意項目]","住所\n[*任意項目]","名称\n[*任意項目]","住所\n[*任意項目]","名称\n[*任意項目]","住所\n[*任意項目]","名称\n[*任意項目]","住所\n[*任意項目]","名称\n[*任意項目]","住所\n[*任意項目]","名称\n[*任意項目]","住所\n[*任意項目]","名称\n[*任意項目]","住所\n[*任意項目]"]
["新規の場合は管理番号を空にしてください。\n管理番号が入っている場合にはその番号のデータを上書きしますので注意して下さい。","注意事項",null,null,null,null,"入力制約1を参照","入力制約1を参照","入力制約1を参照","入力制約2を参照",null,"入力制約3を参照",null,"入力制約4を参照","入力制約5を参照",null,null,null,null,null,null,null,null,null,null,null,null,null,null,null,null,null,null,null,null,null,null,null,null,null,null,null,null,null,null,null,null,null,null,null,null,null,null,null,null,null,null,null,null,null,null,null,null,null,"入力制約3を参照",null,"入力制約3を参照",null,"入力制約3を参照",null,"入力制約3を参照",null,"入力制約3を参照",null,"入力制約3を参照",null,"入力制約3を参照",null,"入力制約3を参照",null,"入力制約3を参照",null,"入力制約3を参照",null,"登録する場合は「名称」と「住所」を入力\n入力制約6を参照",null,"登録する場合は「名称」と「住所」を入力\n入力制約6を参照",null,"登録する場合は「名称」と「住所」を入力\n入力制約6を参照",null,"登録する場合は「名称」と「住所」を入力\n入力制約6を参照",null,"登録する場合は「名称」と「住所」を入力\n入力制約6を参照",null,"登録する場合は「名称」と「住所」を入力\n入力制約6を参照",null,"登録する場合は「名称」と「住所」を入力\n入力制約6を参照",null,"登録する場合は「名称」と「住所」を入力\n入力制約6を参照",null,"登録する場合は「名称」と「住所」を入力\n入力制約6を参照",null,"登録する場合は「名称」と「住所」を入力\n入力制約6を参照",null,"登録する場合は「名称」と「住所」を入力\n入力制約6を参照",null,"登録する場合は「名称」と「住所」を入力\n入力制約6を参照",null,"登録する場合は「名称」と「住所」を入力\n入力制約6を参照",null,"登録する場合は「名称」と「住所」を入力\n入力制約6を参照",null,"登録する場合は「名称」と「住所」を入力\n入力制約6を参照",null,"登録する場合は「名称」と「住所」を入力\n入力制約6を参照",null,"登録する場合は「名称」と「住所」を入力\n入力制約6を参照",null,"登録する場合は「名称」と「住所」を入力\n入力制約6を参照",null,"登録する場合は「名称」と「住所」を入力\n入力制約6を参照",null,"登録する場合は「名称」と「住所」を入力\n入力制約6を参照",null,"登録する場合は「名称」と「住所」を入力\n入力制約6を参照",null,"登録する場合は「名称」と「住所」を入力\n入力制約6を参照",null,"登録する場合は「名称」と「住所」を入力\n入力制約6を参照",null,"登録する場合は「名称」と「住所」を入力\n入力制約6を参照",null,"登録する場合は「名称」と「住所」を入力\n入力制約6を参照",null,"登録する場合は「名称」と「住所」を入力\n入力制約6を参照",null,"登録する場合は「名称」と「住所」を入力\n入力制約6を参照",null,"登録する場合は「名称」と「住所」を入力\n入力制約6を参照",null,"登録する場合は「名称」と「住所」を入力\n入力制約6を参照",null,"登録する場合は「名称」と「住所」を入力\n入力制約6を参照",null,"登録する場合は「名称」と「住所」を入力\n入力制約6を参照",null,"登録する場合は「名称」と「住所」を入力\n入力制約6を参照",null,"登録する場合は「名称」と「住所」を入力\n入力制約6を参照",null,"登録する場合は「名称」と「住所」を入力\n入力制約6を参照",null,"登録する場合は「名称」と「住所」を入力\n入力制約6を参照",null,"登録する場合は「名称」と「住所」を入力\n入力制約6を参照",null,"登録する場合は「名称」と「住所」を入力\n入力制約6を参照",null,"登録する場合は「名称」と「住所」を入力\n入力制約6を参照",null,"登録する場合は「名称」と「住所」を入力\n入力制約6を参照",null,"登録する場合は「名称」と「住所」を入力\n入力制約6を参照",null,"登録する場合は「名称」と「住所」を入力\n入力制約6を参照",null,"登録する場合は「名称」と「住所」を入力\n入力制約6を参照",null,"登録する場合は「名称」と「住所」を入力\n入力制約6を参照",null,"登録する場合は「名称」と「住所」を入力\n入力制約6を参照",null,"登録する場合は「名称」と「住所」を入力\n入力制約6を参照",null,"登録する場合は「名称」と「住所」を入力\n入力制約6を参照",null,"登録する場合は「名称」と「住所」を入力\n入力制約6を参照",null,"登録する場合は「名称」と「住所」を入力\n入力制約6を参照",null,"登録する場合は「名称」と「住所」を入力\n入力制約6を参照",null,"登録する場合は「名称」と「住所」を入力\n入力制約6を参照","情報の最終更新日\n※登録対象外データ","情報担当者のAyamuID"]
[null,"","店舗・訪問系","さいたま市浦和区","民間","スーパーカシオ　浦和店","048-000-0000","048-000-0000","048-000-0000","casio@urawa.co.jp","スーパーカシオ　浦和店","配送,車イス対応,多目的トイレ,買物代行,移動販売,日用品配達","多目的トイレや休憩スペースもございます。ぜひ、ご来店ください。\n","https://casio.jp/","さいたま市:浦和区","浦和区内の全域\n","無償","無償\n","9時～18時　※定休日は第2水曜日\n","サービスカウンターへレシートをお持ちの上、お申し出ください。\n","地域のコミュニティを支える店舗づくりを目指しています！ご来店の際は、なんでもご相談ください。\n","","","特記事項 サービス情報入手ルート（情報提供者、連絡先等）","店長の佐藤さん ０８０－００００－０００\n","会社　FAX番号","０３－００００－００００\n","会社　ホームページ","https://casio.jp/\n","","","","","","","","","","","","","","","サービス内容詳細","２０００円以上で配送いたします。\n","サービス提供期間","無期限\n","利用時間","9時～18時\n","備考","情報が変更となっている場合がございます。ご利用にあたっては、各店舗にお問い合わせください。\n","会社名/屋号/氏名","カシオ計算機株式会社\n","会社　郵便番号","151-8543\n","会社　住所","東京都渋谷区本町一丁目6番2号\n","会社　担当部署・担当者名","◯◯部・さいたま　太郎\n","会社　電話番号","03-5334-0000\n","会社　メールアドレス","casio@casi0.co.jp\n","サービス提供期限","なし","利用可能曜日","月曜日,火曜日,水曜日,金曜日,木曜日,土曜日","利用時間帯","午前（~12:00）,午後（12:00~16：00）,夕方(16:00~18:00)","制度登録状況","登録済み","","","","","","","","","","","","","スーパーカシオ　浦和店","埼玉県,さいたま市浦和区,高砂三丁目15番1号,本庁舎1階","","","","","","","","","","","","","","","","","","","","","","","","","","","","","","","","","","","","","","","","","","","","","","","","","","","","","","","","","","","","","","","","","","","","","","","","","","","","","","","","","","","","","","","","","","","","","","","","","",""]
[null,null,"店舗・訪問系","さいたま市浦和区","民間",{"$f":"入力画面!K11&\"\"","v":"スーパー埼玉　高砂店"},{"$f":"入力画面!M11&\"\"","v":"048-000-0000"},{"$f":"入力画面!N11&\"\"","v":"090-000-0000"},{"$f":"入力画面!O11&\"\"","v":"048-000-0000"},{"$f":"入力画面!P11&\"\"","v":"saitama@○○○○.jp"},null,{"$f":"入力画面!AY11","v":"配送,移動販売,食材宅配,クリーニング,理容・美容（送迎）,家事代行・掃除・片付け,屋外作業・力仕事,カフェ・ファーストフード,イートインスペース,車イス対応（バリアフリー）,多目的トイレ,休憩スペース,講座・教室・イベント,パソコン・スマホ教室,防犯・見守り,認知症サポート企業,成年後見・相続"},{"$f":"入力画面!DI11&\"\"","v":"お買い上げいただいた商品をご自宅まで配送いたします。"},{"$f":"入力画面!DM11&\"\"","v":"https://saitama○○○"},{"$f":"入力画面!DH11","v":"さいたま市:西区,さいたま市:大宮区,さいたま市:中央区,さいたま市:浦和区,南部地域:川口市,南西部地域:朝霞市,南西部地域:富士見市,東部地域:春日部市,東部地域:草加市,県央地域:上尾市,県央地域:北本市,川越比企地域:川越市,西部地域:所沢市,西部地域:狭山市,利根地域:行田市,利根地域:蓮田市,利根地域:白岡市,北部地域:熊谷市,秩父地域:秩父市"},null,null,{"$f":"入力画面!DJ11&\"\"","v":"お買い上げ3,000円（税込）以上の場合は配送料無料\n\n無償の場合は、「上記の内容に関しては無償」などご記入ください。"},{"$f":"入力画面!DL11&\"\"","v":"9時～18時　※提供日は第2水曜日\n"},{"$f":"入力画面!DK11&\"\"","v":"事前に電話連絡でお知らせください。"},{"$f":"入力画面!DN11&\"\"","v":"多目的トイレや休憩スペースもございます。ぜひ、ご来店ください。\n"},null,null,"特記事項 サービス情報入手ルート（情報提供者、連絡先等）",null,"会社　FAX番号",{"$f":"入力画面!G11&\"\"","v":"048-000-0000"},"会社　ホームページ",{"$f":"入力画面!I11&\"\"","v":"https://www.○○○\n"},null,null,null,null,null,null,null,null,null,null,null,null,null,null,"サービス内容詳細",{"$f":"入力画面!DO11&\"\"","v":""},"サービス提供期間",null,"利用時間",null,"備考",{"$f":"入力画面!DP11&\"\"","v":""},"会社名/屋号/氏名",{"$f":"入力画面!B11&\"\"","v":"埼玉県地域包括ケア株式会社\n"},"会社　郵便番号",{"$f":"入力画面!D11&\"\"","v":"330-0000"},"会社　住所",{"$f":"入力画面!E11&\"\"","v":"埼玉県さいたま市浦和区高砂3-15-1\n"},"会社　担当部署・担当者名",{"$f":"入力画面!J11&\"\"","v":"○○部　××課　主任　埼玉花子"},"会社　電話番号",{"$f":"入力画面!F11&\"\"","v":"048-000-0000"},"会社　メールアドレス",{"$f":"入力画面!H11&\"\"","v":"saitama@○○○○.jp\n"},"サービス提供期限",null,"利用可能曜日",null,"利用時間帯",null,"制度登録状況",null,null,null,null,null,null,null,null,null,null,null,null,null,{"$f":"入力画面!Q11&\"\"","v":"スーパー埼玉　高砂店"},{"$f":"入力画面!R11&\"\"","v":"埼玉県,さいたま市浦和区,高砂三丁目15番1号"}]
[null,null,"店舗・訪問系","さいたま市浦和区","民間",{"$f":"入力画面!K25&\"\"","v":""},{"$f":"入力画面!M25&\"\"","v":""},{"$f":"入力画面!N25&\"\"","v":""},{"$f":"入力画面!O25&\"\"","v":""},{"$f":"入力画面!P25&\"\"","v":""},null,{"$f":"入力画面!AY25","v":""},{"$f":"入力画面!DI25&\"\"","v":""},{"$f":"入力画面!DM25&\"\"","v":""},{"$f":"入力画面!DH25","v":""},null,null,{"$f":"入力画面!DJ25&\"\"","v":""},{"$f":"入力画面!DL25&\"\"","v":""},{"$f":"入力画面!DK25&\"\"","v":""},{"$f":"入力画面!DN25&\"\"","v":""},null,null,"特記事項 サービス情報入手ルート（情報提供者、連絡先等）",null,"会社　FAX番号",{"$f":"入力画面!G25&\"\"","v":""},"会社　ホームページ",{"$f":"入力画面!I25&\"\"","v":""},null,null,null,null,null,null,null,null,null,null,null,null,null,null,"サービス内容詳細",{"$f":"入力画面!DO25&\"\"","v":""},"サービス提供期間",null,"利用時間",null,"備考",{"$f":"入力画面!DP25&\"\"","v":""},"会社名/屋号/氏名",{"$f":"入力画面!B25&\"\"","v":""},"会社　郵便番号",{"$f":"入力画面!D25&\"\"","v":""},"会社　住所",{"$f":"入力画面!E25&\"\"","v":""},"会社　担当部署・担当者名",{"$f":"入力画面!J25&\"\"","v":""},"会社　電話番号",{"$f":"入力画面!F25&\"\"","v":""},"会社　メールアドレス",{"$f":"入力画面!H25&\"\"","v":""},"サービス提供期限",null,"利用可能曜日",null,"利用時間帯",null,"制度登録状況",null,null,null,null,null,null,null,null,null,null,null,null,null,{"$f":"入力画面!Q25&\"\"","v":""},{"$f":"入力画面!R25&\"\"","v":""}]
[null,null,"店舗・訪問系","さいたま市浦和区","民間",{"$f":"入力画面!K39&\"\"","v":""},{"$f":"入力画面!M39&\"\"","v":""},{"$f":"入力画面!N39&\"\"","v":""},{"$f":"入力画面!O39&\"\"","v":""},{"$f":"入力画面!P39&\"\"","v":""},null,{"$f":"入力画面!AY39","v":""},{"$f":"入力画面!DI39&\"\"","v":""},{"$f":"入力画面!DM39&\"\"","v":""},{"$f":"入力画面!DH39","v":""},null,null,{"$f":"入力画面!DJ39&\"\"","v":""},{"$f":"入力画面!DL39&\"\"","v":""},{"$f":"入力画面!DK39&\"\"","v":""},{"$f":"入力画面!DN39&\"\"","v":""},null,null,"特記事項 サービス情報入手ルート（情報提供者、連絡先等）",null,"会社　FAX番号",{"$f":"入力画面!G39&\"\"","v":""},"会社　ホームページ",{"$f":"入力画面!I39&\"\"","v":""},null,null,null,null,null,null,null,null,null,null,null,null,null,null,"サービス内容詳細",{"$f":"入力画面!DO39&\"\"","v":""},"サービス提供期間",null,"利用時間",null,"備考",{"$f":"入力画面!DP39&\"\"","v":""},"会社名/屋号/氏名",{"$f":"入力画面!B39&\"\"","v":""},"会社　郵便番号",{"$f":"入力画面!D39&\"\"","v":""},"会社　住所",{"$f":"入力画面!E39&\"\"","v":""},"会社　担当部署・担当者名",{"$f":"入力画面!J39&\"\"","v":""},"会社　電話番号",{"$f":"入力画面!F39&\"\"","v":""},"会社　メールアドレス",{"$f":"入力画面!H39&\"\"","v":""},"サービス提供期限",null,"利用可能曜日",null,"利用時間帯",null,"制度登録状況",null,null,null,null,null,null,null,null,null,null,null,null,null,{"$f":"入力画面!Q39&\"\"","v":""},{"$f":"入力画面!R39&\"\"","v":""}]
[null,null,"店舗・訪問系","さいたま市浦和区","民間",{"$f":"入力画面!K53&\"\"","v":""},{"$f":"入力画面!M53&\"\"","v":""},{"$f":"入力画面!N53&\"\"","v":""},{"$f":"入力画面!O53&\"\"","v":""},{"$f":"入力画面!P53&\"\"","v":""},null,{"$f":"入力画面!AY53","v":""},{"$f":"入力画面!DI53&\"\"","v":""},{"$f":"入力画面!DM53&\"\"","v":""},{"$f":"入力画面!DH53","v":""},null,null,{"$f":"入力画面!DJ53&\"\"","v":""},{"$f":"入力画面!DL53&\"\"","v":""},{"$f":"入力画面!DK53&\"\"","v":""},{"$f":"入力画面!DN53&\"\"","v":""},null,null,"特記事項 サービス情報入手ルート（情報提供者、連絡先等）",null,"会社　FAX番号",{"$f":"入力画面!G53&\"\"","v":""},"会社　ホームページ",{"$f":"入力画面!I53&\"\"","v":""},null,null,null,null,null,null,null,null,null,null,null,null,null,null,"サービス内容詳細",{"$f":"入力画面!DO53&\"\"","v":""},"サービス提供期間",null,"利用時間",null,"備考",{"$f":"入力画面!DP53&\"\"","v":""},"会社名/屋号/氏名",{"$f":"入力画面!B53&\"\"","v":""},"会社　郵便番号",{"$f":"入力画面!D53&\"\"","v":""},"会社　住所",{"$f":"入力画面!E53&\"\"","v":""},"会社　担当部署・担当者名",{"$f":"入力画面!J53&\"\"","v":""},"会社　電話番号",{"$f":"入力画面!F53&\"\"","v":""},"会社　メールアドレス",{"$f":"入力画面!H53&\"\"","v":""},"サービス提供期限",null,"利用可能曜日",null,"利用時間帯",null,"制度登録状況",null,null,null,null,null,null,null,null,null,null,null,null,null,{"$f":"入力画面!Q53&\"\"","v":""},{"$f":"入力画面!R53&\"\"","v":""}]
[null,null,"店舗・訪問系","さいたま市浦和区","民間",{"$f":"入力画面!K67&\"\"","v":""},{"$f":"入力画面!M67&\"\"","v":""},{"$f":"入力画面!N67&\"\"","v":""},{"$f":"入力画面!O67&\"\"","v":""},{"$f":"入力画面!P67&\"\"","v":""},null,{"$f":"入力画面!AY67","v":""},{"$f":"入力画面!DI67&\"\"","v":""},{"$f":"入力画面!DM67&\"\"","v":""},{"$f":"入力画面!DH67","v":""},null,null,{"$f":"入力画面!DJ67&\"\"","v":""},{"$f":"入力画面!DL67&\"\"","v":""},{"$f":"入力画面!DK67&\"\"","v":""},{"$f":"入力画面!DN67&\"\"","v":""},null,null,"特記事項 サービス情報入手ルート（情報提供者、連絡先等）",null,"会社　FAX番号",{"$f":"入力画面!G67&\"\"","v":""},"会社　ホームページ",{"$f":"入力画面!I67&\"\"","v":""},null,null,null,null,null,null,null,null,null,null,null,null,null,null,"サービス内容詳細",{"$f":"入力画面!DO67&\"\"","v":""},"サービス提供期間",null,"利用時間",null,"備考",{"$f":"入力画面!DP67&\"\"","v":""},"会社名/屋号/氏名",{"$f":"入力画面!B67&\"\"","v":""},"会社　郵便番号",{"$f":"入力画面!D67&\"\"","v":""},"会社　住所",{"$f":"入力画面!E67&\"\"","v":""},"会社　担当部署・担当者名",{"$f":"入力画面!J67&\"\"","v":""},"会社　電話番号",{"$f":"入力画面!F67&\"\"","v":""},"会社　メールアドレス",{"$f":"入力画面!H67&\"\"","v":""},"サービス提供期限",null,"利用可能曜日",null,"利用時間帯",null,"制度登録状況",null,null,null,null,null,null,null,null,null,null,null,null,null,{"$f":"入力画面!Q67&\"\"","v":""},{"$f":"入力画面!R67&\"\"","v":""}]
[null,null,"店舗・訪問系","さいたま市浦和区","民間",{"$f":"入力画面!K81&\"\"","v":""},{"$f":"入力画面!M81&\"\"","v":""},{"$f":"入力画面!N81&\"\"","v":""},{"$f":"入力画面!O81&\"\"","v":""},{"$f":"入力画面!P81&\"\"","v":""},null,{"$f":"入力画面!AY81","v":""},{"$f":"入力画面!DI81&\"\"","v":""},{"$f":"入力画面!DM81&\"\"","v":""},{"$f":"入力画面!DH81","v":""},null,null,{"$f":"入力画面!DJ81&\"\"","v":""},{"$f":"入力画面!DL81&\"\"","v":""},{"$f":"入力画面!DK81&\"\"","v":""},{"$f":"入力画面!DN81&\"\"","v":""},null,null,"特記事項 サービス情報入手ルート（情報提供者、連絡先等）",null,"会社　FAX番号",{"$f":"入力画面!G81&\"\"","v":""},"会社　ホームページ",{"$f":"入力画面!I81&\"\"","v":""},null,null,null,null,null,null,null,null,null,null,null,null,null,null,"サービス内容詳細",{"$f":"入力画面!DO81&\"\"","v":""},"サービス提供期間",null,"利用時間",null,"備考",{"$f":"入力画面!DP81&\"\"","v":""},"会社名/屋号/氏名",{"$f":"入力画面!B81&\"\"","v":""},"会社　郵便番号",{"$f":"入力画面!D81&\"\"","v":""},"会社　住所",{"$f":"入力画面!E81&\"\"","v":""},"会社　担当部署・担当者名",{"$f":"入力画面!J81&\"\"","v":""},"会社　電話番号",{"$f":"入力画面!F81&\"\"","v":""},"会社　メールアドレス",{"$f":"入力画面!H81&\"\"","v":""},"サービス提供期限",null,"利用可能曜日",null,"利用時間帯",null,"制度登録状況",null,null,null,null,null,null,null,null,null,null,null,null,null,{"$f":"入力画面!Q81&\"\"","v":""},{"$f":"入力画面!R81&\"\"","v":""}]
[null,null,"店舗・訪問系","さいたま市浦和区","民間",{"$f":"入力画面!K95&\"\"","v":""},{"$f":"入力画面!M95&\"\"","v":""},{"$f":"入力画面!N95&\"\"","v":""},{"$f":"入力画面!O95&\"\"","v":""},{"$f":"入力画面!P95&\"\"","v":""},null,{"$f":"入力画面!AY95","v":""},{"$f":"入力画面!DI95&\"\"","v":""},{"$f":"入力画面!DM95&\"\"","v":""},{"$f":"入力画面!DH95","v":""},null,null,{"$f":"入力画面!DJ95&\"\"","v":""},{"$f":"入力画面!DL95&\"\"","v":""},{"$f":"入力画面!DK95&\"\"","v":""},{"$f":"入力画面!DN95&\"\"","v":""},null,null,"特記事項 サービス情報入手ルート（情報提供者、連絡先等）",null,"会社　FAX番号",{"$f":"入力画面!G95&\"\"","v":""},"会社　ホームページ",{"$f":"入力画面!I95&\"\"","v":""},null,null,null,null,null,null,null,null,null,null,null,null,null,null,"サービス内容詳細",{"$f":"入力画面!DO95&\"\"","v":""},"サービス提供期間",null,"利用時間",null,"備考",{"$f":"入力画面!DP95&\"\"","v":""},"会社名/屋号/氏名",{"$f":"入力画面!B95&\"\"","v":""},"会社　郵便番号",{"$f":"入力画面!D95&\"\"","v":""},"会社　住所",{"$f":"入力画面!E95&\"\"","v":""},"会社　担当部署・担当者名",{"$f":"入力画面!J95&\"\"","v":""},"会社　電話番号",{"$f":"入力画面!F95&\"\"","v":""},"会社　メールアドレス",{"$f":"入力画面!H95&\"\"","v":""},"サービス提供期限",null,"利用可能曜日",null,"利用時間帯",null,"制度登録状況",null,null,null,null,null,null,null,null,null,null,null,null,null,{"$f":"入力画面!Q95&\"\"","v":""},{"$f":"入力画面!R95&\"\"","v":""}]
[null,null,"店舗・訪問系","さいたま市浦和区","民間",{"$f":"入力画面!K109&\"\"","v":""},{"$f":"入力画面!M109&\"\"","v":""},{"$f":"入力画面!N109&\"\"","v":""},{"$f":"入力画面!O109&\"\"","v":""},{"$f":"入力画面!P109&\"\"","v":""},null,{"$f":"入力画面!AY109","v":""},{"$f":"入力画面!DI109&\"\"","v":""},{"$f":"入力画面!DM109&\"\"","v":""},{"$f":"入力画面!DH109","v":""},null,null,{"$f":"入力画面!DJ109&\"\"","v":""},{"$f":"入力画面!DL109&\"\"","v":""},{"$f":"入力画面!DK109&\"\"","v":""},{"$f":"入力画面!DN109&\"\"","v":""},null,null,"特記事項 サービス情報入手ルート（情報提供者、連絡先等）",null,"会社　FAX番号",{"$f":"入力画面!G109&\"\"","v":""},"会社　ホームページ",{"$f":"入力画面!I109&\"\"","v":""},null,null,null,null,null,null,null,null,null,null,null,null,null,null,"サービス内容詳細",{"$f":"入力画面!DO109&\"\"","v":""},"サービス提供期間",null,"利用時間",null,"備考",{"$f":"入力画面!DP109&\"\"","v":""},"会社名/屋号/氏名",{"$f":"入力画面!B109&\"\"","v":""},"会社　郵便番号",{"$f":"入力画面!D109&\"\"","v":""},"会社　住所",{"$f":"入力画面!E109&\"\"","v":""},"会社　担当部署・担当者名",{"$f":"入力画面!J109&\"\"","v":""},"会社　電話番号",{"$f":"入力画面!F109&\"\"","v":""},"会社　メールアドレス",{"$f":"入力画面!H109&\"\"","v":""},"サービス提供期限",null,"利用可能曜日",null,"利用時間帯",null,"制度登録状況",null,null,null,null,null,null,null,null,null,null,null,null,null,{"$f":"入力画面!Q109&\"\"","v":""},{"$f":"入力画面!R109&\"\"","v":""}]
[null,null,"店舗・訪問系","さいたま市浦和区","民間",{"$f":"入力画面!K123&\"\"","v":""},{"$f":"入力画面!M123&\"\"","v":""},{"$f":"入力画面!N123&\"\"","v":""},{"$f":"入力画面!O123&\"\"","v":""},{"$f":"入力画面!P123&\"\"","v":""},null,{"$f":"入力画面!AY123","v":""},{"$f":"入力画面!DI123&\"\"","v":""},{"$f":"入力画面!DM123&\"\"","v":""},{"$f":"入力画面!DH123","v":""},null,null,{"$f":"入力画面!DJ123&\"\"","v":""},{"$f":"入力画面!DL123&\"\"","v":""},{"$f":"入力画面!DK123&\"\"","v":""},{"$f":"入力画面!DN123&\"\"","v":""},null,null,"特記事項 サービス情報入手ルート（情報提供者、連絡先等）",null,"会社　FAX番号",{"$f":"入力画面!G123&\"\"","v":""},"会社　ホームページ",{"$f":"入力画面!I123&\"\"","v":""},null,null,null,null,null,null,null,null,null,null,null,null,null,null,"サービス内容詳細",{"$f":"入力画面!DO123&\"\"","v":""},"サービス提供期間",null,"利用時間",null,"備考",{"$f":"入力画面!DP123&\"\"","v":""},"会社名/屋号/氏名",{"$f":"入力画面!B123&\"\"","v":""},"会社　郵便番号",{"$f":"入力画面!D123&\"\"","v":""},"会社　住所",{"$f":"入力画面!E123&\"\"","v":""},"会社　担当部署・担当者名",{"$f":"入力画面!J123&\"\"","v":""},"会社　電話番号",{"$f":"入力画面!F123&\"\"","v":""},"会社　メールアドレス",{"$f":"入力画面!H123&\"\"","v":""},"サービス提供期限",null,"利用可能曜日",null,"利用時間帯",null,"制度登録状況",null,null,null,null,null,null,null,null,null,null,null,null,null,{"$f":"入力画面!Q123&\"\"","v":""},{"$f":"入力画面!R123&\"\"","v":""}]
[null,null,"店舗・訪問系","さいたま市浦和区","民間",{"$f":"入力画面!K137&\"\"","v":""},{"$f":"入力画面!M137&\"\"","v":""},{"$f":"入力画面!N137&\"\"","v":""},{"$f":"入力画面!O137&\"\"","v":""},{"$f":"入力画面!P137&\"\"","v":""},null,{"$f":"入力画面!AY137","v":""},{"$f":"入力画面!DI137&\"\"","v":""},{"$f":"入力画面!DM137&\"\"","v":""},{"$f":"入力画面!DH137","v":""},null,null,{"$f":"入力画面!DJ137&\"\"","v":""},{"$f":"入力画面!DL137&\"\"","v":""},{"$f":"入力画面!DK137&\"\"","v":""},{"$f":"入力画面!DN137&\"\"","v":""},null,null,"特記事項 サービス情報入手ルート（情報提供者、連絡先等）",null,"会社　FAX番号",{"$f":"入力画面!G137&\"\"","v":""},"会社　ホームページ",{"$f":"入力画面!I137&\"\"","v":""},null,null,null,null,null,null,null,null,null,null,null,null,null,null,"サービス内容詳細",{"$f":"入力画面!DO137&\"\"","v":""},"サービス提供期間",null,"利用時間",null,"備考",{"$f":"入力画面!DP137&\"\"","v":""},"会社名/屋号/氏名",{"$f":"入力画面!B137&\"\"","v":""},"会社　郵便番号",{"$f":"入力画面!D137&\"\"","v":""},"会社　住所",{"$f":"入力画面!E137&\"\"","v":""},"会社　担当部署・担当者名",{"$f":"入力画面!J137&\"\"","v":""},"会社　電話番号",{"$f":"入力画面!F137&\"\"","v":""},"会社　メールアドレス",{"$f":"入力画面!H137&\"\"","v":""},"サービス提供期限",null,"利用可能曜日",null,"利用時間帯",null,"制度登録状況",null,null,null,null,null,null,null,null,null,null,null,null,null,{"$f":"入力画面!Q137&\"\"","v":""},{"$f":"入力画面!R137&\"\"","v":""}]
[null,null,"店舗・訪問系","さいたま市浦和区","民間",{"$f":"入力画面!K151&\"\"","v":""},{"$f":"入力画面!M151&\"\"","v":""},{"$f":"入力画面!N151&\"\"","v":""},{"$f":"入力画面!O151&\"\"","v":""},{"$f":"入力画面!P151&\"\"","v":""},null,{"$f":"入力画面!AY151","v":""},{"$f":"入力画面!DI151&\"\"","v":""},{"$f":"入力画面!DM151&\"\"","v":""},{"$f":"入力画面!DH151","v":""},null,null,{"$f":"入力画面!DJ151&\"\"","v":""},{"$f":"入力画面!DL151&\"\"","v":""},{"$f":"入力画面!DK151&\"\"","v":""},{"$f":"入力画面!DN151&\"\"","v":""},null,null,"特記事項 サービス情報入手ルート（情報提供者、連絡先等）",null,"会社　FAX番号",{"$f":"入力画面!G151&\"\"","v":""},"会社　ホームページ",{"$f":"入力画面!I151&\"\"","v":""},null,null,null,null,null,null,null,null,null,null,null,null,null,null,"サービス内容詳細",{"$f":"入力画面!DO151&\"\"","v":""},"サービス提供期間",null,"利用時間",null,"備考",{"$f":"入力画面!DP151&\"\"","v":""},"会社名/屋号/氏名",{"$f":"入力画面!B151&\"\"","v":""},"会社　郵便番号",{"$f":"入力画面!D151&\"\"","v":""},"会社　住所",{"$f":"入力画面!E151&\"\"","v":""},"会社　担当部署・担当者名",{"$f":"入力画面!J151&\"\"","v":""},"会社　電話番号",{"$f":"入力画面!F151&\"\"","v":""},"会社　メールアドレス",{"$f":"入力画面!H151&\"\"","v":""},"サービス提供期限",null,"利用可能曜日",null,"利用時間帯",null,"制度登録状況",null,null,null,null,null,null,null,null,null,null,null,null,null,{"$f":"入力画面!Q151&\"\"","v":""},{"$f":"入力画面!R151&\"\"","v":""}]
[null,null,"店舗・訪問系","さいたま市浦和区","民間",{"$f":"入力画面!K165&\"\"","v":""},{"$f":"入力画面!M165&\"\"","v":""},{"$f":"入力画面!N165&\"\"","v":""},{"$f":"入力画面!O165&\"\"","v":""},{"$f":"入力画面!P165&\"\"","v":""},null,{"$f":"入力画面!AY165","v":""},{"$f":"入力画面!DI165&\"\"","v":""},{"$f":"入力画面!DM165&\"\"","v":""},{"$f":"入力画面!DH165","v":""},null,null,{"$f":"入力画面!DJ165&\"\"","v":""},{"$f":"入力画面!DL165&\"\"","v":""},{"$f":"入力画面!DK165&\"\"","v":""},{"$f":"入力画面!DN165&\"\"","v":""},null,null,"特記事項 サービス情報入手ルート（情報提供者、連絡先等）",null,"会社　FAX番号",{"$f":"入力画面!G165&\"\"","v":""},"会社　ホームページ",{"$f":"入力画面!I165&\"\"","v":""},null,null,null,null,null,null,null,null,null,null,null,null,null,null,"サービス内容詳細",{"$f":"入力画面!DO165&\"\"","v":""},"サービス提供期間",null,"利用時間",null,"備考",{"$f":"入力画面!DP165&\"\"","v":""},"会社名/屋号/氏名",{"$f":"入力画面!B165&\"\"","v":""},"会社　郵便番号",{"$f":"入力画面!D165&\"\"","v":""},"会社　住所",{"$f":"入力画面!E165&\"\"","v":""},"会社　担当部署・担当者名",{"$f":"入力画面!J165&\"\"","v":""},"会社　電話番号",{"$f":"入力画面!F165&\"\"","v":""},"会社　メールアドレス",{"$f":"入力画面!H165&\"\"","v":""},"サービス提供期限",null,"利用可能曜日",null,"利用時間帯",null,"制度登録状況",null,null,null,null,null,null,null,null,null,null,null,null,null,{"$f":"入力画面!Q165&\"\"","v":""},{"$f":"入力画面!R165&\"\"","v":""}]
[null,null,"店舗・訪問系","さいたま市浦和区","民間",{"$f":"入力画面!K179&\"\"","v":""},{"$f":"入力画面!M179&\"\"","v":""},{"$f":"入力画面!N179&\"\"","v":""},{"$f":"入力画面!O179&\"\"","v":""},{"$f":"入力画面!P179&\"\"","v":""},null,{"$f":"入力画面!AY179","v":""},{"$f":"入力画面!DI179&\"\"","v":""},{"$f":"入力画面!DM179&\"\"","v":""},{"$f":"入力画面!DH179","v":""},null,null,{"$f":"入力画面!DJ179&\"\"","v":""},{"$f":"入力画面!DL179&\"\"","v":""},{"$f":"入力画面!DK179&\"\"","v":""},{"$f":"入力画面!DN179&\"\"","v":""},null,null,"特記事項 サービス情報入手ルート（情報提供者、連絡先等）",null,"会社　FAX番号",{"$f":"入力画面!G179&\"\"","v":""},"会社　ホームページ",{"$f":"入力画面!I179&\"\"","v":""},null,null,null,null,null,null,null,null,null,null,null,null,null,null,"サービス内容詳細",{"$f":"入力画面!DO179&\"\"","v":""},"サービス提供期間",null,"利用時間",null,"備考",{"$f":"入力画面!DP179&\"\"","v":""},"会社名/屋号/氏名",{"$f":"入力画面!B179&\"\"","v":""},"会社　郵便番号",{"$f":"入力画面!D179&\"\"","v":""},"会社　住所",{"$f":"入力画面!E179&\"\"","v":""},"会社　担当部署・担当者名",{"$f":"入力画面!J179&\"\"","v":""},"会社　電話番号",{"$f":"入力画面!F179&\"\"","v":""},"会社　メールアドレス",{"$f":"入力画面!H179&\"\"","v":""},"サービス提供期限",null,"利用可能曜日",null,"利用時間帯",null,"制度登録状況",null,null,null,null,null,null,null,null,null,null,null,null,null,{"$f":"入力画面!Q179&\"\"","v":""},{"$f":"入力画面!R179&\"\"","v":""}]
[null,null,"店舗・訪問系","さいたま市浦和区","民間",{"$f":"入力画面!K193&\"\"","v":""},{"$f":"入力画面!M193&\"\"","v":""},{"$f":"入力画面!N193&\"\"","v":""},{"$f":"入力画面!O193&\"\"","v":""},{"$f":"入力画面!P193&\"\"","v":""},null,{"$f":"入力画面!AY193","v":""},{"$f":"入力画面!DI193&\"\"","v":""},{"$f":"入力画面!DM193&\"\"","v":""},{"$f":"入力画面!DH193","v":""},null,null,{"$f":"入力画面!DJ193&\"\"","v":""},{"$f":"入力画面!DL193&\"\"","v":""},{"$f":"入力画面!DK193&\"\"","v":""},{"$f":"入力画面!DN193&\"\"","v":""},null,null,"特記事項 サービス情報入手ルート（情報提供者、連絡先等）",null,"会社　FAX番号",{"$f":"入力画面!G193&\"\"","v":""},"会社　ホームページ",{"$f":"入力画面!I193&\"\"","v":""},null,null,null,null,null,null,null,null,null,null,null,null,null,null,"サービス内容詳細",{"$f":"入力画面!DO193&\"\"","v":""},"サービス提供期間",null,"利用時間",null,"備考",{"$f":"入力画面!DP193&\"\"","v":""},"会社名/屋号/氏名",{"$f":"入力画面!B193&\"\"","v":""},"会社　郵便番号",{"$f":"入力画面!D193&\"\"","v":""},"会社　住所",{"$f":"入力画面!E193&\"\"","v":""},"会社　担当部署・担当者名",{"$f":"入力画面!J193&\"\"","v":""},"会社　電話番号",{"$f":"入力画面!F193&\"\"","v":""},"会社　メールアドレス",{"$f":"入力画面!H193&\"\"","v":""},"サービス提供期限",null,"利用可能曜日",null,"利用時間帯",null,"制度登録状況",null,null,null,null,null,null,null,null,null,null,null,null,null,{"$f":"入力画面!Q193&\"\"","v":""},{"$f":"入力画面!R193&\"\"","v":""}]
[null,null,"店舗・訪問系","さいたま市浦和区","民間",{"$f":"入力画面!K207&\"\"","v":""},{"$f":"入力画面!M207&\"\"","v":""},{"$f":"入力画面!N207&\"\"","v":""},{"$f":"入力画面!O207&\"\"","v":""},{"$f":"入力画面!P207&\"\"","v":""},null,{"$f":"入力画面!AY207","v":""},{"$f":"入力画面!DI207&\"\"","v":""},{"$f":"入力画面!DM207&\"\"","v":""},{"$f":"入力画面!DH207","v":""},null,null,{"$f":"入力画面!DJ207&\"\"","v":""},{"$f":"入力画面!DL207&\"\"","v":""},{"$f":"入力画面!DK207&\"\"","v":""},{"$f":"入力画面!DN207&\"\"","v":""},null,null,"特記事項 サービス情報入手ルート（情報提供者、連絡先等）",null,"会社　FAX番号",{"$f":"入力画面!G207&\"\"","v":""},"会社　ホームページ",{"$f":"入力画面!I207&\"\"","v":""},null,null,null,null,null,null,null,null,null,null,null,null,null,null,"サービス内容詳細",{"$f":"入力画面!DO207&\"\"","v":""},"サービス提供期間",null,"利用時間",null,"備考",{"$f":"入力画面!DP207&\"\"","v":""},"会社名/屋号/氏名",{"$f":"入力画面!B207&\"\"","v":""},"会社　郵便番号",{"$f":"入力画面!D207&\"\"","v":""},"会社　住所",{"$f":"入力画面!E207&\"\"","v":""},"会社　担当部署・担当者名",{"$f":"入力画面!J207&\"\"","v":""},"会社　電話番号",{"$f":"入力画面!F207&\"\"","v":""},"会社　メールアドレス",{"$f":"入力画面!H207&\"\"","v":""},"サービス提供期限",null,"利用可能曜日",null,"利用時間帯",null,"制度登録状況",null,null,null,null,null,null,null,null,null,null,null,null,null,{"$f":"入力画面!Q207&\"\"","v":""},{"$f":"入力画面!R207&\"\"","v":""}]
[null,null,"店舗・訪問系","さいたま市浦和区","民間",{"$f":"入力画面!K221&\"\"","v":""},{"$f":"入力画面!M221&\"\"","v":""},{"$f":"入力画面!N221&\"\"","v":""},{"$f":"入力画面!O221&\"\"","v":""},{"$f":"入力画面!P221&\"\"","v":""},null,{"$f":"入力画面!AY221","v":""},{"$f":"入力画面!DI221&\"\"","v":""},{"$f":"入力画面!DM221&\"\"","v":""},{"$f":"入力画面!DH221","v":""},null,null,{"$f":"入力画面!DJ221&\"\"","v":""},{"$f":"入力画面!DL221&\"\"","v":""},{"$f":"入力画面!DK221&\"\"","v":""},{"$f":"入力画面!DN221&\"\"","v":""},null,null,"特記事項 サービス情報入手ルート（情報提供者、連絡先等）",null,"会社　FAX番号",{"$f":"入力画面!G221&\"\"","v":""},"会社　ホームページ",{"$f":"入力画面!I221&\"\"","v":""},null,null,null,null,null,null,null,null,null,null,null,null,null,null,"サービス内容詳細",{"$f":"入力画面!DO221&\"\"","v":""},"サービス提供期間",null,"利用時間",null,"備考",{"$f":"入力画面!DP221&\"\"","v":""},"会社名/屋号/氏名",{"$f":"入力画面!B221&\"\"","v":""},"会社　郵便番号",{"$f":"入力画面!D221&\"\"","v":""},"会社　住所",{"$f":"入力画面!E221&\"\"","v":""},"会社　担当部署・担当者名",{"$f":"入力画面!J221&\"\"","v":""},"会社　電話番号",{"$f":"入力画面!F221&\"\"","v":""},"会社　メールアドレス",{"$f":"入力画面!H221&\"\"","v":""},"サービス提供期限",null,"利用可能曜日",null,"利用時間帯",null,"制度登録状況",null,null,null,null,null,null,null,null,null,null,null,null,null,{"$f":"入力画面!Q221&\"\"","v":""},{"$f":"入力画面!R221&\"\"","v":""}]
[null,null,"店舗・訪問系","さいたま市浦和区","民間",{"$f":"入力画面!K235&\"\"","v":""},{"$f":"入力画面!M235&\"\"","v":""},{"$f":"入力画面!N235&\"\"","v":""},{"$f":"入力画面!O235&\"\"","v":""},{"$f":"入力画面!P235&\"\"","v":""},null,{"$f":"入力画面!AY235","v":""},{"$f":"入力画面!DI235&\"\"","v":""},{"$f":"入力画面!DM235&\"\"","v":""},{"$f":"入力画面!DH235","v":""},null,null,{"$f":"入力画面!DJ235&\"\"","v":""},{"$f":"入力画面!DL235&\"\"","v":""},{"$f":"入力画面!DK235&\"\"","v":""},{"$f":"入力画面!DN235&\"\"","v":""},null,null,"特記事項 サービス情報入手ルート（情報提供者、連絡先等）",null,"会社　FAX番号",{"$f":"入力画面!G235&\"\"","v":""},"会社　ホームページ",{"$f":"入力画面!I235&\"\"","v":""},null,null,null,null,null,null,null,null,null,null,null,null,null,null,"サービス内容詳細",{"$f":"入力画面!DO235&\"\"","v":""},"サービス提供期間",null,"利用時間",null,"備考",{"$f":"入力画面!DP235&\"\"","v":""},"会社名/屋号/氏名",{"$f":"入力画面!B235&\"\"","v":""},"会社　郵便番号",{"$f":"入力画面!D235&\"\"","v":""},"会社　住所",{"$f":"入力画面!E235&\"\"","v":""},"会社　担当部署・担当者名",{"$f":"入力画面!J235&\"\"","v":""},"会社　電話番号",{"$f":"入力画面!F235&\"\"","v":""},"会社　メールアドレス",{"$f":"入力画面!H235&\"\"","v":""},"サービス提供期限",null,"利用可能曜日",null,"利用時間帯",null,"制度登録状況",null,null,null,null,null,null,null,null,null,null,null,null,null,{"$f":"入力画面!Q235&\"\"","v":""},{"$f":"入力画面!R235&\"\"","v":""}]
[null,null,"店舗・訪問系","さいたま市浦和区","民間",{"$f":"入力画面!K249&\"\"","v":""},{"$f":"入力画面!M249&\"\"","v":""},{"$f":"入力画面!N249&\"\"","v":""},{"$f":"入力画面!O249&\"\"","v":""},{"$f":"入力画面!P249&\"\"","v":""},null,{"$f":"入力画面!AY249","v":""},{"$f":"入力画面!DI249&\"\"","v":""},{"$f":"入力画面!DM249&\"\"","v":""},{"$f":"入力画面!DH249","v":""},null,null,{"$f":"入力画面!DJ249&\"\"","v":""},{"$f":"入力画面!DL249&\"\"","v":""},{"$f":"入力画面!DK249&\"\"","v":""},{"$f":"入力画面!DN249&\"\"","v":""},null,null,"特記事項 サービス情報入手ルート（情報提供者、連絡先等）",null,"会社　FAX番号",{"$f":"入力画面!G249&\"\"","v":""},"会社　ホームページ",{"$f":"入力画面!I249&\"\"","v":""},null,null,null,null,null,null,null,null,null,null,null,null,null,null,"サービス内容詳細",{"$f":"入力画面!DO249&\"\"","v":""},"サービス提供期間",null,"利用時間",null,"備考",{"$f":"入力画面!DP249&\"\"","v":""},"会社名/屋号/氏名",{"$f":"入力画面!B249&\"\"","v":""},"会社　郵便番号",{"$f":"入力画面!D249&\"\"","v":""},"会社　住所",{"$f":"入力画面!E249&\"\"","v":""},"会社　担当部署・担当者名",{"$f":"入力画面!J249&\"\"","v":""},"会社　電話番号",{"$f":"入力画面!F249&\"\"","v":""},"会社　メールアドレス",{"$f":"入力画面!H249&\"\"","v":""},"サービス提供期限",null,"利用可能曜日",null,"利用時間帯",null,"制度登録状況",null,null,null,null,null,null,null,null,null,null,null,null,null,{"$f":"入力画面!Q249&\"\"","v":""},{"$f":"入力画面!R249&\"\"","v":""}]
[null,null,"店舗・訪問系","さいたま市浦和区","民間",{"$f":"入力画面!K263&\"\"","v":""},{"$f":"入力画面!M263&\"\"","v":""},{"$f":"入力画面!N263&\"\"","v":""},{"$f":"入力画面!O263&\"\"","v":""},{"$f":"入力画面!P263&\"\"","v":""},null,{"$f":"入力画面!AY263","v":""},{"$f":"入力画面!DI263&\"\"","v":""},{"$f":"入力画面!DM263&\"\"","v":""},{"$f":"入力画面!DH263","v":""},null,null,{"$f":"入力画面!DJ263&\"\"","v":""},{"$f":"入力画面!DL263&\"\"","v":""},{"$f":"入力画面!DK263&\"\"","v":""},{"$f":"入力画面!DN263&\"\"","v":""},null,null,"特記事項 サービス情報入手ルート（情報提供者、連絡先等）",null,"会社　FAX番号",{"$f":"入力画面!G263&\"\"","v":""},"会社　ホームページ",{"$f":"入力画面!I263&\"\"","v":""},null,null,null,null,null,null,null,null,null,null,null,null,null,null,"サービス内容詳細",{"$f":"入力画面!DO263&\"\"","v":""},"サービス提供期間",null,"利用時間",null,"備考",{"$f":"入力画面!DP263&\"\"","v":""},"会社名/屋号/氏名",{"$f":"入力画面!B263&\"\"","v":""},"会社　郵便番号",{"$f":"入力画面!D263&\"\"","v":""},"会社　住所",{"$f":"入力画面!E263&\"\"","v":""},"会社　担当部署・担当者名",{"$f":"入力画面!J263&\"\"","v":""},"会社　電話番号",{"$f":"入力画面!F263&\"\"","v":""},"会社　メールアドレス",{"$f":"入力画面!H263&\"\"","v":""},"サービス提供期限",null,"利用可能曜日",null,"利用時間帯",null,"制度登録状況",null,null,null,null,null,null,null,null,null,null,null,null,null,{"$f":"入力画面!Q263&\"\"","v":""},{"$f":"入力画面!R263&\"\"","v":""}]
[null,null,"店舗・訪問系","さいたま市浦和区","民間",{"$f":"入力画面!K277&\"\"","v":""},{"$f":"入力画面!M277&\"\"","v":""},{"$f":"入力画面!N277&\"\"","v":""},{"$f":"入力画面!O277&\"\"","v":""},{"$f":"入力画面!P277&\"\"","v":""},null,{"$f":"入力画面!AY277","v":""},{"$f":"入力画面!DI277&\"\"","v":""},{"$f":"入力画面!DM277&\"\"","v":""},{"$f":"入力画面!DH277","v":""},null,null,{"$f":"入力画面!DJ277&\"\"","v":""},{"$f":"入力画面!DL277&\"\"","v":""},{"$f":"入力画面!DK277&\"\"","v":""},{"$f":"入力画面!DN277&\"\"","v":""},null,null,"特記事項 サービス情報入手ルート（情報提供者、連絡先等）",null,"会社　FAX番号",{"$f":"入力画面!G277&\"\"","v":""},"会社　ホームページ",{"$f":"入力画面!I277&\"\"","v":""},null,null,null,null,null,null,null,null,null,null,null,null,null,null,"サービス内容詳細",{"$f":"入力画面!DO277&\"\"","v":""},"サービス提供期間",null,"利用時間",null,"備考",{"$f":"入力画面!DP277&\"\"","v":""},"会社名/屋号/氏名",{"$f":"入力画面!B277&\"\"","v":""},"会社　郵便番号",{"$f":"入力画面!D277&\"\"","v":""},"会社　住所",{"$f":"入力画面!E277&\"\"","v":""},"会社　担当部署・担当者名",{"$f":"入力画面!J277&\"\"","v":""},"会社　電話番号",{"$f":"入力画面!F277&\"\"","v":""},"会社　メールアドレス",{"$f":"入力画面!H277&\"\"","v":""},"サービス提供期限",null,"利用可能曜日",null,"利用時間帯",null,"制度登録状況",null,null,null,null,null,null,null,null,null,null,null,null,null,{"$f":"入力画面!Q277&\"\"","v":""},{"$f":"入力画面!R277&\"\"","v":""}]
[null,null,"店舗・訪問系","さいたま市浦和区","民間",{"$f":"入力画面!K291&\"\"","v":""},{"$f":"入力画面!M291&\"\"","v":""},{"$f":"入力画面!N291&\"\"","v":""},{"$f":"入力画面!O291&\"\"","v":""},{"$f":"入力画面!P291&\"\"","v":""},null,{"$f":"入力画面!AY291","v":""},{"$f":"入力画面!DI291&\"\"","v":""},{"$f":"入力画面!DM291&\"\"","v":""},{"$f":"入力画面!DH291","v":""},null,null,{"$f":"入力画面!DJ291&\"\"","v":""},{"$f":"入力画面!DL291&\"\"","v":""},{"$f":"入力画面!DK291&\"\"","v":""},{"$f":"入力画面!DN291&\"\"","v":""},null,null,"特記事項 サービス情報入手ルート（情報提供者、連絡先等）",null,"会社　FAX番号",{"$f":"入力画面!G291&\"\"","v":""},"会社　ホームページ",{"$f":"入力画面!I291&\"\"","v":""},null,null,null,null,null,null,null,null,null,null,null,null,null,null,"サービス内容詳細",{"$f":"入力画面!DO291&\"\"","v":""},"サービス提供期間",null,"利用時間",null,"備考",{"$f":"入力画面!DP291&\"\"","v":""},"会社名/屋号/氏名",{"$f":"入力画面!B291&\"\"","v":""},"会社　郵便番号",{"$f":"入力画面!D291&\"\"","v":""},"会社　住所",{"$f":"入力画面!E291&\"\"","v":""},"会社　担当部署・担当者名",{"$f":"入力画面!J291&\"\"","v":""},"会社　電話番号",{"$f":"入力画面!F291&\"\"","v":""},"会社　メールアドレス",{"$f":"入力画面!H291&\"\"","v":""},"サービス提供期限",null,"利用可能曜日",null,"利用時間帯",null,"制度登録状況",null,null,null,null,null,null,null,null,null,null,null,null,null,{"$f":"入力画面!Q291&\"\"","v":""},{"$f":"入力画面!R291&\"\"","v":""}]
[null,null,"店舗・訪問系","さいたま市浦和区","民間",{"$f":"入力画面!K305&\"\"","v":""},{"$f":"入力画面!M305&\"\"","v":""},{"$f":"入力画面!N305&\"\"","v":""},{"$f":"入力画面!O305&\"\"","v":""},{"$f":"入力画面!P305&\"\"","v":""},null,{"$f":"入力画面!AY305","v":""},{"$f":"入力画面!DI305&\"\"","v":""},{"$f":"入力画面!DM305&\"\"","v":""},{"$f":"入力画面!DH305","v":""},null,null,{"$f":"入力画面!DJ305&\"\"","v":""},{"$f":"入力画面!DL305&\"\"","v":""},{"$f":"入力画面!DK305&\"\"","v":""},{"$f":"入力画面!DN305&\"\"","v":""},null,null,"特記事項 サービス情報入手ルート（情報提供者、連絡先等）",null,"会社　FAX番号",{"$f":"入力画面!G305&\"\"","v":""},"会社　ホームページ",{"$f":"入力画面!I305&\"\"","v":""},null,null,null,null,null,null,null,null,null,null,null,null,null,null,"サービス内容詳細",{"$f":"入力画面!DO305&\"\"","v":""},"サービス提供期間",null,"利用時間",null,"備考",{"$f":"入力画面!DP305&\"\"","v":""},"会社名/屋号/氏名",{"$f":"入力画面!B305&\"\"","v":""},"会社　郵便番号",{"$f":"入力画面!D305&\"\"","v":""},"会社　住所",{"$f":"入力画面!E305&\"\"","v":""},"会社　担当部署・担当者名",{"$f":"入力画面!J305&\"\"","v":""},"会社　電話番号",{"$f":"入力画面!F305&\"\"","v":""},"会社　メールアドレス",{"$f":"入力画面!H305&\"\"","v":""},"サービス提供期限",null,"利用可能曜日",null,"利用時間帯",null,"制度登録状況",null,null,null,null,null,null,null,null,null,null,null,null,null,{"$f":"入力画面!Q305&\"\"","v":""},{"$f":"入力画面!R305&\"\"","v":""}]
[null,null,"店舗・訪問系","さいたま市浦和区","民間",{"$f":"入力画面!K319&\"\"","v":""},{"$f":"入力画面!M319&\"\"","v":""},{"$f":"入力画面!N319&\"\"","v":""},{"$f":"入力画面!O319&\"\"","v":""},{"$f":"入力画面!P319&\"\"","v":""},null,{"$f":"入力画面!AY319","v":""},{"$f":"入力画面!DI319&\"\"","v":""},{"$f":"入力画面!DM319&\"\"","v":""},{"$f":"入力画面!DH319","v":""},null,null,{"$f":"入力画面!DJ319&\"\"","v":""},{"$f":"入力画面!DL319&\"\"","v":""},{"$f":"入力画面!DK319&\"\"","v":""},{"$f":"入力画面!DN319&\"\"","v":""},null,null,"特記事項 サービス情報入手ルート（情報提供者、連絡先等）",null,"会社　FAX番号",{"$f":"入力画面!G319&\"\"","v":""},"会社　ホームページ",{"$f":"入力画面!I319&\"\"","v":""},null,null,null,null,null,null,null,null,null,null,null,null,null,null,"サービス内容詳細",{"$f":"入力画面!DO319&\"\"","v":""},"サービス提供期間",null,"利用時間",null,"備考",{"$f":"入力画面!DP319&\"\"","v":""},"会社名/屋号/氏名",{"$f":"入力画面!B319&\"\"","v":""},"会社　郵便番号",{"$f":"入力画面!D319&\"\"","v":""},"会社　住所",{"$f":"入力画面!E319&\"\"","v":""},"会社　担当部署・担当者名",{"$f":"入力画面!J319&\"\"","v":""},"会社　電話番号",{"$f":"入力画面!F319&\"\"","v":""},"会社　メールアドレス",{"$f":"入力画面!H319&\"\"","v":""},"サービス提供期限",null,"利用可能曜日",null,"利用時間帯",null,"制度登録状況",null,null,null,null,null,null,null,null,null,null,null,null,null,{"$f":"入力画面!Q319&\"\"","v":""},{"$f":"入力画面!R319&\"\"","v":""}]
[null,null,"店舗・訪問系","さいたま市浦和区","民間",{"$f":"入力画面!K333&\"\"","v":""},{"$f":"入力画面!M333&\"\"","v":""},{"$f":"入力画面!N333&\"\"","v":""},{"$f":"入力画面!O333&\"\"","v":""},{"$f":"入力画面!P333&\"\"","v":""},null,{"$f":"入力画面!AY333","v":""},{"$f":"入力画面!DI333&\"\"","v":""},{"$f":"入力画面!DM333&\"\"","v":""},{"$f":"入力画面!DH333","v":""},null,null,{"$f":"入力画面!DJ333&\"\"","v":""},{"$f":"入力画面!DL333&\"\"","v":""},{"$f":"入力画面!DK333&\"\"","v":""},{"$f":"入力画面!DN333&\"\"","v":""},null,null,"特記事項 サービス情報入手ルート（情報提供者、連絡先等）",null,"会社　FAX番号",{"$f":"入力画面!G333&\"\"","v":""},"会社　ホームページ",{"$f":"入力画面!I333&\"\"","v":""},null,null,null,null,null,null,null,null,null,null,null,null,null,null,"サービス内容詳細",{"$f":"入力画面!DO333&\"\"","v":""},"サービス提供期間",null,"利用時間",null,"備考",{"$f":"入力画面!DP333&\"\"","v":""},"会社名/屋号/氏名",{"$f":"入力画面!B333&\"\"","v":""},"会社　郵便番号",{"$f":"入力画面!D333&\"\"","v":""},"会社　住所",{"$f":"入力画面!E333&\"\"","v":""},"会社　担当部署・担当者名",{"$f":"入力画面!J333&\"\"","v":""},"会社　電話番号",{"$f":"入力画面!F333&\"\"","v":""},"会社　メールアドレス",{"$f":"入力画面!H333&\"\"","v":""},"サービス提供期限",null,"利用可能曜日",null,"利用時間帯",null,"制度登録状況",null,null,null,null,null,null,null,null,null,null,null,null,null,{"$f":"入力画面!Q333&\"\"","v":""},{"$f":"入力画面!R333&\"\"","v":""}]
[null,null,"店舗・訪問系","さいたま市浦和区","民間",{"$f":"入力画面!K347&\"\"","v":""},{"$f":"入力画面!M347&\"\"","v":""},{"$f":"入力画面!N347&\"\"","v":""},{"$f":"入力画面!O347&\"\"","v":""},{"$f":"入力画面!P347&\"\"","v":""},null,{"$f":"入力画面!AY347","v":""},{"$f":"入力画面!DI347&\"\"","v":""},{"$f":"入力画面!DM347&\"\"","v":""},{"$f":"入力画面!DH347","v":""},null,null,{"$f":"入力画面!DJ347&\"\"","v":""},{"$f":"入力画面!DL347&\"\"","v":""},{"$f":"入力画面!DK347&\"\"","v":""},{"$f":"入力画面!DN347&\"\"","v":""},null,null,"特記事項 サービス情報入手ルート（情報提供者、連絡先等）",null,"会社　FAX番号",{"$f":"入力画面!G347&\"\"","v":""},"会社　ホームページ",{"$f":"入力画面!I347&\"\"","v":""},null,null,null,null,null,null,null,null,null,null,null,null,null,null,"サービス内容詳細",{"$f":"入力画面!DO347&\"\"","v":""},"サービス提供期間",null,"利用時間",null,"備考",{"$f":"入力画面!DP347&\"\"","v":""},"会社名/屋号/氏名",{"$f":"入力画面!B347&\"\"","v":""},"会社　郵便番号",{"$f":"入力画面!D347&\"\"","v":""},"会社　住所",{"$f":"入力画面!E347&\"\"","v":""},"会社　担当部署・担当者名",{"$f":"入力画面!J347&\"\"","v":""},"会社　電話番号",{"$f":"入力画面!F347&\"\"","v":""},"会社　メールアドレス",{"$f":"入力画面!H347&\"\"","v":""},"サービス提供期限",null,"利用可能曜日",null,"利用時間帯",null,"制度登録状況",null,null,null,null,null,null,null,null,null,null,null,null,null,{"$f":"入力画面!Q347&\"\"","v":""},{"$f":"入力画面!R347&\"\"","v":""}]
[null,null,"店舗・訪問系","さいたま市浦和区","民間",{"$f":"入力画面!K361&\"\"","v":""},{"$f":"入力画面!M361&\"\"","v":""},{"$f":"入力画面!N361&\"\"","v":""},{"$f":"入力画面!O361&\"\"","v":""},{"$f":"入力画面!P361&\"\"","v":""},null,{"$f":"入力画面!AY361","v":""},{"$f":"入力画面!DI361&\"\"","v":""},{"$f":"入力画面!DM361&\"\"","v":""},{"$f":"入力画面!DH361","v":""},null,null,{"$f":"入力画面!DJ361&\"\"","v":""},{"$f":"入力画面!DL361&\"\"","v":""},{"$f":"入力画面!DK361&\"\"","v":""},{"$f":"入力画面!DN361&\"\"","v":""},null,null,"特記事項 サービス情報入手ルート（情報提供者、連絡先等）",null,"会社　FAX番号",{"$f":"入力画面!G361&\"\"","v":""},"会社　ホームページ",{"$f":"入力画面!I361&\"\"","v":""},null,null,null,null,null,null,null,null,null,null,null,null,null,null,"サービス内容詳細",{"$f":"入力画面!DO361&\"\"","v":""},"サービス提供期間",null,"利用時間",null,"備考",{"$f":"入力画面!DP361&\"\"","v":""},"会社名/屋号/氏名",{"$f":"入力画面!B361&\"\"","v":""},"会社　郵便番号",{"$f":"入力画面!D361&\"\"","v":""},"会社　住所",{"$f":"入力画面!E361&\"\"","v":""},"会社　担当部署・担当者名",{"$f":"入力画面!J361&\"\"","v":""},"会社　電話番号",{"$f":"入力画面!F361&\"\"","v":""},"会社　メールアドレス",{"$f":"入力画面!H361&\"\"","v":""},"サービス提供期限",null,"利用可能曜日",null,"利用時間帯",null,"制度登録状況",null,null,null,null,null,null,null,null,null,null,null,null,null,{"$f":"入力画面!Q361&\"\"","v":""},{"$f":"入力画面!R361&\"\"","v":""}]
[null,null,"店舗・訪問系","さいたま市浦和区","民間",{"$f":"入力画面!K375&\"\"","v":""},{"$f":"入力画面!M375&\"\"","v":""},{"$f":"入力画面!N375&\"\"","v":""},{"$f":"入力画面!O375&\"\"","v":""},{"$f":"入力画面!P375&\"\"","v":""},null,{"$f":"入力画面!AY375","v":""},{"$f":"入力画面!DI375&\"\"","v":""},{"$f":"入力画面!DM375&\"\"","v":""},{"$f":"入力画面!DH375","v":""},null,null,{"$f":"入力画面!DJ375&\"\"","v":""},{"$f":"入力画面!DL375&\"\"","v":""},{"$f":"入力画面!DK375&\"\"","v":""},{"$f":"入力画面!DN375&\"\"","v":""},null,null,"特記事項 サービス情報入手ルート（情報提供者、連絡先等）",null,"会社　FAX番号",{"$f":"入力画面!G375&\"\"","v":""},"会社　ホームページ",{"$f":"入力画面!I375&\"\"","v":""},null,null,null,null,null,null,null,null,null,null,null,null,null,null,"サービス内容詳細",{"$f":"入力画面!DO375&\"\"","v":""},"サービス提供期間",null,"利用時間",null,"備考",{"$f":"入力画面!DP375&\"\"","v":""},"会社名/屋号/氏名",{"$f":"入力画面!B375&\"\"","v":""},"会社　郵便番号",{"$f":"入力画面!D375&\"\"","v":""},"会社　住所",{"$f":"入力画面!E375&\"\"","v":""},"会社　担当部署・担当者名",{"$f":"入力画面!J375&\"\"","v":""},"会社　電話番号",{"$f":"入力画面!F375&\"\"","v":""},"会社　メールアドレス",{"$f":"入力画面!H375&\"\"","v":""},"サービス提供期限",null,"利用可能曜日",null,"利用時間帯",null,"制度登録状況",null,null,null,null,null,null,null,null,null,null,null,null,null,{"$f":"入力画面!Q375&\"\"","v":""},{"$f":"入力画面!R375&\"\"","v":""}]
[null,null,"店舗・訪問系","さいたま市浦和区","民間",{"$f":"入力画面!K389&\"\"","v":""},{"$f":"入力画面!M389&\"\"","v":""},{"$f":"入力画面!N389&\"\"","v":""},{"$f":"入力画面!O389&\"\"","v":""},{"$f":"入力画面!P389&\"\"","v":""},null,{"$f":"入力画面!AY389","v":""},{"$f":"入力画面!DI389&\"\"","v":""},{"$f":"入力画面!DM389&\"\"","v":""},{"$f":"入力画面!DH389","v":""},null,null,{"$f":"入力画面!DJ389&\"\"","v":""},{"$f":"入力画面!DL389&\"\"","v":""},{"$f":"入力画面!DK389&\"\"","v":""},{"$f":"入力画面!DN389&\"\"","v":""},null,null,"特記事項 サービス情報入手ルート（情報提供者、連絡先等）",null,"会社　FAX番号",{"$f":"入力画面!G389&\"\"","v":""},"会社　ホームページ",{"$f":"入力画面!I389&\"\"","v":""},null,null,null,null,null,null,null,null,null,null,null,null,null,null,"サービス内容詳細",{"$f":"入力画面!DO389&\"\"","v":""},"サービス提供期間",null,"利用時間",null,"備考",{"$f":"入力画面!DP389&\"\"","v":""},"会社名/屋号/氏名",{"$f":"入力画面!B389&\"\"","v":""},"会社　郵便番号",{"$f":"入力画面!D389&\"\"","v":""},"会社　住所",{"$f":"入力画面!E389&\"\"","v":""},"会社　担当部署・担当者名",{"$f":"入力画面!J389&\"\"","v":""},"会社　電話番号",{"$f":"入力画面!F389&\"\"","v":""},"会社　メールアドレス",{"$f":"入力画面!H389&\"\"","v":""},"サービス提供期限",null,"利用可能曜日",null,"利用時間帯",null,"制度登録状況",null,null,null,null,null,null,null,null,null,null,null,null,null,{"$f":"入力画面!Q389&\"\"","v":""},{"$f":"入力画面!R389&\"\"","v":""}]
[null,null,"店舗・訪問系","さいたま市浦和区","民間",{"$f":"入力画面!K403&\"\"","v":""},{"$f":"入力画面!M403&\"\"","v":""},{"$f":"入力画面!N403&\"\"","v":""},{"$f":"入力画面!O403&\"\"","v":""},{"$f":"入力画面!P403&\"\"","v":""},null,{"$f":"入力画面!AY403","v":""},{"$f":"入力画面!DI403&\"\"","v":""},{"$f":"入力画面!DM403&\"\"","v":""},{"$f":"入力画面!DH403","v":""},null,null,{"$f":"入力画面!DJ403&\"\"","v":""},{"$f":"入力画面!DL403&\"\"","v":""},{"$f":"入力画面!DK403&\"\"","v":""},{"$f":"入力画面!DN403&\"\"","v":""},null,null,"特記事項 サービス情報入手ルート（情報提供者、連絡先等）",null,"会社　FAX番号",{"$f":"入力画面!G403&\"\"","v":""},"会社　ホームページ",{"$f":"入力画面!I403&\"\"","v":""},null,null,null,null,null,null,null,null,null,null,null,null,null,null,"サービス内容詳細",{"$f":"入力画面!DO403&\"\"","v":""},"サービス提供期間",null,"利用時間",null,"備考",{"$f":"入力画面!DP403&\"\"","v":""},"会社名/屋号/氏名",{"$f":"入力画面!B403&\"\"","v":""},"会社　郵便番号",{"$f":"入力画面!D403&\"\"","v":""},"会社　住所",{"$f":"入力画面!E403&\"\"","v":""},"会社　担当部署・担当者名",{"$f":"入力画面!J403&\"\"","v":""},"会社　電話番号",{"$f":"入力画面!F403&\"\"","v":""},"会社　メールアドレス",{"$f":"入力画面!H403&\"\"","v":""},"サービス提供期限",null,"利用可能曜日",null,"利用時間帯",null,"制度登録状況",null,null,null,null,null,null,null,null,null,null,null,null,null,{"$f":"入力画面!Q403&\"\"","v":""},{"$f":"入力画面!R403&\"\"","v":""}]
[null,null,"店舗・訪問系","さいたま市浦和区","民間",{"$f":"入力画面!K417&\"\"","v":""},{"$f":"入力画面!M417&\"\"","v":""},{"$f":"入力画面!N417&\"\"","v":""},{"$f":"入力画面!O417&\"\"","v":""},{"$f":"入力画面!P417&\"\"","v":""},null,{"$f":"入力画面!AY417","v":""},{"$f":"入力画面!DI417&\"\"","v":""},{"$f":"入力画面!DM417&\"\"","v":""},{"$f":"入力画面!DH417","v":""},null,null,{"$f":"入力画面!DJ417&\"\"","v":""},{"$f":"入力画面!DL417&\"\"","v":""},{"$f":"入力画面!DK417&\"\"","v":""},{"$f":"入力画面!DN417&\"\"","v":""},null,null,"特記事項 サービス情報入手ルート（情報提供者、連絡先等）",null,"会社　FAX番号",{"$f":"入力画面!G417&\"\"","v":""},"会社　ホームページ",{"$f":"入力画面!I417&\"\"","v":""},null,null,null,null,null,null,null,null,null,null,null,null,null,null,"サービス内容詳細",{"$f":"入力画面!DO417&\"\"","v":""},"サービス提供期間",null,"利用時間",null,"備考",{"$f":"入力画面!DP417&\"\"","v":""},"会社名/屋号/氏名",{"$f":"入力画面!B417&\"\"","v":""},"会社　郵便番号",{"$f":"入力画面!D417&\"\"","v":""},"会社　住所",{"$f":"入力画面!E417&\"\"","v":""},"会社　担当部署・担当者名",{"$f":"入力画面!J417&\"\"","v":""},"会社　電話番号",{"$f":"入力画面!F417&\"\"","v":""},"会社　メールアドレス",{"$f":"入力画面!H417&\"\"","v":""},"サービス提供期限",null,"利用可能曜日",null,"利用時間帯",null,"制度登録状況",null,null,null,null,null,null,null,null,null,null,null,null,null,{"$f":"入力画面!Q417&\"\"","v":""},{"$f":"入力画面!R417&\"\"","v":""}]
[null,null,"店舗・訪問系","さいたま市浦和区","民間",{"$f":"入力画面!K431&\"\"","v":""},{"$f":"入力画面!M431&\"\"","v":""},{"$f":"入力画面!N431&\"\"","v":""},{"$f":"入力画面!O431&\"\"","v":""},{"$f":"入力画面!P431&\"\"","v":""},null,{"$f":"入力画面!AY431","v":""},{"$f":"入力画面!DI431&\"\"","v":""},{"$f":"入力画面!DM431&\"\"","v":""},{"$f":"入力画面!DH431","v":""},null,null,{"$f":"入力画面!DJ431&\"\"","v":""},{"$f":"入力画面!DL431&\"\"","v":""},{"$f":"入力画面!DK431&\"\"","v":""},{"$f":"入力画面!DN431&\"\"","v":""},null,null,"特記事項 サービス情報入手ルート（情報提供者、連絡先等）",null,"会社　FAX番号",{"$f":"入力画面!G431&\"\"","v":""},"会社　ホームページ",{"$f":"入力画面!I431&\"\"","v":""},null,null,null,null,null,null,null,null,null,null,null,null,null,null,"サービス内容詳細",{"$f":"入力画面!DO431&\"\"","v":""},"サービス提供期間",null,"利用時間",null,"備考",{"$f":"入力画面!DP431&\"\"","v":""},"会社名/屋号/氏名",{"$f":"入力画面!B431&\"\"","v":""},"会社　郵便番号",{"$f":"入力画面!D431&\"\"","v":""},"会社　住所",{"$f":"入力画面!E431&\"\"","v":""},"会社　担当部署・担当者名",{"$f":"入力画面!J431&\"\"","v":""},"会社　電話番号",{"$f":"入力画面!F431&\"\"","v":""},"会社　メールアドレス",{"$f":"入力画面!H431&\"\"","v":""},"サービス提供期限",null,"利用可能曜日",null,"利用時間帯",null,"制度登録状況",null,null,null,null,null,null,null,null,null,null,null,null,null,{"$f":"入力画面!Q431&\"\"","v":""},{"$f":"入力画面!R431&\"\"","v":""}]
[null,null,"店舗・訪問系","さいたま市浦和区","民間",{"$f":"入力画面!K445&\"\"","v":""},{"$f":"入力画面!M445&\"\"","v":""},{"$f":"入力画面!N445&\"\"","v":""},{"$f":"入力画面!O445&\"\"","v":""},{"$f":"入力画面!P445&\"\"","v":""},null,{"$f":"入力画面!AY445","v":""},{"$f":"入力画面!DI445&\"\"","v":""},{"$f":"入力画面!DM445&\"\"","v":""},{"$f":"入力画面!DH445","v":""},null,null,{"$f":"入力画面!DJ445&\"\"","v":""},{"$f":"入力画面!DL445&\"\"","v":""},{"$f":"入力画面!DK445&\"\"","v":""},{"$f":"入力画面!DN445&\"\"","v":""},null,null,"特記事項 サービス情報入手ルート（情報提供者、連絡先等）",null,"会社　FAX番号",{"$f":"入力画面!G445&\"\"","v":""},"会社　ホームページ",{"$f":"入力画面!I445&\"\"","v":""},null,null,null,null,null,null,null,null,null,null,null,null,null,null,"サービス内容詳細",{"$f":"入力画面!DO445&\"\"","v":""},"サービス提供期間",null,"利用時間",null,"備考",{"$f":"入力画面!DP445&\"\"","v":""},"会社名/屋号/氏名",{"$f":"入力画面!B445&\"\"","v":""},"会社　郵便番号",{"$f":"入力画面!D445&\"\"","v":""},"会社　住所",{"$f":"入力画面!E445&\"\"","v":""},"会社　担当部署・担当者名",{"$f":"入力画面!J445&\"\"","v":""},"会社　電話番号",{"$f":"入力画面!F445&\"\"","v":""},"会社　メールアドレス",{"$f":"入力画面!H445&\"\"","v":""},"サービス提供期限",null,"利用可能曜日",null,"利用時間帯",null,"制度登録状況",null,null,null,null,null,null,null,null,null,null,null,null,null,{"$f":"入力画面!Q445&\"\"","v":""},{"$f":"入力画面!R445&\"\"","v":""}]
[null,null,"店舗・訪問系","さいたま市浦和区","民間",{"$f":"入力画面!K459&\"\"","v":""},{"$f":"入力画面!M459&\"\"","v":""},{"$f":"入力画面!N459&\"\"","v":""},{"$f":"入力画面!O459&\"\"","v":""},{"$f":"入力画面!P459&\"\"","v":""},null,{"$f":"入力画面!AY459","v":""},{"$f":"入力画面!DI459&\"\"","v":""},{"$f":"入力画面!DM459&\"\"","v":""},{"$f":"入力画面!DH459","v":""},null,null,{"$f":"入力画面!DJ459&\"\"","v":""},{"$f":"入力画面!DL459&\"\"","v":""},{"$f":"入力画面!DK459&\"\"","v":""},{"$f":"入力画面!DN459&\"\"","v":""},null,null,"特記事項 サービス情報入手ルート（情報提供者、連絡先等）",null,"会社　FAX番号",{"$f":"入力画面!G459&\"\"","v":""},"会社　ホームページ",{"$f":"入力画面!I459&\"\"","v":""},null,null,null,null,null,null,null,null,null,null,null,null,null,null,"サービス内容詳細",{"$f":"入力画面!DO459&\"\"","v":""},"サービス提供期間",null,"利用時間",null,"備考",{"$f":"入力画面!DP459&\"\"","v":""},"会社名/屋号/氏名",{"$f":"入力画面!B459&\"\"","v":""},"会社　郵便番号",{"$f":"入力画面!D459&\"\"","v":""},"会社　住所",{"$f":"入力画面!E459&\"\"","v":""},"会社　担当部署・担当者名",{"$f":"入力画面!J459&\"\"","v":""},"会社　電話番号",{"$f":"入力画面!F459&\"\"","v":""},"会社　メールアドレス",{"$f":"入力画面!H459&\"\"","v":""},"サービス提供期限",null,"利用可能曜日",null,"利用時間帯",null,"制度登録状況",null,null,null,null,null,null,null,null,null,null,null,null,null,{"$f":"入力画面!Q459&\"\"","v":""},{"$f":"入力画面!R459&\"\"","v":""}]
[null,null,"店舗・訪問系","さいたま市浦和区","民間",{"$f":"入力画面!K473&\"\"","v":""},{"$f":"入力画面!M473&\"\"","v":""},{"$f":"入力画面!N473&\"\"","v":""},{"$f":"入力画面!O473&\"\"","v":""},{"$f":"入力画面!P473&\"\"","v":""},null,{"$f":"入力画面!AY473","v":""},{"$f":"入力画面!DI473&\"\"","v":""},{"$f":"入力画面!DM473&\"\"","v":""},{"$f":"入力画面!DH473","v":""},null,null,{"$f":"入力画面!DJ473&\"\"","v":""},{"$f":"入力画面!DL473&\"\"","v":""},{"$f":"入力画面!DK473&\"\"","v":""},{"$f":"入力画面!DN473&\"\"","v":""},null,null,"特記事項 サービス情報入手ルート（情報提供者、連絡先等）",null,"会社　FAX番号",{"$f":"入力画面!G473&\"\"","v":""},"会社　ホームページ",{"$f":"入力画面!I473&\"\"","v":""},null,null,null,null,null,null,null,null,null,null,null,null,null,null,"サービス内容詳細",{"$f":"入力画面!DO473&\"\"","v":""},"サービス提供期間",null,"利用時間",null,"備考",{"$f":"入力画面!DP473&\"\"","v":""},"会社名/屋号/氏名",{"$f":"入力画面!B473&\"\"","v":""},"会社　郵便番号",{"$f":"入力画面!D473&\"\"","v":""},"会社　住所",{"$f":"入力画面!E473&\"\"","v":""},"会社　担当部署・担当者名",{"$f":"入力画面!J473&\"\"","v":""},"会社　電話番号",{"$f":"入力画面!F473&\"\"","v":""},"会社　メールアドレス",{"$f":"入力画面!H473&\"\"","v":""},"サービス提供期限",null,"利用可能曜日",null,"利用時間帯",null,"制度登録状況",null,null,null,null,null,null,null,null,null,null,null,null,null,{"$f":"入力画面!Q473&\"\"","v":""},{"$f":"入力画面!R473&\"\"","v":""}]
[null,null,"店舗・訪問系","さいたま市浦和区","民間",{"$f":"入力画面!K487&\"\"","v":""},{"$f":"入力画面!M487&\"\"","v":""},{"$f":"入力画面!N487&\"\"","v":""},{"$f":"入力画面!O487&\"\"","v":""},{"$f":"入力画面!P487&\"\"","v":""},null,{"$f":"入力画面!AY487","v":""},{"$f":"入力画面!DI487&\"\"","v":""},{"$f":"入力画面!DM487&\"\"","v":""},{"$f":"入力画面!DH487","v":""},null,null,{"$f":"入力画面!DJ487&\"\"","v":""},{"$f":"入力画面!DL487&\"\"","v":""},{"$f":"入力画面!DK487&\"\"","v":""},{"$f":"入力画面!DN487&\"\"","v":""},null,null,"特記事項 サービス情報入手ルート（情報提供者、連絡先等）",null,"会社　FAX番号",{"$f":"入力画面!G487&\"\"","v":""},"会社　ホームページ",{"$f":"入力画面!I487&\"\"","v":""},null,null,null,null,null,null,null,null,null,null,null,null,null,null,"サービス内容詳細",{"$f":"入力画面!DO487&\"\"","v":""},"サービス提供期間",null,"利用時間",null,"備考",{"$f":"入力画面!DP487&\"\"","v":""},"会社名/屋号/氏名",{"$f":"入力画面!B487&\"\"","v":""},"会社　郵便番号",{"$f":"入力画面!D487&\"\"","v":""},"会社　住所",{"$f":"入力画面!E487&\"\"","v":""},"会社　担当部署・担当者名",{"$f":"入力画面!J487&\"\"","v":""},"会社　電話番号",{"$f":"入力画面!F487&\"\"","v":""},"会社　メールアドレス",{"$f":"入力画面!H487&\"\"","v":""},"サービス提供期限",null,"利用可能曜日",null,"利用時間帯",null,"制度登録状況",null,null,null,null,null,null,null,null,null,null,null,null,null,{"$f":"入力画面!Q487&\"\"","v":""},{"$f":"入力画面!R487&\"\"","v":""}]
[null,null,"店舗・訪問系","さいたま市浦和区","民間",{"$f":"入力画面!K501&\"\"","v":""},{"$f":"入力画面!M501&\"\"","v":""},{"$f":"入力画面!N501&\"\"","v":""},{"$f":"入力画面!O501&\"\"","v":""},{"$f":"入力画面!P501&\"\"","v":""},null,{"$f":"入力画面!AY501","v":""},{"$f":"入力画面!DI501&\"\"","v":""},{"$f":"入力画面!DM501&\"\"","v":""},{"$f":"入力画面!DH501","v":""},null,null,{"$f":"入力画面!DJ501&\"\"","v":""},{"$f":"入力画面!DL501&\"\"","v":""},{"$f":"入力画面!DK501&\"\"","v":""},{"$f":"入力画面!DN501&\"\"","v":""},null,null,"特記事項 サービス情報入手ルート（情報提供者、連絡先等）",null,"会社　FAX番号",{"$f":"入力画面!G501&\"\"","v":""},"会社　ホームページ",{"$f":"入力画面!I501&\"\"","v":""},null,null,null,null,null,null,null,null,null,null,null,null,null,null,"サービス内容詳細",{"$f":"入力画面!DO501&\"\"","v":""},"サービス提供期間",null,"利用時間",null,"備考",{"$f":"入力画面!DP501&\"\"","v":""},"会社名/屋号/氏名",{"$f":"入力画面!B501&\"\"","v":""},"会社　郵便番号",{"$f":"入力画面!D501&\"\"","v":""},"会社　住所",{"$f":"入力画面!E501&\"\"","v":""},"会社　担当部署・担当者名",{"$f":"入力画面!J501&\"\"","v":""},"会社　電話番号",{"$f":"入力画面!F501&\"\"","v":""},"会社　メールアドレス",{"$f":"入力画面!H501&\"\"","v":""},"サービス提供期限",null,"利用可能曜日",null,"利用時間帯",null,"制度登録状況",null,null,null,null,null,null,null,null,null,null,null,null,null,{"$f":"入力画面!Q501&\"\"","v":""},{"$f":"入力画面!R501&\"\"","v":""}]
[null,null,"店舗・訪問系","さいたま市浦和区","民間",{"$f":"入力画面!K515&\"\"","v":""},{"$f":"入力画面!M515&\"\"","v":""},{"$f":"入力画面!N515&\"\"","v":""},{"$f":"入力画面!O515&\"\"","v":""},{"$f":"入力画面!P515&\"\"","v":""},null,{"$f":"入力画面!AY515","v":""},{"$f":"入力画面!DI515&\"\"","v":""},{"$f":"入力画面!DM515&\"\"","v":""},{"$f":"入力画面!DH515","v":""},null,null,{"$f":"入力画面!DJ515&\"\"","v":""},{"$f":"入力画面!DL515&\"\"","v":""},{"$f":"入力画面!DK515&\"\"","v":""},{"$f":"入力画面!DN515&\"\"","v":""},null,null,"特記事項 サービス情報入手ルート（情報提供者、連絡先等）",null,"会社　FAX番号",{"$f":"入力画面!G515&\"\"","v":""},"会社　ホームページ",{"$f":"入力画面!I515&\"\"","v":""},null,null,null,null,null,null,null,null,null,null,null,null,null,null,"サービス内容詳細",{"$f":"入力画面!DO515&\"\"","v":""},"サービス提供期間",null,"利用時間",null,"備考",{"$f":"入力画面!DP515&\"\"","v":""},"会社名/屋号/氏名",{"$f":"入力画面!B515&\"\"","v":""},"会社　郵便番号",{"$f":"入力画面!D515&\"\"","v":""},"会社　住所",{"$f":"入力画面!E515&\"\"","v":""},"会社　担当部署・担当者名",{"$f":"入力画面!J515&\"\"","v":""},"会社　電話番号",{"$f":"入力画面!F515&\"\"","v":""},"会社　メールアドレス",{"$f":"入力画面!H515&\"\"","v":""},"サービス提供期限",null,"利用可能曜日",null,"利用時間帯",null,"制度登録状況",null,null,null,null,null,null,null,null,null,null,null,null,null,{"$f":"入力画面!Q515&\"\"","v":""},{"$f":"入力画面!R515&\"\"","v":""}]
[null,null,"店舗・訪問系","さいたま市浦和区","民間",{"$f":"入力画面!K529&\"\"","v":""},{"$f":"入力画面!M529&\"\"","v":""},{"$f":"入力画面!N529&\"\"","v":""},{"$f":"入力画面!O529&\"\"","v":""},{"$f":"入力画面!P529&\"\"","v":""},null,{"$f":"入力画面!AY529","v":""},{"$f":"入力画面!DI529&\"\"","v":""},{"$f":"入力画面!DM529&\"\"","v":""},{"$f":"入力画面!DH529","v":""},null,null,{"$f":"入力画面!DJ529&\"\"","v":""},{"$f":"入力画面!DL529&\"\"","v":""},{"$f":"入力画面!DK529&\"\"","v":""},{"$f":"入力画面!DN529&\"\"","v":""},null,null,"特記事項 サービス情報入手ルート（情報提供者、連絡先等）",null,"会社　FAX番号",{"$f":"入力画面!G529&\"\"","v":""},"会社　ホームページ",{"$f":"入力画面!I529&\"\"","v":""},null,null,null,null,null,null,null,null,null,null,null,null,null,null,"サービス内容詳細",{"$f":"入力画面!DO529&\"\"","v":""},"サービス提供期間",null,"利用時間",null,"備考",{"$f":"入力画面!DP529&\"\"","v":""},"会社名/屋号/氏名",{"$f":"入力画面!B529&\"\"","v":""},"会社　郵便番号",{"$f":"入力画面!D529&\"\"","v":""},"会社　住所",{"$f":"入力画面!E529&\"\"","v":""},"会社　担当部署・担当者名",{"$f":"入力画面!J529&\"\"","v":""},"会社　電話番号",{"$f":"入力画面!F529&\"\"","v":""},"会社　メールアドレス",{"$f":"入力画面!H529&\"\"","v":""},"サービス提供期限",null,"利用可能曜日",null,"利用時間帯",null,"制度登録状況",null,null,null,null,null,null,null,null,null,null,null,null,null,{"$f":"入力画面!Q529&\"\"","v":""},{"$f":"入力画面!R529&\"\"","v":""}]
[null,null,"店舗・訪問系","さいたま市浦和区","民間",{"$f":"入力画面!K543&\"\"","v":""},{"$f":"入力画面!M543&\"\"","v":""},{"$f":"入力画面!N543&\"\"","v":""},{"$f":"入力画面!O543&\"\"","v":""},{"$f":"入力画面!P543&\"\"","v":""},null,{"$f":"入力画面!AY543","v":""},{"$f":"入力画面!DI543&\"\"","v":""},{"$f":"入力画面!DM543&\"\"","v":""},{"$f":"入力画面!DH543","v":""},null,null,{"$f":"入力画面!DJ543&\"\"","v":""},{"$f":"入力画面!DL543&\"\"","v":""},{"$f":"入力画面!DK543&\"\"","v":""},{"$f":"入力画面!DN543&\"\"","v":""},null,null,"特記事項 サービス情報入手ルート（情報提供者、連絡先等）",null,"会社　FAX番号",{"$f":"入力画面!G543&\"\"","v":""},"会社　ホームページ",{"$f":"入力画面!I543&\"\"","v":""},null,null,null,null,null,null,null,null,null,null,null,null,null,null,"サービス内容詳細",{"$f":"入力画面!DO543&\"\"","v":""},"サービス提供期間",null,"利用時間",null,"備考",{"$f":"入力画面!DP543&\"\"","v":""},"会社名/屋号/氏名",{"$f":"入力画面!B543&\"\"","v":""},"会社　郵便番号",{"$f":"入力画面!D543&\"\"","v":""},"会社　住所",{"$f":"入力画面!E543&\"\"","v":""},"会社　担当部署・担当者名",{"$f":"入力画面!J543&\"\"","v":""},"会社　電話番号",{"$f":"入力画面!F543&\"\"","v":""},"会社　メールアドレス",{"$f":"入力画面!H543&\"\"","v":""},"サービス提供期限",null,"利用可能曜日",null,"利用時間帯",null,"制度登録状況",null,null,null,null,null,null,null,null,null,null,null,null,null,{"$f":"入力画面!Q543&\"\"","v":""},{"$f":"入力画面!R543&\"\"","v":""}]
[null,null,"店舗・訪問系","さいたま市浦和区","民間",{"$f":"入力画面!K557&\"\"","v":""},{"$f":"入力画面!M557&\"\"","v":""},{"$f":"入力画面!N557&\"\"","v":""},{"$f":"入力画面!O557&\"\"","v":""},{"$f":"入力画面!P557&\"\"","v":""},null,{"$f":"入力画面!AY557","v":""},{"$f":"入力画面!DI557&\"\"","v":""},{"$f":"入力画面!DM557&\"\"","v":""},{"$f":"入力画面!DH557","v":""},null,null,{"$f":"入力画面!DJ557&\"\"","v":""},{"$f":"入力画面!DL557&\"\"","v":""},{"$f":"入力画面!DK557&\"\"","v":""},{"$f":"入力画面!DN557&\"\"","v":""},null,null,"特記事項 サービス情報入手ルート（情報提供者、連絡先等）",null,"会社　FAX番号",{"$f":"入力画面!G557&\"\"","v":""},"会社　ホームページ",{"$f":"入力画面!I557&\"\"","v":""},null,null,null,null,null,null,null,null,null,null,null,null,null,null,"サービス内容詳細",{"$f":"入力画面!DO557&\"\"","v":""},"サービス提供期間",null,"利用時間",null,"備考",{"$f":"入力画面!DP557&\"\"","v":""},"会社名/屋号/氏名",{"$f":"入力画面!B557&\"\"","v":""},"会社　郵便番号",{"$f":"入力画面!D557&\"\"","v":""},"会社　住所",{"$f":"入力画面!E557&\"\"","v":""},"会社　担当部署・担当者名",{"$f":"入力画面!J557&\"\"","v":""},"会社　電話番号",{"$f":"入力画面!F557&\"\"","v":""},"会社　メールアドレス",{"$f":"入力画面!H557&\"\"","v":""},"サービス提供期限",null,"利用可能曜日",null,"利用時間帯",null,"制度登録状況",null,null,null,null,null,null,null,null,null,null,null,null,null,{"$f":"入力画面!Q557&\"\"","v":""},{"$f":"入力画面!R557&\"\"","v":""}]
[null,null,"店舗・訪問系","さいたま市浦和区","民間",{"$f":"入力画面!K571&\"\"","v":""},{"$f":"入力画面!M571&\"\"","v":""},{"$f":"入力画面!N571&\"\"","v":""},{"$f":"入力画面!O571&\"\"","v":""},{"$f":"入力画面!P571&\"\"","v":""},null,{"$f":"入力画面!AY571","v":""},{"$f":"入力画面!DI571&\"\"","v":""},{"$f":"入力画面!DM571&\"\"","v":""},{"$f":"入力画面!DH571","v":""},null,null,{"$f":"入力画面!DJ571&\"\"","v":""},{"$f":"入力画面!DL571&\"\"","v":""},{"$f":"入力画面!DK571&\"\"","v":""},{"$f":"入力画面!DN571&\"\"","v":""},null,null,"特記事項 サービス情報入手ルート（情報提供者、連絡先等）",null,"会社　FAX番号",{"$f":"入力画面!G571&\"\"","v":""},"会社　ホームページ",{"$f":"入力画面!I571&\"\"","v":""},null,null,null,null,null,null,null,null,null,null,null,null,null,null,"サービス内容詳細",{"$f":"入力画面!DO571&\"\"","v":""},"サービス提供期間",null,"利用時間",null,"備考",{"$f":"入力画面!DP571&\"\"","v":""},"会社名/屋号/氏名",{"$f":"入力画面!B571&\"\"","v":""},"会社　郵便番号",{"$f":"入力画面!D571&\"\"","v":""},"会社　住所",{"$f":"入力画面!E571&\"\"","v":""},"会社　担当部署・担当者名",{"$f":"入力画面!J571&\"\"","v":""},"会社　電話番号",{"$f":"入力画面!F571&\"\"","v":""},"会社　メールアドレス",{"$f":"入力画面!H571&\"\"","v":""},"サービス提供期限",null,"利用可能曜日",null,"利用時間帯",null,"制度登録状況",null,null,null,null,null,null,null,null,null,null,null,null,null,{"$f":"入力画面!Q571&\"\"","v":""},{"$f":"入力画面!R571&\"\"","v":""}]
[null,null,"店舗・訪問系","さいたま市浦和区","民間",{"$f":"入力画面!K585&\"\"","v":""},{"$f":"入力画面!M585&\"\"","v":""},{"$f":"入力画面!N585&\"\"","v":""},{"$f":"入力画面!O585&\"\"","v":""},{"$f":"入力画面!P585&\"\"","v":""},null,{"$f":"入力画面!AY585","v":""},{"$f":"入力画面!DI585&\"\"","v":""},{"$f":"入力画面!DM585&\"\"","v":""},{"$f":"入力画面!DH585","v":""},null,null,{"$f":"入力画面!DJ585&\"\"","v":""},{"$f":"入力画面!DL585&\"\"","v":""},{"$f":"入力画面!DK585&\"\"","v":""},{"$f":"入力画面!DN585&\"\"","v":""},null,null,"特記事項 サービス情報入手ルート（情報提供者、連絡先等）",null,"会社　FAX番号",{"$f":"入力画面!G585&\"\"","v":""},"会社　ホームページ",{"$f":"入力画面!I585&\"\"","v":""},null,null,null,null,null,null,null,null,null,null,null,null,null,null,"サービス内容詳細",{"$f":"入力画面!DO585&\"\"","v":""},"サービス提供期間",null,"利用時間",null,"備考",{"$f":"入力画面!DP585&\"\"","v":""},"会社名/屋号/氏名",{"$f":"入力画面!B585&\"\"","v":""},"会社　郵便番号",{"$f":"入力画面!D585&\"\"","v":""},"会社　住所",{"$f":"入力画面!E585&\"\"","v":""},"会社　担当部署・担当者名",{"$f":"入力画面!J585&\"\"","v":""},"会社　電話番号",{"$f":"入力画面!F585&\"\"","v":""},"会社　メールアドレス",{"$f":"入力画面!H585&\"\"","v":""},"サービス提供期限",null,"利用可能曜日",null,"利用時間帯",null,"制度登録状況",null,null,null,null,null,null,null,null,null,null,null,null,null,{"$f":"入力画面!Q585&\"\"","v":""},{"$f":"入力画面!R585&\"\"","v":""}]
[null,null,"店舗・訪問系","さいたま市浦和区","民間",{"$f":"入力画面!K599&\"\"","v":""},{"$f":"入力画面!M599&\"\"","v":""},{"$f":"入力画面!N599&\"\"","v":""},{"$f":"入力画面!O599&\"\"","v":""},{"$f":"入力画面!P599&\"\"","v":""},null,{"$f":"入力画面!AY599","v":""},{"$f":"入力画面!DI599&\"\"","v":""},{"$f":"入力画面!DM599&\"\"","v":""},{"$f":"入力画面!DH599","v":""},null,null,{"$f":"入力画面!DJ599&\"\"","v":""},{"$f":"入力画面!DL599&\"\"","v":""},{"$f":"入力画面!DK599&\"\"","v":""},{"$f":"入力画面!DN599&\"\"","v":""},null,null,"特記事項 サービス情報入手ルート（情報提供者、連絡先等）",null,"会社　FAX番号",{"$f":"入力画面!G599&\"\"","v":""},"会社　ホームページ",{"$f":"入力画面!I599&\"\"","v":""},null,null,null,null,null,null,null,null,null,null,null,null,null,null,"サービス内容詳細",{"$f":"入力画面!DO599&\"\"","v":""},"サービス提供期間",null,"利用時間",null,"備考",{"$f":"入力画面!DP599&\"\"","v":""},"会社名/屋号/氏名",{"$f":"入力画面!B599&\"\"","v":""},"会社　郵便番号",{"$f":"入力画面!D599&\"\"","v":""},"会社　住所",{"$f":"入力画面!E599&\"\"","v":""},"会社　担当部署・担当者名",{"$f":"入力画面!J599&\"\"","v":""},"会社　電話番号",{"$f":"入力画面!F599&\"\"","v":""},"会社　メールアドレス",{"$f":"入力画面!H599&\"\"","v":""},"サービス提供期限",null,"利用可能曜日",null,"利用時間帯",null,"制度登録状況",null,null,null,null,null,null,null,null,null,null,null,null,null,{"$f":"入力画面!Q599&\"\"","v":""},{"$f":"入力画面!R599&\"\"","v":""}]
[null,null,"店舗・訪問系","さいたま市浦和区","民間",{"$f":"入力画面!K613&\"\"","v":""},{"$f":"入力画面!M613&\"\"","v":""},{"$f":"入力画面!N613&\"\"","v":""},{"$f":"入力画面!O613&\"\"","v":""},{"$f":"入力画面!P613&\"\"","v":""},null,{"$f":"入力画面!AY613","v":""},{"$f":"入力画面!DI613&\"\"","v":""},{"$f":"入力画面!DM613&\"\"","v":""},{"$f":"入力画面!DH613","v":""},null,null,{"$f":"入力画面!DJ613&\"\"","v":""},{"$f":"入力画面!DL613&\"\"","v":""},{"$f":"入力画面!DK613&\"\"","v":""},{"$f":"入力画面!DN613&\"\"","v":""},null,null,"特記事項 サービス情報入手ルート（情報提供者、連絡先等）",null,"会社　FAX番号",{"$f":"入力画面!G613&\"\"","v":""},"会社　ホームページ",{"$f":"入力画面!I613&\"\"","v":""},null,null,null,null,null,null,null,null,null,null,null,null,null,null,"サービス内容詳細",{"$f":"入力画面!DO613&\"\"","v":""},"サービス提供期間",null,"利用時間",null,"備考",{"$f":"入力画面!DP613&\"\"","v":""},"会社名/屋号/氏名",{"$f":"入力画面!B613&\"\"","v":""},"会社　郵便番号",{"$f":"入力画面!D613&\"\"","v":""},"会社　住所",{"$f":"入力画面!E613&\"\"","v":""},"会社　担当部署・担当者名",{"$f":"入力画面!J613&\"\"","v":""},"会社　電話番号",{"$f":"入力画面!F613&\"\"","v":""},"会社　メールアドレス",{"$f":"入力画面!H613&\"\"","v":""},"サービス提供期限",null,"利用可能曜日",null,"利用時間帯",null,"制度登録状況",null,null,null,null,null,null,null,null,null,null,null,null,null,{"$f":"入力画面!Q613&\"\"","v":""},{"$f":"入力画面!R613&\"\"","v":""}]
[null,null,"店舗・訪問系","さいたま市浦和区","民間",{"$f":"入力画面!K627&\"\"","v":""},{"$f":"入力画面!M627&\"\"","v":""},{"$f":"入力画面!N627&\"\"","v":""},{"$f":"入力画面!O627&\"\"","v":""},{"$f":"入力画面!P627&\"\"","v":""},null,{"$f":"入力画面!AY627","v":""},{"$f":"入力画面!DI627&\"\"","v":""},{"$f":"入力画面!DM627&\"\"","v":""},{"$f":"入力画面!DH627","v":""},null,null,{"$f":"入力画面!DJ627&\"\"","v":""},{"$f":"入力画面!DL627&\"\"","v":""},{"$f":"入力画面!DK627&\"\"","v":""},{"$f":"入力画面!DN627&\"\"","v":""},null,null,"特記事項 サービス情報入手ルート（情報提供者、連絡先等）",null,"会社　FAX番号",{"$f":"入力画面!G627&\"\"","v":""},"会社　ホームページ",{"$f":"入力画面!I627&\"\"","v":""},null,null,null,null,null,null,null,null,null,null,null,null,null,null,"サービス内容詳細",{"$f":"入力画面!DO627&\"\"","v":""},"サービス提供期間",null,"利用時間",null,"備考",{"$f":"入力画面!DP627&\"\"","v":""},"会社名/屋号/氏名",{"$f":"入力画面!B627&\"\"","v":""},"会社　郵便番号",{"$f":"入力画面!D627&\"\"","v":""},"会社　住所",{"$f":"入力画面!E627&\"\"","v":""},"会社　担当部署・担当者名",{"$f":"入力画面!J627&\"\"","v":""},"会社　電話番号",{"$f":"入力画面!F627&\"\"","v":""},"会社　メールアドレス",{"$f":"入力画面!H627&\"\"","v":""},"サービス提供期限",null,"利用可能曜日",null,"利用時間帯",null,"制度登録状況",null,null,null,null,null,null,null,null,null,null,null,null,null,{"$f":"入力画面!Q627&\"\"","v":""},{"$f":"入力画面!R627&\"\"","v":""}]
[null,null,"店舗・訪問系","さいたま市浦和区","民間",{"$f":"入力画面!K641&\"\"","v":""},{"$f":"入力画面!M641&\"\"","v":""},{"$f":"入力画面!N641&\"\"","v":""},{"$f":"入力画面!O641&\"\"","v":""},{"$f":"入力画面!P641&\"\"","v":""},null,{"$f":"入力画面!AY641","v":""},{"$f":"入力画面!DI641&\"\"","v":""},{"$f":"入力画面!DM641&\"\"","v":""},{"$f":"入力画面!DH641","v":""},null,null,{"$f":"入力画面!DJ641&\"\"","v":""},{"$f":"入力画面!DL641&\"\"","v":""},{"$f":"入力画面!DK641&\"\"","v":""},{"$f":"入力画面!DN641&\"\"","v":""},null,null,"特記事項 サービス情報入手ルート（情報提供者、連絡先等）",null,"会社　FAX番号",{"$f":"入力画面!G641&\"\"","v":""},"会社　ホームページ",{"$f":"入力画面!I641&\"\"","v":""},null,null,null,null,null,null,null,null,null,null,null,null,null,null,"サービス内容詳細",{"$f":"入力画面!DO641&\"\"","v":""},"サービス提供期間",null,"利用時間",null,"備考",{"$f":"入力画面!DP641&\"\"","v":""},"会社名/屋号/氏名",{"$f":"入力画面!B641&\"\"","v":""},"会社　郵便番号",{"$f":"入力画面!D641&\"\"","v":""},"会社　住所",{"$f":"入力画面!E641&\"\"","v":""},"会社　担当部署・担当者名",{"$f":"入力画面!J641&\"\"","v":""},"会社　電話番号",{"$f":"入力画面!F641&\"\"","v":""},"会社　メールアドレス",{"$f":"入力画面!H641&\"\"","v":""},"サービス提供期限",null,"利用可能曜日",null,"利用時間帯",null,"制度登録状況",null,null,null,null,null,null,null,null,null,null,null,null,null,{"$f":"入力画面!Q641&\"\"","v":""},{"$f":"入力画面!R641&\"\"","v":""}]
[null,null,"店舗・訪問系","さいたま市浦和区","民間",{"$f":"入力画面!K655&\"\"","v":""},{"$f":"入力画面!M655&\"\"","v":""},{"$f":"入力画面!N655&\"\"","v":""},{"$f":"入力画面!O655&\"\"","v":""},{"$f":"入力画面!P655&\"\"","v":""},null,{"$f":"入力画面!AY655","v":""},{"$f":"入力画面!DI655&\"\"","v":""},{"$f":"入力画面!DM655&\"\"","v":""},{"$f":"入力画面!DH655","v":""},null,null,{"$f":"入力画面!DJ655&\"\"","v":""},{"$f":"入力画面!DL655&\"\"","v":""},{"$f":"入力画面!DK655&\"\"","v":""},{"$f":"入力画面!DN655&\"\"","v":""},null,null,"特記事項 サービス情報入手ルート（情報提供者、連絡先等）",null,"会社　FAX番号",{"$f":"入力画面!G655&\"\"","v":""},"会社　ホームページ",{"$f":"入力画面!I655&\"\"","v":""},null,null,null,null,null,null,null,null,null,null,null,null,null,null,"サービス内容詳細",{"$f":"入力画面!DO655&\"\"","v":""},"サービス提供期間",null,"利用時間",null,"備考",{"$f":"入力画面!DP655&\"\"","v":""},"会社名/屋号/氏名",{"$f":"入力画面!B655&\"\"","v":""},"会社　郵便番号",{"$f":"入力画面!D655&\"\"","v":""},"会社　住所",{"$f":"入力画面!E655&\"\"","v":""},"会社　担当部署・担当者名",{"$f":"入力画面!J655&\"\"","v":""},"会社　電話番号",{"$f":"入力画面!F655&\"\"","v":""},"会社　メールアドレス",{"$f":"入力画面!H655&\"\"","v":""},"サービス提供期限",null,"利用可能曜日",null,"利用時間帯",null,"制度登録状況",null,null,null,null,null,null,null,null,null,null,null,null,null,{"$f":"入力画面!Q655&\"\"","v":""},{"$f":"入力画面!R655&\"\"","v":""}]
[null,null,"店舗・訪問系","さいたま市浦和区","民間",{"$f":"入力画面!K669&\"\"","v":""},{"$f":"入力画面!M669&\"\"","v":""},{"$f":"入力画面!N669&\"\"","v":""},{"$f":"入力画面!O669&\"\"","v":""},{"$f":"入力画面!P669&\"\"","v":""},null,{"$f":"入力画面!AY669","v":""},{"$f":"入力画面!DI669&\"\"","v":""},{"$f":"入力画面!DM669&\"\"","v":""},{"$f":"入力画面!DH669","v":""},null,null,{"$f":"入力画面!DJ669&\"\"","v":""},{"$f":"入力画面!DL669&\"\"","v":""},{"$f":"入力画面!DK669&\"\"","v":""},{"$f":"入力画面!DN669&\"\"","v":""},null,null,"特記事項 サービス情報入手ルート（情報提供者、連絡先等）",null,"会社　FAX番号",{"$f":"入力画面!G669&\"\"","v":""},"会社　ホームページ",{"$f":"入力画面!I669&\"\"","v":""},null,null,null,null,null,null,null,null,null,null,null,null,null,null,"サービス内容詳細",{"$f":"入力画面!DO669&\"\"","v":""},"サービス提供期間",null,"利用時間",null,"備考",{"$f":"入力画面!DP669&\"\"","v":""},"会社名/屋号/氏名",{"$f":"入力画面!B669&\"\"","v":""},"会社　郵便番号",{"$f":"入力画面!D669&\"\"","v":""},"会社　住所",{"$f":"入力画面!E669&\"\"","v":""},"会社　担当部署・担当者名",{"$f":"入力画面!J669&\"\"","v":""},"会社　電話番号",{"$f":"入力画面!F669&\"\"","v":""},"会社　メールアドレス",{"$f":"入力画面!H669&\"\"","v":""},"サービス提供期限",null,"利用可能曜日",null,"利用時間帯",null,"制度登録状況",null,null,null,null,null,null,null,null,null,null,null,null,null,{"$f":"入力画面!Q669&\"\"","v":""},{"$f":"入力画面!R669&\"\"","v":""}]
[null,null,"店舗・訪問系","さいたま市浦和区","民間",{"$f":"入力画面!K683&\"\"","v":""},{"$f":"入力画面!M683&\"\"","v":""},{"$f":"入力画面!N683&\"\"","v":""},{"$f":"入力画面!O683&\"\"","v":""},{"$f":"入力画面!P683&\"\"","v":""},null,{"$f":"入力画面!AY683","v":""},{"$f":"入力画面!DI683&\"\"","v":""},{"$f":"入力画面!DM683&\"\"","v":""},{"$f":"入力画面!DH683","v":""},null,null,{"$f":"入力画面!DJ683&\"\"","v":""},{"$f":"入力画面!DL683&\"\"","v":""},{"$f":"入力画面!DK683&\"\"","v":""},{"$f":"入力画面!DN683&\"\"","v":""},null,null,"特記事項 サービス情報入手ルート（情報提供者、連絡先等）",null,"会社　FAX番号",{"$f":"入力画面!G683&\"\"","v":""},"会社　ホームページ",{"$f":"入力画面!I683&\"\"","v":""},null,null,null,null,null,null,null,null,null,null,null,null,null,null,"サービス内容詳細",{"$f":"入力画面!DO683&\"\"","v":""},"サービス提供期間",null,"利用時間",null,"備考",{"$f":"入力画面!DP683&\"\"","v":""},"会社名/屋号/氏名",{"$f":"入力画面!B683&\"\"","v":""},"会社　郵便番号",{"$f":"入力画面!D683&\"\"","v":""},"会社　住所",{"$f":"入力画面!E683&\"\"","v":""},"会社　担当部署・担当者名",{"$f":"入力画面!J683&\"\"","v":""},"会社　電話番号",{"$f":"入力画面!F683&\"\"","v":""},"会社　メールアドレス",{"$f":"入力画面!H683&\"\"","v":""},"サービス提供期限",null,"利用可能曜日",null,"利用時間帯",null,"制度登録状況",null,null,null,null,null,null,null,null,null,null,null,null,null,{"$f":"入力画面!Q683&\"\"","v":""},{"$f":"入力画面!R683&\"\"","v":""}]
[null,null,"店舗・訪問系","さいたま市浦和区","民間",{"$f":"入力画面!K697&\"\"","v":""},{"$f":"入力画面!M697&\"\"","v":""},{"$f":"入力画面!N697&\"\"","v":""},{"$f":"入力画面!O697&\"\"","v":""},{"$f":"入力画面!P697&\"\"","v":""},null,{"$f":"入力画面!AY697","v":""},{"$f":"入力画面!DI697&\"\"","v":""},{"$f":"入力画面!DM697&\"\"","v":""},{"$f":"入力画面!DH697","v":""},null,null,{"$f":"入力画面!DJ697&\"\"","v":""},{"$f":"入力画面!DL697&\"\"","v":""},{"$f":"入力画面!DK697&\"\"","v":""},{"$f":"入力画面!DN697&\"\"","v":""},null,null,"特記事項 サービス情報入手ルート（情報提供者、連絡先等）",null,"会社　FAX番号",{"$f":"入力画面!G697&\"\"","v":""},"会社　ホームページ",{"$f":"入力画面!I697&\"\"","v":""},null,null,null,null,null,null,null,null,null,null,null,null,null,null,"サービス内容詳細",{"$f":"入力画面!DO697&\"\"","v":""},"サービス提供期間",null,"利用時間",null,"備考",{"$f":"入力画面!DP697&\"\"","v":""},"会社名/屋号/氏名",{"$f":"入力画面!B697&\"\"","v":""},"会社　郵便番号",{"$f":"入力画面!D697&\"\"","v":""},"会社　住所",{"$f":"入力画面!E697&\"\"","v":""},"会社　担当部署・担当者名",{"$f":"入力画面!J697&\"\"","v":""},"会社　電話番号",{"$f":"入力画面!F697&\"\"","v":""},"会社　メールアドレス",{"$f":"入力画面!H697&\"\"","v":""},"サービス提供期限",null,"利用可能曜日",null,"利用時間帯",null,"制度登録状況",null,null,null,null,null,null,null,null,null,null,null,null,null,{"$f":"入力画面!Q697&\"\"","v":""},{"$f":"入力画面!R697&\"\"","v":""}]
[null,null,"店舗・訪問系","さいたま市浦和区","民間",{"$f":"入力画面!K711&\"\"","v":""},{"$f":"入力画面!M711&\"\"","v":""},{"$f":"入力画面!N711&\"\"","v":""},{"$f":"入力画面!O711&\"\"","v":""},{"$f":"入力画面!P711&\"\"","v":""},null,{"$f":"入力画面!AY711","v":""},{"$f":"入力画面!DI711&\"\"","v":""},{"$f":"入力画面!DM711&\"\"","v":""},{"$f":"入力画面!DH711","v":""},null,null,{"$f":"入力画面!DJ711&\"\"","v":""},{"$f":"入力画面!DL711&\"\"","v":""},{"$f":"入力画面!DK711&\"\"","v":""},{"$f":"入力画面!DN711&\"\"","v":""},null,null,"特記事項 サービス情報入手ルート（情報提供者、連絡先等）",null,"会社　FAX番号",{"$f":"入力画面!G711&\"\"","v":""},"会社　ホームページ",{"$f":"入力画面!I711&\"\"","v":""},null,null,null,null,null,null,null,null,null,null,null,null,null,null,"サービス内容詳細",{"$f":"入力画面!DO711&\"\"","v":""},"サービス提供期間",null,"利用時間",null,"備考",{"$f":"入力画面!DP711&\"\"","v":""},"会社名/屋号/氏名",{"$f":"入力画面!B711&\"\"","v":""},"会社　郵便番号",{"$f":"入力画面!D711&\"\"","v":""},"会社　住所",{"$f":"入力画面!E711&\"\"","v":""},"会社　担当部署・担当者名",{"$f":"入力画面!J711&\"\"","v":""},"会社　電話番号",{"$f":"入力画面!F711&\"\"","v":""},"会社　メールアドレス",{"$f":"入力画面!H711&\"\"","v":""},"サービス提供期限",null,"利用可能曜日",null,"利用時間帯",null,"制度登録状況",null,null,null,null,null,null,null,null,null,null,null,null,null,{"$f":"入力画面!Q711&\"\"","v":""},{"$f":"入力画面!R711&\"\"","v":""}]

{"sheet":"Sheet1","index":2,"n_rows":5,"n_cols":1,"rows_kept":5,"cut":false,"hidden":true,"merged":[]}
[]
[]
[]
["□"]
["☑"]