{"text_format":"1","workbook":"xlsx","n_sheets":5,"sheets":["入力画面","変換シート","③アプリ一括登録様式","③アプリ一括登録様式 (値)","Sheet1"],"not_rendered":{"charts":0,"images":0,"macros":1,"external_links":0,"defined_names":3,"comments":1,"pivot_tables":0},"unopened":[],"bounds":{"document_bytes":16777216,"sheet_cells":100000,"rows_first":2000,"rows_last":500,"rows_between":2000,"halvings":0,"cell_chars":16384,"cell_head_chars":4096},"cells_cut":0,"cells_raw":0,"read":"whole","date_system":"1900"}

{"sheet":"入力画面","index":0,"n_rows":724,"n_cols":122,"rows_kept":724,"cut":false,"hidden":false,"merged":[[346,121,359,121],[360,121,373,121],[374,121,387,121],[640,121,653,121],[654,121,667,121],[668,121,681,121],[682,121,695,121],[696,121,709,121],[710,121,723,121],[402,121,415,121],[416,121,429,121],[430,121,443,121],[444,121,457,121],[458,121,471,121],[472,121,485,121],[486,121,499,121],[500,121,513,121],[514,121,527,121],[528,121,541,121],[542,121,555,121],[556,121,569,121],[570,121,583,121],[584,121,597,121],[598,121,611,121],[612,121,625,121],[626,121,639,121],[710,115,723,115],[710,114,723,114],[710,116,723,116],[710,62,723,62],[710,68,723,68],[710,74,723,74],[710,80,723,80],[710,86,723,86],[710,92,723,92],[710,98,723,98],[710,50,723,50],[52,121,65,121],[66,121,79,121],[80,121,93,121],[94,121,107,121],[108,121,121,121],[122,121,135,121],[136,121,149,121],[150,121,163,121],[164,121,177,121],[178,121,191,121],[192,121,205,121],[206,121,219,121],[220,121,233,121],[234,121,247,121],[248,121,261,121],[262,121,275,121],[276,121,289,121],[290,121,303,121],[304,121,317,121],[318,121,331,121],[332,121,345,121],[696,118,709,118],[682,114,695,114],[682,116,695,116],[682,117,695,117],[682,68,695,68],[696,115,709,115],[696,114,709,114],[696,116,709,116],[696,117,709,117],[696,111,709,111],[696,68,709,68],[696,74,709,74],[696,80,709,80],[696,86,709,86],[710,17,723,17],[710,56,723,56],[696,112,709,112],[710,104,723,104],[710,110,723,110],[710,117,723,117],[710,118,723,118],[696,62,709,62],[696,113,709,113],[696,50,709,50],[696,56,709,56],[696,92,709,92],[696,98,709,98],[696,104,709,104],[696,110,709,110],[710,111,723,111],[710,112,723,112],[710,113,723,113],[682,16,695,16],[682,17,695,17],[668,56,681,56],[668,62,681,62],[668,112,681,112],[682,56,695,56],[682,62,695,62],[682,113,695,113],[682,86,695,86],[682,92,695,92],[682,98,695,98],[682,104,695,104],[668,98,681,98],[668,104,681,104],[668,110,681,110],[668,111,681,111],[682,118,695,118],[682,50,695,50],[682,110,695,110],[682,111,695,111],[682,115,695,115],[682,112,695,112],[682,74,695,74],[682,80,695,80],[668,114,681,114],[668,116,681,116],[668,117,681,117],[668,118,681,118],[668,113,681,113],[668,115,681,115],[668,68,681,68],[668,74,681,74],[668,80,681,80],[654,74,667,74],[654,80,667,80],[654,0,667,0],[654,1,667,1],[654,2,667,2],[654,3,667,3],[654,4,667,4],[654,5,667,5],[654,92,667,92],[668,50,681,50],[654,16,667,16],[668,17,681,17],[668,92,681,92],[668,86,681,86],[654,9,667,9],[654,10,667,10],[654,11,667,11],[654,12,667,12],[654,13,667,13],[654,14,667,14],[654,86,667,86],[668,0,681,0],[668,1,681,1],[668,2,681,2],[668,3,681,3],[668,4,681,4],[668,5,681,5],[668,6,681,6],[668,7,681,7],[654,118,667,118],[654,50,667,50],[654,56,667,56],[654,62,667,62],[654,68,667,68],[654,112,667,112],[654,113,667,113],[654,115,667,115],[654,114,667,114],[654,116,667,116],[654,117,667,117],[654,98,667,98],[654,104,667,104],[640,112,653,112],[640,50,653,50],[640,56,653,56],[640,62,653,62],[654,110,667,110],[654,111,667,111],[640,117,653,117],[640,118,653,118],[640,74,653,74],[640,80,653,80],[640,0,653,0],[640,1,653,1],[640,2,653,2],[640,3,653,3],[640,4,653,4],[640,5,653,5],[640,8,653,8],[640,9,653,9],[640,10,653,10],[640,11,653,11],[640,12,653,12],[640,13,653,13],[640,14,653,14],[640,16,653,16],[640,17,653,17],[626,0,639,0],[626,1,639,1],[626,2,639,2],[640,6,653,6],[640,7,653,7],[626,15,639,15],[640,15,653,15],[626,17,639,17],[626,116,639,116],[626,50,639,50],[640,111,653,111],[640,113,653,113],[640,115,653,115],[640,68,653,68],[640,86,653,86],[640,92,653,92],[640,98,653,98],[640,104,653,104],[640,110,653,110],[640,114,653,114],[640,116,653,116],[626,80,639,80],[626,86,639,86],[626,92,639,92],[626,98,639,98],[626,104,639,104],[626,110,639,110],[626,56,639,56],[612,17,625,17],[626,117,639,117],[626,118,639,118],[626,111,639,111],[626,112,639,112],[626,113,639,113],[612,118,625,118],[612,104,625,104],[612,110,625,110],[612,111,625,111],[612,112,625,112],[612,113,625,113],[626,3,639,3],[626,4,639,4],[626,5,639,5],[626,6,639,6],[626,7,639,7],[626,8,639,8],[626,9,639,9],[626,10,639,10],[626,11,639,11],[626,12,639,12],[626,13,639,13],[626,14,639,14],[626,16,639,16],[626,62,639,62],[626,68,639,68],[626,74,639,74],[612,50,625,50],[612,56,625,56],[626,115,639,115],[626,114,639,114],[612,0,625,0],[612,1,625,1],[612,2,625,2],[612,3,625,3],[612,4,625,4],[612,5,625,5],[612,6,625,6],[612,7,625,7],[612,8,625,8],[612,9,625,9],[612,10,625,10],[612,11,625,11],[612,12,625,12],[612,13,625,13],[612,14,625,14],[612,16,625,16],[612,15,625,15],[598,118,611,118],[598,115,611,115],[598,114,611,114],[598,116,611,116],[598,117,611,117],[598,68,611,68],[598,74,611,74],[598,80,611,80],[598,86,611,86],[612,62,625,62],[612,68,625,68],[612,74,625,74],[612,80,625,80],[612,86,625,86],[612,92,625,92],[612,98,625,98],[612,115,625,115],[612,114,625,114],[612,116,625,116],[612,117,625,117],[598,0,611,0],[598,1,611,1],[598,2,611,2],[598,3,611,3],[598,4,611,4],[598,16,611,16],[598,17,611,17],[598,6,611,6],[598,7,611,7],[598,8,611,8],[598,9,611,9],[598,10,611,10],[598,12,611,12],[598,13,611,13],[598,14,611,14],[584,0,597,0],[584,1,597,1],[584,2,597,2],[584,3,597,3],[584,4,597,4],[584,5,597,5],[584,6,597,6],[584,7,597,7],[584,8,597,8],[584,9,597,9],[584,10,597,10],[584,11,597,11],[584,12,597,12],[584,13,597,13],[598,5,611,5],[584,14,597,14],[570,14,583,14],[570,16,583,16],[584,50,597,50],[570,112,583,112],[570,113,583,113],[584,16,597,16],[584,17,597,17],[598,11,611,11],[598,92,611,92],[598,98,611,98],[598,104,611,104],[598,110,611,110],[598,111,611,111],[598,50,611,50],[598,56,611,56],[598,62,611,62],[584,98,597,98],[584,104,597,104],[584,110,597,110],[584,111,597,111],[598,112,611,112],[598,113,611,113],[570,17,583,17],[584,15,597,15],[598,15,611,15],[556,50,569,50],[556,56,569,56],[556,62,569,62],[570,50,583,50],[570,56,583,56],[570,115,583,115],[570,118,583,118],[570,114,583,114],[570,116,583,116],[570,117,583,117],[570,74,583,74],[570,80,583,80],[570,86,583,86],[570,92,583,92],[570,98,583,98],[584,115,597,115],[584,56,597,56],[584,62,597,62],[584,68,597,68],[584,74,597,74],[584,80,597,80],[584,86,597,86],[584,92,597,92],[584,114,597,114],[584,116,597,116],[584,117,597,117],[584,118,597,118],[584,112,597,112],[584,113,597,113],[556,68,569,68],[556,74,569,74],[556,80,569,80],[556,113,569,113],[556,115,569,115],[556,114,569,114],[556,116,569,116],[556,117,569,117],[556,118,569,118],[556,111,569,111],[556,112,569,112],[556,86,569,86],[556,92,569,92],[556,98,569,98],[556,104,569,104],[556,110,569,110],[570,104,583,104],[570,110,583,110],[570,111,583,111],[542,62,555,62],[542,68,555,68],[542,74,555,74],[542,80,555,80],[542,86,555,86],[542,92,555,92],[542,98,555,98],[542,104,555,104],[542,110,555,110],[570,62,583,62],[570,68,583,68],[542,50,555,50],[542,56,555,56],[542,111,555,111],[542,117,555,117],[542,118,555,118],[542,112,555,112],[542,113,555,113],[542,115,555,115],[542,114,555,114],[542,116,555,116],[542,0,555,0],[542,1,555,1],[542,2,555,2],[542,3,555,3],[542,4,555,4],[542,5,555,5],[542,6,555,6],[542,7,555,7],[542,8,555,8],[542,9,555,9],[542,10,555,10],[542,11,555,11],[542,12,555,12],[542,13,555,13],[542,14,555,14],[542,16,555,16],[542,17,555,17],[528,0,541,0],[528,1,541,1],[528,2,541,2],[528,3,541,3],[528,4,541,4],[528,5,541,5],[528,6,541,6],[528,7,541,7],[528,8,541,8],[528,9,541,9],[528,10,541,10],[528,11,541,11],[528,12,541,12],[528,13,541,13],[528,14,541,14],[528,16,541,16],[528,17,541,17],[514,118,527,118],[514,115,527,115],[514,114,527,114],[514,116,527,116],[514,117,527,117],[514,68,527,68],[514,74,527,74],[514,80,527,80],[514,86,527,86],[528,50,541,50],[528,56,541,56],[528,62,541,62],[528,68,541,68],[528,74,541,74],[528,80,541,80],[528,86,541,86],[528,92,541,92],[528,98,541,98],[528,115,541,115],[528,114,541,114],[528,116,541,116],[528,117,541,117],[528,118,541,118],[528,104,541,104],[528,110,541,110],[528,111,541,111],[528,112,541,112],[528,113,541,113],[514,0,527,0],[514,1,527,1],[514,2,527,2],[514,3,527,3],[514,4,527,4],[514,16,527,16],[514,17,527,17],[514,6,527,6],[514,7,527,7],[514,8,527,8],[514,9,527,9],[514,10,527,10],[514,12,527,12],[514,13,527,13],[514,14,527,14],[500,0,513,0],[500,1,513,1],[500,2,513,2],[500,3,513,3],[500,4,513,4],[500,5,513,5],[500,6,513,6],[500,7,513,7],[500,8,513,8],[500,9,513,9],[500,10,513,10],[500,11,513,11],[500,12,513,12],[500,13,513,13],[514,5,527,5],[500,14,513,14],[486,16,499,16],[500,50,513,50],[486,112,499,112],[486,113,499,113],[500,16,513,16],[500,17,513,17],[514,11,527,11],[514,92,527,92],[514,98,527,98],[514,104,527,104],[514,110,527,110],[514,111,527,111],[514,50,527,50],[514,56,527,56],[514,62,527,62],[500,98,513,98],[500,104,513,104],[500,110,513,110],[500,111,513,111],[514,112,527,112],[514,113,527,113],[486,17,499,17],[486,115,499,115],[486,118,499,118],[486,114,499,114],[486,116,499,116],[486,117,499,117],[486,74,499,74],[486,80,499,80],[486,86,499,86],[486,92,499,92],[486,98,499,98],[500,115,513,115],[500,56,513,56],[500,62,513,62],[500,68,513,68],[500,74,513,74],[500,80,513,80],[500,86,513,86],[500,92,513,92],[500,114,513,114],[500,116,513,116],[500,117,513,117],[500,118,513,118],[500,112,513,112],[500,113,513,113],[486,62,499,62],[486,68,499,68],[486,104,499,104],[486,110,499,110],[486,111,499,111],[458,62,471,62],[458,68,471,68],[458,74,471,74],[458,80,471,80],[458,86,471,86],[458,92,471,92],[458,98,471,98],[458,104,471,104],[458,110,471,110],[472,50,485,50],[472,56,485,56],[472,62,485,62],[486,50,499,50],[486,56,499,56],[472,68,485,68],[472,74,485,74],[472,80,485,80],[444,110,457,110],[444,111,457,111],[444,112,457,112],[444,113,457,113],[472,113,485,113],[472,115,485,115],[472,114,485,114],[472,116,485,116],[472,117,485,117],[472,118,485,118],[472,111,485,111],[472,112,485,112],[472,86,485,86],[472,92,485,92],[472,98,485,98],[472,104,485,104],[472,110,485,110],[416,114,429,114],[430,92,443,92],[430,98,443,98],[430,104,443,104],[430,110,443,110],[430,111,443,111],[416,115,429,115],[458,50,471,50],[458,56,471,56],[458,111,471,111],[458,117,471,117],[458,118,471,118],[458,112,471,112],[458,113,471,113],[458,115,471,115],[458,114,471,114],[458,116,471,116],[444,50,457,50],[444,56,457,56],[444,62,457,62],[444,68,457,68],[444,74,457,74],[444,80,457,80],[444,86,457,86],[444,92,457,92],[444,98,457,98],[444,115,457,115],[444,114,457,114],[444,116,457,116],[444,117,457,117],[444,118,457,118],[444,104,457,104],[430,0,443,0],[430,1,443,1],[430,2,443,2],[430,3,443,3],[430,4,443,4],[430,6,443,6],[430,7,443,7],[430,8,443,8],[430,9,443,9],[430,10,443,10],[430,12,443,12],[430,112,443,112],[430,113,443,113],[430,118,443,118],[430,115,443,115],[430,114,443,114],[430,116,443,116],[430,117,443,117],[430,68,443,68],[430,74,443,74],[430,80,443,80],[430,86,443,86],[388,121,401,121],[388,111,401,111],[388,112,401,112],[388,86,401,86],[388,92,401,92],[388,98,401,98],[388,104,401,104],[388,110,401,110],[402,104,415,104],[402,110,415,110],[402,111,415,111],[416,50,429,50],[430,50,443,50],[430,56,443,56],[430,62,443,62],[416,0,429,0],[416,1,429,1],[416,2,429,2],[416,3,429,3],[416,4,429,4],[416,5,429,5],[416,6,429,6],[416,7,429,7],[416,8,429,8],[416,9,429,9],[416,10,429,10],[416,11,429,11],[416,12,429,12],[416,13,429,13],[430,5,443,5],[416,14,429,14],[430,11,443,11],[402,50,415,50],[402,112,415,112],[402,113,415,113],[402,115,415,115],[402,118,415,118],[402,114,415,114],[402,116,415,116],[402,117,415,117],[402,74,415,74],[402,80,415,80],[402,86,415,86],[402,92,415,92],[402,98,415,98],[402,56,415,56],[402,62,415,62],[402,68,415,68],[416,56,429,56],[416,62,429,62],[416,68,429,68],[416,74,429,74],[416,80,429,80],[416,86,429,86],[416,98,429,98],[416,104,429,104],[416,110,429,110],[416,111,429,111],[416,92,429,92],[416,116,429,116],[416,117,429,117],[416,118,429,118],[416,112,429,112],[416,113,429,113],[374,92,387,92],[374,98,387,98],[374,104,387,104],[374,110,387,110],[374,50,387,50],[374,56,387,56],[374,111,387,111],[374,117,387,117],[374,118,387,118],[374,112,387,112],[374,113,387,113],[374,115,387,115],[374,114,387,114],[374,116,387,116],[388,68,401,68],[388,74,401,74],[388,80,401,80],[388,113,401,113],[388,115,401,115],[388,114,401,114],[388,116,401,116],[388,117,401,117],[388,118,401,118],[388,50,401,50],[388,56,401,56],[388,62,401,62],[360,115,373,115],[360,114,373,114],[360,116,373,116],[360,117,373,117],[360,118,373,118],[360,104,373,104],[360,110,373,110],[360,111,373,111],[360,112,373,112],[360,113,373,113],[374,0,387,0],[374,1,387,1],[374,2,387,2],[374,3,387,3],[374,4,387,4],[374,5,387,5],[374,6,387,6],[374,7,387,7],[374,8,387,8],[374,9,387,9],[374,10,387,10],[374,11,387,11],[374,12,387,12],[374,13,387,13],[374,14,387,14],[374,16,387,16],[374,17,387,17],[374,62,387,62],[374,68,387,68],[374,74,387,74],[374,80,387,80],[374,86,387,86],[360,50,373,50],[360,56,373,56],[360,62,373,62],[360,68,373,68],[360,74,373,74],[360,80,373,80],[360,86,373,86],[360,92,373,92],[360,98,373,98],[360,0,373,0],[360,1,373,1],[360,2,373,2],[360,3,373,3],[360,4,373,4],[360,5,373,5],[360,6,373,6],[360,7,373,7],[360,8,373,8],[360,9,373,9],[360,10,373,10],[360,11,373,11],[360,12,373,12],[360,13,373,13],[360,14,373,14],[360,16,373,16],[360,17,373,17],[332,5,345,5],[332,6,345,6],[332,7,345,7],[332,8,345,8],[332,9,345,9],[332,10,345,10],[332,11,345,11],[332,12,345,12],[332,13,345,13],[346,5,359,5],[346,118,359,118],[346,115,359,115],[346,114,359,114],[346,116,359,116],[346,117,359,117],[346,68,359,68],[346,74,359,74],[346,80,359,80],[346,86,359,86],[346,11,359,11],[346,92,359,92],[346,98,359,98],[346,104,359,104],[346,110,359,110],[346,111,359,111],[346,50,359,50],[346,56,359,56],[346,62,359,62],[346,112,359,112],[346,113,359,113],[318,17,331,17],[346,0,359,0],[346,1,359,1],[346,2,359,2],[346,3,359,3],[346,4,359,4],[346,16,359,16],[346,17,359,17],[346,6,359,6],[346,7,359,7],[346,8,359,8],[346,9,359,9],[346,10,359,10],[346,12,359,12],[346,13,359,13],[346,14,359,14],[332,0,345,0],[318,8,331,8],[318,7,331,7],[318,6,331,6],[318,5,331,5],[318,4,331,4],[318,3,331,3],[318,2,331,2],[318,1,331,1],[318,0,331,0],[332,1,345,1],[332,2,345,2],[332,3,345,3],[332,4,345,4],[332,115,345,115],[332,56,345,56],[332,62,345,62],[332,68,345,68],[332,74,345,74],[332,80,345,80],[332,86,345,86],[332,92,345,92],[332,114,345,114],[332,116,345,116],[332,117,345,117],[332,118,345,118],[332,112,345,112],[332,113,345,113],[332,14,345,14],[318,62,331,62],[318,68,331,68],[318,14,331,14],[318,16,331,16],[332,50,345,50],[318,112,331,112],[318,113,331,113],[332,16,345,16],[332,17,345,17],[318,104,331,104],[318,110,331,110],[318,111,331,111],[318,15,331,15],[332,98,345,98],[332,104,345,104],[332,110,345,110],[332,111,345,111],[304,50,317,50],[304,56,317,56],[304,62,317,62],[318,50,331,50],[318,56,331,56],[318,115,331,115],[318,118,331,118],[318,114,331,114],[318,116,331,116],[318,117,331,117],[318,74,331,74],[318,80,331,80],[318,86,331,86],[318,92,331,92],[318,98,331,98],[290,92,303,92],[290,98,303,98],[290,104,303,104],[290,110,303,110],[290,50,303,50],[290,56,303,56],[290,111,303,111],[290,117,303,117],[290,118,303,118],[290,112,303,112],[290,113,303,113],[290,115,303,115],[290,114,303,114],[290,116,303,116],[304,68,317,68],[304,74,317,74],[304,80,317,80],[304,113,317,113],[304,115,317,115],[304,114,317,114],[304,116,317,116],[304,117,317,117],[304,118,317,118],[304,111,317,111],[304,112,317,112],[304,86,317,86],[304,92,317,92],[304,98,317,98],[304,104,317,104],[304,110,317,110],[276,115,289,115],[276,114,289,114],[276,116,289,116],[276,117,289,117],[276,118,289,118],[276,104,289,104],[276,110,289,110],[276,111,289,111],[276,112,289,112],[276,113,289,113],[290,0,303,0],[290,1,303,1],[290,2,303,2],[290,3,303,3],[290,4,303,4],[290,5,303,5],[290,6,303,6],[290,7,303,7],[290,8,303,8],[290,9,303,9],[290,10,303,10],[290,11,303,11],[290,12,303,12],[290,13,303,13],[290,14,303,14],[290,16,303,16],[290,17,303,17],[290,15,303,15],[290,62,303,62],[290,68,303,68],[290,74,303,74],[290,80,303,80],[290,86,303,86],[276,50,289,50],[276,56,289,56],[276,62,289,62],[276,68,289,68],[276,74,289,74],[276,80,289,80],[276,86,289,86],[276,92,289,92],[276,98,289,98],[276,0,289,0],[276,1,289,1],[276,2,289,2],[276,3,289,3],[276,4,289,4],[276,5,289,5],[276,6,289,6],[276,7,289,7],[276,8,289,8],[276,9,289,9],[276,10,289,10],[276,11,289,11],[276,12,289,12],[276,13,289,13],[276,14,289,14],[276,16,289,16],[276,17,289,17],[276,15,289,15],[248,10,261,10],[248,11,261,11],[248,12,261,12],[248,13,261,13],[262,5,275,5],[262,118,275,118],[262,115,275,115],[262,114,275,114],[262,116,275,116],[262,117,275,117],[262,68,275,68]],"merged_total":2024,"flags":["merged_cut"]}
[]
["様式第2号"]
[null," 【埼玉県プラチナ・サポート・ショップ情報サイト】　登録シート"]
[]
[null,"　　※　このファイルはマクロを使用しています。入力の際は、マクロを有効にしてください。\n　　※　データ入力およびチェックの選択のみ可能です。行、列の挿入・コピー・削除、セルの結合などは行わないでください。"]
[]
[]
[null,"非公開情報　　※プラチナ・サポート・ショップ情報サイトには表示されません",null,null,null,null,null,null,null,null,"公開情報　　※プラチナ・サポート・ショップ情報サイトに表示されます",null,null,null,null,null,null,null,"公開情報",null,"この列は操作しないでください",null,"公開情報",null,"この列は操作しないでください",null,"公開情報",null,"この列は操作しないでください",null,"公開情報",null,"この列は操作しないでください",null,"公開情報",null,"この列は操作しないでください",null,"公開情報",null,"この列は操作しないでください",null,"公開情報",null,"この列は操作しないでください",null,"公開情報",null,"この列は操作しないでください",null,null,"公開情報",null,"この列は操作しないでください",null,null,null,"公開情報",null,"この列は操作しないでください",null,null,null,"公開情報",null,"この列は操作しないでください",null,null,null,"公開情報",null,"この列は操作しないでください",null,null,null,"公開情報",null,"この列は操作しないでください",null,null,null,"公開情報",null,"この列は操作しないでください",null,null,null,"公開情報",null,"この列は操作しないでください",null,null,null,"公開情報",null,"この列は操作しないでください",null,null,null,"公開情報",null,"この列は操作しないでください",null,null,null,"公開情報",null,"この列は操作しないでください",null,null,null,null,"公開情報","公開情報","公開情報","公開情報","公開情報","公開情報","公開情報","この列は操作しないでください"]
["No","法人名・屋号・氏名","法人名・屋号・氏名\n（フリガナ）","会社　郵便番号","会社　住所","会社　電話番号","会社　FAX番号","会社　メールアドレス","会社　ホームページ","担当部署・担当者","店舗名・サービス名","店舗名・サービス名\n（フリガナ）","問合せ電話番号","問合せFAX番号","メールアドレス","ホームページ","店舗名","店舗所在地","大カテゴリ\n（買物）",null,null,null,"大カテゴリ\n（宅配・デリバリー）",null,null,null,"大カテゴリ\n（送迎サービス・移動支援）",null,null,null,"大カテゴリ\n（出張サービス）",null,null,null,"大カテゴリ\n（運動・たまり場）",null,null,null,"大カテゴリ\n（設備・施設・場所貸し）",null,null,null,"大カテゴリ\n（学び・趣味）",null,null,null,"大カテゴリ\n（生活サービス）",null,null,null,null,"サービス提供エリア\n（さいたま市）",null,null,null,null,null,"サービス提供エリア\n（南部地域）",null,null,null,null,null,"サービス提供エリア\n（南西部地域）",null,null,null,null,null,"サービス提供エリア\n（東部地域）",null,null,null,null,null,"サービス提供エリア\n（県央地域）",null,null,null,null,null,"サービス提供エリア\n（川越比企地域）",null,null,null,null,null,"サービス提供エリア\n（西部地域）",null,null,null,null,null,"サービス提供エリア\n（利根地域）",null,null,null,null,null,"サービス提供エリア\n（北部地域）",null,null,null,null,null,"サービス提供エリア\n（秩父地域）",null,null,null,null,null,null,"サービス内容","費用","営業時間、定休日","利用方法","PR","サービス内容詳細","備考"]
[null,"※必須項目","※必須項目\n全角カタカナ","※必須項目\n半角数字（7桁）","※必須項目","※必須項目\n半角数字（13桁まで）","半角数字（13桁まで）","※必須項目\n半角英数字","半角英数字","※必須項目","※必須項目","※必須項目\n全角カタカナ","※必須項目\n固定、携帯どちらでも可\n半角数字（13桁まで）","半角数字（13桁まで）","※ サイト上に公開してよいアドレス\n半角英数字","半角英数字","※必須項目","※必須項目","複数選択可",null,null,null,"複数選択可",null,null,null,"複数選択可",null,null,null,"複数選択可",null,null,null,"複数選択可",null,null,null,"複数選択可",null,null,null,"複数選択可",null,null,null,"複数選択可",null,null,null,null,"複数選択可",null,null,null,null,null,"複数選択可",null,null,null,null,null,"複数選択可",null,null,null,null,null,"複数選択可",null,null,null,null,null,"複数選択可",null,null,null,null,null,"複数選択可",null,null,null,null,null,"複数選択可",null,null,null,null,null,"複数選択可",null,null,null,null,null,"複数選択可",null,null,null,null,null,"複数選択可",null,null,null,null,null,null,"※必須項目\n300文字以内","※必須項目\n150文字以内","※必須項目\n150文字以内","※必須項目\n150文字以内","500文字以内","500文字以内","500文字以内"]
["記入例","埼玉県地域包括ケア株式会社\n","サイタマケンチイキホウカツケア カ）","330-0000","埼玉県さいたま市浦和区高砂3-15-1\n","048-000-0000","048-000-0000","saitama@○○○○.jp\n","https://www.○○○\n","○○部　××課　主任　埼玉花子","スーパー埼玉　高砂店","スーパーサイタマ　タカサゴテン","048-000-0000","048-000-0000","saitama@○○○○.jp",null,"スーパー埼玉　高砂店","埼玉県,さいたま市浦和区,高砂三丁目15番1号","☑","配送",{"$f":"IF(S11=\"☑\",TRUE)","v":true},{"$f":"IF(U11,T11,\"\")","v":"配送"},"□","弁当配達",{"$f":"IF(W11=\"☑\",TRUE)","v":false},{"$f":"IF(Y11,X11,\"\")","v":""},"☑","理容・美容（送迎）",{"$f":"IF(AA11=\"☑\",TRUE)","v":true},{"$f":"IF(AC11,AB11,\"\")","v":"理容・美容（送迎）"},"☑","家事代行・掃除・片付け",{"$f":"IF(AE11=\"☑\",TRUE)","v":true},{"$f":"IF(AG11,AF11,\"\")","v":"家事代行・掃除・片付け"},"□","フィットネス・ジム（運動）",{"$f":"IF(AI11=\"☑\",TRUE)","v":false},{"$f":"IF(AK11,AJ11,\"\")","v":""},"☑","車イス対応（バリアフリー）",{"$f":"IF(AM11=\"☑\",TRUE)","v":true},{"$f":"IF(AO11,AN11,\"\")","v":"車イス対応（バリアフリー）"},"☑","講座・教室・イベント",{"$f":"IF(AQ11=\"☑\",TRUE)","v":true},{"$f":"IF(AS11,AR11,\"\")","v":"講座・教室・イベント"},"☑","防犯・見守り",{"$f":"IF(AU11=\"☑\",TRUE)","v":true},{"$f":"IF(AW11,AV11,\"\")","v":"防犯・見守り"},{"$f":"_xlfn.TEXTJOIN(\"／\",TRUE,V11:V24,Z11:Z24,AD11:AD24,AH11:AH24,AL11:AL24,AP11:AP24,AT11:AT24,AX11:AX24)","v":"配送／移動販売／食材宅配／クリーニング／理容・美容（送迎）／家事代行・掃除・片付け／屋外作業・力仕事／カフェ・ファーストフード／イートインスペース／車イス対応（バリアフリー）／多目的トイレ／休憩スペース／講座・教室・イベント／パソコン・スマホ教室／防犯・見守り／認知症サポート企業／成年後見・相続"},"☑","西区",{"$f":"IF(AZ11=\"☑\",TRUE)","v":true},{"$f":"\"さいたま市\"&BA11","v":"さいたま市西区"},{"$f":"IF(BB11,BC11,\"\")","v":"さいたま市西区"},{"$f":"_xlfn.TEXTJOIN(\"／\",TRUE,BD11:BD24)","v":"さいたま市西区／さいたま市大宮区／さいたま市中央区／さいたま市浦和区"},"☑","川口市",{"$f":"IF(BF11=\"☑\",TRUE)","v":true},{"$f":"BG11","v":"川口市"},{"$f":"IF(BH11,BI11,\"\")","v":"川口市"},{"$f":"_xlfn.TEXTJOIN(\"／\",TRUE,BJ11:BJ24)","v":"川口市"},"☑","朝霞市",{"$f":"IF(BL11=\"☑\",TRUE)","v":true},{"$f":"BM11","v":"朝霞市"},{"$f":"IF(BN11,BO11,\"\")","v":"朝霞市"},{"$f":"_xlfn.TEXTJOIN(\"／\",TRUE,BP11:BP24)","v":"朝霞市／富士見市"},"☑","春日部市",{"$f":"IF(BR11=\"☑\",TRUE)","v":true},{"$f":"BS11","v":"春日部市"},{"$f":"IF(BT11,BU11,\"\")","v":"春日部市"},{"$f":"_xlfn.TEXTJOIN(\"／\",TRUE,BV11:BV24)","v":"春日部市／草加市"},"□","鴻巣市",{"$f":"IF(BX11=\"☑\",TRUE)","v":false},{"$f":"BY11","v":"鴻巣市"},{"$f":"IF(BZ11,CA11,\"\")","v":""},{"$f":"_xlfn.TEXTJOIN(\"／\",TRUE,CB11:CB24)","v":"上尾市／北本市"},"☑","川越市",{"$f":"IF(CD11=\"☑\",TRUE)","v":true},{"$f":"CE11","v":"川越市"},{"$f":"IF(CF11,CG11,\"\")","v":"川越市"},{"$f":"_xlfn.TEXTJOIN(\"／\",TRUE,CH11:CH24)","v":"川越市"},"☑","所沢市",{"$f":"IF(CJ11=\"☑\",TRUE)","v":true},{"$f":"CK11","v":"所沢市"},{"$f":"IF(CL11,CM11,\"\")","v":"所沢市"},{"$f":"_xlfn.TEXTJOIN(\"／\",TRUE,CN11:CN24)","v":"所沢市／狭山市"},"☑","行田市",{"$f":"IF(CP11=\"☑\",TRUE)","v":true},{"$f":"CQ11","v":"行田市"},{"$f":"IF(CR11,CS11,\"\")","v":"行田市"},{"$f":"_xlfn.TEXTJOIN(\"／\",TRUE,CT11:CT24)","v":"行田市／蓮田市／白岡市"},"☑","熊谷市",{"$f":"IF(CV11=\"☑\",TRUE)","v":true},{"$f":"CW11","v":"熊谷市"},{"$f":"IF(CX11,CY11,\"\")","v":"熊谷市"},{"$f":"_xlfn.TEXTJOIN(\"／\",TRUE,CZ11:CZ24)","v":"熊谷市"},"☑","秩父市",{"$f":"IF(DB11=\"☑\",TRUE)","v":true},{"$f":"DC11","v":"秩父市"},{"$f":"IF(DD11,DE11,\"\")","v":"秩父市"},{"$f":"_xlfn.TEXTJOIN(\"／\",TRUE,DF11:DF24)","v":"秩父市"},{"$f":"_xlfn.TEXTJOIN(\"／\",TRUE,BE11,BK11,BQ11,BW11,CC11,CI11,CO11,CU11,DA11,DG11)","v":"さいたま市西区／さいたま市大宮区／さいたま市中央区／さいたま市浦和区／川口市／朝霞市／富士見市／春日部市／草加市／上尾市／北本市／川越市／所沢市／狭山市／行田市／蓮田市／白岡市／熊谷市／秩父市"},"例）お買い上げいただいた商品をご自宅まで配送いたします。","例）お買い上げ3,000円（税込）以上の場合は配送料無料\n\n※　無償の場合は、\n「上記の内容に関しては無償」などご記入ください。","例）9時～18時　\n無給\n※出張は第〇水曜日　〇時～〇時のみ\n","例）事前に電話連絡でお知らせください。\n\n例）詳しくはお問合せください。","例）多目的トイレや休憩スペースもございます。ぜひ、ご来店ください。\n",null,"例）〇〇市　△△地域のみ宅配可能です。",{"$f":"IF(#REF!=\"☑\",TRUE)","v":{"$error":"#REF!"}},{"$f":"IF(DP11,#REF!,\"\")","v":{"$error":"#REF!"}},{"$f":"_xludf.TEXTJOIN(\",\",TRUE,DQ11:DQ24)","v":{"$error":"#VALUE!"}}]
[null,null,null,null,null,null,null,null,null,null,null,null,null,null,null,null,null,null,"□","買物サポート",false,"","□","料理デリバリー（出前）",false,"","□","フィットネス・ジム（送迎）",{"$f":"IF(AA12=\"☑\",TRUE)","v":false},{"$f":"IF(AC12,AB12,\"\")","v":""},"□","出張料理",{"$f":"IF(AE12=\"☑\",TRUE)","v":false},{"$f":"IF(AG12,AF12,\"\")","v":""},"□","温泉・銭湯（たまり場）",false,{"$f":"IF(AK12,AJ12,\"\")","v":""},"☑","多目的トイレ",true,"多目的トイレ","□","習い事",{"$f":"IF(AQ12=\"☑\",TRUE)","v":false},{"$f":"IF(AS12,AR12,\"\")","v":""},"□","金融・保険",false,"",null,"□","北区",{"$f":"IF(AZ12=\"☑\",TRUE)","v":false},"さいたま市北区",{"$f":"IF(BB12,BC12,\"\")","v":""},null,"□","蕨市",{"$f":"IF(BF12=\"☑\",TRUE)","v":false},{"$f":"BG12","v":"蕨市"},{"$f":"IF(BH12,BI12,\"\")","v":""},null,"□","志木市",{"$f":"IF(BL12=\"☑\",TRUE)","v":false},"志木市",{"$f":"IF(BN12,BO12,\"\")","v":""},null,"☑","草加市",{"$f":"IF(BR12=\"☑\",TRUE)","v":true},"草加市","草加市",null,"☑","上尾市",{"$f":"IF(BX12=\"☑\",TRUE)","v":true},{"$f":"BY12","v":"上尾市"},{"$f":"IF(BZ12,CA12,\"\")","v":"上尾市"},null,"□","東松山市",{"$f":"IF(CD12=\"☑\",TRUE)","v":false},"東松山市",{"$f":"IF(CF12,CG12,\"\")","v":""},null,"□","飯能市",{"$f":"IF(CJ12=\"☑\",TRUE)","v":false},{"$f":"CK12","v":"飯能市"},{"$f":"IF(CL12,CM12,\"\")","v":""},null,"□","加須市",{"$f":"IF(CP12=\"☑\",TRUE)","v":false},"加須市",{"$f":"IF(CR12,CS12,\"\")","v":""},null,"□","本庄市",{"$f":"IF(CV12=\"☑\",TRUE)","v":false},"本庄市",{"$f":"IF(CX12,CY12,\"\")","v":""},null,"□","横瀬町",{"$f":"IF(DB12=\"☑\",TRUE)","v":false},{"$f":"DC12","v":"横瀬町"},{"$f":"IF(DD12,DE12,\"\")","v":""},null,null,null,null,null,null,null,null,null,null,{"$f":"IF(DP12,#REF!,\"\")","v":""}]
[null,null,null,null,null,null,null,null,null,null,null,null,null,null,null,null,null,null,"□","買物代行",false,"","☑","食材宅配",true,"食材宅配","□","温泉・銭湯（送迎）",false,"","☑","屋外作業・力仕事",true,"屋外作業・力仕事","☑","カフェ・ファーストフード",true,"カフェ・ファーストフード","☑","休憩スペース",true,"休憩スペース","□","映画館",false,"","□","住宅・リフォーム",false,"",null,"☑","大宮区",true,"さいたま市大宮区","さいたま市大宮区",null,"□","戸田市",{"$f":"IF(BF13=\"☑\",TRUE)","v":false},{"$f":"BG13","v":"戸田市"},{"$f":"IF(BH13,BI13,\"\")","v":""},null,"□","和光市",false,"和光市","",null,"□","越谷市",false,"越谷市","",null,"□","桶川市",{"$f":"IF(BX13=\"☑\",TRUE)","v":false},{"$f":"BY13","v":"桶川市"},"",null,"□","坂戸市",false,"坂戸市","",null,"☑","狭山市",{"$f":"IF(CJ13=\"☑\",TRUE)","v":true},{"$f":"CK13","v":"狭山市"},"狭山市",null,"□","羽生市",false,"羽生市","",null,"□","深谷市",false,"深谷市","",null,"□","皆野町",{"$f":"IF(DB13=\"☑\",TRUE)","v":false},{"$f":"DC13","v":"皆野町"},"",null,null,null,null,null,null,null,null,null,{"$f":"IF(#REF!=\"☑\",TRUE)","v":{"$error":"#REF!"}},{"$f":"IF(DP13,#REF!,\"\")","v":{"$error":"#REF!"}}]
[null,null,null,null,null,null,null,null,null,null,null,null,null,null,null,null,null,null,"☑","移動販売",true,"移動販売","□","日用品配達",false,"","□","整体・マッサージ（送迎）",false,"","□","整体・マッサージ（出張）",false,"","□","飲食店",false,"","□","駐車場",false,"","□","カラオケ店",false,"","□","パソコン・スマートフォン",false,"",null,"□","見沼区",false,"さいたま市見沼区","",null,null,null,null,null,{"$f":"IF(BH14,BI14,\"\")","v":""},null,"□","新座市",false,"新座市","",null,"□","八潮市",false,"八潮市","",null,"☑","北本市",{"$f":"IF(BX14=\"☑\",TRUE)","v":true},{"$f":"BY14","v":"北本市"},"北本市",null,"□","鶴ヶ島市",false,"鶴ヶ島市","",null,"□","入間市",{"$f":"IF(CJ14=\"☑\",TRUE)","v":false},{"$f":"CK14","v":"入間市"},"",null,"□","久喜市",false,"久喜市","",null,"□","美里町",false,"美里町","",null,"□","長瀞町",{"$f":"IF(DB14=\"☑\",TRUE)","v":false},{"$f":"DC14","v":"長瀞町"},""]
[null,null,null,null,null,null,null,null,null,null,null,null,null,null,null,null,null,null,"□","割引サービス",false,"","□","薬・介護用品配達",false,"","□","乗り合いサービス",false,"","□","理容・美容（出張）",false,"","☑","イートインスペース",true,"イートインスペース","□","貸しスペース",false,"","□","麻雀・将棋・囲碁",false,"","☑","認知症サポート企業",true,"認知症サポート企業",null,"☑","中央区",true,"さいたま市中央区","さいたま市中央区",null,null,null,null,null,"",null,"☑","富士見市",true,"富士見市","富士見市",null,"□","三郷市",false,"三郷市","",null,"□","伊奈町",{"$f":"IF(BX15=\"☑\",TRUE)","v":false},{"$f":"BY15","v":"伊奈町"},"",null,"□","毛呂山町",false,"毛呂山町","",null,"□","日高市",{"$f":"IF(CJ15=\"☑\",TRUE)","v":false},{"$f":"CK15","v":"日高市"},"",null,"☑","蓮田市",true,"蓮田市","蓮田市",null,"□","神川町",false,"神川町","",null,"□","小鹿野町",{"$f":"IF(DB15=\"☑\",TRUE)","v":false},{"$f":"DC15","v":"小鹿野町"},"",null,null,null,null,null,null,null,null,null,{"$f":"IF(#REF!=\"☑\",TRUE)","v":{"$error":"#REF!"}},{"$f":"IF(DP15,#REF!,\"\")","v":{"$error":"#REF!"}}]
[null,null,null,null,null,null,null,null,null,null,null,null,null,null,null,null,null,null,"□","その他（買物）",false,"","☑","クリーニング",true,{"$f":"IF(Y16,X16,\"\")","v":"クリーニング"},"□","個別移送サービス",false,"","□","ペット",false,"","□","その他（運動・たまり場）",false,"","□","その他（設備・施設・場所貸し）",false,"","□","ゲームセンター",false,"","□","理容・美容",false,"",null,"□","桜区",false,"さいたま市桜区","",null,null,null,null,null,"",null,"□","ふじみ野市",false,"ふじみ野市","",null,"□","吉川市",false,"吉川市","",null,null,null,null,null,"",null,"□","越生町",false,"越生町","",null,null,null,null,null,"",null,"□","幸手市",false,"幸手市","",null,"□","上里町",false,"上里町","",null,null,null,null,null,"",null,null,null,null,null,null,null,null,null,{"$f":"IF(#REF!=\"☑\",TRUE)","v":{"$error":"#REF!"}},{"$f":"IF(DP16,#REF!,\"\")","v":{"$error":"#REF!"}}]
[null,null,null,null,null,null,null,null,null,null,null,null,null,null,null,null,null,null,null,null,null,null,"□","その他（宅配・デリバリー）",false,{"$f":"IF(Y17,X17,\"\")","v":""},"□","交通機関サービス",false,"","□","その他（出張サービス）",false,"",null,null,null,null,null,null,null,null,"□","旅行・レジャー",false,"","☑","成年後見・相続",true,"成年後見・相続",null,"☑","浦和区",true,"さいたま市浦和区","さいたま市浦和区",null,null,null,null,null,"",null,"□","三芳町",false,"三芳町","",null,"□","松伏町",false,"松伏町","",null,null,null,null,null,"",null,"□","滑川町",false,"滑川町","",null,null,null,null,null,"",null,"☑","白岡市",true,"白岡市","白岡市",null,"□","寄居町",false,"寄居町","",null,null,null,null,null,""]
[null,null,null,null,null,null,null,null,null,null,null,null,null,null,null,null,null,null,null,null,null,null,null,null,null,null,"□","その他（送迎・移動支援）",false,"",null,null,null,"",null,null,null,"",null,null,null,{"$f":"IF(AO18,AN18,\"\")","v":""},"☑","パソコン・スマホ教室",{"$f":"IF(AQ18=\"☑\",TRUE)","v":true},{"$f":"IF(AS18,AR18,\"\")","v":"パソコン・スマホ教室"},"□","その他（生活サービス）",false,"",null,"□","南区",false,"さいたま市南区","",null,null,null,null,null,"",null,null,null,null,null,"",null,null,null,null,null,"",null,null,null,null,null,"",null,"□","嵐山町",false,"嵐山町","",null,null,null,null,null,"",null,"□","宮代町",false,"宮代町","",null,null,null,null,null,"",null,null,null,null,null,""]
[null,null,null,null,null,null,null,null,null,null,null,null,null,null,null,null,null,null,null,null,null,null,null,null,null,null,null,null,null,null,null,null,null,null,null,null,null,null,null,null,null,null,"□","その他（学び・趣味）",false,"",null,null,null,null,null,"□","緑区",false,"さいたま市緑区","",null,null,null,null,null,"",null,null,null,null,null,"",null,null,null,null,null,"",null,null,null,null,null,"",null,"□","小川町",false,"小川町","",null,null,null,null,null,"",null,"□","杉戸町",false,"杉戸町","",null,null,null,null,null,"",null,null,null,null,null,""]
[null,null,null,null,null,null,null,null,null,null,null,null,null,null,null,null,null,null,null,null,null,null,null,null,null,null,null,null,null,null,null,null,null,null,null,null,null,null,null,null,null,null,null,null,null,null,null,null,null,null,null,"□","岩槻区",{"$f":"IF(AZ20=\"☑\",TRUE)","v":false},"さいたま市岩槻区","",null,null,null,null,null,"",null,null,null,null,null,"",null,null,null,null,null,"",null,null,null,null,null,"",null,"□","川島町",false,"川島町","",null,null,null,null,null,"",null,null,null,null,null,"",null,null,null,null,null,"",null,null,null,null,null,""]
[null,null,null,null,null,null,null,null,null,null,null,null,null,null,null,null,null,null,null,null,null,null,null,null,null,null,null,null,null,null,null,null,null,null,null,null,null,null,null,null,null,null,null,null,null,null,null,null,null,null,null,null,null,null,null,null,null,null,null,null,null,null,null,null,null,null,null,null,null,null,null,null,null,null,null,null,null,null,null,null,null,"□","吉見町",false,"吉見町","",null,null,null,null,null,"",null,null,null,null,null,"",null,null,null,null,null,"",null,null,null,null,null,""]
[null,null,null,null,null,null,null,null,null,null,null,null,null,null,null,null,null,null,null,null,null,null,null,null,null,null,null,null,null,null,null,null,null,null,null,null,null,null,null,null,null,null,null,null,null,null,null,null,null,null,null,null,null,null,null,null,null,null,null,null,null,null,null,null,null,null,null,null,null,null,null,null,null,null,null,null,null,null,null,null,null,"□","鳩山町",false,"鳩山町","",null,null,null,null,null,"",null,null,null,null,null,"",null,null,null,null,null,"",null,null,null,null,null,""]
[null,null,null,null,null,null,null,null,null,null,null,null,null,null,null,null,null,null,null,null,null,null,null,null,null,null,null,null,null,null,null,null,null,null,null,null,null,null,null,null,null,null,null,null,null,null,null,null,null,null,null,null,null,null,null,null,null,null,null,null,null,null,null,null,null,null,null,null,null,null,null,null,null,null,null,null,null,null,null,null,null,"□","ときがわ町",false,"ときがわ町","",null,null,null,null,null,"",null,null,null,null,null,"",null,null,null,null,null,"",null,null,null,null,null,""]
[null,null,null,null,null,null,null,null,null,null,null,null,null,null,null,null,null,null,null,null,null,null,null,null,null,null,null,null,null,null,null,null,null,null,null,null,null,null,null,null,null,null,null,null,null,null,null,null,null,null,null,null,null,null,null,null,null,null,null,null,null,null,null,null,null,null,null,null,null,null,null,null,null,null,null,null,null,null,null,null,null,"□","東秩父村",false,"東秩父村","",null,null,null,null,null,"",null,null,null,null,null,"",null,null,null,null,null,"",null,null,null,null,null,""]
[1,null,null,null,null,null,null,null,null,null,null,null,null,null,null,null,null,null,"□","配送",{"$f":"IF(S25=\"☑\",TRUE)","v":false},{"$f":"IF(U25,T25,\"\")","v":""},"□","弁当配達",{"$f":"IF(W25=\"☑\",TRUE)","v":false},{"$f":"IF(Y25,X25,\"\")","v":""},"□","理容・美容（送迎）",{"$f":"IF(AA25=\"☑\",TRUE)","v":false},{"$f":"IF(AC25,AB25,\"\")","v":""},"□","家事代行・掃除・片付け",{"$f":"IF(AE25=\"☑\",TRUE)","v":false},{"$f":"IF(AG25,AF25,\"\")","v":""},"□","フィットネス・ジム（運動）",{"$f":"IF(AI25=\"☑\",TRUE)","v":false},{"$f":"IF(AK25,AJ25,\"\")","v":""},"□","車イス対応（バリアフリー）",{"$f":"IF(AM25=\"☑\",TRUE)","v":false},{"$f":"IF(AO25,AN25,\"\")","v":""},"□","講座・教室・イベント",{"$f":"IF(AQ25=\"☑\",TRUE)","v":false},{"$f":"IF(AS25,AR25,\"\")","v":""},"□","防犯・見守り",{"$f":"IF(AU25=\"☑\",TRUE)","v":false},{"$f":"IF(AW25,AV25,\"\")","v":""},{"$f":"_xlfn.TEXTJOIN(\"／\",TRUE,V25:V38,Z25:Z38,AD25:AD38,AH25:AH38,AL25:AL38,AP25:AP38,AT25:AT38,AX25:AX38)","v":""},"□","西区",{"$f":"IF(AZ25=\"☑\",TRUE)","v":false},{"$f":"\"さいたま市\"&BA25","v":"さいたま市西区"},{"$f":"IF(BB25,BC25,\"\")","v":""},{"$f":"_xlfn.TEXTJOIN(\"／\",TRUE,BD25:BD38)","v":""},"□","川口市",{"$f":"IF(BF25=\"☑\",TRUE)","v":false},{"$f":"BG25","v":"川口市"},{"$f":"IF(BH25,BI25,\"\")","v":""},{"$f":"_xludf.TEXTJOIN(\",\",TRUE,BJ25:BJ38)","v":""},"□","朝霞市",{"$f":"IF(BL25=\"☑\",TRUE)","v":false},{"$f":"BM25","v":"朝霞市"},{"$f":"IF(BN25,BO25,\"\")","v":""},{"$f":"_xlfn.TEXTJOIN(\"／\",TRUE,BP25:BP38)","v":""},"□","春日部市",{"$f":"IF(BR25=\"☑\",TRUE)","v":false},{"$f":"BS25","v":"春日部市"},{"$f":"IF(BT25,BU25,\"\")","v":""},{"$f":"_xlfn.TEXTJOIN(\"／\",TRUE,BV25:BV38)","v":""},"□","鴻巣市",{"$f":"IF(BX25=\"☑\",TRUE)","v":false},{"$f":"BY25","v":"鴻巣市"},{"$f":"IF(BZ25,CA25,\"\")","v":""},{"$f":"_xlfn.TEXTJOIN(\"／\",TRUE,CB25:CB38)","v":""},"□","川越市",{"$f":"IF(CD25=\"☑\",TRUE)","v":false},"川越市",{"$f":"IF(CF25,CG25,\"\")","v":""},{"$f":"_xlfn.TEXTJOIN(\"／\",TRUE,CH25:CH38)","v":""},"□","所沢市",{"$f":"IF(CJ25=\"☑\",TRUE)","v":false},{"$f":"CK25","v":"所沢市"},{"$f":"IF(CL25,CM25,\"\")","v":""},{"$f":"_xlfn.TEXTJOIN(\"／\",TRUE,CN25:CN38)","v":""},"□","行田市",{"$f":"IF(CP25=\"☑\",TRUE)","v":false},{"$f":"CQ25","v":"行田市"},{"$f":"IF(CR25,CS25,\"\")","v":""},{"$f":"_xludf.TEXTJOIN(\",\",TRUE,CT25:CT38)","v":""},"□","熊谷市",{"$f":"IF(CV25=\"☑\",TRUE)","v":false},{"$f":"CW25","v":"熊谷市"},{"$f":"IF(CX25,CY25,\"\")","v":""},{"$f":"_xlfn.TEXTJOIN(\"／\",TRUE,CZ25:CZ38)","v":""},"□","秩父市",{"$f":"IF(DB25=\"☑\",TRUE)","v":false},{"$f":"DC25","v":"秩父市"},{"$f":"IF(DD25,DE25,\"\")","v":""},{"$f":"_xlfn.TEXTJOIN(\"／\",TRUE,DF25:DF38)","v":""},{"$f":"_xlfn.TEXTJOIN(\"／\",TRUE,BE25,BK25,BQ25,BW25,CC25,CI25,CO25,CU25,DA25,DG25)","v":""},null,null,null,null,null,null,null,{"$f":"IF(#REF!=\"☑\",TRUE)","v":{"$error":"#REF!"}},{"$f":"IF(DP25,#REF!,\"\")","v":{"$error":"#REF!"}},{"$f":"_xludf.TEXTJOIN(\",\",TRUE,DQ25:DQ38)","v":{"$error":"#VALUE!"}}]
[null,null,null,null,null,null,null,null,null,null,null,null,null,null,null,null,null,null,"□","買物サポート",false,"","□","料理デリバリー（出前）",false,"","□","フィットネス・ジム（送迎）",{"$f":"IF(AA26=\"☑\",TRUE)","v":false},{"$f":"IF(AC26,AB26,\"\")","v":""},"□","出張料理",{"$f":"IF(AE26=\"☑\",TRUE)","v":false},{"$f":"IF(AG26,AF26,\"\")","v":""},"□","温泉・銭湯（たまり場）",false,"","□","多目的トイレ",false,"","□","習い事",{"$f":"IF(AQ26=\"☑\",TRUE)","v":false},{"$f":"IF(AS26,AR26,\"\")","v":""},"□","金融・保険",false,"",null,"□","北区",{"$f":"IF(AZ26=\"☑\",TRUE)","v":false},"さいたま市北区",{"$f":"IF(BB26,BC26,\"\")","v":""},null,"□","蕨市",{"$f":"IF(BF26=\"☑\",TRUE)","v":false},{"$f":"BG26","v":"蕨市"},{"$f":"IF(BH26,BI26,\"\")","v":""},null,"□","志木市",{"$f":"IF(BL26=\"☑\",TRUE)","v":false},"志木市",{"$f":"IF(BN26,BO26,\"\")","v":""},null,"□","草加市",{"$f":"IF(BR26=\"☑\",TRUE)","v":false},"草加市","",null,"□","上尾市",{"$f":"IF(BX26=\"☑\",TRUE)","v":false},{"$f":"BY26","v":"上尾市"},{"$f":"IF(BZ26,CA26,\"\")","v":""},null,"□","東松山市",{"$f":"IF(CD26=\"☑\",TRUE)","v":false},"東松山市",{"$f":"IF(CF26,CG26,\"\")","v":""},null,"□","飯能市",{"$f":"IF(CJ26=\"☑\",TRUE)","v":false},{"$f":"CK26","v":"飯能市"},{"$f":"IF(CL26,CM26,\"\")","v":""},null,"□","加須市",{"$f":"IF(CP26=\"☑\",TRUE)","v":false},"加須市",{"$f":"IF(CR26,CS26,\"\")","v":""},null,"□","本庄市",{"$f":"IF(CV26=\"☑\",TRUE)","v":false},"本庄市",{"$f":"IF(CX26,CY26,\"\")","v":""},null,"□","横瀬町",{"$f":"IF(DB26=\"☑\",TRUE)","v":false},{"$f":"DC26","v":"横瀬町"},{"$f":"IF(DD26,DE26,\"\")","v":""},null,null,null,null,null,null,null,null,null,null,{"$f":"IF(DP26,#REF!,\"\")","v":""}]
[null,null,null,null,null,null,null,null,null,null,null,null,null,null,null,null,null,null,"□","買物代行",false,"","□","食材宅配",false,"","□","温泉・銭湯（送迎）",false,"","□","屋外作業・力仕事",false,"","□","カフェ・ファーストフード",false,"","□","休憩スペース",false,"","□","映画館",false,"","□","住宅・リフォーム",false,"",null,"□","大宮区",false,"さいたま市大宮区","",null,"□","戸田市",{"$f":"IF(BF27=\"☑\",TRUE)","v":false},{"$f":"BG27","v":"戸田市"},"",null,"□","和光市",false,"和光市","",null,"□","越谷市",false,"越谷市","",null,"□","桶川市",{"$f":"IF(BX27=\"☑\",TRUE)","v":false},{"$f":"BY27","v":"桶川市"},"",null,"□","坂戸市",false,"坂戸市","",null,"□","狭山市",{"$f":"IF(CJ27=\"☑\",TRUE)","v":false},{"$f":"CK27","v":"狭山市"},"",null,"□","羽生市",false,"羽生市","",null,"□","深谷市",false,"深谷市","",null,"□","皆野町",{"$f":"IF(DB27=\"☑\",TRUE)","v":false},{"$f":"DC27","v":"皆野町"},"",null,null,null,null,null,null,null,null,null,{"$f":"IF(#REF!=\"☑\",TRUE)","v":{"$error":"#REF!"}},{"$f":"IF(DP27,#REF!,\"\")","v":{"$error":"#REF!"}}]
[null,null,null,null,null,null,null,null,null,null,null,null,null,null,null,null,null,null,"□","移動販売",false,"","□","日用品配達",false,"","□","整体・マッサージ（送迎）",false,"","□","整体・マッサージ（出張）",false,"","□","飲食店",false,"","□","駐車場",false,"","□","カラオケ店",false,"","□","パソコン・スマートフォン",false,"",null,"□","見沼区",false,"さいたま市見沼区","",null,null,null,null,null,"",null,"□","新座市",false,"新座市","",null,"□","八潮市",false,"八潮市","",null,"□","北本市",{"$f":"IF(BX28=\"☑\",TRUE)","v":false},{"$f":"BY28","v":"北本市"},"",null,"□","鶴ヶ島市",false,"鶴ヶ島市","",null,"□","入間市",{"$f":"IF(CJ28=\"☑\",TRUE)","v":false},{"$f":"CK28","v":"入間市"},"",null,"□","久喜市",false,"久喜市","",null,"□","美里町",false,"美里町","",null,"□","長瀞町",{"$f":"IF(DB28=\"☑\",TRUE)","v":false},{"$f":"DC28","v":"長瀞町"},""]
[null,null,null,null,null,null,null,null,null,null,null,null,null,null,null,null,null,null,"□","割引サービス",false,"","□","薬・介護用品配達",false,"","□","乗り合いサービス",false,"","□","理容・美容（出張）",false,"","□","イートインスペース",false,"","□","貸しスペース",false,"","□","麻雀・将棋・囲碁",false,"","□","認知症サポート企業",false,"",null,"□","中央区",false,"さいたま市中央区","",null,null,null,null,null,"",null,"□","富士見市",false,"富士見市","",null,"□","三郷市",false,"三郷市","",null,"□","伊奈町",{"$f":"IF(BX29=\"☑\",TRUE)","v":false},{"$f":"BY29","v":"伊奈町"},"",null,"□","毛呂山町",false,"毛呂山町","",null,"□","日高市",{"$f":"IF(CJ29=\"☑\",TRUE)","v":false},{"$f":"CK29","v":"日高市"},"",null,"□","蓮田市",false,"蓮田市","",null,"□","神川町",false,"神川町","",null,"□","小鹿野町",{"$f":"IF(DB29=\"☑\",TRUE)","v":false},{"$f":"DC29","v":"小鹿野町"},"",null,null,null,null,null,null,null,null,null,{"$f":"IF(#REF!=\"☑\",TRUE)","v":{"$error":"#REF!"}},{"$f":"IF(DP29,#REF!,\"\")","v":{"$error":"#REF!"}}]
[null,null,null,null,null,null,null,null,null,null,null,null,null,null,null,null,null,null,"□","その他（買物）",false,"","□","クリーニング",false,{"$f":"IF(Y30,X30,\"\")","v":""},"□","個別移送サービス",false,"","□","ペット",false,"","□","その他（運動・たまり場）",false,"","□","その他（設備・施設・場所貸し）",false,"","□","ゲームセンター",false,"","□","理容・美容",false,"",null,"□","桜区",false,"さいたま市桜区","",null,null,null,null,null,"",null,"□","ふじみ野市",false,"ふじみ野市","",null,"□","吉川市",false,"吉川市","",null,null,null,null,null,"",null,"□","越生町",false,"越生町","",null,null,null,null,null,"",null,"□","幸手市",false,"幸手市","",null,"□","上里町",false,"上里町","",null,null,null,null,null,"",null,null,null,null,null,null,null,null,null,{"$f":"IF(#REF!=\"☑\",TRUE)","v":{"$error":"#REF!"}},{"$f":"IF(DP30,#REF!,\"\")","v":{"$error":"#REF!"}}]
[null,null,null,null,null,null,null,null,null,null,null,null,null,null,null,null,null,null,null,null,null,null,"□","その他（宅配・デリバリー）",false,{"$f":"IF(Y31,X31,\"\")","v":""},"□","交通機関サービス",false,"","□","その他（出張サービス）",false,"",null,null,null,null,null,null,null,null,"□","旅行・レジャー",false,"","□","成年後見・相続",false,"",null,"□","浦和区",false,"さいたま市浦和区","",null,null,null,null,null,"",null,"□","三芳町",false,"三芳町","",null,"□","松伏町",false,"松伏町","",null,null,null,null,null,"",null,"□","滑川町",false,"滑川町","",null,null,null,null,null,"",null,"□","白岡市",false,"白岡市","",null,"□","寄居町",false,"寄居町","",null,null,null,null,null,""]
[null,null,null,null,null,null,null,null,null,null,null,null,null,null,null,null,null,null,null,null,null,null,null,null,null,null,"□","その他（送迎・移動支援）",false,"",null,null,null,"",null,null,null,{"$f":"IF(AK32,AJ32,\"\")","v":""},null,null,null,{"$f":"IF(AO32,AN32,\"\")","v":""},"□","パソコン・スマホ教室",false,"","□","その他（生活サービス）",false,"",null,"□","南区",false,"さいたま市南区","",null,null,null,null,null,"",null,null,null,null,null,"",null,null,null,null,null,"",null,null,null,null,null,"",null,"□","嵐山町",false,"嵐山町","",null,null,null,null,null,"",null,"□","宮代町",false,"宮代町","",null,null,null,null,null,"",null,null,null,null,null,""]
[null,null,null,null,null,null,null,null,null,null,null,null,null,null,null,null,null,null,null,null,null,null,null,null,null,null,null,null,null,null,null,null,null,null,null,null,null,null,null,null,null,null,"□","その他（学び・趣味）",false,"",null,null,null,null,null,"□","緑区",false,"さいたま市緑区","",null,null,null,null,null,"",null,null,null,null,null,"",null,null,null,null,null,"",null,null,null,null,null,"",null,"□","小川町",false,"小川町","",null,null,null,null,null,"",null,"□","杉戸町",false,"杉戸町","",null,null,null,null,null,"",null,null,null,null,null,""]
[null,null,null,null,null,null,null,null,null,null,null,null,null,null,null,null,null,null,null,null,null,null,null,null,null,null,null,null,null,null,null,null,null,null,null,null,null,null,null,null,null,null,null,null,null,null,null,null,null,null,null,"□","岩槻区",{"$f":"IF(AZ34=\"☑\",TRUE)","v":false},"さいたま市岩槻区","",null,null,null,null,null,"",null,null,null,null,null,"",null,null,null,null,null,"",null,null,null,null,null,"",null,"□","川島町",false,"川島町","",null,null,null,null,null,"",null,null,null,null,null,"",null,null,null,null,null,"",null,null,null,null,null,""]
[null,null,null,null,null,null,null,null,null,null,null,null,null,null,null,null,null,null,null,null,null,null,null,null,null,null,null,null,null,null,null,null,null,null,null,null,null,null,null,null,null,null,null,null,null,null,null,null,null,null,null,null,null,null,null,null,null,null,null,null,null,null,null,null,null,null,null,null,null,null,null,null,null,null,null,null,null,null,null,null,null,"□","吉見町",false,"吉見町","",null,null,null,null,null,"",null,null,null,null,null,"",null,null,null,null,null,"",null,null,null,null,null,""]
[null,null,null,null,null,null,null,null,null,null,null,null,null,null,null,null,null,null,null,null,null,null,null,null,null,null,null,null,null,null,null,null,null,null,null,null,null,null,null,null,null,null,null,null,null,null,null,null,null,null,null,null,null,null,null,null,null,null,null,null,null,null,null,null,null,null,null,null,null,null,null,null,null,null,null,null,null,null,null,null,null,"□","鳩山町",false,"鳩山町","",null,null,null,null,null,"",null,null,null,null,null,"",null,null,null,null,null,"",null,null,null,null,null,""]
[null,null,null,null,null,null,null,null,null,null,null,null,null,null,null,null,null,null,null,null,null,null,null,null,null,null,null,null,null,null,null,null,null,null,null,null,null,null,null,null,null,null,null,null,null,null,null,null,null,null,null,null,null,null,null,null,null,null,null,null,null,null,null,null,null,null,null,null,null,null,null,null,null,null,null,null,null,null,null,null,null,"□","ときがわ町",false,"ときがわ町","",null,null,null,null,null,"",null,null,null,null,null,"",null,null,null,null,null,"",null,null,null,null,null,""]
[null,null,null,null,null,null,null,null,null,null,null,null,null,null,null,null,null,null,null,null,null,null,null,null,null,null,null,null,null,null,null,null,null,null,null,null,null,null,null,null,null,null,null,null,null,null,null,null,null,null,null,null,null,null,null,null,null,null,null,null,null,null,null,null,null,null,null,null,null,null,null,null,null,null,null,null,null,null,null,null,null,"□","東秩父村",false,"東秩父村","",null,null,null,null,null,"",null,null,null,null,null,"",null,null,null,null,null,"",null,null,null,null,null,""]
[2,null,null,null,null,null,null,null,null,null,null,null,null,null,null,null,null,null,"□","配送",{"$f":"IF(S39=\"☑\",TRUE)","v":false},{"$f":"IF(U39,T39,\"\")","v":""},"□","弁当配達",{"$f":"IF(W39=\"☑\",TRUE)","v":false},{"$f":"IF(Y39,X39,\"\")","v":""},"□","理容・美容（送迎）",{"$f":"IF(AA39=\"☑\",TRUE)","v":false},{"$f":"IF(AC39,AB39,\"\")","v":""},"□","家事代行・掃除・片付け",{"$f":"IF(AE39=\"☑\",TRUE)","v":false},{"$f":"IF(AG39,AF39,\"\")","v":""},"□","フィットネス・ジム（運動）",{"$f":"IF(AI39=\"☑\",TRUE)","v":false},{"$f":"IF(AK39,AJ39,\"\")","v":""},"□","車イス対応（バリアフリー）",{"$f":"IF(AM39=\"☑\",TRUE)","v":false},{"$f":"IF(AO39,AN39,\"\")","v":""},"□","講座・教室・イベント",{"$f":"IF(AQ39=\"☑\",TRUE)","v":false},{"$f":"IF(AS39,AR39,\"\")","v":""},"□","防犯・見守り",{"$f":"IF(AU39=\"☑\",TRUE)","v":false},{"$f":"IF(AW39,AV39,\"\")","v":""},{"$f":"_xlfn.TEXTJOIN(\"／\",TRUE,V39:V52,Z39:Z52,AD39:AD52,AH39:AH52,AL39:AL52,AP39:AP52,AT39:AT52,AX39:AX52)","v":""},"□","西区",{"$f":"IF(AZ39=\"☑\",TRUE)","v":false},{"$f":"\"さいたま市\"&BA39","v":"さいたま市西区"},{"$f":"IF(BB39,BC39,\"\")","v":""},{"$f":"_xlfn.TEXTJOIN(\"／\",TRUE,BD39:BD52)","v":""},"□","川口市",{"$f":"IF(BF39=\"☑\",TRUE)","v":false},{"$f":"BG39","v":"川口市"},{"$f":"IF(BH39,BI39,\"\")","v":""},{"$f":"_xludf.TEXTJOIN(\",\",TRUE,BJ39:BJ52)","v":""},"□","朝霞市",{"$f":"IF(BL39=\"☑\",TRUE)","v":false},{"$f":"BM39","v":"朝霞市"},{"$f":"IF(BN39,BO39,\"\")","v":""},{"$f":"_xlfn.TEXTJOIN(\"／\",TRUE,BP39:BP52)","v":""},"□","春日部市",{"$f":"IF(BR39=\"☑\",TRUE)","v":false},{"$f":"BS39","v":"春日部市"},{"$f":"IF(BT39,BU39,\"\")","v":""},{"$f":"_xlfn.TEXTJOIN(\"／\",TRUE,BV39:BV52)","v":""},"□","鴻巣市",{"$f":"IF(BX39=\"☑\",TRUE)","v":false},{"$f":"BY39","v":"鴻巣市"},{"$f":"IF(BZ39,CA39,\"\")","v":""},{"$f":"_xlfn.TEXTJOIN(\"／\",TRUE,CB39:CB52)","v":""},"□","川越市",{"$f":"IF(CD39=\"☑\",TRUE)","v":false},"川越市",{"$f":"IF(CF39,CG39,\"\")","v":""},{"$f":"_xlfn.TEXTJOIN(\"／\",TRUE,CH39:CH52)","v":""},"□","所沢市",{"$f":"IF(CJ39=\"☑\",TRUE)","v":false},{"$f":"CK39","v":"所沢市"},{"$f":"IF(CL39,CM39,\"\")","v":""},{"$f":"_xlfn.TEXTJOIN(\"／\",TRUE,CN39:CN52)","v":""},"□","行田市",{"$f":"IF(CP39=\"☑\",TRUE)","v":false},{"$f":"CQ39","v":"行田市"},{"$f":"IF(CR39,CS39,\"\")","v":""},{"$f":"_xludf.TEXTJOIN(\",\",TRUE,CT39:CT52)","v":""},"□","熊谷市",{"$f":"IF(CV39=\"☑\",TRUE)","v":false},{"$f":"CW39","v":"熊谷市"},{"$f":"IF(CX39,CY39,\"\")","v":""},{"$f":"_xlfn.TEXTJOIN(\"／\",TRUE,CZ39:CZ52)","v":""},"□","秩父市",{"$f":"IF(DB39=\"☑\",TRUE)","v":false},{"$f":"DC39","v":"秩父市"},{"$f":"IF(DD39,DE39,\"\")","v":""},{"$f":"_xlfn.TEXTJOIN(\"／\",TRUE,DF39:DF52)","v":""},{"$f":"_xlfn.TEXTJOIN(\"／\",TRUE,BE39,BK39,BQ39,BW39,CC39,CI39,CO39,CU39,DA39,DG39)","v":""},null,null,null,null,null,null,null,{"$f":"IF(#REF!=\"☑\",TRUE)","v":{"$error":"#REF!"}},{"$f":"IF(DP39,#REF!,\"\")","v":{"$error":"#REF!"}},{"$f":"_xludf.TEXTJOIN(\",\",TRUE,DQ39:DQ52)","v":{"$error":"#VALUE!"}}]
[null,null,null,null,null,null,null,null,null,null,null,null,null,null,null,null,null,null,"□","買物サポート",false,"","□","料理デリバリー（出前）",false,"","□","フィットネス・ジム（送迎）",{"$f":"IF(AA40=\"☑\",TRUE)","v":false},{"$f":"IF(AC40,AB40,\"\")","v":""},"□","出張料理",{"$f":"IF(AE40=\"☑\",TRUE)","v":false},{"$f":"IF(AG40,AF40,\"\")","v":""},"□","温泉・銭湯（たまり場）",false,"","□","多目的トイレ",false,"","□","習い事",{"$f":"IF(AQ40=\"☑\",TRUE)","v":false},{"$f":"IF(AS40,AR40,\"\")","v":""},"□","金融・保険",false,"",null,"□","北区",{"$f":"IF(AZ40=\"☑\",TRUE)","v":false},"さいたま市北区",{"$f":"IF(BB40,BC40,\"\")","v":""},null,"□","蕨市",{"$f":"IF(BF40=\"☑\",TRUE)","v":false},{"$f":"BG40","v":"蕨市"},{"$f":"IF(BH40,BI40,\"\")","v":""},null,"□","志木市",{"$f":"IF(BL40=\"☑\",TRUE)","v":false},"志木市",{"$f":"IF(BN40,BO40,\"\")","v":""},null,"□","草加市",{"$f":"IF(BR40=\"☑\",TRUE)","v":false},"草加市","",null,"□","上尾市",{"$f":"IF(BX40=\"☑\",TRUE)","v":false},{"$f":"BY40","v":"上尾市"},{"$f":"IF(BZ40,CA40,\"\")","v":""},null,"□","東松山市",{"$f":"IF(CD40=\"☑\",TRUE)","v":false},"東松山市",{"$f":"IF(CF40,CG40,\"\")","v":""},null,"□","飯能市",{"$f":"IF(CJ40=\"☑\",TRUE)","v":false},{"$f":"CK40","v":"飯能市"},{"$f":"IF(CL40,CM40,\"\")","v":""},null,"□","加須市",{"$f":"IF(CP40=\"☑\",TRUE)","v":false},"加須市",{"$f":"IF(CR40,CS40,\"\")","v":""},null,"□","本庄市",{"$f":"IF(CV40=\"☑\",TRUE)","v":false},"本庄市",{"$f":"IF(CX40,CY40,\"\")","v":""},null,"□","横瀬町",{"$f":"IF(DB40=\"☑\",TRUE)","v":false},{"$f":"DC40","v":"横瀬町"},{"$f":"IF(DD40,DE40,\"\")","v":""},null,null,null,null,null,null,null,null,null,null,{"$f":"IF(DP40,#REF!,\"\")","v":""}]
[null,null,null,null,null,null,null,null,null,null,null,null,null,null,null,null,null,null,"□","買物代行",false,"","□","食材宅配",false,"","□","温泉・銭湯（送迎）",false,"","□","屋外作業・力仕事",false,"","□","カフェ・ファーストフード",false,"","□","休憩スペース",false,"","□","映画館",false,"","□","住宅・リフォーム",false,"",null,"□","大宮区",false,"さいたま市大宮区","",null,"□","戸田市",{"$f":"IF(BF41=\"☑\",TRUE)","v":false},{"$f":"BG41","v":"戸田市"},"",null,"□","和光市",false,"和光市","",null,"□","越谷市",false,"越谷市","",null,"□","桶川市",{"$f":"IF(BX41=\"☑\",TRUE)","v":false},{"$f":"BY41","v":"桶川市"},"",null,"□","坂戸市",false,"坂戸市","",null,"□","狭山市",{"$f":"IF(CJ41=\"☑\",TRUE)","v":false},{"$f":"CK41","v":"狭山市"},"",null,"□","羽生市",false,"羽生市","",null,"□","深谷市",false,"深谷市","",null,"□","皆野町",{"$f":"IF(DB41=\"☑\",TRUE)","v":false},{"$f":"DC41","v":"皆野町"},"",null,null,null,null,null,null,null,null,null,{"$f":"IF(#REF!=\"☑\",TRUE)","v":{"$error":"#REF!"}},{"$f":"IF(DP41,#REF!,\"\")","v":{"$error":"#REF!"}}]
[null,null,null,null,null,null,null,null,null,null,null,null,null,null,null,null,null,null,"□","移動販売",false,"","□","日用品配達",false,"","□","整体・マッサージ（送迎）",false,"","□","整体・マッサージ（出張）",false,"","□","飲食店",false,"","□","駐車場",false,"","□","カラオケ店",false,"","□","パソコン・スマートフォン",false,"",null,"□","見沼区",false,"さいたま市見沼区","",null,null,null,null,null,"",null,"□","新座市",false,"新座市","",null,"□","八潮市",false,"八潮市","",null,"□","北本市",{"$f":"IF(BX42=\"☑\",TRUE)","v":false},{"$f":"BY42","v":"北本市"},"",null,"□","鶴ヶ島市",false,"鶴ヶ島市","",null,"□","入間市",{"$f":"IF(CJ42=\"☑\",TRUE)","v":false},{"$f":"CK42","v":"入間市"},"",null,"□","久喜市",false,"久喜市","",null,"□","美里町",false,"美里町","",null,"□","長瀞町",{"$f":"IF(DB42=\"☑\",TRUE)","v":false},{"$f":"DC42","v":"長瀞町"},""]
[null,null,null,null,null,null,null,null,null,null,null,null,null,null,null,null,null,null,"□","割引サービス",false,"","□","薬・介護用品配達",false,"","□","乗り合いサービス",false,"","□","理容・美容（出張）",false,"","□","イートインスペース",false,"","□","貸しスペース",false,"","□","麻雀・将棋・囲碁",false,"","□","認知症サポート企業",false,"",null,"□","中央区",false,"さいたま市中央区","",null,null,null,null,null,"",null,"□","富士見市",false,"富士見市","",null,"□","三郷市",false,"三郷市","",null,"□","伊奈町",{"$f":"IF(BX43=\"☑\",TRUE)","v":false},{"$f":"BY43","v":"伊奈町"},"",null,"□","毛呂山町",false,"毛呂山町","",null,"□","日高市",{"$f":"IF(CJ43=\"☑\",TRUE)","v":false},{"$f":"CK43","v":"日高市"},"",null,"□","蓮田市",false,"蓮田市","",null,"□","神川町",false,"神川町","",null,"□","小鹿野町",{"$f":"IF(DB43=\"☑\",TRUE)","v":false},{"$f":"DC43","v":"小鹿野町"},"",null,null,null,null,null,null,null,null,null,{"$f":"IF(#REF!=\"☑\",TRUE)","v":{"$error":"#REF!"}},{"$f":"IF(DP43,#REF!,\"\")","v":{"$error":"#REF!"}}]
[null,null,null,null,null,null,null,null,null,null,null,null,null,null,null,null,null,null,"□","その他（買物）",false,"","□","クリーニング",false,{"$f":"IF(Y44,X44,\"\")","v":""},"□","個別移送サービス",false,"","□","ペット",false,"","□","その他（運動・たまり場）",false,"","□","その他（設備・施設・場所貸し）",false,"","□","ゲームセンター",false,"","□","理容・美容",false,"",null,"□","桜区",false,"さいたま市桜区","",null,null,null,null,null,"",null,"□","ふじみ野市",false,"ふじみ野市","",null,"□","吉川市",false,"吉川市","",null,null,null,null,null,"",null,"□","越生町",false,"越生町","",null,null,null,null,null,"",null,"□","幸手市",false,"幸手市","",null,"□","上里町",false,"上里町","",null,null,null,null,null,"",null,null,null,null,null,null,null,null,null,{"$f":"IF(#REF!=\"☑\",TRUE)","v":{"$error":"#REF!"}},{"$f":"IF(DP44,#REF!,\"\")","v":{"$error":"#REF!"}}]
[null,null,null,null,null,null,null,null,null,null,null,null,null,null,null,null,null,null,null,null,null,null,"□","その他（宅配・デリバリー）",false,{"$f":"IF(Y45,X45,\"\")","v":""},"□","交通機関サービス",false,"","□","その他（出張サービス）",false,"",null,null,null,null,null,null,null,null,"□","旅行・レジャー",false,"","□","成年後見・相続",false,"",null,"□","浦和区",false,"さいたま市浦和区","",null,null,null,null,null,"",null,"□","三芳町",false,"三芳町","",null,"□","松伏町",false,"松伏町","",null,null,null,null,null,"",null,"□","滑川町",false,"滑川町","",null,null,null,null,null,"",null,"□","白岡市",false,"白岡市","",null,"□","寄居町",false,"寄居町","",null,null,null,null,null,""]
[null,null,null,null,null,null,null,null,null,null,null,null,null,null,null,null,null,null,null,null,null,null,null,null,null,null,"□","その他（送迎・移動支援）",false,"",null,null,null,"",null,null,null,{"$f":"IF(AK46,AJ46,\"\")","v":""},null,null,null,{"$f":"IF(AO46,AN46,\"\")","v":""},"□","パソコン・スマホ教室",false,"","□","その他（生活サービス）",false,"",null,"□","南区",false,"さいたま市南区","",null,null,null,null,null,"",null,null,null,null,null,"",null,null,null,null,null,"",null,null,null,null,null,"",null,"□","嵐山町",false,"嵐山町","",null,null,null,null,null,"",null,"□","宮代町",false,"宮代町","",null,null,null,null,null,"",null,null,null,null,null,""]
[null,null,null,null,null,null,null,null,null,null,null,null,null,null,null,null,null,null,null,null,null,null,null,null,null,null,null,null,null,null,null,null,null,null,null,null,null,null,null,null,null,null,"□","その他（学び・趣味）",false,"",null,null,null,null,null,"□","緑区",false,"さいたま市緑区","",null,null,null,null,null,"",null,null,null,null,null,"",null,null,null,null,null,"",null,null,null,null,null,"",null,"□","小川町",false,"小川町","",null,null,null,null,null,"",null,"□","杉戸町",false,"杉戸町","",null,null,null,null,null,"",null,null,null,null,null,""]
[null,null,null,null,null,null,null,null,null,null,null,null,null,null,null,null,null,null,null,null,null,null,null,null,null,null,null,null,null,null,null,null,null,null,null,null,null,null,null,null,null,null,null,null,null,null,null,null,null,null,null,"□","岩槻区",{"$f":"IF(AZ48=\"☑\",TRUE)","v":false},"さいたま市岩槻区","",null,null,null,null,null,"",null,null,null,null,null,"",null,null,null,null,null,"",null,null,null,null,null,"",null,"□","川島町",false,"川島町","",null,null,null,null,null,"",null,null,null,null,null,"",null,null,null,null,null,"",null,null,null,null,null,""]
[null,null,null,null,null,null,null,null,null,null,null,null,null,null,null,null,null,null,null,null,null,null,null,null,null,null,null,null,null,null,null,null,null,null,null,null,null,null,null,null,null,null,null,null,null,null,null,null,null,null,null,null,null,null,null,null,null,null,null,null,null,null,null,null,null,null,null,null,null,null,null,null,null,null,null,null,null,null,null,null,null,"□","吉見町",false,"吉見町","",null,null,null,null,null,"",null,null,null,null,null,"",null,null,null,null,null,"",null,null,null,null,null,""]
[null,null,null,null,null,null,null,null,null,null,null,null,null,null,null,null,null,null,null,null,null,null,null,null,null,null,null,null,null,null,null,null,null,null,null,null,null,null,null,null,null,null,null,null,null,null,null,null,null,null,null,null,null,null,null,null,null,null,null,null,null,null,null,null,null,null,null,null,null,null,null,null,null,null,null,null,null,null,null,null,null,"□","鳩山町",false,"鳩山町","",null,null,null,null,null,"",null,null,null,null,null,"",null,null,null,null,null,"",null,null,null,null,null,""]
[null,null,null,null,null,null,null,null,null,null,null,null,null,null,null,null,null,null,null,null,null,null,null,null,null,null,null,null,null,null,null,null,null,null,null,null,null,null,null,null,null,null,null,null,null,null,null,null,null,null,null,null,null,null,null,null,null,null,null,null,null,null,null,null,null,null,null,null,null,null,null,null,null,null,null,null,null,null,null,null,null,"□","ときがわ町",false,"ときがわ町","",null,null,null,null,null,"",null,null,null,null,null,"",null,null,null,null,null,"",null,null,null,null,null,""]
[null,null,null,null,null,null,null,null,null,null,null,null,null,null,null,null,null,null,null,null,null,null,null,null,null,null,null,null,null,null,null,null,null,null,null,null,null,null,null,null,null,null,null,null,null,null,null,null,null,null,null,null,null,null,null,null,null,null,null,null,null,null,null,null,null,null,null,null,null,null,null,null,null,null,null,null,null,null,null,null,null,"□","東秩父村",false,"東秩父村","",null,null,null,null,null,"",null,null,null,null,null,"",null,null,null,null,null,"",null,null,null,null,null,""]
[3,null,null,null,null,null,null,null,null,null,null,null,null,null,null,null,null,null,"□","配送",{"$f":"IF(S53=\"☑\",TRUE)","v":false},{"$f":"IF(U53,T53,\"\")","v":""},"□","弁当配達",{"$f":"IF(W53=\"☑\",TRUE)","v":false},{"$f":"IF(Y53,X53,\"\")","v":""},"□","理容・美容（送迎）",{"$f":"IF(AA53=\"☑\",TRUE)","v":false},{"$f":"IF(AC53,AB53,\"\")","v":""},"□","家事代行・掃除・片付け",{"$f":"IF(AE53=\"☑\",TRUE)","v":false},{"$f":"IF(AG53,AF53,\"\")","v":""},"□","フィットネス・ジム（運動）",{"$f":"IF(AI53=\"☑\",TRUE)","v":false},{"$f":"IF(AK53,AJ53,\"\")","v":""},"□","車イス対応（バリアフリー）",{"$f":"IF(AM53=\"☑\",TRUE)","v":false},{"$f":"IF(AO53,AN53,\"\")","v":""},"□","講座・教室・イベント",{"$f":"IF(AQ53=\"☑\",TRUE)","v":false},{"$f":"IF(AS53,AR53,\"\")","v":""},"□","防犯・見守り",{"$f":"IF(AU53=\"☑\",TRUE)","v":false},{"$f":"IF(AW53,AV53,\"\")","v":""},{"$f":"_xlfn.TEXTJOIN(\"／\",TRUE,V53:V66,Z53:Z66,AD53:AD66,AH53:AH66,AL53:AL66,AP53:AP66,AT53:AT66,AX53:AX66)","v":""},"□","西区",{"$f":"IF(AZ53=\"☑\",TRUE)","v":false},{"$f":"\"さいたま市\"&BA53","v":"さいたま市西区"},{"$f":"IF(BB53,BC53,\"\")","v":""},{"$f":"_xlfn.TEXTJOIN(\"／\",TRUE,BD53:BD66)","v":""},"□","川口市",{"$f":"IF(BF53=\"☑\",TRUE)","v":false},{"$f":"BG53","v":"川口市"},{"$f":"IF(BH53,BI53,\"\")","v":""},{"$f":"_xludf.TEXTJOIN(\",\",TRUE,BJ53:BJ66)","v":""},"□","朝霞市",{"$f":"IF(BL53=\"☑\",TRUE)","v":false},{"$f":"BM53","v":"朝霞市"},{"$f":"IF(BN53,BO53,\"\")","v":""},{"$f":"_xlfn.TEXTJOIN(\"／\",TRUE,BP53:BP66)","v":""},"□","春日部市",{"$f":"IF(BR53=\"☑\",TRUE)","v":false},{"$f":"BS53","v":"春日部市"},{"$f":"IF(BT53,BU53,\"\")","v":""},{"$f":"_xlfn.TEXTJOIN(\"／\",TRUE,BV53:BV66)","v":""},"□","鴻巣市",{"$f":"IF(BX53=\"☑\",TRUE)","v":false},{"$f":"BY53","v":"鴻巣市"},{"$f":"IF(BZ53,CA53,\"\")","v":""},{"$f":"_xlfn.TEXTJOIN(\"／\",TRUE,CB53:CB66)","v":""},"□","川越市",{"$f":"IF(CD53=\"☑\",TRUE)","v":false},"川越市",{"$f":"IF(CF53,CG53,\"\")","v":""},{"$f":"_xlfn.TEXTJOIN(\"／\",TRUE,CH53:CH66)","v":""},"□","所沢市",{"$f":"IF(CJ53=\"☑\",TRUE)","v":false},{"$f":"CK53","v":"所沢市"},{"$f":"IF(CL53,CM53,\"\")","v":""},{"$f":"_xlfn.TEXTJOIN(\"／\",TRUE,CN53:CN66)","v":""},"□","行田市",{"$f":"IF(CP53=\"☑\",TRUE)","v":false},{"$f":"CQ53","v":"行田市"},{"$f":"IF(CR53,CS53,\"\")","v":""},{"$f":"_xludf.TEXTJOIN(\",\",TRUE,CT53:CT66)","v":""},"□","熊谷市",{"$f":"IF(CV53=\"☑\",TRUE)","v":false},{"$f":"CW53","v":"熊谷市"},{"$f":"IF(CX53,CY53,\"\")","v":""},{"$f":"_xlfn.TEXTJOIN(\"／\",TRUE,CZ53:CZ66)","v":""},"□","秩父市",{"$f":"IF(DB53=\"☑\",TRUE)","v":false},{"$f":"DC53","v":"秩父市"},{"$f":"IF(DD53,DE53,\"\")","v":""},{"$f":"_xlfn.TEXTJOIN(\"／\",TRUE,DF53:DF66)","v":""},{"$f":"_xlfn.TEXTJOIN(\"／\",TRUE,BE53,BK53,BQ53,BW53,CC53,CI53,CO53,CU53,DA53,DG53)","v":""},null,null,null,null,null,null,null,{"$f":"IF(#REF!=\"☑\",TRUE)","v":{"$error":"#REF!"}},{"$f":"IF(DP53,#REF!,\"\")","v":{"$error":"#REF!"}},{"$f":"_xludf.TEXTJOIN(\",\",TRUE,DQ53:DQ66)","v":{"$error":"#VALUE!"}}]
[null,null,null,null,null,null,null,null,null,null,null,null,null,null,null,null,null,null,"□","買物サポート",false,"","□","料理デリバリー（出前）",false,"","□","フィットネス・ジム（送迎）",{"$f":"IF(AA54=\"☑\",TRUE)","v":false},{"$f":"IF(AC54,AB54,\"\")","v":""},"□","出張料理",{"$f":"IF(AE54=\"☑\",TRUE)","v":false},{"$f":"IF(AG54,AF54,\"\")","v":""},"□","温泉・銭湯（たまり場）",false,"","□","多目的トイレ",false,"","□","習い事",{"$f":"IF(AQ54=\"☑\",TRUE)","v":false},{"$f":"IF(AS54,AR54,\"\")","v":""},"□","金融・保険",false,"",null,"□","北区",{"$f":"IF(AZ54=\"☑\",TRUE)","v":false},"さいたま市北区",{"$f":"IF(BB54,BC54,\"\")","v":""},null,"□","蕨市",{"$f":"IF(BF54=\"☑\",TRUE)","v":false},{"$f":"BG54","v":"蕨市"},{"$f":"IF(BH54,BI54,\"\")","v":""},null,"□","志木市",{"$f":"IF(BL54=\"☑\",TRUE)","v":false},"志木市",{"$f":"IF(BN54,BO54,\"\")","v":""},null,"□","草加市",{"$f":"IF(BR54=\"☑\",TRUE)","v":false},"草加市","",null,"□","上尾市",{"$f":"IF(BX54=\"☑\",TRUE)","v":false},{"$f":"BY54","v":"上尾市"},{"$f":"IF(BZ54,CA54,\"\")","v":""},null,"□","東松山市",{"$f":"IF(CD54=\"☑\",TRUE)","v":false},"東松山市",{"$f":"IF(CF54,CG54,\"\")","v":""},null,"□","飯能市",{"$f":"IF(CJ54=\"☑\",TRUE)","v":false},{"$f":"CK54","v":"飯能市"},{"$f":"IF(CL54,CM54,\"\")","v":""},null,"□","加須市",{"$f":"IF(CP54=\"☑\",TRUE)","v":false},"加須市",{"$f":"IF(CR54,CS54,\"\")","v":""},null,"□","本庄市",{"$f":"IF(CV54=\"☑\",TRUE)","v":false},"本庄市",{"$f":"IF(CX54,CY54,\"\")","v":""},null,"□","横瀬町",{"$f":"IF(DB54=\"☑\",TRUE)","v":false},{"$f":"DC54","v":"横瀬町"},{"$f":"IF(DD54,DE54,\"\")","v":""},null,null,null,null,null,null,null,null,null,null,{"$f":"IF(DP54,#REF!,\"\")","v":""}]
[null,null,null,null,null,null,null,null,null,null,null,null,null,null,null,null,null,null,"□","買物代行",false,"","□","食材宅配",false,"","□","温泉・銭湯（送迎）",false,"","□","屋外作業・力仕事",false,"","□","カフェ・ファーストフード",false,"","□","休憩スペース",false,"","□","映画館",false,"","□","住宅・リフォーム",false,"",null,"□","大宮区",false,"さいたま市大宮区","",null,"□","戸田市",{"$f":"IF(BF55=\"☑\",TRUE)","v":false},{"$f":"BG55","v":"戸田市"},"",null,"□","和光市",false,"和光市","",null,"□","越谷市",false,"越谷市","",null,"□","桶川市",{"$f":"IF(BX55=\"☑\",TRUE)","v":false},{"$f":"BY55","v":"桶川市"},"",null,"□","坂戸市",false,"坂戸市","",null,"□","狭山市",{"$f":"IF(CJ55=\"☑\",TRUE)","v":false},{"$f":"CK55","v":"狭山市"},"",null,"□","羽生市",false,"羽生市","",null,"□","深谷市",false,"深谷市","",null,"□","皆野町",{"$f":"IF(DB55=\"☑\",TRUE)","v":false},{"$f":"DC55","v":"皆野町"},"",null,null,null,null,null,null,null,null,null,{"$f":"IF(#REF!=\"☑\",TRUE)","v":{"$error":"#REF!"}},{"$f":"IF(DP55,#REF!,\"\")","v":{"$error":"#REF!"}}]
[null,null,null,null,null,null,null,null,null,null,null,null,null,null,null,null,null,null,"□","移動販売",false,"","□","日用品配達",false,"","□","整体・マッサージ（送迎）",false,"","□","整体・マッサージ（出張）",false,"","□","飲食店",false,"","□","駐車場",false,"","□","カラオケ店",false,"","□","パソコン・スマートフォン",false,"",null,"□","見沼区",false,"さいたま市見沼区","",null,null,null,null,null,"",null,"□","新座市",false,"新座市","",null,"□","八潮市",false,"八潮市","",null,"□","北本市",{"$f":"IF(BX56=\"☑\",TRUE)","v":false},{"$f":"BY56","v":"北本市"},"",null,"□","鶴ヶ島市",false,"鶴ヶ島市","",null,"□","入間市",{"$f":"IF(CJ56=\"☑\",TRUE)","v":false},{"$f":"CK56","v":"入間市"},"",null,"□","久喜市",false,"久喜市","",null,"□","美里町",false,"美里町","",null,"□","長瀞町",{"$f":"IF(DB56=\"☑\",TRUE)","v":false},{"$f":"DC56","v":"長瀞町"},""]
[null,null,null,null,null,null,null,null,null,null,null,null,null,null,null,null,null,null,"□","割引サービス",false,"","□","薬・介護用品配達",false,"","□","乗り合いサービス",false,"","□","理容・美容（出張）",false,"","□","イートインスペース",false,"","□","貸しスペース",false,"","□","麻雀・将棋・囲碁",false,"","□","認知症サポート企業",false,"",null,"□","中央区",false,"さいたま市中央区","",null,null,null,null,null,"",null,"□","富士見市",false,"富士見市","",null,"□","三郷市",false,"三郷市","",null,"□","伊奈町",{"$f":"IF(BX57=\"☑\",TRUE)","v":false},{"$f":"BY57","v":"伊奈町"},"",null,"□","毛呂山町",false,"毛呂山町","",null,"□","日高市",{"$f":"IF(CJ57=\"☑\",TRUE)","v":false},{"$f":"CK57","v":"日高市"},"",null,"□","蓮田市",false,"蓮田市","",null,"□","神川町",false,"神川町","",null,"□","小鹿野町",{"$f":"IF(DB57=\"☑\",TRUE)","v":false},{"$f":"DC57","v":"小鹿野町"},"",null,null,null,null,null,null,null,null,null,{"$f":"IF(#REF!=\"☑\",TRUE)","v":{"$error":"#REF!"}},{"$f":"IF(DP57,#REF!,\"\")","v":{"$error":"#REF!"}}]
[null,null,null,null,null,null,null,null,null,null,null,null,null,null,null,null,null,null,"□","その他（買物）",false,"","□","クリーニング",false,{"$f":"IF(Y58,X58,\"\")","v":""},"□","個別移送サービス",false,"","□","ペット",false,"","□","その他（運動・たまり場）",false,"","□","その他（設備・施設・場所貸し）",false,"","□","ゲームセンター",false,"","□","理容・美容",false,"",null,"□","桜区",false,"さいたま市桜区","",null,null,null,null,null,"",null,"□","ふじみ野市",false,"ふじみ野市","",null,"□","吉川市",false,"吉川市","",null,null,null,null,null,"",null,"□","越生町",false,"越生町","",null,null,null,null,null,"",null,"□","幸手市",false,"幸手市","",null,"□","上里町",false,"上里町","",null,null,null,null,null,"",null,null,null,null,null,null,null,null,null,{"$f":"IF(#REF!=\"☑\",TRUE)","v":{"$error":"#REF!"}},{"$f":"IF(DP58,#REF!,\"\")","v":{"$error":"#REF!"}}]
[null,null,null,null,null,null,null,null,null,null,null,null,null,null,null,null,null,null,null,null,null,null,"□","その他（宅配・デリバリー）",false,{"$f":"IF(Y59,X59,\"\")","v":""},"□","交通機関サービス",false,"","□","その他（出張サービス）",false,"",null,null,null,null,null,null,null,null,"□","旅行・レジャー",false,"","□","成年後見・相続",false,"",null,"□","浦和区",false,"さいたま市浦和区","",null,null,null,null,null,"",null,"□","三芳町",false,"三芳町","",null,"□","松伏町",false,"松伏町","",null,null,null,null,null,"",null,"□","滑川町",false,"滑川町","",null,null,null,null,null,"",null,"□","白岡市",false,"白岡市","",null,"□","寄居町",false,"寄居町","",null,null,null,null,null,""]
[null,null,null,null,null,null,null,null,null,null,null,null,null,null,null,null,null,null,null,null,null,null,null,null,null,null,"□","その他（送迎・移動支援）",false,"",null,null,null,"",null,null,null,{"$f":"IF(AK60,AJ60,\"\")","v":""},null,null,null,{"$f":"IF(AO60,AN60,\"\")","v":""},"□","パソコン・スマホ教室",false,"","□","その他（生活サービス）",false,"",null,"□","南区",false,"さいたま市南区","",null,null,null,null,null,"",null,null,null,null,null,"",null,null,null,null,null,"",null,null,null,null,null,"",null,"□","嵐山町",false,"嵐山町","",null,null,null,null,null,"",null,"□","宮代町",false,"宮代町","",null,null,null,null,null,"",null,null,null,null,null,""]
[null,null,null,null,null,null,null,null,null,null,null,null,null,null,null,null,null,null,null,null,null,null,null,null,null,null,null,null,null,null,null,null,null,null,null,null,null,null,null,null,null,null,"□","その他（学び・趣味）",false,"",null,null,null,null,null,"□","緑区",false,"さいたま市緑区","",null,null,null,null,null,"",null,null,null,null,null,"",null,null,null,null,null,"",null,null,null,null,null,"",null,"□","小川町",false,"小川町","",null,null,null,null,null,"",null,"□","杉戸町",false,"杉戸町","",null,null,null,null,null,"",null,null,null,null,null,""]
[null,null,null,null,null,null,null,null,null,null,null,null,null,null,null,null,null,null,null,null,null,null,null,null,null,null,null,null,null,null,null,null,null,null,null,null,null,null,null,null,null,null,null,null,null,null,null,null,null,null,null,"□","岩槻区",{"$f":"IF(AZ62=\"☑\",TRUE)","v":false},"さいたま市岩槻区","",null,null,null,null,null,"",null,null,null,null,null,"",null,null,null,null,null,"",null,null,null,null,null,"",null,"□","川島町",false,"川島町","",null,null,null,null,null,"",null,null,null,null,null,"",null,null,null,null,null,"",null,null,null,null,null,""]
[null,null,null,null,null,null,null,null,null,null,null,null,null,null,null,null,null,null,null,null,null,null,null,null,null,null,null,null,null,null,null,null,null,null,null,null,null,null,null,null,null,null,null,null,null,null,null,null,null,null,null,null,null,null,null,null,null,null,null,null,null,null,null,null,null,null,null,null,null,null,null,null,null,null,null,null,null,null,null,null,null,"□","吉見町",false,"吉見町","",null,null,null,null,null,"",null,null,null,null,null,"",null,null,null,null,null,"",null,null,null,null,null,""]
[null,null,null,null,null,null,null,null,null,null,null,null,null,null,null,null,null,null,null,null,null,null,null,null,null,null,null,null,null,null,null,null,null,null,null,null,null,null,null,null,null,null,null,null,null,null,null,null,null,null,null,null,null,null,null,null,null,null,null,null,null,null,null,null,null,null,null,null,null,null,null,null,null,null,null,null,null,null,null,null,null,"□","鳩山町",false,"鳩山町","",null,null,null,null,null,"",null,null,null,null,null,"",null,null,null,null,null,"",null,null,null,null,null,""]
[null,null,null,null,null,null,null,null,null,null,null,null,null,null,null,null,null,null,null,null,null,null,null,null,null,null,null,null,null,null,null,null,null,null,null,null,null,null,null,null,null,null,null,null,null,null,null,null,null,null,null,null,null,null,null,null,null,null,null,null,null,null,null,null,null,null,null,null,null,null,null,null,null,null,null,null,null,null,null,null,null,"□","ときがわ町",false,"ときがわ町","",null,null,null,null,null,"",null,null,null,null,null,"",null,null,null,null,null,"",null,null,null,null,null,""]
[null,null,null,null,null,null,null,null,null,null,null,null,null,null,null,null,null,null,null,null,null,null,null,null,null,null,null,null,null,null,null,null,null,null,null,null,null,null,null,null,null,null,null,null,null,null,null,null,null,null,null,null,null,null,null,null,null,null,null,null,null,null,null,null,null,null,null,null,null,null,null,null,null,null,null,null,null,null,null,null,null,"□","東秩父村",false,"東秩父村","",null,null,null,null,null,"",null,null,null,null,null,"",null,null,null,null,null,"",null,null,null,null,null,""]
[4,null,null,null,null,null,null,null,null,null,null,null,null,null,null,null,null,null,"□","配送",{"$f":"IF(S67=\"☑\",TRUE)","v":false},{"$f":"IF(U67,T67,\"\")","v":""},"□","弁当配達",{"$f":"IF(W67=\"☑\",TRUE)","v":false},{"$f":"IF(Y67,X67,\"\")","v":""},"□","理容・美容（送迎）",{"$f":"IF(AA67=\"☑\",TRUE)","v":false},{"$f":"IF(AC67,AB67,\"\")","v":""},"□","家事代行・掃除・片付け",{"$f":"IF(AE67=\"☑\",TRUE)","v":false},{"$f":"IF(AG67,AF67,\"\")","v":""},"□","フィットネス・ジム（運動）",{"$f":"IF(AI67=\"☑\",TRUE)","v":false},{"$f":"IF(AK67,AJ67,\"\")","v":""},"□","車イス対応（バリアフリー）",{"$f":"IF(AM67=\"☑\",TRUE)","v":false},{"$f":"IF(AO67,AN67,\"\")","v":""},"□","講座・教室・イベント",{"$f":"IF(AQ67=\"☑\",TRUE)","v":false},{"$f":"IF(AS67,AR67,\"\")","v":""},"□","防犯・見守り",{"$f":"IF(AU67=\"☑\",TRUE)","v":false},{"$f":"IF(AW67,AV67,\"\")","v":""},{"$f":"_xlfn.TEXTJOIN(\"／\",TRUE,V67:V80,Z67:Z80,AD67:AD80,AH67:AH80,AL67:AL80,AP67:AP80,AT67:AT80,AX67:AX80)","v":""},"□","西区",{"$f":"IF(AZ67=\"☑\",TRUE)","v":false},{"$f":"\"さいたま市\"&BA67","v":"さいたま市西区"},{"$f":"IF(BB67,BC67,\"\")","v":""},{"$f":"_xlfn.TEXTJOIN(\"／\",TRUE,BD67:BD80)","v":""},"□","川口市",{"$f":"IF(BF67=\"☑\",TRUE)","v":false},{"$f":"BG67","v":"川口市"},{"$f":"IF(BH67,BI67,\"\")","v":""},{"$f":"_xludf.TEXTJOIN(\",\",TRUE,BJ67:BJ80)","v":""},"□","朝霞市",{"$f":"IF(BL67=\"☑\",TRUE)","v":false},{"$f":"BM67","v":"朝霞市"},{"$f":"IF(BN67,BO67,\"\")","v":""},{"$f":"_xlfn.TEXTJOIN(\"／\",TRUE,BP67:BP80)","v":""},"□","春日部市",{"$f":"IF(BR67=\"☑\",TRUE)","v":false},{"$f":"BS67","v":"春日部市"},{"$f":"IF(BT67,BU67,\"\")","v":""},{"$f":"_xlfn.TEXTJOIN(\"／\",TRUE,BV67:BV80)","v":""},"□","鴻巣市",{"$f":"IF(BX67=\"☑\",TRUE)","v":false},{"$f":"BY67","v":"鴻巣市"},{"$f":"IF(BZ67,CA67,\"\")","v":""},{"$f":"_xlfn.TEXTJOIN(\"／\",TRUE,CB67:CB80)","v":""},"□","川越市",{"$f":"IF(CD67=\"☑\",TRUE)","v":false},"川越市",{"$f":"IF(CF67,CG67,\"\")","v":""},{"$f":"_xlfn.TEXTJOIN(\"／\",TRUE,CH67:CH80)","v":""},"□","所沢市",{"$f":"IF(CJ67=\"☑\",TRUE)","v":false},{"$f":"CK67","v":"所沢市"},{"$f":"IF(CL67,CM67,\"\")","v":""},{"$f":"_xlfn.TEXTJOIN(\"／\",TRUE,CN67:CN80)","v":""},"□","行田市",{"$f":"IF(CP67=\"☑\",TRUE)","v":false},{"$f":"CQ67","v":"行田市"},{"$f":"IF(CR67,CS67,\"\")","v":""},{"$f":"_xludf.TEXTJOIN(\",\",TRUE,CT67:CT80)","v":""},"□","熊谷市",{"$f":"IF(CV67=\"☑\",TRUE)","v":false},{"$f":"CW67","v":"熊谷市"},{"$f":"IF(CX67,CY67,\"\")","v":""},{"$f":"_xlfn.TEXTJOIN(\"／\",TRUE,CZ67:CZ80)","v":""},"□","秩父市",{"$f":"IF(DB67=\"☑\",TRUE)","v":false},{"$f":"DC67","v":"秩父市"},{"$f":"IF(DD67,DE67,\"\")","v":""},{"$f":"_xlfn.TEXTJOIN(\"／\",TRUE,DF67:DF80)","v":""},{"$f":"_xlfn.TEXTJOIN(\"／\",TRUE,BE67,BK67,BQ67,BW67,CC67,CI67,CO67,CU67,DA67,DG67)","v":""},null,null,null,null,null,null,null,{"$f":"IF(#REF!=\"☑\",TRUE)","v":{"$error":"#REF!"}},{"$f":"IF(DP67,#REF!,\"\")","v":{"$error":"#REF!"}},{"$f":"_xludf.TEXTJOIN(\",\",TRUE,DQ67:DQ80)","v":{"$error":"#VALUE!"}}]
[null,null,null,null,null,null,null,null,null,null,null,null,null,null,null,null,null,null,"□","買物サポート",false,"","□","料理デリバリー（出前）",false,"","□","フィットネス・ジム（送迎）",{"$f":"IF(AA68=\"☑\",TRUE)","v":false},{"$f":"IF(AC68,AB68,\"\")","v":""},"□","出張料理",{"$f":"IF(AE68=\"☑\",TRUE)","v":false},{"$f":"IF(AG68,AF68,\"\")","v":""},"□","温泉・銭湯（たまり場）",false,"","□","多目的トイレ",false,"","□","習い事",{"$f":"IF(AQ68=\"☑\",TRUE)","v":false},{"$f":"IF(AS68,AR68,\"\")","v":""},"□","金融・保険",false,"",null,"□","北区",{"$f":"IF(AZ68=\"☑\",TRUE)","v":false},"さいたま市北区",{"$f":"IF(BB68,BC68,\"\")","v":""},null,"□","蕨市",{"$f":"IF(BF68=\"☑\",TRUE)","v":false},{"$f":"BG68","v":"蕨市"},{"$f":"IF(BH68,BI68,\"\")","v":""},null,"□","志木市",{"$f":"IF(BL68=\"☑\",TRUE)","v":false},"志木市",{"$f":"IF(BN68,BO68,\"\")","v":""},null,"□","草加市",{"$f":"IF(BR68=\"☑\",TRUE)","v":false},"草加市","",null,"□","上尾市",{"$f":"IF(BX68=\"☑\",TRUE)","v":false},{"$f":"BY68","v":"上尾市"},{"$f":"IF(BZ68,CA68,\"\")","v":""},null,"□","東松山市",{"$f":"IF(CD68=\"☑\",TRUE)","v":false},"東松山市",{"$f":"IF(CF68,CG68,\"\")","v":""},null,"□","飯能市",{"$f":"IF(CJ68=\"☑\",TRUE)","v":false},{"$f":"CK68","v":"飯能市"},{"$f":"IF(CL68,CM68,\"\")","v":""},null,"□","加須市",{"$f":"IF(CP68=\"☑\",TRUE)","v":false},"加須市",{"$f":"IF(CR68,CS68,\"\")","v":""},null,"□","本庄市",{"$f":"IF(CV68=\"☑\",TRUE)","v":false},"本庄市",{"$f":"IF(CX68,CY68,\"\")","v":""},null,"□","横瀬町",{"$f":"IF(DB68=\"☑\",TRUE)","v":false},{"$f":"DC68","v":"横瀬町"},{"$f":"IF(DD68,DE68,\"\")","v":""},null,null,null,null,null,null,null,null,null,null,{"$f":"IF(DP68,#REF!,\"\")","v":""}]
[null,null,null,null,null,null,null,null,null,null,null,null,null,null,null,null,null,null,"□","買物代行",false,"","□","食材宅配",false,"","□","温泉・銭湯（送迎）",false,"","□","屋外作業・力仕事",false,"","□","カフェ・ファーストフード",false,"","□","休憩スペース",false,"","□","映画館",false,"","□","住宅・リフォーム",false,"",null,"□","大宮区",false,"さいたま市大宮区","",null,"□","戸田市",{"$f":"IF(BF69=\"☑\",TRUE)","v":false},{"$f":"BG69","v":"戸田市"},"",null,"□","和光市",false,"和光市","",null,"□","越谷市",false,"越谷市","",null,"□","桶川市",{"$f":"IF(BX69=\"☑\",TRUE)","v":false},{"$f":"BY69","v":"桶川市"},"",null,"□","坂戸市",false,"坂戸市","",null,"□","狭山市",{"$f":"IF(CJ69=\"☑\",TRUE)","v":false},{"$f":"CK69","v":"狭山市"},"",null,"□","羽生市",false,"羽生市","",null,"□","深谷市",false,"深谷市","",null,"□","皆野町",{"$f":"IF(DB69=\"☑\",TRUE)","v":false},{"$f":"DC69","v":"皆野町"},"",null,null,null,null,null,null,null,null,null,{"$f":"IF(#REF!=\"☑\",TRUE)","v":{"$error":"#REF!"}},{"$f":"IF(DP69,#REF!,\"\")","v":{"$error":"#REF!"}}]
[null,null,null,null,null,null,null,null,null,null,null,null,null,null,null,null,null,null,"□","移動販売",false,"","□","日用品配達",false,"","□","整体・マッサージ（送迎）",false,"","□","整体・マッサージ（出張）",false,"","□","飲食店",false,"","□","駐車場",false,"","□","カラオケ店",false,"","□","パソコン・スマートフォン",false,"",null,"□","見沼区",false,"さいたま市見沼区","",null,null,null,null,null,"",null,"□","新座市",false,"新座市","",null,"□","八潮市",false,"八潮市","",null,"□","北本市",{"$f":"IF(BX70=\"☑\",TRUE)","v":false},{"$f":"BY70","v":"北本市"},"",null,"□","鶴ヶ島市",false,"鶴ヶ島市","",null,"□","入間市",{"$f":"IF(CJ70=\"☑\",TRUE)","v":false},{"$f":"CK70","v":"入間市"},"",null,"□","久喜市",false,"久喜市","",null,"□","美里町",false,"美里町","",null,"□","長瀞町",{"$f":"IF(DB70=\"☑\",TRUE)","v":false},{"$f":"DC70","v":"長瀞町"},""]
[null,null,null,null,null,null,null,null,null,null,null,null,null,null,null,null,null,null,"□","割引サービス",false,"","□","薬・介護用品配達",false,"","□","乗り合いサービス",false,"","□","理容・美容（出張）",false,"","□","イートインスペース",false,"","□","貸しスペース",false,"","□","麻雀・将棋・囲碁",false,"","□","認知症サポート企業",false,"",null,"□","中央区",false,"さいたま市中央区","",null,null,null,null,null,"",null,"□","富士見市",false,"富士見市","",null,"□","三郷市",false,"三郷市","",null,"□","伊奈町",{"$f":"IF(BX71=\"☑\",TRUE)","v":false},{"$f":"BY71","v":"伊奈町"},"",null,"□","毛呂山町",false,"毛呂山町","",null,"□","日高市",{"$f":"IF(CJ71=\"☑\",TRUE)","v":false},{"$f":"CK71","v":"日高市"},"",null,"□","蓮田市",false,"蓮田市","",null,"□","神川町",false,"神川町","",null,"□","小鹿野町",{"$f":"IF(DB71=\"☑\",TRUE)","v":false},{"$f":"DC71","v":"小鹿野町"},"",null,null,null,null,null,null,null,null,null,{"$f":"IF(#REF!=\"☑\",TRUE)","v":{"$error":"#REF!"}},{"$f":"IF(DP71,#REF!,\"\")","v":{"$error":"#REF!"}}]
[null,null,null,null,null,null,null,null,null,null,null,null,null,null,null,null,null,null,"□","その他（買物）",false,"","□","クリーニング",false,{"$f":"IF(Y72,X72,\"\")","v":""},"□","個別移送サービス",false,"","□","ペット",false,"","□","その他（運動・たまり場）",false,"","□","その他（設備・施設・場所貸し）",false,"","□","ゲームセンター",false,"","□","理容・美容",false,"",null,"□","桜区",false,"さいたま市桜区","",null,null,null,null,null,"",null,"□","ふじみ野市",false,"ふじみ野市","",null,"□","吉川市",false,"吉川市","",null,null,null,null,null,"",null,"□","越生町",false,"越生町","",null,null,null,null,null,"",null,"□","幸手市",false,"幸手市","",null,"□","上里町",false,"上里町","",null,null,null,null,null,"",null,null,null,null,null,null,null,null,null,{"$f":"IF(#REF!=\"☑\",TRUE)","v":{"$error":"#REF!"}},{"$f":"IF(DP72,#REF!,\"\")","v":{"$error":"#REF!"}}]
[null,null,null,null,null,null,null,null,null,null,null,null,null,null,null,null,null,null,null,null,null,null,"□","その他（宅配・デリバリー）",false,{"$f":"IF(Y73,X73,\"\")","v":""},"□","交通機関サービス",false,"","□","その他（出張サービス）",false,"",null,null,null,null,null,null,null,null,"□","旅行・レジャー",false,"","□","成年後見・相続",false,"",null,"□","浦和区",false,"さいたま市浦和区","",null,null,null,null,null,"",null,"□","三芳町",false,"三芳町","",null,"□","松伏町",false,"松伏町","",null,null,null,null,null,"",null,"□","滑川町",false,"滑川町","",null,null,null,null,null,"",null,"□","白岡市",false,"白岡市","",null,"□","寄居町",false,"寄居町","",null,null,null,null,null,""]
[null,null,null,null,null,null,null,null,null,null,null,null,null,null,null,null,null,null,null,null,null,null,null,null,null,null,"□","その他（送迎・移動支援）",false,"",null,null,null,"",null,null,null,{"$f":"IF(AK74,AJ74,\"\")","v":""},null,null,null,{"$f":"IF(AO74,AN74,\"\")","v":""},"□","パソコン・スマホ教室",false,"","□","その他（生活サービス）",false,"",null,"□","南区",false,"さいたま市南区","",null,null,null,null,null,"",null,null,null,null,null,"",null,null,null,null,null,"",null,null,null,null,null,"",null,"□","嵐山町",false,"嵐山町","",null,null,null,null,null,"",null,"□","宮代町",false,"宮代町","",null,null,null,null,null,"",null,null,null,null,null,""]
[null,null,null,null,null,null,null,null,null,null,null,null,null,null,null,null,null,null,null,null,null,null,null,null,null,null,null,null,null,null,null,null,null,null,null,null,null,null,null,null,null,null,"□","その他（学び・趣味）",false,"",null,null,null,null,null,"□","緑区",false,"さいたま市緑区","",null,null,null,null,null,"",null,null,null,null,null,"",null,null,null,null,null,"",null,null,null,null,null,"",null,"□","小川町",false,{"$f":"CE75","v":"小川町"},"",null,null,null,null,null,"",null,"□","杉戸町",false,"杉戸町","",null,null,null,null,null,"",null,null,null,null,null,""]
[null,null,null,null,null,null,null,null,null,null,null,null,null,null,null,null,null,null,null,null,null,null,null,null,null,null,null,null,null,null,null,null,null,null,null,null,null,null,null,null,null,null,null,null,null,null,null,null,null,null,null,"□","岩槻区",{"$f":"IF(AZ76=\"☑\",TRUE)","v":false},"さいたま市岩槻区","",null,null,null,null,null,"",null,null,null,null,null,"",null,null,null,null,null,"",null,null,null,null,null,"",null,"□","川島町",false,"川島町","",null,null,null,null,null,"",null,null,null,null,null,"",null,null,null,null,null,"",null,null,null,null,null,""]
[null,null,null,null,null,null,null,null,null,null,null,null,null,null,null,null,null,null,null,null,null,null,null,null,null,null,null,null,null,null,null,null,null,null,null,null,null,null,null,null,null,null,null,null,null,null,null,null,null,null,null,null,null,null,null,null,null,null,null,null,null,null,null,null,null,null,null,null,null,null,null,null,null,null,null,null,null,null,null,null,null,"□","吉見町",false,"吉見町","",null,null,null,null,null,"",null,null,null,null,null,"",null,null,null,null,null,"",null,null,null,null,null,""]
[null,null,null,null,null,null,null,null,null,null,null,null,null,null,null,null,null,null,null,null,null,null,null,null,null,null,null,null,null,null,null,null,null,null,null,null,null,null,null,null,null,null,null,null,null,null,null,null,null,null,null,null,null,null,null,null,null,null,null,null,null,null,null,null,null,null,null,null,null,null,null,null,null,null,null,null,null,null,null,null,null,"□","鳩山町",false,"鳩山町","",null,null,null,null,null,"",null,null,null,null,null,"",null,null,null,null,null,"",null,null,null,null,null,""]
[null,null,null,null,null,null,null,null,null,null,null,null,null,null,null,null,null,null,null,null,null,null,null,null,null,null,null,null,null,null,null,null,null,null,null,null,null,null,null,null,null,null,null,null,null,null,null,null,null,null,null,null,null,null,null,null,null,null,null,null,null,null,null,null,null,null,null,null,null,null,null,null,null,null,null,null,null,null,null,null,null,"□","ときがわ町",false,"ときがわ町","",null,null,null,null,null,"",null,null,null,null,null,"",null,null,null,null,null,"",null,null,null,null,null,""]
[null,null,null,null,null,null,null,null,null,null,null,null,null,null,null,null,null,null,null,null,null,null,null,null,null,null,null,null,null,null,null,null,null,null,null,null,null,null,null,null,null,null,null,null,null,null,null,null,null,null,null,null,null,null,null,null,null,null,null,null,null,null,null,null,null,null,null,null,null,null,null,null,null,null,null,null,null,null,null,null,null,"□","東秩父村",false,"東秩父村","",null,null,null,null,null,"",null,null,null,null,null,"",null,null,null,null,null,"",null,null,null,null,null,""]
[5,null,null,null,null,null,null,null,null,null,null,null,null,null,null,null,null,null,"□","配送",{"$f":"IF(S81=\"☑\",TRUE)","v":false},{"$f":"IF(U81,T81,\"\")","v":""},"□","弁当配達",{"$f":"IF(W81=\"☑\",TRUE)","v":false},{"$f":"IF(Y81,X81,\"\")","v":""},"□","理容・美容（送迎）",{"$f":"IF(AA81=\"☑\",TRUE)","v":false},{"$f":"IF(AC81,AB81,\"\")","v":""},"□","家事代行・掃除・片付け",{"$f":"IF(AE81=\"☑\",TRUE)","v":false},{"$f":"IF(AG81,AF81,\"\")","v":""},"□","フィットネス・ジム（運動）",{"$f":"IF(AI81=\"☑\",TRUE)","v":false},{"$f":"IF(AK81,AJ81,\"\")","v":""},"□","車イス対応（バリアフリー）",{"$f":"IF(AM81=\"☑\",TRUE)","v":false},{"$f":"IF(AO81,AN81,\"\")","v":""},"□","講座・教室・イベント",{"$f":"IF(AQ81=\"☑\",TRUE)","v":false},{"$f":"IF(AS81,AR81,\"\")","v":""},"□","防犯・見守り",{"$f":"IF(AU81=\"☑\",TRUE)","v":false},{"$f":"IF(AW81,AV81,\"\")","v":""},{"$f":"_xlfn.TEXTJOIN(\"／\",TRUE,V81:V94,Z81:Z94,AD81:AD94,AH81:AH94,AL81:AL94,AP81:AP94,AT81:AT94,AX81:AX94)","v":""},"□","西区",{"$f":"IF(AZ81=\"☑\",TRUE)","v":false},{"$f":"\"さいたま市\"&BA81","v":"さいたま市西区"},{"$f":"IF(BB81,BC81,\"\")","v":""},{"$f":"_xlfn.TEXTJOIN(\"／\",TRUE,BD81:BD94)","v":""},"□","川口市",{"$f":"IF(BF81=\"☑\",TRUE)","v":false},{"$f":"BG81","v":"川口市"},{"$f":"IF(BH81,BI81,\"\")","v":""},{"$f":"_xludf.TEXTJOIN(\",\",TRUE,BJ81:BJ94)","v":""},"□","朝霞市",{"$f":"IF(BL81=\"☑\",TRUE)","v":false},{"$f":"BM81","v":"朝霞市"},{"$f":"IF(BN81,BO81,\"\")","v":""},{"$f":"_xlfn.TEXTJOIN(\"／\",TRUE,BP81:BP94)","v":""},"□","春日部市",{"$f":"IF(BR81=\"☑\",TRUE)","v":false},{"$f":"BS81","v":"春日部市"},{"$f":"IF(BT81,BU81,\"\")","v":""},{"$f":"_xlfn.TEXTJOIN(\"／\",TRUE,BV81:BV94)","v":""},"□","鴻巣市",{"$f":"IF(BX81=\"☑\",TRUE)","v":false},{"$f":"BY81","v":"鴻巣市"},{"$f":"IF(BZ81,CA81,\"\")","v":""},{"$f":"_xlfn.TEXTJOIN(\"／\",TRUE,CB81:CB94)","v":""},"□","川越市",{"$f":"IF(CD81=\"☑\",TRUE)","v":false},"川越市",{"$f":"IF(CF81,CG81,\"\")","v":""},{"$f":"_xlfn.TEXTJOIN(\"／\",TRUE,CH81:CH94)","v":""},"□","所沢市",{"$f":"IF(CJ81=\"☑\",TRUE)","v":false},{"$f":"CK81","v":"所沢市"},{"$f":"IF(CL81,CM81,\"\")","v":""},{"$f":"_xlfn.TEXTJOIN(\"／\",TRUE,CN81:CN94)","v":""},"□","行田市",{"$f":"IF(CP81=\"☑\",TRUE)","v":false},{"$f":"CQ81","v":"行田市"},{"$f":"IF(CR81,CS81,\"\")","v":""},{"$f":"_xludf.TEXTJOIN(\",\",TRUE,CT81:CT94)","v":""},"□","熊谷市",{"$f":"IF(CV81=\"☑\",TRUE)","v":false},{"$f":"CW81","v":"熊谷市"},{"$f":"IF(CX81,CY81,\"\")","v":""},{"$f":"_xlfn.TEXTJOIN(\"／\",TRUE,CZ81:CZ94)","v":""},"□","秩父市",{"$f":"IF(DB81=\"☑\",TRUE)","v":false},{"$f":"DC81","v":"秩父市"},{"$f":"IF(DD81,DE81,\"\")","v":""},{"$f":"_xlfn.TEXTJOIN(\"／\",TRUE,DF81:DF94)","v":""},{"$f":"_xlfn.TEXTJOIN(\"／\",TRUE,BE81,BK81,BQ81,BW81,CC81,CI81,CO81,CU81,DA81,DG81)","v":""},null,null,null,null,null,null,null,{"$f":"IF(#REF!=\"☑\",TRUE)","v":{"$error":"#REF!"}},{"$f":"IF(DP81,#REF!,\"\")","v":{"$error":"#REF!"}},{"$f":"_xludf.TEXTJOIN(\",\",TRUE,DQ81:DQ94)","v":{"$error":"#VALUE!"}}]
[null,null,null,null,null,null,null,null,null,null,null,null,null,null,null,null,null,null,"□","買物サポート",false,"","□","料理デリバリー（出前）",false,"","□","フィットネス・ジム（送迎）",{"$f":"IF(AA82=\"☑\",TRUE)","v":false},{"$f":"IF(AC82,AB82,\"\")","v":""},"□","出張料理",{"$f":"IF(AE82=\"☑\",TRUE)","v":false},{"$f":"IF(AG82,AF82,\"\")","v":""},"□","温泉・銭湯（たまり場）",false,"","□","多目的トイレ",false,"","□","習い事",{"$f":"IF(AQ82=\"☑\",TRUE)","v":false},{"$f":"IF(AS82,AR82,\"\")","v":""},"□","金融・保険",false,"",null,"□","北区",{"$f":"IF(AZ82=\"☑\",TRUE)","v":false},"さいたま市北区",{"$f":"IF(BB82,BC82,\"\")","v":""},null,"□","蕨市",{"$f":"IF(BF82=\"☑\",TRUE)","v":false},{"$f":"BG82","v":"蕨市"},{"$f":"IF(BH82,BI82,\"\")","v":""},null,"□","志木市",{"$f":"IF(BL82=\"☑\",TRUE)","v":false},"志木市",{"$f":"IF(BN82,BO82,\"\")","v":""},null,"□","草加市",{"$f":"IF(BR82=\"☑\",TRUE)","v":false},"草加市","",null,"□","上尾市",{"$f":"IF(BX82=\"☑\",TRUE)","v":false},{"$f":"BY82","v":"上尾市"},{"$f":"IF(BZ82,CA82,\"\")","v":""},null,"□","東松山市",{"$f":"IF(CD82=\"☑\",TRUE)","v":false},"東松山市",{"$f":"IF(CF82,CG82,\"\")","v":""},null,"□","飯能市",{"$f":"IF(CJ82=\"☑\",TRUE)","v":false},{"$f":"CK82","v":"飯能市"},{"$f":"IF(CL82,CM82,\"\")","v":""},null,"□","加須市",{"$f":"IF(CP82=\"☑\",TRUE)","v":false},"加須市",{"$f":"IF(CR82,CS82,\"\")","v":""},null,"□","本庄市",{"$f":"IF(CV82=\"☑\",TRUE)","v":false},"本庄市",{"$f":"IF(CX82,CY82,\"\")","v":""},null,"□","横瀬町",{"$f":"IF(DB82=\"☑\",TRUE)","v":false},{"$f":"DC82","v":"横瀬町"},{"$f":"IF(DD82,DE82,\"\")","v":""},null,null,null,null,null,null,null,null,null,null,{"$f":"IF(DP82,#REF!,\"\")","v":""}]
[null,null,null,null,null,null,null,null,null,null,null,null,null,null,null,null,null,null,"□","買物代行",false,"","□","食材宅配",false,"","□","温泉・銭湯（送迎）",false,"","□","屋外作業・力仕事",false,"","□","カフェ・ファーストフード",false,"","□","休憩スペース",false,"","□","映画館",false,"","□","住宅・リフォーム",false,"",null,"□","大宮区",false,"さいたま市大宮区","",null,"□","戸田市",{"$f":"IF(BF83=\"☑\",TRUE)","v":false},{"$f":"BG83","v":"戸田市"},"",null,"□","和光市",false,"和光市","",null,"□","越谷市",false,"越谷市","",null,"□","桶川市",{"$f":"IF(BX83=\"☑\",TRUE)","v":false},{"$f":"BY83","v":"桶川市"},"",null,"□","坂戸市",false,"坂戸市","",null,"□","狭山市",{"$f":"IF(CJ83=\"☑\",TRUE)","v":false},{"$f":"CK83","v":"狭山市"},"",null,"□","羽生市",false,"羽生市","",null,"□","深谷市",false,"深谷市","",null,"□","皆野町",{"$f":"IF(DB83=\"☑\",TRUE)","v":false},{"$f":"DC83","v":"皆野町"},"",null,null,null,null,null,null,null,null,null,{"$f":"IF(#REF!=\"☑\",TRUE)","v":{"$error":"#REF!"}},{"$f":"IF(DP83,#REF!,\"\")","v":{"$error":"#REF!"}}]
[null,null,null,null,null,null,null,null,null,null,null,null,null,null,null,null,null,null,"□","移動販売",false,"","□","日用品配達",false,"","□","整体・マッサージ（送迎）",false,"","□","整体・マッサージ（出張）",false,"","□","飲食店",false,"","□","駐車場",false,"","□","カラオケ店",false,"","□","パソコン・スマートフォン",false,"",null,"□","見沼区",false,"さいたま市見沼区","",null,null,null,null,null,"",null,"□","新座市",false,"新座市","",null,"□","八潮市",false,"八潮市","",null,"□","北本市",{"$f":"IF(BX84=\"☑\",TRUE)","v":false},{"$f":"BY84","v":"北本市"},"",null,"□","鶴ヶ島市",false,"鶴ヶ島市","",null,"□","入間市",{"$f":"IF(CJ84=\"☑\",TRUE)","v":false},{"$f":"CK84","v":"入間市"},"",null,"□","久喜市",false,"久喜市","",null,"□","美里町",false,"美里町","",null,"□","長瀞町",{"$f":"IF(DB84=\"☑\",TRUE)","v":false},{"$f":"DC84","v":"長瀞町"},""]
[null,null,null,null,null,null,null,null,null,null,null,null,null,null,null,null,null,null,"□","割引サービス",false,"","□","薬・介護用品配達",false,"","□","乗り合いサービス",false,"","□","理容・美容（出張）",false,"","□","イートインスペース",false,"","□","貸しスペース",false,"","□","麻雀・将棋・囲碁",false,"","□","認知症サポート企業",false,"",null,"□","中央区",false,"さいたま市中央区","",null,null,null,null,null,"",null,"□","富士見市",false,"富士見市","",null,"□","三郷市",false,"三郷市","",null,"□","伊奈町",{"$f":"IF(BX85=\"☑\",TRUE)","v":false},{"$f":"BY85","v":"伊奈町"},"",null,"□","毛呂山町",false,"毛呂山町","",null,"□","日高市",{"$f":"IF(CJ85=\"☑\",TRUE)","v":false},{"$f":"CK85","v":"日高市"},"",null,"□","蓮田市",false,"蓮田市","",null,"□","神川町",false,"神川町","",null,"□","小鹿野町",{"$f":"IF(DB85=\"☑\",TRUE)","v":false},{"$f":"DC85","v":"小鹿野町"},"",null,null,null,null,null,null,null,null,null,{"$f":"IF(#REF!=\"☑\",TRUE)","v":{"$error":"#REF!"}},{"$f":"IF(DP85,#REF!,\"\")","v":{"$error":"#REF!"}}]
[null,null,null,null,null,null,null,null,null,null,null,null,null,null,null,null,null,null,"□","その他（買物）",false,"","□","クリーニング",false,{"$f":"IF(Y86,X86,\"\")","v":""},"□","個別移送サービス",false,"","□","ペット",false,"","□","その他（運動・たまり場）",false,"","□","その他（設備・施設・場所貸し）",false,"","□","ゲームセンター",false,"","□","理容・美容",false,"",null,"□","桜区",false,"さいたま市桜区","",null,null,null,null,null,"",null,"□","ふじみ野市",false,"ふじみ野市","",null,"□","吉川市",false,"吉川市","",null,null,null,null,null,"",null,"□","越生町",false,"越生町","",null,null,null,null,null,"",null,"□","幸手市",false,"幸手市","",null,"□","上里町",false,"上里町","",null,null,null,null,null,"",null,null,null,null,null,null,null,null,null,{"$f":"IF(#REF!=\"☑\",TRUE)","v":{"$error":"#REF!"}},{"$f":"IF(DP86,#REF!,\"\")","v":{"$error":"#REF!"}}]
[null,null,null,null,null,null,null,null,null,null,null,null,null,null,null,null,null,null,null,null,null,null,"□","その他（宅配・デリバリー）",false,{"$f":"IF(Y87,X87,\"\")","v":""},"□","交通機関サービス",false,"","□","その他（出張サービス）",false,"",null,null,null,null,null,null,null,null,"□","旅行・レジャー",false,"","□","成年後見・相続",false,"",null,"□","浦和区",false,"さいたま市浦和区","",null,null,null,null,null,"",null,"□","三芳町",false,"三芳町","",null,"□","松伏町",false,"松伏町","",null,null,null,null,null,"",null,"□","滑川町",false,"滑川町","",null,null,null,null,null,"",null,"□","白岡市",false,"白岡市","",null,"□","寄居町",false,"寄居町","",null,null,null,null,null,""]
[null,null,null,null,null,null,null,null,null,null,null,null,null,null,null,null,null,null,null,null,null,null,null,null,null,null,"□","その他（送迎・移動支援）",false,"",null,null,null,"",null,null,null,{"$f":"IF(AK88,AJ88,\"\")","v":""},null,null,null,{"$f":"IF(AO88,AN88,\"\")","v":""},"□","パソコン・スマホ教室",false,"","□","その他（生活サービス）",false,"",null,"□","南区",false,"さいたま市南区","",null,null,null,null,null,"",null,null,null,null,null,"",null,null,null,null,null,"",null,null,null,null,null,"",null,"□","嵐山町",false,"嵐山町","",null,null,null,null,null,"",null,"□","宮代町",false,"宮代町","",null,null,null,null,null,"",null,null,null,null,null,""]
[null,null,null,null,null,null,null,null,null,null,null,null,null,null,null,null,null,null,null,null,null,null,null,null,null,null,null,null,null,null,null,null,null,null,null,null,null,null,null,null,null,null,"□","その他（学び・趣味）",false,"",null,null,null,null,null,"□","緑区",false,"さいたま市緑区","",null,null,null,null,null,"",null,null,null,null,null,"",null,null,null,null,null,"",null,null,null,null,null,"",null,"□","小川町",false,"小川町","",null,null,null,null,null,"",null,"□","杉戸町",false,"杉戸町","",null,null,null,null,null,"",null,null,null,null,null,""]
[null,null,null,null,null,null,null,null,null,null,null,null,null,null,null,null,null,null,null,null,null,null,null,null,null,null,null,null,null,null,null,null,null,null,null,null,null,null,null,null,null,null,null,null,null,null,null,null,null,null,null,"□","岩槻区",{"$f":"IF(AZ90=\"☑\",TRUE)","v":false},"さいたま市岩槻区","",null,null,null,null,null,"",null,null,null,null,null,"",null,null,null,null,null,"",null,null,null,null,null,"",null,"□","川島町",false,"川島町","",null,null,null,null,null,"",null,null,null,null,null,"",null,null,null,null,null,"",null,null,null,null,null,""]
[null,null,null,null,null,null,null,null,null,null,null,null,null,null,null,null,null,null,null,null,null,null,null,null,null,null,null,null,null,null,null,null,null,null,null,null,null,null,null,null,null,null,null,null,null,null,null,null,null,null,null,null,null,null,null,null,null,null,null,null,null,null,null,null,null,null,null,null,null,null,null,null,null,null,null,null,null,null,null,null,null,"□","吉見町",false,"吉見町","",null,null,null,null,null,"",null,null,null,null,null,"",null,null,null,null,null,"",null,null,null,null,null,""]
[null,null,null,null,null,null,null,null,null,null,null,null,null,null,null,null,null,null,null,null,null,null,null,null,null,null,null,null,null,null,null,null,null,null,null,null,null,null,null,null,null,null,null,null,null,null,null,null,null,null,null,null,null,null,null,null,null,null,null,null,null,null,null,null,null,null,null,null,null,null,null,null,null,null,null,null,null,null,null,null,null,"□","鳩山町",false,"鳩山町","",null,null,null,null,null,"",null,null,null,null,null,"",null,null,null,null,null,"",null,null,null,null,null,""]
[null,null,null,null,null,null,null,null,null,null,null,null,null,null,null,null,null,null,null,null,null,null,null,null,null,null,null,null,null,null,null,null,null,null,null,null,null,null,null,null,null,null,null,null,null,null,null,null,null,null,null,null,null,null,null,null,null,null,null,null,null,null,null,null,null,null,null,null,null,null,null,null,null,null,null,null,null,null,null,null,null,"□","ときがわ町",false,"ときがわ町","",null,null,null,null,null,"",null,null,null,null,null,"",null,null,null,null,null,"",null,null,null,null,null,""]
[null,null,null,null,null,null,null,null,null,null,null,null,null,null,null,null,null,null,null,null,null,null,null,null,null,null,null,null,null,null,null,null,null,null,null,null,null,null,null,null,null,null,null,null,null,null,null,null,null,null,null,null,null,null,null,null,null,null,null,null,null,null,null,null,null,null,null,null,null,null,null,null,null,null,null,null,null,null,null,null,null,"□","東秩父村",false,"東秩父村","",null,null,null,null,null,"",null,null,null,null,null,"",null,null,null,null,null,"",null,null,null,null,null,""]
[6,null,null,null,null,null,null,null,null,null,null,null,null,null,null,null,null,null,"□","配送",{"$f":"IF(S95=\"☑\",TRUE)","v":false},{"$f":"IF(U95,T95,\"\")","v":""},"□","弁当配達",{"$f":"IF(W95=\"☑\",TRUE)","v":false},{"$f":"IF(Y95,X95,\"\")","v":""},"□","理容・美容（送迎）",{"$f":"IF(AA95=\"☑\",TRUE)","v":false},{"$f":"IF(AC95,AB95,\"\")","v":""},"□","家事代行・掃除・片付け",{"$f":"IF(AE95=\"☑\",TRUE)","v":false},{"$f":"IF(AG95,AF95,\"\")","v":""},"□","フィットネス・ジム（運動）",{"$f":"IF(AI95=\"☑\",TRUE)","v":false},{"$f":"IF(AK95,AJ95,\"\")","v":""},"□","車イス対応（バリアフリー）",{"$f":"IF(AM95=\"☑\",TRUE)","v":false},{"$f":"IF(AO95,AN95,\"\")","v":""},"□","講座・教室・イベント",{"$f":"IF(AQ95=\"☑\",TRUE)","v":false},{"$f":"IF(AS95,AR95,\"\")","v":""},"□","防犯・見守り",{"$f":"IF(AU95=\"☑\",TRUE)","v":false},{"$f":"IF(AW95,AV95,\"\")","v":""},{"$f":"_xlfn.TEXTJOIN(\"／\",TRUE,V95:V108,Z95:Z108,AD95:AD108,AH95:AH108,AL95:AL108,AP95:AP108,AT95:AT108,AX95:AX108)","v":""},"□","西区",{"$f":"IF(AZ95=\"☑\",TRUE)","v":false},{"$f":"\"さいたま市\"&BA95","v":"さいたま市西区"},{"$f":"IF(BB95,BC95,\"\")","v":""},{"$f":"_xlfn.TEXTJOIN(\"／\",TRUE,BD95:BD108)","v":""},"□","川口市",{"$f":"IF(BF95=\"☑\",TRUE)","v":false},{"$f":"BG95","v":"川口市"},{"$f":"IF(BH95,BI95,\"\")","v":""},{"$f":"_xludf.TEXTJOIN(\",\",TRUE,BJ95:BJ108)","v":""},"□","朝霞市",{"$f":"IF(BL95=\"☑\",TRUE)","v":false},{"$f":"BM95","v":"朝霞市"},{"$f":"IF(BN95,BO95,\"\")","v":""},{"$f":"_xlfn.TEXTJOIN(\"／\",TRUE,BP95:BP108)","v":""},"□","春日部市",{"$f":"IF(BR95=\"☑\",TRUE)","v":false},{"$f":"BS95","v":"春日部市"},{"$f":"IF(BT95,BU95,\"\")","v":""},{"$f":"_xlfn.TEXTJOIN(\"／\",TRUE,BV95:BV108)","v":""},"□","鴻巣市",{"$f":"IF(BX95=\"☑\",TRUE)","v":false},{"$f":"BY95","v":"鴻巣市"},{"$f":"IF(BZ95,CA95,\"\")","v":""},{"$f":"_xlfn.TEXTJOIN(\"／\",TRUE,CB95:CB108)","v":""},"□","川越市",{"$f":"IF(CD95=\"☑\",TRUE)","v":false},"川越市",{"$f":"IF(CF95,CG95,\"\")","v":""},{"$f":"_xlfn.TEXTJOIN(\"／\",TRUE,CH95:CH108)","v":""},"□","所沢市",{"$f":"IF(CJ95=\"☑\",TRUE)","v":false},{"$f":"CK95","v":"所沢市"},{"$f":"IF(CL95,CM95,\"\")","v":""},{"$f":"_xlfn.TEXTJOIN(\"／\",TRUE,CN95:CN108)","v":""},"□","行田市",{"$f":"IF(CP95=\"☑\",TRUE)","v":false},{"$f":"CQ95","v":"行田市"},{"$f":"IF(CR95,CS95,\"\")","v":""},{"$f":"_xludf.TEXTJOIN(\",\",TRUE,CT95:CT108)","v":""},"□","熊谷市",{"$f":"IF(CV95=\"☑\",TRUE)","v":false},{"$f":"CW95","v":"熊谷市"},{"$f":"IF(CX95,CY95,\"\")","v":""},{"$f":"_xlfn.TEXTJOIN(\"／\",TRUE,CZ95:CZ108)","v":""},"□","秩父市",{"$f":"IF(DB95=\"☑\",TRUE)","v":false},{"$f":"DC95","v":"秩父市"},{"$f":"IF(DD95,DE95,\"\")","v":""},{"$f":"_xlfn.TEXTJOIN(\"／\",TRUE,DF95:DF108)","v":""},{"$f":"_xlfn.TEXTJOIN(\"／\",TRUE,BE95,BK95,BQ95,BW95,CC95,CI95,CO95,CU95,DA95,DG95)","v":""},null,null,null,null,null,null,null,{"$f":"IF(#REF!=\"☑\",TRUE)","v":{"$error":"#REF!"}},{"$f":"IF(DP95,#REF!,\"\")","v":{"$error":"#REF!"}},{"$f":"_xludf.TEXTJOIN(\",\",TRUE,DQ95:DQ108)","v":{"$error":"#VALUE!"}}]
[null,null,null,null,null,null,null,null,null,null,null,null,null,null,null,null,null,null,"□","買物サポート",false,"","□","料理デリバリー（出前）",false,"","□","フィットネス・ジム（送迎）",{"$f":"IF(AA96=\"☑\",TRUE)","v":false},{"$f":"IF(AC96,AB96,\"\")","v":""},"□","出張料理",{"$f":"IF(AE96=\"☑\",TRUE)","v":false},{"$f":"IF(AG96,AF96,\"\")","v":""},"□","温泉・銭湯（たまり場）",false,"","□","多目的トイレ",false,"","□","習い事",{"$f":"IF(AQ96=\"☑\",TRUE)","v":false},{"$f":"IF(AS96,AR96,\"\")","v":""},"□","金融・保険",false,"",null,"□","北区",{"$f":"IF(AZ96=\"☑\",TRUE)","v":false},"さいたま市北区",{"$f":"IF(BB96,BC96,\"\")","v":""},null,"□","蕨市",{"$f":"IF(BF96=\"☑\",TRUE)","v":false},{"$f":"BG96","v":"蕨市"},{"$f":"IF(BH96,BI96,\"\")","v":""},null,"□","志木市",{"$f":"IF(BL96=\"☑\",TRUE)","v":false},"志木市",{"$f":"IF(BN96,BO96,\"\")","v":""},null,"□","草加市",{"$f":"IF(BR96=\"☑\",TRUE)","v":false},"草加市","",null,"□","上尾市",{"$f":"IF(BX96=\"☑\",TRUE)","v":false},{"$f":"BY96","v":"上尾市"},{"$f":"IF(BZ96,CA96,\"\")","v":""},null,"□","東松山市",{"$f":"IF(CD96=\"☑\",TRUE)","v":false},"東松山市",{"$f":"IF(CF96,CG96,\"\")","v":""},null,"□","飯能市",{"$f":"IF(CJ96=\"☑\",TRUE)","v":false},{"$f":"CK96","v":"飯能市"},{"$f":"IF(CL96,CM96,\"\")","v":""},null,"□","加須市",{"$f":"IF(CP96=\"☑\",TRUE)","v":false},"加須市",{"$f":"IF(CR96,CS96,\"\")","v":""},null,"□","本庄市",{"$f":"IF(CV96=\"☑\",TRUE)","v":false},"本庄市",{"$f":"IF(CX96,CY96,\"\")","v":""},null,"□","横瀬町",{"$f":"IF(DB96=\"☑\",TRUE)","v":false},{"$f":"DC96","v":"横瀬町"},{"$f":"IF(DD96,DE96,\"\")","v":""},null,null,null,null,null,null,null,null,null,null,{"$f":"IF(DP96,#REF!,\"\")","v":""}]
[null,null,null,null,null,null,null,null,null,null,null,null,null,null,null,null,null,null,"□","買物代行",false,"","□","食材宅配",false,"","□","温泉・銭湯（送迎）",false,"","□","屋外作業・力仕事",false,"","□","カフェ・ファーストフード",false,"","□","休憩スペース",false,"","□","映画館",false,"","□","住宅・リフォーム",false,"",null,"□","大宮区",false,"さいたま市大宮区","",null,"□","戸田市",{"$f":"IF(BF97=\"☑\",TRUE)","v":false},{"$f":"BG97","v":"戸田市"},"",null,"□","和光市",false,"和光市","",null,"□","越谷市",false,"越谷市","",null,"□","桶川市",{"$f":"IF(BX97=\"☑\",TRUE)","v":false},{"$f":"BY97","v":"桶川市"},"",null,"□","坂戸市",false,"坂戸市","",null,"□","狭山市",{"$f":"IF(CJ97=\"☑\",TRUE)","v":false},{"$f":"CK97","v":"狭山市"},"",null,"□","羽生市",false,"羽生市","",null,"□","深谷市",false,"深谷市","",null,"□","皆野町",{"$f":"IF(DB97=\"☑\",TRUE)","v":false},{"$f":"DC97","v":"皆野町"},"",null,null,null,null,null,null,null,null,null,{"$f":"IF(#REF!=\"☑\",TRUE)","v":{"$error":"#REF!"}},{"$f":"IF(DP97,#REF!,\"\")","v":{"$error":"#REF!"}}]
[null,null,null,null,null,null,null,null,null,null,null,null,null,null,null,null,null,null,"□","移動販売",false,"","□","日用品配達",false,"","□","整体・マッサージ（送迎）",false,"","□","整体・マッサージ（出張）",false,"","□","飲食店",false,"","□","駐車場",false,"","□","カラオケ店",false,"","□","パソコン・スマートフォン",false,"",null,"□","見沼区",false,"さいたま市見沼区","",null,null,null,null,null,"",null,"□","新座市",false,"新座市","",null,"□","八潮市",false,"八潮市","",null,"□","北本市",{"$f":"IF(BX98=\"☑\",TRUE)","v":false},{"$f":"BY98","v":"北本市"},"",null,"□","鶴ヶ島市",false,"鶴ヶ島市","",null,"□","入間市",{"$f":"IF(CJ98=\"☑\",TRUE)","v":false},{"$f":"CK98","v":"入間市"},"",null,"□","久喜市",false,"久喜市","",null,"□","美里町",false,"美里町","",null,"□","長瀞町",{"$f":"IF(DB98=\"☑\",TRUE)","v":false},{"$f":"DC98","v":"長瀞町"},""]
[null,null,null,null,null,null,null,null,null,null,null,null,null,null,null,null,null,null,"□","割引サービス",false,"","□","薬・介護用品配達",false,"","□","乗り合いサービス",false,"","□","理容・美容（出張）",false,"","□","イートインスペース",false,"","□","貸しスペース",false,"","□","麻雀・将棋・囲碁",false,"","□","認知症サポート企業",false,"",null,"□","中央区",false,"さいたま市中央区","",null,null,null,null,null,"",null,"□","富士見市",false,"富士見市","",null,"□","三郷市",false,"三郷市","",null,"□","伊奈町",{"$f":"IF(BX99=\"☑\",TRUE)","v":false},{"$f":"BY99","v":"伊奈町"},"",null,"□","毛呂山町",false,"毛呂山町","",null,"□","日高市",{"$f":"IF(CJ99=\"☑\",TRUE)","v":false},{"$f":"CK99","v":"日高市"},"",null,"□","蓮田市",false,"蓮田市","",null,"□","神川町",false,"神川町","",null,"□","小鹿野町",{"$f":"IF(DB99=\"☑\",TRUE)","v":false},{"$f":"DC99","v":"小鹿野町"},"",null,null,null,null,null,null,null,null,null,{"$f":"IF(#REF!=\"☑\",TRUE)","v":{"$error":"#REF!"}},{"$f":"IF(DP99,#REF!,\"\")","v":{"$error":"#REF!"}}]
[null,null,null,null,null,null,null,null,null,null,null,null,null,null,null,null,null,null,"□","その他（買物）",false,"","□","クリーニング",false,{"$f":"IF(Y100,X100,\"\")","v":""},"□","個別移送サービス",false,"","□","ペット",false,"","□","その他（運動・たまり場）",false,"","□","その他（設備・施設・場所貸し）",false,"","□","ゲームセンター",false,"","□","理容・美容",false,"",null,"□","桜区",false,"さいたま市桜区","",null,null,null,null,null,"",null,"□","ふじみ野市",false,"ふじみ野市","",null,"□","吉川市",false,"吉川市","",null,null,null,null,null,"",null,"□","越生町",false,"越生町","",null,null,null,null,null,"",null,"□","幸手市",false,"幸手市","",null,"□","上里町",false,"上里町","",null,null,null,null,null,"",null,null,null,null,null,null,null,null,null,{"$f":"IF(#REF!=\"☑\",TRUE)","v":{"$error":"#REF!"}},{"$f":"IF(DP100,#REF!,\"\")","v":{"$error":"#REF!"}}]
[null,null,null,null,null,null,null,null,null,null,null,null,null,null,null,null,null,null,null,null,null,null,"□","その他（宅配・デリバリー）",false,{"$f":"IF(Y101,X101,\"\")","v":""},"□","交通機関サービス",false,"","□","その他（出張サービス）",false,"",null,null,null,null,null,null,null,null,"□","旅行・レジャー",false,"","□","成年後見・相続",false,"",null,"□","浦和区",false,"さいたま市浦和区","",null,null,null,null,null,"",null,"□","三芳町",false,"三芳町","",null,"□","松伏町",false,"松伏町","",null,null,null,null,null,"",null,"□","滑川町",false,"滑川町","",null,null,null,null,null,"",null,"□","白岡市",false,"白岡市","",null,"□","寄居町",false,"寄居町","",null,null,null,null,null,""]
[null,null,null,null,null,null,null,null,null,null,null,null,null,null,null,null,null,null,null,null,null,null,null,null,null,null,"□","その他（送迎・移動支援）",false,"",null,null,null,"",null,null,null,{"$f":"IF(AK102,AJ102,\"\")","v":""},null,null,null,{"$f":"IF(AO102,AN102,\"\")","v":""},"□","パソコン・スマホ教室",false,"","□","その他（生活サービス）",false,"",null,"□","南区",false,"さいたま市南区","",null,null,null,null,null,"",null,null,null,null,null,"",null,null,null,null,null,"",null,null,null,null,null,"",null,"□","嵐山町",false,"嵐山町","",null,null,null,null,null,"",null,"□","宮代町",false,"宮代町","",null,null,null,null,null,"",null,null,null,null,null,""]
[null,null,null,null,null,null,null,null,null,null,null,null,null,null,null,null,null,null,null,null,null,null,null,null,null,null,null,null,null,null,null,null,null,null,null,null,null,null,null,null,null,null,"□","その他（学び・趣味）",false,"",null,null,null,null,null,"□","緑区",false,"さいたま市緑区","",null,null,null,null,null,"",null,null,null,null,null,"",null,null,null,null,null,"",null,null,null,null,null,"",null,"□","小川町",false,"小川町","",null,null,null,null,null,"",null,"□","杉戸町",false,"杉戸町","",null,null,null,null,null,"",null,null,null,null,null,""]
[null,null,null,null,null,null,null,null,null,null,null,null,null,null,null,null,null,null,null,null,null,null,null,null,null,null,null,null,null,null,null,null,null,null,null,null,null,null,null,null,null,null,null,null,null,null,null,null,null,null,null,"□","岩槻区",{"$f":"IF(AZ104=\"☑\",TRUE)","v":false},"さいたま市岩槻区","",null,null,null,null,null,"",null,null,null,null,null,"",null,null,null,null,null,"",null,null,null,null,null,"",null,"□","川島町",false,"川島町","",null,null,null,null,null,"",null,null,null,null,null,"",null,null,null,null,null,"",null,null,null,null,null,""]
[null,null,null,null,null,null,null,null,null,null,null,null,null,null,null,null,null,null,null,null,null,null,null,null,null,null,null,null,null,null,null,null,null,null,null,null,null,null,null,null,null,null,null,null,null,null,null,null,null,null,null,null,null,null,null,null,null,null,null,null,null,null,null,null,null,null,null,null,null,null,null,null,null,null,null,null,null,null,null,null,null,"□","吉見町",false,"吉見町","",null,null,null,null,null,"",null,null,null,null,null,"",null,null,null,null,null,"",null,null,null,null,null,""]
[null,null,null,null,null,null,null,null,null,null,null,null,null,null,null,null,null,null,null,null,null,null,null,null,null,null,null,null,null,null,null,null,null,null,null,null,null,null,null,null,null,null,null,null,null,null,null,null,null,null,null,null,null,null,null,null,null,null,null,null,null,null,null,null,null,null,null,null,null,null,null,null,null,null,null,null,null,null,null,null,null,"□","鳩山町",false,"鳩山町","",null,null,null,null,null,"",null,null,null,null,null,"",null,null,null,null,null,"",null,null,null,null,null,""]
[null,null,null,null,null,null,null,null,null,null,null,null,null,null,null,null,null,null,null,null,null,null,null,null,null,null,null,null,null,null,null,null,null,null,null,null,null,null,null,null,null,null,null,null,null,null,null,null,null,null,null,null,null,null,null,null,null,null,null,null,null,null,null,null,null,null,null,null,null,null,null,null,null,null,null,null,null,null,null,null,null,"□","ときがわ町",false,"ときがわ町","",null,null,null,null,null,"",null,null,null,null,null,"",null,null,null,null,null,"",null,null,null,null,null,""]
[null,null,null,null,null,null,null,null,null,null,null,null,null,null,null,null,null,null,null,null,null,null,null,null,null,null,null,null,null,null,null,null,null,null,null,null,null,null,null,null,null,null,null,null,null,null,null,null,null,null,null,null,null,null,null,null,null,null,null,null,null,null,null,null,null,null,null,null,null,null,null,null,null,null,null,null,null,null,null,null,null,"□","東秩父村",false,"東秩父村","",null,null,null,null,null,"",null,null,null,null,null,"",null,null,null,null,null,"",null,null,null,null,null,""]
[7,null,null,null,null,null,null,null,null,null,null,null,null,null,null,null,null,null,"□","配送",{"$f":"IF(S109=\"☑\",TRUE)","v":false},{"$f":"IF(U109,T109,\"\")","v":""},"□","弁当配達",{"$f":"IF(W109=\"☑\",TRUE)","v":false},{"$f":"IF(Y109,X109,\"\")","v":""},"□","理容・美容（送迎）",{"$f":"IF(AA109=\"☑\",TRUE)","v":false},{"$f":"IF(AC109,AB109,\"\")","v":""},"□","家事代行・掃除・片付け",{"$f":"IF(AE109=\"☑\",TRUE)","v":false},{"$f":"IF(AG109,AF109,\"\")","v":""},"□","フィットネス・ジム（運動）",{"$f":"IF(AI109=\"☑\",TRUE)","v":false},{"$f":"IF(AK109,AJ109,\"\")","v":""},"□","車イス対応（バリアフリー）",{"$f":"IF(AM109=\"☑\",TRUE)","v":false},{"$f":"IF(AO109,AN109,\"\")","v":""},"□","講座・教室・イベント",{"$f":"IF(AQ109=\"☑\",TRUE)","v":false},{"$f":"IF(AS109,AR109,\"\")","v":""},"□","防犯・見守り",{"$f":"IF(AU109=\"☑\",TRUE)","v":false},{"$f":"IF(AW109,AV109,\"\")","v":""},{"$f":"_xlfn.TEXTJOIN(\"／\",TRUE,V109:V122,Z109:Z122,AD109:AD122,AH109:AH122,AL109:AL122,AP109:AP122,AT109:AT122,AX109:AX122)","v":""},"□","西区",{"$f":"IF(AZ109=\"☑\",TRUE)","v":false},{"$f":"\"さいたま市\"&BA109","v":"さいたま市西区"},{"$f":"IF(BB109,BC109,\"\")","v":""},{"$f":"_xlfn.TEXTJOIN(\"／\",TRUE,BD109:BD122)","v":""},"□","川口市",{"$f":"IF(BF109=\"☑\",TRUE)","v":false},{"$f":"BG109","v":"川口市"},{"$f":"IF(BH109,BI109,\"\")","v":""},{"$f":"_xludf.TEXTJOIN(\",\",TRUE,BJ109:BJ122)","v":""},"□","朝霞市",{"$f":"IF(BL109=\"☑\",TRUE)","v":false},{"$f":"BM109","v":"朝霞市"},{"$f":"IF(BN109,BO109,\"\")","v":""},{"$f":"_xlfn.TEXTJOIN(\"／\",TRUE,BP109:BP122)","v":""},"□","春日部市",{"$f":"IF(BR109=\"☑\",TRUE)","v":false},{"$f":"BS109","v":"春日部市"},{"$f":"IF(BT109,BU109,\"\")","v":""},{"$f":"_xlfn.TEXTJOIN(\"／\",TRUE,BV109:BV122)","v":""},"□","鴻巣市",{"$f":"IF(BX109=\"☑\",TRUE)","v":false},{"$f":"BY109","v":"鴻巣市"},{"$f":"IF(BZ109,CA109,\"\")","v":""},{"$f":"_xlfn.TEXTJOIN(\"／\",TRUE,CB109:CB122)","v":""},"□","川越市",{"$f":"IF(CD109=\"☑\",TRUE)","v":false},"川越市",{"$f":"IF(CF109,CG109,\"\")","v":""},{"$f":"_xlfn.TEXTJOIN(\"／\",TRUE,CH109:CH122)","v":""},"□","所沢市",{"$f":"IF(CJ109=\"☑\",TRUE)","v":false},{"$f":"CK109","v":"所沢市"},{"$f":"IF(CL109,CM109,\"\")","v":""},{"$f":"_xlfn.TEXTJOIN(\"／\",TRUE,CN109:CN122)","v":""},"□","行田市",{"$f":"IF(CP109=\"☑\",TRUE)","v":false},{"$f":"CQ109","v":"行田市"},{"$f":"IF(CR109,CS109,\"\")","v":""},{"$f":"_xludf.TEXTJOIN(\",\",TRUE,CT109:CT122)","v":""},"□","熊谷市",{"$f":"IF(CV109=\"☑\",TRUE)","v":false},{"$f":"CW109","v":"熊谷市"},{"$f":"IF(CX109,CY109,\"\")","v":""},{"$f":"_xlfn.TEXTJOIN(\"／\",TRUE,CZ109:CZ122)","v":""},"□","秩父市",{"$f":"IF(DB109=\"☑\",TRUE)","v":false},{"$f":"DC109","v":"秩父市"},{"$f":"IF(DD109,DE109,\"\")","v":""},{"$f":"_xlfn.TEXTJOIN(\"／\",TRUE,DF109:DF122)","v":""},{"$f":"_xlfn.TEXTJOIN(\"／\",TRUE,BE109,BK109,BQ109,BW109,CC109,CI109,CO109,CU109,DA109,DG109)","v":""},null,null,null,null,null,null,null,{"$f":"IF(#REF!=\"☑\",TRUE)","v":{"$error":"#REF!"}},{"$f":"IF(DP109,#REF!,\"\")","v":{"$error":"#REF!"}},{"$f":"_xludf.TEXTJOIN(\",\",TRUE,DQ109:DQ122)","v":{"$error":"#VALUE!"}}]
[null,null,null,null,null,null,null,null,null,null,null,null,null,null,null,null,null,null,"□","買物サポート",false,"","□","料理デリバリー（出前）",false,"","□","フィットネス・ジム（送迎）",{"$f":"IF(AA110=\"☑\",TRUE)","v":false},{"$f":"IF(AC110,AB110,\"\")","v":""},"□","出張料理",{"$f":"IF(AE110=\"☑\",TRUE)","v":false},{"$f":"IF(AG110,AF110,\"\")","v":""},"□","温泉・銭湯（たまり場）",false,"","□","多目的トイレ",false,"","□","習い事",{"$f":"IF(AQ110=\"☑\",TRUE)","v":false},{"$f":"IF(AS110,AR110,\"\")","v":""},"□","金融・保険",false,"",null,"□","北区",{"$f":"IF(AZ110=\"☑\",TRUE)","v":false},"さいたま市北区",{"$f":"IF(BB110,BC110,\"\")","v":""},null,"□","蕨市",{"$f":"IF(BF110=\"☑\",TRUE)","v":false},{"$f":"BG110","v":"蕨市"},{"$f":"IF(BH110,BI110,\"\")","v":""},null,"□","志木市",{"$f":"IF(BL110=\"☑\",TRUE)","v":false},"志木市",{"$f":"IF(BN110,BO110,\"\")","v":""},null,"□","草加市",{"$f":"IF(BR110=\"☑\",TRUE)","v":false},"草加市","",null,"□","上尾市",{"$f":"IF(BX110=\"☑\",TRUE)","v":false},{"$f":"BY110","v":"上尾市"},{"$f":"IF(BZ110,CA110,\"\")","v":""},null,"□","東松山市",{"$f":"IF(CD110=\"☑\",TRUE)","v":false},"東松山市",{"$f":"IF(CF110,CG110,\"\")","v":""},null,"□","飯能市",{"$f":"IF(CJ110=\"☑\",TRUE)","v":false},{"$f":"CK110","v":"飯能市"},{"$f":"IF(CL110,CM110,\"\")","v":""},null,"□","加須市",{"$f":"IF(CP110=\"☑\",TRUE)","v":false},"加須市",{"$f":"IF(CR110,CS110,\"\")","v":""},null,"□","本庄市",{"$f":"IF(CV110=\"☑\",TRUE)","v":false},"本庄市",{"$f":"IF(CX110,CY110,\"\")","v":""},null,"□","横瀬町",{"$f":"IF(DB110=\"☑\",TRUE)","v":false},{"$f":"DC110","v":"横瀬町"},{"$f":"IF(DD110,DE110,\"\")","v":""},null,null,null,null,null,null,null,null,null,null,{"$f":"IF(DP110,#REF!,\"\")","v":""}]
[null,null,null,null,null,null,null,null,null,null,null,null,null,null,null,null,null,null,"□","買物代行",false,"","□","食材宅配",false,"","□","温泉・銭湯（送迎）",false,"","□","屋外作業・力仕事",false,"","□","カフェ・ファーストフード",false,"","□","休憩スペース",false,"","□","映画館",false,"","□","住宅・リフォーム",false,"",null,"□","大宮区",false,"さいたま市大宮区","",null,"□","戸田市",{"$f":"IF(BF111=\"☑\",TRUE)","v":false},{"$f":"BG111","v":"戸田市"},"",null,"□","和光市",false,"和光市","",null,"□","越谷市",false,"越谷市","",null,"□","桶川市",{"$f":"IF(BX111=\"☑\",TRUE)","v":false},{"$f":"BY111","v":"桶川市"},"",null,"□","坂戸市",false,"坂戸市","",null,"□","狭山市",{"$f":"IF(CJ111=\"☑\",TRUE)","v":false},{"$f":"CK111","v":"狭山市"},"",null,"□","羽生市",false,"羽生市","",null,"□","深谷市",false,"深谷市","",null,"□","皆野町",{"$f":"IF(DB111=\"☑\",TRUE)","v":false},{"$f":"DC111","v":"皆野町"},"",null,null,null,null,null,null,null,null,null,{"$f":"IF(#REF!=\"☑\",TRUE)","v":{"$error":"#REF!"}},{"$f":"IF(DP111,#REF!,\"\")","v":{"$error":"#REF!"}}]
[null,null,null,null,null,null,null,null,null,null,null,null,null,null,null,null,null,null,"□","移動販売",false,"","□","日用品配達",false,"","□","整体・マッサージ（送迎）",false,"","□","整体・マッサージ（出張）",false,"","□","飲食店",false,"","□","駐車場",false,"","□","カラオケ店",false,"","□","パソコン・スマートフォン",false,"",null,"□","見沼区",false,"さいたま市見沼区","",null,null,null,null,null,"",null,"□","新座市",false,"新座市","",null,"□","八潮市",false,"八潮市","",null,"□","北本市",{"$f":"IF(BX112=\"☑\",TRUE)","v":false},{"$f":"BY112","v":"北本市"},"",null,"□","鶴ヶ島市",false,"鶴ヶ島市","",null,"□","入間市",{"$f":"IF(CJ112=\"☑\",TRUE)","v":false},{"$f":"CK112","v":"入間市"},"",null,"□","久喜市",false,"久喜市","",null,"□","美里町",false,"美里町","",null,"□","長瀞町",{"$f":"IF(DB112=\"☑\",TRUE)","v":false},{"$f":"DC112","v":"長瀞町"},""]
[null,null,null,null,null,null,null,null,null,null,null,null,null,null,null,null,null,null,"□","割引サービス",false,"","□","薬・介護用品配達",false,"","□","乗り合いサービス",false,"","□","理容・美容（出張）",false,"","□","イートインスペース",false,"","□","貸しスペース",false,"","□","麻雀・将棋・囲碁",false,"","□","認知症サポート企業",false,"",null,"□","中央区",false,"さいたま市中央区","",null,null,null,null,null,"",null,"□","富士見市",false,"富士見市","",null,"□","三郷市",false,"三郷市","",null,"□","伊奈町",{"$f":"IF(BX113=\"☑\",TRUE)","v":false},{"$f":"BY113","v":"伊奈町"},"",null,"□","毛呂山町",false,"毛呂山町","",null,"□","日高市",{"$f":"IF(CJ113=\"☑\",TRUE)","v":false},{"$f":"CK113","v":"日高市"},"",null,"□","蓮田市",false,"蓮田市","",null,"□","神川町",false,"神川町","",null,"□","小鹿野町",{"$f":"IF(DB113=\"☑\",TRUE)","v":false},{"$f":"DC113","v":"小鹿野町"},"",null,null,null,null,null,null,null,null,null,{"$f":"IF(#REF!=\"☑\",TRUE)","v":{"$error":"#REF!"}},{"$f":"IF(DP113,#REF!,\"\")","v":{"$error":"#REF!"}}]
[null,null,null,null,null,null,null,null,null,null,null,null,null,null,null,null,null,null,"□","その他（買物）",false,"","□","クリーニング",false,{"$f":"IF(Y114,X114,\"\")","v":""},"□","個別移送サービス",false,"","□","ペット",false,"","□","その他（運動・たまり場）",false,"","□","その他（設備・施設・場所貸し）",false,"","□","ゲームセンター",false,"","□","理容・美容",false,"",null,"□","桜区",false,"さいたま市桜区","",null,null,null,null,null,"",null,"□","ふじみ野市",false,"ふじみ野市","",null,"□","吉川市",false,"吉川市","",null,null,null,null,null,"",null,"□","越生町",false,"越生町","",null,null,null,null,null,"",null,"□","幸手市",false,"幸手市","",null,"□","上里町",false,"上里町","",null,null,null,null,null,"",null,null,null,null,null,null,null,null,null,{"$f":"IF(#REF!=\"☑\",TRUE)","v":{"$error":"#REF!"}},{"$f":"IF(DP114,#REF!,\"\")","v":{"$error":"#REF!"}}]
[null,null,null,null,null,null,null,null,null,null,null,null,null,null,null,null,null,null,null,null,null,null,"□","その他（宅配・デリバリー）",false,{"$f":"IF(Y115,X115,\"\")","v":""},"□","交通機関サービス",false,"","□","その他（出張サービス）",false,"",null,null,null,null,null,null,null,null,"□","旅行・レジャー",false,"","□","成年後見・相続",false,"",null,"□","浦和区",false,"さいたま市浦和区","",null,null,null,null,null,"",null,"□","三芳町",false,"三芳町","",null,"□","松伏町",false,"松伏町","",null,null,null,null,null,"",null,"□","滑川町",false,"滑川町","",null,null,null,null,null,"",null,"□","白岡市",false,"白岡市","",null,"□","寄居町",false,"寄居町","",null,null,null,null,null,""]
[null,null,null,null,null,null,null,null,null,null,null,null,null,null,null,null,null,null,null,null,null,null,null,null,null,null,"□","その他（送迎・移動支援）",false,"",null,null,null,"",null,null,null,{"$f":"IF(AK116,AJ116,\"\")","v":""},null,null,null,{"$f":"IF(AO116,AN116,\"\")","v":""},"□","パソコン・スマホ教室",false,"","□","その他（生活サービス）",false,"",null,"□","南区",false,"さいたま市南区","",null,null,null,null,null,"",null,null,null,null,null,"",null,null,null,null,null,"",null,null,null,null,null,"",null,"□","嵐山町",false,"嵐山町","",null,null,null,null,null,"",null,"□","宮代町",false,"宮代町","",null,null,null,null,null,"",null,null,null,null,null,""]
[null,null,null,null,null,null,null,null,null,null,null,null,null,null,null,null,null,null,null,null,null,null,null,null,null,null,null,null,null,null,null,null,null,null,null,null,null,null,null,null,null,null,"□","その他（学び・趣味）",false,"",null,null,null,null,null,"□","緑区",false,"さいたま市緑区","",null,null,null,null,null,"",null,null,null,null,null,"",null,null,null,null,null,"",null,null,null,null,null,"",null,"□","小川町",false,"小川町","",null,null,null,null,null,"",null,"□","杉戸町",false,"杉戸町","",null,null,null,null,null,"",null,null,null,null,null,""]
[null,null,null,null,null,null,null,null,null,null,null,null,null,null,null,null,null,null,null,null,null,null,null,null,null,null,null,null,null,null,null,null,null,null,null,null,null,null,null,null,null,null,null,null,null,null,null,null,null,null,null,"□","岩槻区",{"$f":"IF(AZ118=\"☑\",TRUE)","v":false},"さいたま市岩槻区","",null,null,null,null,null,"",null,null,null,null,null,"",null,null,null,null,null,"",null,null,null,null,null,"",null,"□","川島町",false,"川島町","",null,null,null,null,null,"",null,null,null,null,null,"",null,null,null,null,null,"",null,null,null,null,null,""]
[null,null,null,null,null,null,null,null,null,null,null,null,null,null,null,null,null,null,null,null,null,null,null,null,null,null,null,null,null,null,null,null,null,null,null,null,null,null,null,null,null,null,null,null,null,null,null,null,null,null,null,null,null,null,null,null,null,null,null,null,null,null,null,null,null,null,null,null,null,null,null,null,null,null,null,null,null,null,null,null,null,"□","吉見町",false,"吉見町","",null,null,null,null,null,"",null,null,null,null,null,"",null,null,null,null,null,"",null,null,null,null,null,""]
[null,null,null,null,null,null,null,null,null,null,null,null,null,null,null,null,null,null,null,null,null,null,null,null,null,null,null,null,null,null,null,null,null,null,null,null,null,null,null,null,null,null,null,null,null,null,null,null,null,null,null,null,null,null,null,null,null,null,null,null,null,null,null,null,null,null,null,null,null,null,null,null,null,null,null,null,null,null,null,null,null,"□","鳩山町",false,"鳩山町","",null,null,null,null,null,"",null,null,null,null,null,"",null,null,null,null,null,"",null,null,null,null,null,""]
[null,null,null,null,null,null,null,null,null,null,null,null,null,null,null,null,null,null,null,null,null,null,null,null,null,null,null,null,null,null,null,null,null,null,null,null,null,null,null,null,null,null,null,null,null,null,null,null,null,null,null,null,null,null,null,null,null,null,null,null,null,null,null,null,null,null,null,null,null,null,null,null,null,null,null,null,null,null,null,null,null,"□","ときがわ町",false,"ときがわ町","",null,null,null,null,null,"",null,null,null,null,null,"",null,null,null,null,null,"",null,null,null,null,null,""]
[null,null,null,null,null,null,null,null,null,null,null,null,null,null,null,null,null,null,null,null,null,null,null,null,null,null,null,null,null,null,null,null,null,null,null,null,null,null,null,null,null,null,null,null,null,null,null,null,null,null,null,null,null,null,null,null,null,null,null,null,null,null,null,null,null,null,null,null,null,null,null,null,null,null,null,null,null,null,null,null,null,"□","東秩父村",false,"東秩父村","",null,null,null,null,null,"",null,null,null,null,null,"",null,null,null,null,null,"",null,null,null,null,null,""]
[8,null,null,null,null,null,null,null,null,null,null,null,null,null,null,null,null,null,"□","配送",{"$f":"IF(S123=\"☑\",TRUE)","v":false},{"$f":"IF(U123,T123,\"\")","v":""},"□","弁当配達",{"$f":"IF(W123=\"☑\",TRUE)","v":false},{"$f":"IF(Y123,X123,\"\")","v":""},"□","理容・美容（送迎）",{"$f":"IF(AA123=\"☑\",TRUE)","v":false},{"$f":"IF(AC123,AB123,\"\")","v":""},"□","家事代行・掃除・片付け",{"$f":"IF(AE123=\"☑\",TRUE)","v":false},{"$f":"IF(AG123,AF123,\"\")","v":""},"□","フィットネス・ジム（運動）",{"$f":"IF(AI123=\"☑\",TRUE)","v":false},{"$f":"IF(AK123,AJ123,\"\")","v":""},"□","車イス対応（バリアフリー）",{"$f":"IF(AM123=\"☑\",TRUE)","v":false},{"$f":"IF(AO123,AN123,\"\")","v":""},"□","講座・教室・イベント",{"$f":"IF(AQ123=\"☑\",TRUE)","v":false},{"$f":"IF(AS123,AR123,\"\")","v":""},"□","防犯・見守り",{"$f":"IF(AU123=\"☑\",TRUE)","v":false},{"$f":"IF(AW123,AV123,\"\")","v":""},{"$f":"_xlfn.TEXTJOIN(\"／\",TRUE,V123:V136,Z123:Z136,AD123:AD136,AH123:AH136,AL123:AL136,AP123:AP136,AT123:AT136,AX123:AX136)","v":""},"□","西区",{"$f":"IF(AZ123=\"☑\",TRUE)","v":false},{"$f":"\"さいたま市\"&BA123","v":"さいたま市西区"},{"$f":"IF(BB123,BC123,\"\")","v":""},{"$f":"_xlfn.TEXTJOIN(\"／\",TRUE,BD123:BD136)","v":""},"□","川口市",{"$f":"IF(BF123=\"☑\",TRUE)","v":false},{"$f":"BG123","v":"川口市"},{"$f":"IF(BH123,BI123,\"\")","v":""},{"$f":"_xludf.TEXTJOIN(\",\",TRUE,BJ123:BJ136)","v":""},"□","朝霞市",{"$f":"IF(BL123=\"☑\",TRUE)","v":false},{"$f":"BM123","v":"朝霞市"},{"$f":"IF(BN123,BO123,\"\")","v":""},{"$f":"_xlfn.TEXTJOIN(\"／\",TRUE,BP123:BP136)","v":""},"□","春日部市",{"$f":"IF(BR123=\"☑\",TRUE)","v":false},{"$f":"BS123","v":"春日部市"},{"$f":"IF(BT123,BU123,\"\")","v":""},{"$f":"_xlfn.TEXTJOIN(\"／\",TRUE,BV123:BV136)","v":""},"□","鴻巣市",{"$f":"IF(BX123=\"☑\",TRUE)","v":false},{"$f":"BY123","v":"鴻巣市"},{"$f":"IF(BZ123,CA123,\"\")","v":""},{"$f":"_xlfn.TEXTJOIN(\"／\",TRUE,CB123:CB136)","v":""},"□","川越市",{"$f":"IF(CD123=\"☑\",TRUE)","v":false},"川越市",{"$f":"IF(CF123,CG123,\"\")","v":""},{"$f":"_xlfn.TEXTJOIN(\"／\",TRUE,CH123:CH136)","v":""},"□","所沢市",{"$f":"IF(CJ123=\"☑\",TRUE)","v":false},{"$f":"CK123","v":"所沢市"},{"$f":"IF(CL123,CM123,\"\")","v":""},{"$f":"_xlfn.TEXTJOIN(\"／\",TRUE,CN123:CN136)","v":""},"□","行田市",{"$f":"IF(CP123=\"☑\",TRUE)","v":false},{"$f":"CQ123","v":"行田市"},{"$f":"IF(CR123,CS123,\"\")","v":""},{"$f":"_xludf.TEXTJOIN(\",\",TRUE,CT123:CT136)","v":""},"□","熊谷市",{"$f":"IF(CV123=\"☑\",TRUE)","v":false},{"$f":"CW123","v":"熊谷市"},{"$f":"IF(CX123,CY123,\"\")","v":""},{"$f":"_xlfn.TEXTJOIN(\"／\",TRUE,CZ123:CZ136)","v":""},"□","秩父市",{"$f":"IF(DB123=\"☑\",TRUE)","v":false},{"$f":"DC123","v":"秩父市"},{"$f":"IF(DD123,DE123,\"\")","v":""},{"$f":"_xlfn.TEXTJOIN(\"／\",TRUE,DF123:DF136)","v":""},{"$f":"_xlfn.TEXTJOIN(\"／\",TRUE,BE123,BK123,BQ123,BW123,CC123,CI123,CO123,CU123,DA123,DG123)","v":""},null,null,null,null,null,null,null,{"$f":"IF(#REF!=\"☑\",TRUE)","v":{"$error":"#REF!"}},{"$f":"IF(DP123,#REF!,\"\")","v":{"$error":"#REF!"}},{"$f":"_xludf.TEXTJOIN(\",\",TRUE,DQ123:DQ136)","v":{"$error":"#VALUE!"}}]
[null,null,null,null,null,null,null,null,null,null,null,null,null,null,null,null,null,null,"□","買物サポート",false,"","□","料理デリバリー（出前）",false,"","□","フィットネス・ジム（送迎）",{"$f":"IF(AA124=\"☑\",TRUE)","v":false},{"$f":"IF(AC124,AB124,\"\")","v":""},"□","出張料理",{"$f":"IF(AE124=\"☑\",TRUE)","v":false},{"$f":"IF(AG124,AF124,\"\")","v":""},"□","温泉・銭湯（たまり場）",false,"","□","多目的トイレ",false,"","□","習い事",{"$f":"IF(AQ124=\"☑\",TRUE)","v":false},{"$f":"IF(AS124,AR124,\"\")","v":""},"□","金融・保険",false,"",null,"□","北区",{"$f":"IF(AZ124=\"☑\",TRUE)","v":false},"さいたま市北区",{"$f":"IF(BB124,BC124,\"\")","v":""},null,"□","蕨市",{"$f":"IF(BF124=\"☑\",TRUE)","v":false},{"$f":"BG124","v":"蕨市"},{"$f":"IF(BH124,BI124,\"\")","v":""},null,"□","志木市",{"$f":"IF(BL124=\"☑\",TRUE)","v":false},"志木市",{"$f":"IF(BN124,BO124,\"\")","v":""},null,"□","草加市",{"$f":"IF(BR124=\"☑\",TRUE)","v":false},"草加市","",null,"□","上尾市",{"$f":"IF(BX124=\"☑\",TRUE)","v":false},{"$f":"BY124","v":"上尾市"},{"$f":"IF(BZ124,CA124,\"\")","v":""},null,"□","東松山市",{"$f":"IF(CD124=\"☑\",TRUE)","v":false},"東松山市",{"$f":"IF(CF124,CG124,\"\")","v":""},null,"□","飯能市",{"$f":"IF(CJ124=\"☑\",TRUE)","v":false},{"$f":"CK124","v":"飯能市"},{"$f":"IF(CL124,CM124,\"\")","v":""},null,"□","加須市",{"$f":"IF(CP124=\"☑\",TRUE)","v":false},"加須市",{"$f":"IF(CR124,CS124,\"\")","v":""},null,"□","本庄市",{"$f":"IF(CV124=\"☑\",TRUE)","v":false},"本庄市",{"$f":"IF(CX124,CY124,\"\")","v":""},null,"□","横瀬町",{"$f":"IF(DB124=\"☑\",TRUE)","v":false},{"$f":"DC124","v":"横瀬町"},{"$f":"IF(DD124,DE124,\"\")","v":""},null,null,null,null,null,null,null,null,null,null,{"$f":"IF(DP124,#REF!,\"\")","v":""}]
[null,null,null,null,null,null,null,null,null,null,null,null,null,null,null,null,null,null,"□","買物代行",false,"","□","食材宅配",false,"","□","温泉・銭湯（送迎）",false,"","□","屋外作業・力仕事",false,"","□","カフェ・ファーストフード",false,"","□","休憩スペース",false,"","□","映画館",false,"","□","住宅・リフォーム",false,"",null,"□","大宮区",false,"さいたま市大宮区","",null,"□","戸田市",{"$f":"IF(BF125=\"☑\",TRUE)","v":false},{"$f":"BG125","v":"戸田市"},"",null,"□","和光市",false,"和光市","",null,"□","越谷市",false,"越谷市","",null,"□","桶川市",{"$f":"IF(BX125=\"☑\",TRUE)","v":false},{"$f":"BY125","v":"桶川市"},"",null,"□","坂戸市",false,"坂戸市","",null,"□","狭山市",{"$f":"IF(CJ125=\"☑\",TRUE)","v":false},{"$f":"CK125","v":"狭山市"},"",null,"□","羽生市",false,"羽生市","",null,"□","深谷市",false,"深谷市","",null,"□","皆野町",{"$f":"IF(DB125=\"☑\",TRUE)","v":false},{"$f":"DC125","v":"皆野町"},"",null,null,null,null,null,null,null,null,null,{"$f":"IF(#REF!=\"☑\",TRUE)","v":{"$error":"#REF!"}},{"$f":"IF(DP125,#REF!,\"\")","v":{"$error":"#REF!"}}]
[null,null,null,null,null,null,null,null,null,null,null,null,null,null,null,null,null,null,"□","移動販売",false,"","□","日用品配達",false,"","□","整体・マッサージ（送迎）",false,"","□","整体・マッサージ（出張）",false,"","□","飲食店",false,"","□","駐車場",false,"","□","カラオケ店",false,"","□","パソコン・スマートフォン",false,"",null,"□","見沼区",false,"さいたま市見沼区","",null,null,null,null,null,"",null,"□","新座市",false,"新座市","",null,"□","八潮市",false,"八潮市","",null,"□","北本市",{"$f":"IF(BX126=\"☑\",TRUE)","v":false},{"$f":"BY126","v":"北本市"},"",null,"□","鶴ヶ島市",false,"鶴ヶ島市","",null,"□","入間市",{"$f":"IF(CJ126=\"☑\",TRUE)","v":false},{"$f":"CK126","v":"入間市"},"",null,"□","久喜市",false,"久喜市","",null,"□","美里町",false,"美里町","",null,"□","長瀞町",{"$f":"IF(DB126=\"☑\",TRUE)","v":false},{"$f":"DC126","v":"長瀞町"},""]
[null,null,null,null,null,null,null,null,null,null,null,null,null,null,null,null,null,null,"□","割引サービス",false,"","□","薬・介護用品配達",false,"","□","乗り合いサービス",false,"","□","理容・美容（出張）",false,"","□","イートインスペース",false,"","□","貸しスペース",false,"","□","麻雀・将棋・囲碁",false,"","□","認知症サポート企業",false,"",null,"□","中央区",false,"さいたま市中央区","",null,null,null,null,null,"",null,"□","富士見市",false,"富士見市","",null,"□","三郷市",false,"三郷市","",null,"□","伊奈町",{"$f":"IF(BX127=\"☑\",TRUE)","v":false},{"$f":"BY127","v":"伊奈町"},"",null,"□","毛呂山町",false,"毛呂山町","",null,"□","日高市",{"$f":"IF(CJ127=\"☑\",TRUE)","v":false},{"$f":"CK127","v":"日高市"},"",null,"□","蓮田市",false,"蓮田市","",null,"□","神川町",false,"神川町","",null,"□","小鹿野町",{"$f":"IF(DB127=\"☑\",TRUE)","v":false},{"$f":"DC127","v":"小鹿野町"},"",null,null,null,null,null,null,null,null,null,{"$f":"IF(#REF!=\"☑\",TRUE)","v":{"$error":"#REF!"}},{"$f":"IF(DP127,#REF!,\"\")","v":{"$error":"#REF!"}}]
[null,null,null,null,null,null,null,null,null,null,null,null,null,null,null,null,null,null,"□","その他（買物）",false,"","□","クリーニング",false,{"$f":"IF(Y128,X128,\"\")","v":""},"□","個別移送サービス",false,"","□","ペット",false,"","□","その他（運動・たまり場）",false,"","□","その他（設備・施設・場所貸し）",false,"","□","ゲームセンター",false,"","□","理容・美容",false,"",null,"□","桜区",false,"さいたま市桜区","",null,null,null,null,null,"",null,"□","ふじみ野市",false,"ふじみ野市","",null,"□","吉川市",false,"吉川市","",null,null,null,null,null,"",null,"□","越生町",false,"越生町","",null,null,null,null,null,"",null,"□","幸手市",false,"幸手市","",null,"□","上里町",false,"上里町","",null,null,null,null,null,"",null,null,null,null,null,null,null,null,null,{"$f":"IF(#REF!=\"☑\",TRUE)","v":{"$error":"#REF!"}},{"$f":"IF(DP128,#REF!,\"\")","v":{"$error":"#REF!"}}]
[null,null,null,null,null,null,null,null,null,null,null,null,null,null,null,null,null,null,null,null,null,null,"□","その他（宅配・デリバリー）",false,{"$f":"IF(Y129,X129,\"\")","v":""},"□","交通機関サービス",false,"","□","その他（出張サービス）",false,"",null,null,null,null,null,null,null,null,"□","旅行・レジャー",false,"","□","成年後見・相続",false,"",null,"□","浦和区",false,"さいたま市浦和区","",null,null,null,null,null,"",null,"□","三芳町",false,"三芳町","",null,"□","松伏町",false,"松伏町","",null,null,null,null,null,"",null,"□","滑川町",false,"滑川町","",null,null,null,null,null,"",null,"□","白岡市",false,"白岡市","",null,"□","寄居町",false,"寄居町","",null,null,null,null,null,""]
[null,null,null,null,null,null,null,null,null,null,null,null,null,null,null,null,null,null,null,null,null,null,null,null,null,null,"□","その他（送迎・移動支援）",false,"",null,null,null,"",null,null,null,{"$f":"IF(AK130,AJ130,\"\")","v":""},null,null,null,{"$f":"IF(AO130,AN130,\"\")","v":""},"□","パソコン・スマホ教室",false,"","□","その他（生活サービス）",false,"",null,"□","南区",false,"さいたま市南区","",null,null,null,null,null,"",null,null,null,null,null,"",null,null,null,null,null,"",null,null,null,null,null,"",null,"□","嵐山町",false,"嵐山町","",null,null,null,null,null,"",null,"□","宮代町",false,"宮代町","",null,null,null,null,null,"",null,null,null,null,null,""]
[null,null,null,null,null,null,null,null,null,null,null,null,null,null,null,null,null,null,null,null,null,null,null,null,null,null,null,null,null,null,null,null,null,null,null,null,null,null,null,null,null,null,"□","その他（学び・趣味）",false,"",null,null,null,null,null,"□","緑区",false,"さいたま市緑区","",null,null,null,null,null,"",null,null,null,null,null,"",null,null,null,null,null,"",null,null,null,null,null,"",null,"□","小川町",false,"小川町","",null,null,null,null,null,"",null,"□","杉戸町",false,"杉戸町","",null,null,null,null,null,"",null,null,null,null,null,""]
[null,null,null,null,null,null,null,null,null,null,null,null,null,null,null,null,null,null,null,null,null,null,null,null,null,null,null,null,null,null,null,null,null,null,null,null,null,null,null,null,null,null,null,null,null,null,null,null,null,null,null,"□","岩槻区",{"$f":"IF(AZ132=\"☑\",TRUE)","v":false},"さいたま市岩槻区","",null,null,null,null,null,"",null,null,null,null,null,"",null,null,null,null,null,"",null,null,null,null,null,"",null,"□","川島町",false,"川島町","",null,null,null,null,null,"",null,null,null,null,null,"",null,null,null,null,null,"",null,null,null,null,null,""]
[null,null,null,null,null,null,null,null,null,null,null,null,null,null,null,null,null,null,null,null,null,null,null,null,null,null,null,null,null,null,null,null,null,null,null,null,null,null,null,null,null,null,null,null,null,null,null,null,null,null,null,null,null,null,null,null,null,null,null,null,null,null,null,null,null,null,null,null,null,null,null,null,null,null,null,null,null,null,null,null,null,"□","吉見町",false,"吉見町","",null,null,null,null,null,"",null,null,null,null,null,"",null,null,null,null,null,"",null,null,null,null,null,""]
[null,null,null,null,null,null,null,null,null,null,null,null,null,null,null,null,null,null,null,null,null,null,null,null,null,null,null,null,null,null,null,null,null,null,null,null,null,null,null,null,null,null,null,null,null,null,null,null,null,null,null,null,null,null,null,null,null,null,null,null,null,null,null,null,null,null,null,null,null,null,null,null,null,null,null,null,null,null,null,null,null,"□","鳩山町",false,"鳩山町","",null,null,null,null,null,"",null,null,null,null,null,"",null,null,null,null,null,"",null,null,null,null,null,""]
[null,null,null,null,null,null,null,null,null,null,null,null,null,null,null,null,null,null,null,null,null,null,null,null,null,null,null,null,null,null,null,null,null,null,null,null,null,null,null,null,null,null,null,null,null,null,null,null,null,null,null,null,null,null,null,null,null,null,null,null,null,null,null,null,null,null,null,null,null,null,null,null,null,null,null,null,null,null,null,null,null,"□","ときがわ町",false,"ときがわ町","",null,null,null,null,null,"",null,null,null,null,null,"",null,null,null,null,null,"",null,null,null,null,null,""]
[null,null,null,null,null,null,null,null,null,null,null,null,null,null,null,null,null,null,null,null,null,null,null,null,null,null,null,null,null,null,null,null,null,null,null,null,null,null,null,null,null,null,null,null,null,null,null,null,null,null,null,null,null,null,null,null,null,null,null,null,null,null,null,null,null,null,null,null,null,null,null,null,null,null,null,null,null,null,null,null,null,"□","東秩父村",false,"東秩父村","",null,null,null,null,null,"",null,null,null,null,null,"",null,null,null,null,null,"",null,null,null,null,null,""]
[9,null,null,null,null,null,null,null,null,null,null,null,null,null,null,null,null,null,"□","配送",{"$f":"IF(S137=\"☑\",TRUE)","v":false},{"$f":"IF(U137,T137,\"\")","v":""},"□","弁当配達",{"$f":"IF(W137=\"☑\",TRUE)","v":false},{"$f":"IF(Y137,X137,\"\")","v":""},"□","理容・美容（送迎）",{"$f":"IF(AA137=\"☑\",TRUE)","v":false},{"$f":"IF(AC137,AB137,\"\")","v":""},"□","家事代行・掃除・片付け",{"$f":"IF(AE137=\"☑\",TRUE)","v":false},{"$f":"IF(AG137,AF137,\"\")","v":""},"□","フィットネス・ジム（運動）",{"$f":"IF(AI137=\"☑\",TRUE)","v":false},{"$f":"IF(AK137,AJ137,\"\")","v":""},"□","車イス対応（バリアフリー）",{"$f":"IF(AM137=\"☑\",TRUE)","v":false},{"$f":"IF(AO137,AN137,\"\")","v":""},"□","講座・教室・イベント",{"$f":"IF(AQ137=\"☑\",TRUE)","v":false},{"$f":"IF(AS137,AR137,\"\")","v":""},"□","防犯・見守り",{"$f":"IF(AU137=\"☑\",TRUE)","v":false},{"$f":"IF(AW137,AV137,\"\")","v":""},{"$f":"_xlfn.TEXTJOIN(\"／\",TRUE,V137:V150,Z137:Z150,AD137:AD150,AH137:AH150,AL137:AL150,AP137:AP150,AT137:AT150,AX137:AX150)","v":""},"□","西区",{"$f":"IF(AZ137=\"☑\",TRUE)","v":false},{"$f":"\"さいたま市\"&BA137","v":"さいたま市西区"},{"$f":"IF(BB137,BC137,\"\")","v":""},{"$f":"_xlfn.TEXTJOIN(\"／\",TRUE,BD137:BD150)","v":""},"□","川口市",{"$f":"IF(BF137=\"☑\",TRUE)","v":false},{"$f":"BG137","v":"川口市"},{"$f":"IF(BH137,BI137,\"\")","v":""},{"$f":"_xludf.TEXTJOIN(\",\",TRUE,BJ137:BJ150)","v":""},"□","朝霞市",{"$f":"IF(BL137=\"☑\",TRUE)","v":false},{"$f":"BM137","v":"朝霞市"},{"$f":"IF(BN137,BO137,\"\")","v":""},{"$f":"_xlfn.TEXTJOIN(\"／\",TRUE,BP137:BP150)","v":""},"□","春日部市",{"$f":"IF(BR137=\"☑\",TRUE)","v":false},{"$f":"BS137","v":"春日部市"},{"$f":"IF(BT137,BU137,\"\")","v":""},{"$f":"_xlfn.TEXTJOIN(\"／\",TRUE,BV137:BV150)","v":""},"□","鴻巣市",{"$f":"IF(BX137=\"☑\",TRUE)","v":false},{"$f":"BY137","v":"鴻巣市"},{"$f":"IF(BZ137,CA137,\"\")","v":""},{"$f":"_xlfn.TEXTJOIN(\"／\",TRUE,CB137:CB150)","v":""},"□","川越市",{"$f":"IF(CD137=\"☑\",TRUE)","v":false},"川越市",{"$f":"IF(CF137,CG137,\"\")","v":""},{"$f":"_xlfn.TEXTJOIN(\"／\",TRUE,CH137:CH150)","v":""},"□","所沢市",{"$f":"IF(CJ137=\"☑\",TRUE)","v":false},{"$f":"CK137","v":"所沢市"},{"$f":"IF(CL137,CM137,\"\")","v":""},{"$f":"_xlfn.TEXTJOIN(\"／\",TRUE,CN137:CN150)","v":""},"□","行田市",{"$f":"IF(CP137=\"☑\",TRUE)","v":false},{"$f":"CQ137","v":"行田市"},{"$f":"IF(CR137,CS137,\"\")","v":""},{"$f":"_xludf.TEXTJOIN(\",\",TRUE,CT137:CT150)","v":""},"□","熊谷市",{"$f":"IF(CV137=\"☑\",TRUE)","v":false},{"$f":"CW137","v":"熊谷市"},{"$f":"IF(CX137,CY137,\"\")","v":""},{"$f":"_xlfn.TEXTJOIN(\"／\",TRUE,CZ137:CZ150)","v":""},"□","秩父市",{"$f":"IF(DB137=\"☑\",TRUE)","v":false},{"$f":"DC137","v":"秩父市"},{"$f":"IF(DD137,DE137,\"\")","v":""},{"$f":"_xlfn.TEXTJOIN(\"／\",TRUE,DF137:DF150)","v":""},{"$f":"_xlfn.TEXTJOIN(\"／\",TRUE,BE137,BK137,BQ137,BW137,CC137,CI137,CO137,CU137,DA137,DG137)","v":""},null,null,null,null,null,null,null,{"$f":"IF(#REF!=\"☑\",TRUE)","v":{"$error":"#REF!"}},{"$f":"IF(DP137,#REF!,\"\")","v":{"$error":"#REF!"}},{"$f":"_xludf.TEXTJOIN(\",\",TRUE,DQ137:DQ150)","v":{"$error":"#VALUE!"}}]
[null,null,null,null,null,null,null,null,null,null,null,null,null,null,null,null,null,null,"□","買物サポート",false,"","□","料理デリバリー（出前）",false,"","□","フィットネス・ジム（送迎）",{"$f":"IF(AA138=\"☑\",TRUE)","v":false},{"$f":"IF(AC138,AB138,\"\")","v":""},"□","出張料理",{"$f":"IF(AE138=\"☑\",TRUE)","v":false},{"$f":"IF(AG138,AF138,\"\")","v":""},"□","温泉・銭湯（たまり場）",false,"","□","多目的トイレ",false,"","□","習い事",{"$f":"IF(AQ138=\"☑\",TRUE)","v":false},{"$f":"IF(AS138,AR138,\"\")","v":""},"□","金融・保険",false,"",null,"□","北区",{"$f":"IF(AZ138=\"☑\",TRUE)","v":false},"さいたま市北区",{"$f":"IF(BB138,BC138,\"\")","v":""},null,"□","蕨市",{"$f":"IF(BF138=\"☑\",TRUE)","v":false},{"$f":"BG138","v":"蕨市"},{"$f":"IF(BH138,BI138,\"\")","v":""},null,"□","志木市",{"$f":"IF(BL138=\"☑\",TRUE)","v":false},"志木市",{"$f":"IF(BN138,BO138,\"\")","v":""},null,"□","草加市",{"$f":"IF(BR138=\"☑\",TRUE)","v":false},"草加市","",null,"□","上尾市",{"$f":"IF(BX138=\"☑\",TRUE)","v":false},{"$f":"BY138","v":"上尾市"},{"$f":"IF(BZ138,CA138,\"\")","v":""},null,"□","東松山市",{"$f":"IF(CD138=\"☑\",TRUE)","v":false},"東松山市",{"$f":"IF(CF138,CG138,\"\")","v":""},null,"□","飯能市",{"$f":"IF(CJ138=\"☑\",TRUE)","v":false},{"$f":"CK138","v":"飯能市"},{"$f":"IF(CL138,CM138,\"\")","v":""},null,"□","加須市",{"$f":"IF(CP138=\"☑\",TRUE)","v":false},"加須市",{"$f":"IF(CR138,CS138,\"\")","v":""},null,"□","本庄市",{"$f":"IF(CV138=\"☑\",TRUE)","v":false},"本庄市",{"$f":"IF(CX138,CY138,\"\")","v":""},null,"□","横瀬町",{"$f":"IF(DB138=\"☑\",TRUE)","v":false},{"$f":"DC138","v":"横瀬町"},{"$f":"IF(DD138,DE138,\"\")","v":""},null,null,null,null,null,null,null,null,null,null,{"$f":"IF(DP138,#REF!,\"\")","v":""}]
[null,null,null,null,null,null,null,null,null,null,null,null,null,null,null,null,null,null,"□","買物代行",false,"","□","食材宅配",false,"","□","温泉・銭湯（送迎）",false,"","□","屋外作業・力仕事",false,"","□","カフェ・ファーストフード",false,"","□","休憩スペース",false,"","□","映画館",false,"","□","住宅・リフォーム",false,"",null,"□","大宮区",false,"さいたま市大宮区","",null,"□","戸田市",{"$f":"IF(BF139=\"☑\",TRUE)","v":false},{"$f":"BG139","v":"戸田市"},"",null,"□","和光市",false,"和光市","",null,"□","越谷市",false,"越谷市","",null,"□","桶川市",{"$f":"IF(BX139=\"☑\",TRUE)","v":false},{"$f":"BY139","v":"桶川市"},"",null,"□","坂戸市",false,{"$f":"CE139","v":"坂戸市"},"",null,"□","狭山市",{"$f":"IF(CJ139=\"☑\",TRUE)","v":false},{"$f":"CK139","v":"狭山市"},"",null,"□","羽生市",false,"羽生市","",null,"□","深谷市",false,"深谷市","",null,"□","皆野町",{"$f":"IF(DB139=\"☑\",TRUE)","v":false},{"$f":"DC139","v":"皆野町"},"",null,null,null,null,null,null,null,null,null,{"$f":"IF(#REF!=\"☑\",TRUE)","v":{"$error":"#REF!"}},{"$f":"IF(DP139,#REF!,\"\")","v":{"$error":"#REF!"}}]
[null,null,null,null,null,null,null,null,null,null,null,null,null,null,null,null,null,null,"□","移動販売",false,"","□","日用品配達",false,"","□","整体・マッサージ（送迎）",false,"","□","整体・マッサージ（出張）",false,"","□","飲食店",false,"","□","駐車場",false,"","□","カラオケ店",false,"","□","パソコン・スマートフォン",false,"",null,"□","見沼区",false,"さいたま市見沼区","",null,null,null,null,null,"",null,"□","新座市",false,"新座市","",null,"□","八潮市",false,"八潮市","",null,"□","北本市",{"$f":"IF(BX140=\"☑\",TRUE)","v":false},{"$f":"BY140","v":"北本市"},"",null,"□","鶴ヶ島市",false,"鶴ヶ島市","",null,"□","入間市",{"$f":"IF(CJ140=\"☑\",TRUE)","v":false},{"$f":"CK140","v":"入間市"},"",null,"□","久喜市",false,"久喜市","",null,"□","美里町",false,"美里町","",null,"□","長瀞町",{"$f":"IF(DB140=\"☑\",TRUE)","v":false},{"$f":"DC140","v":"長瀞町"},""]
[null,null,null,null,null,null,null,null,null,null,null,null,null,null,null,null,null,null,"□","割引サービス",false,"","□","薬・介護用品配達",false,"","□","乗り合いサービス",false,"","□","理容・美容（出張）",false,"","□","イートインスペース",false,"","□","貸しスペース",false,"","□","麻雀・将棋・囲碁",false,"","□","認知症サポート企業",false,"",null,"□","中央区",false,"さいたま市中央区","",null,null,null,null,null,"",null,"□","富士見市",false,"富士見市","",null,"□","三郷市",false,"三郷市","",null,"□","伊奈町",{"$f":"IF(BX141=\"☑\",TRUE)","v":false},{"$f":"BY141","v":"伊奈町"},"",null,"□","毛呂山町",false,"毛呂山町","",null,"□","日高市",{"$f":"IF(CJ141=\"☑\",TRUE)","v":false},{"$f":"CK141","v":"日高市"},"",null,"□","蓮田市",false,"蓮田市","",null,"□","神川町",false,"神川町","",null,"□","小鹿野町",{"$f":"IF(DB141=\"☑\",TRUE)","v":false},{"$f":"DC141","v":"小鹿野町"},"",null,null,null,null,null,null,null,null,null,{"$f":"IF(#REF!=\"☑\",TRUE)","v":{"$error":"#REF!"}},{"$f":"IF(DP141,#REF!,\"\")","v":{"$error":"#REF!"}}]
[null,null,null,null,null,null,null,null,null,null,null,null,null,null,null,null,null,null,"□","その他（買物）",false,"","□","クリーニング",false,{"$f":"IF(Y142,X142,\"\")","v":""},"□","個別移送サービス",false,"","□","ペット",false,"","□","その他（運動・たまり場）",false,"","□","その他（設備・施設・場所貸し）",false,"","□","ゲームセンター",false,"","□","理容・美容",false,"",null,"□","桜区",false,"さいたま市桜区","",null,null,null,null,null,"",null,"□","ふじみ野市",false,"ふじみ野市","",null,"□","吉川市",false,"吉川市","",null,null,null,null,null,"",null,"□","越生町",false,"越生町","",null,null,null,null,null,"",null,"□","幸手市",false,"幸手市","",null,"□","上里町",false,"上里町","",null,null,null,null,null,"",null,null,null,null,null,null,null,null,null,{"$f":"IF(#REF!=\"☑\",TRUE)","v":{"$error":"#REF!"}},{"$f":"IF(DP142,#REF!,\"\")","v":{"$error":"#REF!"}}]
[null,null,null,null,null,null,null,null,null,null,null,null,null,null,null,null,null,null,null,null,null,null,"□","その他（宅配・デリバリー）",false,{"$f":"IF(Y143,X143,\"\")","v":""},"□","交通機関サービス",false,"","□","その他（出張サービス）",false,"",null,null,null,null,null,null,null,null,"□","旅行・レジャー",false,"","□","成年後見・相続",false,"",null,"□","浦和区",false,"さいたま市浦和区","",null,null,null,null,null,"",null,"□","三芳町",false,"三芳町","",null,"□","松伏町",false,"松伏町","",null,null,null,null,null,"",null,"□","滑川町",false,"滑川町","",null,null,null,null,null,"",null,"□","白岡市",false,"白岡市","",null,"□","寄居町",false,"寄居町","",null,null,null,null,null,""]
[null,null,null,null,null,null,null,null,null,null,null,null,null,null,null,null,null,null,null,null,null,null,null,null,null,null,"□","その他（送迎・移動支援）",false,"",null,null,null,"",null,null,null,{"$f":"IF(AK144,AJ144,\"\")","v":""},null,null,null,{"$f":"IF(AO144,AN144,\"\")","v":""},"□","パソコン・スマホ教室",false,"","□","その他（生活サービス）",false,"",null,"□","南区",false,"さいたま市南区","",null,null,null,null,null,"",null,null,null,null,null,"",null,null,null,null,null,"",null,null,null,null,null,"",null,"□","嵐山町",false,"嵐山町","",null,null,null,null,null,"",null,"□","宮代町",false,"宮代町","",null,null,null,null,null,"",null,null,null,null,null,""]
[null,null,null,null,null,null,null,null,null,null,null,null,null,null,null,null,null,null,null,null,null,null,null,null,null,null,null,null,null,null,null,null,null,null,null,null,null,null,null,null,null,null,"□","その他（学び・趣味）",false,"",null,null,null,null,null,"□","緑区",false,"さいたま市緑区","",null,null,null,null,null,"",null,null,null,null,null,"",null,null,null,null,null,"",null,null,null,null,null,"",null,"□","小川町",false,"小川町","",null,null,null,null,null,"",null,"□","杉戸町",false,"杉戸町","",null,null,null,null,null,"",null,null,null,null,null,""]
[null,null,null,null,null,null,null,null,null,null,null,null,null,null,null,null,null,null,null,null,null,null,null,null,null,null,null,null,null,null,null,null,null,null,null,null,null,null,null,null,null,null,null,null,null,null,null,null,null,null,null,"□","岩槻区",{"$f":"IF(AZ146=\"☑\",TRUE)","v":false},"さいたま市岩槻区","",null,null,null,null,null,"",null,null,null,null,null,"",null,null,null,null,null,"",null,null,null,null,null,"",null,"□","川島町",false,"川島町","",null,null,null,null,null,"",null,null,null,null,null,"",null,null,null,null,null,"",null,null,null,null,null,""]
[null,null,null,null,null,null,null,null,null,null,null,null,null,null,null,null,null,null,null,null,null,null,null,null,null,null,null,null,null,null,null,null,null,null,null,null,null,null,null,null,null,null,null,null,null,null,null,null,null,null,null,null,null,null,null,null,null,null,null,null,null,null,null,null,null,null,null,null,null,null,null,null,null,null,null,null,null,null,null,null,null,"□","吉見町",false,"吉見町","",null,null,null,null,null,"",null,null,null,null,null,"",null,null,null,null,null,"",null,null,null,null,null,""]
[null,null,null,null,null,null,null,null,null,null,null,null,null,null,null,null,null,null,null,null,null,null,null,null,null,null,null,null,null,null,null,null,null,null,null,null,null,null,null,null,null,null,null,null,null,null,null,null,null,null,null,null,null,null,null,null,null,null,null,null,null,null,null,null,null,null,null,null,null,null,null,null,null,null,null,null,null,null,null,null,null,"□","鳩山町",false,"鳩山町","",null,null,null,null,null,"",null,null,null,null,null,"",null,null,null,null,null,"",null,null,null,null,null,""]
[null,null,null,null,null,null,null,null,null,null,null,null,null,null,null,null,null,null,null,null,null,null,null,null,null,null,null,null,null,null,null,null,null,null,null,null,null,null,null,null,null,null,null,null,null,null,null,null,null,null,null,null,null,null,null,null,null,null,null,null,null,null,null,null,null,null,null,null,null,null,null,null,null,null,null,null,null,null,null,null,null,"□","ときがわ町",false,"ときがわ町","",null,null,null,null,null,"",null,null,null,null,null,"",null,null,null,null,null,"",null,null,null,null,null,""]
[null,null,null,null,null,null,null,null,null,null,null,null,null,null,null,null,null,null,null,null,null,null,null,null,null,null,null,null,null,null,null,null,null,null,null,null,null,null,null,null,null,null,null,null,null,null,null,null,null,null,null,null,null,null,null,null,null,null,null,null,null,null,null,null,null,null,null,null,null,null,null,null,null,null,null,null,null,null,null,null,null,"□","東秩父村",false,"東秩父村","",null,null,null,null,null,"",null,null,null,null,null,"",null,null,null,null,null,"",null,null,null,null,null,""]
[10,null,null,null,null,null,null,null,null,null,null,null,null,null,null,null,null,null,"□","配送",{"$f":"IF(S151=\"☑\",TRUE)","v":false},{"$f":"IF(U151,T151,\"\")","v":""},"□","弁当配達",{"$f":"IF(W151=\"☑\",TRUE)","v":false},{"$f":"IF(Y151,X151,\"\")","v":""},"□","理容・美容（送迎）",{"$f":"IF(AA151=\"☑\",TRUE)","v":false},{"$f":"IF(AC151,AB151,\"\")","v":""},"□","家事代行・掃除・片付け",{"$f":"IF(AE151=\"☑\",TRUE)","v":false},{"$f":"IF(AG151,AF151,\"\")","v":""},"□","フィットネス・ジム（運動）",{"$f":"IF(AI151=\"☑\",TRUE)","v":false},{"$f":"IF(AK151,AJ151,\"\")","v":""},"□","車イス対応（バリアフリー）",{"$f":"IF(AM151=\"☑\",TRUE)","v":false},{"$f":"IF(AO151,AN151,\"\")","v":""},"□","講座・教室・イベント",{"$f":"IF(AQ151=\"☑\",TRUE)","v":false},{"$f":"IF(AS151,AR151,\"\")","v":""},"□","防犯・見守り",{"$f":"IF(AU151=\"☑\",TRUE)","v":false},{"$f":"IF(AW151,AV151,\"\")","v":""},{"$f":"_xlfn.TEXTJOIN(\"／\",TRUE,V151:V164,Z151:Z164,AD151:AD164,AH151:AH164,AL151:AL164,AP151:AP164,AT151:AT164,AX151:AX164)","v":""},"□","西区",{"$f":"IF(AZ151=\"☑\",TRUE)","v":false},{"$f":"\"さいたま市\"&BA151","v":"さいたま市西区"},{"$f":"IF(BB151,BC151,\"\")","v":""},{"$f":"_xlfn.TEXTJOIN(\"／\",TRUE,BD151:BD164)","v":""},"□","川口市",{"$f":"IF(BF151=\"☑\",TRUE)","v":false},{"$f":"BG151","v":"川口市"},{"$f":"IF(BH151,BI151,\"\")","v":""},{"$f":"_xludf.TEXTJOIN(\",\",TRUE,BJ151:BJ164)","v":""},"□","朝霞市",{"$f":"IF(BL151=\"☑\",TRUE)","v":false},{"$f":"BM151","v":"朝霞市"},{"$f":"IF(BN151,BO151,\"\")","v":""},{"$f":"_xlfn.TEXTJOIN(\"／\",TRUE,BP151:BP164)","v":""},"□","春日部市",{"$f":"IF(BR151=\"☑\",TRUE)","v":false},{"$f":"BS151","v":"春日部市"},{"$f":"IF(BT151,BU151,\"\")","v":""},{"$f":"_xlfn.TEXTJOIN(\"／\",TRUE,BV151:BV164)","v":""},"□","鴻巣市",{"$f":"IF(BX151=\"☑\",TRUE)","v":false},{"$f":"BY151","v":"鴻巣市"},{"$f":"IF(BZ151,CA151,\"\")","v":""},{"$f":"_xlfn.TEXTJOIN(\"／\",TRUE,CB151:CB164)","v":""},"□","川越市",{"$f":"IF(CD151=\"☑\",TRUE)","v":false},"川越市",{"$f":"IF(CF151,CG151,\"\")","v":""},{"$f":"_xlfn.TEXTJOIN(\"／\",TRUE,CH151:CH164)","v":""},"□","所沢市",{"$f":"IF(CJ151=\"☑\",TRUE)","v":false},{"$f":"CK151","v":"所沢市"},{"$f":"IF(CL151,CM151,\"\")","v":""},{"$f":"_xlfn.TEXTJOIN(\"／\",TRUE,CN151:CN164)","v":""},"□","行田市",{"$f":"IF(CP151=\"☑\",TRUE)","v":false},{"$f":"CQ151","v":"行田市"},{"$f":"IF(CR151,CS151,\"\")","v":""},{"$f":"_xludf.TEXTJOIN(\",\",TRUE,CT151:CT164)","v":""},"□","熊谷市",{"$f":"IF(CV151=\"☑\",TRUE)","v":false},{"$f":"CW151","v":"熊谷市"},{"$f":"IF(CX151,CY151,\"\")","v":""},{"$f":"_xlfn.TEXTJOIN(\"／\",TRUE,CZ151:CZ164)","v":""},"□","秩父市",{"$f":"IF(DB151=\"☑\",TRUE)","v":false},{"$f":"DC151","v":"秩父市"},{"$f":"IF(DD151,DE151,\"\")","v":""},{"$f":"_xlfn.TEXTJOIN(\"／\",TRUE,DF151:DF164)","v":""},{"$f":"_xlfn.TEXTJOIN(\"／\",TRUE,BE151,BK151,BQ151,BW151,CC151,CI151,CO151,CU151,DA151,DG151)","v":""},null,null,null,null,null,null,null,{"$f":"IF(#REF!=\"☑\",TRUE)","v":{"$error":"#REF!"}},{"$f":"IF(DP151,#REF!,\"\")","v":{"$error":"#REF!"}},{"$f":"_xludf.TEXTJOIN(\",\",TRUE,DQ151:DQ164)","v":{"$error":"#VALUE!"}}]
[null,null,null,null,null,null,null,null,null,null,null,null,null,null,null,null,null,null,"□","買物サポート",false,"","□","料理デリバリー（出前）",false,"","□","フィットネス・ジム（送迎）",{"$f":"IF(AA152=\"☑\",TRUE)","v":false},{"$f":"IF(AC152,AB152,\"\")","v":""},"□","出張料理",{"$f":"IF(AE152=\"☑\",TRUE)","v":false},{"$f":"IF(AG152,AF152,\"\")","v":""},"□","温泉・銭湯（たまり場）",false,"","□","多目的トイレ",false,"","□","習い事",{"$f":"IF(AQ152=\"☑\",TRUE)","v":false},{"$f":"IF(AS152,AR152,\"\")","v":""},"□","金融・保険",false,"",null,"□","北区",{"$f":"IF(AZ152=\"☑\",TRUE)","v":false},"さいたま市北区",{"$f":"IF(BB152,BC152,\"\")","v":""},null,"□","蕨市",{"$f":"IF(BF152=\"☑\",TRUE)","v":false},{"$f":"BG152","v":"蕨市"},{"$f":"IF(BH152,BI152,\"\")","v":""},null,"□","志木市",{"$f":"IF(BL152=\"☑\",TRUE)","v":false},"志木市",{"$f":"IF(BN152,BO152,\"\")","v":""},null,"□","草加市",{"$f":"IF(BR152=\"☑\",TRUE)","v":false},"草加市","",null,"□","上尾市",{"$f":"IF(BX152=\"☑\",TRUE)","v":false},{"$f":"BY152","v":"上尾市"},{"$f":"IF(BZ152,CA152,\"\")","v":""},null,"□","東松山市",{"$f":"IF(CD152=\"☑\",TRUE)","v":false},"東松山市",{"$f":"IF(CF152,CG152,\"\")","v":""},null,"□","飯能市",{"$f":"IF(CJ152=\"☑\",TRUE)","v":false},{"$f":"CK152","v":"飯能市"},{"$f":"IF(CL152,CM152,\"\")","v":""},null,"□","加須市",{"$f":"IF(CP152=\"☑\",TRUE)","v":false},"加須市",{"$f":"IF(CR152,CS152,\"\")","v":""},null,"□","本庄市",{"$f":"IF(CV152=\"☑\",TRUE)","v":false},"本庄市",{"$f":"IF(CX152,CY152,\"\")","v":""},null,"□","横瀬町",{"$f":"IF(DB152=\"☑\",TRUE)","v":false},{"$f":"DC152","v":"横瀬町"},{"$f":"IF(DD152,DE152,\"\")","v":""},null,null,null,null,null,null,null,null,null,null,{"$f":"IF(DP152,#REF!,\"\")","v":""}]
[null,null,null,null,null,null,null,null,null,null,null,null,null,null,null,null,null,null,"□","買物代行",false,"","□","食材宅配",false,"","□","温泉・銭湯（送迎）",false,"","□","屋外作業・力仕事",false,"","□","カフェ・ファーストフード",false,"","□","休憩スペース",false,"","□","映画館",false,"","□","住宅・リフォーム",false,"",null,"□","大宮区",false,"さいたま市大宮区","",null,"□","戸田市",{"$f":"IF(BF153=\"☑\",TRUE)","v":false},{"$f":"BG153","v":"戸田市"},"",null,"□","和光市",false,"和光市","",null,"□","越谷市",false,"越谷市","",null,"□","桶川市",{"$f":"IF(BX153=\"☑\",TRUE)","v":false},{"$f":"BY153","v":"桶川市"},"",null,"□","坂戸市",false,"坂戸市","",null,"□","狭山市",{"$f":"IF(CJ153=\"☑\",TRUE)","v":false},{"$f":"CK153","v":"狭山市"},"",null,"□","羽生市",false,"羽生市","",null,"□","深谷市",false,"深谷市","",null,"□","皆野町",{"$f":"IF(DB153=\"☑\",TRUE)","v":false},{"$f":"DC153","v":"皆野町"},"",null,null,null,null,null,null,null,null,null,{"$f":"IF(#REF!=\"☑\",TRUE)","v":{"$error":"#REF!"}},{"$f":"IF(DP153,#REF!,\"\")","v":{"$error":"#REF!"}}]
[null,null,null,null,null,null,null,null,null,null,null,null,null,null,null,null,null,null,"□","移動販売",false,"","□","日用品配達",false,"","□","整体・マッサージ（送迎）",false,"","□","整体・マッサージ（出張）",false,"","□","飲食店",false,"","□","駐車場",false,"","□","カラオケ店",false,"","□","パソコン・スマートフォン",false,"",null,"□","見沼区",false,"さいたま市見沼区","",null,null,null,null,null,"",null,"□","新座市",false,"新座市","",null,"□","八潮市",false,"八潮市","",null,"□","北本市",{"$f":"IF(BX154=\"☑\",TRUE)","v":false},{"$f":"BY154","v":"北本市"},"",null,"□","鶴ヶ島市",false,"鶴ヶ島市","",null,"□","入間市",{"$f":"IF(CJ154=\"☑\",TRUE)","v":false},{"$f":"CK154","v":"入間市"},"",null,"□","久喜市",false,"久喜市","",null,"□","美里町",false,"美里町","",null,"□","長瀞町",{"$f":"IF(DB154=\"☑\",TRUE)","v":false},{"$f":"DC154","v":"長瀞町"},""]
[null,null,null,null,null,null,null,null,null,null,null,null,null,null,null,null,null,null,"□","割引サービス",false,"","□","薬・介護用品配達",false,"","□","乗り合いサービス",false,"","□","理容・美容（出張）",false,"","□","イートインスペース",false,"","□","貸しスペース",false,"","□","麻雀・将棋・囲碁",false,"","□","認知症サポート企業",false,"",null,"□","中央区",false,"さいたま市中央区","",null,null,null,null,null,"",null,"□","富士見市",false,"富士見市","",null,"□","三郷市",false,"三郷市","",null,"□","伊奈町",{"$f":"IF(BX155=\"☑\",TRUE)","v":false},{"$f":"BY155","v":"伊奈町"},"",null,"□","毛呂山町",false,"毛呂山町","",null,"□","日高市",{"$f":"IF(CJ155=\"☑\",TRUE)","v":false},{"$f":"CK155","v":"日高市"},"",null,"□","蓮田市",false,"蓮田市","",null,"□","神川町",false,"神川町","",null,"□","小鹿野町",{"$f":"IF(DB155=\"☑\",TRUE)","v":false},{"$f":"DC155","v":"小鹿野町"},"",null,null,null,null,null,null,null,null,null,{"$f":"IF(#REF!=\"☑\",TRUE)","v":{"$error":"#REF!"}},{"$f":"IF(DP155,#REF!,\"\")","v":{"$error":"#REF!"}}]
[null,null,null,null,null,null,null,null,null,null,null,null,null,null,null,null,null,null,"□","その他（買物）",false,"","□","クリーニング",false,{"$f":"IF(Y156,X156,\"\")","v":""},"□","個別移送サービス",false,"","□","ペット",false,"","□","その他（運動・たまり場）",false,"","□","その他（設備・施設・場所貸し）",false,"","□","ゲームセンター",false,"","□","理容・美容",false,"",null,"□","桜区",false,"さいたま市桜区","",null,null,null,null,null,"",null,"□","ふじみ野市",false,"ふじみ野市","",null,"□","吉川市",false,"吉川市","",null,null,null,null,null,"",null,"□","越生町",false,"越生町","",null,null,null,null,null,"",null,"□","幸手市",false,"幸手市","",null,"□","上里町",false,"上里町","",null,null,null,null,null,"",null,null,null,null,null,null,null,null,null,{"$f":"IF(#REF!=\"☑\",TRUE)","v":{"$error":"#REF!"}},{"$f":"IF(DP156,#REF!,\"\")","v":{"$error":"#REF!"}}]
[null,null,null,null,null,null,null,null,null,null,null,null,null,null,null,null,null,null,null,null,null,null,"□","その他（宅配・デリバリー）",false,{"$f":"IF(Y157,X157,\"\")","v":""},"□","交通機関サービス",false,"","□","その他（出張サービス）",false,"",null,null,null,null,null,null,null,null,"□","旅行・レジャー",false,"","□","成年後見・相続",false,"",null,"□","浦和区",false,"さいたま市浦和区","",null,null,null,null,null,"",null,"□","三芳町",false,"三芳町","",null,"□","松伏町",false,"松伏町","",null,null,null,null,null,"",null,"□","滑川町",false,"滑川町","",null,null,null,null,null,"",null,"□","白岡市",false,"白岡市","",null,"□","寄居町",false,"寄居町","",null,null,null,null,null,""]
[null,null,null,null,null,null,null,null,null,null,null,null,null,null,null,null,null,null,null,null,null,null,null,null,null,null,"□","その他（送迎・移動支援）",false,"",null,null,null,"",null,null,null,{"$f":"IF(AK158,AJ158,\"\")","v":""},null,null,null,{"$f":"IF(AO158,AN158,\"\")","v":""},"□","パソコン・スマホ教室",false,"","□","その他（生活サービス）",false,"",null,"□","南区",false,"さいたま市南区","",null,null,null,null,null,"",null,null,null,null,null,"",null,null,null,null,null,"",null,null,null,null,null,"",null,"□","嵐山町",false,"嵐山町","",null,null,null,null,null,"",null,"□","宮代町",false,"宮代町","",null,null,null,null,null,"",null,null,null,null,null,""]
[null,null,null,null,null,null,null,null,null,null,null,null,null,null,null,null,null,null,null,null,null,null,null,null,null,null,null,null,null,null,null,null,null,null,null,null,null,null,null,null,null,null,"□","その他（学び・趣味）",false,"",null,null,null,null,null,"□","緑区",false,"さいたま市緑区","",null,null,null,null,null,"",null,null,null,null,null,"",null,null,null,null,null,"",null,null,null,null,null,"",null,"□","小川町",false,"小川町","",null,null,null,null,null,"",null,"□","杉戸町",false,"杉戸町","",null,null,null,null,null,"",null,null,null,null,null,""]
[null,null,null,null,null,null,null,null,null,null,null,null,null,null,null,null,null,null,null,null,null,null,null,null,null,null,null,null,null,null,null,null,null,null,null,null,null,null,null,null,null,null,null,null,null,null,null,null,null,null,null,"□","岩槻区",{"$f":"IF(AZ160=\"☑\",TRUE)","v":false},"さいたま市岩槻区","",null,null,null,null,null,"",null,null,null,null,null,"",null,null,null,null,null,"",null,null,null,null,null,"",null,"□","川島町",false,"川島町","",null,null,null,null,null,"",null,null,null,null,null,"",null,null,null,null,null,"",null,null,null,null,null,""]
[null,null,null,null,null,null,null,null,null,null,null,null,null,null,null,null,null,null,null,null,null,null,null,null,null,null,null,null,null,null,null,null,null,null,null,null,null,null,null,null,null,null,null,null,null,null,null,null,null,null,null,null,null,null,null,null,null,null,null,null,null,null,null,null,null,null,null,null,null,null,null,null,null,null,null,null,null,null,null,null,null,"□","吉見町",false,"吉見町","",null,null,null,null,null,"",null,null,null,null,null,"",null,null,null,null,null,"",null,null,null,null,null,""]
[null,null,null,null,null,null,null,null,null,null,null,null,null,null,null,null,null,null,null,null,null,null,null,null,null,null,null,null,null,null,null,null,null,null,null,null,null,null,null,null,null,null,null,null,null,null,null,null,null,null,null,null,null,null,null,null,null,null,null,null,null,null,null,null,null,null,null,null,null,null,null,null,null,null,null,null,null,null,null,null,null,"□","鳩山町",false,"鳩山町","",null,null,null,null,null,"",null,null,null,null,null,"",null,null,null,null,null,"",null,null,null,null,null,""]
[null,null,null,null,null,null,null,null,null,null,null,null,null,null,null,null,null,null,null,null,null,null,null,null,null,null,null,null,null,null,null,null,null,null,null,null,null,null,null,null,null,null,null,null,null,null,null,null,null,null,null,null,null,null,null,null,null,null,null,null,null,null,null,null,null,null,null,null,null,null,null,null,null,null,null,null,null,null,null,null,null,"□","ときがわ町",false,"ときがわ町","",null,null,null,null,null,"",null,null,null,null,null,"",null,null,null,null,null,"",null,null,null,null,null,""]
[null,null,null,null,null,null,null,null,null,null,null,null,null,null,null,null,null,null,null,null,null,null,null,null,null,null,null,null,null,null,null,null,null,null,null,null,null,null,null,null,null,null,null,null,null,null,null,null,null,null,null,null,null,null,null,null,null,null,null,null,null,null,null,null,null,null,null,null,null,null,null,null,null,null,null,null,null,null,null,null,null,"□","東秩父村",false,"東秩父村","",null,null,null,null,null,"",null,null,null,null,null,"",null,null,null,null,null,"",null,null,null,null,null,""]
[11,null,null,null,null,null,null,null,null,null,null,null,null,null,null,null,null,null,"□","配送",{"$f":"IF(S165=\"☑\",TRUE)","v":false},{"$f":"IF(U165,T165,\"\")","v":""},"□","弁当配達",{"$f":"IF(W165=\"☑\",TRUE)","v":false},{"$f":"IF(Y165,X165,\"\")","v":""},"□","理容・美容（送迎）",{"$f":"IF(AA165=\"☑\",TRUE)","v":false},{"$f":"IF(AC165,AB165,\"\")","v":""},"□","家事代行・掃除・片付け",{"$f":"IF(AE165=\"☑\",TRUE)","v":false},{"$f":"IF(AG165,AF165,\"\")","v":""},"□","フィットネス・ジム（運動）",{"$f":"IF(AI165=\"☑\",TRUE)","v":false},{"$f":"IF(AK165,AJ165,\"\")","v":""},"□","車イス対応（バリアフリー）",{"$f":"IF(AM165=\"☑\",TRUE)","v":false},{"$f":"IF(AO165,AN165,\"\")","v":""},"□","講座・教室・イベント",{"$f":"IF(AQ165=\"☑\",TRUE)","v":false},{"$f":"IF(AS165,AR165,\"\")","v":""},"□","防犯・見守り",{"$f":"IF(AU165=\"☑\",TRUE)","v":false},{"$f":"IF(AW165,AV165,\"\")","v":""},{"$f":"_xlfn.TEXTJOIN(\"／\",TRUE,V165:V178,Z165:Z178,AD165:AD178,AH165:AH178,AL165:AL178,AP165:AP178,AT165:AT178,AX165:AX178)","v":""},"□","西区",{"$f":"IF(AZ165=\"☑\",TRUE)","v":false},{"$f":"\"さいたま市\"&BA165","v":"さいたま市西区"},{"$f":"IF(BB165,BC165,\"\")","v":""},{"$f":"_xlfn.TEXTJOIN(\"／\",TRUE,BD165:BD178)","v":""},"□","川口市",{"$f":"IF(BF165=\"☑\",TRUE)","v":false},{"$f":"BG165","v":"川口市"},{"$f":"IF(BH165,BI165,\"\")","v":""},{"$f":"_xludf.TEXTJOIN(\",\",TRUE,BJ165:BJ178)","v":""},"□","朝霞市",{"$f":"IF(BL165=\"☑\",TRUE)","v":false},{"$f":"BM165","v":"朝霞市"},{"$f":"IF(BN165,BO165,\"\")","v":""},{"$f":"_xlfn.TEXTJOIN(\"／\",TRUE,BP165:BP178)","v":""},"□","春日部市",{"$f":"IF(BR165=\"☑\",TRUE)","v":false},{"$f":"BS165","v":"春日部市"},{"$f":"IF(BT165,BU165,\"\")","v":""},{"$f":"_xlfn.TEXTJOIN(\"／\",TRUE,BV165:BV178)","v":""},"□","鴻巣市",{"$f":"IF(BX165=\"☑\",TRUE)","v":false},{"$f":"BY165","v":"鴻巣市"},{"$f":"IF(BZ165,CA165,\"\")","v":""},{"$f":"_xlfn.TEXTJOIN(\"／\",TRUE,CB165:CB178)","v":""},"□","川越市",{"$f":"IF(CD165=\"☑\",TRUE)","v":false},"川越市",{"$f":"IF(CF165,CG165,\"\")","v":""},{"$f":"_xlfn.TEXTJOIN(\"／\",TRUE,CH165:CH178)","v":""},"□","所沢市",{"$f":"IF(CJ165=\"☑\",TRUE)","v":false},{"$f":"CK165","v":"所沢市"},{"$f":"IF(CL165,CM165,\"\")","v":""},{"$f":"_xlfn.TEXTJOIN(\"／\",TRUE,CN165:CN178)","v":""},"□","行田市",{"$f":"IF(CP165=\"☑\",TRUE)","v":false},{"$f":"CQ165","v":"行田市"},{"$f":"IF(CR165,CS165,\"\")","v":""},{"$f":"_xludf.TEXTJOIN(\",\",TRUE,CT165:CT178)","v":""},"□","熊谷市",{"$f":"IF(CV165=\"☑\",TRUE)","v":false},{"$f":"CW165","v":"熊谷市"},{"$f":"IF(CX165,CY165,\"\")","v":""},{"$f":"_xlfn.TEXTJOIN(\"／\",TRUE,CZ165:CZ178)","v":""},"□","秩父市",{"$f":"IF(DB165=\"☑\",TRUE)","v":false},{"$f":"DC165","v":"秩父市"},{"$f":"IF(DD165,DE165,\"\")","v":""},{"$f":"_xlfn.TEXTJOIN(\"／\",TRUE,DF165:DF178)","v":""},{"$f":"_xlfn.TEXTJOIN(\"／\",TRUE,BE165,BK165,BQ165,BW165,CC165,CI165,CO165,CU165,DA165,DG165)","v":""},null,null,null,null,null,null,null,{"$f":"IF(#REF!=\"☑\",TRUE)","v":{"$error":"#REF!"}},{"$f":"IF(DP165,#REF!,\"\")","v":{"$error":"#REF!"}},{"$f":"_xludf.TEXTJOIN(\",\",TRUE,DQ165:DQ178)","v":{"$error":"#VALUE!"}}]
[null,null,null,null,null,null,null,null,null,null,null,null,null,null,null,null,null,null,"□","買物サポート",false,"","□","料理デリバリー（出前）",false,"","□","フィットネス・ジム（送迎）",{"$f":"IF(AA166=\"☑\",TRUE)","v":false},{"$f":"IF(AC166,AB166,\"\")","v":""},"□","出張料理",{"$f":"IF(AE166=\"☑\",TRUE)","v":false},{"$f":"IF(AG166,AF166,\"\")","v":""},"□","温泉・銭湯（たまり場）",false,"","□","多目的トイレ",false,"","□","習い事",{"$f":"IF(AQ166=\"☑\",TRUE)","v":false},{"$f":"IF(AS166,AR166,\"\")","v":""},"□","金融・保険",false,"",null,"□","北区",{"$f":"IF(AZ166=\"☑\",TRUE)","v":false},"さいたま市北区",{"$f":"IF(BB166,BC166,\"\")","v":""},null,"□","蕨市",{"$f":"IF(BF166=\"☑\",TRUE)","v":false},{"$f":"BG166","v":"蕨市"},{"$f":"IF(BH166,BI166,\"\")","v":""},null,"□","志木市",{"$f":"IF(BL166=\"☑\",TRUE)","v":false},"志木市",{"$f":"IF(BN166,BO166,\"\")","v":""},null,"□","草加市",{"$f":"IF(BR166=\"☑\",TRUE)","v":false},"草加市","",null,"□","上尾市",{"$f":"IF(BX166=\"☑\",TRUE)","v":false},{"$f":"BY166","v":"上尾市"},{"$f":"IF(BZ166,CA166,\"\")","v":""},null,"□","東松山市",{"$f":"IF(CD166=\"☑\",TRUE)","v":false},"東松山市",{"$f":"IF(CF166,CG166,\"\")","v":""},null,"□","飯能市",{"$f":"IF(CJ166=\"☑\",TRUE)","v":false},{"$f":"CK166","v":"飯能市"},{"$f":"IF(CL166,CM166,\"\")","v":""},null,"□","加須市",{"$f":"IF(CP166=\"☑\",TRUE)","v":false},"加須市",{"$f":"IF(CR166,CS166,\"\")","v":""},null,"□","本庄市",{"$f":"IF(CV166=\"☑\",TRUE)","v":false},"本庄市",{"$f":"IF(CX166,CY166,\"\")","v":""},null,"□","横瀬町",{"$f":"IF(DB166=\"☑\",TRUE)","v":false},{"$f":"DC166","v":"横瀬町"},{"$f":"IF(DD166,DE166,\"\")","v":""},null,null,null,null,null,null,null,null,null,null,{"$f":"IF(DP166,#REF!,\"\")","v":""}]
[null,null,null,null,null,null,null,null,null,null,null,null,null,null,null,null,null,null,"□","買物代行",false,"","□","食材宅配",false,"","□","温泉・銭湯（送迎）",false,"","□","屋外作業・力仕事",false,"","□","カフェ・ファーストフード",false,"","□","休憩スペース",false,"","□","映画館",false,"","□","住宅・リフォーム",false,"",null,"□","大宮区",false,"さいたま市大宮区","",null,"□","戸田市",{"$f":"IF(BF167=\"☑\",TRUE)","v":false},{"$f":"BG167","v":"戸田市"},"",null,"□","和光市",false,"和光市","",null,"□","越谷市",false,"越谷市","",null,"□","桶川市",{"$f":"IF(BX167=\"☑\",TRUE)","v":false},{"$f":"BY167","v":"桶川市"},"",null,"□","坂戸市",false,"坂戸市","",null,"□","狭山市",{"$f":"IF(CJ167=\"☑\",TRUE)","v":false},{"$f":"CK167","v":"狭山市"},"",null,"□","羽生市",false,"羽生市","",null,"□","深谷市",false,"深谷市","",null,"□","皆野町",{"$f":"IF(DB167=\"☑\",TRUE)","v":false},{"$f":"DC167","v":"皆野町"},"",null,null,null,null,null,null,null,null,null,{"$f":"IF(#REF!=\"☑\",TRUE)","v":{"$error":"#REF!"}},{"$f":"IF(DP167,#REF!,\"\")","v":{"$error":"#REF!"}}]
[null,null,null,null,null,null,null,null,null,null,null,null,null,null,null,null,null,null,"□","移動販売",false,"","□","日用品配達",false,"","□","整体・マッサージ（送迎）",false,"","□","整体・マッサージ（出張）",false,"","□","飲食店",false,"","□","駐車場",false,"","□","カラオケ店",false,"","□","パソコン・スマートフォン",false,"",null,"□","見沼区",false,"さいたま市見沼区","",null,null,null,null,null,"",null,"□","新座市",false,"新座市","",null,"□","八潮市",false,"八潮市","",null,"□","北本市",{"$f":"IF(BX168=\"☑\",TRUE)","v":false},{"$f":"BY168","v":"北本市"},"",null,"□","鶴ヶ島市",false,"鶴ヶ島市","",null,"□","入間市",{"$f":"IF(CJ168=\"☑\",TRUE)","v":false},{"$f":"CK168","v":"入間市"},"",null,"□","久喜市",false,"久喜市","",null,"□","美里町",false,"美里町","",null,"□","長瀞町",{"$f":"IF(DB168=\"☑\",TRUE)","v":false},{"$f":"DC168","v":"長瀞町"},""]
[null,null,null,null,null,null,null,null,null,null,null,null,null,null,null,null,null,null,"□","割引サービス",false,"","□","薬・介護用品配達",false,"","□","乗り合いサービス",false,"","□","理容・美容（出張）",false,"","□","イートインスペース",false,"","□","貸しスペース",false,"","□","麻雀・将棋・囲碁",false,"","□","認知症サポート企業",false,"",null,"□","中央区",false,"さいたま市中央区","",null,null,null,null,null,"",null,"□","富士見市",false,"富士見市","",null,"□","三郷市",false,"三郷市","",null,"□","伊奈町",{"$f":"IF(BX169=\"☑\",TRUE)","v":false},{"$f":"BY169","v":"伊奈町"},"",null,"□","毛呂山町",false,"毛呂山町","",null,"□","日高市",{"$f":"IF(CJ169=\"☑\",TRUE)","v":false},{"$f":"CK169","v":"日高市"},"",null,"□","蓮田市",false,"蓮田市","",null,"□","神川町",false,"神川町","",null,"□","小鹿野町",{"$f":"IF(DB169=\"☑\",TRUE)","v":false},{"$f":"DC169","v":"小鹿野町"},"",null,null,null,null,null,null,null,null,null,{"$f":"IF(#REF!=\"☑\",TRUE)","v":{"$error":"#REF!"}},{"$f":"IF(DP169,#REF!,\"\")","v":{"$error":"#REF!"}}]
[null,null,null,null,null,null,null,null,null,null,null,null,null,null,null,null,null,null,"□","その他（買物）",false,"","□","クリーニング",false,{"$f":"IF(Y170,X170,\"\")","v":""},"□","個別移送サービス",false,"","□","ペット",false,"","□","その他（運動・たまり場）",false,"","□","その他（設備・施設・場所貸し）",false,"","□","ゲームセンター",false,"","□","理容・美容",false,"",null,"□","桜区",false,"さいたま市桜区","",null,null,null,null,null,"",null,"□","ふじみ野市",false,"ふじみ野市","",null,"□","吉川市",false,"吉川市","",null,null,null,null,null,"",null,"□","越生町",false,"越生町","",null,null,null,null,null,"",null,"□","幸手市",false,"幸手市","",null,"□","上里町",false,"上里町","",null,null,null,null,null,"",null,null,null,null,null,null,null,null,null,{"$f":"IF(#REF!=\"☑\",TRUE)","v":{"$error":"#REF!"}},{"$f":"IF(DP170,#REF!,\"\")","v":{"$error":"#REF!"}}]
[null,null,null,null,null,null,null,null,null,null,null,null,null,null,null,null,null,null,null,null,null,null,"□","その他（宅配・デリバリー）",false,{"$f":"IF(Y171,X171,\"\")","v":""},"□","交通機関サービス",false,"","□","その他（出張サービス）",false,"",null,null,null,null,null,null,null,null,"□","旅行・レジャー",false,"","□","成年後見・相続",false,"",null,"□","浦和区",false,"さいたま市浦和区","",null,null,null,null,null,"",null,"□","三芳町",false,"三芳町","",null,"□","松伏町",false,"松伏町","",null,null,null,null,null,"",null,"□","滑川町",false,"滑川町","",null,null,null,null,null,"",null,"□","白岡市",false,"白岡市","",null,"□","寄居町",false,"寄居町","",null,null,null,null,null,""]
[null,null,null,null,null,null,null,null,null,null,null,null,null,null,null,null,null,null,null,null,null,null,null,null,null,null,"□","その他（送迎・移動支援）",false,"",null,null,null,"",null,null,null,{"$f":"IF(AK172,AJ172,\"\")","v":""},null,null,null,{"$f":"IF(AO172,AN172,\"\")","v":""},"□","パソコン・スマホ教室",false,"","□","その他（生活サービス）",false,"",null,"□","南区",false,"さいたま市南区","",null,null,null,null,null,"",null,null,null,null,null,"",null,null,null,null,null,"",null,null,null,null,null,"",null,"□","嵐山町",false,"嵐山町","",null,null,null,null,null,"",null,"□","宮代町",false,"宮代町","",null,null,null,null,null,"",null,null,null,null,null,""]
[null,null,null,null,null,null,null,null,null,null,null,null,null,null,null,null,null,null,null,null,null,null,null,null,null,null,null,null,null,null,null,null,null,null,null,null,null,null,null,null,null,null,"□","その他（学び・趣味）",false,"",null,null,null,null,null,"□","緑区",false,"さいたま市緑区","",null,null,null,null,null,"",null,null,null,null,null,"",null,null,null,null,null,"",null,null,null,null,null,"",null,"□","小川町",false,"小川町","",null,null,null,null,null,"",null,"□","杉戸町",false,"杉戸町","",null,null,null,null,null,"",null,null,null,null,null,""]
[null,null,null,null,null,null,null,null,null,null,null,null,null,null,null,null,null,null,null,null,null,null,null,null,null,null,null,null,null,null,null,null,null,null,null,null,null,null,null,null,null,null,null,null,null,null,null,null,null,null,null,"□","岩槻区",{"$f":"IF(AZ174=\"☑\",TRUE)","v":false},"さいたま市岩槻区","",null,null,null,null,null,"",null,null,null,null,null,"",null,null,null,null,null,"",null,null,null,null,null,"",null,"□","川島町",false,"川島町","",null,null,null,null,null,"",null,null,null,null,null,"",null,null,null,null,null,"",null,null,null,null,null,""]
[null,null,null,null,null,null,null,null,null,null,null,null,null,null,null,null,null,null,null,null,null,null,null,null,null,null,null,null,null,null,null,null,null,null,null,null,null,null,null,null,null,null,null,null,null,null,null,null,null,null,null,null,null,null,null,null,null,null,null,null,null,null,null,null,null,null,null,null,null,null,null,null,null,null,null,null,null,null,null,null,null,"□","吉見町",false,"吉見町","",null,null,null,null,null,"",null,null,null,null,null,"",null,null,null,null,null,"",null,null,null,null,null,""]
[null,null,null,null,null,null,null,null,null,null,null,null,null,null,null,null,null,null,null,null,null,null,null,null,null,null,null,null,null,null,null,null,null,null,null,null,null,null,null,null,null,null,null,null,null,null,null,null,null,null,null,null,null,null,null,null,null,null,null,null,null,null,null,null,null,null,null,null,null,null,null,null,null,null,null,null,null,null,null,null,null,"□","鳩山町",false,"鳩山町","",null,null,null,null,null,"",null,null,null,null,null,"",null,null,null,null,null,"",null,null,null,null,null,""]
[null,null,null,null,null,null,null,null,null,null,null,null,null,null,null,null,null,null,null,null,null,null,null,null,null,null,null,null,null,null,null,null,null,null,null,null,null,null,null,null,null,null,null,null,null,null,null,null,null,null,null,null,null,null,null,null,null,null,null,null,null,null,null,null,null,null,null,null,null,null,null,null,null,null,null,null,null,null,null,null,null,"□","ときがわ町",false,"ときがわ町","",null,null,null,null,null,"",null,null,null,null,null,"",null,null,null,null,null,"",null,null,null,null,null,""]
[null,null,null,null,null,null,null,null,null,null,null,null,null,null,null,null,null,null,null,null,null,null,null,null,null,null,null,null,null,null,null,null,null,null,null,null,null,null,null,null,null,null,null,null,null,null,null,null,null,null,null,null,null,null,null,null,null,null,null,null,null,null,null,null,null,null,null,null,null,null,null,null,null,null,null,null,null,null,null,null,null,"□","東秩父村",false,"東秩父村","",null,null,null,null,null,"",null,null,null,null,null,"",null,null,null,null,null,"",null,null,null,null,null,""]
[12,null,null,null,null,null,null,null,null,null,null,null,null,null,null,null,null,null,"□","配送",{"$f":"IF(S179=\"☑\",TRUE)","v":false},{"$f":"IF(U179,T179,\"\")","v":""},"□","弁当配達",{"$f":"IF(W179=\"☑\",TRUE)","v":false},{"$f":"IF(Y179,X179,\"\")","v":""},"□","理容・美容（送迎）",{"$f":"IF(AA179=\"☑\",TRUE)","v":false},{"$f":"IF(AC179,AB179,\"\")","v":""},"□","家事代行・掃除・片付け",{"$f":"IF(AE179=\"☑\",TRUE)","v":false},{"$f":"IF(AG179,AF179,\"\")","v":""},"□","フィットネス・ジム（運動）",{"$f":"IF(AI179=\"☑\",TRUE)","v":false},{"$f":"IF(AK179,AJ179,\"\")","v":""},"□","車イス対応（バリアフリー）",{"$f":"IF(AM179=\"☑\",TRUE)","v":false},{"$f":"IF(AO179,AN179,\"\")","v":""},"□","講座・教室・イベント",{"$f":"IF(AQ179=\"☑\",TRUE)","v":false},{"$f":"IF(AS179,AR179,\"\")","v":""},"□","防犯・見守り",{"$f":"IF(AU179=\"☑\",TRUE)","v":false},{"$f":"IF(AW179,AV179,\"\")","v":""},{"$f":"_xlfn.TEXTJOIN(\"／\",TRUE,V179:V192,Z179:Z192,AD179:AD192,AH179:AH192,AL179:AL192,AP179:AP192,AT179:AT192,AX179:AX192)","v":""},"□","西区",{"$f":"IF(AZ179=\"☑\",TRUE)","v":false},{"$f":"\"さいたま市\"&BA179","v":"さいたま市西区"},{"$f":"IF(BB179,BC179,\"\")","v":""},{"$f":"_xlfn.TEXTJOIN(\"／\",TRUE,BD179:BD192)","v":""},"□","川口市",{"$f":"IF(BF179=\"☑\",TRUE)","v":false},{"$f":"BG179","v":"川口市"},{"$f":"IF(BH179,BI179,\"\")","v":""},{"$f":"_xludf.TEXTJOIN(\",\",TRUE,BJ179:BJ192)","v":""},"□","朝霞市",{"$f":"IF(BL179=\"☑\",TRUE)","v":false},{"$f":"BM179","v":"朝霞市"},{"$f":"IF(BN179,BO179,\"\")","v":""},{"$f":"_xlfn.TEXTJOIN(\"／\",TRUE,BP179:BP192)","v":""},"□","春日部市",{"$f":"IF(BR179=\"☑\",TRUE)","v":false},{"$f":"BS179","v":"春日部市"},{"$f":"IF(BT179,BU179,\"\")","v":""},{"$f":"_xlfn.TEXTJOIN(\"／\",TRUE,BV179:BV192)","v":""},"□","鴻巣市",{"$f":"IF(BX179=\"☑\",TRUE)","v":false},{"$f":"BY179","v":"鴻巣市"},{"$f":"IF(BZ179,CA179,\"\")","v":""},{"$f":"_xlfn.TEXTJOIN(\"／\",TRUE,CB179:CB192)","v":""},"□","川越市",{"$f":"IF(CD179=\"☑\",TRUE)","v":false},"川越市",{"$f":"IF(CF179,CG179,\"\")","v":""},{"$f":"_xlfn.TEXTJOIN(\"／\",TRUE,CH179:CH192)","v":""},"□","所沢市",{"$f":"IF(CJ179=\"☑\",TRUE)","v":false},{"$f":"CK179","v":"所沢市"},{"$f":"IF(CL179,CM179,\"\")","v":""},{"$f":"_xlfn.TEXTJOIN(\"／\",TRUE,CN179:CN192)","v":""},"□","行田市",{"$f":"IF(CP179=\"☑\",TRUE)","v":false},{"$f":"CQ179","v":"行田市"},{"$f":"IF(CR179,CS179,\"\")","v":""},{"$f":"_xludf.TEXTJOIN(\",\",TRUE,CT179:CT192)","v":""},"□","熊谷市",{"$f":"IF(CV179=\"☑\",TRUE)","v":false},{"$f":"CW179","v":"熊谷市"},{"$f":"IF(CX179,CY179,\"\")","v":""},{"$f":"_xlfn.TEXTJOIN(\"／\",TRUE,CZ179:CZ192)","v":""},"□","秩父市",{"$f":"IF(DB179=\"☑\",TRUE)","v":false},{"$f":"DC179","v":"秩父市"},{"$f":"IF(DD179,DE179,\"\")","v":""},{"$f":"_xlfn.TEXTJOIN(\"／\",TRUE,DF179:DF192)","v":""},{"$f":"_xlfn.TEXTJOIN(\"／\",TRUE,BE179,BK179,BQ179,BW179,CC179,CI179,CO179,CU179,DA179,DG179)","v":""},null,null,null,null,null,null,null,{"$f":"IF(#REF!=\"☑\",TRUE)","v":{"$error":"#REF!"}},{"$f":"IF(DP179,#REF!,\"\")","v":{"$error":"#REF!"}},{"$f":"_xludf.TEXTJOIN(\",\",TRUE,DQ179:DQ192)","v":{"$error":"#VALUE!"}}]
[null,null,null,null,null,null,null,null,null,null,null,null,null,null,null,null,null,null,"□","買物サポート",false,"","□","料理デリバリー（出前）",false,"","□","フィットネス・ジム（送迎）",{"$f":"IF(AA180=\"☑\",TRUE)","v":false},{"$f":"IF(AC180,AB180,\"\")","v":""},"□","出張料理",{"$f":"IF(AE180=\"☑\",TRUE)","v":false},{"$f":"IF(AG180,AF180,\"\")","v":""},"□","温泉・銭湯（たまり場）",false,"","□","多目的トイレ",false,"","□","習い事",{"$f":"IF(AQ180=\"☑\",TRUE)","v":false},{"$f":"IF(AS180,AR180,\"\")","v":""},"□","金融・保険",false,"",null,"□","北区",{"$f":"IF(AZ180=\"☑\",TRUE)","v":false},"さいたま市北区",{"$f":"IF(BB180,BC180,\"\")","v":""},null,"□","蕨市",{"$f":"IF(BF180=\"☑\",TRUE)","v":false},{"$f":"BG180","v":"蕨市"},{"$f":"IF(BH180,BI180,\"\")","v":""},null,"□","志木市",{"$f":"IF(BL180=\"☑\",TRUE)","v":false},"志木市",{"$f":"IF(BN180,BO180,\"\")","v":""},null,"□","草加市",{"$f":"IF(BR180=\"☑\",TRUE)","v":false},"草加市","",null,"□","上尾市",{"$f":"IF(BX180=\"☑\",TRUE)","v":false},{"$f":"BY180","v":"上尾市"},{"$f":"IF(BZ180,CA180,\"\")","v":""},null,"□","東松山市",{"$f":"IF(CD180=\"☑\",TRUE)","v":false},"東松山市",{"$f":"IF(CF180,CG180,\"\")","v":""},null,"□","飯能市",{"$f":"IF(CJ180=\"☑\",TRUE)","v":false},{"$f":"CK180","v":"飯能市"},{"$f":"IF(CL180,CM180,\"\")","v":""},null,"□","加須市",{"$f":"IF(CP180=\"☑\",TRUE)","v":false},"加須市",{"$f":"IF(CR180,CS180,\"\")","v":""},null,"□","本庄市",{"$f":"IF(CV180=\"☑\",TRUE)","v":false},"本庄市",{"$f":"IF(CX180,CY180,\"\")","v":""},null,"□","横瀬町",{"$f":"IF(DB180=\"☑\",TRUE)","v":false},{"$f":"DC180","v":"横瀬町"},{"$f":"IF(DD180,DE180,\"\")","v":""},null,null,null,null,null,null,null,null,null,null,{"$f":"IF(DP180,#REF!,\"\")","v":""}]
[null,null,null,null,null,null,null,null,null,null,null,null,null,null,null,null,null,null,"□","買物代行",false,"","□","食材宅配",false,"","□","温泉・銭湯（送迎）",false,"","□","屋外作業・力仕事",false,"","□","カフェ・ファーストフード",false,"","□","休憩スペース",false,"","□","映画館",false,"","□","住宅・リフォーム",false,"",null,"□","大宮区",false,"さいたま市大宮区","",null,"□","戸田市",{"$f":"IF(BF181=\"☑\",TRUE)","v":false},{"$f":"BG181","v":"戸田市"},"",null,"□","和光市",false,"和光市","",null,"□","越谷市",false,"越谷市","",null,"□","桶川市",{"$f":"IF(BX181=\"☑\",TRUE)","v":false},{"$f":"BY181","v":"桶川市"},"",null,"□","坂戸市",false,"坂戸市","",null,"□","狭山市",{"$f":"IF(CJ181=\"☑\",TRUE)","v":false},{"$f":"CK181","v":"狭山市"},"",null,"□","羽生市",false,"羽生市","",null,"□","深谷市",false,"深谷市","",null,"□","皆野町",{"$f":"IF(DB181=\"☑\",TRUE)","v":false},{"$f":"DC181","v":"皆野町"},"",null,null,null,null,null,null,null,null,null,{"$f":"IF(#REF!=\"☑\",TRUE)","v":{"$error":"#REF!"}},{"$f":"IF(DP181,#REF!,\"\")","v":{"$error":"#REF!"}}]
[null,null,null,null,null,null,null,null,null,null,null,null,null,null,null,null,null,null,"□","移動販売",false,"","□","日用品配達",false,"","□","整体・マッサージ（送迎）",false,"","□","整体・マッサージ（出張）",false,"","□","飲食店",false,"","□","駐車場",false,"","□","カラオケ店",false,"","□","パソコン・スマートフォン",false,"",null,"□","見沼区",false,"さいたま市見沼区","",null,null,null,null,null,"",null,"□","新座市",false,"新座市","",null,"□","八潮市",false,"八潮市","",null,"□","北本市",{"$f":"IF(BX182=\"☑\",TRUE)","v":false},{"$f":"BY182","v":"北本市"},"",null,"□","鶴ヶ島市",false,"鶴ヶ島市","",null,"□","入間市",{"$f":"IF(CJ182=\"☑\",TRUE)","v":false},{"$f":"CK182","v":"入間市"},"",null,"□","久喜市",false,"久喜市","",null,"□","美里町",false,"美里町","",null,"□","長瀞町",{"$f":"IF(DB182=\"☑\",TRUE)","v":false},{"$f":"DC182","v":"長瀞町"},""]
[null,null,null,null,null,null,null,null,null,null,null,null,null,null,null,null,null,null,"□","割引サービス",false,"","□","薬・介護用品配達",false,"","□","乗り合いサービス",false,"","□","理容・美容（出張）",false,"","□","イートインスペース",false,"","□","貸しスペース",false,"","□","麻雀・将棋・囲碁",false,"","□","認知症サポート企業",false,"",null,"□","中央区",false,"さいたま市中央区","",null,null,null,null,null,"",null,"□","富士見市",false,"富士見市","",null,"□","三郷市",false,"三郷市","",null,"□","伊奈町",{"$f":"IF(BX183=\"☑\",TRUE)","v":false},{"$f":"BY183","v":"伊奈町"},"",null,"□","毛呂山町",false,"毛呂山町","",null,"□","日高市",{"$f":"IF(CJ183=\"☑\",TRUE)","v":false},{"$f":"CK183","v":"日高市"},"",null,"□","蓮田市",false,"蓮田市","",null,"□","神川町",false,"神川町","",null,"□","小鹿野町",{"$f":"IF(DB183=\"☑\",TRUE)","v":false},{"$f":"DC183","v":"小鹿野町"},"",null,null,null,null,null,null,null,null,null,{"$f":"IF(#REF!=\"☑\",TRUE)","v":{"$error":"#REF!"}},{"$f":"IF(DP183,#REF!,\"\")","v":{"$error":"#REF!"}}]
[null,null,null,null,null,null,null,null,null,null,null,null,null,null,null,null,null,null,"□","その他（買物）",false,"","□","クリーニング",false,{"$f":"IF(Y184,X184,\"\")","v":""},"□","個別移送サービス",false,"","□","ペット",false,"","□","その他（運動・たまり場）",false,"","□","その他（設備・施設・場所貸し）",false,"","□","ゲームセンター",false,"","□","理容・美容",false,"",null,"□","桜区",false,"さいたま市桜区","",null,null,null,null,null,"",null,"□","ふじみ野市",false,"ふじみ野市","",null,"□","吉川市",false,"吉川市","",null,null,null,null,null,"",null,"□","越生町",false,"越生町","",null,null,null,null,null,"",null,"□","幸手市",false,"幸手市","",null,"□","上里町",false,"上里町","",null,null,null,null,null,"",null,null,null,null,null,null,null,null,null,{"$f":"IF(#REF!=\"☑\",TRUE)","v":{"$error":"#REF!"}},{"$f":"IF(DP184,#REF!,\"\")","v":{"$error":"#REF!"}}]
[null,null,null,null,null,null,null,null,null,null,null,null,null,null,null,null,null,null,null,null,null,null,"□","その他（宅配・デリバリー）",false,{"$f":"IF(Y185,X185,\"\")","v":""},"□","交通機関サービス",false,"","□","その他（出張サービス）",false,"",null,null,null,null,null,null,null,null,"□","旅行・レジャー",false,"","□","成年後見・相続",false,"",null,"□","浦和区",false,"さいたま市浦和区","",null,null,null,null,null,"",null,"□","三芳町",false,"三芳町","",null,"□","松伏町",false,"松伏町","",null,null,null,null,null,"",null,"□","滑川町",false,"滑川町","",null,null,null,null,null,"",null,"□","白岡市",false,"白岡市","",null,"□","寄居町",false,"寄居町","",null,null,null,null,null,""]
[null,null,null,null,null,null,null,null,null,null,null,null,null,null,null,null,null,null,null,null,null,null,null,null,null,null,"□","その他（送迎・移動支援）",false,"",null,null,null,"",null,null,null,{"$f":"IF(AK186,AJ186,\"\")","v":""},null,null,null,{"$f":"IF(AO186,AN186,\"\")","v":""},"□","パソコン・スマホ教室",false,"","□","その他（生活サービス）",false,"",null,"□","南区",false,"さいたま市南区","",null,null,null,null,null,"",null,null,null,null,null,"",null,null,null,null,null,"",null,null,null,null,null,"",null,"□","嵐山町",false,"嵐山町","",null,null,null,null,null,"",null,"□","宮代町",false,"宮代町","",null,null,null,null,null,"",null,null,null,null,null,""]
[null,null,null,null,null,null,null,null,null,null,null,null,null,null,null,null,null,null,null,null,null,null,null,null,null,null,null,null,null,null,null,null,null,null,null,null,null,null,null,null,null,null,"□","その他（学び・趣味）",false,"",null,null,null,null,null,"□","緑区",false,"さいたま市緑区","",null,null,null,null,null,"",null,null,null,null,null,"",null,null,null,null,null,"",null,null,null,null,null,"",null,"□","小川町",false,"小川町","",null,null,null,null,null,"",null,"□","杉戸町",false,"杉戸町","",null,null,null,null,null,"",null,null,null,null,null,""]
[null,null,null,null,null,null,null,null,null,null,null,null,null,null,null,null,null,null,null,null,null,null,null,null,null,null,null,null,null,null,null,null,null,null,null,null,null,null,null,null,null,null,null,null,null,null,null,null,null,null,null,"□","岩槻区",{"$f":"IF(AZ188=\"☑\",TRUE)","v":false},"さいたま市岩槻区","",null,null,null,null,null,"",null,null,null,null,null,"",null,null,null,null,null,"",null,null,null,null,null,"",null,"□","川島町",false,"川島町","",null,null,null,null,null,"",null,null,null,null,null,"",null,null,null,null,null,"",null,null,null,null,null,""]
[null,null,null,null,null,null,null,null,null,null,null,null,null,null,null,null,null,null,null,null,null,null,null,null,null,null,null,null,null,null,null,null,null,null,null,null,null,null,null,null,null,null,null,null,null,null,null,null,null,null,null,null,null,null,null,null,null,null,null,null,null,null,null,null,null,null,null,null,null,null,null,null,null,null,null,null,null,null,null,null,null,"□","吉見町",false,"吉見町","",null,null,null,null,null,"",null,null,null,null,null,"",null,null,null,null,null,"",null,null,null,null,null,""]
[null,null,null,null,null,null,null,null,null,null,null,null,null,null,null,null,null,null,null,null,null,null,null,null,null,null,null,null,null,null,null,null,null,null,null,null,null,null,null,null,null,null,null,null,null,null,null,null,null,null,null,null,null,null,null,null,null,null,null,null,null,null,null,null,null,null,null,null,null,null,null,null,null,null,null,null,null,null,null,null,null,"□","鳩山町",false,"鳩山町","",null,null,null,null,null,"",null,null,null,null,null,"",null,null,null,null,null,"",null,null,null,null,null,""]
[null,null,null,null,null,null,null,null,null,null,null,null,null,null,null,null,null,null,null,null,null,null,null,null,null,null,null,null,null,null,null,null,null,null,null,null,null,null,null,null,null,null,null,null,null,null,null,null,null,null,null,null,null,null,null,null,null,null,null,null,null,null,null,null,null,null,null,null,null,null,null,null,null,null,null,null,null,null,null,null,null,"□","ときがわ町",false,"ときがわ町","",null,null,null,null,null,"",null,null,null,null,null,"",null,null,null,null,null,"",null,null,null,null,null,""]
[null,null,null,null,null,null,null,null,null,null,null,null,null,null,null,null,null,null,null,null,null,null,null,null,null,null,null,null,null,null,null,null,null,null,null,null,null,null,null,null,null,null,null,null,null,null,null,null,null,null,null,null,null,null,null,null,null,null,null,null,null,null,null,null,null,null,null,null,null,null,null,null,null,null,null,null,null,null,null,null,null,"□","東秩父村",false,"東秩父村","",null,null,null,null,null,"",null,null,null,null,null,"",null,null,null,null,null,"",null,null,null,null,null,""]
[13,null,null,null,null,null,null,null,null,null,null,null,null,null,null,null,null,null,"□","配送",{"$f":"IF(S193=\"☑\",TRUE)","v":false},{"$f":"IF(U193,T193,\"\")","v":""},"□","弁当配達",{"$f":"IF(W193=\"☑\",TRUE)","v":false},{"$f":"IF(Y193,X193,\"\")","v":""},"□","理容・美容（送迎）",{"$f":"IF(AA193=\"☑\",TRUE)","v":false},{"$f":"IF(AC193,AB193,\"\")","v":""},"□","家事代行・掃除・片付け",{"$f":"IF(AE193=\"☑\",TRUE)","v":false},{"$f":"IF(AG193,AF193,\"\")","v":""},"□","フィットネス・ジム（運動）",{"$f":"IF(AI193=\"☑\",TRUE)","v":false},{"$f":"IF(AK193,AJ193,\"\")","v":""},"□","車イス対応（バリアフリー）",{"$f":"IF(AM193=\"☑\",TRUE)","v":false},{"$f":"IF(AO193,AN193,\"\")","v":""},"□","講座・教室・イベント",{"$f":"IF(AQ193=\"☑\",TRUE)","v":false},{"$f":"IF(AS193,AR193,\"\")","v":""},"□","防犯・見守り",{"$f":"IF(AU193=\"☑\",TRUE)","v":false},{"$f":"IF(AW193,AV193,\"\")","v":""},{"$f":"_xlfn.TEXTJOIN(\"／\",TRUE,V193:V206,Z193:Z206,AD193:AD206,AH193:AH206,AL193:AL206,AP193:AP206,AT193:AT206,AX193:AX206)","v":""},"□","西区",{"$f":"IF(AZ193=\"☑\",TRUE)","v":false},{"$f":"\"さいたま市\"&BA193","v":"さいたま市西区"},{"$f":"IF(BB193,BC193,\"\")","v":""},{"$f":"_xlfn.TEXTJOIN(\"／\",TRUE,BD193:BD206)","v":""},"□","川口市",{"$f":"IF(BF193=\"☑\",TRUE)","v":false},{"$f":"BG193","v":"川口市"},{"$f":"IF(BH193,BI193,\"\")","v":""},{"$f":"_xludf.TEXTJOIN(\",\",TRUE,BJ193:BJ206)","v":""},"□","朝霞市",{"$f":"IF(BL193=\"☑\",TRUE)","v":false},{"$f":"BM193","v":"朝霞市"},{"$f":"IF(BN193,BO193,\"\")","v":""},{"$f":"_xlfn.TEXTJOIN(\"／\",TRUE,BP193:BP206)","v":""},"□","春日部市",{"$f":"IF(BR193=\"☑\",TRUE)","v":false},{"$f":"BS193","v":"春日部市"},{"$f":"IF(BT193,BU193,\"\")","v":""},{"$f":"_xlfn.TEXTJOIN(\"／\",TRUE,BV193:BV206)","v":""},"□","鴻巣市",{"$f":"IF(BX193=\"☑\",TRUE)","v":false},{"$f":"BY193","v":"鴻巣市"},{"$f":"IF(BZ193,CA193,\"\")","v":""},{"$f":"_xlfn.TEXTJOIN(\"／\",TRUE,CB193:CB206)","v":""},"□","川越市",{"$f":"IF(CD193=\"☑\",TRUE)","v":false},"川越市",{"$f":"IF(CF193,CG193,\"\")","v":""},{"$f":"_xlfn.TEXTJOIN(\"／\",TRUE,CH193:CH206)","v":""},"□","所沢市",{"$f":"IF(CJ193=\"☑\",TRUE)","v":false},{"$f":"CK193","v":"所沢市"},{"$f":"IF(CL193,CM193,\"\")","v":""},{"$f":"_xlfn.TEXTJOIN(\"／\",TRUE,CN193:CN206)","v":""},"□","行田市",{"$f":"IF(CP193=\"☑\",TRUE)","v":false},{"$f":"CQ193","v":"行田市"},{"$f":"IF(CR193,CS193,\"\")","v":""},{"$f":"_xludf.TEXTJOIN(\",\",TRUE,CT193:CT206)","v":""},"□","熊谷市",{"$f":"IF(CV193=\"☑\",TRUE)","v":false},{"$f":"CW193","v":"熊谷市"},{"$f":"IF(CX193,CY193,\"\")","v":""},{"$f":"_xlfn.TEXTJOIN(\"／\",TRUE,CZ193:CZ206)","v":""},"□","秩父市",{"$f":"IF(DB193=\"☑\",TRUE)","v":false},{"$f":"DC193","v":"秩父市"},{"$f":"IF(DD193,DE193,\"\")","v":""},{"$f":"_xlfn.TEXTJOIN(\"／\",TRUE,DF193:DF206)","v":""},{"$f":"_xlfn.TEXTJOIN(\"／\",TRUE,BE193,BK193,BQ193,BW193,CC193,CI193,CO193,CU193,DA193,DG193)","v":""},null,null,null,null,null,null,null,{"$f":"IF(#REF!=\"☑\",TRUE)","v":{"$error":"#REF!"}},{"$f":"IF(DP193,#REF!,\"\")","v":{"$error":"#REF!"}},{"$f":"_xludf.TEXTJOIN(\",\",TRUE,DQ193:DQ206)","v":{"$error":"#VALUE!"}}]
[null,null,null,null,null,null,null,null,null,null,null,null,null,null,null,null,null,null,"□","買物サポート",false,"","□","料理デリバリー（出前）",false,"","□","フィットネス・ジム（送迎）",{"$f":"IF(AA194=\"☑\",TRUE)","v":false},{"$f":"IF(AC194,AB194,\"\")","v":""},"□","出張料理",{"$f":"IF(AE194=\"☑\",TRUE)","v":false},{"$f":"IF(AG194,AF194,\"\")","v":""},"□","温泉・銭湯（たまり場）",false,"","□","多目的トイレ",false,"","□","習い事",{"$f":"IF(AQ194=\"☑\",TRUE)","v":false},{"$f":"IF(AS194,AR194,\"\")","v":""},"□","金融・保険",false,"",null,"□","北区",{"$f":"IF(AZ194=\"☑\",TRUE)","v":false},"さいたま市北区",{"$f":"IF(BB194,BC194,\"\")","v":""},null,"□","蕨市",{"$f":"IF(BF194=\"☑\",TRUE)","v":false},{"$f":"BG194","v":"蕨市"},{"$f":"IF(BH194,BI194,\"\")","v":""},null,"□","志木市",{"$f":"IF(BL194=\"☑\",TRUE)","v":false},"志木市",{"$f":"IF(BN194,BO194,\"\")","v":""},null,"□","草加市",{"$f":"IF(BR194=\"☑\",TRUE)","v":false},"草加市","",null,"□","上尾市",{"$f":"IF(BX194=\"☑\",TRUE)","v":false},{"$f":"BY194","v":"上尾市"},{"$f":"IF(BZ194,CA194,\"\")","v":""},null,"□","東松山市",{"$f":"IF(CD194=\"☑\",TRUE)","v":false},"東松山市",{"$f":"IF(CF194,CG194,\"\")","v":""},null,"□","飯能市",{"$f":"IF(CJ194=\"☑\",TRUE)","v":false},{"$f":"CK194","v":"飯能市"},{"$f":"IF(CL194,CM194,\"\")","v":""},null,"□","加須市",{"$f":"IF(CP194=\"☑\",TRUE)","v":false},"加須市",{"$f":"IF(CR194,CS194,\"\")","v":""},null,"□","本庄市",{"$f":"IF(CV194=\"☑\",TRUE)","v":false},"本庄市",{"$f":"IF(CX194,CY194,\"\")","v":""},null,"□","横瀬町",{"$f":"IF(DB194=\"☑\",TRUE)","v":false},{"$f":"DC194","v":"横瀬町"},{"$f":"IF(DD194,DE194,\"\")","v":""},null,null,null,null,null,null,null,null,null,null,{"$f":"IF(DP194,#REF!,\"\")","v":""}]
[null,null,null,null,null,null,null,null,null,null,null,null,null,null,null,null,null,null,"□","買物代行",false,"","□","食材宅配",false,"","□","温泉・銭湯（送迎）",false,"","□","屋外作業・力仕事",false,"","□","カフェ・ファーストフード",false,"","□","休憩スペース",false,"","□","映画館",false,"","□","住宅・リフォーム",false,"",null,"□","大宮区",false,"さいたま市大宮区","",null,"□","戸田市",{"$f":"IF(BF195=\"☑\",TRUE)","v":false},{"$f":"BG195","v":"戸田市"},"",null,"□","和光市",false,"和光市","",null,"□","越谷市",false,"越谷市","",null,"□","桶川市",{"$f":"IF(BX195=\"☑\",TRUE)","v":false},{"$f":"BY195","v":"桶川市"},"",null,"□","坂戸市",false,"坂戸市","",null,"□","狭山市",{"$f":"IF(CJ195=\"☑\",TRUE)","v":false},{"$f":"CK195","v":"狭山市"},"",null,"□","羽生市",false,"羽生市","",null,"□","深谷市",false,"深谷市","",null,"□","皆野町",{"$f":"IF(DB195=\"☑\",TRUE)","v":false},{"$f":"DC195","v":"皆野町"},"",null,null,null,null,null,null,null,null,null,{"$f":"IF(#REF!=\"☑\",TRUE)","v":{"$error":"#REF!"}},{"$f":"IF(DP195,#REF!,\"\")","v":{"$error":"#REF!"}}]
[null,null,null,null,null,null,null,null,null,null,null,null,null,null,null,null,null,null,"□","移動販売",false,"","□","日用品配達",false,"","□","整体・マッサージ（送迎）",false,"","□","整体・マッサージ（出張）",false,"","□","飲食店",false,"","□","駐車場",false,"","□","カラオケ店",false,"","□","パソコン・スマートフォン",false,"",null,"□","見沼区",false,"さいたま市見沼区","",null,null,null,null,null,"",null,"□","新座市",false,"新座市","",null,"□","八潮市",false,"八潮市","",null,"□","北本市",{"$f":"IF(BX196=\"☑\",TRUE)","v":false},{"$f":"BY196","v":"北本市"},"",null,"□","鶴ヶ島市",false,"鶴ヶ島市","",null,"□","入間市",{"$f":"IF(CJ196=\"☑\",TRUE)","v":false},{"$f":"CK196","v":"入間市"},"",null,"□","久喜市",false,"久喜市","",null,"□","美里町",false,"美里町","",null,"□","長瀞町",{"$f":"IF(DB196=\"☑\",TRUE)","v":false},{"$f":"DC196","v":"長瀞町"},""]
[null,null,null,null,null,null,null,null,null,null,null,null,null,null,null,null,null,null,"□","割引サービス",false,"","□","薬・介護用品配達",false,"","□","乗り合いサービス",false,"","□","理容・美容（出張）",false,"","□","イートインスペース",false,"","□","貸しスペース",false,"","□","麻雀・将棋・囲碁",false,"","□","認知症サポート企業",false,"",null,"□","中央区",false,"さいたま市中央区","",null,null,null,null,null,"",null,"□","富士見市",false,"富士見市","",null,"□","三郷市",false,"三郷市","",null,"□","伊奈町",{"$f":"IF(BX197=\"☑\",TRUE)","v":false},{"$f":"BY197","v":"伊奈町"},"",null,"□","毛呂山町",false,"毛呂山町","",null,"□","日高市",{"$f":"IF(CJ197=\"☑\",TRUE)","v":false},{"$f":"CK197","v":"日高市"},"",null,"□","蓮田市",false,"蓮田市","",null,"□","神川町",false,"神川町","",null,"□","小鹿野町",{"$f":"IF(DB197=\"☑\",TRUE)","v":false},{"$f":"DC197","v":"小鹿野町"},"",null,null,null,null,null,null,null,null,null,{"$f":"IF(#REF!=\"☑\",TRUE)","v":{"$error":"#REF!"}},{"$f":"IF(DP197,#REF!,\"\")","v":{"$error":"#REF!"}}]
[null,null,null,null,null,null,null,null,null,null,null,null,null,null,null,null,null,null,"□","その他（買物）",false,"","□","クリーニング",false,{"$f":"IF(Y198,X198,\"\")","v":""},"□","個別移送サービス",false,"","□","ペット",false,"","□","その他（運動・たまり場）",false,"","□","その他（設備・施設・場所貸し）",false,"","□","ゲームセンター",false,"","□","理容・美容",false,"",null,"□","桜区",false,"さいたま市桜区","",null,null,null,null,null,"",null,"□","ふじみ野市",false,"ふじみ野市","",null,"□","吉川市",false,"吉川市","",null,null,null,null,null,"",null,"□","越生町",false,"越生町","",null,null,null,null,null,"",null,"□","幸手市",false,"幸手市","",null,"□","上里町",false,"上里町","",null,null,null,null,null,"",null,null,null,null,null,null,null,null,null,{"$f":"IF(#REF!=\"☑\",TRUE)","v":{"$error":"#REF!"}},{"$f":"IF(DP198,#REF!,\"\")","v":{"$error":"#REF!"}}]
[null,null,null,null,null,null,null,null,null,null,null,null,null,null,null,null,null,null,null,null,null,null,"□","その他（宅配・デリバリー）",false,{"$f":"IF(Y199,X199,\"\")","v":""},"□","交通機関サービス",false,"","□","その他（出張サービス）",false,"",null,null,null,null,null,null,null,null,"□","旅行・レジャー",false,"","□","成年後見・相続",false,"",null,"□","浦和区",false,"さいたま市浦和区","",null,null,null,null,null,"",null,"□","三芳町",false,"三芳町","",null,"□","松伏町",false,"松伏町","",null,null,null,null,null,"",null,"□","滑川町",false,"滑川町","",null,null,null,null,null,"",null,"□","白岡市",false,"白岡市","",null,"□","寄居町",false,"寄居町","",null,null,null,null,null,""]
[null,null,null,null,null,null,null,null,null,null,null,null,null,null,null,null,null,null,null,null,null,null,null,null,null,null,"□","その他（送迎・移動支援）",false,"",null,null,null,"",null,null,null,{"$f":"IF(AK200,AJ200,\"\")","v":""},null,null,null,{"$f":"IF(AO200,AN200,\"\")","v":""},"□","パソコン・スマホ教室",false,"","□","その他（生活サービス）",false,"",null,"□","南区",false,"さいたま市南区","",null,null,null,null,null,"",null,null,null,null,null,"",null,null,null,null,null,"",null,null,null,null,null,"",null,"□","嵐山町",false,"嵐山町","",null,null,null,null,null,"",null,"□","宮代町",false,"宮代町","",null,null,null,null,null,"",null,null,null,null,null,""]
[null,null,null,null,null,null,null,null,null,null,null,null,null,null,null,null,null,null,null,null,null,null,null,null,null,null,null,null,null,null,null,null,null,null,null,null,null,null,null,null,null,null,"□","その他（学び・趣味）",false,"",null,null,null,null,null,"□","緑区",false,"さいたま市緑区","",null,null,null,null,null,"",null,null,null,null,null,"",null,null,null,null,null,"",null,null,null,null,null,"",null,"□","小川町",false,"小川町","",null,null,null,null,null,"",null,"□","杉戸町",false,"杉戸町","",null,null,null,null,null,"",null,null,null,null,null,""]
[null,null,null,null,null,null,null,null,null,null,null,null,null,null,null,null,null,null,null,null,null,null,null,null,null,null,null,null,null,null,null,null,null,null,null,null,null,null,null,null,null,null,null,null,null,null,null,null,null,null,null,"□","岩槻区",{"$f":"IF(AZ202=\"☑\",TRUE)","v":false},"さいたま市岩槻区","",null,null,null,null,null,"",null,null,null,null,null,"",null,null,null,null,null,"",null,null,null,null,null,"",null,"□","川島町",false,"川島町","",null,null,null,null,null,"",null,null,null,null,null,"",null,null,null,null,null,"",null,null,null,null,null,""]
[null,null,null,null,null,null,null,null,null,null,null,null,null,null,null,null,null,null,null,null,null,null,null,null,null,null,null,null,null,null,null,null,null,null,null,null,null,null,null,null,null,null,null,null,null,null,null,null,null,null,null,null,null,null,null,null,null,null,null,null,null,null,null,null,null,null,null,null,null,null,null,null,null,null,null,null,null,null,null,null,null,"□","吉見町",false,{"$f":"CE203","v":"吉見町"},"",null,null,null,null,null,"",null,null,null,null,null,"",null,null,null,null,null,"",null,null,null,null,null,""]
[null,null,null,null,null,null,null,null,null,null,null,null,null,null,null,null,null,null,null,null,null,null,null,null,null,null,null,null,null,null,null,null,null,null,null,null,null,null,null,null,null,null,null,null,null,null,null,null,null,null,null,null,null,null,null,null,null,null,null,null,null,null,null,null,null,null,null,null,null,null,null,null,null,null,null,null,null,null,null,null,null,"□","鳩山町",false,"鳩山町","",null,null,null,null,null,"",null,null,null,null,null,"",null,null,null,null,null,"",null,null,null,null,null,""]
[null,null,null,null,null,null,null,null,null,null,null,null,null,null,null,null,null,null,null,null,null,null,null,null,null,null,null,null,null,null,null,null,null,null,null,null,null,null,null,null,null,null,null,null,null,null,null,null,null,null,null,null,null,null,null,null,null,null,null,null,null,null,null,null,null,null,null,null,null,null,null,null,null,null,null,null,null,null,null,null,null,"□","ときがわ町",false,"ときがわ町","",null,null,null,null,null,"",null,null,null,null,null,"",null,null,null,null,null,"",null,null,null,null,null,""]
[null,null,null,null,null,null,null,null,null,null,null,null,null,null,null,null,null,null,null,null,null,null,null,null,null,null,null,null,null,null,null,null,null,null,null,null,null,null,null,null,null,null,null,null,null,null,null,null,null,null,null,null,null,null,null,null,null,null,null,null,null,null,null,null,null,null,null,null,null,null,null,null,null,null,null,null,null,null,null,null,null,"□","東秩父村",false,"東秩父村","",null,null,null,null,null,"",null,null,null,null,null,"",null,null,null,null,null,"",null,null,null,null,null,""]
[14,null,null,null,null,null,null,null,null,null,null,null,null,null,null,null,null,null,"□","配送",{"$f":"IF(S207=\"☑\",TRUE)","v":false},{"$f":"IF(U207,T207,\"\")","v":""},"□","弁当配達",{"$f":"IF(W207=\"☑\",TRUE)","v":false},{"$f":"IF(Y207,X207,\"\")","v":""},"□","理容・美容（送迎）",{"$f":"IF(AA207=\"☑\",TRUE)","v":false},{"$f":"IF(AC207,AB207,\"\")","v":""},"□","家事代行・掃除・片付け",{"$f":"IF(AE207=\"☑\",TRUE)","v":false},{"$f":"IF(AG207,AF207,\"\")","v":""},"□","フィットネス・ジム（運動）",{"$f":"IF(AI207=\"☑\",TRUE)","v":false},{"$f":"IF(AK207,AJ207,\"\")","v":""},"□","車イス対応（バリアフリー）",{"$f":"IF(AM207=\"☑\",TRUE)","v":false},{"$f":"IF(AO207,AN207,\"\")","v":""},"□","講座・教室・イベント",{"$f":"IF(AQ207=\"☑\",TRUE)","v":false},{"$f":"IF(AS207,AR207,\"\")","v":""},"□","防犯・見守り",{"$f":"IF(AU207=\"☑\",TRUE)","v":false},{"$f":"IF(AW207,AV207,\"\")","v":""},{"$f":"_xlfn.TEXTJOIN(\"／\",TRUE,V207:V220,Z207:Z220,AD207:AD220,AH207:AH220,AL207:AL220,AP207:AP220,AT207:AT220,AX207:AX220)","v":""},"□","西区",{"$f":"IF(AZ207=\"☑\",TRUE)","v":false},{"$f":"\"さいたま市\"&BA207","v":"さいたま市西区"},{"$f":"IF(BB207,BC207,\"\")","v":""},{"$f":"_xlfn.TEXTJOIN(\"／\",TRUE,BD207:BD220)","v":""},"□","川口市",{"$f":"IF(BF207=\"☑\",TRUE)","v":false},{"$f":"BG207","v":"川口市"},{"$f":"IF(BH207,BI207,\"\")","v":""},{"$f":"_xludf.TEXTJOIN(\",\",TRUE,BJ207:BJ220)","v":""},"□","朝霞市",{"$f":"IF(BL207=\"☑\",TRUE)","v":false},{"$f":"BM207","v":"朝霞市"},{"$f":"IF(BN207,BO207,\"\")","v":""},{"$f":"_xlfn.TEXTJOIN(\"／\",TRUE,BP207:BP220)","v":""},"□","春日部市",{"$f":"IF(BR207=\"☑\",TRUE)","v":false},{"$f":"BS207","v":"春日部市"},{"$f":"IF(BT207,BU207,\"\")","v":""},{"$f":"_xlfn.TEXTJOIN(\"／\",TRUE,BV207:BV220)","v":""},"□","鴻巣市",{"$f":"IF(BX207=\"☑\",TRUE)","v":false},{"$f":"BY207","v":"鴻巣市"},{"$f":"IF(BZ207,CA207,\"\")","v":""},{"$f":"_xlfn.TEXTJOIN(\"／\",TRUE,CB207:CB220)","v":""},"□","川越市",{"$f":"IF(CD207=\"☑\",TRUE)","v":false},"川越市",{"$f":"IF(CF207,CG207,\"\")","v":""},{"$f":"_xlfn.TEXTJOIN(\"／\",TRUE,CH207:CH220)","v":""},"□","所沢市",{"$f":"IF(CJ207=\"☑\",TRUE)","v":false},{"$f":"CK207","v":"所沢市"},{"$f":"IF(CL207,CM207,\"\")","v":""},{"$f":"_xlfn.TEXTJOIN(\"／\",TRUE,CN207:CN220)","v":""},"□","行田市",{"$f":"IF(CP207=\"☑\",TRUE)","v":false},{"$f":"CQ207","v":"行田市"},{"$f":"IF(CR207,CS207,\"\")","v":""},{"$f":"_xludf.TEXTJOIN(\",\",TRUE,CT207:CT220)","v":""},"□","熊谷市",{"$f":"IF(CV207=\"☑\",TRUE)","v":false},{"$f":"CW207","v":"熊谷市"},{"$f":"IF(CX207,CY207,\"\")","v":""},{"$f":"_xlfn.TEXTJOIN(\"／\",TRUE,CZ207:CZ220)","v":""},"□","秩父市",{"$f":"IF(DB207=\"☑\",TRUE)","v":false},{"$f":"DC207","v":"秩父市"},{"$f":"IF(DD207,DE207,\"\")","v":""},{"$f":"_xlfn.TEXTJOIN(\"／\",TRUE,DF207:DF220)","v":""},{"$f":"_xlfn.TEXTJOIN(\"／\",TRUE,BE207,BK207,BQ207,BW207,CC207,CI207,CO207,CU207,DA207,DG207)","v":""},null,null,null,null,null,null,null,{"$f":"IF(#REF!=\"☑\",TRUE)","v":{"$error":"#REF!"}},{"$f":"IF(DP207,#REF!,\"\")","v":{"$error":"#REF!"}},{"$f":"_xludf.TEXTJOIN(\",\",TRUE,DQ207:DQ220)","v":{"$error":"#VALUE!"}}]
[null,null,null,null,null,null,null,null,null,null,null,null,null,null,null,null,null,null,"□","買物サポート",false,"","□","料理デリバリー（出前）",false,"","□","フィットネス・ジム（送迎）",{"$f":"IF(AA208=\"☑\",TRUE)","v":false},{"$f":"IF(AC208,AB208,\"\")","v":""},"□","出張料理",{"$f":"IF(AE208=\"☑\",TRUE)","v":false},{"$f":"IF(AG208,AF208,\"\")","v":""},"□","温泉・銭湯（たまり場）",false,"","□","多目的トイレ",false,"","□","習い事",{"$f":"IF(AQ208=\"☑\",TRUE)","v":false},{"$f":"IF(AS208,AR208,\"\")","v":""},"□","金融・保険",false,"",null,"□","北区",{"$f":"IF(AZ208=\"☑\",TRUE)","v":false},"さいたま市北区",{"$f":"IF(BB208,BC208,\"\")","v":""},null,"□","蕨市",{"$f":"IF(BF208=\"☑\",TRUE)","v":false},{"$f":"BG208","v":"蕨市"},{"$f":"IF(BH208,BI208,\"\")","v":""},null,"□","志木市",{"$f":"IF(BL208=\"☑\",TRUE)","v":false},"志木市",{"$f":"IF(BN208,BO208,\"\")","v":""},null,"□","草加市",{"$f":"IF(BR208=\"☑\",TRUE)","v":false},"草加市","",null,"□","上尾市",{"$f":"IF(BX208=\"☑\",TRUE)","v":false},{"$f":"BY208","v":"上尾市"},{"$f":"IF(BZ208,CA208,\"\")","v":""},null,"□","東松山市",{"$f":"IF(CD208=\"☑\",TRUE)","v":false},"東松山市",{"$f":"IF(CF208,CG208,\"\")","v":""},null,"□","飯能市",{"$f":"IF(CJ208=\"☑\",TRUE)","v":false},{"$f":"CK208","v":"飯能市"},{"$f":"IF(CL208,CM208,\"\")","v":""},null,"□","加須市",{"$f":"IF(CP208=\"☑\",TRUE)","v":false},"加須市",{"$f":"IF(CR208,CS208,\"\")","v":""},null,"□","本庄市",{"$f":"IF(CV208=\"☑\",TRUE)","v":false},"本庄市",{"$f":"IF(CX208,CY208,\"\")","v":""},null,"□","横瀬町",{"$f":"IF(DB208=\"☑\",TRUE)","v":false},{"$f":"DC208","v":"横瀬町"},{"$f":"IF(DD208,DE208,\"\")","v":""},null,null,null,null,null,null,null,null,null,null,{"$f":"IF(DP208,#REF!,\"\")","v":""}]
[null,null,null,null,null,null,null,null,null,null,null,null,null,null,null,null,null,null,"□","買物代行",false,"","□","食材宅配",false,"","□","温泉・銭湯（送迎）",false,"","□","屋外作業・力仕事",false,"","□","カフェ・ファーストフード",false,"","□","休憩スペース",false,"","□","映画館",false,"","□","住宅・リフォーム",false,"",null,"□","大宮区",false,"さいたま市大宮区","",null,"□","戸田市",{"$f":"IF(BF209=\"☑\",TRUE)","v":false},{"$f":"BG209","v":"戸田市"},"",null,"□","和光市",false,"和光市","",null,"□","越谷市",false,"越谷市","",null,"□","桶川市",{"$f":"IF(BX209=\"☑\",TRUE)","v":false},{"$f":"BY209","v":"桶川市"},"",null,"□","坂戸市",false,"坂戸市","",null,"□","狭山市",{"$f":"IF(CJ209=\"☑\",TRUE)","v":false},{"$f":"CK209","v":"狭山市"},"",null,"□","羽生市",false,"羽生市","",null,"□","深谷市",false,"深谷市","",null,"□","皆野町",{"$f":"IF(DB209=\"☑\",TRUE)","v":false},{"$f":"DC209","v":"皆野町"},"",null,null,null,null,null,null,null,null,null,{"$f":"IF(#REF!=\"☑\",TRUE)","v":{"$error":"#REF!"}},{"$f":"IF(DP209,#REF!,\"\")","v":{"$error":"#REF!"}}]
[null,null,null,null,null,null,null,null,null,null,null,null,null,null,null,null,null,null,"□","移動販売",false,"","□","日用品配達",false,"","□","整体・マッサージ（送迎）",false,"","□","整体・マッサージ（出張）",false,"","□","飲食店",false,"","□","駐車場",false,"","□","カラオケ店",false,"","□","パソコン・スマートフォン",false,"",null,"□","見沼区",false,"さいたま市見沼区","",null,null,null,null,null,"",null,"□","新座市",false,"新座市","",null,"□","八潮市",false,"八潮市","",null,"□","北本市",{"$f":"IF(BX210=\"☑\",TRUE)","v":false},{"$f":"BY210","v":"北本市"},"",null,"□","鶴ヶ島市",false,"鶴ヶ島市","",null,"□","入間市",{"$f":"IF(CJ210=\"☑\",TRUE)","v":false},{"$f":"CK210","v":"入間市"},"",null,"□","久喜市",false,"久喜市","",null,"□","美里町",false,"美里町","",null,"□","長瀞町",{"$f":"IF(DB210=\"☑\",TRUE)","v":false},{"$f":"DC210","v":"長瀞町"},""]
[null,null,null,null,null,null,null,null,null,null,null,null,null,null,null,null,null,null,"□","割引サービス",false,"","□","薬・介護用品配達",false,"","□","乗り合いサービス",false,"","□","理容・美容（出張）",false,"","□","イートインスペース",false,"","□","貸しスペース",false,"","□","麻雀・将棋・囲碁",false,"","□","認知症サポート企業",false,"",null,"□","中央区",false,"さいたま市中央区","",null,null,null,null,null,"",null,"□","富士見市",false,"富士見市","",null,"□","三郷市",false,"三郷市","",null,"□","伊奈町",{"$f":"IF(BX211=\"☑\",TRUE)","v":false},{"$f":"BY211","v":"伊奈町"},"",null,"□","毛呂山町",false,"毛呂山町","",null,"□","日高市",{"$f":"IF(CJ211=\"☑\",TRUE)","v":false},{"$f":"CK211","v":"日高市"},"",null,"□","蓮田市",false,"蓮田市","",null,"□","神川町",false,"神川町","",null,"□","小鹿野町",{"$f":"IF(DB211=\"☑\",TRUE)","v":false},{"$f":"DC211","v":"小鹿野町"},"",null,null,null,null,null,null,null,null,null,{"$f":"IF(#REF!=\"☑\",TRUE)","v":{"$error":"#REF!"}},{"$f":"IF(DP211,#REF!,\"\")","v":{"$error":"#REF!"}}]
[null,null,null,null,null,null,null,null,null,null,null,null,null,null,null,null,null,null,"□","その他（買物）",false,"","□","クリーニング",false,{"$f":"IF(Y212,X212,\"\")","v":""},"□","個別移送サービス",false,"","□","ペット",false,"","□","その他（運動・たまり場）",false,"","□","その他（設備・施設・場所貸し）",false,"","□","ゲームセンター",false,"","□","理容・美容",false,"",null,"□","桜区",false,"さいたま市桜区","",null,null,null,null,null,"",null,"□","ふじみ野市",false,"ふじみ野市","",null,"□","吉川市",false,"吉川市","",null,null,null,null,null,"",null,"□","越生町",false,"越生町","",null,null,null,null,null,"",null,"□","幸手市",false,"幸手市","",null,"□","上里町",false,"上里町","",null,null,null,null,null,"",null,null,null,null,null,null,null,null,null,{"$f":"IF(#REF!=\"☑\",TRUE)","v":{"$error":"#REF!"}},{"$f":"IF(DP212,#REF!,\"\")","v":{"$error":"#REF!"}}]
[null,null,null,null,null,null,null,null,null,null,null,null,null,null,null,null,null,null,null,null,null,null,"□","その他（宅配・デリバリー）",false,{"$f":"IF(Y213,X213,\"\")","v":""},"□","交通機関サービス",false,"","□","その他（出張サービス）",false,"",null,null,null,null,null,null,null,null,"□","旅行・レジャー",false,"","□","成年後見・相続",false,"",null,"□","浦和区",false,"さいたま市浦和区","",null,null,null,null,null,"",null,"□","三芳町",false,"三芳町","",null,"□","松伏町",false,"松伏町","",null,null,null,null,null,"",null,"□","滑川町",false,"滑川町","",null,null,null,null,null,"",null,"□","白岡市",false,"白岡市","",null,"□","寄居町",false,"寄居町","",null,null,null,null,null,""]
[null,null,null,null,null,null,null,null,null,null,null,null,null,null,null,null,null,null,null,null,null,null,null,null,null,null,"□","その他（送迎・移動支援）",false,"",null,null,null,"",null,null,null,{"$f":"IF(AK214,AJ214,\"\")","v":""},null,null,null,{"$f":"IF(AO214,AN214,\"\")","v":""},"□","パソコン・スマホ教室",false,"","□","その他（生活サービス）",false,"",null,"□","南区",false,"さいたま市南区","",null,null,null,null,null,"",null,null,null,null,null,"",null,null,null,null,null,"",null,null,null,null,null,"",null,"□","嵐山町",false,"嵐山町","",null,null,null,null,null,"",null,"□","宮代町",false,"宮代町","",null,null,null,null,null,"",null,null,null,null,null,""]
[null,null,null,null,null,null,null,null,null,null,null,null,null,null,null,null,null,null,null,null,null,null,null,null,null,null,null,null,null,null,null,null,null,null,null,null,null,null,null,null,null,null,"□","その他（学び・趣味）",false,"",null,null,null,null,null,"□","緑区",false,"さいたま市緑区","",null,null,null,null,null,"",null,null,null,null,null,"",null,null,null,null,null,"",null,null,null,null,null,"",null,"□","小川町",false,"小川町","",null,null,null,null,null,"",null,"□","杉戸町",false,"杉戸町","",null,null,null,null,null,"",null,null,null,null,null,""]
[null,null,null,null,null,null,null,null,null,null,null,null,null,null,null,null,null,null,null,null,null,null,null,null,null,null,null,null,null,null,null,null,null,null,null,null,null,null,null,null,null,null,null,null,null,null,null,null,null,null,null,"□","岩槻区",{"$f":"IF(AZ216=\"☑\",TRUE)","v":false},"さいたま市岩槻区","",null,null,null,null,null,"",null,null,null,null,null,"",null,null,null,null,null,"",null,null,null,null,null,"",null,"□","川島町",false,"川島町","",null,null,null,null,null,"",null,null,null,null,null,"",null,null,null,null,null,"",null,null,null,null,null,""]
[null,null,null,null,null,null,null,null,null,null,null,null,null,null,null,null,null,null,null,null,null,null,null,null,null,null,null,null,null,null,null,null,null,null,null,null,null,null,null,null,null,null,null,null,null,null,null,null,null,null,null,null,null,null,null,null,null,null,null,null,null,null,null,null,null,null,null,null,null,null,null,null,null,null,null,null,null,null,null,null,null,"□","吉見町",false,"吉見町","",null,null,null,null,null,"",null,null,null,null,null,"",null,null,null,null,null,"",null,null,null,null,null,""]
[null,null,null,null,null,null,null,null,null,null,null,null,null,null,null,null,null,null,null,null,null,null,null,null,null,null,null,null,null,null,null,null,null,null,null,null,null,null,null,null,null,null,null,null,null,null,null,null,null,null,null,null,null,null,null,null,null,null,null,null,null,null,null,null,null,null,null,null,null,null,null,null,null,null,null,null,null,null,null,null,null,"□","鳩山町",false,"鳩山町","",null,null,null,null,null,"",null,null,null,null,null,"",null,null,null,null,null,"",null,null,null,null,null,""]
[null,null,null,null,null,null,null,null,null,null,null,null,null,null,null,null,null,null,null,null,null,null,null,null,null,null,null,null,null,null,null,null,null,null,null,null,null,null,null,null,null,null,null,null,null,null,null,null,null,null,null,null,null,null,null,null,null,null,null,null,null,null,null,null,null,null,null,null,null,null,null,null,null,null,null,null,null,null,null,null,null,"□","ときがわ町",false,"ときがわ町","",null,null,null,null,null,"",null,null,null,null,null,"",null,null,null,null,null,"",null,null,null,null,null,""]
[null,null,null,null,null,null,null,null,null,null,null,null,null,null,null,null,null,null,null,null,null,null,null,null,null,null,null,null,null,null,null,null,null,null,null,null,null,null,null,null,null,null,null,null,null,null,null,null,null,null,null,null,null,null,null,null,null,null,null,null,null,null,null,null,null,null,null,null,null,null,null,null,null,null,null,null,null,null,null,null,null,"□","東秩父村",false,"東秩父村","",null,null,null,null,null,"",null,null,null,null,null,"",null,null,null,null,null,"",null,null,null,null,null,""]
[15,null,null,null,null,null,null,null,null,null,null,null,null,null,null,null,null,null,"□","配送",{"$f":"IF(S221=\"☑\",TRUE)","v":false},{"$f":"IF(U221,T221,\"\")","v":""},"□","弁当配達",{"$f":"IF(W221=\"☑\",TRUE)","v":false},{"$f":"IF(Y221,X221,\"\")","v":""},"□","理容・美容（送迎）",{"$f":"IF(AA221=\"☑\",TRUE)","v":false},{"$f":"IF(AC221,AB221,\"\")","v":""},"□","家事代行・掃除・片付け",{"$f":"IF(AE221=\"☑\",TRUE)","v":false},{"$f":"IF(AG221,AF221,\"\")","v":""},"□","フィットネス・ジム（運動）",{"$f":"IF(AI221=\"☑\",TRUE)","v":false},{"$f":"IF(AK221,AJ221,\"\")","v":""},"□","車イス対応（バリアフリー）",{"$f":"IF(AM221=\"☑\",TRUE)","v":false},{"$f":"IF(AO221,AN221,\"\")","v":""},"□","講座・教室・イベント",{"$f":"IF(AQ221=\"☑\",TRUE)","v":false},{"$f":"IF(AS221,AR221,\"\")","v":""},"□","防犯・見守り",{"$f":"IF(AU221=\"☑\",TRUE)","v":false},{"$f":"IF(AW221,AV221,\"\")","v":""},{"$f":"_xlfn.TEXTJOIN(\"／\",TRUE,V221:V234,Z221:Z234,AD221:AD234,AH221:AH234,AL221:AL234,AP221:AP234,AT221:AT234,AX221:AX234)","v":""},"□","西区",{"$f":"IF(AZ221=\"☑\",TRUE)","v":false},{"$f":"\"さいたま市\"&BA221","v":"さいたま市西区"},{"$f":"IF(BB221,BC221,\"\")","v":""},{"$f":"_xlfn.TEXTJOIN(\"／\",TRUE,BD221:BD234)","v":""},"□","川口市",{"$f":"IF(BF221=\"☑\",TRUE)","v":false},{"$f":"BG221","v":"川口市"},{"$f":"IF(BH221,BI221,\"\")","v":""},{"$f":"_xludf.TEXTJOIN(\",\",TRUE,BJ221:BJ234)","v":""},"□","朝霞市",{"$f":"IF(BL221=\"☑\",TRUE)","v":false},{"$f":"BM221","v":"朝霞市"},{"$f":"IF(BN221,BO221,\"\")","v":""},{"$f":"_xlfn.TEXTJOIN(\"／\",TRUE,BP221:BP234)","v":""},"□","春日部市",{"$f":"IF(BR221=\"☑\",TRUE)","v":false},{"$f":"BS221","v":"春日部市"},{"$f":"IF(BT221,BU221,\"\")","v":""},{"$f":"_xlfn.TEXTJOIN(\"／\",TRUE,BV221:BV234)","v":""},"□","鴻巣市",{"$f":"IF(BX221=\"☑\",TRUE)","v":false},{"$f":"BY221","v":"鴻巣市"},{"$f":"IF(BZ221,CA221,\"\")","v":""},{"$f":"_xlfn.TEXTJOIN(\"／\",TRUE,CB221:CB234)","v":""},"□","川越市",{"$f":"IF(CD221=\"☑\",TRUE)","v":false},"川越市",{"$f":"IF(CF221,CG221,\"\")","v":""},{"$f":"_xlfn.TEXTJOIN(\"／\",TRUE,CH221:CH234)","v":""},"□","所沢市",{"$f":"IF(CJ221=\"☑\",TRUE)","v":false},{"$f":"CK221","v":"所沢市"},{"$f":"IF(CL221,CM221,\"\")","v":""},{"$f":"_xlfn.TEXTJOIN(\"／\",TRUE,CN221:CN234)","v":""},"□","行田市",{"$f":"IF(CP221=\"☑\",TRUE)","v":false},{"$f":"CQ221","v":"行田市"},{"$f":"IF(CR221,CS221,\"\")","v":""},{"$f":"_xludf.TEXTJOIN(\",\",TRUE,CT221:CT234)","v":""},"□","熊谷市",{"$f":"IF(CV221=\"☑\",TRUE)","v":false},{"$f":"CW221","v":"熊谷市"},{"$f":"IF(CX221,CY221,\"\")","v":""},{"$f":"_xlfn.TEXTJOIN(\"／\",TRUE,CZ221:CZ234)","v":""},"□","秩父市",{"$f":"IF(DB221=\"☑\",TRUE)","v":false},{"$f":"DC221","v":"秩父市"},{"$f":"IF(DD221,DE221,\"\")","v":""},{"$f":"_xlfn.TEXTJOIN(\"／\",TRUE,DF221:DF234)","v":""},{"$f":"_xlfn.TEXTJOIN(\"／\",TRUE,BE221,BK221,BQ221,BW221,CC221,CI221,CO221,CU221,DA221,DG221)","v":""},null,null,null,null,null,null,null,{"$f":"IF(#REF!=\"☑\",TRUE)","v":{"$error":"#REF!"}},{"$f":"IF(DP221,#REF!,\"\")","v":{"$error":"#REF!"}},{"$f":"_xludf.TEXTJOIN(\",\",TRUE,DQ221:DQ234)","v":{"$error":"#VALUE!"}}]
[null,null,null,null,null,null,null,null,null,null,null,null,null,null,null,null,null,null,"□","買物サポート",false,"","□","料理デリバリー（出前）",false,"","□","フィットネス・ジム（送迎）",{"$f":"IF(AA222=\"☑\",TRUE)","v":false},{"$f":"IF(AC222,AB222,\"\")","v":""},"□","出張料理",{"$f":"IF(AE222=\"☑\",TRUE)","v":false},{"$f":"IF(AG222,AF222,\"\")","v":""},"□","温泉・銭湯（たまり場）",false,"","□","多目的トイレ",false,"","□","習い事",{"$f":"IF(AQ222=\"☑\",TRUE)","v":false},{"$f":"IF(AS222,AR222,\"\")","v":""},"□","金融・保険",false,"",null,"□","北区",{"$f":"IF(AZ222=\"☑\",TRUE)","v":false},"さいたま市北区",{"$f":"IF(BB222,BC222,\"\")","v":""},null,"□","蕨市",{"$f":"IF(BF222=\"☑\",TRUE)","v":false},{"$f":"BG222","v":"蕨市"},{"$f":"IF(BH222,BI222,\"\")","v":""},null,"□","志木市",{"$f":"IF(BL222=\"☑\",TRUE)","v":false},"志木市",{"$f":"IF(BN222,BO222,\"\")","v":""},null,"□","草加市",{"$f":"IF(BR222=\"☑\",TRUE)","v":false},"草加市","",null,"□","上尾市",{"$f":"IF(BX222=\"☑\",TRUE)","v":false},{"$f":"BY222","v":"上尾市"},{"$f":"IF(BZ222,CA222,\"\")","v":""},null,"□","東松山市",{"$f":"IF(CD222=\"☑\",TRUE)","v":false},"東松山市",{"$f":"IF(CF222,CG222,\"\")","v":""},null,"□","飯能市",{"$f":"IF(CJ222=\"☑\",TRUE)","v":false},{"$f":"CK222","v":"飯能市"},{"$f":"IF(CL222,CM222,\"\")","v":""},null,"□","加須市",{"$f":"IF(CP222=\"☑\",TRUE)","v":false},"加須市",{"$f":"IF(CR222,CS222,\"\")","v":""},null,"□","本庄市",{"$f":"IF(CV222=\"☑\",TRUE)","v":false},"本庄市",{"$f":"IF(CX222,CY222,\"\")","v":""},null,"□","横瀬町",{"$f":"IF(DB222=\"☑\",TRUE)","v":false},{"$f":"DC222","v":"横瀬町"},{"$f":"IF(DD222,DE222,\"\")","v":""},null,null,null,null,null,null,null,null,null,null,{"$f":"IF(DP222,#REF!,\"\")","v":""}]
[null,null,null,null,null,null,null,null,null,null,null,null,null,null,null,null,null,null,"□","買物代行",false,"","□","食材宅配",false,"","□","温泉・銭湯（送迎）",false,"","□","屋外作業・力仕事",false,"","□","カフェ・ファーストフード",false,"","□","休憩スペース",false,"","□","映画館",false,"","□","住宅・リフォーム",false,"",null,"□","大宮区",false,"さいたま市大宮区","",null,"□","戸田市",{"$f":"IF(BF223=\"☑\",TRUE)","v":false},{"$f":"BG223","v":"戸田市"},"",null,"□","和光市",false,"和光市","",null,"□","越谷市",false,"越谷市","",null,"□","桶川市",{"$f":"IF(BX223=\"☑\",TRUE)","v":false},{"$f":"BY223","v":"桶川市"},"",null,"□","坂戸市",false,"坂戸市","",null,"□","狭山市",{"$f":"IF(CJ223=\"☑\",TRUE)","v":false},{"$f":"CK223","v":"狭山市"},"",null,"□","羽生市",false,"羽生市","",null,"□","深谷市",false,"深谷市","",null,"□","皆野町",{"$f":"IF(DB223=\"☑\",TRUE)","v":false},{"$f":"DC223","v":"皆野町"},"",null,null,null,null,null,null,null,null,null,{"$f":"IF(#REF!=\"☑\",TRUE)","v":{"$error":"#REF!"}},{"$f":"IF(DP223,#REF!,\"\")","v":{"$error":"#REF!"}}]
[null,null,null,null,null,null,null,null,null,null,null,null,null,null,null,null,null,null,"□","移動販売",false,"","□","日用品配達",false,"","□","整体・マッサージ（送迎）",false,"","□","整体・マッサージ（出張）",false,"","□","飲食店",false,"","□","駐車場",false,"","□","カラオケ店",false,"","□","パソコン・スマートフォン",false,"",null,"□","見沼区",false,"さいたま市見沼区","",null,null,null,null,null,"",null,"□","新座市",false,"新座市","",null,"□","八潮市",false,"八潮市","",null,"□","北本市",{"$f":"IF(BX224=\"☑\",TRUE)","v":false},{"$f":"BY224","v":"北本市"},"",null,"□","鶴ヶ島市",false,"鶴ヶ島市","",null,"□","入間市",{"$f":"IF(CJ224=\"☑\",TRUE)","v":false},{"$f":"CK224","v":"入間市"},"",null,"□","久喜市",false,"久喜市","",null,"□","美里町",false,"美里町","",null,"□","長瀞町",{"$f":"IF(DB224=\"☑\",TRUE)","v":false},{"$f":"DC224","v":"長瀞町"},""]
[null,null,null,null,null,null,null,null,null,null,null,null,null,null,null,null,null,null,"□","割引サービス",false,"","□","薬・介護用品配達",false,"","□","乗り合いサービス",false,"","□","理容・美容（出張）",false,"","□","イートインスペース",false,"","□","貸しスペース",false,"","□","麻雀・将棋・囲碁",false,"","□","認知症サポート企業",false,"",null,"□","中央区",false,"さいたま市中央区","",null,null,null,null,null,"",null,"□","富士見市",false,"富士見市","",null,"□","三郷市",false,"三郷市","",null,"□","伊奈町",{"$f":"IF(BX225=\"☑\",TRUE)","v":false},{"$f":"BY225","v":"伊奈町"},"",null,"□","毛呂山町",false,"毛呂山町","",null,"□","日高市",{"$f":"IF(CJ225=\"☑\",TRUE)","v":false},{"$f":"CK225","v":"日高市"},"",null,"□","蓮田市",false,"蓮田市","",null,"□","神川町",false,"神川町","",null,"□","小鹿野町",{"$f":"IF(DB225=\"☑\",TRUE)","v":false},{"$f":"DC225","v":"小鹿野町"},"",null,null,null,null,null,null,null,null,null,{"$f":"IF(#REF!=\"☑\",TRUE)","v":{"$error":"#REF!"}},{"$f":"IF(DP225,#REF!,\"\")","v":{"$error":"#REF!"}}]
[null,null,null,null,null,null,null,null,null,null,null,null,null,null,null,null,null,null,"□","その他（買物）",false,"","□","クリーニング",false,{"$f":"IF(Y226,X226,\"\")","v":""},"□","個別移送サービス",false,"","□","ペット",false,"","□","その他（運動・たまり場）",false,"","□","その他（設備・施設・場所貸し）",false,"","□","ゲームセンター",false,"","□","理容・美容",false,"",null,"□","桜区",false,"さいたま市桜区","",null,null,null,null,null,"",null,"□","ふじみ野市",false,"ふじみ野市","",null,"□","吉川市",false,"吉川市","",null,null,null,null,null,"",null,"□","越生町",false,"越生町","",null,null,null,null,null,"",null,"□","幸手市",false,"幸手市","",null,"□","上里町",false,"上里町","",null,null,null,null,null,"",null,null,null,null,null,null,null,null,null,{"$f":"IF(#REF!=\"☑\",TRUE)","v":{"$error":"#REF!"}},{"$f":"IF(DP226,#REF!,\"\")","v":{"$error":"#REF!"}}]
[null,null,null,null,null,null,null,null,null,null,null,null,null,null,null,null,null,null,null,null,null,null,"□","その他（宅配・デリバリー）",false,{"$f":"IF(Y227,X227,\"\")","v":""},"□","交通機関サービス",false,"","□","その他（出張サービス）",false,"",null,null,null,null,null,null,null,null,"□","旅行・レジャー",false,"","□","成年後見・相続",false,"",null,"□","浦和区",false,"さいたま市浦和区","",null,null,null,null,null,"",null,"□","三芳町",false,"三芳町","",null,"□","松伏町",false,"松伏町","",null,null,null,null,null,"",null,"□","滑川町",false,"滑川町","",null,null,null,null,null,"",null,"□","白岡市",false,"白岡市","",null,"□","寄居町",false,"寄居町","",null,null,null,null,null,""]
[null,null,null,null,null,null,null,null,null,null,null,null,null,null,null,null,null,null,null,null,null,null,null,null,null,null,"□","その他（送迎・移動支援）",false,"",null,null,null,"",null,null,null,{"$f":"IF(AK228,AJ228,\"\")","v":""},null,null,null,{"$f":"IF(AO228,AN228,\"\")","v":""},"□","パソコン・スマホ教室",false,"","□","その他（生活サービス）",false,"",null,"□","南区",false,"さいたま市南区","",null,null,null,null,null,"",null,null,null,null,null,"",null,null,null,null,null,"",null,null,null,null,null,"",null,"□","嵐山町",false,"嵐山町","",null,null,null,null,null,"",null,"□","宮代町",false,"宮代町","",null,null,null,null,null,"",null,null,null,null,null,""]
[null,null,null,null,null,null,null,null,null,null,null,null,null,null,null,null,null,null,null,null,null,null,null,null,null,null,null,null,null,null,null,null,null,null,null,null,null,null,null,null,null,null,"□","その他（学び・趣味）",false,"",null,null,null,null,null,"□","緑区",false,"さいたま市緑区","",null,null,null,null,null,"",null,null,null,null,null,"",null,null,null,null,null,"",null,null,null,null,null,"",null,"□","小川町",false,"小川町","",null,null,null,null,null,"",null,"□","杉戸町",false,"杉戸町","",null,null,null,null,null,"",null,null,null,null,null,""]
[null,null,null,null,null,null,null,null,null,null,null,null,null,null,null,null,null,null,null,null,null,null,null,null,null,null,null,null,null,null,null,null,null,null,null,null,null,null,null,null,null,null,null,null,null,null,null,null,null,null,null,"□","岩槻区",{"$f":"IF(AZ230=\"☑\",TRUE)","v":false},"さいたま市岩槻区","",null,null,null,null,null,"",null,null,null,null,null,"",null,null,null,null,null,"",null,null,null,null,null,"",null,"□","川島町",false,"川島町","",null,null,null,null,null,"",null,null,null,null,null,"",null,null,null,null,null,"",null,null,null,null,null,""]
[null,null,null,null,null,null,null,null,null,null,null,null,null,null,null,null,null,null,null,null,null,null,null,null,null,null,null,null,null,null,null,null,null,null,null,null,null,null,null,null,null,null,null,null,null,null,null,null,null,null,null,null,null,null,null,null,null,null,null,null,null,null,null,null,null,null,null,null,null,null,null,null,null,null,null,null,null,null,null,null,null,"□","吉見町",false,"吉見町","",null,null,null,null,null,"",null,null,null,null,null,"",null,null,null,null,null,"",null,null,null,null,null,""]
[null,null,null,null,null,null,null,null,null,null,null,null,null,null,null,null,null,null,null,null,null,null,null,null,null,null,null,null,null,null,null,null,null,null,null,null,null,null,null,null,null,null,null,null,null,null,null,null,null,null,null,null,null,null,null,null,null,null,null,null,null,null,null,null,null,null,null,null,null,null,null,null,null,null,null,null,null,null,null,null,null,"□","鳩山町",false,"鳩山町","",null,null,null,null,null,"",null,null,null,null,null,"",null,null,null,null,null,"",null,null,null,null,null,""]
[null,null,null,null,null,null,null,null,null,null,null,null,null,null,null,null,null,null,null,null,null,null,null,null,null,null,null,null,null,null,null,null,null,null,null,null,null,null,null,null,null,null,null,null,null,null,null,null,null,null,null,null,null,null,null,null,null,null,null,null,null,null,null,null,null,null,null,null,null,null,null,null,null,null,null,null,null,null,null,null,null,"□","ときがわ町",false,"ときがわ町","",null,null,null,null,null,"",null,null,null,null,null,"",null,null,null,null,null,"",null,null,null,null,null,""]
[null,null,null,null,null,null,null,null,null,null,null,null,null,null,null,null,null,null,null,null,null,null,null,null,null,null,null,null,null,null,null,null,null,null,null,null,null,null,null,null,null,null,null,null,null,null,null,null,null,null,null,null,null,null,null,null,null,null,null,null,null,null,null,null,null,null,null,null,null,null,null,null,null,null,null,null,null,null,null,null,null,"□","東秩父村",false,"東秩父村","",null,null,null,null,null,"",null,null,null,null,null,"",null,null,null,null,null,"",null,null,null,null,null,""]
[16,null,null,null,null,null,null,null,null,null,null,null,null,null,null,null,null,null,"□","配送",{"$f":"IF(S235=\"☑\",TRUE)","v":false},{"$f":"IF(U235,T235,\"\")","v":""},"□","弁当配達",{"$f":"IF(W235=\"☑\",TRUE)","v":false},{"$f":"IF(Y235,X235,\"\")","v":""},"□","理容・美容（送迎）",{"$f":"IF(AA235=\"☑\",TRUE)","v":false},{"$f":"IF(AC235,AB235,\"\")","v":""},"□","家事代行・掃除・片付け",{"$f":"IF(AE235=\"☑\",TRUE)","v":false},{"$f":"IF(AG235,AF235,\"\")","v":""},"□","フィットネス・ジム（運動）",{"$f":"IF(AI235=\"☑\",TRUE)","v":false},{"$f":"IF(AK235,AJ235,\"\")","v":""},"□","車イス対応（バリアフリー）",{"$f":"IF(AM235=\"☑\",TRUE)","v":false},{"$f":"IF(AO235,AN235,\"\")","v":""},"□","講座・教室・イベント",{"$f":"IF(AQ235=\"☑\",TRUE)","v":false},{"$f":"IF(AS235,AR235,\"\")","v":""},"□","防犯・見守り",{"$f":"IF(AU235=\"☑\",TRUE)","v":false},{"$f":"IF(AW235,AV235,\"\")","v":""},{"$f":"_xlfn.TEXTJOIN(\"／\",TRUE,V235:V248,Z235:Z248,AD235:AD248,AH235:AH248,AL235:AL248,AP235:AP248,AT235:AT248,AX235:AX248)","v":""},"□","西区",{"$f":"IF(AZ235=\"☑\",TRUE)","v":false},{"$f":"\"さいたま市\"&BA235","v":"さいたま市西区"},{"$f":"IF(BB235,BC235,\"\")","v":""},{"$f":"_xlfn.TEXTJOIN(\"／\",TRUE,BD235:BD248)","v":""},"□","川口市",{"$f":"IF(BF235=\"☑\",TRUE)","v":false},{"$f":"BG235","v":"川口市"},{"$f":"IF(BH235,BI235,\"\")","v":""},{"$f":"_xludf.TEXTJOIN(\",\",TRUE,BJ235:BJ248)","v":""},"□","朝霞市",{"$f":"IF(BL235=\"☑\",TRUE)","v":false},{"$f":"BM235","v":"朝霞市"},{"$f":"IF(BN235,BO235,\"\")","v":""},{"$f":"_xlfn.TEXTJOIN(\"／\",TRUE,BP235:BP248)","v":""},"□","春日部市",{"$f":"IF(BR235=\"☑\",TRUE)","v":false},{"$f":"BS235","v":"春日部市"},{"$f":"IF(BT235,BU235,\"\")","v":""},{"$f":"_xlfn.TEXTJOIN(\"／\",TRUE,BV235:BV248)","v":""},"□","鴻巣市",{"$f":"IF(BX235=\"☑\",TRUE)","v":false},{"$f":"BY235","v":"鴻巣市"},{"$f":"IF(BZ235,CA235,\"\")","v":""},{"$f":"_xlfn.TEXTJOIN(\"／\",TRUE,CB235:CB248)","v":""},"□","川越市",{"$f":"IF(CD235=\"☑\",TRUE)","v":false},"川越市",{"$f":"IF(CF235,CG235,\"\")","v":""},{"$f":"_xlfn.TEXTJOIN(\"／\",TRUE,CH235:CH248)","v":""},"□","所沢市",{"$f":"IF(CJ235=\"☑\",TRUE)","v":false},{"$f":"CK235","v":"所沢市"},{"$f":"IF(CL235,CM235,\"\")","v":""},{"$f":"_xlfn.TEXTJOIN(\"／\",TRUE,CN235:CN248)","v":""},"□","行田市",{"$f":"IF(CP235=\"☑\",TRUE)","v":false},{"$f":"CQ235","v":"行田市"},{"$f":"IF(CR235,CS235,\"\")","v":""},{"$f":"_xludf.TEXTJOIN(\",\",TRUE,CT235:CT248)","v":""},"□","熊谷市",{"$f":"IF(CV235=\"☑\",TRUE)","v":false},{"$f":"CW235","v":"熊谷市"},{"$f":"IF(CX235,CY235,\"\")","v":""},{"$f":"_xlfn.TEXTJOIN(\"／\",TRUE,CZ235:CZ248)","v":""},"□","秩父市",{"$f":"IF(DB235=\"☑\",TRUE)","v":false},{"$f":"DC235","v":"秩父市"},{"$f":"IF(DD235,DE235,\"\")","v":""},{"$f":"_xlfn.TEXTJOIN(\"／\",TRUE,DF235:DF248)","v":""},{"$f":"_xlfn.TEXTJOIN(\"／\",TRUE,BE235,BK235,BQ235,BW235,CC235,CI235,CO235,CU235,DA235,DG235)","v":""},null,null,null,null,null,null,null,{"$f":"IF(#REF!=\"☑\",TRUE)","v":{"$error":"#REF!"}},{"$f":"IF(DP235,#REF!,\"\")","v":{"$error":"#REF!"}},{"$f":"_xludf.TEXTJOIN(\",\",TRUE,DQ235:DQ248)","v":{"$error":"#VALUE!"}}]
[null,null,null,null,null,null,null,null,null,null,null,null,null,null,null,null,null,null,"□","買物サポート",false,"","□","料理デリバリー（出前）",false,"","□","フィットネス・ジム（送迎）",{"$f":"IF(AA236=\"☑\",TRUE)","v":false},{"$f":"IF(AC236,AB236,\"\")","v":""},"□","出張料理",{"$f":"IF(AE236=\"☑\",TRUE)","v":false},{"$f":"IF(AG236,AF236,\"\")","v":""},"□","温泉・銭湯（たまり場）",false,"","□","多目的トイレ",false,"","□","習い事",{"$f":"IF(AQ236=\"☑\",TRUE)","v":false},{"$f":"IF(AS236,AR236,\"\")","v":""},"□","金融・保険",false,"",null,"□","北区",{"$f":"IF(AZ236=\"☑\",TRUE)","v":false},"さいたま市北区",{"$f":"IF(BB236,BC236,\"\")","v":""},null,"□","蕨市",{"$f":"IF(BF236=\"☑\",TRUE)","v":false},{"$f":"BG236","v":"蕨市"},{"$f":"IF(BH236,BI236,\"\")","v":""},null,"□","志木市",{"$f":"IF(BL236=\"☑\",TRUE)","v":false},"志木市",{"$f":"IF(BN236,BO236,\"\")","v":""},null,"□","草加市",{"$f":"IF(BR236=\"☑\",TRUE)","v":false},"草加市","",null,"□","上尾市",{"$f":"IF(BX236=\"☑\",TRUE)","v":false},{"$f":"BY236","v":"上尾市"},{"$f":"IF(BZ236,CA236,\"\")","v":""},null,"□","東松山市",{"$f":"IF(CD236=\"☑\",TRUE)","v":false},"東松山市",{"$f":"IF(CF236,CG236,\"\")","v":""},null,"□","飯能市",{"$f":"IF(CJ236=\"☑\",TRUE)","v":false},{"$f":"CK236","v":"飯能市"},{"$f":"IF(CL236,CM236,\"\")","v":""},null,"□","加須市",{"$f":"IF(CP236=\"☑\",TRUE)","v":false},"加須市",{"$f":"IF(CR236,CS236,\"\")","v":""},null,"□","本庄市",{"$f":"IF(CV236=\"☑\",TRUE)","v":false},"本庄市",{"$f":"IF(CX236,CY236,\"\")","v":""},null,"□","横瀬町",{"$f":"IF(DB236=\"☑\",TRUE)","v":false},{"$f":"DC236","v":"横瀬町"},{"$f":"IF(DD236,DE236,\"\")","v":""},null,null,null,null,null,null,null,null,null,null,{"$f":"IF(DP236,#REF!,\"\")","v":""}]
[null,null,null,null,null,null,null,null,null,null,null,null,null,null,null,null,null,null,"□","買物代行",false,"","□","食材宅配",false,"","□","温泉・銭湯（送迎）",false,"","□","屋外作業・力仕事",false,"","□","カフェ・ファーストフード",false,"","□","休憩スペース",false,"","□","映画館",false,"","□","住宅・リフォーム",false,"",null,"□","大宮区",false,"さいたま市大宮区","",null,"□","戸田市",{"$f":"IF(BF237=\"☑\",TRUE)","v":false},{"$f":"BG237","v":"戸田市"},"",null,"□","和光市",false,"和光市","",null,"□","越谷市",false,"越谷市","",null,"□","桶川市",{"$f":"IF(BX237=\"☑\",TRUE)","v":false},{"$f":"BY237","v":"桶川市"},"",null,"□","坂戸市",false,"坂戸市","",null,"□","狭山市",{"$f":"IF(CJ237=\"☑\",TRUE)","v":false},{"$f":"CK237","v":"狭山市"},"",null,"□","羽生市",false,"羽生市","",null,"□","深谷市",false,"深谷市","",null,"□","皆野町",{"$f":"IF(DB237=\"☑\",TRUE)","v":false},{"$f":"DC237","v":"皆野町"},"",null,null,null,null,null,null,null,null,null,{"$f":"IF(#REF!=\"☑\",TRUE)","v":{"$error":"#REF!"}},{"$f":"IF(DP237,#REF!,\"\")","v":{"$error":"#REF!"}}]
[null,null,null,null,null,null,null,null,null,null,null,null,null,null,null,null,null,null,"□","移動販売",false,"","□","日用品配達",false,"","□","整体・マッサージ（送迎）",false,"","□","整体・マッサージ（出張）",false,"","□","飲食店",false,"","□","駐車場",false,"","□","カラオケ店",false,"","□","パソコン・スマートフォン",false,"",null,"□","見沼区",false,"さいたま市見沼区","",null,null,null,null,null,"",null,"□","新座市",false,"新座市","",null,"□","八潮市",false,"八潮市","",null,"□","北本市",{"$f":"IF(BX238=\"☑\",TRUE)","v":false},{"$f":"BY238","v":"北本市"},"",null,"□","鶴ヶ島市",false,"鶴ヶ島市","",null,"□","入間市",{"$f":"IF(CJ238=\"☑\",TRUE)","v":false},{"$f":"CK238","v":"入間市"},"",null,"□","久喜市",false,"久喜市","",null,"□","美里町",false,"美里町","",null,"□","長瀞町",{"$f":"IF(DB238=\"☑\",TRUE)","v":false},{"$f":"DC238","v":"長瀞町"},""]
[null,null,null,null,null,null,null,null,null,null,null,null,null,null,null,null,null,null,"□","割引サービス",false,"","□","薬・介護用品配達",false,"","□","乗り合いサービス",false,"","□","理容・美容（出張）",false,"","□","イートインスペース",false,"","□","貸しスペース",false,"","□","麻雀・将棋・囲碁",false,"","□","認知症サポート企業",false,"",null,"□","中央区",false,"さいたま市中央区","",null,null,null,null,null,"",null,"□","富士見市",false,"富士見市","",null,"□","三郷市",false,"三郷市","",null,"□","伊奈町",{"$f":"IF(BX239=\"☑\",TRUE)","v":false},{"$f":"BY239","v":"伊奈町"},"",null,"□","毛呂山町",false,"毛呂山町","",null,"□","日高市",{"$f":"IF(CJ239=\"☑\",TRUE)","v":false},{"$f":"CK239","v":"日高市"},"",null,"□","蓮田市",false,"蓮田市","",null,"□","神川町",false,"神川町","",null,"□","小鹿野町",{"$f":"IF(DB239=\"☑\",TRUE)","v":false},{"$f":"DC239","v":"小鹿野町"},"",null,null,null,null,null,null,null,null,null,{"$f":"IF(#REF!=\"☑\",TRUE)","v":{"$error":"#REF!"}},{"$f":"IF(DP239,#REF!,\"\")","v":{"$error":"#REF!"}}]
[null,null,null,null,null,null,null,null,null,null,null,null,null,null,null,null,null,null,"□","その他（買物）",false,"","□","クリーニング",false,{"$f":"IF(Y240,X240,\"\")","v":""},"□","個別移送サービス",false,"","□","ペット",false,"","□","その他（運動・たまり場）",false,"","□","その他（設備・施設・場所貸し）",false,"","□","ゲームセンター",false,"","□","理容・美容",false,"",null,"□","桜区",false,"さいたま市桜区","",null,null,null,null,null,"",null,"□","ふじみ野市",false,"ふじみ野市","",null,"□","吉川市",false,"吉川市","",null,null,null,null,null,"",null,"□","越生町",false,"越生町","",null,null,null,null,null,"",null,"□","幸手市",false,"幸手市","",null,"□","上里町",false,"上里町","",null,null,null,null,null,"",null,null,null,null,null,null,null,null,null,{"$f":"IF(#REF!=\"☑\",TRUE)","v":{"$error":"#REF!"}},{"$f":"IF(DP240,#REF!,\"\")","v":{"$error":"#REF!"}}]
[null,null,null,null,null,null,null,null,null,null,null,null,null,null,null,null,null,null,null,null,null,null,"□","その他（宅配・デリバリー）",false,{"$f":"IF(Y241,X241,\"\")","v":""},"□","交通機関サービス",false,"","□","その他（出張サービス）",false,"",null,null,null,null,null,null,null,null,"□","旅行・レジャー",false,"","□","成年後見・相続",false,"",null,"□","浦和区",false,"さいたま市浦和区","",null,null,null,null,null,"",null,"□","三芳町",false,"三芳町","",null,"□","松伏町",false,"松伏町","",null,null,null,null,null,"",null,"□","滑川町",false,"滑川町","",null,null,null,null,null,"",null,"□","白岡市",false,"白岡市","",null,"□","寄居町",false,"寄居町","",null,null,null,null,null,""]
[null,null,null,null,null,null,null,null,null,null,null,null,null,null,null,null,null,null,null,null,null,null,null,null,null,null,"□","その他（送迎・移動支援）",false,"",null,null,null,"",null,null,null,{"$f":"IF(AK242,AJ242,\"\")","v":""},null,null,null,{"$f":"IF(AO242,AN242,\"\")","v":""},"□","パソコン・スマホ教室",false,"","□","その他（生活サービス）",false,"",null,"□","南区",false,"さいたま市南区","",null,null,null,null,null,"",null,null,null,null,null,"",null,null,null,null,null,"",null,null,null,null,null,"",null,"□","嵐山町",false,"嵐山町","",null,null,null,null,null,"",null,"□","宮代町",false,"宮代町","",null,null,null,null,null,"",null,null,null,null,null,""]
[null,null,null,null,null,null,null,null,null,null,null,null,null,null,null,null,null,null,null,null,null,null,null,null,null,null,null,null,null,null,null,null,null,null,null,null,null,null,null,null,null,null,"□","その他（学び・趣味）",false,"",null,null,null,null,null,"□","緑区",false,"さいたま市緑区","",null,null,null,null,null,"",null,null,null,null,null,"",null,null,null,null,null,"",null,null,null,null,null,"",null,"□","小川町",false,"小川町","",null,null,null,null,null,"",null,"□","杉戸町",false,"杉戸町","",null,null,null,null,null,"",null,null,null,null,null,""]
[null,null,null,null,null,null,null,null,null,null,null,null,null,null,null,null,null,null,null,null,null,null,null,null,null,null,null,null,null,null,null,null,null,null,null,null,null,null,null,null,null,null,null,null,null,null,null,null,null,null,null,"□","岩槻区",{"$f":"IF(AZ244=\"☑\",TRUE)","v":false},"さいたま市岩槻区","",null,null,null,null,null,"",null,null,null,null,null,"",null,null,null,null,null,"",null,null,null,null,null,"",null,"□","川島町",false,"川島町","",null,null,null,null,null,"",null,null,null,null,null,"",null,null,null,null,null,"",null,null,null,null,null,""]
[null,null,null,null,null,null,null,null,null,null,null,null,null,null,null,null,null,null,null,null,null,null,null,null,null,null,null,null,null,null,null,null,null,null,null,null,null,null,null,null,null,null,null,null,null,null,null,null,null,null,null,null,null,null,null,null,null,null,null,null,null,null,null,null,null,null,null,null,null,null,null,null,null,null,null,null,null,null,null,null,null,"□","吉見町",false,"吉見町","",null,null,null,null,null,"",null,null,null,null,null,"",null,null,null,null,null,"",null,null,null,null,null,""]
[null,null,null,null,null,null,null,null,null,null,null,null,null,null,null,null,null,null,null,null,null,null,null,null,null,null,null,null,null,null,null,null,null,null,null,null,null,null,null,null,null,null,null,null,null,null,null,null,null,null,null,null,null,null,null,null,null,null,null,null,null,null,null,null,null,null,null,null,null,null,null,null,null,null,null,null,null,null,null,null,null,"□","鳩山町",false,"鳩山町","",null,null,null,null,null,"",null,null,null,null,null,"",null,null,null,null,null,"",null,null,null,null,null,""]
[null,null,null,null,null,null,null,null,null,null,null,null,null,null,null,null,null,null,null,null,null,null,null,null,null,null,null,null,null,null,null,null,null,null,null,null,null,null,null,null,null,null,null,null,null,null,null,null,null,null,null,null,null,null,null,null,null,null,null,null,null,null,null,null,null,null,null,null,null,null,null,null,null,null,null,null,null,null,null,null,null,"□","ときがわ町",false,"ときがわ町","",null,null,null,null,null,"",null,null,null,null,null,"",null,null,null,null,null,"",null,null,null,null,null,""]
[null,null,null,null,null,null,null,null,null,null,null,null,null,null,null,null,null,null,null,null,null,null,null,null,null,null,null,null,null,null,null,null,null,null,null,null,null,null,null,null,null,null,null,null,null,null,null,null,null,null,null,null,null,null,null,null,null,null,null,null,null,null,null,null,null,null,null,null,null,null,null,null,null,null,null,null,null,null,null,null,null,"□","東秩父村",false,"東秩父村","",null,null,null,null,null,"",null,null,null,null,null,"",null,null,null,null,null,"",null,null,null,null,null,""]
[17,null,null,null,null,null,null,null,null,null,null,null,null,null,null,null,null,null,"□","配送",{"$f":"IF(S249=\"☑\",TRUE)","v":false},{"$f":"IF(U249,T249,\"\")","v":""},"□","弁当配達",{"$f":"IF(W249=\"☑\",TRUE)","v":false},{"$f":"IF(Y249,X249,\"\")","v":""},"□","理容・美容（送迎）",{"$f":"IF(AA249=\"☑\",TRUE)","v":false},{"$f":"IF(AC249,AB249,\"\")","v":""},"□","家事代行・掃除・片付け",{"$f":"IF(AE249=\"☑\",TRUE)","v":false},{"$f":"IF(AG249,AF249,\"\")","v":""},"□","フィットネス・ジム（運動）",{"$f":"IF(AI249=\"☑\",TRUE)","v":false},{"$f":"IF(AK249,AJ249,\"\")","v":""},"□","車イス対応（バリアフリー）",{"$f":"IF(AM249=\"☑\",TRUE)","v":false},{"$f":"IF(AO249,AN249,\"\")","v":""},"□","講座・教室・イベント",{"$f":"IF(AQ249=\"☑\",TRUE)","v":false},{"$f":"IF(AS249,AR249,\"\")","v":""},"□","防犯・見守り",{"$f":"IF(AU249=\"☑\",TRUE)","v":false},{"$f":"IF(AW249,AV249,\"\")","v":""},{"$f":"_xlfn.TEXTJOIN(\"／\",TRUE,V249:V262,Z249:Z262,AD249:AD262,AH249:AH262,AL249:AL262,AP249:AP262,AT249:AT262,AX249:AX262)","v":""},"□","西区",{"$f":"IF(AZ249=\"☑\",TRUE)","v":false},{"$f":"\"さいたま市\"&BA249","v":"さいたま市西区"},{"$f":"IF(BB249,BC249,\"\")","v":""},{"$f":"_xlfn.TEXTJOIN(\"／\",TRUE,BD249:BD262)","v":""},"□","川口市",{"$f":"IF(BF249=\"☑\",TRUE)","v":false},{"$f":"BG249","v":"川口市"},{"$f":"IF(BH249,BI249,\"\")","v":""},{"$f":"_xludf.TEXTJOIN(\",\",TRUE,BJ249:BJ262)","v":""},"□","朝霞市",{"$f":"IF(BL249=\"☑\",TRUE)","v":false},{"$f":"BM249","v":"朝霞市"},{"$f":"IF(BN249,BO249,\"\")","v":""},{"$f":"_xlfn.TEXTJOIN(\"／\",TRUE,BP249:BP262)","v":""},"□","春日部市",{"$f":"IF(BR249=\"☑\",TRUE)","v":false},{"$f":"BS249","v":"春日部市"},{"$f":"IF(BT249,BU249,\"\")","v":""},{"$f":"_xlfn.TEXTJOIN(\"／\",TRUE,BV249:BV262)","v":""},"□","鴻巣市",{"$f":"IF(BX249=\"☑\",TRUE)","v":false},{"$f":"BY249","v":"鴻巣市"},{"$f":"IF(BZ249,CA249,\"\")","v":""},{"$f":"_xlfn.TEXTJOIN(\"／\",TRUE,CB249:CB262)","v":""},"□","川越市",{"$f":"IF(CD249=\"☑\",TRUE)","v":false},"川越市",{"$f":"IF(CF249,CG249,\"\")","v":""},{"$f":"_xlfn.TEXTJOIN(\"／\",TRUE,CH249:CH262)","v":""},"□","所沢市",{"$f":"IF(CJ249=\"☑\",TRUE)","v":false},{"$f":"CK249","v":"所沢市"},{"$f":"IF(CL249,CM249,\"\")","v":""},{"$f":"_xlfn.TEXTJOIN(\"／\",TRUE,CN249:CN262)","v":""},"□","行田市",{"$f":"IF(CP249=\"☑\",TRUE)","v":false},{"$f":"CQ249","v":"行田市"},{"$f":"IF(CR249,CS249,\"\")","v":""},{"$f":"_xludf.TEXTJOIN(\",\",TRUE,CT249:CT262)","v":""},"□","熊谷市",{"$f":"IF(CV249=\"☑\",TRUE)","v":false},{"$f":"CW249","v":"熊谷市"},{"$f":"IF(CX249,CY249,\"\")","v":""},{"$f":"_xlfn.TEXTJOIN(\"／\",TRUE,CZ249:CZ262)","v":""},"□","秩父市",{"$f":"IF(DB249=\"☑\",TRUE)","v":false},{"$f":"DC249","v":"秩父市"},{"$f":"IF(DD249,DE249,\"\")","v":""},{"$f":"_xlfn.TEXTJOIN(\"／\",TRUE,DF249:DF262)","v":""},{"$f":"_xlfn.TEXTJOIN(\"／\",TRUE,BE249,BK249,BQ249,BW249,CC249,CI249,CO249,CU249,DA249,DG249)","v":""},null,null,null,null,null,null,null,{"$f":"IF(#REF!=\"☑\",TRUE)","v":{"$error":"#REF!"}},{"$f":"IF(DP249,#REF!,\"\")","v":{"$error":"#REF!"}},{"$f":"_xludf.TEXTJOIN(\",\",TRUE,DQ249:DQ262)","v":{"$error":"#VALUE!"}}]
[null,null,null,null,null,null,null,null,null,null,null,null,null,null,null,null,null,null,"□","買物サポート",false,"","□","料理デリバリー（出前）",false,"","□","フィットネス・ジム（送迎）",{"$f":"IF(AA250=\"☑\",TRUE)","v":false},{"$f":"IF(AC250,AB250,\"\")","v":""},"□","出張料理",{"$f":"IF(AE250=\"☑\",TRUE)","v":false},{"$f":"IF(AG250,AF250,\"\")","v":""},"□","温泉・銭湯（たまり場）",false,"","□","多目的トイレ",false,"","□","習い事",{"$f":"IF(AQ250=\"☑\",TRUE)","v":false},{"$f":"IF(AS250,AR250,\"\")","v":""},"□","金融・保険",false,"",null,"□","北区",{"$f":"IF(AZ250=\"☑\",TRUE)","v":false},"さいたま市北区",{"$f":"IF(BB250,BC250,\"\")","v":""},null,"□","蕨市",{"$f":"IF(BF250=\"☑\",TRUE)","v":false},{"$f":"BG250","v":"蕨市"},{"$f":"IF(BH250,BI250,\"\")","v":""},null,"□","志木市",{"$f":"IF(BL250=\"☑\",TRUE)","v":false},"志木市",{"$f":"IF(BN250,BO250,\"\")","v":""},null,"□","草加市",{"$f":"IF(BR250=\"☑\",TRUE)","v":false},"草加市","",null,"□","上尾市",{"$f":"IF(BX250=\"☑\",TRUE)","v":false},{"$f":"BY250","v":"上尾市"},{"$f":"IF(BZ250,CA250,\"\")","v":""},null,"□","東松山市",{"$f":"IF(CD250=\"☑\",TRUE)","v":false},"東松山市",{"$f":"IF(CF250,CG250,\"\")","v":""},null,"□","飯能市",{"$f":"IF(CJ250=\"☑\",TRUE)","v":false},{"$f":"CK250","v":"飯能市"},{"$f":"IF(CL250,CM250,\"\")","v":""},null,"□","加須市",{"$f":"IF(CP250=\"☑\",TRUE)","v":false},"加須市",{"$f":"IF(CR250,CS250,\"\")","v":""},null,"□","本庄市",{"$f":"IF(CV250=\"☑\",TRUE)","v":false},"本庄市",{"$f":"IF(CX250,CY250,\"\")","v":""},null,"□","横瀬町",{"$f":"IF(DB250=\"☑\",TRUE)","v":false},{"$f":"DC250","v":"横瀬町"},{"$f":"IF(DD250,DE250,\"\")","v":""},null,null,null,null,null,null,null,null,null,null,{"$f":"IF(DP250,#REF!,\"\")","v":""}]
[null,null,null,null,null,null,null,null,null,null,null,null,null,null,null,null,null,null,"□","買物代行",false,"","□","食材宅配",false,"","□","温泉・銭湯（送迎）",false,"","□","屋外作業・力仕事",false,"","□","カフェ・ファーストフード",false,"","□","休憩スペース",false,"","□","映画館",false,"","□","住宅・リフォーム",false,"",null,"□","大宮区",false,"さいたま市大宮区","",null,"□","戸田市",{"$f":"IF(BF251=\"☑\",TRUE)","v":false},{"$f":"BG251","v":"戸田市"},"",null,"□","和光市",false,"和光市","",null,"□","越谷市",false,"越谷市","",null,"□","桶川市",{"$f":"IF(BX251=\"☑\",TRUE)","v":false},{"$f":"BY251","v":"桶川市"},"",null,"□","坂戸市",false,"坂戸市","",null,"□","狭山市",{"$f":"IF(CJ251=\"☑\",TRUE)","v":false},{"$f":"CK251","v":"狭山市"},"",null,"□","羽生市",false,"羽生市","",null,"□","深谷市",false,"深谷市","",null,"□","皆野町",{"$f":"IF(DB251=\"☑\",TRUE)","v":false},{"$f":"DC251","v":"皆野町"},"",null,null,null,null,null,null,null,null,null,{"$f":"IF(#REF!=\"☑\",TRUE)","v":{"$error":"#REF!"}},{"$f":"IF(DP251,#REF!,\"\")","v":{"$error":"#REF!"}}]
[null,null,null,null,null,null,null,null,null,null,null,null,null,null,null,null,null,null,"□","移動販売",false,"","□","日用品配達",false,"","□","整体・マッサージ（送迎）",false,"","□","整体・マッサージ（出張）",false,"","□","飲食店",false,"","□","駐車場",false,"","□","カラオケ店",false,"","□","パソコン・スマートフォン",false,"",null,"□","見沼区",false,"さいたま市見沼区","",null,null,null,null,null,"",null,"□","新座市",false,"新座市","",null,"□","八潮市",false,"八潮市","",null,"□","北本市",{"$f":"IF(BX252=\"☑\",TRUE)","v":false},{"$f":"BY252","v":"北本市"},"",null,"□","鶴ヶ島市",false,"鶴ヶ島市","",null,"□","入間市",{"$f":"IF(CJ252=\"☑\",TRUE)","v":false},{"$f":"CK252","v":"入間市"},"",null,"□","久喜市",false,"久喜市","",null,"□","美里町",false,"美里町","",null,"□","長瀞町",{"$f":"IF(DB252=\"☑\",TRUE)","v":false},{"$f":"DC252","v":"長瀞町"},""]
[null,null,null,null,null,null,null,null,null,null,null,null,null,null,null,null,null,null,"□","割引サービス",false,"","□","薬・介護用品配達",false,"","□","乗り合いサービス",false,"","□","理容・美容（出張）",false,"","□","イートインスペース",false,"","□","貸しスペース",false,"","□","麻雀・将棋・囲碁",false,"","□","認知症サポート企業",false,"",null,"□","中央区",false,"さいたま市中央区","",null,null,null,null,null,"",null,"□","富士見市",false,"富士見市","",null,"□","三郷市",false,"三郷市","",null,"□","伊奈町",{"$f":"IF(BX253=\"☑\",TRUE)","v":false},{"$f":"BY253","v":"伊奈町"},"",null,"□","毛呂山町",false,"毛呂山町","",null,"□","日高市",{"$f":"IF(CJ253=\"☑\",TRUE)","v":false},{"$f":"CK253","v":"日高市"},"",null,"□","蓮田市",false,"蓮田市","",null,"□","神川町",false,"神川町","",null,"□","小鹿野町",{"$f":"IF(DB253=\"☑\",TRUE)","v":false},{"$f":"DC253","v":"小鹿野町"},"",null,null,null,null,null,null,null,null,null,{"$f":"IF(#REF!=\"☑\",TRUE)","v":{"$error":"#REF!"}},{"$f":"IF(DP253,#REF!,\"\")","v":{"$error":"#REF!"}}]
[null,null,null,null,null,null,null,null,null,null,null,null,null,null,null,null,null,null,"□","その他（買物）",false,"","□","クリーニング",false,{"$f":"IF(Y254,X254,\"\")","v":""},"□","個別移送サービス",false,"","□","ペット",false,"","□","その他（運動・たまり場）",false,"","□","その他（設備・施設・場所貸し）",false,"","□","ゲームセンター",false,"","□","理容・美容",false,"",null,"□","桜区",false,"さいたま市桜区","",null,null,null,null,null,"",null,"□","ふじみ野市",false,"ふじみ野市","",null,"□","吉川市",false,"吉川市","",null,null,null,null,null,"",null,"□","越生町",false,"越生町","",null,null,null,null,null,"",null,"□","幸手市",false,"幸手市","",null,"□","上里町",false,"上里町","",null,null,null,null,null,"",null,null,null,null,null,null,null,null,null,{"$f":"IF(#REF!=\"☑\",TRUE)","v":{"$error":"#REF!"}},{"$f":"IF(DP254,#REF!,\"\")","v":{"$error":"#REF!"}}]
[null,null,null,null,null,null,null,null,null,null,null,null,null,null,null,null,null,null,null,null,null,null,"□","その他（宅配・デリバリー）",false,{"$f":"IF(Y255,X255,\"\")","v":""},"□","交通機関サービス",false,"","□","その他（出張サービス）",false,"",null,null,null,null,null,null,null,null,"□","旅行・レジャー",false,"","□","成年後見・相続",false,"",null,"□","浦和区",false,"さいたま市浦和区","",null,null,null,null,null,"",null,"□","三芳町",false,"三芳町","",null,"□","松伏町",false,"松伏町","",null,null,null,null,null,"",null,"□","滑川町",false,"滑川町","",null,null,null,null,null,"",null,"□","白岡市",false,"白岡市","",null,"□","寄居町",false,"寄居町","",null,null,null,null,null,""]
[null,null,null,null,null,null,null,null,null,null,null,null,null,null,null,null,null,null,null,null,null,null,null,null,null,null,"□","その他（送迎・移動支援）",false,"",null,null,null,"",null,null,null,{"$f":"IF(AK256,AJ256,\"\")","v":""},null,null,null,{"$f":"IF(AO256,AN256,\"\")","v":""},"□","パソコン・スマホ教室",false,"","□","その他（生活サービス）",false,"",null,"□","南区",false,"さいたま市南区","",null,null,null,null,null,"",null,null,null,null,null,"",null,null,null,null,null,"",null,null,null,null,null,"",null,"□","嵐山町",false,"嵐山町","",null,null,null,null,null,"",null,"□","宮代町",false,"宮代町","",null,null,null,null,null,"",null,null,null,null,null,""]
[null,null,null,null,null,null,null,null,null,null,null,null,null,null,null,null,null,null,null,null,null,null,null,null,null,null,null,null,null,null,null,null,null,null,null,null,null,null,null,null,null,null,"□","その他（学び・趣味）",false,"",null,null,null,null,null,"□","緑区",false,"さいたま市緑区","",null,null,null,null,null,"",null,null,null,null,null,"",null,null,null,null,null,"",null,null,null,null,null,"",null,"□","小川町",false,"小川町","",null,null,null,null,null,"",null,"□","杉戸町",false,"杉戸町","",null,null,null,null,null,"",null,null,null,null,null,""]
[null,null,null,null,null,null,null,null,null,null,null,null,null,null,null,null,null,null,null,null,null,null,null,null,null,null,null,null,null,null,null,null,null,null,null,null,null,null,null,null,null,null,null,null,null,null,null,null,null,null,null,"□","岩槻区",{"$f":"IF(AZ258=\"☑\",TRUE)","v":false},"さいたま市岩槻区","",null,null,null,null,null,"",null,null,null,null,null,"",null,null,null,null,null,"",null,null,null,null,null,"",null,"□","川島町",false,"川島町","",null,null,null,null,null,"",null,null,null,null,null,"",null,null,null,null,null,"",null,null,null,null,null,""]
[null,null,null,null,null,null,null,null,null,null,null,null,null,null,null,null,null,null,null,null,null,null,null,null,null,null,null,null,null,null,null,null,null,null,null,null,null,null,null,null,null,null,null,null,null,null,null,null,null,null,null,null,null,null,null,null,null,null,null,null,null,null,null,null,null,null,null,null,null,null,null,null,null,null,null,null,null,null,null,null,null,"□","吉見町",false,"吉見町","",null,null,null,null,null,"",null,null,null,null,null,"",null,null,null,null,null,"",null,null,null,null,null,""]
[null,null,null,null,null,null,null,null,null,null,null,null,null,null,null,null,null,null,null,null,null,null,null,null,null,null,null,null,null,null,null,null,null,null,null,null,null,null,null,null,null,null,null,null,null,null,null,null,null,null,null,null,null,null,null,null,null,null,null,null,null,null,null,null,null,null,null,null,null,null,null,null,null,null,null,null,null,null,null,null,null,"□","鳩山町",false,"鳩山町","",null,null,null,null,null,"",null,null,null,null,null,"",null,null,null,null,null,"",null,null,null,null,null,""]
[null,null,null,null,null,null,null,null,null,null,null,null,null,null,null,null,null,null,null,null,null,null,null,null,null,null,null,null,null,null,null,null,null,null,null,null,null,null,null,null,null,null,null,null,null,null,null,null,null,null,null,null,null,null,null,null,null,null,null,null,null,null,null,null,null,null,null,null,null,null,null,null,null,null,null,null,null,null,null,null,null,"□","ときがわ町",false,"ときがわ町","",null,null,null,null,null,"",null,null,null,null,null,"",null,null,null,null,null,"",null,null,null,null,null,""]
[null,null,null,null,null,null,null,null,null,null,null,null,null,null,null,null,null,null,null,null,null,null,null,null,null,null,null,null,null,null,null,null,null,null,null,null,null,null,null,null,null,null,null,null,null,null,null,null,null,null,null,null,null,null,null,null,null,null,null,null,null,null,null,null,null,null,null,null,null,null,null,null,null,null,null,null,null,null,null,null,null,"□","東秩父村",false,"東秩父村","",null,null,null,null,null,"",null,null,null,null,null,"",null,null,null,null,null,"",null,null,null,null,null,""]
[18,null,null,null,null,null,null,null,null,null,null,null,null,null,null,null,null,null,"□","配送",{"$f":"IF(S263=\"☑\",TRUE)","v":false},{"$f":"IF(U263,T263,\"\")","v":""},"□","弁当配達",{"$f":"IF(W263=\"☑\",TRUE)","v":false},{"$f":"IF(Y263,X263,\"\")","v":""},"□","理容・美容（送迎）",{"$f":"IF(AA263=\"☑\",TRUE)","v":false},{"$f":"IF(AC263,AB263,\"\")","v":""},"□","家事代行・掃除・片付け",{"$f":"IF(AE263=\"☑\",TRUE)","v":false},{"$f":"IF(AG263,AF263,\"\")","v":""},"□","フィットネス・ジム（運動）",{"$f":"IF(AI263=\"☑\",TRUE)","v":false},{"$f":"IF(AK263,AJ263,\"\")","v":""},"□","車イス対応（バリアフリー）",{"$f":"IF(AM263=\"☑\",TRUE)","v":false},{"$f":"IF(AO263,AN263,\"\")","v":""},"□","講座・教室・イベント",{"$f":"IF(AQ263=\"☑\",TRUE)","v":false},{"$f":"IF(AS263,AR263,\"\")","v":""},"□","防犯・見守り",{"$f":"IF(AU263=\"☑\",TRUE)","v":false},{"$f":"IF(AW263,AV263,\"\")","v":""},{"$f":"_xlfn.TEXTJOIN(\"／\",TRUE,V263:V276,Z263:Z276,AD263:AD276,AH263:AH276,AL263:AL276,AP263:AP276,AT263:AT276,AX263:AX276)","v":""},"□","西区",{"$f":"IF(AZ263=\"☑\",TRUE)","v":false},{"$f":"\"さいたま市\"&BA263","v":"さいたま市西区"},{"$f":"IF(BB263,BC263,\"\")","v":""},{"$f":"_xlfn.TEXTJOIN(\"／\",TRUE,BD263:BD276)","v":""},"□","川口市",{"$f":"IF(BF263=\"☑\",TRUE)","v":false},{"$f":"BG263","v":"川口市"},{"$f":"IF(BH263,BI263,\"\")","v":""},{"$f":"_xludf.TEXTJOIN(\",\",TRUE,BJ263:BJ276)","v":""},"□","朝霞市",{"$f":"IF(BL263=\"☑\",TRUE)","v":false},{"$f":"BM263","v":"朝霞市"},{"$f":"IF(BN263,BO263,\"\")","v":""},{"$f":"_xlfn.TEXTJOIN(\"／\",TRUE,BP263:BP276)","v":""},"□","春日部市",{"$f":"IF(BR263=\"☑\",TRUE)","v":false},{"$f":"BS263","v":"春日部市"},{"$f":"IF(BT263,BU263,\"\")","v":""},{"$f":"_xlfn.TEXTJOIN(\"／\",TRUE,BV263:BV276)","v":""},"□","鴻巣市",{"$f":"IF(BX263=\"☑\",TRUE)","v":false},{"$f":"BY263","v":"鴻巣市"},{"$f":"IF(BZ263,CA263,\"\")","v":""},{"$f":"_xlfn.TEXTJOIN(\"／\",TRUE,CB263:CB276)","v":""},"□","川越市",{"$f":"IF(CD263=\"☑\",TRUE)","v":false},"川越市",{"$f":"IF(CF263,CG263,\"\")","v":""},{"$f":"_xlfn.TEXTJOIN(\"／\",TRUE,CH263:CH276)","v":""},"□","所沢市",{"$f":"IF(CJ263=\"☑\",TRUE)","v":false},{"$f":"CK263","v":"所沢市"},{"$f":"IF(CL263,CM263,\"\")","v":""},{"$f":"_xlfn.TEXTJOIN(\"／\",TRUE,CN263:CN276)","v":""},"□","行田市",{"$f":"IF(CP263=\"☑\",TRUE)","v":false},{"$f":"CQ263","v":"行田市"},{"$f":"IF(CR263,CS263,\"\")","v":""},{"$f":"_xludf.TEXTJOIN(\",\",TRUE,CT263:CT276)","v":""},"□","熊谷市",{"$f":"IF(CV263=\"☑\",TRUE)","v":false},{"$f":"CW263","v":"熊谷市"},{"$f":"IF(CX263,CY263,\"\")","v":""},{"$f":"_xlfn.TEXTJOIN(\"／\",TRUE,CZ263:CZ276)","v":""},"□","秩父市",{"$f":"IF(DB263=\"☑\",TRUE)","v":false},{"$f":"DC263","v":"秩父市"},{"$f":"IF(DD263,DE263,\"\")","v":""},{"$f":"_xlfn.TEXTJOIN(\"／\",TRUE,DF263:DF276)","v":""},{"$f":"_xlfn.TEXTJOIN(\"／\",TRUE,BE263,BK263,BQ263,BW263,CC263,CI263,CO263,CU263,DA263,DG263)","v":""},null,null,null,null,null,null,null,{"$f":"IF(#REF!=\"☑\",TRUE)","v":{"$error":"#REF!"}},{"$f":"IF(DP263,#REF!,\"\")","v":{"$error":"#REF!"}},{"$f":"_xludf.TEXTJOIN(\",\",TRUE,DQ263:DQ276)","v":{"$error":"#VALUE!"}}]
[null,null,null,null,null,null,null,null,null,null,null,null,null,null,null,null,null,null,"□","買物サポート",false,"","□","料理デリバリー（出前）",false,"","□","フィットネス・ジム（送迎）",{"$f":"IF(AA264=\"☑\",TRUE)","v":false},{"$f":"IF(AC264,AB264,\"\")","v":""},"□","出張料理",{"$f":"IF(AE264=\"☑\",TRUE)","v":false},{"$f":"IF(AG264,AF264,\"\")","v":""},"□","温泉・銭湯（たまり場）",false,"","□","多目的トイレ",false,"","□","習い事",{"$f":"IF(AQ264=\"☑\",TRUE)","v":false},{"$f":"IF(AS264,AR264,\"\")","v":""},"□","金融・保険",false,"",null,"□","北区",{"$f":"IF(AZ264=\"☑\",TRUE)","v":false},"さいたま市北区",{"$f":"IF(BB264,BC264,\"\")","v":""},null,"□","蕨市",{"$f":"IF(BF264=\"☑\",TRUE)","v":false},{"$f":"BG264","v":"蕨市"},{"$f":"IF(BH264,BI264,\"\")","v":""},null,"□","志木市",{"$f":"IF(BL264=\"☑\",TRUE)","v":false},"志木市",{"$f":"IF(BN264,BO264,\"\")","v":""},null,"□","草加市",{"$f":"IF(BR264=\"☑\",TRUE)","v":false},"草加市","",null,"□","上尾市",{"$f":"IF(BX264=\"☑\",TRUE)","v":false},{"$f":"BY264","v":"上尾市"},{"$f":"IF(BZ264,CA264,\"\")","v":""},null,"□","東松山市",{"$f":"IF(CD264=\"☑\",TRUE)","v":false},"東松山市",{"$f":"IF(CF264,CG264,\"\")","v":""},null,"□","飯能市",{"$f":"IF(CJ264=\"☑\",TRUE)","v":false},{"$f":"CK264","v":"飯能市"},{"$f":"IF(CL264,CM264,\"\")","v":""},null,"□","加須市",{"$f":"IF(CP264=\"☑\",TRUE)","v":false},"加須市",{"$f":"IF(CR264,CS264,\"\")","v":""},null,"□","本庄市",{"$f":"IF(CV264=\"☑\",TRUE)","v":false},"本庄市",{"$f":"IF(CX264,CY264,\"\")","v":""},null,"□","横瀬町",{"$f":"IF(DB264=\"☑\",TRUE)","v":false},{"$f":"DC264","v":"横瀬町"},{"$f":"IF(DD264,DE264,\"\")","v":""},null,null,null,null,null,null,null,null,null,null,{"$f":"IF(DP264,#REF!,\"\")","v":""}]
[null,null,null,null,null,null,null,null,null,null,null,null,null,null,null,null,null,null,"□","買物代行",false,"","□","食材宅配",false,"","□","温泉・銭湯（送迎）",false,"","□","屋外作業・力仕事",false,"","□","カフェ・ファーストフード",false,"","□","休憩スペース",false,"","□","映画館",false,"","□","住宅・リフォーム",false,"",null,"□","大宮区",false,"さいたま市大宮区","",null,"□","戸田市",{"$f":"IF(BF265=\"☑\",TRUE)","v":false},{"$f":"BG265","v":"戸田市"},"",null,"□","和光市",false,"和光市","",null,"□","越谷市",false,"越谷市","",null,"□","桶川市",{"$f":"IF(BX265=\"☑\",TRUE)","v":false},{"$f":"BY265","v":"桶川市"},"",null,"□","坂戸市",false,"坂戸市","",null,"□","狭山市",{"$f":"IF(CJ265=\"☑\",TRUE)","v":false},{"$f":"CK265","v":"狭山市"},"",null,"□","羽生市",false,"羽生市","",null,"□","深谷市",false,"深谷市","",null,"□","皆野町",{"$f":"IF(DB265=\"☑\",TRUE)","v":false},{"$f":"DC265","v":"皆野町"},"",null,null,null,null,null,null,null,null,null,{"$f":"IF(#REF!=\"☑\",TRUE)","v":{"$error":"#REF!"}},{"$f":"IF(DP265,#REF!,\"\")","v":{"$error":"#REF!"}}]
[null,null,null,null,null,null,null,null,null,null,null,null,null,null,null,null,null,null,"□","移動販売",false,"","□","日用品配達",false,"","□","整体・マッサージ（送迎）",false,"","□","整体・マッサージ（出張）",false,"","□","飲食店",false,"","□","駐車場",false,"","□","カラオケ店",false,"","□","パソコン・スマートフォン",false,"",null,"□","見沼区",false,"さいたま市見沼区","",null,null,null,null,null,"",null,"□","新座市",false,"新座市","",null,"□","八潮市",false,"八潮市","",null,"□","北本市",{"$f":"IF(BX266=\"☑\",TRUE)","v":false},{"$f":"BY266","v":"北本市"},"",null,"□","鶴ヶ島市",false,"鶴ヶ島市","",null,"□","入間市",{"$f":"IF(CJ266=\"☑\",TRUE)","v":false},{"$f":"CK266","v":"入間市"},"",null,"□","久喜市",false,"久喜市","",null,"□","美里町",false,"美里町","",null,"□","長瀞町",{"$f":"IF(DB266=\"☑\",TRUE)","v":false},{"$f":"DC266","v":"長瀞町"},""]
[null,null,null,null,null,null,null,null,null,null,null,null,null,null,null,null,null,null,"□","割引サービス",false,"","□","薬・介護用品配達",false,"","□","乗り合いサービス",false,"","□","理容・美容（出張）",false,"","□","イートインスペース",false,"","□","貸しスペース",false,"","□","麻雀・将棋・囲碁",false,"","□","認知症サポート企業",false,"",null,"□","中央区",false,"さいたま市中央区","",null,null,null,null,null,"",null,"□","富士見市",false,"富士見市","",null,"□","三郷市",false,"三郷市","",null,"□","伊奈町",{"$f":"IF(BX267=\"☑\",TRUE)","v":false},{"$f":"BY267","v":"伊奈町"},"",null,"□","毛呂山町",false,{"$f":"CE267","v":"毛呂山町"},"",null,"□","日高市",{"$f":"IF(CJ267=\"☑\",TRUE)","v":false},{"$f":"CK267","v":"日高市"},"",null,"□","蓮田市",false,"蓮田市","",null,"□","神川町",false,"神川町","",null,"□","小鹿野町",{"$f":"IF(DB267=\"☑\",TRUE)","v":false},{"$f":"DC267","v":"小鹿野町"},"",null,null,null,null,null,null,null,null,null,{"$f":"IF(#REF!=\"☑\",TRUE)","v":{"$error":"#REF!"}},{"$f":"IF(DP267,#REF!,\"\")","v":{"$error":"#REF!"}}]
[null,null,null,null,null,null,null,null,null,null,null,null,null,null,null,null,null,null,"□","その他（買物）",false,"","□","クリーニング",false,{"$f":"IF(Y268,X268,\"\")","v":""},"□","個別移送サービス",false,"","□","ペット",false,"","□","その他（運動・たまり場）",false,"","□","その他（設備・施設・場所貸し）",false,"","□","ゲームセンター",false,"","□","理容・美容",false,"",null,"□","桜区",false,"さいたま市桜区","",null,null,null,null,null,"",null,"□","ふじみ野市",false,"ふじみ野市","",null,"□","吉川市",false,"吉川市","",null,null,null,null,null,"",null,"□","越生町",false,"越生町","",null,null,null,null,null,"",null,"□","幸手市",false,"幸手市","",null,"□","上里町",false,"上里町","",null,null,null,null,null,"",null,null,null,null,null,null,null,null,null,{"$f":"IF(#REF!=\"☑\",TRUE)","v":{"$error":"#REF!"}},{"$f":"IF(DP268,#REF!,\"\")","v":{"$error":"#REF!"}}]
[null,null,null,null,null,null,null,null,null,null,null,null,null,null,null,null,null,null,null,null,null,null,"□","その他（宅配・デリバリー）",false,{"$f":"IF(Y269,X269,\"\")","v":""},"□","交通機関サービス",false,"","□","その他（出張サービス）",false,"",null,null,null,null,null,null,null,null,"□","旅行・レジャー",false,"","□","成年後見・相続",false,"",null,"□","浦和区",false,"さいたま市浦和区","",null,null,null,null,null,"",null,"□","三芳町",false,"三芳町","",null,"□","松伏町",false,"松伏町","",null,null,null,null,null,"",null,"□","滑川町",false,"滑川町","",null,null,null,null,null,"",null,"□","白岡市",false,"白岡市","",null,"□","寄居町",false,"寄居町","",null,null,null,null,null,""]
[null,null,null,null,null,null,null,null,null,null,null,null,null,null,null,null,null,null,null,null,null,null,null,null,null,null,"□","その他（送迎・移動支援）",false,"",null,null,null,"",null,null,null,{"$f":"IF(AK270,AJ270,\"\")","v":""},null,null,null,{"$f":"IF(AO270,AN270,\"\")","v":""},"□","パソコン・スマホ教室",false,"","□","その他（生活サービス）",false,"",null,"□","南区",false,"さいたま市南区","",null,null,null,null,null,"",null,null,null,null,null,"",null,null,null,null,null,"",null,null,null,null,null,"",null,"□","嵐山町",false,"嵐山町","",null,null,null,null,null,"",null,"□","宮代町",false,"宮代町","",null,null,null,null,null,"",null,null,null,null,null,""]
[null,null,null,null,null,null,null,null,null,null,null,null,null,null,null,null,null,null,null,null,null,null,null,null,null,null,null,null,null,null,null,null,null,null,null,null,null,null,null,null,null,null,"□","その他（学び・趣味）",false,"",null,null,null,null,null,"□","緑区",false,"さいたま市緑区","",null,null,null,null,null,"",null,null,null,null,null,"",null,null,null,null,null,"",null,null,null,null,null,"",null,"□","小川町",false,"小川町","",null,null,null,null,null,"",null,"□","杉戸町",false,"杉戸町","",null,null,null,null,null,"",null,null,null,null,null,""]
[null,null,null,null,null,null,null,null,null,null,null,null,null,null,null,null,null,null,null,null,null,null,null,null,null,null,null,null,null,null,null,null,null,null,null,null,null,null,null,null,null,null,null,null,null,null,null,null,null,null,null,"□","岩槻区",{"$f":"IF(AZ272=\"☑\",TRUE)","v":false},"さいたま市岩槻区","",null,null,null,null,null,"",null,null,null,null,null,"",null,null,null,null,null,"",null,null,null,null,null,"",null,"□","川島町",false,"川島町","",null,null,null,null,null,"",null,null,null,null,null,"",null,null,null,null,null,"",null,null,null,null,null,""]
[null,null,null,null,null,null,null,null,null,null,null,null,null,null,null,null,null,null,null,null,null,null,null,null,null,null,null,null,null,null,null,null,null,null,null,null,null,null,null,null,null,null,null,null,null,null,null,null,null,null,null,null,null,null,null,null,null,null,null,null,null,null,null,null,null,null,null,null,null,null,null,null,null,null,null,null,null,null,null,null,null,"□","吉見町",false,"吉見町","",null,null,null,null,null,"",null,null,null,null,null,"",null,null,null,null,null,"",null,null,null,null,null,""]
[null,null,null,null,null,null,null,null,null,null,null,null,null,null,null,null,null,null,null,null,null,null,null,null,null,null,null,null,null,null,null,null,null,null,null,null,null,null,null,null,null,null,null,null,null,null,null,null,null,null,null,null,null,null,null,null,null,null,null,null,null,null,null,null,null,null,null,null,null,null,null,null,null,null,null,null,null,null,null,null,null,"□","鳩山町",false,"鳩山町","",null,null,null,null,null,"",null,null,null,null,null,"",null,null,null,null,null,"",null,null,null,null,null,""]
[null,null,null,null,null,null,null,null,null,null,null,null,null,null,null,null,null,null,null,null,null,null,null,null,null,null,null,null,null,null,null,null,null,null,null,null,null,null,null,null,null,null,null,null,null,null,null,null,null,null,null,null,null,null,null,null,null,null,null,null,null,null,null,null,null,null,null,null,null,null,null,null,null,null,null,null,null,null,null,null,null,"□","ときがわ町",false,"ときがわ町","",null,null,null,null,null,"",null,null,null,null,null,"",null,null,null,null,null,"",null,null,null,null,null,""]
[null,null,null,null,null,null,null,null,null,null,null,null,null,null,null,null,null,null,null,null,null,null,null,null,null,null,null,null,null,null,null,null,null,null,null,null,null,null,null,null,null,null,null,null,null,null,null,null,null,null,null,null,null,null,null,null,null,null,null,null,null,null,null,null,null,null,null,null,null,null,null,null,null,null,null,null,null,null,null,null,null,"□","東秩父村",false,"東秩父村","",null,null,null,null,null,"",null,null,null,null,null,"",null,null,null,null,null,"",null,null,null,null,null,""]
[19,null,null,null,null,null,null,null,null,null,null,null,null,null,null,null,null,null,"□","配送",{"$f":"IF(S277=\"☑\",TRUE)","v":false},{"$f":"IF(U277,T277,\"\")","v":""},"□","弁当配達",{"$f":"IF(W277=\"☑\",TRUE)","v":false},{"$f":"IF(Y277,X277,\"\")","v":""},"□","理容・美容（送迎）",{"$f":"IF(AA277=\"☑\",TRUE)","v":false},{"$f":"IF(AC277,AB277,\"\")","v":""},"□","家事代行・掃除・片付け",{"$f":"IF(AE277=\"☑\",TRUE)","v":false},{"$f":"IF(AG277,AF277,\"\")","v":""},"□","フィットネス・ジム（運動）",{"$f":"IF(AI277=\"☑\",TRUE)","v":false},{"$f":"IF(AK277,AJ277,\"\")","v":""},"□","車イス対応（バリアフリー）",{"$f":"IF(AM277=\"☑\",TRUE)","v":false},{"$f":"IF(AO277,AN277,\"\")","v":""},"□","講座・教室・イベント",{"$f":"IF(AQ277=\"☑\",TRUE)","v":false},{"$f":"IF(AS277,AR277,\"\")","v":""},"□","防犯・見守り",{"$f":"IF(AU277=\"☑\",TRUE)","v":false},{"$f":"IF(AW277,AV277,\"\")","v":""},{"$f":"_xlfn.TEXTJOIN(\"／\",TRUE,V277:V290,Z277:Z290,AD277:AD290,AH277:AH290,AL277:AL290,AP277:AP290,AT277:AT290,AX277:AX290)","v":""},"□","西区",{"$f":"IF(AZ277=\"☑\",TRUE)","v":false},{"$f":"\"さいたま市\"&BA277","v":"さいたま市西区"},{"$f":"IF(BB277,BC277,\"\")","v":""},{"$f":"_xlfn.TEXTJOIN(\"／\",TRUE,BD277:BD290)","v":""},"□","川口市",{"$f":"IF(BF277=\"☑\",TRUE)","v":false},{"$f":"BG277","v":"川口市"},{"$f":"IF(BH277,BI277,\"\")","v":""},{"$f":"_xludf.TEXTJOIN(\",\",TRUE,BJ277:BJ290)","v":""},"□","朝霞市",{"$f":"IF(BL277=\"☑\",TRUE)","v":false},{"$f":"BM277","v":"朝霞市"},{"$f":"IF(BN277,BO277,\"\")","v":""},{"$f":"_xlfn.TEXTJOIN(\"／\",TRUE,BP277:BP290)","v":""},"□","春日部市",{"$f":"IF(BR277=\"☑\",TRUE)","v":false},{"$f":"BS277","v":"春日部市"},{"$f":"IF(BT277,BU277,\"\")","v":""},{"$f":"_xlfn.TEXTJOIN(\"／\",TRUE,BV277:BV290)","v":""},"□","鴻巣市",{"$f":"IF(BX277=\"☑\",TRUE)","v":false},{"$f":"BY277","v":"鴻巣市"},{"$f":"IF(BZ277,CA277,\"\")","v":""},{"$f":"_xlfn.TEXTJOIN(\"／\",TRUE,CB277:CB290)","v":""},"□","川越市",{"$f":"IF(CD277=\"☑\",TRUE)","v":false},"川越市",{"$f":"IF(CF277,CG277,\"\")","v":""},{"$f":"_xlfn.TEXTJOIN(\"／\",TRUE,CH277:CH290)","v":""},"□","所沢市",{"$f":"IF(CJ277=\"☑\",TRUE)","v":false},{"$f":"CK277","v":"所沢市"},{"$f":"IF(CL277,CM277,\"\")","v":""},{"$f":"_xlfn.TEXTJOIN(\"／\",TRUE,CN277:CN290)","v":""},"□","行田市",{"$f":"IF(CP277=\"☑\",TRUE)","v":false},{"$f":"CQ277","v":"行田市"},{"$f":"IF(CR277,CS277,\"\")","v":""},{"$f":"_xludf.TEXTJOIN(\",\",TRUE,CT277:CT290)","v":""},"□","熊谷市",{"$f":"IF(CV277=\"☑\",TRUE)","v":false},{"$f":"CW277","v":"熊谷市"},{"$f":"IF(CX277,CY277,\"\")","v":""},{"$f":"_xlfn.TEXTJOIN(\"／\",TRUE,CZ277:CZ290)","v":""},"□","秩父市",{"$f":"IF(DB277=\"☑\",TRUE)","v":false},{"$f":"DC277","v":"秩父市"},{"$f":"IF(DD277,DE277,\"\")","v":""},{"$f":"_xlfn.TEXTJOIN(\"／\",TRUE,DF277:DF290)","v":""},{"$f":"_xlfn.TEXTJOIN(\"／\",TRUE,BE277,BK277,BQ277,BW277,CC277,CI277,CO277,CU277,DA277,DG277)","v":""},null,null,null,null,null,null,null,{"$f":"IF(#REF!=\"☑\",TRUE)","v":{"$error":"#REF!"}},{"$f":"IF(DP277,#REF!,\"\")","v":{"$error":"#REF!"}},{"$f":"_xludf.TEXTJOIN(\",\",TRUE,DQ277:DQ290)","v":{"$error":"#VALUE!"}}]
[null,null,null,null,null,null,null,null,null,null,null,null,null,null,null,null,null,null,"□","買物サポート",false,"","□","料理デリバリー（出前）",false,"","□","フィットネス・ジム（送迎）",{"$f":"IF(AA278=\"☑\",TRUE)","v":false},{"$f":"IF(AC278,AB278,\"\")","v":""},"□","出張料理",{"$f":"IF(AE278=\"☑\",TRUE)","v":false},{"$f":"IF(AG278,AF278,\"\")","v":""},"□","温泉・銭湯（たまり場）",false,"","□","多目的トイレ",false,"","□","習い事",{"$f":"IF(AQ278=\"☑\",TRUE)","v":false},{"$f":"IF(AS278,AR278,\"\")","v":""},"□","金融・保険",false,"",null,"□","北区",{"$f":"IF(AZ278=\"☑\",TRUE)","v":false},"さいたま市北区",{"$f":"IF(BB278,BC278,\"\")","v":""},null,"□","蕨市",{"$f":"IF(BF278=\"☑\",TRUE)","v":false},{"$f":"BG278","v":"蕨市"},{"$f":"IF(BH278,BI278,\"\")","v":""},null,"□","志木市",{"$f":"IF(BL278=\"☑\",TRUE)","v":false},"志木市",{"$f":"IF(BN278,BO278,\"\")","v":""},null,"□","草加市",{"$f":"IF(BR278=\"☑\",TRUE)","v":false},"草加市","",null,"□","上尾市",{"$f":"IF(BX278=\"☑\",TRUE)","v":false},{"$f":"BY278","v":"上尾市"},{"$f":"IF(BZ278,CA278,\"\")","v":""},null,"□","東松山市",{"$f":"IF(CD278=\"☑\",TRUE)","v":false},"東松山市",{"$f":"IF(CF278,CG278,\"\")","v":""},null,"□","飯能市",{"$f":"IF(CJ278=\"☑\",TRUE)","v":false},{"$f":"CK278","v":"飯能市"},{"$f":"IF(CL278,CM278,\"\")","v":""},null,"□","加須市",{"$f":"IF(CP278=\"☑\",TRUE)","v":false},"加須市",{"$f":"IF(CR278,CS278,\"\")","v":""},null,"□","本庄市",{"$f":"IF(CV278=\"☑\",TRUE)","v":false},"本庄市",{"$f":"IF(CX278,CY278,\"\")","v":""},null,"□","横瀬町",{"$f":"IF(DB278=\"☑\",TRUE)","v":false},{"$f":"DC278","v":"横瀬町"},{"$f":"IF(DD278,DE278,\"\")","v":""},null,null,null,null,null,null,null,null,null,null,{"$f":"IF(DP278,#REF!,\"\")","v":""}]
[null,null,null,null,null,null,null,null,null,null,null,null,null,null,null,null,null,null,"□","買物代行",false,"","□","食材宅配",false,"","□","温泉・銭湯（送迎）",false,"","□","屋外作業・力仕事",false,"","□","カフェ・ファーストフード",false,"","□","休憩スペース",false,"","□","映画館",false,"","□","住宅・リフォーム",false,"",null,"□","大宮区",false,"さいたま市大宮区","",null,"□","戸田市",{"$f":"IF(BF279=\"☑\",TRUE)","v":false},{"$f":"BG279","v":"戸田市"},"",null,"□","和光市",false,"和光市","",null,"□","越谷市",false,"越谷市","",null,"□","桶川市",{"$f":"IF(BX279=\"☑\",TRUE)","v":false},{"$f":"BY279","v":"桶川市"},"",null,"□","坂戸市",false,"坂戸市","",null,"□","狭山市",{"$f":"IF(CJ279=\"☑\",TRUE)","v":false},{"$f":"CK279","v":"狭山市"},"",null,"□","羽生市",false,"羽生市","",null,"□","深谷市",false,"深谷市","",null,"□","皆野町",{"$f":"IF(DB279=\"☑\",TRUE)","v":false},{"$f":"DC279","v":"皆野町"},"",null,null,null,null,null,null,null,null,null,{"$f":"IF(#REF!=\"☑\",TRUE)","v":{"$error":"#REF!"}},{"$f":"IF(DP279,#REF!,\"\")","v":{"$error":"#REF!"}}]
[null,null,null,null,null,null,null,null,null,null,null,null,null,null,null,null,null,null,"□","移動販売",false,"","□","日用品配達",false,"","□","整体・マッサージ（送迎）",false,"","□","整体・マッサージ（出張）",false,"","□","飲食店",false,"","□","駐車場",false,"","□","カラオケ店",false,"","□","パソコン・スマートフォン",false,"",null,"□","見沼区",false,"さいたま市見沼区","",null,null,null,null,null,"",null,"□","新座市",false,"新座市","",null,"□","八潮市",false,"八潮市","",null,"□","北本市",{"$f":"IF(BX280=\"☑\",TRUE)","v":false},{"$f":"BY280","v":"北本市"},"",null,"□","鶴ヶ島市",false,"鶴ヶ島市","",null,"□","入間市",{"$f":"IF(CJ280=\"☑\",TRUE)","v":false},{"$f":"CK280","v":"入間市"},"",null,"□","久喜市",false,"久喜市","",null,"□","美里町",false,"美里町","",null,"□","長瀞町",{"$f":"IF(DB280=\"☑\",TRUE)","v":false},{"$f":"DC280","v":"長瀞町"},""]
[null,null,null,null,null,null,null,null,null,null,null,null,null,null,null,null,null,null,"□","割引サービス",false,"","□","薬・介護用品配達",false,"","□","乗り合いサービス",false,"","□","理容・美容（出張）",false,"","□","イートインスペース",false,"","□","貸しスペース",false,"","□","麻雀・将棋・囲碁",false,"","□","認知症サポート企業",false,"",null,"□","中央区",false,"さいたま市中央区","",null,null,null,null,null,"",null,"□","富士見市",false,"富士見市","",null,"□","三郷市",false,"三郷市","",null,"□","伊奈町",{"$f":"IF(BX281=\"☑\",TRUE)","v":false},{"$f":"BY281","v":"伊奈町"},"",null,"□","毛呂山町",false,"毛呂山町","",null,"□","日高市",{"$f":"IF(CJ281=\"☑\",TRUE)","v":false},{"$f":"CK281","v":"日高市"},"",null,"□","蓮田市",false,"蓮田市","",null,"□","神川町",false,"神川町","",null,"□","小鹿野町",{"$f":"IF(DB281=\"☑\",TRUE)","v":false},{"$f":"DC281","v":"小鹿野町"},"",null,null,null,null,null,null,null,null,null,{"$f":"IF(#REF!=\"☑\",TRUE)","v":{"$error":"#REF!"}},{"$f":"IF(DP281,#REF!,\"\")","v":{"$error":"#REF!"}}]
[null,null,null,null,null,null,null,null,null,null,null,null,null,null,null,null,null,null,"□","その他（買物）",false,"","□","クリーニング",false,{"$f":"IF(Y282,X282,\"\")","v":""},"□","個別移送サービス",false,"","□","ペット",false,"","□","その他（運動・たまり場）",false,"","□","その他（設備・施設・場所貸し）",false,"","□","ゲームセンター",false,"","□","理容・美容",false,"",null,"□","桜区",false,"さいたま市桜区","",null,null,null,null,null,"",null,"□","ふじみ野市",false,"ふじみ野市","",null,"□","吉川市",false,"吉川市","",null,null,null,null,null,"",null,"□","越生町",false,"越生町","",null,null,null,null,null,"",null,"□","幸手市",false,"幸手市","",null,"□","上里町",false,"上里町","",null,null,null,null,null,"",null,null,null,null,null,null,null,null,null,{"$f":"IF(#REF!=\"☑\",TRUE)","v":{"$error":"#REF!"}},{"$f":"IF(DP282,#REF!,\"\")","v":{"$error":"#REF!"}}]
[null,null,null,null,null,null,null,null,null,null,null,null,null,null,null,null,null,null,null,null,null,null,"□","その他（宅配・デリバリー）",false,{"$f":"IF(Y283,X283,\"\")","v":""},"□","交通機関サービス",false,"","□","その他（出張サービス）",false,"",null,null,null,null,null,null,null,null,"□","旅行・レジャー",false,"","□","成年後見・相続",false,"",null,"□","浦和区",false,"さいたま市浦和区","",null,null,null,null,null,"",null,"□","三芳町",false,"三芳町","",null,"□","松伏町",false,"松伏町","",null,null,null,null,null,"",null,"□","滑川町",false,"滑川町","",null,null,null,null,null,"",null,"□","白岡市",false,"白岡市","",null,"□","寄居町",false,"寄居町","",null,null,null,null,null,""]
[null,null,null,null,null,null,null,null,null,null,null,null,null,null,null,null,null,null,null,null,null,null,null,null,null,null,"□","その他（送迎・移動支援）",false,"",null,null,null,"",null,null,null,{"$f":"IF(AK284,AJ284,\"\")","v":""},null,null,null,{"$f":"IF(AO284,AN284,\"\")","v":""},"□","パソコン・スマホ教室",false,"","□","その他（生活サービス）",false,"",null,"□","南区",false,"さいたま市南区","",null,null,null,null,null,"",null,null,null,null,null,"",null,null,null,null,null,"",null,null,null,null,null,"",null,"□","嵐山町",false,"嵐山町","",null,null,null,null,null,"",null,"□","宮代町",false,"宮代町","",null,null,null,null,null,"",null,null,null,null,null,""]
[null,null,null,null,null,null,null,null,null,null,null,null,null,null,null,null,null,null,null,null,null,null,null,null,null,null,null,null,null,null,null,null,null,null,null,null,null,null,null,null,null,null,"□","その他（学び・趣味）",false,"",null,null,null,null,null,"□","緑区",false,"さいたま市緑区","",null,null,null,null,null,"",null,null,null,null,null,"",null,null,null,null,null,"",null,null,null,null,null,"",null,"□","小川町",false,"小川町","",null,null,null,null,null,"",null,"□","杉戸町",false,"杉戸町","",null,null,null,null,null,"",null,null,null,null,null,""]
[null,null,null,null,null,null,null,null,null,null,null,null,null,null,null,null,null,null,null,null,null,null,null,null,null,null,null,null,null,null,null,null,null,null,null,null,null,null,null,null,null,null,null,null,null,null,null,null,null,null,null,"□","岩槻区",{"$f":"IF(AZ286=\"☑\",TRUE)","v":false},"さいたま市岩槻区","",null,null,null,null,null,"",null,null,null,null,null,"",null,null,null,null,null,"",null,null,null,null,null,"",null,"□","川島町",false,"川島町","",null,null,null,null,null,"",null,null,null,null,null,"",null,null,null,null,null,"",null,null,null,null,null,""]
[null,null,null,null,null,null,null,null,null,null,null,null,null,null,null,null,null,null,null,null,null,null,null,null,null,null,null,null,null,null,null,null,null,null,null,null,null,null,null,null,null,null,null,null,null,null,null,null,null,null,null,null,null,null,null,null,null,null,null,null,null,null,null,null,null,null,null,null,null,null,null,null,null,null,null,null,null,null,null,null,null,"□","吉見町",false,"吉見町","",null,null,null,null,null,"",null,null,null,null,null,"",null,null,null,null,null,"",null,null,null,null,null,""]
[null,null,null,null,null,null,null,null,null,null,null,null,null,null,null,null,null,null,null,null,null,null,null,null,null,null,null,null,null,null,null,null,null,null,null,null,null,null,null,null,null,null,null,null,null,null,null,null,null,null,null,null,null,null,null,null,null,null,null,null,null,null,null,null,null,null,null,null,null,null,null,null,null,null,null,null,null,null,null,null,null,"□","鳩山町",false,"鳩山町","",null,null,null,null,null,"",null,null,null,null,null,"",null,null,null,null,null,"",null,null,null,null,null,""]
[null,null,null,null,null,null,null,null,null,null,null,null,null,null,null,null,null,null,null,null,null,null,null,null,null,null,null,null,null,null,null,null,null,null,null,null,null,null,null,null,null,null,null,null,null,null,null,null,null,null,null,null,null,null,null,null,null,null,null,null,null,null,null,null,null,null,null,null,null,null,null,null,null,null,null,null,null,null,null,null,null,"□","ときがわ町",false,"ときがわ町","",null,null,null,null,null,"",null,null,null,null,null,"",null,null,null,null,null,"",null,null,null,null,null,""]
[null,null,null,null,null,null,null,null,null,null,null,null,null,null,null,null,null,null,null,null,null,null,null,null,null,null,null,null,null,null,null,null,null,null,null,null,null,null,null,null,null,null,null,null,null,null,null,null,null,null,null,null,null,null,null,null,null,null,null,null,null,null,null,null,null,null,null,null,null,null,null,null,null,null,null,null,null,null,null,null,null,"□","東秩父村",false,"東秩父村","",null,null,null,null,null,"",null,null,null,null,null,"",null,null,null,null,null,"",null,null,null,null,null,""]
[20,null,null,null,null,null,null,null,null,null,null,null,null,null,null,null,null,null,"□","配送",{"$f":"IF(S291=\"☑\",TRUE)","v":false},{"$f":"IF(U291,T291,\"\")","v":""},"□","弁当配達",{"$f":"IF(W291=\"☑\",TRUE)","v":false},{"$f":"IF(Y291,X291,\"\")","v":""},"□","理容・美容（送迎）",{"$f":"IF(AA291=\"☑\",TRUE)","v":false},{"$f":"IF(AC291,AB291,\"\")","v":""},"□","家事代行・掃除・片付け",{"$f":"IF(AE291=\"☑\",TRUE)","v":false},{"$f":"IF(AG291,AF291,\"\")","v":""},"□","フィットネス・ジム（運動）",{"$f":"IF(AI291=\"☑\",TRUE)","v":false},{"$f":"IF(AK291,AJ291,\"\")","v":""},"□","車イス対応（バリアフリー）",{"$f":"IF(AM291=\"☑\",TRUE)","v":false},{"$f":"IF(AO291,AN291,\"\")","v":""},"□","講座・教室・イベント",{"$f":"IF(AQ291=\"☑\",TRUE)","v":false},{"$f":"IF(AS291,AR291,\"\")","v":""},"□","防犯・見守り",{"$f":"IF(AU291=\"☑\",TRUE)","v":false},{"$f":"IF(AW291,AV291,\"\")","v":""},{"$f":"_xlfn.TEXTJOIN(\"／\",TRUE,V291:V304,Z291:Z304,AD291:AD304,AH291:AH304,AL291:AL304,AP291:AP304,AT291:AT304,AX291:AX304)","v":""},"□","西区",{"$f":"IF(AZ291=\"☑\",TRUE)","v":false},{"$f":"\"さいたま市\"&BA291","v":"さいたま市西区"},{"$f":"IF(BB291,BC291,\"\")","v":""},{"$f":"_xlfn.TEXTJOIN(\"／\",TRUE,BD291:BD304)","v":""},"□","川口市",{"$f":"IF(BF291=\"☑\",TRUE)","v":false},{"$f":"BG291","v":"川口市"},{"$f":"IF(BH291,BI291,\"\")","v":""},{"$f":"_xludf.TEXTJOIN(\",\",TRUE,BJ291:BJ304)","v":""},"□","朝霞市",{"$f":"IF(BL291=\"☑\",TRUE)","v":false},{"$f":"BM291","v":"朝霞市"},{"$f":"IF(BN291,BO291,\"\")","v":""},{"$f":"_xlfn.TEXTJOIN(\"／\",TRUE,BP291:BP304)","v":""},"□","春日部市",{"$f":"IF(BR291=\"☑\",TRUE)","v":false},{"$f":"BS291","v":"春日部市"},{"$f":"IF(BT291,BU291,\"\")","v":""},{"$f":"_xlfn.TEXTJOIN(\"／\",TRUE,BV291:BV304)","v":""},"□","鴻巣市",{"$f":"IF(BX291=\"☑\",TRUE)","v":false},{"$f":"BY291","v":"鴻巣市"},{"$f":"IF(BZ291,CA291,\"\")","v":""},{"$f":"_xlfn.TEXTJOIN(\"／\",TRUE,CB291:CB304)","v":""},"□","川越市",{"$f":"IF(CD291=\"☑\",TRUE)","v":false},"川越市",{"$f":"IF(CF291,CG291,\"\")","v":""},{"$f":"_xlfn.TEXTJOIN(\"／\",TRUE,CH291:CH304)","v":""},"□","所沢市",{"$f":"IF(CJ291=\"☑\",TRUE)","v":false},{"$f":"CK291","v":"所沢市"},{"$f":"IF(CL291,CM291,\"\")","v":""},{"$f":"_xlfn.TEXTJOIN(\"／\",TRUE,CN291:CN304)","v":""},"□","行田市",{"$f":"IF(CP291=\"☑\",TRUE)","v":false},{"$f":"CQ291","v":"行田市"},{"$f":"IF(CR291,CS291,\"\")","v":""},{"$f":"_xludf.TEXTJOIN(\",\",TRUE,CT291:CT304)","v":""},"□","熊谷市",{"$f":"IF(CV291=\"☑\",TRUE)","v":false},{"$f":"CW291","v":"熊谷市"},{"$f":"IF(CX291,CY291,\"\")","v":""},{"$f":"_xlfn.TEXTJOIN(\"／\",TRUE,CZ291:CZ304)","v":""},"□","秩父市",{"$f":"IF(DB291=\"☑\",TRUE)","v":false},{"$f":"DC291","v":"秩父市"},{"$f":"IF(DD291,DE291,\"\")","v":""},{"$f":"_xlfn.TEXTJOIN(\"／\",TRUE,DF291:DF304)","v":""},{"$f":"_xlfn.TEXTJOIN(\"／\",TRUE,BE291,BK291,BQ291,BW291,CC291,CI291,CO291,CU291,DA291,DG291)","v":""},null,null,null,null,null,null,null,{"$f":"IF(#REF!=\"☑\",TRUE)","v":{"$error":"#REF!"}},{"$f":"IF(DP291,#REF!,\"\")","v":{"$error":"#REF!"}},{"$f":"_xludf.TEXTJOIN(\",\",TRUE,DQ291:DQ304)","v":{"$error":"#VALUE!"}}]
[null,null,null,null,null,null,null,null,null,null,null,null,null,null,null,null,null,null,"□","買物サポート",false,"","□","料理デリバリー（出前）",false,"","□","フィットネス・ジム（送迎）",{"$f":"IF(AA292=\"☑\",TRUE)","v":false},{"$f":"IF(AC292,AB292,\"\")","v":""},"□","出張料理",{"$f":"IF(AE292=\"☑\",TRUE)","v":false},{"$f":"IF(AG292,AF292,\"\")","v":""},"□","温泉・銭湯（たまり場）",false,"","□","多目的トイレ",false,"","□","習い事",{"$f":"IF(AQ292=\"☑\",TRUE)","v":false},{"$f":"IF(AS292,AR292,\"\")","v":""},"□","金融・保険",false,"",null,"□","北区",{"$f":"IF(AZ292=\"☑\",TRUE)","v":false},"さいたま市北区",{"$f":"IF(BB292,BC292,\"\")","v":""},null,"□","蕨市",{"$f":"IF(BF292=\"☑\",TRUE)","v":false},{"$f":"BG292","v":"蕨市"},{"$f":"IF(BH292,BI292,\"\")","v":""},null,"□","志木市",{"$f":"IF(BL292=\"☑\",TRUE)","v":false},"志木市",{"$f":"IF(BN292,BO292,\"\")","v":""},null,"□","草加市",{"$f":"IF(BR292=\"☑\",TRUE)","v":false},"草加市","",null,"□","上尾市",{"$f":"IF(BX292=\"☑\",TRUE)","v":false},{"$f":"BY292","v":"上尾市"},{"$f":"IF(BZ292,CA292,\"\")","v":""},null,"□","東松山市",{"$f":"IF(CD292=\"☑\",TRUE)","v":false},"東松山市",{"$f":"IF(CF292,CG292,\"\")","v":""},null,"□","飯能市",{"$f":"IF(CJ292=\"☑\",TRUE)","v":false},{"$f":"CK292","v":"飯能市"},{"$f":"IF(CL292,CM292,\"\")","v":""},null,"□","加須市",{"$f":"IF(CP292=\"☑\",TRUE)","v":false},"加須市",{"$f":"IF(CR292,CS292,\"\")","v":""},null,"□","本庄市",{"$f":"IF(CV292=\"☑\",TRUE)","v":false},"本庄市",{"$f":"IF(CX292,CY292,\"\")","v":""},null,"□","横瀬町",{"$f":"IF(DB292=\"☑\",TRUE)","v":false},{"$f":"DC292","v":"横瀬町"},{"$f":"IF(DD292,DE292,\"\")","v":""},null,null,null,null,null,null,null,null,null,null,{"$f":"IF(DP292,#REF!,\"\")","v":""}]
[null,null,null,null,null,null,null,null,null,null,null,null,null,null,null,null,null,null,"□","買物代行",false,"","□","食材宅配",false,"","□","温泉・銭湯（送迎）",false,"","□","屋外作業・力仕事",false,"","□","カフェ・ファーストフード",false,"","□","休憩スペース",false,"","□","映画館",false,"","□","住宅・リフォーム",false,"",null,"□","大宮区",false,"さいたま市大宮区","",null,"□","戸田市",{"$f":"IF(BF293=\"☑\",TRUE)","v":false},{"$f":"BG293","v":"戸田市"},"",null,"□","和光市",false,"和光市","",null,"□","越谷市",false,"越谷市","",null,"□","桶川市",{"$f":"IF(BX293=\"☑\",TRUE)","v":false},{"$f":"BY293","v":"桶川市"},"",null,"□","坂戸市",false,"坂戸市","",null,"□","狭山市",{"$f":"IF(CJ293=\"☑\",TRUE)","v":false},{"$f":"CK293","v":"狭山市"},"",null,"□","羽生市",false,"羽生市","",null,"□","深谷市",false,"深谷市","",null,"□","皆野町",{"$f":"IF(DB293=\"☑\",TRUE)","v":false},{"$f":"DC293","v":"皆野町"},"",null,null,null,null,null,null,null,null,null,{"$f":"IF(#REF!=\"☑\",TRUE)","v":{"$error":"#REF!"}},{"$f":"IF(DP293,#REF!,\"\")","v":{"$error":"#REF!"}}]
[null,null,null,null,null,null,null,null,null,null,null,null,null,null,null,null,null,null,"□","移動販売",false,"","□","日用品配達",false,"","□","整体・マッサージ（送迎）",false,"","□","整体・マッサージ（出張）",false,"","□","飲食店",false,"","□","駐車場",false,"","□","カラオケ店",false,"","□","パソコン・スマートフォン",false,"",null,"□","見沼区",false,"さいたま市見沼区","",null,null,null,null,null,"",null,"□","新座市",false,"新座市","",null,"□","八潮市",false,"八潮市","",null,"□","北本市",{"$f":"IF(BX294=\"☑\",TRUE)","v":false},{"$f":"BY294","v":"北本市"},"",null,"□","鶴ヶ島市",false,"鶴ヶ島市","",null,"□","入間市",{"$f":"IF(CJ294=\"☑\",TRUE)","v":false},{"$f":"CK294","v":"入間市"},"",null,"□","久喜市",false,"久喜市","",null,"□","美里町",false,"美里町","",null,"□","長瀞町",{"$f":"IF(DB294=\"☑\",TRUE)","v":false},{"$f":"DC294","v":"長瀞町"},""]
[null,null,null,null,null,null,null,null,null,null,null,null,null,null,null,null,null,null,"□","割引サービス",false,"","□","薬・介護用品配達",false,"","□","乗り合いサービス",false,"","□","理容・美容（出張）",false,"","□","イートインスペース",false,"","□","貸しスペース",false,"","□","麻雀・将棋・囲碁",false,"","□","認知症サポート企業",false,"",null,"□","中央区",false,"さいたま市中央区","",null,null,null,null,null,"",null,"□","富士見市",false,"富士見市","",null,"□","三郷市",false,"三郷市","",null,"□","伊奈町",{"$f":"IF(BX295=\"☑\",TRUE)","v":false},{"$f":"BY295","v":"伊奈町"},"",null,"□","毛呂山町",false,"毛呂山町","",null,"□","日高市",{"$f":"IF(CJ295=\"☑\",TRUE)","v":false},{"$f":"CK295","v":"日高市"},"",null,"□","蓮田市",false,"蓮田市","",null,"□","神川町",false,"神川町","",null,"□","小鹿野町",{"$f":"IF(DB295=\"☑\",TRUE)","v":false},{"$f":"DC295","v":"小鹿野町"},"",null,null,null,null,null,null,null,null,null,{"$f":"IF(#REF!=\"☑\",TRUE)","v":{"$error":"#REF!"}},{"$f":"IF(DP295,#REF!,\"\")","v":{"$error":"#REF!"}}]
[null,null,null,null,null,null,null,null,null,null,null,null,null,null,null,null,null,null,"□","その他（買物）",false,"","□","クリーニング",false,{"$f":"IF(Y296,X296,\"\")","v":""},"□","個別移送サービス",false,"","□","ペット",false,"","□","その他（運動・たまり場）",false,"","□","その他（設備・施設・場所貸し）",false,"","□","ゲームセンター",false,"","□","理容・美容",false,"",null,"□","桜区",false,"さいたま市桜区","",null,null,null,null,null,"",null,"□","ふじみ野市",false,"ふじみ野市","",null,"□","吉川市",false,"吉川市","",null,null,null,null,null,"",null,"□","越生町",false,"越生町","",null,null,null,null,null,"",null,"□","幸手市",false,"幸手市","",null,"□","上里町",false,"上里町","",null,null,null,null,null,"",null,null,null,null,null,null,null,null,null,{"$f":"IF(#REF!=\"☑\",TRUE)","v":{"$error":"#REF!"}},{"$f":"IF(DP296,#REF!,\"\")","v":{"$error":"#REF!"}}]
[null,null,null,null,null,null,null,null,null,null,null,null,null,null,null,null,null,null,null,null,null,null,"□","その他（宅配・デリバリー）",false,{"$f":"IF(Y297,X297,\"\")","v":""},"□","交通機関サービス",false,"","□","その他（出張サービス）",false,"",null,null,null,null,null,null,null,null,"□","旅行・レジャー",false,"","□","成年後見・相続",false,"",null,"□","浦和区",false,"さいたま市浦和区","",null,null,null,null,null,"",null,"□","三芳町",false,"三芳町","",null,"□","松伏町",false,"松伏町","",null,null,null,null,null,"",null,"□","滑川町",false,"滑川町","",null,null,null,null,null,"",null,"□","白岡市",false,"白岡市","",null,"□","寄居町",false,"寄居町","",null,null,null,null,null,""]
[null,null,null,null,null,null,null,null,null,null,null,null,null,null,null,null,null,null,null,null,null,null,null,null,null,null,"□","その他（送迎・移動支援）",false,"",null,null,null,"",null,null,null,{"$f":"IF(AK298,AJ298,\"\")","v":""},null,null,null,{"$f":"IF(AO298,AN298,\"\")","v":""},"□","パソコン・スマホ教室",false,"","□","その他（生活サービス）",false,"",null,"□","南区",false,"さいたま市南区","",null,null,null,null,null,"",null,null,null,null,null,"",null,null,null,null,null,"",null,null,null,null,null,"",null,"□","嵐山町",false,"嵐山町","",null,null,null,null,null,"",null,"□","宮代町",false,"宮代町","",null,null,null,null,null,"",null,null,null,null,null,""]
[null,null,null,null,null,null,null,null,null,null,null,null,null,null,null,null,null,null,null,null,null,null,null,null,null,null,null,null,null,null,null,null,null,null,null,null,null,null,null,null,null,null,"□","その他（学び・趣味）",false,"",null,null,null,null,null,"□","緑区",false,"さいたま市緑区","",null,null,null,null,null,"",null,null,null,null,null,"",null,null,null,null,null,"",null,null,null,null,null,"",null,"□","小川町",false,"小川町","",null,null,null,null,null,"",null,"□","杉戸町",false,"杉戸町","",null,null,null,null,null,"",null,null,null,null,null,""]
[null,null,null,null,null,null,null,null,null,null,null,null,null,null,null,null,null,null,null,null,null,null,null,null,null,null,null,null,null,null,null,null,null,null,null,null,null,null,null,null,null,null,null,null,null,null,null,null,null,null,null,"□","岩槻区",{"$f":"IF(AZ300=\"☑\",TRUE)","v":false},"さいたま市岩槻区","",null,null,null,null,null,"",null,null,null,null,null,"",null,null,null,null,null,"",null,null,null,null,null,"",null,"□","川島町",false,"川島町","",null,null,null,null,null,"",null,null,null,null,null,"",null,null,null,null,null,"",null,null,null,null,null,""]
[null,null,null,null,null,null,null,null,null,null,null,null,null,null,null,null,null,null,null,null,null,null,null,null,null,null,null,null,null,null,null,null,null,null,null,null,null,null,null,null,null,null,null,null,null,null,null,null,null,null,null,null,null,null,null,null,null,null,null,null,null,null,null,null,null,null,null,null,null,null,null,null,null,null,null,null,null,null,null,null,null,"□","吉見町",false,"吉見町","",null,null,null,null,null,"",null,null,null,null,null,"",null,null,null,null,null,"",null,null,null,null,null,""]
[null,null,null,null,null,null,null,null,null,null,null,null,null,null,null,null,null,null,null,null,null,null,null,null,null,null,null,null,null,null,null,null,null,null,null,null,null,null,null,null,null,null,null,null,null,null,null,null,null,null,null,null,null,null,null,null,null,null,null,null,null,null,null,null,null,null,null,null,null,null,null,null,null,null,null,null,null,null,null,null,null,"□","鳩山町",false,"鳩山町","",null,null,null,null,null,"",null,null,null,null,null,"",null,null,null,null,null,"",null,null,null,null,null,""]
[null,null,null,null,null,null,null,null,null,null,null,null,null,null,null,null,null,null,null,null,null,null,null,null,null,null,null,null,null,null,null,null,null,null,null,null,null,null,null,null,null,null,null,null,null,null,null,null,null,null,null,null,null,null,null,null,null,null,null,null,null,null,null,null,null,null,null,null,null,null,null,null,null,null,null,null,null,null,null,null,null,"□","ときがわ町",false,"ときがわ町","",null,null,null,null,null,"",null,null,null,null,null,"",null,null,null,null,null,"",null,null,null,null,null,""]
[null,null,null,null,null,null,null,null,null,null,null,null,null,null,null,null,null,null,null,null,null,null,null,null,null,null,null,null,null,null,null,null,null,null,null,null,null,null,null,null,null,null,null,null,null,null,null,null,null,null,null,null,null,null,null,null,null,null,null,null,null,null,null,null,null,null,null,null,null,null,null,null,null,null,null,null,null,null,null,null,null,"□","東秩父村",false,"東秩父村","",null,null,null,null,null,"",null,null,null,null,null,"",null,null,null,null,null,"",null,null,null,null,null,""]
[21,null,null,null,null,null,null,null,null,null,null,null,null,null,null,null,null,null,"□","配送",{"$f":"IF(S305=\"☑\",TRUE)","v":false},{"$f":"IF(U305,T305,\"\")","v":""},"□","弁当配達",{"$f":"IF(W305=\"☑\",TRUE)","v":false},{"$f":"IF(Y305,X305,\"\")","v":""},"□","理容・美容（送迎）",{"$f":"IF(AA305=\"☑\",TRUE)","v":false},{"$f":"IF(AC305,AB305,\"\")","v":""},"□","家事代行・掃除・片付け",{"$f":"IF(AE305=\"☑\",TRUE)","v":false},{"$f":"IF(AG305,AF305,\"\")","v":""},"□","フィットネス・ジム（運動）",{"$f":"IF(AI305=\"☑\",TRUE)","v":false},{"$f":"IF(AK305,AJ305,\"\")","v":""},"□","車イス対応（バリアフリー）",{"$f":"IF(AM305=\"☑\",TRUE)","v":false},{"$f":"IF(AO305,AN305,\"\")","v":""},"□","講座・教室・イベント",{"$f":"IF(AQ305=\"☑\",TRUE)","v":false},{"$f":"IF(AS305,AR305,\"\")","v":""},"□","防犯・見守り",{"$f":"IF(AU305=\"☑\",TRUE)","v":false},{"$f":"IF(AW305,AV305,\"\")","v":""},{"$f":"_xlfn.TEXTJOIN(\"／\",TRUE,V305:V318,Z305:Z318,AD305:AD318,AH305:AH318,AL305:AL318,AP305:AP318,AT305:AT318,AX305:AX318)","v":""},"□","西区",{"$f":"IF(AZ305=\"☑\",TRUE)","v":false},{"$f":"\"さいたま市\"&BA305","v":"さいたま市西区"},{"$f":"IF(BB305,BC305,\"\")","v":""},{"$f":"_xlfn.TEXTJOIN(\"／\",TRUE,BD305:BD318)","v":""},"□","川口市",{"$f":"IF(BF305=\"☑\",TRUE)","v":false},{"$f":"BG305","v":"川口市"},{"$f":"IF(BH305,BI305,\"\")","v":""},{"$f":"_xludf.TEXTJOIN(\",\",TRUE,BJ305:BJ318)","v":""},"□","朝霞市",{"$f":"IF(BL305=\"☑\",TRUE)","v":false},{"$f":"BM305","v":"朝霞市"},{"$f":"IF(BN305,BO305,\"\")","v":""},{"$f":"_xlfn.TEXTJOIN(\"／\",TRUE,BP305:BP318)","v":""},"□","春日部市",{"$f":"IF(BR305=\"☑\",TRUE)","v":false},{"$f":"BS305","v":"春日部市"},{"$f":"IF(BT305,BU305,\"\")","v":""},{"$f":"_xlfn.TEXTJOIN(\"／\",TRUE,BV305:BV318)","v":""},"□","鴻巣市",{"$f":"IF(BX305=\"☑\",TRUE)","v":false},{"$f":"BY305","v":"鴻巣市"},{"$f":"IF(BZ305,CA305,\"\")","v":""},{"$f":"_xlfn.TEXTJOIN(\"／\",TRUE,CB305:CB318)","v":""},"□","川越市",{"$f":"IF(CD305=\"☑\",TRUE)","v":false},"川越市",{"$f":"IF(CF305,CG305,\"\")","v":""},{"$f":"_xlfn.TEXTJOIN(\"／\",TRUE,CH305:CH318)","v":""},"□","所沢市",{"$f":"IF(CJ305=\"☑\",TRUE)","v":false},{"$f":"CK305","v":"所沢市"},{"$f":"IF(CL305,CM305,\"\")","v":""},{"$f":"_xlfn.TEXTJOIN(\"／\",TRUE,CN305:CN318)","v":""},"□","行田市",{"$f":"IF(CP305=\"☑\",TRUE)","v":false},{"$f":"CQ305","v":"行田市"},{"$f":"IF(CR305,CS305,\"\")","v":""},{"$f":"_xludf.TEXTJOIN(\",\",TRUE,CT305:CT318)","v":""},"□","熊谷市",{"$f":"IF(CV305=\"☑\",TRUE)","v":false},{"$f":"CW305","v":"熊谷市"},{"$f":"IF(CX305,CY305,\"\")","v":""},{"$f":"_xlfn.TEXTJOIN(\"／\",TRUE,CZ305:CZ318)","v":""},"□","秩父市",{"$f":"IF(DB305=\"☑\",TRUE)","v":false},{"$f":"DC305","v":"秩父市"},{"$f":"IF(DD305,DE305,\"\")","v":""},{"$f":"_xlfn.TEXTJOIN(\"／\",TRUE,DF305:DF318)","v":""},{"$f":"_xlfn.TEXTJOIN(\"／\",TRUE,BE305,BK305,BQ305,BW305,CC305,CI305,CO305,CU305,DA305,DG305)","v":""},null,null,null,null,null,null,null,{"$f":"IF(#REF!=\"☑\",TRUE)","v":{"$error":"#REF!"}},{"$f":"IF(DP305,#REF!,\"\")","v":{"$error":"#REF!"}},{"$f":"_xludf.TEXTJOIN(\",\",TRUE,DQ305:DQ318)","v":{"$error":"#VALUE!"}}]
[null,null,null,null,null,null,null,null,null,null,null,null,null,null,null,null,null,null,"□","買物サポート",false,"","□","料理デリバリー（出前）",false,"","□","フィットネス・ジム（送迎）",{"$f":"IF(AA306=\"☑\",TRUE)","v":false},{"$f":"IF(AC306,AB306,\"\")","v":""},"□","出張料理",{"$f":"IF(AE306=\"☑\",TRUE)","v":false},{"$f":"IF(AG306,AF306,\"\")","v":""},"□","温泉・銭湯（たまり場）",false,"","□","多目的トイレ",false,"","□","習い事",{"$f":"IF(AQ306=\"☑\",TRUE)","v":false},{"$f":"IF(AS306,AR306,\"\")","v":""},"□","金融・保険",false,"",null,"□","北区",{"$f":"IF(AZ306=\"☑\",TRUE)","v":false},"さいたま市北区",{"$f":"IF(BB306,BC306,\"\")","v":""},null,"□","蕨市",{"$f":"IF(BF306=\"☑\",TRUE)","v":false},{"$f":"BG306","v":"蕨市"},{"$f":"IF(BH306,BI306,\"\")","v":""},null,"□","志木市",{"$f":"IF(BL306=\"☑\",TRUE)","v":false},"志木市",{"$f":"IF(BN306,BO306,\"\")","v":""},null,"□","草加市",{"$f":"IF(BR306=\"☑\",TRUE)","v":false},"草加市","",null,"□","上尾市",{"$f":"IF(BX306=\"☑\",TRUE)","v":false},{"$f":"BY306","v":"上尾市"},{"$f":"IF(BZ306,CA306,\"\")","v":""},null,"□","東松山市",{"$f":"IF(CD306=\"☑\",TRUE)","v":false},"東松山市",{"$f":"IF(CF306,CG306,\"\")","v":""},null,"□","飯能市",{"$f":"IF(CJ306=\"☑\",TRUE)","v":false},{"$f":"CK306","v":"飯能市"},{"$f":"IF(CL306,CM306,\"\")","v":""},null,"□","加須市",{"$f":"IF(CP306=\"☑\",TRUE)","v":false},"加須市",{"$f":"IF(CR306,CS306,\"\")","v":""},null,"□","本庄市",{"$f":"IF(CV306=\"☑\",TRUE)","v":false},"本庄市",{"$f":"IF(CX306,CY306,\"\")","v":""},null,"□","横瀬町",{"$f":"IF(DB306=\"☑\",TRUE)","v":false},{"$f":"DC306","v":"横瀬町"},{"$f":"IF(DD306,DE306,\"\")","v":""},null,null,null,null,null,null,null,null,null,null,{"$f":"IF(DP306,#REF!,\"\")","v":""}]
[null,null,null,null,null,null,null,null,null,null,null,null,null,null,null,null,null,null,"□","買物代行",false,"","□","食材宅配",false,"","□","温泉・銭湯（送迎）",false,"","□","屋外作業・力仕事",false,"","□","カフェ・ファーストフード",false,"","□","休憩スペース",false,"","□","映画館",false,"","□","住宅・リフォーム",false,"",null,"□","大宮区",false,"さいたま市大宮区","",null,"□","戸田市",{"$f":"IF(BF307=\"☑\",TRUE)","v":false},{"$f":"BG307","v":"戸田市"},"",null,"□","和光市",false,"和光市","",null,"□","越谷市",false,"越谷市","",null,"□","桶川市",{"$f":"IF(BX307=\"☑\",TRUE)","v":false},{"$f":"BY307","v":"桶川市"},"",null,"□","坂戸市",false,"坂戸市","",null,"□","狭山市",{"$f":"IF(CJ307=\"☑\",TRUE)","v":false},{"$f":"CK307","v":"狭山市"},"",null,"□","羽生市",false,"羽生市","",null,"□","深谷市",false,"深谷市","",null,"□","皆野町",{"$f":"IF(DB307=\"☑\",TRUE)","v":false},{"$f":"DC307","v":"皆野町"},"",null,null,null,null,null,null,null,null,null,{"$f":"IF(#REF!=\"☑\",TRUE)","v":{"$error":"#REF!"}},{"$f":"IF(DP307,#REF!,\"\")","v":{"$error":"#REF!"}}]
[null,null,null,null,null,null,null,null,null,null,null,null,null,null,null,null,null,null,"□","移動販売",false,"","□","日用品配達",false,"","□","整体・マッサージ（送迎）",false,"","□","整体・マッサージ（出張）",false,"","□","飲食店",false,"","□","駐車場",false,"","□","カラオケ店",false,"","□","パソコン・スマートフォン",false,"",null,"□","見沼区",false,"さいたま市見沼区","",null,null,null,null,null,"",null,"□","新座市",false,"新座市","",null,"□","八潮市",false,"八潮市","",null,"□","北本市",{"$f":"IF(BX308=\"☑\",TRUE)","v":false},{"$f":"BY308","v":"北本市"},"",null,"□","鶴ヶ島市",false,"鶴ヶ島市","",null,"□","入間市",{"$f":"IF(CJ308=\"☑\",TRUE)","v":false},{"$f":"CK308","v":"入間市"},"",null,"□","久喜市",false,"久喜市","",null,"□","美里町",false,"美里町","",null,"□","長瀞町",{"$f":"IF(DB308=\"☑\",TRUE)","v":false},{"$f":"DC308","v":"長瀞町"},""]
[null,null,null,null,null,null,null,null,null,null,null,null,null,null,null,null,null,null,"□","割引サービス",false,"","□","薬・介護用品配達",false,"","□","乗り合いサービス",false,"","□","理容・美容（出張）",false,"","□","イートインスペース",false,"","□","貸しスペース",false,"","□","麻雀・将棋・囲碁",false,"","□","認知症サポート企業",false,"",null,"□","中央区",false,"さいたま市中央区","",null,null,null,null,null,"",null,"□","富士見市",false,"富士見市","",null,"□","三郷市",false,"三郷市","",null,"□","伊奈町",{"$f":"IF(BX309=\"☑\",TRUE)","v":false},{"$f":"BY309","v":"伊奈町"},"",null,"□","毛呂山町",false,"毛呂山町","",null,"□","日高市",{"$f":"IF(CJ309=\"☑\",TRUE)","v":false},{"$f":"CK309","v":"日高市"},"",null,"□","蓮田市",false,"蓮田市","",null,"□","神川町",false,"神川町","",null,"□","小鹿野町",{"$f":"IF(DB309=\"☑\",TRUE)","v":false},{"$f":"DC309","v":"小鹿野町"},"",null,null,null,null,null,null,null,null,null,{"$f":"IF(#REF!=\"☑\",TRUE)","v":{"$error":"#REF!"}},{"$f":"IF(DP309,#REF!,\"\")","v":{"$error":"#REF!"}}]
[null,null,null,null,null,null,null,null,null,null,null,null,null,null,null,null,null,null,"□","その他（買物）",false,"","□","クリーニング",false,{"$f":"IF(Y310,X310,\"\")","v":""},"□","個別移送サービス",false,"","□","ペット",false,"","□","その他（運動・たまり場）",false,"","□","その他（設備・施設・場所貸し）",false,"","□","ゲームセンター",false,"","□","理容・美容",false,"",null,"□","桜区",false,"さいたま市桜区","",null,null,null,null,null,"",null,"□","ふじみ野市",false,"ふじみ野市","",null,"□","吉川市",false,"吉川市","",null,null,null,null,null,"",null,"□","越生町",false,"越生町","",null,null,null,null,null,"",null,"□","幸手市",false,"幸手市","",null,"□","上里町",false,"上里町","",null,null,null,null,null,"",null,null,null,null,null,null,null,null,null,{"$f":"IF(#REF!=\"☑\",TRUE)","v":{"$error":"#REF!"}},{"$f":"IF(DP310,#REF!,\"\")","v":{"$error":"#REF!"}}]
[null,null,null,null,null,null,null,null,null,null,null,null,null,null,null,null,null,null,null,null,null,null,"□","その他（宅配・デリバリー）",false,{"$f":"IF(Y311,X311,\"\")","v":""},"□","交通機関サービス",false,"","□","その他（出張サービス）",false,"",null,null,null,null,null,null,null,null,"□","旅行・レジャー",false,"","□","成年後見・相続",false,"",null,"□","浦和区",false,"さいたま市浦和区","",null,null,null,null,null,"",null,"□","三芳町",false,"三芳町","",null,"□","松伏町",false,"松伏町","",null,null,null,null,null,"",null,"□","滑川町",false,"滑川町","",null,null,null,null,null,"",null,"□","白岡市",false,"白岡市","",null,"□","寄居町",false,"寄居町","",null,null,null,null,null,""]
[null,null,null,null,null,null,null,null,null,null,null,null,null,null,null,null,null,null,null,null,null,null,null,null,null,null,"□","その他（送迎・移動支援）",false,"",null,null,null,"",null,null,null,{"$f":"IF(AK312,AJ312,\"\")","v":""},null,null,null,{"$f":"IF(AO312,AN312,\"\")","v":""},"□","パソコン・スマホ教室",false,"","□","その他（生活サービス）",false,"",null,"□","南区",false,"さいたま市南区","",null,null,null,null,null,"",null,null,null,null,null,"",null,null,null,null,null,"",null,null,null,null,null,"",null,"□","嵐山町",false,"嵐山町","",null,null,null,null,null,"",null,"□","宮代町",false,"宮代町","",null,null,null,null,null,"",null,null,null,null,null,""]
[null,null,null,null,null,null,null,null,null,null,null,null,null,null,null,null,null,null,null,null,null,null,null,null,null,null,null,null,null,null,null,null,null,null,null,null,null,null,null,null,null,null,"□","その他（学び・趣味）",false,"",null,null,null,null,null,"□","緑区",false,"さいたま市緑区","",null,null,null,null,null,"",null,null,null,null,null,"",null,null,null,null,null,"",null,null,null,null,null,"",null,"□","小川町",false,"小川町","",null,null,null,null,null,"",null,"□","杉戸町",false,"杉戸町","",null,null,null,null,null,"",null,null,null,null,null,""]
[null,null,null,null,null,null,null,null,null,null,null,null,null,null,null,null,null,null,null,null,null,null,null,null,null,null,null,null,null,null,null,null,null,null,null,null,null,null,null,null,null,null,null,null,null,null,null,null,null,null,null,"□","岩槻区",{"$f":"IF(AZ314=\"☑\",TRUE)","v":false},"さいたま市岩槻区","",null,null,null,null,null,"",null,null,null,null,null,"",null,null,null,null,null,"",null,null,null,null,null,"",null,"□","川島町",false,"川島町","",null,null,null,null,null,"",null,null,null,null,null,"",null,null,null,null,null,"",null,null,null,null,null,""]
[null,null,null,null,null,null,null,null,null,null,null,null,null,null,null,null,null,null,null,null,null,null,null,null,null,null,null,null,null,null,null,null,null,null,null,null,null,null,null,null,null,null,null,null,null,null,null,null,null,null,null,null,null,null,null,null,null,null,null,null,null,null,null,null,null,null,null,null,null,null,null,null,null,null,null,null,null,null,null,null,null,"□","吉見町",false,"吉見町","",null,null,null,null,null,"",null,null,null,null,null,"",null,null,null,null,null,"",null,null,null,null,null,""]
[null,null,null,null,null,null,null,null,null,null,null,null,null,null,null,null,null,null,null,null,null,null,null,null,null,null,null,null,null,null,null,null,null,null,null,null,null,null,null,null,null,null,null,null,null,null,null,null,null,null,null,null,null,null,null,null,null,null,null,null,null,null,null,null,null,null,null,null,null,null,null,null,null,null,null,null,null,null,null,null,null,"□","鳩山町",false,"鳩山町","",null,null,null,null,null,"",null,null,null,null,null,"",null,null,null,null,null,"",null,null,null,null,null,""]
[null,null,null,null,null,null,null,null,null,null,null,null,null,null,null,null,null,null,null,null,null,null,null,null,null,null,null,null,null,null,null,null,null,null,null,null,null,null,null,null,null,null,null,null,null,null,null,null,null,null,null,null,null,null,null,null,null,null,null,null,null,null,null,null,null,null,null,null,null,null,null,null,null,null,null,null,null,null,null,null,null,"□","ときがわ町",false,"ときがわ町","",null,null,null,null,null,"",null,null,null,null,null,"",null,null,null,null,null,"",null,null,null,null,null,""]
[null,null,null,null,null,null,null,null,null,null,null,null,null,null,null,null,null,null,null,null,null,null,null,null,null,null,null,null,null,null,null,null,null,null,null,null,null,null,null,null,null,null,null,null,null,null,null,null,null,null,null,null,null,null,null,null,null,null,null,null,null,null,null,null,null,null,null,null,null,null,null,null,null,null,null,null,null,null,null,null,null,"□","東秩父村",false,"東秩父村","",null,null,null,null,null,"",null,null,null,null,null,"",null,null,null,null,null,"",null,null,null,null,null,""]
[22,null,null,null,null,null,null,null,null,null,null,null,null,null,null,null,null,null,"□","配送",{"$f":"IF(S319=\"☑\",TRUE)","v":false},{"$f":"IF(U319,T319,\"\")","v":""},"□","弁当配達",{"$f":"IF(W319=\"☑\",TRUE)","v":false},{"$f":"IF(Y319,X319,\"\")","v":""},"□","理容・美容（送迎）",{"$f":"IF(AA319=\"☑\",TRUE)","v":false},{"$f":"IF(AC319,AB319,\"\")","v":""},"□","家事代行・掃除・片付け",{"$f":"IF(AE319=\"☑\",TRUE)","v":false},{"$f":"IF(AG319,AF319,\"\")","v":""},"□","フィットネス・ジム（運動）",{"$f":"IF(AI319=\"☑\",TRUE)","v":false},{"$f":"IF(AK319,AJ319,\"\")","v":""},"□","車イス対応（バリアフリー）",{"$f":"IF(AM319=\"☑\",TRUE)","v":false},{"$f":"IF(AO319,AN319,\"\")","v":""},"□","講座・教室・イベント",{"$f":"IF(AQ319=\"☑\",TRUE)","v":false},{"$f":"IF(AS319,AR319,\"\")","v":""},"□","防犯・見守り",{"$f":"IF(AU319=\"☑\",TRUE)","v":false},{"$f":"IF(AW319,AV319,\"\")","v":""},{"$f":"_xlfn.TEXTJOIN(\"／\",TRUE,V319:V332,Z319:Z332,AD319:AD332,AH319:AH332,AL319:AL332,AP319:AP332,AT319:AT332,AX319:AX332)","v":""},"□","西区",{"$f":"IF(AZ319=\"☑\",TRUE)","v":false},{"$f":"\"さいたま市\"&BA319","v":"さいたま市西区"},{"$f":"IF(BB319,BC319,\"\")","v":""},{"$f":"_xlfn.TEXTJOIN(\"／\",TRUE,BD319:BD332)","v":""},"□","川口市",{"$f":"IF(BF319=\"☑\",TRUE)","v":false},{"$f":"BG319","v":"川口市"},{"$f":"IF(BH319,BI319,\"\")","v":""},{"$f":"_xludf.TEXTJOIN(\",\",TRUE,BJ319:BJ332)","v":""},"□","朝霞市",{"$f":"IF(BL319=\"☑\",TRUE)","v":false},{"$f":"BM319","v":"朝霞市"},{"$f":"IF(BN319,BO319,\"\")","v":""},{"$f":"_xlfn.TEXTJOIN(\"／\",TRUE,BP319:BP332)","v":""},"□","春日部市",{"$f":"IF(BR319=\"☑\",TRUE)","v":false},{"$f":"BS319","v":"春日部市"},{"$f":"IF(BT319,BU319,\"\")","v":""},{"$f":"_xlfn.TEXTJOIN(\"／\",TRUE,BV319:BV332)","v":""},"□","鴻巣市",{"$f":"IF(BX319=\"☑\",TRUE)","v":false},{"$f":"BY319","v":"鴻巣市"},{"$f":"IF(BZ319,CA319,\"\")","v":""},{"$f":"_xlfn.TEXTJOIN(\"／\",TRUE,CB319:CB332)","v":""},"□","川越市",{"$f":"IF(CD319=\"☑\",TRUE)","v":false},"川越市",{"$f":"IF(CF319,CG319,\"\")","v":""},{"$f":"_xlfn.TEXTJOIN(\"／\",TRUE,CH319:CH332)","v":""},"□","所沢市",{"$f":"IF(CJ319=\"☑\",TRUE)","v":false},{"$f":"CK319","v":"所沢市"},{"$f":"IF(CL319,CM319,\"\")","v":""},{"$f":"_xlfn.TEXTJOIN(\"／\",TRUE,CN319:CN332)","v":""},"□","行田市",{"$f":"IF(CP319=\"☑\",TRUE)","v":false},{"$f":"CQ319","v":"行田市"},{"$f":"IF(CR319,CS319,\"\")","v":""},{"$f":"_xludf.TEXTJOIN(\",\",TRUE,CT319:CT332)","v":""},"□","熊谷市",{"$f":"IF(CV319=\"☑\",TRUE)","v":false},{"$f":"CW319","v":"熊谷市"},{"$f":"IF(CX319,CY319,\"\")","v":""},{"$f":"_xlfn.TEXTJOIN(\"／\",TRUE,CZ319:CZ332)","v":""},"□","秩父市",{"$f":"IF(DB319=\"☑\",TRUE)","v":false},{"$f":"DC319","v":"秩父市"},{"$f":"IF(DD319,DE319,\"\")","v":""},{"$f":"_xlfn.TEXTJOIN(\"／\",TRUE,DF319:DF332)","v":""},{"$f":"_xlfn.TEXTJOIN(\"／\",TRUE,BE319,BK319,BQ319,BW319,CC319,CI319,CO319,CU319,DA319,DG319)","v":""},null,null,null,null,null,null,null,{"$f":"IF(#REF!=\"☑\",TRUE)","v":{"$error":"#REF!"}},{"$f":"IF(DP319,#REF!,\"\")","v":{"$error":"#REF!"}},{"$f":"_xludf.TEXTJOIN(\",\",TRUE,DQ319:DQ332)","v":{"$error":"#VALUE!"}}]
[null,null,null,null,null,null,null,null,null,null,null,null,null,null,null,null,null,null,"□","買物サポート",false,"","□","料理デリバリー（出前）",false,"","□","フィットネス・ジム（送迎）",{"$f":"IF(AA320=\"☑\",TRUE)","v":false},{"$f":"IF(AC320,AB320,\"\")","v":""},"□","出張料理",{"$f":"IF(AE320=\"☑\",TRUE)","v":false},{"$f":"IF(AG320,AF320,\"\")","v":""},"□","温泉・銭湯（たまり場）",false,"","□","多目的トイレ",false,"","□","習い事",{"$f":"IF(AQ320=\"☑\",TRUE)","v":false},{"$f":"IF(AS320,AR320,\"\")","v":""},"□","金融・保険",false,"",null,"□","北区",{"$f":"IF(AZ320=\"☑\",TRUE)","v":false},"さいたま市北区",{"$f":"IF(BB320,BC320,\"\")","v":""},null,"□","蕨市",{"$f":"IF(BF320=\"☑\",TRUE)","v":false},{"$f":"BG320","v":"蕨市"},{"$f":"IF(BH320,BI320,\"\")","v":""},null,"□","志木市",{"$f":"IF(BL320=\"☑\",TRUE)","v":false},"志木市",{"$f":"IF(BN320,BO320,\"\")","v":""},null,"□","草加市",{"$f":"IF(BR320=\"☑\",TRUE)","v":false},"草加市","",null,"□","上尾市",{"$f":"IF(BX320=\"☑\",TRUE)","v":false},{"$f":"BY320","v":"上尾市"},{"$f":"IF(BZ320,CA320,\"\")","v":""},null,"□","東松山市",{"$f":"IF(CD320=\"☑\",TRUE)","v":false},"東松山市",{"$f":"IF(CF320,CG320,\"\")","v":""},null,"□","飯能市",{"$f":"IF(CJ320=\"☑\",TRUE)","v":false},{"$f":"CK320","v":"飯能市"},{"$f":"IF(CL320,CM320,\"\")","v":""},null,"□","加須市",{"$f":"IF(CP320=\"☑\",TRUE)","v":false},"加須市",{"$f":"IF(CR320,CS320,\"\")","v":""},null,"□","本庄市",{"$f":"IF(CV320=\"☑\",TRUE)","v":false},"本庄市",{"$f":"IF(CX320,CY320,\"\")","v":""},null,"□","横瀬町",{"$f":"IF(DB320=\"☑\",TRUE)","v":false},{"$f":"DC320","v":"横瀬町"},{"$f":"IF(DD320,DE320,\"\")","v":""},null,null,null,null,null,null,null,null,null,null,{"$f":"IF(DP320,#REF!,\"\")","v":""}]
[null,null,null,null,null,null,null,null,null,null,null,null,null,null,null,null,null,null,"□","買物代行",false,"","□","食材宅配",false,"","□","温泉・銭湯（送迎）",false,"","□","屋外作業・力仕事",false,"","□","カフェ・ファーストフード",false,"","□","休憩スペース",false,"","□","映画館",false,"","□","住宅・リフォーム",false,"",null,"□","大宮区",false,"さいたま市大宮区","",null,"□","戸田市",{"$f":"IF(BF321=\"☑\",TRUE)","v":false},{"$f":"BG321","v":"戸田市"},"",null,"□","和光市",false,"和光市","",null,"□","越谷市",false,"越谷市","",null,"□","桶川市",{"$f":"IF(BX321=\"☑\",TRUE)","v":false},{"$f":"BY321","v":"桶川市"},"",null,"□","坂戸市",false,"坂戸市","",null,"□","狭山市",{"$f":"IF(CJ321=\"☑\",TRUE)","v":false},{"$f":"CK321","v":"狭山市"},"",null,"□","羽生市",false,"羽生市","",null,"□","深谷市",false,"深谷市","",null,"□","皆野町",{"$f":"IF(DB321=\"☑\",TRUE)","v":false},{"$f":"DC321","v":"皆野町"},"",null,null,null,null,null,null,null,null,null,{"$f":"IF(#REF!=\"☑\",TRUE)","v":{"$error":"#REF!"}},{"$f":"IF(DP321,#REF!,\"\")","v":{"$error":"#REF!"}}]
[null,null,null,null,null,null,null,null,null,null,null,null,null,null,null,null,null,null,"□","移動販売",false,"","□","日用品配達",false,"","□","整体・マッサージ（送迎）",false,"","□","整体・マッサージ（出張）",false,"","□","飲食店",false,"","□","駐車場",false,"","□","カラオケ店",false,"","□","パソコン・スマートフォン",false,"",null,"□","見沼区",false,"さいたま市見沼区","",null,null,null,null,null,"",null,"□","新座市",false,"新座市","",null,"□","八潮市",false,"八潮市","",null,"□","北本市",{"$f":"IF(BX322=\"☑\",TRUE)","v":false},{"$f":"BY322","v":"北本市"},"",null,"□","鶴ヶ島市",false,"鶴ヶ島市","",null,"□","入間市",{"$f":"IF(CJ322=\"☑\",TRUE)","v":false},{"$f":"CK322","v":"入間市"},"",null,"□","久喜市",false,"久喜市","",null,"□","美里町",false,"美里町","",null,"□","長瀞町",{"$f":"IF(DB322=\"☑\",TRUE)","v":false},{"$f":"DC322","v":"長瀞町"},""]
[null,null,null,null,null,null,null,null,null,null,null,null,null,null,null,null,null,null,"□","割引サービス",false,"","□","薬・介護用品配達",false,"","□","乗り合いサービス",false,"","□","理容・美容（出張）",false,"","□","イートインスペース",false,"","□","貸しスペース",false,"","□","麻雀・将棋・囲碁",false,"","□","認知症サポート企業",false,"",null,"□","中央区",false,"さいたま市中央区","",null,null,null,null,null,"",null,"□","富士見市",false,"富士見市","",null,"□","三郷市",false,"三郷市","",null,"□","伊奈町",{"$f":"IF(BX323=\"☑\",TRUE)","v":false},{"$f":"BY323","v":"伊奈町"},"",null,"□","毛呂山町",false,"毛呂山町","",null,"□","日高市",{"$f":"IF(CJ323=\"☑\",TRUE)","v":false},{"$f":"CK323","v":"日高市"},"",null,"□","蓮田市",false,"蓮田市","",null,"□","神川町",false,"神川町","",null,"□","小鹿野町",{"$f":"IF(DB323=\"☑\",TRUE)","v":false},{"$f":"DC323","v":"小鹿野町"},"",null,null,null,null,null,null,null,null,null,{"$f":"IF(#REF!=\"☑\",TRUE)","v":{"$error":"#REF!"}},{"$f":"IF(DP323,#REF!,\"\")","v":{"$error":"#REF!"}}]
[null,null,null,null,null,null,null,null,null,null,null,null,null,null,null,null,null,null,"□","その他（買物）",false,"","□","クリーニング",false,{"$f":"IF(Y324,X324,\"\")","v":""},"□","個別移送サービス",false,"","□","ペット",false,"","□","その他（運動・たまり場）",false,"","□","その他（設備・施設・場所貸し）",false,"","□","ゲームセンター",false,"","□","理容・美容",false,"",null,"□","桜区",false,"さいたま市桜区","",null,null,null,null,null,"",null,"□","ふじみ野市",false,"ふじみ野市","",null,"□","吉川市",false,"吉川市","",null,null,null,null,null,"",null,"□","越生町",false,"越生町","",null,null,null,null,null,"",null,"□","幸手市",false,"幸手市","",null,"□","上里町",false,"上里町","",null,null,null,null,null,"",null,null,null,null,null,null,null,null,null,{"$f":"IF(#REF!=\"☑\",TRUE)","v":{"$error":"#REF!"}},{"$f":"IF(DP324,#REF!,\"\")","v":{"$error":"#REF!"}}]
[null,null,null,null,null,null,null,null,null,null,null,null,null,null,null,null,null,null,null,null,null,null,"□","その他（宅配・デリバリー）",false,{"$f":"IF(Y325,X325,\"\")","v":""},"□","交通機関サービス",false,"","□","その他（出張サービス）",false,"",null,null,null,null,null,null,null,null,"□","旅行・レジャー",false,"","□","成年後見・相続",false,"",null,"□","浦和区",false,"さいたま市浦和区","",null,null,null,null,null,"",null,"□","三芳町",false,"三芳町","",null,"□","松伏町",false,"松伏町","",null,null,null,null,null,"",null,"□","滑川町",false,"滑川町","",null,null,null,null,null,"",null,"□","白岡市",false,"白岡市","",null,"□","寄居町",false,"寄居町","",null,null,null,null,null,""]
[null,null,null,null,null,null,null,null,null,null,null,null,null,null,null,null,null,null,null,null,null,null,null,null,null,null,"□","その他（送迎・移動支援）",false,"",null,null,null,"",null,null,null,{"$f":"IF(AK326,AJ326,\"\")","v":""},null,null,null,{"$f":"IF(AO326,AN326,\"\")","v":""},"□","パソコン・スマホ教室",false,"","□","その他（生活サービス）",false,"",null,"□","南区",false,"さいたま市南区","",null,null,null,null,null,"",null,null,null,null,null,"",null,null,null,null,null,"",null,null,null,null,null,"",null,"□","嵐山町",false,"嵐山町","",null,null,null,null,null,"",null,"□","宮代町",false,"宮代町","",null,null,null,null,null,"",null,null,null,null,null,""]
[null,null,null,null,null,null,null,null,null,null,null,null,null,null,null,null,null,null,null,null,null,null,null,null,null,null,null,null,null,null,null,null,null,null,null,null,null,null,null,null,null,null,"□","その他（学び・趣味）",false,"",null,null,null,null,null,"□","緑区",false,"さいたま市緑区","",null,null,null,null,null,"",null,null,null,null,null,"",null,null,null,null,null,"",null,null,null,null,null,"",null,"□","小川町",false,"小川町","",null,null,null,null,null,"",null,"□","杉戸町",false,"杉戸町","",null,null,null,null,null,"",null,null,null,null,null,""]
[null,null,null,null,null,null,null,null,null,null,null,null,null,null,null,null,null,null,null,null,null,null,null,null,null,null,null,null,null,null,null,null,null,null,null,null,null,null,null,null,null,null,null,null,null,null,null,null,null,null,null,"□","岩槻区",{"$f":"IF(AZ328=\"☑\",TRUE)","v":false},"さいたま市岩槻区","",null,null,null,null,null,"",null,null,null,null,null,"",null,null,null,null,null,"",null,null,null,null,null,"",null,"□","川島町",false,"川島町","",null,null,null,null,null,"",null,null,null,null,null,"",null,null,null,null,null,"",null,null,null,null,null,""]
[null,null,null,null,null,null,null,null,null,null,null,null,null,null,null,null,null,null,null,null,null,null,null,null,null,null,null,null,null,null,null,null,null,null,null,null,null,null,null,null,null,null,null,null,null,null,null,null,null,null,null,null,null,null,null,null,null,null,null,null,null,null,null,null,null,null,null,null,null,null,null,null,null,null,null,null,null,null,null,null,null,"□","吉見町",false,"吉見町","",null,null,null,null,null,"",null,null,null,null,null,"",null,null,null,null,null,"",null,null,null,null,null,""]
[null,null,null,null,null,null,null,null,null,null,null,null,null,null,null,null,null,null,null,null,null,null,null,null,null,null,null,null,null,null,null,null,null,null,null,null,null,null,null,null,null,null,null,null,null,null,null,null,null,null,null,null,null,null,null,null,null,null,null,null,null,null,null,null,null,null,null,null,null,null,null,null,null,null,null,null,null,null,null,null,null,"□","鳩山町",false,"鳩山町","",null,null,null,null,null,"",null,null,null,null,null,"",null,null,null,null,null,"",null,null,null,null,null,""]
[null,null,null,null,null,null,null,null,null,null,null,null,null,null,null,null,null,null,null,null,null,null,null,null,null,null,null,null,null,null,null,null,null,null,null,null,null,null,null,null,null,null,null,null,null,null,null,null,null,null,null,null,null,null,null,null,null,null,null,null,null,null,null,null,null,null,null,null,null,null,null,null,null,null,null,null,null,null,null,null,null,"□","ときがわ町",false,{"$f":"CE331","v":"ときがわ町"},"",null,null,null,null,null,"",null,null,null,null,null,"",null,null,null,null,null,"",null,null,null,null,null,""]
[null,null,null,null,null,null,null,null,null,null,null,null,null,null,null,null,null,null,null,null,null,null,null,null,null,null,null,null,null,null,null,null,null,null,null,null,null,null,null,null,null,null,null,null,null,null,null,null,null,null,null,null,null,null,null,null,null,null,null,null,null,null,null,null,null,null,null,null,null,null,null,null,null,null,null,null,null,null,null,null,null,"□","東秩父村",false,"東秩父村","",null,null,null,null,null,"",null,null,null,null,null,"",null,null,null,null,null,"",null,null,null,null,null,""]
[23,null,null,null,null,null,null,null,null,null,null,null,null,null,null,null,null,null,"□","配送",{"$f":"IF(S333=\"☑\",TRUE)","v":false},{"$f":"IF(U333,T333,\"\")","v":""},"□","弁当配達",{"$f":"IF(W333=\"☑\",TRUE)","v":false},{"$f":"IF(Y333,X333,\"\")","v":""},"□","理容・美容（送迎）",{"$f":"IF(AA333=\"☑\",TRUE)","v":false},{"$f":"IF(AC333,AB333,\"\")","v":""},"□","家事代行・掃除・片付け",{"$f":"IF(AE333=\"☑\",TRUE)","v":false},{"$f":"IF(AG333,AF333,\"\")","v":""},"□","フィットネス・ジム（運動）",{"$f":"IF(AI333=\"☑\",TRUE)","v":false},{"$f":"IF(AK333,AJ333,\"\")","v":""},"□","車イス対応（バリアフリー）",{"$f":"IF(AM333=\"☑\",TRUE)","v":false},{"$f":"IF(AO333,AN333,\"\")","v":""},"□","講座・教室・イベント",{"$f":"IF(AQ333=\"☑\",TRUE)","v":false},{"$f":"IF(AS333,AR333,\"\")","v":""},"□","防犯・見守り",{"$f":"IF(AU333=\"☑\",TRUE)","v":false},{"$f":"IF(AW333,AV333,\"\")","v":""},{"$f":"_xlfn.TEXTJOIN(\"／\",TRUE,V333:V346,Z333:Z346,AD333:AD346,AH333:AH346,AL333:AL346,AP333:AP346,AT333:AT346,AX333:AX346)","v":""},"□","西区",{"$f":"IF(AZ333=\"☑\",TRUE)","v":false},{"$f":"\"さいたま市\"&BA333","v":"さいたま市西区"},{"$f":"IF(BB333,BC333,\"\")","v":""},{"$f":"_xlfn.TEXTJOIN(\"／\",TRUE,BD333:BD346)","v":""},"□","川口市",{"$f":"IF(BF333=\"☑\",TRUE)","v":false},{"$f":"BG333","v":"川口市"},{"$f":"IF(BH333,BI333,\"\")","v":""},{"$f":"_xludf.TEXTJOIN(\",\",TRUE,BJ333:BJ346)","v":""},"□","朝霞市",{"$f":"IF(BL333=\"☑\",TRUE)","v":false},{"$f":"BM333","v":"朝霞市"},{"$f":"IF(BN333,BO333,\"\")","v":""},{"$f":"_xlfn.TEXTJOIN(\"／\",TRUE,BP333:BP346)","v":""},"□","春日部市",{"$f":"IF(BR333=\"☑\",TRUE)","v":false},{"$f":"BS333","v":"春日部市"},{"$f":"IF(BT333,BU333,\"\")","v":""},{"$f":"_xlfn.TEXTJOIN(\"／\",TRUE,BV333:BV346)","v":""},"□","鴻巣市",{"$f":"IF(BX333=\"☑\",TRUE)","v":false},{"$f":"BY333","v":"鴻巣市"},{"$f":"IF(BZ333,CA333,\"\")","v":""},{"$f":"_xlfn.TEXTJOIN(\"／\",TRUE,CB333:CB346)","v":""},"□","川越市",{"$f":"IF(CD333=\"☑\",TRUE)","v":false},"川越市",{"$f":"IF(CF333,CG333,\"\")","v":""},{"$f":"_xlfn.TEXTJOIN(\"／\",TRUE,CH333:CH346)","v":""},"□","所沢市",{"$f":"IF(CJ333=\"☑\",TRUE)","v":false},{"$f":"CK333","v":"所沢市"},{"$f":"IF(CL333,CM333,\"\")","v":""},{"$f":"_xlfn.TEXTJOIN(\"／\",TRUE,CN333:CN346)","v":""},"□","行田市",{"$f":"IF(CP333=\"☑\",TRUE)","v":false},{"$f":"CQ333","v":"行田市"},{"$f":"IF(CR333,CS333,\"\")","v":""},{"$f":"_xludf.TEXTJOIN(\",\",TRUE,CT333:CT346)","v":""},"□","熊谷市",{"$f":"IF(CV333=\"☑\",TRUE)","v":false},{"$f":"CW333","v":"熊谷市"},{"$f":"IF(CX333,CY333,\"\")","v":""},{"$f":"_xlfn.TEXTJOIN(\"／\",TRUE,CZ333:CZ346)","v":""},"□","秩父市",{"$f":"IF(DB333=\"☑\",TRUE)","v":false},{"$f":"DC333","v":"秩父市"},{"$f":"IF(DD333,DE333,\"\")","v":""},{"$f":"_xlfn.TEXTJOIN(\"／\",TRUE,DF333:DF346)","v":""},{"$f":"_xlfn.TEXTJOIN(\"／\",TRUE,BE333,BK333,BQ333,BW333,CC333,CI333,CO333,CU333,DA333,DG333)","v":""},null,null,null,null,null,null,null,{"$f":"IF(#REF!=\"☑\",TRUE)","v":{"$error":"#REF!"}},{"$f":"IF(DP333,#REF!,\"\")","v":{"$error":"#REF!"}},{"$f":"_xludf.TEXTJOIN(\",\",TRUE,DQ333:DQ346)","v":{"$error":"#VALUE!"}}]
[null,null,null,null,null,null,null,null,null,null,null,null,null,null,null,null,null,null,"□","買物サポート",false,"","□","料理デリバリー（出前）",false,"","□","フィットネス・ジム（送迎）",{"$f":"IF(AA334=\"☑\",TRUE)","v":false},{"$f":"IF(AC334,AB334,\"\")","v":""},"□","出張料理",{"$f":"IF(AE334=\"☑\",TRUE)","v":false},{"$f":"IF(AG334,AF334,\"\")","v":""},"□","温泉・銭湯（たまり場）",false,"","□","多目的トイレ",false,"","□","習い事",{"$f":"IF(AQ334=\"☑\",TRUE)","v":false},{"$f":"IF(AS334,AR334,\"\")","v":""},"□","金融・保険",false,"",null,"□","北区",{"$f":"IF(AZ334=\"☑\",TRUE)","v":false},"さいたま市北区",{"$f":"IF(BB334,BC334,\"\")","v":""},null,"□","蕨市",{"$f":"IF(BF334=\"☑\",TRUE)","v":false},{"$f":"BG334","v":"蕨市"},{"$f":"IF(BH334,BI334,\"\")","v":""},null,"□","志木市",{"$f":"IF(BL334=\"☑\",TRUE)","v":false},"志木市",{"$f":"IF(BN334,BO334,\"\")","v":""},null,"□","草加市",{"$f":"IF(BR334=\"☑\",TRUE)","v":false},"草加市","",null,"□","上尾市",{"$f":"IF(BX334=\"☑\",TRUE)","v":false},{"$f":"BY334","v":"上尾市"},{"$f":"IF(BZ334,CA334,\"\")","v":""},null,"□","東松山市",{"$f":"IF(CD334=\"☑\",TRUE)","v":false},"東松山市",{"$f":"IF(CF334,CG334,\"\")","v":""},null,"□","飯能市",{"$f":"IF(CJ334=\"☑\",TRUE)","v":false},{"$f":"CK334","v":"飯能市"},{"$f":"IF(CL334,CM334,\"\")","v":""},null,"□","加須市",{"$f":"IF(CP334=\"☑\",TRUE)","v":false},"加須市",{"$f":"IF(CR334,CS334,\"\")","v":""},null,"□","本庄市",{"$f":"IF(CV334=\"☑\",TRUE)","v":false},"本庄市",{"$f":"IF(CX334,CY334,\"\")","v":""},null,"□","横瀬町",{"$f":"IF(DB334=\"☑\",TRUE)","v":false},{"$f":"DC334","v":"横瀬町"},{"$f":"IF(DD334,DE334,\"\")","v":""},null,null,null,null,null,null,null,null,null,null,{"$f":"IF(DP334,#REF!,\"\")","v":""}]
[null,null,null,null,null,null,null,null,null,null,null,null,null,null,null,null,null,null,"□","買物代行",false,"","□","食材宅配",false,"","□","温泉・銭湯（送迎）",false,"","□","屋外作業・力仕事",false,"","□","カフェ・ファーストフード",false,"","□","休憩スペース",false,"","□","映画館",false,"","□","住宅・リフォーム",false,"",null,"□","大宮区",false,"さいたま市大宮区","",null,"□","戸田市",{"$f":"IF(BF335=\"☑\",TRUE)","v":false},{"$f":"BG335","v":"戸田市"},"",null,"□","和光市",false,"和光市","",null,"□","越谷市",false,"越谷市","",null,"□","桶川市",{"$f":"IF(BX335=\"☑\",TRUE)","v":false},{"$f":"BY335","v":"桶川市"},"",null,"□","坂戸市",false,"坂戸市","",null,"□","狭山市",{"$f":"IF(CJ335=\"☑\",TRUE)","v":false},{"$f":"CK335","v":"狭山市"},"",null,"□","羽生市",false,"羽生市","",null,"□","深谷市",false,"深谷市","",null,"□","皆野町",{"$f":"IF(DB335=\"☑\",TRUE)","v":false},{"$f":"DC335","v":"皆野町"},"",null,null,null,null,null,null,null,null,null,{"$f":"IF(#REF!=\"☑\",TRUE)","v":{"$error":"#REF!"}},{"$f":"IF(DP335,#REF!,\"\")","v":{"$error":"#REF!"}}]
[null,null,null,null,null,null,null,null,null,null,null,null,null,null,null,null,null,null,"□","移動販売",false,"","□","日用品配達",false,"","□","整体・マッサージ（送迎）",false,"","□","整体・マッサージ（出張）",false,"","□","飲食店",false,"","□","駐車場",false,"","□","カラオケ店",false,"","□","パソコン・スマートフォン",false,"",null,"□","見沼区",false,"さいたま市見沼区","",null,null,null,null,null,"",null,"□","新座市",false,"新座市","",null,"□","八潮市",false,"八潮市","",null,"□","北本市",{"$f":"IF(BX336=\"☑\",TRUE)","v":false},{"$f":"BY336","v":"北本市"},"",null,"□","鶴ヶ島市",false,"鶴ヶ島市","",null,"□","入間市",{"$f":"IF(CJ336=\"☑\",TRUE)","v":false},{"$f":"CK336","v":"入間市"},"",null,"□","久喜市",false,"久喜市","",null,"□","美里町",false,"美里町","",null,"□","長瀞町",{"$f":"IF(DB336=\"☑\",TRUE)","v":false},{"$f":"DC336","v":"長瀞町"},""]
[null,null,null,null,null,null,null,null,null,null,null,null,null,null,null,null,null,null,"□","割引サービス",false,"","□","薬・介護用品配達",false,"","□","乗り合いサービス",false,"","□","理容・美容（出張）",false,"","□","イートインスペース",false,"","□","貸しスペース",false,"","□","麻雀・将棋・囲碁",false,"","□","認知症サポート企業",false,"",null,"□","中央区",false,"さいたま市中央区","",null,null,null,null,null,"",null,"□","富士見市",false,"富士見市","",null,"□","三郷市",false,"三郷市","",null,"□","伊奈町",{"$f":"IF(BX337=\"☑\",TRUE)","v":false},{"$f":"BY337","v":"伊奈町"},"",null,"□","毛呂山町",false,"毛呂山町","",null,"□","日高市",{"$f":"IF(CJ337=\"☑\",TRUE)","v":false},{"$f":"CK337","v":"日高市"},"",null,"□","蓮田市",false,"蓮田市","",null,"□","神川町",false,"神川町","",null,"□","小鹿野町",{"$f":"IF(DB337=\"☑\",TRUE)","v":false},{"$f":"DC337","v":"小鹿野町"},"",null,null,null,null,null,null,null,null,null,{"$f":"IF(#REF!=\"☑\",TRUE)","v":{"$error":"#REF!"}},{"$f":"IF(DP337,#REF!,\"\")","v":{"$error":"#REF!"}}]
[null,null,null,null,null,null,null,null,null,null,null,null,null,null,null,null,null,null,"□","その他（買物）",false,"","□","クリーニング",false,{"$f":"IF(Y338,X338,\"\")","v":""},"□","個別移送サービス",false,"","□","ペット",false,"","□","その他（運動・たまり場）",false,"","□","その他（設備・施設・場所貸し）",false,"","□","ゲームセンター",false,"","□","理容・美容",false,"",null,"□","桜区",false,"さいたま市桜区","",null,null,null,null,null,"",null,"□","ふじみ野市",false,"ふじみ野市","",null,"□","吉川市",false,"吉川市","",null,null,null,null,null,"",null,"□","越生町",false,"越生町","",null,null,null,null,null,"",null,"□","幸手市",false,"幸手市","",null,"□","上里町",false,"上里町","",null,null,null,null,null,"",null,null,null,null,null,null,null,null,null,{"$f":"IF(#REF!=\"☑\",TRUE)","v":{"$error":"#REF!"}},{"$f":"IF(DP338,#REF!,\"\")","v":{"$error":"#REF!"}}]
[null,null,null,null,null,null,null,null,null,null,null,null,null,null,null,null,null,null,null,null,null,null,"□","その他（宅配・デリバリー）",false,{"$f":"IF(Y339,X339,\"\")","v":""},"□","交通機関サービス",false,"","□","その他（出張サービス）",false,"",null,null,null,null,null,null,null,null,"□","旅行・レジャー",false,"","□","成年後見・相続",false,"",null,"□","浦和区",false,"さいたま市浦和区","",null,null,null,null,null,"",null,"□","三芳町",false,"三芳町","",null,"□","松伏町",false,"松伏町","",null,null,null,null,null,"",null,"□","滑川町",false,"滑川町","",null,null,null,null,null,"",null,"□","白岡市",false,"白岡市","",null,"□","寄居町",false,"寄居町","",null,null,null,null,null,""]
[null,null,null,null,null,null,null,null,null,null,null,null,null,null,null,null,null,null,null,null,null,null,null,null,null,null,"□","その他（送迎・移動支援）",false,"",null,null,null,"",null,null,null,{"$f":"IF(AK340,AJ340,\"\")","v":""},null,null,null,{"$f":"IF(AO340,AN340,\"\")","v":""},"□","パソコン・スマホ教室",false,"","□","その他（生活サービス）",false,"",null,"□","南区",false,"さいたま市南区","",null,null,null,null,null,"",null,null,null,null,null,"",null,null,null,null,null,"",null,null,null,null,null,"",null,"□","嵐山町",false,"嵐山町","",null,null,null,null,null,"",null,"□","宮代町",false,"宮代町","",null,null,null,null,null,"",null,null,null,null,null,""]
[null,null,null,null,null,null,null,null,null,null,null,null,null,null,null,null,null,null,null,null,null,null,null,null,null,null,null,null,null,null,null,null,null,null,null,null,null,null,null,null,null,null,"□","その他（学び・趣味）",false,"",null,null,null,null,null,"□","緑区",false,"さいたま市緑区","",null,null,null,null,null,"",null,null,null,null,null,"",null,null,null,null,null,"",null,null,null,null,null,"",null,"□","小川町",false,"小川町","",null,null,null,null,null,"",null,"□","杉戸町",false,"杉戸町","",null,null,null,null,null,"",null,null,null,null,null,""]
[null,null,null,null,null,null,null,null,null,null,null,null,null,null,null,null,null,null,null,null,null,null,null,null,null,null,null,null,null,null,null,null,null,null,null,null,null,null,null,null,null,null,null,null,null,null,null,null,null,null,null,"□","岩槻区",{"$f":"IF(AZ342=\"☑\",TRUE)","v":false},"さいたま市岩槻区","",null,null,null,null,null,"",null,null,null,null,null,"",null,null,null,null,null,"",null,null,null,null,null,"",null,"□","川島町",false,"川島町","",null,null,null,null,null,"",null,null,null,null,null,"",null,null,null,null,null,"",null,null,null,null,null,""]
[null,null,null,null,null,null,null,null,null,null,null,null,null,null,null,null,null,null,null,null,null,null,null,null,null,null,null,null,null,null,null,null,null,null,null,null,null,null,null,null,null,null,null,null,null,null,null,null,null,null,null,null,null,null,null,null,null,null,null,null,null,null,null,null,null,null,null,null,null,null,null,null,null,null,null,null,null,null,null,null,null,"□","吉見町",false,"吉見町","",null,null,null,null,null,"",null,null,null,null,null,"",null,null,null,null,null,"",null,null,null,null,null,""]
[null,null,null,null,null,null,null,null,null,null,null,null,null,null,null,null,null,null,null,null,null,null,null,null,null,null,null,null,null,null,null,null,null,null,null,null,null,null,null,null,null,null,null,null,null,null,null,null,null,null,null,null,null,null,null,null,null,null,null,null,null,null,null,null,null,null,null,null,null,null,null,null,null,null,null,null,null,null,null,null,null,"□","鳩山町",false,"鳩山町","",null,null,null,null,null,"",null,null,null,null,null,"",null,null,null,null,null,"",null,null,null,null,null,""]
[null,null,null,null,null,null,null,null,null,null,null,null,null,null,null,null,null,null,null,null,null,null,null,null,null,null,null,null,null,null,null,null,null,null,null,null,null,null,null,null,null,null,null,null,null,null,null,null,null,null,null,null,null,null,null,null,null,null,null,null,null,null,null,null,null,null,null,null,null,null,null,null,null,null,null,null,null,null,null,null,null,"□","ときがわ町",false,"ときがわ町","",null,null,null,null,null,"",null,null,null,null,null,"",null,null,null,null,null,"",null,null,null,null,null,""]
[null,null,null,null,null,null,null,null,null,null,null,null,null,null,null,null,null,null,null,null,null,null,null,null,null,null,null,null,null,null,null,null,null,null,null,null,null,null,null,null,null,null,null,null,null,null,null,null,null,null,null,null,null,null,null,null,null,null,null,null,null,null,null,null,null,null,null,null,null,null,null,null,null,null,null,null,null,null,null,null,null,"□","東秩父村",false,"東秩父村","",null,null,null,null,null,"",null,null,null,null,null,"",null,null,null,null,null,"",null,null,null,null,null,""]
[24,null,null,null,null,null,null,null,null,null,null,null,null,null,null,null,null,null,"□","配送",{"$f":"IF(S347=\"☑\",TRUE)","v":false},{"$f":"IF(U347,T347,\"\")","v":""},"□","弁当配達",{"$f":"IF(W347=\"☑\",TRUE)","v":false},{"$f":"IF(Y347,X347,\"\")","v":""},"□","理容・美容（送迎）",{"$f":"IF(AA347=\"☑\",TRUE)","v":false},{"$f":"IF(AC347,AB347,\"\")","v":""},"□","家事代行・掃除・片付け",{"$f":"IF(AE347=\"☑\",TRUE)","v":false},{"$f":"IF(AG347,AF347,\"\")","v":""},"□","フィットネス・ジム（運動）",{"$f":"IF(AI347=\"☑\",TRUE)","v":false},{"$f":"IF(AK347,AJ347,\"\")","v":""},"□","車イス対応（バリアフリー）",{"$f":"IF(AM347=\"☑\",TRUE)","v":false},{"$f":"IF(AO347,AN347,\"\")","v":""},"□","講座・教室・イベント",{"$f":"IF(AQ347=\"☑\",TRUE)","v":false},{"$f":"IF(AS347,AR347,\"\")","v":""},"□","防犯・見守り",{"$f":"IF(AU347=\"☑\",TRUE)","v":false},{"$f":"IF(AW347,AV347,\"\")","v":""},{"$f":"_xlfn.TEXTJOIN(\"／\",TRUE,V347:V360,Z347:Z360,AD347:AD360,AH347:AH360,AL347:AL360,AP347:AP360,AT347:AT360,AX347:AX360)","v":""},"□","西区",{"$f":"IF(AZ347=\"☑\",TRUE)","v":false},{"$f":"\"さいたま市\"&BA347","v":"さいたま市西区"},{"$f":"IF(BB347,BC347,\"\")","v":""},{"$f":"_xlfn.TEXTJOIN(\"／\",TRUE,BD347:BD360)","v":""},"□","川口市",{"$f":"IF(BF347=\"☑\",TRUE)","v":false},{"$f":"BG347","v":"川口市"},{"$f":"IF(BH347,BI347,\"\")","v":""},{"$f":"_xludf.TEXTJOIN(\",\",TRUE,BJ347:BJ360)","v":""},"□","朝霞市",{"$f":"IF(BL347=\"☑\",TRUE)","v":false},{"$f":"BM347","v":"朝霞市"},{"$f":"IF(BN347,BO347,\"\")","v":""},{"$f":"_xlfn.TEXTJOIN(\"／\",TRUE,BP347:BP360)","v":""},"□","春日部市",{"$f":"IF(BR347=\"☑\",TRUE)","v":false},{"$f":"BS347","v":"春日部市"},{"$f":"IF(BT347,BU347,\"\")","v":""},{"$f":"_xlfn.TEXTJOIN(\"／\",TRUE,BV347:BV360)","v":""},"□","鴻巣市",{"$f":"IF(BX347=\"☑\",TRUE)","v":false},{"$f":"BY347","v":"鴻巣市"},{"$f":"IF(BZ347,CA347,\"\")","v":""},{"$f":"_xlfn.TEXTJOIN(\"／\",TRUE,CB347:CB360)","v":""},"□","川越市",{"$f":"IF(CD347=\"☑\",TRUE)","v":false},"川越市",{"$f":"IF(CF347,CG347,\"\")","v":""},{"$f":"_xlfn.TEXTJOIN(\"／\",TRUE,CH347:CH360)","v":""},"□","所沢市",{"$f":"IF(CJ347=\"☑\",TRUE)","v":false},{"$f":"CK347","v":"所沢市"},{"$f":"IF(CL347,CM347,\"\")","v":""},{"$f":"_xlfn.TEXTJOIN(\"／\",TRUE,CN347:CN360)","v":""},"□","行田市",{"$f":"IF(CP347=\"☑\",TRUE)","v":false},{"$f":"CQ347","v":"行田市"},{"$f":"IF(CR347,CS347,\"\")","v":""},{"$f":"_xludf.TEXTJOIN(\",\",TRUE,CT347:CT360)","v":""},"□","熊谷市",{"$f":"IF(CV347=\"☑\",TRUE)","v":false},{"$f":"CW347","v":"熊谷市"},{"$f":"IF(CX347,CY347,\"\")","v":""},{"$f":"_xlfn.TEXTJOIN(\"／\",TRUE,CZ347:CZ360)","v":""},"□","秩父市",{"$f":"IF(DB347=\"☑\",TRUE)","v":false},{"$f":"DC347","v":"秩父市"},{"$f":"IF(DD347,DE347,\"\")","v":""},{"$f":"_xlfn.TEXTJOIN(\"／\",TRUE,DF347:DF360)","v":""},{"$f":"_xlfn.TEXTJOIN(\"／\",TRUE,BE347,BK347,BQ347,BW347,CC347,CI347,CO347,CU347,DA347,DG347)","v":""},null,null,null,null,null,null,null,{"$f":"IF(#REF!=\"☑\",TRUE)","v":{"$error":"#REF!"}},{"$f":"IF(DP347,#REF!,\"\")","v":{"$error":"#REF!"}},{"$f":"_xludf.TEXTJOIN(\",\",TRUE,DQ347:DQ360)","v":{"$error":"#VALUE!"}}]
[null,null,null,null,null,null,null,null,null,null,null,null,null,null,null,null,null,null,"□","買物サポート",false,"","□","料理デリバリー（出前）",false,"","□","フィットネス・ジム（送迎）",{"$f":"IF(AA348=\"☑\",TRUE)","v":false},{"$f":"IF(AC348,AB348,\"\")","v":""},"□","出張料理",{"$f":"IF(AE348=\"☑\",TRUE)","v":false},{"$f":"IF(AG348,AF348,\"\")","v":""},"□","温泉・銭湯（たまり場）",false,"","□","多目的トイレ",false,"","□","習い事",{"$f":"IF(AQ348=\"☑\",TRUE)","v":false},{"$f":"IF(AS348,AR348,\"\")","v":""},"□","金融・保険",false,"",null,"□","北区",{"$f":"IF(AZ348=\"☑\",TRUE)","v":false},"さいたま市北区",{"$f":"IF(BB348,BC348,\"\")","v":""},null,"□","蕨市",{"$f":"IF(BF348=\"☑\",TRUE)","v":false},{"$f":"BG348","v":"蕨市"},{"$f":"IF(BH348,BI348,\"\")","v":""},null,"□","志木市",{"$f":"IF(BL348=\"☑\",TRUE)","v":false},"志木市",{"$f":"IF(BN348,BO348,\"\")","v":""},null,"□","草加市",{"$f":"IF(BR348=\"☑\",TRUE)","v":false},"草加市","",null,"□","上尾市",{"$f":"IF(BX348=\"☑\",TRUE)","v":false},{"$f":"BY348","v":"上尾市"},{"$f":"IF(BZ348,CA348,\"\")","v":""},null,"□","東松山市",{"$f":"IF(CD348=\"☑\",TRUE)","v":false},"東松山市",{"$f":"IF(CF348,CG348,\"\")","v":""},null,"□","飯能市",{"$f":"IF(CJ348=\"☑\",TRUE)","v":false},{"$f":"CK348","v":"飯能市"},{"$f":"IF(CL348,CM348,\"\")","v":""},null,"□","加須市",{"$f":"IF(CP348=\"☑\",TRUE)","v":false},"加須市",{"$f":"IF(CR348,CS348,\"\")","v":""},null,"□","本庄市",{"$f":"IF(CV348=\"☑\",TRUE)","v":false},"本庄市",{"$f":"IF(CX348,CY348,\"\")","v":""},null,"□","横瀬町",{"$f":"IF(DB348=\"☑\",TRUE)","v":false},{"$f":"DC348","v":"横瀬町"},{"$f":"IF(DD348,DE348,\"\")","v":""},null,null,null,null,null,null,null,null,null,null,{"$f":"IF(DP348,#REF!,\"\")","v":""}]
[null,null,null,null,null,null,null,null,null,null,null,null,null,null,null,null,null,null,"□","買物代行",false,"","□","食材宅配",false,"","□","温泉・銭湯（送迎）",false,"","□","屋外作業・力仕事",false,"","□","カフェ・ファーストフード",false,"","□","休憩スペース",false,"","□","映画館",false,"","□","住宅・リフォーム",false,"",null,"□","大宮区",false,"さいたま市大宮区","",null,"□","戸田市",{"$f":"IF(BF349=\"☑\",TRUE)","v":false},{"$f":"BG349","v":"戸田市"},"",null,"□","和光市",false,"和光市","",null,"□","越谷市",false,"越谷市","",null,"□","桶川市",{"$f":"IF(BX349=\"☑\",TRUE)","v":false},{"$f":"BY349","v":"桶川市"},"",null,"□","坂戸市",false,"坂戸市","",null,"□","狭山市",{"$f":"IF(CJ349=\"☑\",TRUE)","v":false},{"$f":"CK349","v":"狭山市"},"",null,"□","羽生市",false,"羽生市","",null,"□","深谷市",false,"深谷市","",null,"□","皆野町",{"$f":"IF(DB349=\"☑\",TRUE)","v":false},{"$f":"DC349","v":"皆野町"},"",null,null,null,null,null,null,null,null,null,{"$f":"IF(#REF!=\"☑\",TRUE)","v":{"$error":"#REF!"}},{"$f":"IF(DP349,#REF!,\"\")","v":{"$error":"#REF!"}}]
[null,null,null,null,null,null,null,null,null,null,null,null,null,null,null,null,null,null,"□","移動販売",false,"","□","日用品配達",false,"","□","整体・マッサージ（送迎）",false,"","□","整体・マッサージ（出張）",false,"","□","飲食店",false,"","□","駐車場",false,"","□","カラオケ店",false,"","□","パソコン・スマートフォン",false,"",null,"□","見沼区",false,"さいたま市見沼区","",null,null,null,null,null,"",null,"□","新座市",false,"新座市","",null,"□","八潮市",false,"八潮市","",null,"□","北本市",{"$f":"IF(BX350=\"☑\",TRUE)","v":false},{"$f":"BY350","v":"北本市"},"",null,"□","鶴ヶ島市",false,"鶴ヶ島市","",null,"□","入間市",{"$f":"IF(CJ350=\"☑\",TRUE)","v":false},{"$f":"CK350","v":"入間市"},"",null,"□","久喜市",false,"久喜市","",null,"□","美里町",false,"美里町","",null,"□","長瀞町",{"$f":"IF(DB350=\"☑\",TRUE)","v":false},{"$f":"DC350","v":"長瀞町"},""]
[null,null,null,null,null,null,null,null,null,null,null,null,null,null,null,null,null,null,"□","割引サービス",false,"","□","薬・介護用品配達",false,"","□","乗り合いサービス",false,"","□","理容・美容（出張）",false,"","□","イートインスペース",false,"","□","貸しスペース",false,"","□","麻雀・将棋・囲碁",false,"","□","認知症サポート企業",false,"",null,"□","中央区",false,"さいたま市中央区","",null,null,null,null,null,"",null,"□","富士見市",false,"富士見市","",null,"□","三郷市",false,"三郷市","",null,"□","伊奈町",{"$f":"IF(BX351=\"☑\",TRUE)","v":false},{"$f":"BY351","v":"伊奈町"},"",null,"□","毛呂山町",false,"毛呂山町","",null,"□","日高市",{"$f":"IF(CJ351=\"☑\",TRUE)","v":false},{"$f":"CK351","v":"日高市"},"",null,"□","蓮田市",false,"蓮田市","",null,"□","神川町",false,"神川町","",null,"□","小鹿野町",{"$f":"IF(DB351=\"☑\",TRUE)","v":false},{"$f":"DC351","v":"小鹿野町"},"",null,null,null,null,null,null,null,null,null,{"$f":"IF(#REF!=\"☑\",TRUE)","v":{"$error":"#REF!"}},{"$f":"IF(DP351,#REF!,\"\")","v":{"$error":"#REF!"}}]
[null,null,null,null,null,null,null,null,null,null,null,null,null,null,null,null,null,null,"□","その他（買物）",false,"","□","クリーニング",false,{"$f":"IF(Y352,X352,\"\")","v":""},"□","個別移送サービス",false,"","□","ペット",false,"","□","その他（運動・たまり場）",false,"","□","その他（設備・施設・場所貸し）",false,"","□","ゲームセンター",false,"","□","理容・美容",false,"",null,"□","桜区",false,"さいたま市桜区","",null,null,null,null,null,"",null,"□","ふじみ野市",false,"ふじみ野市","",null,"□","吉川市",false,"吉川市","",null,null,null,null,null,"",null,"□","越生町",false,"越生町","",null,null,null,null,null,"",null,"□","幸手市",false,"幸手市","",null,"□","上里町",false,"上里町","",null,null,null,null,null,"",null,null,null,null,null,null,null,null,null,{"$f":"IF(#REF!=\"☑\",TRUE)","v":{"$error":"#REF!"}},{"$f":"IF(DP352,#REF!,\"\")","v":{"$error":"#REF!"}}]
[null,null,null,null,null,null,null,null,null,null,null,null,null,null,null,null,null,null,null,null,null,null,"□","その他（宅配・デリバリー）",false,{"$f":"IF(Y353,X353,\"\")","v":""},"□","交通機関サービス",false,"","□","その他（出張サービス）",false,"",null,null,null,null,null,null,null,null,"□","旅行・レジャー",false,"","□","成年後見・相続",false,"",null,"□","浦和区",false,"さいたま市浦和区","",null,null,null,null,null,"",null,"□","三芳町",false,"三芳町","",null,"□","松伏町",false,"松伏町","",null,null,null,null,null,"",null,"□","滑川町",false,"滑川町","",null,null,null,null,null,"",null,"□","白岡市",false,"白岡市","",null,"□","寄居町",false,"寄居町","",null,null,null,null,null,""]
[null,null,null,null,null,null,null,null,null,null,null,null,null,null,null,null,null,null,null,null,null,null,null,null,null,null,"□","その他（送迎・移動支援）",false,"",null,null,null,"",null,null,null,{"$f":"IF(AK354,AJ354,\"\")","v":""},null,null,null,{"$f":"IF(AO354,AN354,\"\")","v":""},"□","パソコン・スマホ教室",false,"","□","その他（生活サービス）",false,"",null,"□","南区",false,"さいたま市南区","",null,null,null,null,null,"",null,null,null,null,null,"",null,null,null,null,null,"",null,null,null,null,null,"",null,"□","嵐山町",false,"嵐山町","",null,null,null,null,null,"",null,"□","宮代町",false,"宮代町","",null,null,null,null,null,"",null,null,null,null,null,""]
[null,null,null,null,null,null,null,null,null,null,null,null,null,null,null,null,null,null,null,null,null,null,null,null,null,null,null,null,null,null,null,null,null,null,null,null,null,null,null,null,null,null,"□","その他（学び・趣味）",false,"",null,null,null,null,null,"□","緑区",false,"さいたま市緑区","",null,null,null,null,null,"",null,null,null,null,null,"",null,null,null,null,null,"",null,null,null,null,null,"",null,"□","小川町",false,"小川町","",null,null,null,null,null,"",null,"□","杉戸町",false,"杉戸町","",null,null,null,null,null,"",null,null,null,null,null,""]
[null,null,null,null,null,null,null,null,null,null,null,null,null,null,null,null,null,null,null,null,null,null,null,null,null,null,null,null,null,null,null,null,null,null,null,null,null,null,null,null,null,null,null,null,null,null,null,null,null,null,null,"□","岩槻区",{"$f":"IF(AZ356=\"☑\",TRUE)","v":false},"さいたま市岩槻区","",null,null,null,null,null,"",null,null,null,null,null,"",null,null,null,null,null,"",null,null,null,null,null,"",null,"□","川島町",false,"川島町","",null,null,null,null,null,"",null,null,null,null,null,"",null,null,null,null,null,"",null,null,null,null,null,""]
[null,null,null,null,null,null,null,null,null,null,null,null,null,null,null,null,null,null,null,null,null,null,null,null,null,null,null,null,null,null,null,null,null,null,null,null,null,null,null,null,null,null,null,null,null,null,null,null,null,null,null,null,null,null,null,null,null,null,null,null,null,null,null,null,null,null,null,null,null,null,null,null,null,null,null,null,null,null,null,null,null,"□","吉見町",false,"吉見町","",null,null,null,null,null,"",null,null,null,null,null,"",null,null,null,null,null,"",null,null,null,null,null,""]
[null,null,null,null,null,null,null,null,null,null,null,null,null,null,null,null,null,null,null,null,null,null,null,null,null,null,null,null,null,null,null,null,null,null,null,null,null,null,null,null,null,null,null,null,null,null,null,null,null,null,null,null,null,null,null,null,null,null,null,null,null,null,null,null,null,null,null,null,null,null,null,null,null,null,null,null,null,null,null,null,null,"□","鳩山町",false,"鳩山町","",null,null,null,null,null,"",null,null,null,null,null,"",null,null,null,null,null,"",null,null,null,null,null,""]
[null,null,null,null,null,null,null,null,null,null,null,null,null,null,null,null,null,null,null,null,null,null,null,null,null,null,null,null,null,null,null,null,null,null,null,null,null,null,null,null,null,null,null,null,null,null,null,null,null,null,null,null,null,null,null,null,null,null,null,null,null,null,null,null,null,null,null,null,null,null,null,null,null,null,null,null,null,null,null,null,null,"□","ときがわ町",false,"ときがわ町","",null,null,null,null,null,"",null,null,null,null,null,"",null,null,null,null,null,"",null,null,null,null,null,""]
[null,null,null,null,null,null,null,null,null,null,null,null,null,null,null,null,null,null,null,null,null,null,null,null,null,null,null,null,null,null,null,null,null,null,null,null,null,null,null,null,null,null,null,null,null,null,null,null,null,null,null,null,null,null,null,null,null,null,null,null,null,null,null,null,null,null,null,null,null,null,null,null,null,null,null,null,null,null,null,null,null,"□","東秩父村",false,"東秩父村","",null,null,null,null,null,"",null,null,null,null,null,"",null,null,null,null,null,"",null,null,null,null,null,""]
[25,null,null,null,null,null,null,null,null,null,null,null,null,null,null,null,null,null,"□","配送",{"$f":"IF(S361=\"☑\",TRUE)","v":false},{"$f":"IF(U361,T361,\"\")","v":""},"□","弁当配達",{"$f":"IF(W361=\"☑\",TRUE)","v":false},{"$f":"IF(Y361,X361,\"\")","v":""},"□","理容・美容（送迎）",{"$f":"IF(AA361=\"☑\",TRUE)","v":false},{"$f":"IF(AC361,AB361,\"\")","v":""},"□","家事代行・掃除・片付け",{"$f":"IF(AE361=\"☑\",TRUE)","v":false},{"$f":"IF(AG361,AF361,\"\")","v":""},"□","フィットネス・ジム（運動）",{"$f":"IF(AI361=\"☑\",TRUE)","v":false},{"$f":"IF(AK361,AJ361,\"\")","v":""},"□","車イス対応（バリアフリー）",{"$f":"IF(AM361=\"☑\",TRUE)","v":false},{"$f":"IF(AO361,AN361,\"\")","v":""},"□","講座・教室・イベント",{"$f":"IF(AQ361=\"☑\",TRUE)","v":false},{"$f":"IF(AS361,AR361,\"\")","v":""},"□","防犯・見守り",{"$f":"IF(AU361=\"☑\",TRUE)","v":false},{"$f":"IF(AW361,AV361,\"\")","v":""},{"$f":"_xlfn.TEXTJOIN(\"／\",TRUE,V361:V374,Z361:Z374,AD361:AD374,AH361:AH374,AL361:AL374,AP361:AP374,AT361:AT374,AX361:AX374)","v":""},"□","西区",{"$f":"IF(AZ361=\"☑\",TRUE)","v":false},{"$f":"\"さいたま市\"&BA361","v":"さいたま市西区"},{"$f":"IF(BB361,BC361,\"\")","v":""},{"$f":"_xlfn.TEXTJOIN(\"／\",TRUE,BD361:BD374)","v":""},"□","川口市",{"$f":"IF(BF361=\"☑\",TRUE)","v":false},{"$f":"BG361","v":"川口市"},{"$f":"IF(BH361,BI361,\"\")","v":""},{"$f":"_xludf.TEXTJOIN(\",\",TRUE,BJ361:BJ374)","v":""},"□","朝霞市",{"$f":"IF(BL361=\"☑\",TRUE)","v":false},{"$f":"BM361","v":"朝霞市"},{"$f":"IF(BN361,BO361,\"\")","v":""},{"$f":"_xlfn.TEXTJOIN(\"／\",TRUE,BP361:BP374)","v":""},"□","春日部市",{"$f":"IF(BR361=\"☑\",TRUE)","v":false},{"$f":"BS361","v":"春日部市"},{"$f":"IF(BT361,BU361,\"\")","v":""},{"$f":"_xlfn.TEXTJOIN(\"／\",TRUE,BV361:BV374)","v":""},"□","鴻巣市",{"$f":"IF(BX361=\"☑\",TRUE)","v":false},{"$f":"BY361","v":"鴻巣市"},{"$f":"IF(BZ361,CA361,\"\")","v":""},{"$f":"_xlfn.TEXTJOIN(\"／\",TRUE,CB361:CB374)","v":""},"□","川越市",{"$f":"IF(CD361=\"☑\",TRUE)","v":false},"川越市",{"$f":"IF(CF361,CG361,\"\")","v":""},{"$f":"_xlfn.TEXTJOIN(\"／\",TRUE,CH361:CH374)","v":""},"□","所沢市",{"$f":"IF(CJ361=\"☑\",TRUE)","v":false},{"$f":"CK361","v":"所沢市"},{"$f":"IF(CL361,CM361,\"\")","v":""},{"$f":"_xlfn.TEXTJOIN(\"／\",TRUE,CN361:CN374)","v":""},"□","行田市",{"$f":"IF(CP361=\"☑\",TRUE)","v":false},{"$f":"CQ361","v":"行田市"},{"$f":"IF(CR361,CS361,\"\")","v":""},{"$f":"_xludf.TEXTJOIN(\",\",TRUE,CT361:CT374)","v":""},"□","熊谷市",{"$f":"IF(CV361=\"☑\",TRUE)","v":false},{"$f":"CW361","v":"熊谷市"},{"$f":"IF(CX361,CY361,\"\")","v":""},{"$f":"_xlfn.TEXTJOIN(\"／\",TRUE,CZ361:CZ374)","v":""},"□","秩父市",{"$f":"IF(DB361=\"☑\",TRUE)","v":false},{"$f":"DC361","v":"秩父市"},{"$f":"IF(DD361,DE361,\"\")","v":""},{"$f":"_xlfn.TEXTJOIN(\"／\",TRUE,DF361:DF374)","v":""},{"$f":"_xlfn.TEXTJOIN(\"／\",TRUE,BE361,BK361,BQ361,BW361,CC361,CI361,CO361,CU361,DA361,DG361)","v":""},null,null,null,null,null,null,null,{"$f":"IF(#REF!=\"☑\",TRUE)","v":{"$error":"#REF!"}},{"$f":"IF(DP361,#REF!,\"\")","v":{"$error":"#REF!"}},{"$f":"_xludf.TEXTJOIN(\",\",TRUE,DQ361:DQ374)","v":{"$error":"#VALUE!"}}]
[null,null,null,null,null,null,null,null,null,null,null,null,null,null,null,null,null,null,"□","買物サポート",false,"","□","料理デリバリー（出前）",false,"","□","フィットネス・ジム（送迎）",{"$f":"IF(AA362=\"☑\",TRUE)","v":false},{"$f":"IF(AC362,AB362,\"\")","v":""},"□","出張料理",{"$f":"IF(AE362=\"☑\",TRUE)","v":false},{"$f":"IF(AG362,AF362,\"\")","v":""},"□","温泉・銭湯（たまり場）",false,"","□","多目的トイレ",false,"","□","習い事",{"$f":"IF(AQ362=\"☑\",TRUE)","v":false},{"$f":"IF(AS362,AR362,\"\")","v":""},"□","金融・保険",false,"",null,"□","北区",{"$f":"IF(AZ362=\"☑\",TRUE)","v":false},"さいたま市北区",{"$f":"IF(BB362,BC362,\"\")","v":""},null,"□","蕨市",{"$f":"IF(BF362=\"☑\",TRUE)","v":false},{"$f":"BG362","v":"蕨市"},{"$f":"IF(BH362,BI362,\"\")","v":""},null,"□","志木市",{"$f":"IF(BL362=\"☑\",TRUE)","v":false},"志木市",{"$f":"IF(BN362,BO362,\"\")","v":""},null,"□","草加市",{"$f":"IF(BR362=\"☑\",TRUE)","v":false},"草加市","",null,"□","上尾市",{"$f":"IF(BX362=\"☑\",TRUE)","v":false},{"$f":"BY362","v":"上尾市"},{"$f":"IF(BZ362,CA362,\"\")","v":""},null,"□","東松山市",{"$f":"IF(CD362=\"☑\",TRUE)","v":false},"東松山市",{"$f":"IF(CF362,CG362,\"\")","v":""},null,"□","飯能市",{"$f":"IF(CJ362=\"☑\",TRUE)","v":false},{"$f":"CK362","v":"飯能市"},{"$f":"IF(CL362,CM362,\"\")","v":""},null,"□","加須市",{"$f":"IF(CP362=\"☑\",TRUE)","v":false},"加須市",{"$f":"IF(CR362,CS362,\"\")","v":""},null,"□","本庄市",{"$f":"IF(CV362=\"☑\",TRUE)","v":false},"本庄市",{"$f":"IF(CX362,CY362,\"\")","v":""},null,"□","横瀬町",{"$f":"IF(DB362=\"☑\",TRUE)","v":false},{"$f":"DC362","v":"横瀬町"},{"$f":"IF(DD362,DE362,\"\")","v":""},null,null,null,null,null,null,null,null,null,null,{"$f":"IF(DP362,#REF!,\"\")","v":""}]
[null,null,null,null,null,null,null,null,null,null,null,null,null,null,null,null,null,null,"□","買物代行",false,"","□","食材宅配",false,"","□","温泉・銭湯（送迎）",false,"","□","屋外作業・力仕事",false,"","□","カフェ・ファーストフード",false,"","□","休憩スペース",false,"","□","映画館",false,"","□","住宅・リフォーム",false,"",null,"□","大宮区",false,"さいたま市大宮区","",null,"□","戸田市",{"$f":"IF(BF363=\"☑\",TRUE)","v":false},{"$f":"BG363","v":"戸田市"},"",null,"□","和光市",false,"和光市","",null,"□","越谷市",false,"越谷市","",null,"□","桶川市",{"$f":"IF(BX363=\"☑\",TRUE)","v":false},{"$f":"BY363","v":"桶川市"},"",null,"□","坂戸市",false,"坂戸市","",null,"□","狭山市",{"$f":"IF(CJ363=\"☑\",TRUE)","v":false},{"$f":"CK363","v":"狭山市"},"",null,"□","羽生市",false,"羽生市","",null,"□","深谷市",false,"深谷市","",null,"□","皆野町",{"$f":"IF(DB363=\"☑\",TRUE)","v":false},{"$f":"DC363","v":"皆野町"},"",null,null,null,null,null,null,null,null,null,{"$f":"IF(#REF!=\"☑\",TRUE)","v":{"$error":"#REF!"}},{"$f":"IF(DP363,#REF!,\"\")","v":{"$error":"#REF!"}}]
[null,null,null,null,null,null,null,null,null,null,null,null,null,null,null,null,null,null,"□","移動販売",false,"","□","日用品配達",false,"","□","整体・マッサージ（送迎）",false,"","□","整体・マッサージ（出張）",false,"","□","飲食店",false,"","□","駐車場",false,"","□","カラオケ店",false,"","□","パソコン・スマートフォン",false,"",null,"□","見沼区",false,"さいたま市見沼区","",null,null,null,null,null,"",null,"□","新座市",false,"新座市","",null,"□","八潮市",false,"八潮市","",null,"□","北本市",{"$f":"IF(BX364=\"☑\",TRUE)","v":false},{"$f":"BY364","v":"北本市"},"",null,"□","鶴ヶ島市",false,"鶴ヶ島市","",null,"□","入間市",{"$f":"IF(CJ364=\"☑\",TRUE)","v":false},{"$f":"CK364","v":"入間市"},"",null,"□","久喜市",false,"久喜市","",null,"□","美里町",false,"美里町","",null,"□","長瀞町",{"$f":"IF(DB364=\"☑\",TRUE)","v":false},{"$f":"DC364","v":"長瀞町"},""]
[null,null,null,null,null,null,null,null,null,null,null,null,null,null,null,null,null,null,"□","割引サービス",false,"","□","薬・介護用品配達",false,"","□","乗り合いサービス",false,"","□","理容・美容（出張）",false,"","□","イートインスペース",false,"","□","貸しスペース",false,"","□","麻雀・将棋・囲碁",false,"","□","認知症サポート企業",false,"",null,"□","中央区",false,"さいたま市中央区","",null,null,null,null,null,"",null,"□","富士見市",false,"富士見市","",null,"□","三郷市",false,"三郷市","",null,"□","伊奈町",{"$f":"IF(BX365=\"☑\",TRUE)","v":false},{"$f":"BY365","v":"伊奈町"},"",null,"□","毛呂山町",false,"毛呂山町","",null,"□","日高市",{"$f":"IF(CJ365=\"☑\",TRUE)","v":false},{"$f":"CK365","v":"日高市"},"",null,"□","蓮田市",false,"蓮田市","",null,"□","神川町",false,"神川町","",null,"□","小鹿野町",{"$f":"IF(DB365=\"☑\",TRUE)","v":false},{"$f":"DC365","v":"小鹿野町"},"",null,null,null,null,null,null,null,null,null,{"$f":"IF(#REF!=\"☑\",TRUE)","v":{"$error":"#REF!"}},{"$f":"IF(DP365,#REF!,\"\")","v":{"$error":"#REF!"}}]
[null,null,null,null,null,null,null,null,null,null,null,null,null,null,null,null,null,null,"□","その他（買物）",false,"","□","クリーニング",false,{"$f":"IF(Y366,X366,\"\")","v":""},"□","個別移送サービス",false,"","□","ペット",false,"","□","その他（運動・たまり場）",false,"","□","その他（設備・施設・場所貸し）",false,"","□","ゲームセンター",false,"","□","理容・美容",false,"",null,"□","桜区",false,"さいたま市桜区","",null,null,null,null,null,"",null,"□","ふじみ野市",false,"ふじみ野市","",null,"□","吉川市",false,"吉川市","",null,null,null,null,null,"",null,"□","越生町",false,"越生町","",null,null,null,null,null,"",null,"□","幸手市",false,"幸手市","",null,"□","上里町",false,"上里町","",null,null,null,null,null,"",null,null,null,null,null,null,null,null,null,{"$f":"IF(#REF!=\"☑\",TRUE)","v":{"$error":"#REF!"}},{"$f":"IF(DP366,#REF!,\"\")","v":{"$error":"#REF!"}}]
[null,null,null,null,null,null,null,null,null,null,null,null,null,null,null,null,null,null,null,null,null,null,"□","その他（宅配・デリバリー）",false,{"$f":"IF(Y367,X367,\"\")","v":""},"□","交通機関サービス",false,"","□","その他（出張サービス）",false,"",null,null,null,null,null,null,null,null,"□","旅行・レジャー",false,"","□","成年後見・相続",false,"",null,"□","浦和区",false,"さいたま市浦和区","",null,null,null,null,null,"",null,"□","三芳町",false,"三芳町","",null,"□","松伏町",false,"松伏町","",null,null,null,null,null,"",null,"□","滑川町",false,"滑川町","",null,null,null,null,null,"",null,"□","白岡市",false,"白岡市","",null,"□","寄居町",false,"寄居町","",null,null,null,null,null,""]
[null,null,null,null,null,null,null,null,null,null,null,null,null,null,null,null,null,null,null,null,null,null,null,null,null,null,"□","その他（送迎・移動支援）",false,"",null,null,null,"",null,null,null,{"$f":"IF(AK368,AJ368,\"\")","v":""},null,null,null,{"$f":"IF(AO368,AN368,\"\")","v":""},"□","パソコン・スマホ教室",false,"","□","その他（生活サービス）",false,"",null,"□","南区",false,"さいたま市南区","",null,null,null,null,null,"",null,null,null,null,null,"",null,null,null,null,null,"",null,null,null,null,null,"",null,"□","嵐山町",false,"嵐山町","",null,null,null,null,null,"",null,"□","宮代町",false,"宮代町","",null,null,null,null,null,"",null,null,null,null,null,""]
[null,null,null,null,null,null,null,null,null,null,null,null,null,null,null,null,null,null,null,null,null,null,null,null,null,null,null,null,null,null,null,null,null,null,null,null,null,null,null,null,null,null,"□","その他（学び・趣味）",false,"",null,null,null,null,null,"□","緑区",false,"さいたま市緑区","",null,null,null,null,null,"",null,null,null,null,null,"",null,null,null,null,null,"",null,null,null,null,null,"",null,"□","小川町",false,"小川町","",null,null,null,null,null,"",null,"□","杉戸町",false,"杉戸町","",null,null,null,null,null,"",null,null,null,null,null,""]
[null,null,null,null,null,null,null,null,null,null,null,null,null,null,null,null,null,null,null,null,null,null,null,null,null,null,null,null,null,null,null,null,null,null,null,null,null,null,null,null,null,null,null,null,null,null,null,null,null,null,null,"□","岩槻区",{"$f":"IF(AZ370=\"☑\",TRUE)","v":false},"さいたま市岩槻区","",null,null,null,null,null,"",null,null,null,null,null,"",null,null,null,null,null,"",null,null,null,null,null,"",null,"□","川島町",false,"川島町","",null,null,null,null,null,"",null,null,null,null,null,"",null,null,null,null,null,"",null,null,null,null,null,""]
[null,null,null,null,null,null,null,null,null,null,null,null,null,null,null,null,null,null,null,null,null,null,null,null,null,null,null,null,null,null,null,null,null,null,null,null,null,null,null,null,null,null,null,null,null,null,null,null,null,null,null,null,null,null,null,null,null,null,null,null,null,null,null,null,null,null,null,null,null,null,null,null,null,null,null,null,null,null,null,null,null,"□","吉見町",false,"吉見町","",null,null,null,null,null,"",null,null,null,null,null,"",null,null,null,null,null,"",null,null,null,null,null,""]
[null,null,null,null,null,null,null,null,null,null,null,null,null,null,null,null,null,null,null,null,null,null,null,null,null,null,null,null,null,null,null,null,null,null,null,null,null,null,null,null,null,null,null,null,null,null,null,null,null,null,null,null,null,null,null,null,null,null,null,null,null,null,null,null,null,null,null,null,null,null,null,null,null,null,null,null,null,null,null,null,null,"□","鳩山町",false,"鳩山町","",null,null,null,null,null,"",null,null,null,null,null,"",null,null,null,null,null,"",null,null,null,null,null,""]
[null,null,null,null,null,null,null,null,null,null,null,null,null,null,null,null,null,null,null,null,null,null,null,null,null,null,null,null,null,null,null,null,null,null,null,null,null,null,null,null,null,null,null,null,null,null,null,null,null,null,null,null,null,null,null,null,null,null,null,null,null,null,null,null,null,null,null,null,null,null,null,null,null,null,null,null,null,null,null,null,null,"□","ときがわ町",false,"ときがわ町","",null,null,null,null,null,"",null,null,null,null,null,"",null,null,null,null,null,"",null,null,null,null,null,""]
[null,null,null,null,null,null,null,null,null,null,null,null,null,null,null,null,null,null,null,null,null,null,null,null,null,null,null,null,null,null,null,null,null,null,null,null,null,null,null,null,null,null,null,null,null,null,null,null,null,null,null,null,null,null,null,null,null,null,null,null,null,null,null,null,null,null,null,null,null,null,null,null,null,null,null,null,null,null,null,null,null,"□","東秩父村",false,"東秩父村","",null,null,null,null,null,"",null,null,null,null,null,"",null,null,null,null,null,"",null,null,null,null,null,""]
[26,null,null,null,null,null,null,null,null,null,null,null,null,null,null,null,null,null,"□","配送",{"$f":"IF(S375=\"☑\",TRUE)","v":false},{"$f":"IF(U375,T375,\"\")","v":""},"□","弁当配達",{"$f":"IF(W375=\"☑\",TRUE)","v":false},{"$f":"IF(Y375,X375,\"\")","v":""},"□","理容・美容（送迎）",{"$f":"IF(AA375=\"☑\",TRUE)","v":false},{"$f":"IF(AC375,AB375,\"\")","v":""},"□","家事代行・掃除・片付け",{"$f":"IF(AE375=\"☑\",TRUE)","v":false},{"$f":"IF(AG375,AF375,\"\")","v":""},"□","フィットネス・ジム（運動）",{"$f":"IF(AI375=\"☑\",TRUE)","v":false},{"$f":"IF(AK375,AJ375,\"\")","v":""},"□","車イス対応（バリアフリー）",{"$f":"IF(AM375=\"☑\",TRUE)","v":false},{"$f":"IF(AO375,AN375,\"\")","v":""},"□","講座・教室・イベント",{"$f":"IF(AQ375=\"☑\",TRUE)","v":false},{"$f":"IF(AS375,AR375,\"\")","v":""},"□","防犯・見守り",{"$f":"IF(AU375=\"☑\",TRUE)","v":false},{"$f":"IF(AW375,AV375,\"\")","v":""},{"$f":"_xlfn.TEXTJOIN(\"／\",TRUE,V375:V388,Z375:Z388,AD375:AD388,AH375:AH388,AL375:AL388,AP375:AP388,AT375:AT388,AX375:AX388)","v":""},"□","西区",{"$f":"IF(AZ375=\"☑\",TRUE)","v":false},{"$f":"\"さいたま市\"&BA375","v":"さいたま市西区"},{"$f":"IF(BB375,BC375,\"\")","v":""},{"$f":"_xlfn.TEXTJOIN(\"／\",TRUE,BD375:BD388)","v":""},"□","川口市",{"$f":"IF(BF375=\"☑\",TRUE)","v":false},{"$f":"BG375","v":"川口市"},{"$f":"IF(BH375,BI375,\"\")","v":""},{"$f":"_xludf.TEXTJOIN(\",\",TRUE,BJ375:BJ388)","v":""},"□","朝霞市",{"$f":"IF(BL375=\"☑\",TRUE)","v":false},{"$f":"BM375","v":"朝霞市"},{"$f":"IF(BN375,BO375,\"\")","v":""},{"$f":"_xlfn.TEXTJOIN(\"／\",TRUE,BP375:BP388)","v":""},"□","春日部市",{"$f":"IF(BR375=\"☑\",TRUE)","v":false},{"$f":"BS375","v":"春日部市"},{"$f":"IF(BT375,BU375,\"\")","v":""},{"$f":"_xlfn.TEXTJOIN(\"／\",TRUE,BV375:BV388)","v":""},"□","鴻巣市",{"$f":"IF(BX375=\"☑\",TRUE)","v":false},{"$f":"BY375","v":"鴻巣市"},{"$f":"IF(BZ375,CA375,\"\")","v":""},{"$f":"_xlfn.TEXTJOIN(\"／\",TRUE,CB375:CB388)","v":""},"□","川越市",{"$f":"IF(CD375=\"☑\",TRUE)","v":false},"川越市",{"$f":"IF(CF375,CG375,\"\")","v":""},{"$f":"_xlfn.TEXTJOIN(\"／\",TRUE,CH375:CH388)","v":""},"□","所沢市",{"$f":"IF(CJ375=\"☑\",TRUE)","v":false},{"$f":"CK375","v":"所沢市"},{"$f":"IF(CL375,CM375,\"\")","v":""},{"$f":"_xlfn.TEXTJOIN(\"／\",TRUE,CN375:CN388)","v":""},"□","行田市",{"$f":"IF(CP375=\"☑\",TRUE)","v":false},{"$f":"CQ375","v":"行田市"},{"$f":"IF(CR375,CS375,\"\")","v":""},{"$f":"_xludf.TEXTJOIN(\",\",TRUE,CT375:CT388)","v":""},"□","熊谷市",{"$f":"IF(CV375=\"☑\",TRUE)","v":false},{"$f":"CW375","v":"熊谷市"},{"$f":"IF(CX375,CY375,\"\")","v":""},{"$f":"_xlfn.TEXTJOIN(\"／\",TRUE,CZ375:CZ388)","v":""},"□","秩父市",{"$f":"IF(DB375=\"☑\",TRUE)","v":false},{"$f":"DC375","v":"秩父市"},{"$f":"IF(DD375,DE375,\"\")","v":""},{"$f":"_xlfn.TEXTJOIN(\"／\",TRUE,DF375:DF388)","v":""},{"$f":"_xlfn.TEXTJOIN(\"／\",TRUE,BE375,BK375,BQ375,BW375,CC375,CI375,CO375,CU375,DA375,DG375)","v":""},null,null,null,null,null,null,null,{"$f":"IF(#REF!=\"☑\",TRUE)","v":{"$error":"#REF!"}},{"$f":"IF(DP375,#REF!,\"\")","v":{"$error":"#REF!"}},{"$f":"_xludf.TEXTJOIN(\",\",TRUE,DQ375:DQ388)","v":{"$error":"#VALUE!"}}]
[null,null,null,null,null,null,null,null,null,null,null,null,null,null,null,null,null,null,"□","買物サポート",false,"","□","料理デリバリー（出前）",false,"","□","フィットネス・ジム（送迎）",{"$f":"IF(AA376=\"☑\",TRUE)","v":false},{"$f":"IF(AC376,AB376,\"\")","v":""},"□","出張料理",{"$f":"IF(AE376=\"☑\",TRUE)","v":false},{"$f":"IF(AG376,AF376,\"\")","v":""},"□","温泉・銭湯（たまり場）",false,"","□","多目的トイレ",false,"","□","習い事",{"$f":"IF(AQ376=\"☑\",TRUE)","v":false},{"$f":"IF(AS376,AR376,\"\")","v":""},"□","金融・保険",false,"",null,"□","北区",{"$f":"IF(AZ376=\"☑\",TRUE)","v":false},"さいたま市北区",{"$f":"IF(BB376,BC376,\"\")","v":""},null,"□","蕨市",{"$f":"IF(BF376=\"☑\",TRUE)","v":false},{"$f":"BG376","v":"蕨市"},{"$f":"IF(BH376,BI376,\"\")","v":""},null,"□","志木市",{"$f":"IF(BL376=\"☑\",TRUE)","v":false},"志木市",{"$f":"IF(BN376,BO376,\"\")","v":""},null,"□","草加市",{"$f":"IF(BR376=\"☑\",TRUE)","v":false},"草加市","",null,"□","上尾市",{"$f":"IF(BX376=\"☑\",TRUE)","v":false},{"$f":"BY376","v":"上尾市"},{"$f":"IF(BZ376,CA376,\"\")","v":""},null,"□","東松山市",{"$f":"IF(CD376=\"☑\",TRUE)","v":false},"東松山市",{"$f":"IF(CF376,CG376,\"\")","v":""},null,"□","飯能市",{"$f":"IF(CJ376=\"☑\",TRUE)","v":false},{"$f":"CK376","v":"飯能市"},{"$f":"IF(CL376,CM376,\"\")","v":""},null,"□","加須市",{"$f":"IF(CP376=\"☑\",TRUE)","v":false},"加須市",{"$f":"IF(CR376,CS376,\"\")","v":""},null,"□","本庄市",{"$f":"IF(CV376=\"☑\",TRUE)","v":false},"本庄市",{"$f":"IF(CX376,CY376,\"\")","v":""},null,"□","横瀬町",{"$f":"IF(DB376=\"☑\",TRUE)","v":false},{"$f":"DC376","v":"横瀬町"},{"$f":"IF(DD376,DE376,\"\")","v":""},null,null,null,null,null,null,null,null,null,null,{"$f":"IF(DP376,#REF!,\"\")","v":""}]
[null,null,null,null,null,null,null,null,null,null,null,null,null,null,null,null,null,null,"□","買物代行",false,"","□","食材宅配",false,"","□","温泉・銭湯（送迎）",false,"","□","屋外作業・力仕事",false,"","□","カフェ・ファーストフード",false,"","□","休憩スペース",false,"","□","映画館",false,"","□","住宅・リフォーム",false,"",null,"□","大宮区",false,"さいたま市大宮区","",null,"□","戸田市",{"$f":"IF(BF377=\"☑\",TRUE)","v":false},{"$f":"BG377","v":"戸田市"},"",null,"□","和光市",false,"和光市","",null,"□","越谷市",false,"越谷市","",null,"□","桶川市",{"$f":"IF(BX377=\"☑\",TRUE)","v":false},{"$f":"BY377","v":"桶川市"},"",null,"□","坂戸市",false,"坂戸市","",null,"□","狭山市",{"$f":"IF(CJ377=\"☑\",TRUE)","v":false},{"$f":"CK377","v":"狭山市"},"",null,"□","羽生市",false,"羽生市","",null,"□","深谷市",false,"深谷市","",null,"□","皆野町",{"$f":"IF(DB377=\"☑\",TRUE)","v":false},{"$f":"DC377","v":"皆野町"},"",null,null,null,null,null,null,null,null,null,{"$f":"IF(#REF!=\"☑\",TRUE)","v":{"$error":"#REF!"}},{"$f":"IF(DP377,#REF!,\"\")","v":{"$error":"#REF!"}}]
[null,null,null,null,null,null,null,null,null,null,null,null,null,null,null,null,null,null,"□","移動販売",false,"","□","日用品配達",false,"","□","整体・マッサージ（送迎）",false,"","□","整体・マッサージ（出張）",false,"","□","飲食店",false,"","□","駐車場",false,"","□","カラオケ店",false,"","□","パソコン・スマートフォン",false,"",null,"□","見沼区",false,"さいたま市見沼区","",null,null,null,null,null,"",null,"□","新座市",false,"新座市","",null,"□","八潮市",false,"八潮市","",null,"□","北本市",{"$f":"IF(BX378=\"☑\",TRUE)","v":false},{"$f":"BY378","v":"北本市"},"",null,"□","鶴ヶ島市",false,"鶴ヶ島市","",null,"□","入間市",{"$f":"IF(CJ378=\"☑\",TRUE)","v":false},{"$f":"CK378","v":"入間市"},"",null,"□","久喜市",false,"久喜市","",null,"□","美里町",false,"美里町","",null,"□","長瀞町",{"$f":"IF(DB378=\"☑\",TRUE)","v":false},{"$f":"DC378","v":"長瀞町"},""]
[null,null,null,null,null,null,null,null,null,null,null,null,null,null,null,null,null,null,"□","割引サービス",false,"","□","薬・介護用品配達",false,"","□","乗り合いサービス",false,"","□","理容・美容（出張）",false,"","□","イートインスペース",false,"","□","貸しスペース",false,"","□","麻雀・将棋・囲碁",false,"","□","認知症サポート企業",false,"",null,"□","中央区",false,"さいたま市中央区","",null,null,null,null,null,"",null,"□","富士見市",false,"富士見市","",null,"□","三郷市",false,"三郷市","",null,"□","伊奈町",{"$f":"IF(BX379=\"☑\",TRUE)","v":false},{"$f":"BY379","v":"伊奈町"},"",null,"□","毛呂山町",false,"毛呂山町","",null,"□","日高市",{"$f":"IF(CJ379=\"☑\",TRUE)","v":false},{"$f":"CK379","v":"日高市"},"",null,"□","蓮田市",false,"蓮田市","",null,"□","神川町",false,"神川町","",null,"□","小鹿野町",{"$f":"IF(DB379=\"☑\",TRUE)","v":false},{"$f":"DC379","v":"小鹿野町"},"",null,null,null,null,null,null,null,null,null,{"$f":"IF(#REF!=\"☑\",TRUE)","v":{"$error":"#REF!"}},{"$f":"IF(DP379,#REF!,\"\")","v":{"$error":"#REF!"}}]
[null,null,null,null,null,null,null,null,null,null,null,null,null,null,null,null,null,null,"□","その他（買物）",false,"","□","クリーニング",false,{"$f":"IF(Y380,X380,\"\")","v":""},"□","個別移送サービス",false,"","□","ペット",false,"","□","その他（運動・たまり場）",false,"","□","その他（設備・施設・場所貸し）",false,"","□","ゲームセンター",false,"","□","理容・美容",false,"",null,"□","桜区",false,"さいたま市桜区","",null,null,null,null,null,"",null,"□","ふじみ野市",false,"ふじみ野市","",null,"□","吉川市",false,"吉川市","",null,null,null,null,null,"",null,"□","越生町",false,"越生町","",null,null,null,null,null,"",null,"□","幸手市",false,"幸手市","",null,"□","上里町",false,"上里町","",null,null,null,null,null,"",null,null,null,null,null,null,null,null,null,{"$f":"IF(#REF!=\"☑\",TRUE)","v":{"$error":"#REF!"}},{"$f":"IF(DP380,#REF!,\"\")","v":{"$error":"#REF!"}}]
[null,null,null,null,null,null,null,null,null,null,null,null,null,null,null,null,null,null,null,null,null,null,"□","その他（宅配・デリバリー）",false,{"$f":"IF(Y381,X381,\"\")","v":""},"□","交通機関サービス",false,"","□","その他（出張サービス）",false,"",null,null,null,null,null,null,null,null,"□","旅行・レジャー",false,"","□","成年後見・相続",false,"",null,"□","浦和区",false,"さいたま市浦和区","",null,null,null,null,null,"",null,"□","三芳町",false,"三芳町","",null,"□","松伏町",false,"松伏町","",null,null,null,null,null,"",null,"□","滑川町",false,"滑川町","",null,null,null,null,null,"",null,"□","白岡市",false,"白岡市","",null,"□","寄居町",false,"寄居町","",null,null,null,null,null,""]
[null,null,null,null,null,null,null,null,null,null,null,null,null,null,null,null,null,null,null,null,null,null,null,null,null,null,"□","その他（送迎・移動支援）",false,"",null,null,null,"",null,null,null,{"$f":"IF(AK382,AJ382,\"\")","v":""},null,null,null,{"$f":"IF(AO382,AN382,\"\")","v":""},"□","パソコン・スマホ教室",false,"","□","その他（生活サービス）",false,"",null,"□","南区",false,"さいたま市南区","",null,null,null,null,null,"",null,null,null,null,null,"",null,null,null,null,null,"",null,null,null,null,null,"",null,"□","嵐山町",false,"嵐山町","",null,null,null,null,null,"",null,"□","宮代町",false,"宮代町","",null,null,null,null,null,"",null,null,null,null,null,""]
[null,null,null,null,null,null,null,null,null,null,null,null,null,null,null,null,null,null,null,null,null,null,null,null,null,null,null,null,null,null,null,null,null,null,null,null,null,null,null,null,null,null,"□","その他（学び・趣味）",false,"",null,null,null,null,null,"□","緑区",false,"さいたま市緑区","",null,null,null,null,null,"",null,null,null,null,null,"",null,null,null,null,null,"",null,null,null,null,null,"",null,"□","小川町",false,"小川町","",null,null,null,null,null,"",null,"□","杉戸町",false,"杉戸町","",null,null,null,null,null,"",null,null,null,null,null,""]
[null,null,null,null,null,null,null,null,null,null,null,null,null,null,null,null,null,null,null,null,null,null,null,null,null,null,null,null,null,null,null,null,null,null,null,null,null,null,null,null,null,null,null,null,null,null,null,null,null,null,null,"□","岩槻区",{"$f":"IF(AZ384=\"☑\",TRUE)","v":false},"さいたま市岩槻区","",null,null,null,null,null,"",null,null,null,null,null,"",null,null,null,null,null,"",null,null,null,null,null,"",null,"□","川島町",false,"川島町","",null,null,null,null,null,"",null,null,null,null,null,"",null,null,null,null,null,"",null,null,null,null,null,""]
[null,null,null,null,null,null,null,null,null,null,null,null,null,null,null,null,null,null,null,null,null,null,null,null,null,null,null,null,null,null,null,null,null,null,null,null,null,null,null,null,null,null,null,null,null,null,null,null,null,null,null,null,null,null,null,null,null,null,null,null,null,null,null,null,null,null,null,null,null,null,null,null,null,null,null,null,null,null,null,null,null,"□","吉見町",false,"吉見町","",null,null,null,null,null,"",null,null,null,null,null,"",null,null,null,null,null,"",null,null,null,null,null,""]
[null,null,null,null,null,null,null,null,null,null,null,null,null,null,null,null,null,null,null,null,null,null,null,null,null,null,null,null,null,null,null,null,null,null,null,null,null,null,null,null,null,null,null,null,null,null,null,null,null,null,null,null,null,null,null,null,null,null,null,null,null,null,null,null,null,null,null,null,null,null,null,null,null,null,null,null,null,null,null,null,null,"□","鳩山町",false,"鳩山町","",null,null,null,null,null,"",null,null,null,null,null,"",null,null,null,null,null,"",null,null,null,null,null,""]
[null,null,null,null,null,null,null,null,null,null,null,null,null,null,null,null,null,null,null,null,null,null,null,null,null,null,null,null,null,null,null,null,null,null,null,null,null,null,null,null,null,null,null,null,null,null,null,null,null,null,null,null,null,null,null,null,null,null,null,null,null,null,null,null,null,null,null,null,null,null,null,null,null,null,null,null,null,null,null,null,null,"□","ときがわ町",false,"ときがわ町","",null,null,null,null,null,"",null,null,null,null,null,"",null,null,null,null,null,"",null,null,null,null,null,""]
[null,null,null,null,null,null,null,null,null,null,null,null,null,null,null,null,null,null,null,null,null,null,null,null,null,null,null,null,null,null,null,null,null,null,null,null,null,null,null,null,null,null,null,null,null,null,null,null,null,null,null,null,null,null,null,null,null,null,null,null,null,null,null,null,null,null,null,null,null,null,null,null,null,null,null,null,null,null,null,null,null,"□","東秩父村",false,"東秩父村","",null,null,null,null,null,"",null,null,null,null,null,"",null,null,null,null,null,"",null,null,null,null,null,""]
[27,null,null,null,null,null,null,null,null,null,null,null,null,null,null,null,null,null,"□","配送",{"$f":"IF(S389=\"☑\",TRUE)","v":false},{"$f":"IF(U389,T389,\"\")","v":""},"□","弁当配達",{"$f":"IF(W389=\"☑\",TRUE)","v":false},{"$f":"IF(Y389,X389,\"\")","v":""},"□","理容・美容（送迎）",{"$f":"IF(AA389=\"☑\",TRUE)","v":false},{"$f":"IF(AC389,AB389,\"\")","v":""},"□","家事代行・掃除・片付け",{"$f":"IF(AE389=\"☑\",TRUE)","v":false},{"$f":"IF(AG389,AF389,\"\")","v":""},"□","フィットネス・ジム（運動）",{"$f":"IF(AI389=\"☑\",TRUE)","v":false},{"$f":"IF(AK389,AJ389,\"\")","v":""},"□","車イス対応（バリアフリー）",{"$f":"IF(AM389=\"☑\",TRUE)","v":false},{"$f":"IF(AO389,AN389,\"\")","v":""},"□","講座・教室・イベント",{"$f":"IF(AQ389=\"☑\",TRUE)","v":false},{"$f":"IF(AS389,AR389,\"\")","v":""},"□","防犯・見守り",{"$f":"IF(AU389=\"☑\",TRUE)","v":false},{"$f":"IF(AW389,AV389,\"\")","v":""},{"$f":"_xlfn.TEXTJOIN(\"／\",TRUE,V389:V402,Z389:Z402,AD389:AD402,AH389:AH402,AL389:AL402,AP389:AP402,AT389:AT402,AX389:AX402)","v":""},"□","西区",{"$f":"IF(AZ389=\"☑\",TRUE)","v":false},{"$f":"\"さいたま市\"&BA389","v":"さいたま市西区"},{"$f":"IF(BB389,BC389,\"\")","v":""},{"$f":"_xlfn.TEXTJOIN(\"／\",TRUE,BD389:BD402)","v":""},"□","川口市",{"$f":"IF(BF389=\"☑\",TRUE)","v":false},{"$f":"BG389","v":"川口市"},{"$f":"IF(BH389,BI389,\"\")","v":""},{"$f":"_xludf.TEXTJOIN(\",\",TRUE,BJ389:BJ402)","v":""},"□","朝霞市",{"$f":"IF(BL389=\"☑\",TRUE)","v":false},{"$f":"BM389","v":"朝霞市"},{"$f":"IF(BN389,BO389,\"\")","v":""},{"$f":"_xlfn.TEXTJOIN(\"／\",TRUE,BP389:BP402)","v":""},"□","春日部市",{"$f":"IF(BR389=\"☑\",TRUE)","v":false},{"$f":"BS389","v":"春日部市"},{"$f":"IF(BT389,BU389,\"\")","v":""},{"$f":"_xlfn.TEXTJOIN(\"／\",TRUE,BV389:BV402)","v":""},"□","鴻巣市",{"$f":"IF(BX389=\"☑\",TRUE)","v":false},{"$f":"BY389","v":"鴻巣市"},{"$f":"IF(BZ389,CA389,\"\")","v":""},{"$f":"_xlfn.TEXTJOIN(\"／\",TRUE,CB389:CB402)","v":""},"□","川越市",{"$f":"IF(CD389=\"☑\",TRUE)","v":false},"川越市",{"$f":"IF(CF389,CG389,\"\")","v":""},{"$f":"_xlfn.TEXTJOIN(\"／\",TRUE,CH389:CH402)","v":""},"□","所沢市",{"$f":"IF(CJ389=\"☑\",TRUE)","v":false},{"$f":"CK389","v":"所沢市"},{"$f":"IF(CL389,CM389,\"\")","v":""},{"$f":"_xlfn.TEXTJOIN(\"／\",TRUE,CN389:CN402)","v":""},"□","行田市",{"$f":"IF(CP389=\"☑\",TRUE)","v":false},{"$f":"CQ389","v":"行田市"},{"$f":"IF(CR389,CS389,\"\")","v":""},{"$f":"_xludf.TEXTJOIN(\",\",TRUE,CT389:CT402)","v":""},"□","熊谷市",{"$f":"IF(CV389=\"☑\",TRUE)","v":false},{"$f":"CW389","v":"熊谷市"},{"$f":"IF(CX389,CY389,\"\")","v":""},{"$f":"_xlfn.TEXTJOIN(\"／\",TRUE,CZ389:CZ402)","v":""},"□","秩父市",{"$f":"IF(DB389=\"☑\",TRUE)","v":false},{"$f":"DC389","v":"秩父市"},{"$f":"IF(DD389,DE389,\"\")","v":""},{"$f":"_xlfn.TEXTJOIN(\"／\",TRUE,DF389:DF402)","v":""},{"$f":"_xlfn.TEXTJOIN(\"／\",TRUE,BE389,BK389,BQ389,BW389,CC389,CI389,CO389,CU389,DA389,DG389)","v":""},null,null,null,null,null,null,null,{"$f":"IF(#REF!=\"☑\",TRUE)","v":{"$error":"#REF!"}},{"$f":"IF(DP389,#REF!,\"\")","v":{"$error":"#REF!"}},{"$f":"_xludf.TEXTJOIN(\",\",TRUE,DQ389:DQ402)","v":{"$error":"#VALUE!"}}]
[null,null,null,null,null,null,null,null,null,null,null,null,null,null,null,null,null,null,"□","買物サポート",false,"","□","料理デリバリー（出前）",false,"","□","フィットネス・ジム（送迎）",{"$f":"IF(AA390=\"☑\",TRUE)","v":false},{"$f":"IF(AC390,AB390,\"\")","v":""},"□","出張料理",{"$f":"IF(AE390=\"☑\",TRUE)","v":false},{"$f":"IF(AG390,AF390,\"\")","v":""},"□","温泉・銭湯（たまり場）",false,"","□","多目的トイレ",false,"","□","習い事",{"$f":"IF(AQ390=\"☑\",TRUE)","v":false},{"$f":"IF(AS390,AR390,\"\")","v":""},"□","金融・保険",false,"",null,"□","北区",{"$f":"IF(AZ390=\"☑\",TRUE)","v":false},"さいたま市北区",{"$f":"IF(BB390,BC390,\"\")","v":""},null,"□","蕨市",{"$f":"IF(BF390=\"☑\",TRUE)","v":false},{"$f":"BG390","v":"蕨市"},{"$f":"IF(BH390,BI390,\"\")","v":""},null,"□","志木市",{"$f":"IF(BL390=\"☑\",TRUE)","v":false},"志木市",{"$f":"IF(BN390,BO390,\"\")","v":""},null,"□","草加市",{"$f":"IF(BR390=\"☑\",TRUE)","v":false},"草加市","",null,"□","上尾市",{"$f":"IF(BX390=\"☑\",TRUE)","v":false},{"$f":"BY390","v":"上尾市"},{"$f":"IF(BZ390,CA390,\"\")","v":""},null,"□","東松山市",{"$f":"IF(CD390=\"☑\",TRUE)","v":false},"東松山市",{"$f":"IF(CF390,CG390,\"\")","v":""},null,"□","飯能市",{"$f":"IF(CJ390=\"☑\",TRUE)","v":false},{"$f":"CK390","v":"飯能市"},{"$f":"IF(CL390,CM390,\"\")","v":""},null,"□","加須市",{"$f":"IF(CP390=\"☑\",TRUE)","v":false},"加須市",{"$f":"IF(CR390,CS390,\"\")","v":""},null,"□","本庄市",{"$f":"IF(CV390=\"☑\",TRUE)","v":false},"本庄市",{"$f":"IF(CX390,CY390,\"\")","v":""},null,"□","横瀬町",{"$f":"IF(DB390=\"☑\",TRUE)","v":false},{"$f":"DC390","v":"横瀬町"},{"$f":"IF(DD390,DE390,\"\")","v":""},null,null,null,null,null,null,null,null,null,null,{"$f":"IF(DP390,#REF!,\"\")","v":""}]
[null,null,null,null,null,null,null,null,null,null,null,null,null,null,null,null,null,null,"□","買物代行",false,"","□","食材宅配",false,"","□","温泉・銭湯（送迎）",false,"","□","屋外作業・力仕事",false,"","□","カフェ・ファーストフード",false,"","□","休憩スペース",false,"","□","映画館",false,"","□","住宅・リフォーム",false,"",null,"□","大宮区",false,"さいたま市大宮区","",null,"□","戸田市",{"$f":"IF(BF391=\"☑\",TRUE)","v":false},{"$f":"BG391","v":"戸田市"},"",null,"□","和光市",false,"和光市","",null,"□","越谷市",false,"越谷市","",null,"□","桶川市",{"$f":"IF(BX391=\"☑\",TRUE)","v":false},{"$f":"BY391","v":"桶川市"},"",null,"□","坂戸市",false,"坂戸市","",null,"□","狭山市",{"$f":"IF(CJ391=\"☑\",TRUE)","v":false},{"$f":"CK391","v":"狭山市"},"",null,"□","羽生市",false,"羽生市","",null,"□","深谷市",false,"深谷市","",null,"□","皆野町",{"$f":"IF(DB391=\"☑\",TRUE)","v":false},{"$f":"DC391","v":"皆野町"},"",null,null,null,null,null,null,null,null,null,{"$f":"IF(#REF!=\"☑\",TRUE)","v":{"$error":"#REF!"}},{"$f":"IF(DP391,#REF!,\"\")","v":{"$error":"#REF!"}}]
[null,null,null,null,null,null,null,null,null,null,null,null,null,null,null,null,null,null,"□","移動販売",false,"","□","日用品配達",false,"","□","整体・マッサージ（送迎）",false,"","□","整体・マッサージ（出張）",false,"","□","飲食店",false,"","□","駐車場",false,"","□","カラオケ店",false,"","□","パソコン・スマートフォン",false,"",null,"□","見沼区",false,"さいたま市見沼区","",null,null,null,null,null,"",null,"□","新座市",false,"新座市","",null,"□","八潮市",false,"八潮市","",null,"□","北本市",{"$f":"IF(BX392=\"☑\",TRUE)","v":false},{"$f":"BY392","v":"北本市"},"",null,"□","鶴ヶ島市",false,"鶴ヶ島市","",null,"□","入間市",{"$f":"IF(CJ392=\"☑\",TRUE)","v":false},{"$f":"CK392","v":"入間市"},"",null,"□","久喜市",false,"久喜市","",null,"□","美里町",false,"美里町","",null,"□","長瀞町",{"$f":"IF(DB392=\"☑\",TRUE)","v":false},{"$f":"DC392","v":"長瀞町"},""]
[null,null,null,null,null,null,null,null,null,null,null,null,null,null,null,null,null,null,"□","割引サービス",false,"","□","薬・介護用品配達",false,"","□","乗り合いサービス",false,"","□","理容・美容（出張）",false,"","□","イートインスペース",false,"","□","貸しスペース",false,"","□","麻雀・将棋・囲碁",false,"","□","認知症サポート企業",false,"",null,"□","中央区",false,"さいたま市中央区","",null,null,null,null,null,"",null,"□","富士見市",false,"富士見市","",null,"□","三郷市",false,"三郷市","",null,"□","伊奈町",{"$f":"IF(BX393=\"☑\",TRUE)","v":false},{"$f":"BY393","v":"伊奈町"},"",null,"□","毛呂山町",false,"毛呂山町","",null,"□","日高市",{"$f":"IF(CJ393=\"☑\",TRUE)","v":false},{"$f":"CK393","v":"日高市"},"",null,"□","蓮田市",false,"蓮田市","",null,"□","神川町",false,"神川町","",null,"□","小鹿野町",{"$f":"IF(DB393=\"☑\",TRUE)","v":false},{"$f":"DC393","v":"小鹿野町"},"",null,null,null,null,null,null,null,null,null,{"$f":"IF(#REF!=\"☑\",TRUE)","v":{"$error":"#REF!"}},{"$f":"IF(DP393,#REF!,\"\")","v":{"$error":"#REF!"}}]
[null,null,null,null,null,null,null,null,null,null,null,null,null,null,null,null,null,null,"□","その他（買物）",false,"","□","クリーニング",false,{"$f":"IF(Y394,X394,\"\")","v":""},"□","個別移送サービス",false,"","□","ペット",false,"","□","その他（運動・たまり場）",false,"","□","その他（設備・施設・場所貸し）",false,"","□","ゲームセンター",false,"","□","理容・美容",false,"",null,"□","桜区",false,"さいたま市桜区","",null,null,null,null,null,"",null,"□","ふじみ野市",false,"ふじみ野市","",null,"□","吉川市",false,"吉川市","",null,null,null,null,null,"",null,"□","越生町",false,"越生町","",null,null,null,null,null,"",null,"□","幸手市",false,"幸手市","",null,"□","上里町",false,"上里町","",null,null,null,null,null,"",null,null,null,null,null,null,null,null,null,{"$f":"IF(#REF!=\"☑\",TRUE)","v":{"$error":"#REF!"}},{"$f":"IF(DP394,#REF!,\"\")","v":{"$error":"#REF!"}}]
[null,null,null,null,null,null,null,null,null,null,null,null,null,null,null,null,null,null,null,null,null,null,"□","その他（宅配・デリバリー）",false,{"$f":"IF(Y395,X395,\"\")","v":""},"□","交通機関サービス",false,"","□","その他（出張サービス）",false,"",null,null,null,null,null,null,null,null,"□","旅行・レジャー",false,"","□","成年後見・相続",false,"",null,"□","浦和区",false,"さいたま市浦和区","",null,null,null,null,null,"",null,"□","三芳町",false,"三芳町","",null,"□","松伏町",false,"松伏町","",null,null,null,null,null,"",null,"□","滑川町",false,{"$f":"CE395","v":"滑川町"},"",null,null,null,null,null,"",null,"□","白岡市",false,"白岡市","",null,"□","寄居町",false,"寄居町","",null,null,null,null,null,""]
[null,null,null,null,null,null,null,null,null,null,null,null,null,null,null,null,null,null,null,null,null,null,null,null,null,null,"□","その他（送迎・移動支援）",false,"",null,null,null,"",null,null,null,{"$f":"IF(AK396,AJ396,\"\")","v":""},null,null,null,{"$f":"IF(AO396,AN396,\"\")","v":""},"□","パソコン・スマホ教室",false,"","□","その他（生活サービス）",false,"",null,"□","南区",false,"さいたま市南区","",null,null,null,null,null,"",null,null,null,null,null,"",null,null,null,null,null,"",null,null,null,null,null,"",null,"□","嵐山町",false,"嵐山町","",null,null,null,null,null,"",null,"□","宮代町",false,"宮代町","",null,null,null,null,null,"",null,null,null,null,null,""]
[null,null,null,null,null,null,null,null,null,null,null,null,null,null,null,null,null,null,null,null,null,null,null,null,null,null,null,null,null,null,null,null,null,null,null,null,null,null,null,null,null,null,"□","その他（学び・趣味）",false,"",null,null,null,null,null,"□","緑区",false,"さいたま市緑区","",null,null,null,null,null,"",null,null,null,null,null,"",null,null,null,null,null,"",null,null,null,null,null,"",null,"□","小川町",false,"小川町","",null,null,null,null,null,"",null,"□","杉戸町",false,"杉戸町","",null,null,null,null,null,"",null,null,null,null,null,""]
[null,null,null,null,null,null,null,null,null,null,null,null,null,null,null,null,null,null,null,null,null,null,null,null,null,null,null,null,null,null,null,null,null,null,null,null,null,null,null,null,null,null,null,null,null,null,null,null,null,null,null,"□","岩槻区",{"$f":"IF(AZ398=\"☑\",TRUE)","v":false},"さいたま市岩槻区","",null,null,null,null,null,"",null,null,null,null,null,"",null,null,null,null,null,"",null,null,null,null,null,"",null,"□","川島町",false,"川島町","",null,null,null,null,null,"",null,null,null,null,null,"",null,null,null,null,null,"",null,null,null,null,null,""]
[null,null,null,null,null,null,null,null,null,null,null,null,null,null,null,null,null,null,null,null,null,null,null,null,null,null,null,null,null,null,null,null,null,null,null,null,null,null,null,null,null,null,null,null,null,null,null,null,null,null,null,null,null,null,null,null,null,null,null,null,null,null,null,null,null,null,null,null,null,null,null,null,null,null,null,null,null,null,null,null,null,"□","吉見町",false,"吉見町","",null,null,null,null,null,"",null,null,null,null,null,"",null,null,null,null,null,"",null,null,null,null,null,""]
[null,null,null,null,null,null,null,null,null,null,null,null,null,null,null,null,null,null,null,null,null,null,null,null,null,null,null,null,null,null,null,null,null,null,null,null,null,null,null,null,null,null,null,null,null,null,null,null,null,null,null,null,null,null,null,null,null,null,null,null,null,null,null,null,null,null,null,null,null,null,null,null,null,null,null,null,null,null,null,null,null,"□","鳩山町",false,"鳩山町","",null,null,null,null,null,"",null,null,null,null,null,"",null,null,null,null,null,"",null,null,null,null,null,""]
[null,null,null,null,null,null,null,null,null,null,null,null,null,null,null,null,null,null,null,null,null,null,null,null,null,null,null,null,null,null,null,null,null,null,null,null,null,null,null,null,null,null,null,null,null,null,null,null,null,null,null,null,null,null,null,null,null,null,null,null,null,null,null,null,null,null,null,null,null,null,null,null,null,null,null,null,null,null,null,null,null,"□","ときがわ町",false,"ときがわ町","",null,null,null,null,null,"",null,null,null,null,null,"",null,null,null,null,null,"",null,null,null,null,null,""]
[null,null,null,null,null,null,null,null,null,null,null,null,null,null,null,null,null,null,null,null,null,null,null,null,null,null,null,null,null,null,null,null,null,null,null,null,null,null,null,null,null,null,null,null,null,null,null,null,null,null,null,null,null,null,null,null,null,null,null,null,null,null,null,null,null,null,null,null,null,null,null,null,null,null,null,null,null,null,null,null,null,"□","東秩父村",false,"東秩父村","",null,null,null,null,null,"",null,null,null,null,null,"",null,null,null,null,null,"",null,null,null,null,null,""]
[28,null,null,null,null,null,null,null,null,null,null,null,null,null,null,null,null,null,"□","配送",{"$f":"IF(S403=\"☑\",TRUE)","v":false},{"$f":"IF(U403,T403,\"\")","v":""},"□","弁当配達",{"$f":"IF(W403=\"☑\",TRUE)","v":false},{"$f":"IF(Y403,X403,\"\")","v":""},"□","理容・美容（送迎）",{"$f":"IF(AA403=\"☑\",TRUE)","v":false},{"$f":"IF(AC403,AB403,\"\")","v":""},"□","家事代行・掃除・片付け",{"$f":"IF(AE403=\"☑\",TRUE)","v":false},{"$f":"IF(AG403,AF403,\"\")","v":""},"□","フィットネス・ジム（運動）",{"$f":"IF(AI403=\"☑\",TRUE)","v":false},{"$f":"IF(AK403,AJ403,\"\")","v":""},"□","車イス対応（バリアフリー）",{"$f":"IF(AM403=\"☑\",TRUE)","v":false},{"$f":"IF(AO403,AN403,\"\")","v":""},"□","講座・教室・イベント",{"$f":"IF(AQ403=\"☑\",TRUE)","v":false},{"$f":"IF(AS403,AR403,\"\")","v":""},"□","防犯・見守り",{"$f":"IF(AU403=\"☑\",TRUE)","v":false},{"$f":"IF(AW403,AV403,\"\")","v":""},{"$f":"_xlfn.TEXTJOIN(\"／\",TRUE,V403:V416,Z403:Z416,AD403:AD416,AH403:AH416,AL403:AL416,AP403:AP416,AT403:AT416,AX403:AX416)","v":""},"□","西区",{"$f":"IF(AZ403=\"☑\",TRUE)","v":false},{"$f":"\"さいたま市\"&BA403","v":"さいたま市西区"},{"$f":"IF(BB403,BC403,\"\")","v":""},{"$f":"_xlfn.TEXTJOIN(\"／\",TRUE,BD403:BD416)","v":""},"□","川口市",{"$f":"IF(BF403=\"☑\",TRUE)","v":false},{"$f":"BG403","v":"川口市"},{"$f":"IF(BH403,BI403,\"\")","v":""},{"$f":"_xludf.TEXTJOIN(\",\",TRUE,BJ403:BJ416)","v":""},"□","朝霞市",{"$f":"IF(BL403=\"☑\",TRUE)","v":false},{"$f":"BM403","v":"朝霞市"},{"$f":"IF(BN403,BO403,\"\")","v":""},{"$f":"_xlfn.TEXTJOIN(\"／\",TRUE,BP403:BP416)","v":""},"□","春日部市",{"$f":"IF(BR403=\"☑\",TRUE)","v":false},{"$f":"BS403","v":"春日部市"},{"$f":"IF(BT403,BU403,\"\")","v":""},{"$f":"_xlfn.TEXTJOIN(\"／\",TRUE,BV403:BV416)","v":""},"□","鴻巣市",{"$f":"IF(BX403=\"☑\",TRUE)","v":false},{"$f":"BY403","v":"鴻巣市"},{"$f":"IF(BZ403,CA403,\"\")","v":""},{"$f":"_xlfn.TEXTJOIN(\"／\",TRUE,CB403:CB416)","v":""},"□","川越市",{"$f":"IF(CD403=\"☑\",TRUE)","v":false},"川越市",{"$f":"IF(CF403,CG403,\"\")","v":""},{"$f":"_xlfn.TEXTJOIN(\"／\",TRUE,CH403:CH416)","v":""},"□","所沢市",{"$f":"IF(CJ403=\"☑\",TRUE)","v":false},{"$f":"CK403","v":"所沢市"},{"$f":"IF(CL403,CM403,\"\")","v":""},{"$f":"_xlfn.TEXTJOIN(\"／\",TRUE,CN403:CN416)","v":""},"□","行田市",{"$f":"IF(CP403=\"☑\",TRUE)","v":false},{"$f":"CQ403","v":"行田市"},{"$f":"IF(CR403,CS403,\"\")","v":""},{"$f":"_xludf.TEXTJOIN(\",\",TRUE,CT403:CT416)","v":""},"□","熊谷市",{"$f":"IF(CV403=\"☑\",TRUE)","v":false},{"$f":"CW403","v":"熊谷市"},{"$f":"IF(CX403,CY403,\"\")","v":""},{"$f":"_xlfn.TEXTJOIN(\"／\",TRUE,CZ403:CZ416)","v":""},"□","秩父市",{"$f":"IF(DB403=\"☑\",TRUE)","v":false},{"$f":"DC403","v":"秩父市"},{"$f":"IF(DD403,DE403,\"\")","v":""},{"$f":"_xlfn.TEXTJOIN(\"／\",TRUE,DF403:DF416)","v":""},{"$f":"_xlfn.TEXTJOIN(\"／\",TRUE,BE403,BK403,BQ403,BW403,CC403,CI403,CO403,CU403,DA403,DG403)","v":""},null,null,null,null,null,null,null,{"$f":"IF(#REF!=\"☑\",TRUE)","v":{"$error":"#REF!"}},{"$f":"IF(DP403,#REF!,\"\")","v":{"$error":"#REF!"}},{"$f":"_xludf.TEXTJOIN(\",\",TRUE,DQ403:DQ416)","v":{"$error":"#VALUE!"}}]
[null,null,null,null,null,null,null,null,null,null,null,null,null,null,null,null,null,null,"□","買物サポート",false,"","□","料理デリバリー（出前）",false,"","□","フィットネス・ジム（送迎）",{"$f":"IF(AA404=\"☑\",TRUE)","v":false},{"$f":"IF(AC404,AB404,\"\")","v":""},"□","出張料理",{"$f":"IF(AE404=\"☑\",TRUE)","v":false},{"$f":"IF(AG404,AF404,\"\")","v":""},"□","温泉・銭湯（たまり場）",false,"","□","多目的トイレ",false,"","□","習い事",{"$f":"IF(AQ404=\"☑\",TRUE)","v":false},{"$f":"IF(AS404,AR404,\"\")","v":""},"□","金融・保険",false,"",null,"□","北区",{"$f":"IF(AZ404=\"☑\",TRUE)","v":false},"さいたま市北区",{"$f":"IF(BB404,BC404,\"\")","v":""},null,"□","蕨市",{"$f":"IF(BF404=\"☑\",TRUE)","v":false},{"$f":"BG404","v":"蕨市"},{"$f":"IF(BH404,BI404,\"\")","v":""},null,"□","志木市",{"$f":"IF(BL404=\"☑\",TRUE)","v":false},"志木市",{"$f":"IF(BN404,BO404,\"\")","v":""},null,"□","草加市",{"$f":"IF(BR404=\"☑\",TRUE)","v":false},"草加市","",null,"□","上尾市",{"$f":"IF(BX404=\"☑\",TRUE)","v":false},{"$f":"BY404","v":"上尾市"},{"$f":"IF(BZ404,CA404,\"\")","v":""},null,"□","東松山市",{"$f":"IF(CD404=\"☑\",TRUE)","v":false},"東松山市",{"$f":"IF(CF404,CG404,\"\")","v":""},null,"□","飯能市",{"$f":"IF(CJ404=\"☑\",TRUE)","v":false},{"$f":"CK404","v":"飯能市"},{"$f":"IF(CL404,CM404,\"\")","v":""},null,"□","加須市",{"$f":"IF(CP404=\"☑\",TRUE)","v":false},"加須市",{"$f":"IF(CR404,CS404,\"\")","v":""},null,"□","本庄市",{"$f":"IF(CV404=\"☑\",TRUE)","v":false},"本庄市",{"$f":"IF(CX404,CY404,\"\")","v":""},null,"□","横瀬町",{"$f":"IF(DB404=\"☑\",TRUE)","v":false},{"$f":"DC404","v":"横瀬町"},{"$f":"IF(DD404,DE404,\"\")","v":""},null,null,null,null,null,null,null,null,null,null,{"$f":"IF(DP404,#REF!,\"\")","v":""}]
[null,null,null,null,null,null,null,null,null,null,null,null,null,null,null,null,null,null,"□","買物代行",false,"","□","食材宅配",false,"","□","温泉・銭湯（送迎）",false,"","□","屋外作業・力仕事",false,"","□","カフェ・ファーストフード",false,"","□","休憩スペース",false,"","□","映画館",false,"","□","住宅・リフォーム",false,"",null,"□","大宮区",false,"さいたま市大宮区","",null,"□","戸田市",{"$f":"IF(BF405=\"☑\",TRUE)","v":false},{"$f":"BG405","v":"戸田市"},"",null,"□","和光市",false,"和光市","",null,"□","越谷市",false,"越谷市","",null,"□","桶川市",{"$f":"IF(BX405=\"☑\",TRUE)","v":false},{"$f":"BY405","v":"桶川市"},"",null,"□","坂戸市",false,"坂戸市","",null,"□","狭山市",{"$f":"IF(CJ405=\"☑\",TRUE)","v":false},{"$f":"CK405","v":"狭山市"},"",null,"□","羽生市",false,"羽生市","",null,"□","深谷市",false,"深谷市","",null,"□","皆野町",{"$f":"IF(DB405=\"☑\",TRUE)","v":false},{"$f":"DC405","v":"皆野町"},"",null,null,null,null,null,null,null,null,null,{"$f":"IF(#REF!=\"☑\",TRUE)","v":{"$error":"#REF!"}},{"$f":"IF(DP405,#REF!,\"\")","v":{"$error":"#REF!"}}]
[null,null,null,null,null,null,null,null,null,null,null,null,null,null,null,null,null,null,"□","移動販売",false,"","□","日用品配達",false,"","□","整体・マッサージ（送迎）",false,"","□","整体・マッサージ（出張）",false,"","□","飲食店",false,"","□","駐車場",false,"","□","カラオケ店",false,"","□","パソコン・スマートフォン",false,"",null,"□","見沼区",false,"さいたま市見沼区","",null,null,null,null,null,"",null,"□","新座市",false,"新座市","",null,"□","八潮市",false,"八潮市","",null,"□","北本市",{"$f":"IF(BX406=\"☑\",TRUE)","v":false},{"$f":"BY406","v":"北本市"},"",null,"□","鶴ヶ島市",false,"鶴ヶ島市","",null,"□","入間市",{"$f":"IF(CJ406=\"☑\",TRUE)","v":false},{"$f":"CK406","v":"入間市"},"",null,"□","久喜市",false,"久喜市","",null,"□","美里町",false,"美里町","",null,"□","長瀞町",{"$f":"IF(DB406=\"☑\",TRUE)","v":false},{"$f":"DC406","v":"長瀞町"},""]
[null,null,null,null,null,null,null,null,null,null,null,null,null,null,null,null,null,null,"□","割引サービス",false,"","□","薬・介護用品配達",false,"","□","乗り合いサービス",false,"","□","理容・美容（出張）",false,"","□","イートインスペース",false,"","□","貸しスペース",false,"","□","麻雀・将棋・囲碁",false,"","□","認知症サポート企業",false,"",null,"□","中央区",false,"さいたま市中央区","",null,null,null,null,null,"",null,"□","富士見市",false,"富士見市","",null,"□","三郷市",false,"三郷市","",null,"□","伊奈町",{"$f":"IF(BX407=\"☑\",TRUE)","v":false},{"$f":"BY407","v":"伊奈町"},"",null,"□","毛呂山町",false,"毛呂山町","",null,"□","日高市",{"$f":"IF(CJ407=\"☑\",TRUE)","v":false},{"$f":"CK407","v":"日高市"},"",null,"□","蓮田市",false,"蓮田市","",null,"□","神川町",false,"神川町","",null,"□","小鹿野町",{"$f":"IF(DB407=\"☑\",TRUE)","v":false},{"$f":"DC407","v":"小鹿野町"},"",null,null,null,null,null,null,null,null,null,{"$f":"IF(#REF!=\"☑\",TRUE)","v":{"$error":"#REF!"}},{"$f":"IF(DP407,#REF!,\"\")","v":{"$error":"#REF!"}}]
[null,null,null,null,null,null,null,null,null,null,null,null,null,null,null,null,null,null,"□","その他（買物）",false,"","□","クリーニング",false,{"$f":"IF(Y408,X408,\"\")","v":""},"□","個別移送サービス",false,"","□","ペット",false,"","□","その他（運動・たまり場）",false,"","□","その他（設備・施設・場所貸し）",false,"","□","ゲームセンター",false,"","□","理容・美容",false,"",null,"□","桜区",false,"さいたま市桜区","",null,null,null,null,null,"",null,"□","ふじみ野市",false,"ふじみ野市","",null,"□","吉川市",false,"吉川市","",null,null,null,null,null,"",null,"□","越生町",false,"越生町","",null,null,null,null,null,"",null,"□","幸手市",false,"幸手市","",null,"□","上里町",false,"上里町","",null,null,null,null,null,"",null,null,null,null,null,null,null,null,null,{"$f":"IF(#REF!=\"☑\",TRUE)","v":{"$error":"#REF!"}},{"$f":"IF(DP408,#REF!,\"\")","v":{"$error":"#REF!"}}]
[null,null,null,null,null,null,null,null,null,null,null,null,null,null,null,null,null,null,null,null,null,null,"□","その他（宅配・デリバリー）",false,{"$f":"IF(Y409,X409,\"\")","v":""},"□","交通機関サービス",false,"","□","その他（出張サービス）",false,"",null,null,null,null,null,null,null,null,"□","旅行・レジャー",false,"","□","成年後見・相続",false,"",null,"□","浦和区",false,"さいたま市浦和区","",null,null,null,null,null,"",null,"□","三芳町",false,"三芳町","",null,"□","松伏町",false,"松伏町","",null,null,null,null,null,"",null,"□","滑川町",false,"滑川町","",null,null,null,null,null,"",null,"□","白岡市",false,"白岡市","",null,"□","寄居町",false,"寄居町","",null,null,null,null,null,""]
[null,null,null,null,null,null,null,null,null,null,null,null,null,null,null,null,null,null,null,null,null,null,null,null,null,null,"□","その他（送迎・移動支援）",false,"",null,null,null,"",null,null,null,{"$f":"IF(AK410,AJ410,\"\")","v":""},null,null,null,{"$f":"IF(AO410,AN410,\"\")","v":""},"□","パソコン・スマホ教室",false,"","□","その他（生活サービス）",false,"",null,"□","南区",false,"さいたま市南区","",null,null,null,null,null,"",null,null,null,null,null,"",null,null,null,null,null,"",null,null,null,null,null,"",null,"□","嵐山町",false,"嵐山町","",null,null,null,null,null,"",null,"□","宮代町",false,"宮代町","",null,null,null,null,null,"",null,null,null,null,null,""]
[null,null,null,null,null,null,null,null,null,null,null,null,null,null,null,null,null,null,null,null,null,null,null,null,null,null,null,null,null,null,null,null,null,null,null,null,null,null,null,null,null,null,"□","その他（学び・趣味）",false,"",null,null,null,null,null,"□","緑区",false,"さいたま市緑区","",null,null,null,null,null,"",null,null,null,null,null,"",null,null,null,null,null,"",null,null,null,null,null,"",null,"□","小川町",false,"小川町","",null,null,null,null,null,"",null,"□","杉戸町",false,"杉戸町","",null,null,null,null,null,"",null,null,null,null,null,""]
[null,null,null,null,null,null,null,null,null,null,null,null,null,null,null,null,null,null,null,null,null,null,null,null,null,null,null,null,null,null,null,null,null,null,null,null,null,null,null,null,null,null,null,null,null,null,null,null,null,null,null,"□","岩槻区",{"$f":"IF(AZ412=\"☑\",TRUE)","v":false},"さいたま市岩槻区","",null,null,null,null,null,"",null,null,null,null,null,"",null,null,null,null,null,"",null,null,null,null,null,"",null,"□","川島町",false,"川島町","",null,null,null,null,null,"",null,null,null,null,null,"",null,null,null,null,null,"",null,null,null,null,null,""]
[null,null,null,null,null,null,null,null,null,null,null,null,null,null,null,null,null,null,null,null,null,null,null,null,null,null,null,null,null,null,null,null,null,null,null,null,null,null,null,null,null,null,null,null,null,null,null,null,null,null,null,null,null,null,null,null,null,null,null,null,null,null,null,null,null,null,null,null,null,null,null,null,null,null,null,null,null,null,null,null,null,"□","吉見町",false,"吉見町","",null,null,null,null,null,"",null,null,null,null,null,"",null,null,null,null,null,"",null,null,null,null,null,""]
[null,null,null,null,null,null,null,null,null,null,null,null,null,null,null,null,null,null,null,null,null,null,null,null,null,null,null,null,null,null,null,null,null,null,null,null,null,null,null,null,null,null,null,null,null,null,null,null,null,null,null,null,null,null,null,null,null,null,null,null,null,null,null,null,null,null,null,null,null,null,null,null,null,null,null,null,null,null,null,null,null,"□","鳩山町",false,"鳩山町","",null,null,null,null,null,"",null,null,null,null,null,"",null,null,null,null,null,"",null,null,null,null,null,""]
[null,null,null,null,null,null,null,null,null,null,null,null,null,null,null,null,null,null,null,null,null,null,null,null,null,null,null,null,null,null,null,null,null,null,null,null,null,null,null,null,null,null,null,null,null,null,null,null,null,null,null,null,null,null,null,null,null,null,null,null,null,null,null,null,null,null,null,null,null,null,null,null,null,null,null,null,null,null,null,null,null,"□","ときがわ町",false,"ときがわ町","",null,null,null,null,null,"",null,null,null,null,null,"",null,null,null,null,null,"",null,null,null,null,null,""]
[null,null,null,null,null,null,null,null,null,null,null,null,null,null,null,null,null,null,null,null,null,null,null,null,null,null,null,null,null,null,null,null,null,null,null,null,null,null,null,null,null,null,null,null,null,null,null,null,null,null,null,null,null,null,null,null,null,null,null,null,null,null,null,null,null,null,null,null,null,null,null,null,null,null,null,null,null,null,null,null,null,"□","東秩父村",false,"東秩父村","",null,null,null,null,null,"",null,null,null,null,null,"",null,null,null,null,null,"",null,null,null,null,null,""]
[29,null,null,null,null,null,null,null,null,null,null,null,null,null,null,null,null,null,"□","配送",{"$f":"IF(S417=\"☑\",TRUE)","v":false},{"$f":"IF(U417,T417,\"\")","v":""},"□","弁当配達",{"$f":"IF(W417=\"☑\",TRUE)","v":false},{"$f":"IF(Y417,X417,\"\")","v":""},"□","理容・美容（送迎）",{"$f":"IF(AA417=\"☑\",TRUE)","v":false},{"$f":"IF(AC417,AB417,\"\")","v":""},"□","家事代行・掃除・片付け",{"$f":"IF(AE417=\"☑\",TRUE)","v":false},{"$f":"IF(AG417,AF417,\"\")","v":""},"□","フィットネス・ジム（運動）",{"$f":"IF(AI417=\"☑\",TRUE)","v":false},{"$f":"IF(AK417,AJ417,\"\")","v":""},"□","車イス対応（バリアフリー）",{"$f":"IF(AM417=\"☑\",TRUE)","v":false},{"$f":"IF(AO417,AN417,\"\")","v":""},"□","講座・教室・イベント",{"$f":"IF(AQ417=\"☑\",TRUE)","v":false},{"$f":"IF(AS417,AR417,\"\")","v":""},"□","防犯・見守り",{"$f":"IF(AU417=\"☑\",TRUE)","v":false},{"$f":"IF(AW417,AV417,\"\")","v":""},{"$f":"_xlfn.TEXTJOIN(\"／\",TRUE,V417:V430,Z417:Z430,AD417:AD430,AH417:AH430,AL417:AL430,AP417:AP430,AT417:AT430,AX417:AX430)","v":""},"□","西区",{"$f":"IF(AZ417=\"☑\",TRUE)","v":false},{"$f":"\"さいたま市\"&BA417","v":"さいたま市西区"},{"$f":"IF(BB417,BC417,\"\")","v":""},{"$f":"_xlfn.TEXTJOIN(\"／\",TRUE,BD417:BD430)","v":""},"□","川口市",{"$f":"IF(BF417=\"☑\",TRUE)","v":false},{"$f":"BG417","v":"川口市"},{"$f":"IF(BH417,BI417,\"\")","v":""},{"$f":"_xludf.TEXTJOIN(\",\",TRUE,BJ417:BJ430)","v":""},"□","朝霞市",{"$f":"IF(BL417=\"☑\",TRUE)","v":false},{"$f":"BM417","v":"朝霞市"},{"$f":"IF(BN417,BO417,\"\")","v":""},{"$f":"_xlfn.TEXTJOIN(\"／\",TRUE,BP417:BP430)","v":""},"□","春日部市",{"$f":"IF(BR417=\"☑\",TRUE)","v":false},{"$f":"BS417","v":"春日部市"},{"$f":"IF(BT417,BU417,\"\")","v":""},{"$f":"_xlfn.TEXTJOIN(\"／\",TRUE,BV417:BV430)","v":""},"□","鴻巣市",{"$f":"IF(BX417=\"☑\",TRUE)","v":false},{"$f":"BY417","v":"鴻巣市"},{"$f":"IF(BZ417,CA417,\"\")","v":""},{"$f":"_xlfn.TEXTJOIN(\"／\",TRUE,CB417:CB430)","v":""},"□","川越市",{"$f":"IF(CD417=\"☑\",TRUE)","v":false},"川越市",{"$f":"IF(CF417,CG417,\"\")","v":""},{"$f":"_xlfn.TEXTJOIN(\"／\",TRUE,CH417:CH430)","v":""},"□","所沢市",{"$f":"IF(CJ417=\"☑\",TRUE)","v":false},{"$f":"CK417","v":"所沢市"},{"$f":"IF(CL417,CM417,\"\")","v":""},{"$f":"_xlfn.TEXTJOIN(\"／\",TRUE,CN417:CN430)","v":""},"□","行田市",{"$f":"IF(CP417=\"☑\",TRUE)","v":false},{"$f":"CQ417","v":"行田市"},{"$f":"IF(CR417,CS417,\"\")","v":""},{"$f":"_xludf.TEXTJOIN(\",\",TRUE,CT417:CT430)","v":""},"□","熊谷市",{"$f":"IF(CV417=\"☑\",TRUE)","v":false},{"$f":"CW417","v":"熊谷市"},{"$f":"IF(CX417,CY417,\"\")","v":""},{"$f":"_xlfn.TEXTJOIN(\"／\",TRUE,CZ417:CZ430)","v":""},"□","秩父市",{"$f":"IF(DB417=\"☑\",TRUE)","v":false},{"$f":"DC417","v":"秩父市"},{"$f":"IF(DD417,DE417,\"\")","v":""},{"$f":"_xlfn.TEXTJOIN(\"／\",TRUE,DF417:DF430)","v":""},{"$f":"_xlfn.TEXTJOIN(\"／\",TRUE,BE417,BK417,BQ417,BW417,CC417,CI417,CO417,CU417,DA417,DG417)","v":""},null,null,null,null,null,null,null,{"$f":"IF(#REF!=\"☑\",TRUE)","v":{"$error":"#REF!"}},{"$f":"IF(DP417,#REF!,\"\")","v":{"$error":"#REF!"}},{"$f":"_xludf.TEXTJOIN(\",\",TRUE,DQ417:DQ430)","v":{"$error":"#VALUE!"}}]
[null,null,null,null,null,null,null,null,null,null,null,null,null,null,null,null,null,null,"□","買物サポート",false,"","□","料理デリバリー（出前）",false,"","□","フィットネス・ジム（送迎）",{"$f":"IF(AA418=\"☑\",TRUE)","v":false},{"$f":"IF(AC418,AB418,\"\")","v":""},"□","出張料理",{"$f":"IF(AE418=\"☑\",TRUE)","v":false},{"$f":"IF(AG418,AF418,\"\")","v":""},"□","温泉・銭湯（たまり場）",false,"","□","多目的トイレ",false,"","□","習い事",{"$f":"IF(AQ418=\"☑\",TRUE)","v":false},{"$f":"IF(AS418,AR418,\"\")","v":""},"□","金融・保険",false,"",null,"□","北区",{"$f":"IF(AZ418=\"☑\",TRUE)","v":false},"さいたま市北区",{"$f":"IF(BB418,BC418,\"\")","v":""},null,"□","蕨市",{"$f":"IF(BF418=\"☑\",TRUE)","v":false},{"$f":"BG418","v":"蕨市"},{"$f":"IF(BH418,BI418,\"\")","v":""},null,"□","志木市",{"$f":"IF(BL418=\"☑\",TRUE)","v":false},"志木市",{"$f":"IF(BN418,BO418,\"\")","v":""},null,"□","草加市",{"$f":"IF(BR418=\"☑\",TRUE)","v":false},"草加市","",null,"□","上尾市",{"$f":"IF(BX418=\"☑\",TRUE)","v":false},{"$f":"BY418","v":"上尾市"},{"$f":"IF(BZ418,CA418,\"\")","v":""},null,"□","東松山市",{"$f":"IF(CD418=\"☑\",TRUE)","v":false},"東松山市",{"$f":"IF(CF418,CG418,\"\")","v":""},null,"□","飯能市",{"$f":"IF(CJ418=\"☑\",TRUE)","v":false},{"$f":"CK418","v":"飯能市"},{"$f":"IF(CL418,CM418,\"\")","v":""},null,"□","加須市",{"$f":"IF(CP418=\"☑\",TRUE)","v":false},"加須市",{"$f":"IF(CR418,CS418,\"\")","v":""},null,"□","本庄市",{"$f":"IF(CV418=\"☑\",TRUE)","v":false},"本庄市",{"$f":"IF(CX418,CY418,\"\")","v":""},null,"□","横瀬町",{"$f":"IF(DB418=\"☑\",TRUE)","v":false},{"$f":"DC418","v":"横瀬町"},{"$f":"IF(DD418,DE418,\"\")","v":""},null,null,null,null,null,null,null,null,null,null,{"$f":"IF(DP418,#REF!,\"\")","v":""}]
[null,null,null,null,null,null,null,null,null,null,null,null,null,null,null,null,null,null,"□","買物代行",false,"","□","食材宅配",false,"","□","温泉・銭湯（送迎）",false,"","□","屋外作業・力仕事",false,"","□","カフェ・ファーストフード",false,"","□","休憩スペース",false,"","□","映画館",false,"","□","住宅・リフォーム",false,"",null,"□","大宮区",false,"さいたま市大宮区","",null,"□","戸田市",{"$f":"IF(BF419=\"☑\",TRUE)","v":false},{"$f":"BG419","v":"戸田市"},"",null,"□","和光市",false,"和光市","",null,"□","越谷市",false,"越谷市","",null,"□","桶川市",{"$f":"IF(BX419=\"☑\",TRUE)","v":false},{"$f":"BY419","v":"桶川市"},"",null,"□","坂戸市",false,"坂戸市","",null,"□","狭山市",{"$f":"IF(CJ419=\"☑\",TRUE)","v":false},{"$f":"CK419","v":"狭山市"},"",null,"□","羽生市",false,"羽生市","",null,"□","深谷市",false,"深谷市","",null,"□","皆野町",{"$f":"IF(DB419=\"☑\",TRUE)","v":false},{"$f":"DC419","v":"皆野町"},"",null,null,null,null,null,null,null,null,null,{"$f":"IF(#REF!=\"☑\",TRUE)","v":{"$error":"#REF!"}},{"$f":"IF(DP419,#REF!,\"\")","v":{"$error":"#REF!"}}]
[null,null,null,null,null,null,null,null,null,null,null,null,null,null,null,null,null,null,"□","移動販売",false,"","□","日用品配達",false,"","□","整体・マッサージ（送迎）",false,"","□","整体・マッサージ（出張）",false,"","□","飲食店",false,"","□","駐車場",false,"","□","カラオケ店",false,"","□","パソコン・スマートフォン",false,"",null,"□","見沼区",false,"さいたま市見沼区","",null,null,null,null,null,"",null,"□","新座市",false,"新座市","",null,"□","八潮市",false,"八潮市","",null,"□","北本市",{"$f":"IF(BX420=\"☑\",TRUE)","v":false},{"$f":"BY420","v":"北本市"},"",null,"□","鶴ヶ島市",false,"鶴ヶ島市","",null,"□","入間市",{"$f":"IF(CJ420=\"☑\",TRUE)","v":false},{"$f":"CK420","v":"入間市"},"",null,"□","久喜市",false,"久喜市","",null,"□","美里町",false,"美里町","",null,"□","長瀞町",{"$f":"IF(DB420=\"☑\",TRUE)","v":false},{"$f":"DC420","v":"長瀞町"},""]
[null,null,null,null,null,null,null,null,null,null,null,null,null,null,null,null,null,null,"□","割引サービス",false,"","□","薬・介護用品配達",false,"","□","乗り合いサービス",false,"","□","理容・美容（出張）",false,"","□","イートインスペース",false,"","□","貸しスペース",false,"","□","麻雀・将棋・囲碁",false,"","□","認知症サポート企業",false,"",null,"□","中央区",false,"さいたま市中央区","",null,null,null,null,null,"",null,"□","富士見市",false,"富士見市","",null,"□","三郷市",false,"三郷市","",null,"□","伊奈町",{"$f":"IF(BX421=\"☑\",TRUE)","v":false},{"$f":"BY421","v":"伊奈町"},"",null,"□","毛呂山町",false,"毛呂山町","",null,"□","日高市",{"$f":"IF(CJ421=\"☑\",TRUE)","v":false},{"$f":"CK421","v":"日高市"},"",null,"□","蓮田市",false,"蓮田市","",null,"□","神川町",false,"神川町","",null,"□","小鹿野町",{"$f":"IF(DB421=\"☑\",TRUE)","v":false},{"$f":"DC421","v":"小鹿野町"},"",null,null,null,null,null,null,null,null,null,{"$f":"IF(#REF!=\"☑\",TRUE)","v":{"$error":"#REF!"}},{"$f":"IF(DP421,#REF!,\"\")","v":{"$error":"#REF!"}}]
[null,null,null,null,null,null,null,null,null,null,null,null,null,null,null,null,null,null,"□","その他（買物）",false,"","□","クリーニング",false,{"$f":"IF(Y422,X422,\"\")","v":""},"□","個別移送サービス",false,"","□","ペット",false,"","□","その他（運動・たまり場）",false,"","□","その他（設備・施設・場所貸し）",false,"","□","ゲームセンター",false,"","□","理容・美容",false,"",null,"□","桜区",false,"さいたま市桜区","",null,null,null,null,null,"",null,"□","ふじみ野市",false,"ふじみ野市","",null,"□","吉川市",false,"吉川市","",null,null,null,null,null,"",null,"□","越生町",false,"越生町","",null,null,null,null,null,"",null,"□","幸手市",false,"幸手市","",null,"□","上里町",false,"上里町","",null,null,null,null,null,"",null,null,null,null,null,null,null,null,null,{"$f":"IF(#REF!=\"☑\",TRUE)","v":{"$error":"#REF!"}},{"$f":"IF(DP422,#REF!,\"\")","v":{"$error":"#REF!"}}]
[null,null,null,null,null,null,null,null,null,null,null,null,null,null,null,null,null,null,null,null,null,null,"□","その他（宅配・デリバリー）",false,{"$f":"IF(Y423,X423,\"\")","v":""},"□","交通機関サービス",false,"","□","その他（出張サービス）",false,"",null,null,null,null,null,null,null,null,"□","旅行・レジャー",false,"","□","成年後見・相続",false,"",null,"□","浦和区",false,"さいたま市浦和区","",null,null,null,null,null,"",null,"□","三芳町",false,"三芳町","",null,"□","松伏町",false,"松伏町","",null,null,null,null,null,"",null,"□","滑川町",false,"滑川町","",null,null,null,null,null,"",null,"□","白岡市",false,"白岡市","",null,"□","寄居町",false,"寄居町","",null,null,null,null,null,""]
[null,null,null,null,null,null,null,null,null,null,null,null,null,null,null,null,null,null,null,null,null,null,null,null,null,null,"□","その他（送迎・移動支援）",false,"",null,null,null,"",null,null,null,{"$f":"IF(AK424,AJ424,\"\")","v":""},null,null,null,{"$f":"IF(AO424,AN424,\"\")","v":""},"□","パソコン・スマホ教室",false,"","□","その他（生活サービス）",false,"",null,"□","南区",false,"さいたま市南区","",null,null,null,null,null,"",null,null,null,null,null,"",null,null,null,null,null,"",null,null,null,null,null,"",null,"□","嵐山町",false,"嵐山町","",null,null,null,null,null,"",null,"□","宮代町",false,"宮代町","",null,null,null,null,null,"",null,null,null,null,null,""]
[null,null,null,null,null,null,null,null,null,null,null,null,null,null,null,null,null,null,null,null,null,null,null,null,null,null,null,null,null,null,null,null,null,null,null,null,null,null,null,null,null,null,"□","その他（学び・趣味）",false,"",null,null,null,null,null,"□","緑区",false,"さいたま市緑区","",null,null,null,null,null,"",null,null,null,null,null,"",null,null,null,null,null,"",null,null,null,null,null,"",null,"□","小川町",false,"小川町","",null,null,null,null,null,"",null,"□","杉戸町",false,"杉戸町","",null,null,null,null,null,"",null,null,null,null,null,""]
[null,null,null,null,null,null,null,null,null,null,null,null,null,null,null,null,null,null,null,null,null,null,null,null,null,null,null,null,null,null,null,null,null,null,null,null,null,null,null,null,null,null,null,null,null,null,null,null,null,null,null,"□","岩槻区",{"$f":"IF(AZ426=\"☑\",TRUE)","v":false},"さいたま市岩槻区","",null,null,null,null,null,"",null,null,null,null,null,"",null,null,null,null,null,"",null,null,null,null,null,"",null,"□","川島町",false,"川島町","",null,null,null,null,null,"",null,null,null,null,null,"",null,null,null,null,null,"",null,null,null,null,null,""]
[null,null,null,null,null,null,null,null,null,null,null,null,null,null,null,null,null,null,null,null,null,null,null,null,null,null,null,null,null,null,null,null,null,null,null,null,null,null,null,null,null,null,null,null,null,null,null,null,null,null,null,null,null,null,null,null,null,null,null,null,null,null,null,null,null,null,null,null,null,null,null,null,null,null,null,null,null,null,null,null,null,"□","吉見町",false,"吉見町","",null,null,null,null,null,"",null,null,null,null,null,"",null,null,null,null,null,"",null,null,null,null,null,""]
[null,null,null,null,null,null,null,null,null,null,null,null,null,null,null,null,null,null,null,null,null,null,null,null,null,null,null,null,null,null,null,null,null,null,null,null,null,null,null,null,null,null,null,null,null,null,null,null,null,null,null,null,null,null,null,null,null,null,null,null,null,null,null,null,null,null,null,null,null,null,null,null,null,null,null,null,null,null,null,null,null,"□","鳩山町",false,"鳩山町","",null,null,null,null,null,"",null,null,null,null,null,"",null,null,null,null,null,"",null,null,null,null,null,""]
[null,null,null,null,null,null,null,null,null,null,null,null,null,null,null,null,null,null,null,null,null,null,null,null,null,null,null,null,null,null,null,null,null,null,null,null,null,null,null,null,null,null,null,null,null,null,null,null,null,null,null,null,null,null,null,null,null,null,null,null,null,null,null,null,null,null,null,null,null,null,null,null,null,null,null,null,null,null,null,null,null,"□","ときがわ町",false,"ときがわ町","",null,null,null,null,null,"",null,null,null,null,null,"",null,null,null,null,null,"",null,null,null,null,null,""]
[null,null,null,null,null,null,null,null,null,null,null,null,null,null,null,null,null,null,null,null,null,null,null,null,null,null,null,null,null,null,null,null,null,null,null,null,null,null,null,null,null,null,null,null,null,null,null,null,null,null,null,null,null,null,null,null,null,null,null,null,null,null,null,null,null,null,null,null,null,null,null,null,null,null,null,null,null,null,null,null,null,"□","東秩父村",false,"東秩父村","",null,null,null,null,null,"",null,null,null,null,null,"",null,null,null,null,null,"",null,null,null,null,null,""]
[30,null,null,null,null,null,null,null,null,null,null,null,null,null,null,null,null,null,"□","配送",{"$f":"IF(S431=\"☑\",TRUE)","v":false},{"$f":"IF(U431,T431,\"\")","v":""},"□","弁当配達",{"$f":"IF(W431=\"☑\",TRUE)","v":false},{"$f":"IF(Y431,X431,\"\")","v":""},"□","理容・美容（送迎）",{"$f":"IF(AA431=\"☑\",TRUE)","v":false},{"$f":"IF(AC431,AB431,\"\")","v":""},"□","家事代行・掃除・片付け",{"$f":"IF(AE431=\"☑\",TRUE)","v":false},{"$f":"IF(AG431,AF431,\"\")","v":""},"□","フィットネス・ジム（運動）",{"$f":"IF(AI431=\"☑\",TRUE)","v":false},{"$f":"IF(AK431,AJ431,\"\")","v":""},"□","車イス対応（バリアフリー）",{"$f":"IF(AM431=\"☑\",TRUE)","v":false},{"$f":"IF(AO431,AN431,\"\")","v":""},"□","講座・教室・イベント",{"$f":"IF(AQ431=\"☑\",TRUE)","v":false},{"$f":"IF(AS431,AR431,\"\")","v":""},"□","防犯・見守り",{"$f":"IF(AU431=\"☑\",TRUE)","v":false},{"$f":"IF(AW431,AV431,\"\")","v":""},{"$f":"_xlfn.TEXTJOIN(\"／\",TRUE,V431:V444,Z431:Z444,AD431:AD444,AH431:AH444,AL431:AL444,AP431:AP444,AT431:AT444,AX431:AX444)","v":""},"□","西区",{"$f":"IF(AZ431=\"☑\",TRUE)","v":false},{"$f":"\"さいたま市\"&BA431","v":"さいたま市西区"},{"$f":"IF(BB431,BC431,\"\")","v":""},{"$f":"_xlfn.TEXTJOIN(\"／\",TRUE,BD431:BD444)","v":""},"□","川口市",{"$f":"IF(BF431=\"☑\",TRUE)","v":false},{"$f":"BG431","v":"川口市"},{"$f":"IF(BH431,BI431,\"\")","v":""},{"$f":"_xludf.TEXTJOIN(\",\",TRUE,BJ431:BJ444)","v":""},"□","朝霞市",{"$f":"IF(BL431=\"☑\",TRUE)","v":false},{"$f":"BM431","v":"朝霞市"},{"$f":"IF(BN431,BO431,\"\")","v":""},{"$f":"_xlfn.TEXTJOIN(\"／\",TRUE,BP431:BP444)","v":""},"□","春日部市",{"$f":"IF(BR431=\"☑\",TRUE)","v":false},{"$f":"BS431","v":"春日部市"},{"$f":"IF(BT431,BU431,\"\")","v":""},{"$f":"_xlfn.TEXTJOIN(\"／\",TRUE,BV431:BV444)","v":""},"□","鴻巣市",{"$f":"IF(BX431=\"☑\",TRUE)","v":false},{"$f":"BY431","v":"鴻巣市"},{"$f":"IF(BZ431,CA431,\"\")","v":""},{"$f":"_xlfn.TEXTJOIN(\"／\",TRUE,CB431:CB444)","v":""},"□","川越市",{"$f":"IF(CD431=\"☑\",TRUE)","v":false},"川越市",{"$f":"IF(CF431,CG431,\"\")","v":""},{"$f":"_xlfn.TEXTJOIN(\"／\",TRUE,CH431:CH444)","v":""},"□","所沢市",{"$f":"IF(CJ431=\"☑\",TRUE)","v":false},{"$f":"CK431","v":"所沢市"},{"$f":"IF(CL431,CM431,\"\")","v":""},{"$f":"_xlfn.TEXTJOIN(\"／\",TRUE,CN431:CN444)","v":""},"□","行田市",{"$f":"IF(CP431=\"☑\",TRUE)","v":false},{"$f":"CQ431","v":"行田市"},{"$f":"IF(CR431,CS431,\"\")","v":""},{"$f":"_xludf.TEXTJOIN(\",\",TRUE,CT431:CT444)","v":""},"□","熊谷市",{"$f":"IF(CV431=\"☑\",TRUE)","v":false},{"$f":"CW431","v":"熊谷市"},{"$f":"IF(CX431,CY431,\"\")","v":""},{"$f":"_xlfn.TEXTJOIN(\"／\",TRUE,CZ431:CZ444)","v":""},"□","秩父市",{"$f":"IF(DB431=\"☑\",TRUE)","v":false},{"$f":"DC431","v":"秩父市"},{"$f":"IF(DD431,DE431,\"\")","v":""},{"$f":"_xlfn.TEXTJOIN(\"／\",TRUE,DF431:DF444)","v":""},{"$f":"_xlfn.TEXTJOIN(\"／\",TRUE,BE431,BK431,BQ431,BW431,CC431,CI431,CO431,CU431,DA431,DG431)","v":""},null,null,null,null,null,null,null,{"$f":"IF(#REF!=\"☑\",TRUE)","v":{"$error":"#REF!"}},{"$f":"IF(DP431,#REF!,\"\")","v":{"$error":"#REF!"}},{"$f":"_xludf.TEXTJOIN(\",\",TRUE,DQ431:DQ444)","v":{"$error":"#VALUE!"}}]
[null,null,null,null,null,null,null,null,null,null,null,null,null,null,null,null,null,null,"□","買物サポート",false,"","□","料理デリバリー（出前）",false,"","□","フィットネス・ジム（送迎）",{"$f":"IF(AA432=\"☑\",TRUE)","v":false},{"$f":"IF(AC432,AB432,\"\")","v":""},"□","出張料理",{"$f":"IF(AE432=\"☑\",TRUE)","v":false},{"$f":"IF(AG432,AF432,\"\")","v":""},"□","温泉・銭湯（たまり場）",false,"","□","多目的トイレ",false,"","□","習い事",{"$f":"IF(AQ432=\"☑\",TRUE)","v":false},{"$f":"IF(AS432,AR432,\"\")","v":""},"□","金融・保険",false,"",null,"□","北区",{"$f":"IF(AZ432=\"☑\",TRUE)","v":false},"さいたま市北区",{"$f":"IF(BB432,BC432,\"\")","v":""},null,"□","蕨市",{"$f":"IF(BF432=\"☑\",TRUE)","v":false},{"$f":"BG432","v":"蕨市"},{"$f":"IF(BH432,BI432,\"\")","v":""},null,"□","志木市",{"$f":"IF(BL432=\"☑\",TRUE)","v":false},"志木市",{"$f":"IF(BN432,BO432,\"\")","v":""},null,"□","草加市",{"$f":"IF(BR432=\"☑\",TRUE)","v":false},"草加市","",null,"□","上尾市",{"$f":"IF(BX432=\"☑\",TRUE)","v":false},{"$f":"BY432","v":"上尾市"},{"$f":"IF(BZ432,CA432,\"\")","v":""},null,"□","東松山市",{"$f":"IF(CD432=\"☑\",TRUE)","v":false},"東松山市",{"$f":"IF(CF432,CG432,\"\")","v":""},null,"□","飯能市",{"$f":"IF(CJ432=\"☑\",TRUE)","v":false},{"$f":"CK432","v":"飯能市"},{"$f":"IF(CL432,CM432,\"\")","v":""},null,"□","加須市",{"$f":"IF(CP432=\"☑\",TRUE)","v":false},"加須市",{"$f":"IF(CR432,CS432,\"\")","v":""},null,"□","本庄市",{"$f":"IF(CV432=\"☑\",TRUE)","v":false},"本庄市",{"$f":"IF(CX432,CY432,\"\")","v":""},null,"□","横瀬町",{"$f":"IF(DB432=\"☑\",TRUE)","v":false},{"$f":"DC432","v":"横瀬町"},{"$f":"IF(DD432,DE432,\"\")","v":""},null,null,null,null,null,null,null,null,null,null,{"$f":"IF(DP432,#REF!,\"\")","v":""}]
[null,null,null,null,null,null,null,null,null,null,null,null,null,null,null,null,null,null,"□","買物代行",false,"","□","食材宅配",false,"","□","温泉・銭湯（送迎）",false,"","□","屋外作業・力仕事",false,"","□","カフェ・ファーストフード",false,"","□","休憩スペース",false,"","□","映画館",false,"","□","住宅・リフォーム",false,"",null,"□","大宮区",false,"さいたま市大宮区","",null,"□","戸田市",{"$f":"IF(BF433=\"☑\",TRUE)","v":false},{"$f":"BG433","v":"戸田市"},"",null,"□","和光市",false,"和光市","",null,"□","越谷市",false,"越谷市","",null,"□","桶川市",{"$f":"IF(BX433=\"☑\",TRUE)","v":false},{"$f":"BY433","v":"桶川市"},"",null,"□","坂戸市",false,"坂戸市","",null,"□","狭山市",{"$f":"IF(CJ433=\"☑\",TRUE)","v":false},{"$f":"CK433","v":"狭山市"},"",null,"□","羽生市",false,"羽生市","",null,"□","深谷市",false,"深谷市","",null,"□","皆野町",{"$f":"IF(DB433=\"☑\",TRUE)","v":false},{"$f":"DC433","v":"皆野町"},"",null,null,null,null,null,null,null,null,null,{"$f":"IF(#REF!=\"☑\",TRUE)","v":{"$error":"#REF!"}},{"$f":"IF(DP433,#REF!,\"\")","v":{"$error":"#REF!"}}]
[null,null,null,null,null,null,null,null,null,null,null,null,null,null,null,null,null,null,"□","移動販売",false,"","□","日用品配達",false,"","□","整体・マッサージ（送迎）",false,"","□","整体・マッサージ（出張）",false,"","□","飲食店",false,"","□","駐車場",false,"","□","カラオケ店",false,"","□","パソコン・スマートフォン",false,"",null,"□","見沼区",false,"さいたま市見沼区","",null,null,null,null,null,"",null,"□","新座市",false,"新座市","",null,"□","八潮市",false,"八潮市","",null,"□","北本市",{"$f":"IF(BX434=\"☑\",TRUE)","v":false},{"$f":"BY434","v":"北本市"},"",null,"□","鶴ヶ島市",false,"鶴ヶ島市","",null,"□","入間市",{"$f":"IF(CJ434=\"☑\",TRUE)","v":false},{"$f":"CK434","v":"入間市"},"",null,"□","久喜市",false,"久喜市","",null,"□","美里町",false,"美里町","",null,"□","長瀞町",{"$f":"IF(DB434=\"☑\",TRUE)","v":false},{"$f":"DC434","v":"長瀞町"},""]
[null,null,null,null,null,null,null,null,null,null,null,null,null,null,null,null,null,null,"□","割引サービス",false,"","□","薬・介護用品配達",false,"","□","乗り合いサービス",false,"","□","理容・美容（出張）",false,"","□","イートインスペース",false,"","□","貸しスペース",false,"","□","麻雀・将棋・囲碁",false,"","□","認知症サポート企業",false,"",null,"□","中央区",false,"さいたま市中央区","",null,null,null,null,null,"",null,"□","富士見市",false,"富士見市","",null,"□","三郷市",false,"三郷市","",null,"□","伊奈町",{"$f":"IF(BX435=\"☑\",TRUE)","v":false},{"$f":"BY435","v":"伊奈町"},"",null,"□","毛呂山町",false,"毛呂山町","",null,"□","日高市",{"$f":"IF(CJ435=\"☑\",TRUE)","v":false},{"$f":"CK435","v":"日高市"},"",null,"□","蓮田市",false,"蓮田市","",null,"□","神川町",false,"神川町","",null,"□","小鹿野町",{"$f":"IF(DB435=\"☑\",TRUE)","v":false},{"$f":"DC435","v":"小鹿野町"},"",null,null,null,null,null,null,null,null,null,{"$f":"IF(#REF!=\"☑\",TRUE)","v":{"$error":"#REF!"}},{"$f":"IF(DP435,#REF!,\"\")","v":{"$error":"#REF!"}}]
[null,null,null,null,null,null,null,null,null,null,null,null,null,null,null,null,null,null,"□","その他（買物）",false,"","□","クリーニング",false,{"$f":"IF(Y436,X436,\"\")","v":""},"□","個別移送サービス",false,"","□","ペット",false,"","□","その他（運動・たまり場）",false,"","□","その他（設備・施設・場所貸し）",false,"","□","ゲームセンター",false,"","□","理容・美容",false,"",null,"□","桜区",false,"さいたま市桜区","",null,null,null,null,null,"",null,"□","ふじみ野市",false,"ふじみ野市","",null,"□","吉川市",false,"吉川市","",null,null,null,null,null,"",null,"□","越生町",false,"越生町","",null,null,null,null,null,"",null,"□","幸手市",false,"幸手市","",null,"□","上里町",false,"上里町","",null,null,null,null,null,"",null,null,null,null,null,null,null,null,null,{"$f":"IF(#REF!=\"☑\",TRUE)","v":{"$error":"#REF!"}},{"$f":"IF(DP436,#REF!,\"\")","v":{"$error":"#REF!"}}]
[null,null,null,null,null,null,null,null,null,null,null,null,null,null,null,null,null,null,null,null,null,null,"□","その他（宅配・デリバリー）",false,{"$f":"IF(Y437,X437,\"\")","v":""},"□","交通機関サービス",false,"","□","その他（出張サービス）",false,"",null,null,null,null,null,null,null,null,"□","旅行・レジャー",false,"","□","成年後見・相続",false,"",null,"□","浦和区",false,"さいたま市浦和区","",null,null,null,null,null,"",null,"□","三芳町",false,"三芳町","",null,"□","松伏町",false,"松伏町","",null,null,null,null,null,"",null,"□","滑川町",false,"滑川町","",null,null,null,null,null,"",null,"□","白岡市",false,"白岡市","",null,"□","寄居町",false,"寄居町","",null,null,null,null,null,""]
[null,null,null,null,null,null,null,null,null,null,null,null,null,null,null,null,null,null,null,null,null,null,null,null,null,null,"□","その他（送迎・移動支援）",false,"",null,null,null,"",null,null,null,{"$f":"IF(AK438,AJ438,\"\")","v":""},null,null,null,{"$f":"IF(AO438,AN438,\"\")","v":""},"□","パソコン・スマホ教室",false,"","□","その他（生活サービス）",false,"",null,"□","南区",false,"さいたま市南区","",null,null,null,null,null,"",null,null,null,null,null,"",null,null,null,null,null,"",null,null,null,null,null,"",null,"□","嵐山町",false,"嵐山町","",null,null,null,null,null,"",null,"□","宮代町",false,"宮代町","",null,null,null,null,null,"",null,null,null,null,null,""]
[null,null,null,null,null,null,null,null,null,null,null,null,null,null,null,null,null,null,null,null,null,null,null,null,null,null,null,null,null,null,null,null,null,null,null,null,null,null,null,null,null,null,"□","その他（学び・趣味）",false,"",null,null,null,null,null,"□","緑区",false,"さいたま市緑区","",null,null,null,null,null,"",null,null,null,null,null,"",null,null,null,null,null,"",null,null,null,null,null,"",null,"□","小川町",false,"小川町","",null,null,null,null,null,"",null,"□","杉戸町",false,"杉戸町","",null,null,null,null,null,"",null,null,null,null,null,""]
[null,null,null,null,null,null,null,null,null,null,null,null,null,null,null,null,null,null,null,null,null,null,null,null,null,null,null,null,null,null,null,null,null,null,null,null,null,null,null,null,null,null,null,null,null,null,null,null,null,null,null,"□","岩槻区",{"$f":"IF(AZ440=\"☑\",TRUE)","v":false},"さいたま市岩槻区","",null,null,null,null,null,"",null,null,null,null,null,"",null,null,null,null,null,"",null,null,null,null,null,"",null,"□","川島町",false,"川島町","",null,null,null,null,null,"",null,null,null,null,null,"",null,null,null,null,null,"",null,null,null,null,null,""]
[null,null,null,null,null,null,null,null,null,null,null,null,null,null,null,null,null,null,null,null,null,null,null,null,null,null,null,null,null,null,null,null,null,null,null,null,null,null,null,null,null,null,null,null,null,null,null,null,null,null,null,null,null,null,null,null,null,null,null,null,null,null,null,null,null,null,null,null,null,null,null,null,null,null,null,null,null,null,null,null,null,"□","吉見町",false,"吉見町","",null,null,null,null,null,"",null,null,null,null,null,"",null,null,null,null,null,"",null,null,null,null,null,""]
[null,null,null,null,null,null,null,null,null,null,null,null,null,null,null,null,null,null,null,null,null,null,null,null,null,null,null,null,null,null,null,null,null,null,null,null,null,null,null,null,null,null,null,null,null,null,null,null,null,null,null,null,null,null,null,null,null,null,null,null,null,null,null,null,null,null,null,null,null,null,null,null,null,null,null,null,null,null,null,null,null,"□","鳩山町",false,"鳩山町","",null,null,null,null,null,"",null,null,null,null,null,"",null,null,null,null,null,"",null,null,null,null,null,""]
[null,null,null,null,null,null,null,null,null,null,null,null,null,null,null,null,null,null,null,null,null,null,null,null,null,null,null,null,null,null,null,null,null,null,null,null,null,null,null,null,null,null,null,null,null,null,null,null,null,null,null,null,null,null,null,null,null,null,null,null,null,null,null,null,null,null,null,null,null,null,null,null,null,null,null,null,null,null,null,null,null,"□","ときがわ町",false,"ときがわ町","",null,null,null,null,null,"",null,null,null,null,null,"",null,null,null,null,null,"",null,null,null,null,null,""]
[null,null,null,null,null,null,null,null,null,null,null,null,null,null,null,null,null,null,null,null,null,null,null,null,null,null,null,null,null,null,null,null,null,null,null,null,null,null,null,null,null,null,null,null,null,null,null,null,null,null,null,null,null,null,null,null,null,null,null,null,null,null,null,null,null,null,null,null,null,null,null,null,null,null,null,null,null,null,null,null,null,"□","東秩父村",false,"東秩父村","",null,null,null,null,null,"",null,null,null,null,null,"",null,null,null,null,null,"",null,null,null,null,null,""]
[31,null,null,null,null,null,null,null,null,null,null,null,null,null,null,null,null,null,"□","配送",{"$f":"IF(S445=\"☑\",TRUE)","v":false},{"$f":"IF(U445,T445,\"\")","v":""},"□","弁当配達",{"$f":"IF(W445=\"☑\",TRUE)","v":false},{"$f":"IF(Y445,X445,\"\")","v":""},"□","理容・美容（送迎）",{"$f":"IF(AA445=\"☑\",TRUE)","v":false},{"$f":"IF(AC445,AB445,\"\")","v":""},"□","家事代行・掃除・片付け",{"$f":"IF(AE445=\"☑\",TRUE)","v":false},{"$f":"IF(AG445,AF445,\"\")","v":""},"□","フィットネス・ジム（運動）",{"$f":"IF(AI445=\"☑\",TRUE)","v":false},{"$f":"IF(AK445,AJ445,\"\")","v":""},"□","車イス対応（バリアフリー）",{"$f":"IF(AM445=\"☑\",TRUE)","v":false},{"$f":"IF(AO445,AN445,\"\")","v":""},"□","講座・教室・イベント",{"$f":"IF(AQ445=\"☑\",TRUE)","v":false},{"$f":"IF(AS445,AR445,\"\")","v":""},"□","防犯・見守り",{"$f":"IF(AU445=\"☑\",TRUE)","v":false},{"$f":"IF(AW445,AV445,\"\")","v":""},{"$f":"_xlfn.TEXTJOIN(\"／\",TRUE,V445:V458,Z445:Z458,AD445:AD458,AH445:AH458,AL445:AL458,AP445:AP458,AT445:AT458,AX445:AX458)","v":""},"□","西区",{"$f":"IF(AZ445=\"☑\",TRUE)","v":false},{"$f":"\"さいたま市\"&BA445","v":"さいたま市西区"},{"$f":"IF(BB445,BC445,\"\")","v":""},{"$f":"_xlfn.TEXTJOIN(\"／\",TRUE,BD445:BD458)","v":""},"□","川口市",{"$f":"IF(BF445=\"☑\",TRUE)","v":false},{"$f":"BG445","v":"川口市"},{"$f":"IF(BH445,BI445,\"\")","v":""},{"$f":"_xludf.TEXTJOIN(\",\",TRUE,BJ445:BJ458)","v":""},"□","朝霞市",{"$f":"IF(BL445=\"☑\",TRUE)","v":false},{"$f":"BM445","v":"朝霞市"},{"$f":"IF(BN445,BO445,\"\")","v":""},{"$f":"_xlfn.TEXTJOIN(\"／\",TRUE,BP445:BP458)","v":""},"□","春日部市",{"$f":"IF(BR445=\"☑\",TRUE)","v":false},{"$f":"BS445","v":"春日部市"},{"$f":"IF(BT445,BU445,\"\")","v":""},{"$f":"_xlfn.TEXTJOIN(\"／\",TRUE,BV445:BV458)","v":""},"□","鴻巣市",{"$f":"IF(BX445=\"☑\",TRUE)","v":false},{"$f":"BY445","v":"鴻巣市"},{"$f":"IF(BZ445,CA445,\"\")","v":""},{"$f":"_xlfn.TEXTJOIN(\"／\",TRUE,CB445:CB458)","v":""},"□","川越市",{"$f":"IF(CD445=\"☑\",TRUE)","v":false},"川越市",{"$f":"IF(CF445,CG445,\"\")","v":""},{"$f":"_xlfn.TEXTJOIN(\"／\",TRUE,CH445:CH458)","v":""},"□","所沢市",{"$f":"IF(CJ445=\"☑\",TRUE)","v":false},{"$f":"CK445","v":"所沢市"},{"$f":"IF(CL445,CM445,\"\")","v":""},{"$f":"_xlfn.TEXTJOIN(\"／\",TRUE,CN445:CN458)","v":""},"□","行田市",{"$f":"IF(CP445=\"☑\",TRUE)","v":false},{"$f":"CQ445","v":"行田市"},{"$f":"IF(CR445,CS445,\"\")","v":""},{"$f":"_xludf.TEXTJOIN(\",\",TRUE,CT445:CT458)","v":""},"□","熊谷市",{"$f":"IF(CV445=\"☑\",TRUE)","v":false},{"$f":"CW445","v":"熊谷市"},{"$f":"IF(CX445,CY445,\"\")","v":""},{"$f":"_xlfn.TEXTJOIN(\"／\",TRUE,CZ445:CZ458)","v":""},"□","秩父市",{"$f":"IF(DB445=\"☑\",TRUE)","v":false},{"$f":"DC445","v":"秩父市"},{"$f":"IF(DD445,DE445,\"\")","v":""},{"$f":"_xlfn.TEXTJOIN(\"／\",TRUE,DF445:DF458)","v":""},{"$f":"_xlfn.TEXTJOIN(\"／\",TRUE,BE445,BK445,BQ445,BW445,CC445,CI445,CO445,CU445,DA445,DG445)","v":""},null,null,null,null,null,null,null,{"$f":"IF(#REF!=\"☑\",TRUE)","v":{"$error":"#REF!"}},{"$f":"IF(DP445,#REF!,\"\")","v":{"$error":"#REF!"}},{"$f":"_xludf.TEXTJOIN(\",\",TRUE,DQ445:DQ458)","v":{"$error":"#VALUE!"}}]
[null,null,null,null,null,null,null,null,null,null,null,null,null,null,null,null,null,null,"□","買物サポート",false,"","□","料理デリバリー（出前）",false,"","□","フィットネス・ジム（送迎）",{"$f":"IF(AA446=\"☑\",TRUE)","v":false},{"$f":"IF(AC446,AB446,\"\")","v":""},"□","出張料理",{"$f":"IF(AE446=\"☑\",TRUE)","v":false},{"$f":"IF(AG446,AF446,\"\")","v":""},"□","温泉・銭湯（たまり場）",false,"","□","多目的トイレ",false,"","□","習い事",{"$f":"IF(AQ446=\"☑\",TRUE)","v":false},{"$f":"IF(AS446,AR446,\"\")","v":""},"□","金融・保険",false,"",null,"□","北区",{"$f":"IF(AZ446=\"☑\",TRUE)","v":false},"さいたま市北区",{"$f":"IF(BB446,BC446,\"\")","v":""},null,"□","蕨市",{"$f":"IF(BF446=\"☑\",TRUE)","v":false},{"$f":"BG446","v":"蕨市"},{"$f":"IF(BH446,BI446,\"\")","v":""},null,"□","志木市",{"$f":"IF(BL446=\"☑\",TRUE)","v":false},"志木市",{"$f":"IF(BN446,BO446,\"\")","v":""},null,"□","草加市",{"$f":"IF(BR446=\"☑\",TRUE)","v":false},"草加市","",null,"□","上尾市",{"$f":"IF(BX446=\"☑\",TRUE)","v":false},{"$f":"BY446","v":"上尾市"},{"$f":"IF(BZ446,CA446,\"\")","v":""},null,"□","東松山市",{"$f":"IF(CD446=\"☑\",TRUE)","v":false},"東松山市",{"$f":"IF(CF446,CG446,\"\")","v":""},null,"□","飯能市",{"$f":"IF(CJ446=\"☑\",TRUE)","v":false},{"$f":"CK446","v":"飯能市"},{"$f":"IF(CL446,CM446,\"\")","v":""},null,"□","加須市",{"$f":"IF(CP446=\"☑\",TRUE)","v":false},"加須市",{"$f":"IF(CR446,CS446,\"\")","v":""},null,"□","本庄市",{"$f":"IF(CV446=\"☑\",TRUE)","v":false},"本庄市",{"$f":"IF(CX446,CY446,\"\")","v":""},null,"□","横瀬町",{"$f":"IF(DB446=\"☑\",TRUE)","v":false},{"$f":"DC446","v":"横瀬町"},{"$f":"IF(DD446,DE446,\"\")","v":""},null,null,null,null,null,null,null,null,null,null,{"$f":"IF(DP446,#REF!,\"\")","v":""}]
[null,null,null,null,null,null,null,null,null,null,null,null,null,null,null,null,null,null,"□","買物代行",false,"","□","食材宅配",false,"","□","温泉・銭湯（送迎）",false,"","□","屋外作業・力仕事",false,"","□","カフェ・ファーストフード",false,"","□","休憩スペース",false,"","□","映画館",false,"","□","住宅・リフォーム",false,"",null,"□","大宮区",false,"さいたま市大宮区","",null,"□","戸田市",{"$f":"IF(BF447=\"☑\",TRUE)","v":false},{"$f":"BG447","v":"戸田市"},"",null,"□","和光市",false,"和光市","",null,"□","越谷市",false,"越谷市","",null,"□","桶川市",{"$f":"IF(BX447=\"☑\",TRUE)","v":false},{"$f":"BY447","v":"桶川市"},"",null,"□","坂戸市",false,"坂戸市","",null,"□","狭山市",{"$f":"IF(CJ447=\"☑\",TRUE)","v":false},{"$f":"CK447","v":"狭山市"},"",null,"□","羽生市",false,"羽生市","",null,"□","深谷市",false,"深谷市","",null,"□","皆野町",{"$f":"IF(DB447=\"☑\",TRUE)","v":false},{"$f":"DC447","v":"皆野町"},"",null,null,null,null,null,null,null,null,null,{"$f":"IF(#REF!=\"☑\",TRUE)","v":{"$error":"#REF!"}},{"$f":"IF(DP447,#REF!,\"\")","v":{"$error":"#REF!"}}]
[null,null,null,null,null,null,null,null,null,null,null,null,null,null,null,null,null,null,"□","移動販売",false,"","□","日用品配達",false,"","□","整体・マッサージ（送迎）",false,"","□","整体・マッサージ（出張）",false,"","□","飲食店",false,"","□","駐車場",false,"","□","カラオケ店",false,"","□","パソコン・スマートフォン",false,"",null,"□","見沼区",false,"さいたま市見沼区","",null,null,null,null,null,"",null,"□","新座市",false,"新座市","",null,"□","八潮市",false,"八潮市","",null,"□","北本市",{"$f":"IF(BX448=\"☑\",TRUE)","v":false},{"$f":"BY448","v":"北本市"},"",null,"□","鶴ヶ島市",false,"鶴ヶ島市","",null,"□","入間市",{"$f":"IF(CJ448=\"☑\",TRUE)","v":false},{"$f":"CK448","v":"入間市"},"",null,"□","久喜市",false,"久喜市","",null,"□","美里町",false,"美里町","",null,"□","長瀞町",{"$f":"IF(DB448=\"☑\",TRUE)","v":false},{"$f":"DC448","v":"長瀞町"},""]
[null,null,null,null,null,null,null,null,null,null,null,null,null,null,null,null,null,null,"□","割引サービス",false,"","□","薬・介護用品配達",false,"","□","乗り合いサービス",false,"","□","理容・美容（出張）",false,"","□","イートインスペース",false,"","□","貸しスペース",false,"","□","麻雀・将棋・囲碁",false,"","□","認知症サポート企業",false,"",null,"□","中央区",false,"さいたま市中央区","",null,null,null,null,null,"",null,"□","富士見市",false,"富士見市","",null,"□","三郷市",false,"三郷市","",null,"□","伊奈町",{"$f":"IF(BX449=\"☑\",TRUE)","v":false},{"$f":"BY449","v":"伊奈町"},"",null,"□","毛呂山町",false,"毛呂山町","",null,"□","日高市",{"$f":"IF(CJ449=\"☑\",TRUE)","v":false},{"$f":"CK449","v":"日高市"},"",null,"□","蓮田市",false,"蓮田市","",null,"□","神川町",false,"神川町","",null,"□","小鹿野町",{"$f":"IF(DB449=\"☑\",TRUE)","v":false},{"$f":"DC449","v":"小鹿野町"},"",null,null,null,null,null,null,null,null,null,{"$f":"IF(#REF!=\"☑\",TRUE)","v":{"$error":"#REF!"}},{"$f":"IF(DP449,#REF!,\"\")","v":{"$error":"#REF!"}}]
[null,null,null,null,null,null,null,null,null,null,null,null,null,null,null,null,null,null,"□","その他（買物）",false,"","□","クリーニング",false,{"$f":"IF(Y450,X450,\"\")","v":""},"□","個別移送サービス",false,"","□","ペット",false,"","□","その他（運動・たまり場）",false,"","□","その他（設備・施設・場所貸し）",false,"","□","ゲームセンター",false,"","□","理容・美容",false,"",null,"□","桜区",false,"さいたま市桜区","",null,null,null,null,null,"",null,"□","ふじみ野市",false,"ふじみ野市","",null,"□","吉川市",false,"吉川市","",null,null,null,null,null,"",null,"□","越生町",false,"越生町","",null,null,null,null,null,"",null,"□","幸手市",false,"幸手市","",null,"□","上里町",false,"上里町","",null,null,null,null,null,"",null,null,null,null,null,null,null,null,null,{"$f":"IF(#REF!=\"☑\",TRUE)","v":{"$error":"#REF!"}},{"$f":"IF(DP450,#REF!,\"\")","v":{"$error":"#REF!"}}]
[null,null,null,null,null,null,null,null,null,null,null,null,null,null,null,null,null,null,null,null,null,null,"□","その他（宅配・デリバリー）",false,{"$f":"IF(Y451,X451,\"\")","v":""},"□","交通機関サービス",false,"","□","その他（出張サービス）",false,"",null,null,null,null,null,null,null,null,"□","旅行・レジャー",false,"","□","成年後見・相続",false,"",null,"□","浦和区",false,"さいたま市浦和区","",null,null,null,null,null,"",null,"□","三芳町",false,"三芳町","",null,"□","松伏町",false,"松伏町","",null,null,null,null,null,"",null,"□","滑川町",false,"滑川町","",null,null,null,null,null,"",null,"□","白岡市",false,"白岡市","",null,"□","寄居町",false,"寄居町","",null,null,null,null,null,""]
[null,null,null,null,null,null,null,null,null,null,null,null,null,null,null,null,null,null,null,null,null,null,null,null,null,null,"□","その他（送迎・移動支援）",false,"",null,null,null,"",null,null,null,{"$f":"IF(AK452,AJ452,\"\")","v":""},null,null,null,{"$f":"IF(AO452,AN452,\"\")","v":""},"□","パソコン・スマホ教室",false,"","□","その他（生活サービス）",false,"",null,"□","南区",false,"さいたま市南区","",null,null,null,null,null,"",null,null,null,null,null,"",null,null,null,null,null,"",null,null,null,null,null,"",null,"□","嵐山町",false,"嵐山町","",null,null,null,null,null,"",null,"□","宮代町",false,"宮代町","",null,null,null,null,null,"",null,null,null,null,null,""]
[null,null,null,null,null,null,null,null,null,null,null,null,null,null,null,null,null,null,null,null,null,null,null,null,null,null,null,null,null,null,null,null,null,null,null,null,null,null,null,null,null,null,"□","その他（学び・趣味）",false,"",null,null,null,null,null,"□","緑区",false,"さいたま市緑区","",null,null,null,null,null,"",null,null,null,null,null,"",null,null,null,null,null,"",null,null,null,null,null,"",null,"□","小川町",false,"小川町","",null,null,null,null,null,"",null,"□","杉戸町",false,"杉戸町","",null,null,null,null,null,"",null,null,null,null,null,""]
[null,null,null,null,null,null,null,null,null,null,null,null,null,null,null,null,null,null,null,null,null,null,null,null,null,null,null,null,null,null,null,null,null,null,null,null,null,null,null,null,null,null,null,null,null,null,null,null,null,null,null,"□","岩槻区",{"$f":"IF(AZ454=\"☑\",TRUE)","v":false},"さいたま市岩槻区","",null,null,null,null,null,"",null,null,null,null,null,"",null,null,null,null,null,"",null,null,null,null,null,"",null,"□","川島町",false,"川島町","",null,null,null,null,null,"",null,null,null,null,null,"",null,null,null,null,null,"",null,null,null,null,null,""]
[null,null,null,null,null,null,null,null,null,null,null,null,null,null,null,null,null,null,null,null,null,null,null,null,null,null,null,null,null,null,null,null,null,null,null,null,null,null,null,null,null,null,null,null,null,null,null,null,null,null,null,null,null,null,null,null,null,null,null,null,null,null,null,null,null,null,null,null,null,null,null,null,null,null,null,null,null,null,null,null,null,"□","吉見町",false,"吉見町","",null,null,null,null,null,"",null,null,null,null,null,"",null,null,null,null,null,"",null,null,null,null,null,""]
[null,null,null,null,null,null,null,null,null,null,null,null,null,null,null,null,null,null,null,null,null,null,null,null,null,null,null,null,null,null,null,null,null,null,null,null,null,null,null,null,null,null,null,null,null,null,null,null,null,null,null,null,null,null,null,null,null,null,null,null,null,null,null,null,null,null,null,null,null,null,null,null,null,null,null,null,null,null,null,null,null,"□","鳩山町",false,"鳩山町","",null,null,null,null,null,"",null,null,null,null,null,"",null,null,null,null,null,"",null,null,null,null,null,""]
[null,null,null,null,null,null,null,null,null,null,null,null,null,null,null,null,null,null,null,null,null,null,null,null,null,null,null,null,null,null,null,null,null,null,null,null,null,null,null,null,null,null,null,null,null,null,null,null,null,null,null,null,null,null,null,null,null,null,null,null,null,null,null,null,null,null,null,null,null,null,null,null,null,null,null,null,null,null,null,null,null,"□","ときがわ町",false,"ときがわ町","",null,null,null,null,null,"",null,null,null,null,null,"",null,null,null,null,null,"",null,null,null,null,null,""]
[null,null,null,null,null,null,null,null,null,null,null,null,null,null,null,null,null,null,null,null,null,null,null,null,null,null,null,null,null,null,null,null,null,null,null,null,null,null,null,null,null,null,null,null,null,null,null,null,null,null,null,null,null,null,null,null,null,null,null,null,null,null,null,null,null,null,null,null,null,null,null,null,null,null,null,null,null,null,null,null,null,"□","東秩父村",false,"東秩父村","",null,null,null,null,null,"",null,null,null,null,null,"",null,null,null,null,null,"",null,null,null,null,null,""]
[32,null,null,null,null,null,null,null,null,null,null,null,null,null,null,null,null,null,"□","配送",{"$f":"IF(S459=\"☑\",TRUE)","v":false},{"$f":"IF(U459,T459,\"\")","v":""},"□","弁当配達",{"$f":"IF(W459=\"☑\",TRUE)","v":false},{"$f":"IF(Y459,X459,\"\")","v":""},"□","理容・美容（送迎）",{"$f":"IF(AA459=\"☑\",TRUE)","v":false},{"$f":"IF(AC459,AB459,\"\")","v":""},"□","家事代行・掃除・片付け",{"$f":"IF(AE459=\"☑\",TRUE)","v":false},{"$f":"IF(AG459,AF459,\"\")","v":""},"□","フィットネス・ジム（運動）",{"$f":"IF(AI459=\"☑\",TRUE)","v":false},{"$f":"IF(AK459,AJ459,\"\")","v":""},"□","車イス対応（バリアフリー）",{"$f":"IF(AM459=\"☑\",TRUE)","v":false},{"$f":"IF(AO459,AN459,\"\")","v":""},"□","講座・教室・イベント",{"$f":"IF(AQ459=\"☑\",TRUE)","v":false},{"$f":"IF(AS459,AR459,\"\")","v":""},"□","防犯・見守り",{"$f":"IF(AU459=\"☑\",TRUE)","v":false},{"$f":"IF(AW459,AV459,\"\")","v":""},{"$f":"_xlfn.TEXTJOIN(\"／\",TRUE,V459:V472,Z459:Z472,AD459:AD472,AH459:AH472,AL459:AL472,AP459:AP472,AT459:AT472,AX459:AX472)","v":""},"□","西区",{"$f":"IF(AZ459=\"☑\",TRUE)","v":false},{"$f":"\"さいたま市\"&BA459","v":"さいたま市西区"},{"$f":"IF(BB459,BC459,\"\")","v":""},{"$f":"_xlfn.TEXTJOIN(\"／\",TRUE,BD459:BD472)","v":""},"□","川口市",{"$f":"IF(BF459=\"☑\",TRUE)","v":false},{"$f":"BG459","v":"川口市"},{"$f":"IF(BH459,BI459,\"\")","v":""},{"$f":"_xludf.TEXTJOIN(\",\",TRUE,BJ459:BJ472)","v":""},"□","朝霞市",{"$f":"IF(BL459=\"☑\",TRUE)","v":false},{"$f":"BM459","v":"朝霞市"},{"$f":"IF(BN459,BO459,\"\")","v":""},{"$f":"_xlfn.TEXTJOIN(\"／\",TRUE,BP459:BP472)","v":""},"□","春日部市",{"$f":"IF(BR459=\"☑\",TRUE)","v":false},{"$f":"BS459","v":"春日部市"},{"$f":"IF(BT459,BU459,\"\")","v":""},{"$f":"_xlfn.TEXTJOIN(\"／\",TRUE,BV459:BV472)","v":""},"□","鴻巣市",{"$f":"IF(BX459=\"☑\",TRUE)","v":false},{"$f":"BY459","v":"鴻巣市"},{"$f":"IF(BZ459,CA459,\"\")","v":""},{"$f":"_xlfn.TEXTJOIN(\"／\",TRUE,CB459:CB472)","v":""},"□","川越市",{"$f":"IF(CD459=\"☑\",TRUE)","v":false},{"$f":"CE459","v":"川越市"},{"$f":"IF(CF459,CG459,\"\")","v":""},{"$f":"_xlfn.TEXTJOIN(\"／\",TRUE,CH459:CH472)","v":""},"□","所沢市",{"$f":"IF(CJ459=\"☑\",TRUE)","v":false},{"$f":"CK459","v":"所沢市"},{"$f":"IF(CL459,CM459,\"\")","v":""},{"$f":"_xlfn.TEXTJOIN(\"／\",TRUE,CN459:CN472)","v":""},"□","行田市",{"$f":"IF(CP459=\"☑\",TRUE)","v":false},{"$f":"CQ459","v":"行田市"},{"$f":"IF(CR459,CS459,\"\")","v":""},{"$f":"_xludf.TEXTJOIN(\",\",TRUE,CT459:CT472)","v":""},"□","熊谷市",{"$f":"IF(CV459=\"☑\",TRUE)","v":false},{"$f":"CW459","v":"熊谷市"},{"$f":"IF(CX459,CY459,\"\")","v":""},{"$f":"_xlfn.TEXTJOIN(\"／\",TRUE,CZ459:CZ472)","v":""},"□","秩父市",{"$f":"IF(DB459=\"☑\",TRUE)","v":false},{"$f":"DC459","v":"秩父市"},{"$f":"IF(DD459,DE459,\"\")","v":""},{"$f":"_xlfn.TEXTJOIN(\"／\",TRUE,DF459:DF472)","v":""},{"$f":"_xlfn.TEXTJOIN(\"／\",TRUE,BE459,BK459,BQ459,BW459,CC459,CI459,CO459,CU459,DA459,DG459)","v":""},null,null,null,null,null,null,null,{"$f":"IF(#REF!=\"☑\",TRUE)","v":{"$error":"#REF!"}},{"$f":"IF(DP459,#REF!,\"\")","v":{"$error":"#REF!"}},{"$f":"_xludf.TEXTJOIN(\",\",TRUE,DQ459:DQ472)","v":{"$error":"#VALUE!"}}]
[null,null,null,null,null,null,null,null,null,null,null,null,null,null,null,null,null,null,"□","買物サポート",false,"","□","料理デリバリー（出前）",false,"","□","フィットネス・ジム（送迎）",{"$f":"IF(AA460=\"☑\",TRUE)","v":false},{"$f":"IF(AC460,AB460,\"\")","v":""},"□","出張料理",{"$f":"IF(AE460=\"☑\",TRUE)","v":false},{"$f":"IF(AG460,AF460,\"\")","v":""},"□","温泉・銭湯（たまり場）",false,"","□","多目的トイレ",false,"","□","習い事",{"$f":"IF(AQ460=\"☑\",TRUE)","v":false},{"$f":"IF(AS460,AR460,\"\")","v":""},"□","金融・保険",false,"",null,"□","北区",{"$f":"IF(AZ460=\"☑\",TRUE)","v":false},"さいたま市北区",{"$f":"IF(BB460,BC460,\"\")","v":""},null,"□","蕨市",{"$f":"IF(BF460=\"☑\",TRUE)","v":false},{"$f":"BG460","v":"蕨市"},{"$f":"IF(BH460,BI460,\"\")","v":""},null,"□","志木市",{"$f":"IF(BL460=\"☑\",TRUE)","v":false},"志木市",{"$f":"IF(BN460,BO460,\"\")","v":""},null,"□","草加市",{"$f":"IF(BR460=\"☑\",TRUE)","v":false},"草加市","",null,"□","上尾市",{"$f":"IF(BX460=\"☑\",TRUE)","v":false},{"$f":"BY460","v":"上尾市"},{"$f":"IF(BZ460,CA460,\"\")","v":""},null,"□","東松山市",{"$f":"IF(CD460=\"☑\",TRUE)","v":false},"東松山市",{"$f":"IF(CF460,CG460,\"\")","v":""},null,"□","飯能市",{"$f":"IF(CJ460=\"☑\",TRUE)","v":false},{"$f":"CK460","v":"飯能市"},{"$f":"IF(CL460,CM460,\"\")","v":""},null,"□","加須市",{"$f":"IF(CP460=\"☑\",TRUE)","v":false},"加須市",{"$f":"IF(CR460,CS460,\"\")","v":""},null,"□","本庄市",{"$f":"IF(CV460=\"☑\",TRUE)","v":false},"本庄市",{"$f":"IF(CX460,CY460,\"\")","v":""},null,"□","横瀬町",{"$f":"IF(DB460=\"☑\",TRUE)","v":false},{"$f":"DC460","v":"横瀬町"},{"$f":"IF(DD460,DE460,\"\")","v":""},null,null,null,null,null,null,null,null,null,null,{"$f":"IF(DP460,#REF!,\"\")","v":""}]
[null,null,null,null,null,null,null,null,null,null,null,null,null,null,null,null,null,null,"□","買物代行",false,"","□","食材宅配",false,"","□","温泉・銭湯（送迎）",false,"","□","屋外作業・力仕事",false,"","□","カフェ・ファーストフード",false,"","□","休憩スペース",false,"","□","映画館",false,"","□","住宅・リフォーム",false,"",null,"□","大宮区",false,"さいたま市大宮区","",null,"□","戸田市",{"$f":"IF(BF461=\"☑\",TRUE)","v":false},{"$f":"BG461","v":"戸田市"},"",null,"□","和光市",false,"和光市","",null,"□","越谷市",false,"越谷市","",null,"□","桶川市",{"$f":"IF(BX461=\"☑\",TRUE)","v":false},{"$f":"BY461","v":"桶川市"},"",null,"□","坂戸市",false,"坂戸市","",null,"□","狭山市",{"$f":"IF(CJ461=\"☑\",TRUE)","v":false},{"$f":"CK461","v":"狭山市"},"",null,"□","羽生市",false,"羽生市","",null,"□","深谷市",false,"深谷市","",null,"□","皆野町",{"$f":"IF(DB461=\"☑\",TRUE)","v":false},{"$f":"DC461","v":"皆野町"},"",null,null,null,null,null,null,null,null,null,{"$f":"IF(#REF!=\"☑\",TRUE)","v":{"$error":"#REF!"}},{"$f":"IF(DP461,#REF!,\"\")","v":{"$error":"#REF!"}}]
[null,null,null,null,null,null,null,null,null,null,null,null,null,null,null,null,null,null,"□","移動販売",false,"","□","日用品配達",false,"","□","整体・マッサージ（送迎）",false,"","□","整体・マッサージ（出張）",false,"","□","飲食店",false,"","□","駐車場",false,"","□","カラオケ店",false,"","□","パソコン・スマートフォン",false,"",null,"□","見沼区",false,"さいたま市見沼区","",null,null,null,null,null,"",null,"□","新座市",false,"新座市","",null,"□","八潮市",false,"八潮市","",null,"□","北本市",{"$f":"IF(BX462=\"☑\",TRUE)","v":false},{"$f":"BY462","v":"北本市"},"",null,"□","鶴ヶ島市",false,"鶴ヶ島市","",null,"□","入間市",{"$f":"IF(CJ462=\"☑\",TRUE)","v":false},{"$f":"CK462","v":"入間市"},"",null,"□","久喜市",false,"久喜市","",null,"□","美里町",false,"美里町","",null,"□","長瀞町",{"$f":"IF(DB462=\"☑\",TRUE)","v":false},{"$f":"DC462","v":"長瀞町"},""]
[null,null,null,null,null,null,null,null,null,null,null,null,null,null,null,null,null,null,"□","割引サービス",false,"","□","薬・介護用品配達",false,"","□","乗り合いサービス",false,"","□","理容・美容（出張）",false,"","□","イートインスペース",false,"","□","貸しスペース",false,"","□","麻雀・将棋・囲碁",false,"","□","認知症サポート企業",false,"",null,"□","中央区",false,"さいたま市中央区","",null,null,null,null,null,"",null,"□","富士見市",false,"富士見市","",null,"□","三郷市",false,"三郷市","",null,"□","伊奈町",{"$f":"IF(BX463=\"☑\",TRUE)","v":false},{"$f":"BY463","v":"伊奈町"},"",null,"□","毛呂山町",false,"毛呂山町","",null,"□","日高市",{"$f":"IF(CJ463=\"☑\",TRUE)","v":false},{"$f":"CK463","v":"日高市"},"",null,"□","蓮田市",false,"蓮田市","",null,"□","神川町",false,"神川町","",null,"□","小鹿野町",{"$f":"IF(DB463=\"☑\",TRUE)","v":false},{"$f":"DC463","v":"小鹿野町"},"",null,null,null,null,null,null,null,null,null,{"$f":"IF(#REF!=\"☑\",TRUE)","v":{"$error":"#REF!"}},{"$f":"IF(DP463,#REF!,\"\")","v":{"$error":"#REF!"}}]
[null,null,null,null,null,null,null,null,null,null,null,null,null,null,null,null,null,null,"□","その他（買物）",false,"","□","クリーニング",false,{"$f":"IF(Y464,X464,\"\")","v":""},"□","個別移送サービス",false,"","□","ペット",false,"","□","その他（運動・たまり場）",false,"","□","その他（設備・施設・場所貸し）",false,"","□","ゲームセンター",false,"","□","理容・美容",false,"",null,"□","桜区",false,"さいたま市桜区","",null,null,null,null,null,"",null,"□","ふじみ野市",false,"ふじみ野市","",null,"□","吉川市",false,"吉川市","",null,null,null,null,null,"",null,"□","越生町",false,"越生町","",null,null,null,null,null,"",null,"□","幸手市",false,"幸手市","",null,"□","上里町",false,"上里町","",null,null,null,null,null,"",null,null,null,null,null,null,null,null,null,{"$f":"IF(#REF!=\"☑\",TRUE)","v":{"$error":"#REF!"}},{"$f":"IF(DP464,#REF!,\"\")","v":{"$error":"#REF!"}}]
[null,null,null,null,null,null,null,null,null,null,null,null,null,null,null,null,null,null,null,null,null,null,"□","その他（宅配・デリバリー）",false,{"$f":"IF(Y465,X465,\"\")","v":""},"□","交通機関サービス",false,"","□","その他（出張サービス）",false,"",null,null,null,null,null,null,null,null,"□","旅行・レジャー",false,"","□","成年後見・相続",false,"",null,"□","浦和区",false,"さいたま市浦和区","",null,null,null,null,null,"",null,"□","三芳町",false,"三芳町","",null,"□","松伏町",false,"松伏町","",null,null,null,null,null,"",null,"□","滑川町",false,"滑川町","",null,null,null,null,null,"",null,"□","白岡市",false,"白岡市","",null,"□","寄居町",false,"寄居町","",null,null,null,null,null,""]
[null,null,null,null,null,null,null,null,null,null,null,null,null,null,null,null,null,null,null,null,null,null,null,null,null,null,"□","その他（送迎・移動支援）",false,"",null,null,null,"",null,null,null,{"$f":"IF(AK466,AJ466,\"\")","v":""},null,null,null,{"$f":"IF(AO466,AN466,\"\")","v":""},"□","パソコン・スマホ教室",false,"","□","その他（生活サービス）",false,"",null,"□","南区",false,"さいたま市南区","",null,null,null,null,null,"",null,null,null,null,null,"",null,null,null,null,null,"",null,null,null,null,null,"",null,"□","嵐山町",false,"嵐山町","",null,null,null,null,null,"",null,"□","宮代町",false,"宮代町","",null,null,null,null,null,"",null,null,null,null,null,""]
[null,null,null,null,null,null,null,null,null,null,null,null,null,null,null,null,null,null,null,null,null,null,null,null,null,null,null,null,null,null,null,null,null,null,null,null,null,null,null,null,null,null,"□","その他（学び・趣味）",false,"",null,null,null,null,null,"□","緑区",false,"さいたま市緑区","",null,null,null,null,null,"",null,null,null,null,null,"",null,null,null,null,null,"",null,null,null,null,null,"",null,"□","小川町",false,"小川町","",null,null,null,null,null,"",null,"□","杉戸町",false,"杉戸町","",null,null,null,null,null,"",null,null,null,null,null,""]
[null,null,null,null,null,null,null,null,null,null,null,null,null,null,null,null,null,null,null,null,null,null,null,null,null,null,null,null,null,null,null,null,null,null,null,null,null,null,null,null,null,null,null,null,null,null,null,null,null,null,null,"□","岩槻区",{"$f":"IF(AZ468=\"☑\",TRUE)","v":false},"さいたま市岩槻区","",null,null,null,null,null,"",null,null,null,null,null,"",null,null,null,null,null,"",null,null,null,null,null,"",null,"□","川島町",false,"川島町","",null,null,null,null,null,"",null,null,null,null,null,"",null,null,null,null,null,"",null,null,null,null,null,""]
[null,null,null,null,null,null,null,null,null,null,null,null,null,null,null,null,null,null,null,null,null,null,null,null,null,null,null,null,null,null,null,null,null,null,null,null,null,null,null,null,null,null,null,null,null,null,null,null,null,null,null,null,null,null,null,null,null,null,null,null,null,null,null,null,null,null,null,null,null,null,null,null,null,null,null,null,null,null,null,null,null,"□","吉見町",false,"吉見町","",null,null,null,null,null,"",null,null,null,null,null,"",null,null,null,null,null,"",null,null,null,null,null,""]
[null,null,null,null,null,null,null,null,null,null,null,null,null,null,null,null,null,null,null,null,null,null,null,null,null,null,null,null,null,null,null,null,null,null,null,null,null,null,null,null,null,null,null,null,null,null,null,null,null,null,null,null,null,null,null,null,null,null,null,null,null,null,null,null,null,null,null,null,null,null,null,null,null,null,null,null,null,null,null,null,null,"□","鳩山町",false,"鳩山町","",null,null,null,null,null,"",null,null,null,null,null,"",null,null,null,null,null,"",null,null,null,null,null,""]
[null,null,null,null,null,null,null,null,null,null,null,null,null,null,null,null,null,null,null,null,null,null,null,null,null,null,null,null,null,null,null,null,null,null,null,null,null,null,null,null,null,null,null,null,null,null,null,null,null,null,null,null,null,null,null,null,null,null,null,null,null,null,null,null,null,null,null,null,null,null,null,null,null,null,null,null,null,null,null,null,null,"□","ときがわ町",false,"ときがわ町","",null,null,null,null,null,"",null,null,null,null,null,"",null,null,null,null,null,"",null,null,null,null,null,""]
[null,null,null,null,null,null,null,null,null,null,null,null,null,null,null,null,null,null,null,null,null,null,null,null,null,null,null,null,null,null,null,null,null,null,null,null,null,null,null,null,null,null,null,null,null,null,null,null,null,null,null,null,null,null,null,null,null,null,null,null,null,null,null,null,null,null,null,null,null,null,null,null,null,null,null,null,null,null,null,null,null,"□","東秩父村",false,"東秩父村","",null,null,null,null,null,"",null,null,null,null,null,"",null,null,null,null,null,"",null,null,null,null,null,""]
[33,null,null,null,null,null,null,null,null,null,null,null,null,null,null,null,null,null,"□","配送",{"$f":"IF(S473=\"☑\",TRUE)","v":false},{"$f":"IF(U473,T473,\"\")","v":""},"□","弁当配達",{"$f":"IF(W473=\"☑\",TRUE)","v":false},{"$f":"IF(Y473,X473,\"\")","v":""},"□","理容・美容（送迎）",{"$f":"IF(AA473=\"☑\",TRUE)","v":false},{"$f":"IF(AC473,AB473,\"\")","v":""},"□","家事代行・掃除・片付け",{"$f":"IF(AE473=\"☑\",TRUE)","v":false},{"$f":"IF(AG473,AF473,\"\")","v":""},"□","フィットネス・ジム（運動）",{"$f":"IF(AI473=\"☑\",TRUE)","v":false},{"$f":"IF(AK473,AJ473,\"\")","v":""},"□","車イス対応（バリアフリー）",{"$f":"IF(AM473=\"☑\",TRUE)","v":false},{"$f":"IF(AO473,AN473,\"\")","v":""},"□","講座・教室・イベント",{"$f":"IF(AQ473=\"☑\",TRUE)","v":false},{"$f":"IF(AS473,AR473,\"\")","v":""},"□","防犯・見守り",{"$f":"IF(AU473=\"☑\",TRUE)","v":false},{"$f":"IF(AW473,AV473,\"\")","v":""},{"$f":"_xlfn.TEXTJOIN(\"／\",TRUE,V473:V486,Z473:Z486,AD473:AD486,AH473:AH486,AL473:AL486,AP473:AP486,AT473:AT486,AX473:AX486)","v":""},"□","西区",{"$f":"IF(AZ473=\"☑\",TRUE)","v":false},{"$f":"\"さいたま市\"&BA473","v":"さいたま市西区"},{"$f":"IF(BB473,BC473,\"\")","v":""},{"$f":"_xlfn.TEXTJOIN(\"／\",TRUE,BD473:BD486)","v":""},"□","川口市",{"$f":"IF(BF473=\"☑\",TRUE)","v":false},{"$f":"BG473","v":"川口市"},{"$f":"IF(BH473,BI473,\"\")","v":""},{"$f":"_xludf.TEXTJOIN(\",\",TRUE,BJ473:BJ486)","v":""},"□","朝霞市",{"$f":"IF(BL473=\"☑\",TRUE)","v":false},{"$f":"BM473","v":"朝霞市"},{"$f":"IF(BN473,BO473,\"\")","v":""},{"$f":"_xlfn.TEXTJOIN(\"／\",TRUE,BP473:BP486)","v":""},"□","春日部市",{"$f":"IF(BR473=\"☑\",TRUE)","v":false},{"$f":"BS473","v":"春日部市"},{"$f":"IF(BT473,BU473,\"\")","v":""},{"$f":"_xlfn.TEXTJOIN(\"／\",TRUE,BV473:BV486)","v":""},"□","鴻巣市",{"$f":"IF(BX473=\"☑\",TRUE)","v":false},{"$f":"BY473","v":"鴻巣市"},{"$f":"IF(BZ473,CA473,\"\")","v":""},{"$f":"_xlfn.TEXTJOIN(\"／\",TRUE,CB473:CB486)","v":""},"□","川越市",{"$f":"IF(CD473=\"☑\",TRUE)","v":false},"川越市",{"$f":"IF(CF473,CG473,\"\")","v":""},{"$f":"_xlfn.TEXTJOIN(\"／\",TRUE,CH473:CH486)","v":""},"□","所沢市",{"$f":"IF(CJ473=\"☑\",TRUE)","v":false},{"$f":"CK473","v":"所沢市"},{"$f":"IF(CL473,CM473,\"\")","v":""},{"$f":"_xlfn.TEXTJOIN(\"／\",TRUE,CN473:CN486)","v":""},"□","行田市",{"$f":"IF(CP473=\"☑\",TRUE)","v":false},{"$f":"CQ473","v":"行田市"},{"$f":"IF(CR473,CS473,\"\")","v":""},{"$f":"_xludf.TEXTJOIN(\",\",TRUE,CT473:CT486)","v":""},"□","熊谷市",{"$f":"IF(CV473=\"☑\",TRUE)","v":false},{"$f":"CW473","v":"熊谷市"},{"$f":"IF(CX473,CY473,\"\")","v":""},{"$f":"_xlfn.TEXTJOIN(\"／\",TRUE,CZ473:CZ486)","v":""},"□","秩父市",{"$f":"IF(DB473=\"☑\",TRUE)","v":false},{"$f":"DC473","v":"秩父市"},{"$f":"IF(DD473,DE473,\"\")","v":""},{"$f":"_xlfn.TEXTJOIN(\"／\",TRUE,DF473:DF486)","v":""},{"$f":"_xlfn.TEXTJOIN(\"／\",TRUE,BE473,BK473,BQ473,BW473,CC473,CI473,CO473,CU473,DA473,DG473)","v":""},null,null,null,null,null,null,null,{"$f":"IF(#REF!=\"☑\",TRUE)","v":{"$error":"#REF!"}},{"$f":"IF(DP473,#REF!,\"\")","v":{"$error":"#REF!"}},{"$f":"_xludf.TEXTJOIN(\",\",TRUE,DQ473:DQ486)","v":{"$error":"#VALUE!"}}]
[null,null,null,null,null,null,null,null,null,null,null,null,null,null,null,null,null,null,"□","買物サポート",false,"","□","料理デリバリー（出前）",false,"","□","フィットネス・ジム（送迎）",{"$f":"IF(AA474=\"☑\",TRUE)","v":false},{"$f":"IF(AC474,AB474,\"\")","v":""},"□","出張料理",{"$f":"IF(AE474=\"☑\",TRUE)","v":false},{"$f":"IF(AG474,AF474,\"\")","v":""},"□","温泉・銭湯（たまり場）",false,"","□","多目的トイレ",false,"","□","習い事",{"$f":"IF(AQ474=\"☑\",TRUE)","v":false},{"$f":"IF(AS474,AR474,\"\")","v":""},"□","金融・保険",false,"",null,"□","北区",{"$f":"IF(AZ474=\"☑\",TRUE)","v":false},"さいたま市北区",{"$f":"IF(BB474,BC474,\"\")","v":""},null,"□","蕨市",{"$f":"IF(BF474=\"☑\",TRUE)","v":false},{"$f":"BG474","v":"蕨市"},{"$f":"IF(BH474,BI474,\"\")","v":""},null,"□","志木市",{"$f":"IF(BL474=\"☑\",TRUE)","v":false},"志木市",{"$f":"IF(BN474,BO474,\"\")","v":""},null,"□","草加市",{"$f":"IF(BR474=\"☑\",TRUE)","v":false},"草加市","",null,"□","上尾市",{"$f":"IF(BX474=\"☑\",TRUE)","v":false},{"$f":"BY474","v":"上尾市"},{"$f":"IF(BZ474,CA474,\"\")","v":""},null,"□","東松山市",{"$f":"IF(CD474=\"☑\",TRUE)","v":false},"東松山市",{"$f":"IF(CF474,CG474,\"\")","v":""},null,"□","飯能市",{"$f":"IF(CJ474=\"☑\",TRUE)","v":false},{"$f":"CK474","v":"飯能市"},{"$f":"IF(CL474,CM474,\"\")","v":""},null,"□","加須市",{"$f":"IF(CP474=\"☑\",TRUE)","v":false},"加須市",{"$f":"IF(CR474,CS474,\"\")","v":""},null,"□","本庄市",{"$f":"IF(CV474=\"☑\",TRUE)","v":false},"本庄市",{"$f":"IF(CX474,CY474,\"\")","v":""},null,"□","横瀬町",{"$f":"IF(DB474=\"☑\",TRUE)","v":false},{"$f":"DC474","v":"横瀬町"},{"$f":"IF(DD474,DE474,\"\")","v":""},null,null,null,null,null,null,null,null,null,null,{"$f":"IF(DP474,#REF!,\"\")","v":""}]
[null,null,null,null,null,null,null,null,null,null,null,null,null,null,null,null,null,null,"□","買物代行",false,"","□","食材宅配",false,"","□","温泉・銭湯（送迎）",false,"","□","屋外作業・力仕事",false,"","□","カフェ・ファーストフード",false,"","□","休憩スペース",false,"","□","映画館",false,"","□","住宅・リフォーム",false,"",null,"□","大宮区",false,"さいたま市大宮区","",null,"□","戸田市",{"$f":"IF(BF475=\"☑\",TRUE)","v":false},{"$f":"BG475","v":"戸田市"},"",null,"□","和光市",false,"和光市","",null,"□","越谷市",false,"越谷市","",null,"□","桶川市",{"$f":"IF(BX475=\"☑\",TRUE)","v":false},{"$f":"BY475","v":"桶川市"},"",null,"□","坂戸市",false,"坂戸市","",null,"□","狭山市",{"$f":"IF(CJ475=\"☑\",TRUE)","v":false},{"$f":"CK475","v":"狭山市"},"",null,"□","羽生市",false,"羽生市","",null,"□","深谷市",false,"深谷市","",null,"□","皆野町",{"$f":"IF(DB475=\"☑\",TRUE)","v":false},{"$f":"DC475","v":"皆野町"},"",null,null,null,null,null,null,null,null,null,{"$f":"IF(#REF!=\"☑\",TRUE)","v":{"$error":"#REF!"}},{"$f":"IF(DP475,#REF!,\"\")","v":{"$error":"#REF!"}}]
[null,null,null,null,null,null,null,null,null,null,null,null,null,null,null,null,null,null,"□","移動販売",false,"","□","日用品配達",false,"","□","整体・マッサージ（送迎）",false,"","□","整体・マッサージ（出張）",false,"","□","飲食店",false,"","□","駐車場",false,"","□","カラオケ店",false,"","□","パソコン・スマートフォン",false,"",null,"□","見沼区",false,"さいたま市見沼区","",null,null,null,null,null,"",null,"□","新座市",false,"新座市","",null,"□","八潮市",false,"八潮市","",null,"□","北本市",{"$f":"IF(BX476=\"☑\",TRUE)","v":false},{"$f":"BY476","v":"北本市"},"",null,"□","鶴ヶ島市",false,"鶴ヶ島市","",null,"□","入間市",{"$f":"IF(CJ476=\"☑\",TRUE)","v":false},{"$f":"CK476","v":"入間市"},"",null,"□","久喜市",false,"久喜市","",null,"□","美里町",false,"美里町","",null,"□","長瀞町",{"$f":"IF(DB476=\"☑\",TRUE)","v":false},{"$f":"DC476","v":"長瀞町"},""]
[null,null,null,null,null,null,null,null,null,null,null,null,null,null,null,null,null,null,"□","割引サービス",false,"","□","薬・介護用品配達",false,"","□","乗り合いサービス",false,"","□","理容・美容（出張）",false,"","□","イートインスペース",false,"","□","貸しスペース",false,"","□","麻雀・将棋・囲碁",false,"","□","認知症サポート企業",false,"",null,"□","中央区",false,"さいたま市中央区","",null,null,null,null,null,"",null,"□","富士見市",false,"富士見市","",null,"□","三郷市",false,"三郷市","",null,"□","伊奈町",{"$f":"IF(BX477=\"☑\",TRUE)","v":false},{"$f":"BY477","v":"伊奈町"},"",null,"□","毛呂山町",false,"毛呂山町","",null,"□","日高市",{"$f":"IF(CJ477=\"☑\",TRUE)","v":false},{"$f":"CK477","v":"日高市"},"",null,"□","蓮田市",false,"蓮田市","",null,"□","神川町",false,"神川町","",null,"□","小鹿野町",{"$f":"IF(DB477=\"☑\",TRUE)","v":false},{"$f":"DC477","v":"小鹿野町"},"",null,null,null,null,null,null,null,null,null,{"$f":"IF(#REF!=\"☑\",TRUE)","v":{"$error":"#REF!"}},{"$f":"IF(DP477,#REF!,\"\")","v":{"$error":"#REF!"}}]
[null,null,null,null,null,null,null,null,null,null,null,null,null,null,null,null,null,null,"□","その他（買物）",false,"","□","クリーニング",false,{"$f":"IF(Y478,X478,\"\")","v":""},"□","個別移送サービス",false,"","□","ペット",false,"","□","その他（運動・たまり場）",false,"","□","その他（設備・施設・場所貸し）",false,"","□","ゲームセンター",false,"","□","理容・美容",false,"",null,"□","桜区",false,"さいたま市桜区","",null,null,null,null,null,"",null,"□","ふじみ野市",false,"ふじみ野市","",null,"□","吉川市",false,"吉川市","",null,null,null,null,null,"",null,"□","越生町",false,"越生町","",null,null,null,null,null,"",null,"□","幸手市",false,"幸手市","",null,"□","上里町",false,"上里町","",null,null,null,null,null,"",null,null,null,null,null,null,null,null,null,{"$f":"IF(#REF!=\"☑\",TRUE)","v":{"$error":"#REF!"}},{"$f":"IF(DP478,#REF!,\"\")","v":{"$error":"#REF!"}}]
[null,null,null,null,null,null,null,null,null,null,null,null,null,null,null,null,null,null,null,null,null,null,"□","その他（宅配・デリバリー）",false,{"$f":"IF(Y479,X479,\"\")","v":""},"□","交通機関サービス",false,"","□","その他（出張サービス）",false,"",null,null,null,null,null,null,null,null,"□","旅行・レジャー",false,"","□","成年後見・相続",false,"",null,"□","浦和区",false,"さいたま市浦和区","",null,null,null,null,null,"",null,"□","三芳町",false,"三芳町","",null,"□","松伏町",false,"松伏町","",null,null,null,null,null,"",null,"□","滑川町",false,"滑川町","",null,null,null,null,null,"",null,"□","白岡市",false,"白岡市","",null,"□","寄居町",false,"寄居町","",null,null,null,null,null,""]
[null,null,null,null,null,null,null,null,null,null,null,null,null,null,null,null,null,null,null,null,null,null,null,null,null,null,"□","その他（送迎・移動支援）",false,"",null,null,null,"",null,null,null,{"$f":"IF(AK480,AJ480,\"\")","v":""},null,null,null,{"$f":"IF(AO480,AN480,\"\")","v":""},"□","パソコン・スマホ教室",false,"","□","その他（生活サービス）",false,"",null,"□","南区",false,"さいたま市南区","",null,null,null,null,null,"",null,null,null,null,null,"",null,null,null,null,null,"",null,null,null,null,null,"",null,"□","嵐山町",false,"嵐山町","",null,null,null,null,null,"",null,"□","宮代町",false,"宮代町","",null,null,null,null,null,"",null,null,null,null,null,""]
[null,null,null,null,null,null,null,null,null,null,null,null,null,null,null,null,null,null,null,null,null,null,null,null,null,null,null,null,null,null,null,null,null,null,null,null,null,null,null,null,null,null,"□","その他（学び・趣味）",false,"",null,null,null,null,null,"□","緑区",false,"さいたま市緑区","",null,null,null,null,null,"",null,null,null,null,null,"",null,null,null,null,null,"",null,null,null,null,null,"",null,"□","小川町",false,"小川町","",null,null,null,null,null,"",null,"□","杉戸町",false,"杉戸町","",null,null,null,null,null,"",null,null,null,null,null,""]
[null,null,null,null,null,null,null,null,null,null,null,null,null,null,null,null,null,null,null,null,null,null,null,null,null,null,null,null,null,null,null,null,null,null,null,null,null,null,null,null,null,null,null,null,null,null,null,null,null,null,null,"□","岩槻区",{"$f":"IF(AZ482=\"☑\",TRUE)","v":false},"さいたま市岩槻区","",null,null,null,null,null,"",null,null,null,null,null,"",null,null,null,null,null,"",null,null,null,null,null,"",null,"□","川島町",false,"川島町","",null,null,null,null,null,"",null,null,null,null,null,"",null,null,null,null,null,"",null,null,null,null,null,""]
[null,null,null,null,null,null,null,null,null,null,null,null,null,null,null,null,null,null,null,null,null,null,null,null,null,null,null,null,null,null,null,null,null,null,null,null,null,null,null,null,null,null,null,null,null,null,null,null,null,null,null,null,null,null,null,null,null,null,null,null,null,null,null,null,null,null,null,null,null,null,null,null,null,null,null,null,null,null,null,null,null,"□","吉見町",false,"吉見町","",null,null,null,null,null,"",null,null,null,null,null,"",null,null,null,null,null,"",null,null,null,null,null,""]
[null,null,null,null,null,null,null,null,null,null,null,null,null,null,null,null,null,null,null,null,null,null,null,null,null,null,null,null,null,null,null,null,null,null,null,null,null,null,null,null,null,null,null,null,null,null,null,null,null,null,null,null,null,null,null,null,null,null,null,null,null,null,null,null,null,null,null,null,null,null,null,null,null,null,null,null,null,null,null,null,null,"□","鳩山町",false,"鳩山町","",null,null,null,null,null,"",null,null,null,null,null,"",null,null,null,null,null,"",null,null,null,null,null,""]
[null,null,null,null,null,null,null,null,null,null,null,null,null,null,null,null,null,null,null,null,null,null,null,null,null,null,null,null,null,null,null,null,null,null,null,null,null,null,null,null,null,null,null,null,null,null,null,null,null,null,null,null,null,null,null,null,null,null,null,null,null,null,null,null,null,null,null,null,null,null,null,null,null,null,null,null,null,null,null,null,null,"□","ときがわ町",false,"ときがわ町","",null,null,null,null,null,"",null,null,null,null,null,"",null,null,null,null,null,"",null,null,null,null,null,""]
[null,null,null,null,null,null,null,null,null,null,null,null,null,null,null,null,null,null,null,null,null,null,null,null,null,null,null,null,null,null,null,null,null,null,null,null,null,null,null,null,null,null,null,null,null,null,null,null,null,null,null,null,null,null,null,null,null,null,null,null,null,null,null,null,null,null,null,null,null,null,null,null,null,null,null,null,null,null,null,null,null,"□","東秩父村",false,"東秩父村","",null,null,null,null,null,"",null,null,null,null,null,"",null,null,null,null,null,"",null,null,null,null,null,""]
[34,null,null,null,null,null,null,null,null,null,null,null,null,null,null,null,null,null,"□","配送",{"$f":"IF(S487=\"☑\",TRUE)","v":false},{"$f":"IF(U487,T487,\"\")","v":""},"□","弁当配達",{"$f":"IF(W487=\"☑\",TRUE)","v":false},{"$f":"IF(Y487,X487,\"\")","v":""},"□","理容・美容（送迎）",{"$f":"IF(AA487=\"☑\",TRUE)","v":false},{"$f":"IF(AC487,AB487,\"\")","v":""},"□","家事代行・掃除・片付け",{"$f":"IF(AE487=\"☑\",TRUE)","v":false},{"$f":"IF(AG487,AF487,\"\")","v":""},"□","フィットネス・ジム（運動）",{"$f":"IF(AI487=\"☑\",TRUE)","v":false},{"$f":"IF(AK487,AJ487,\"\")","v":""},"□","車イス対応（バリアフリー）",{"$f":"IF(AM487=\"☑\",TRUE)","v":false},{"$f":"IF(AO487,AN487,\"\")","v":""},"□","講座・教室・イベント",{"$f":"IF(AQ487=\"☑\",TRUE)","v":false},{"$f":"IF(AS487,AR487,\"\")","v":""},"□","防犯・見守り",{"$f":"IF(AU487=\"☑\",TRUE)","v":false},{"$f":"IF(AW487,AV487,\"\")","v":""},{"$f":"_xlfn.TEXTJOIN(\"／\",TRUE,V487:V500,Z487:Z500,AD487:AD500,AH487:AH500,AL487:AL500,AP487:AP500,AT487:AT500,AX487:AX500)","v":""},"□","西区",{"$f":"IF(AZ487=\"☑\",TRUE)","v":false},{"$f":"\"さいたま市\"&BA487","v":"さいたま市西区"},{"$f":"IF(BB487,BC487,\"\")","v":""},{"$f":"_xlfn.TEXTJOIN(\"／\",TRUE,BD487:BD500)","v":""},"□","川口市",{"$f":"IF(BF487=\"☑\",TRUE)","v":false},{"$f":"BG487","v":"川口市"},{"$f":"IF(BH487,BI487,\"\")","v":""},{"$f":"_xludf.TEXTJOIN(\",\",TRUE,BJ487:BJ500)","v":""},"□","朝霞市",{"$f":"IF(BL487=\"☑\",TRUE)","v":false},{"$f":"BM487","v":"朝霞市"},{"$f":"IF(BN487,BO487,\"\")","v":""},{"$f":"_xlfn.TEXTJOIN(\"／\",TRUE,BP487:BP500)","v":""},"□","春日部市",{"$f":"IF(BR487=\"☑\",TRUE)","v":false},{"$f":"BS487","v":"春日部市"},{"$f":"IF(BT487,BU487,\"\")","v":""},{"$f":"_xlfn.TEXTJOIN(\"／\",TRUE,BV487:BV500)","v":""},"□","鴻巣市",{"$f":"IF(BX487=\"☑\",TRUE)","v":false},{"$f":"BY487","v":"鴻巣市"},{"$f":"IF(BZ487,CA487,\"\")","v":""},{"$f":"_xlfn.TEXTJOIN(\"／\",TRUE,CB487:CB500)","v":""},"□","川越市",{"$f":"IF(CD487=\"☑\",TRUE)","v":false},"川越市",{"$f":"IF(CF487,CG487,\"\")","v":""},{"$f":"_xlfn.TEXTJOIN(\"／\",TRUE,CH487:CH500)","v":""},"□","所沢市",{"$f":"IF(CJ487=\"☑\",TRUE)","v":false},{"$f":"CK487","v":"所沢市"},{"$f":"IF(CL487,CM487,\"\")","v":""},{"$f":"_xlfn.TEXTJOIN(\"／\",TRUE,CN487:CN500)","v":""},"□","行田市",{"$f":"IF(CP487=\"☑\",TRUE)","v":false},{"$f":"CQ487","v":"行田市"},{"$f":"IF(CR487,CS487,\"\")","v":""},{"$f":"_xludf.TEXTJOIN(\",\",TRUE,CT487:CT500)","v":""},"□","熊谷市",{"$f":"IF(CV487=\"☑\",TRUE)","v":false},{"$f":"CW487","v":"熊谷市"},{"$f":"IF(CX487,CY487,\"\")","v":""},{"$f":"_xlfn.TEXTJOIN(\"／\",TRUE,CZ487:CZ500)","v":""},"□","秩父市",{"$f":"IF(DB487=\"☑\",TRUE)","v":false},{"$f":"DC487","v":"秩父市"},{"$f":"IF(DD487,DE487,\"\")","v":""},{"$f":"_xlfn.TEXTJOIN(\"／\",TRUE,DF487:DF500)","v":""},{"$f":"_xlfn.TEXTJOIN(\"／\",TRUE,BE487,BK487,BQ487,BW487,CC487,CI487,CO487,CU487,DA487,DG487)","v":""},null,null,null,null,null,null,null,{"$f":"IF(#REF!=\"☑\",TRUE)","v":{"$error":"#REF!"}},{"$f":"IF(DP487,#REF!,\"\")","v":{"$error":"#REF!"}},{"$f":"_xludf.TEXTJOIN(\",\",TRUE,DQ487:DQ500)","v":{"$error":"#VALUE!"}}]
[null,null,null,null,null,null,null,null,null,null,null,null,null,null,null,null,null,null,"□","買物サポート",false,"","□","料理デリバリー（出前）",false,"","□","フィットネス・ジム（送迎）",{"$f":"IF(AA488=\"☑\",TRUE)","v":false},{"$f":"IF(AC488,AB488,\"\")","v":""},"□","出張料理",{"$f":"IF(AE488=\"☑\",TRUE)","v":false},{"$f":"IF(AG488,AF488,\"\")","v":""},"□","温泉・銭湯（たまり場）",false,"","□","多目的トイレ",false,"","□","習い事",{"$f":"IF(AQ488=\"☑\",TRUE)","v":false},{"$f":"IF(AS488,AR488,\"\")","v":""},"□","金融・保険",false,"",null,"□","北区",{"$f":"IF(AZ488=\"☑\",TRUE)","v":false},"さいたま市北区",{"$f":"IF(BB488,BC488,\"\")","v":""},null,"□","蕨市",{"$f":"IF(BF488=\"☑\",TRUE)","v":false},{"$f":"BG488","v":"蕨市"},{"$f":"IF(BH488,BI488,\"\")","v":""},null,"□","志木市",{"$f":"IF(BL488=\"☑\",TRUE)","v":false},"志木市",{"$f":"IF(BN488,BO488,\"\")","v":""},null,"□","草加市",{"$f":"IF(BR488=\"☑\",TRUE)","v":false},"草加市","",null,"□","上尾市",{"$f":"IF(BX488=\"☑\",TRUE)","v":false},{"$f":"BY488","v":"上尾市"},{"$f":"IF(BZ488,CA488,\"\")","v":""},null,"□","東松山市",{"$f":"IF(CD488=\"☑\",TRUE)","v":false},"東松山市",{"$f":"IF(CF488,CG488,\"\")","v":""},null,"□","飯能市",{"$f":"IF(CJ488=\"☑\",TRUE)","v":false},{"$f":"CK488","v":"飯能市"},{"$f":"IF(CL488,CM488,\"\")","v":""},null,"□","加須市",{"$f":"IF(CP488=\"☑\",TRUE)","v":false},"加須市",{"$f":"IF(CR488,CS488,\"\")","v":""},null,"□","本庄市",{"$f":"IF(CV488=\"☑\",TRUE)","v":false},"本庄市",{"$f":"IF(CX488,CY488,\"\")","v":""},null,"□","横瀬町",{"$f":"IF(DB488=\"☑\",TRUE)","v":false},{"$f":"DC488","v":"横瀬町"},{"$f":"IF(DD488,DE488,\"\")","v":""},null,null,null,null,null,null,null,null,null,null,{"$f":"IF(DP488,#REF!,\"\")","v":""}]
[null,null,null,null,null,null,null,null,null,null,null,null,null,null,null,null,null,null,"□","買物代行",false,"","□","食材宅配",false,"","□","温泉・銭湯（送迎）",false,"","□","屋外作業・力仕事",false,"","□","カフェ・ファーストフード",false,"","□","休憩スペース",false,"","□","映画館",false,"","□","住宅・リフォーム",false,"",null,"□","大宮区",false,"さいたま市大宮区","",null,"□","戸田市",{"$f":"IF(BF489=\"☑\",TRUE)","v":false},{"$f":"BG489","v":"戸田市"},"",null,"□","和光市",false,"和光市","",null,"□","越谷市",false,"越谷市","",null,"□","桶川市",{"$f":"IF(BX489=\"☑\",TRUE)","v":false},{"$f":"BY489","v":"桶川市"},"",null,"□","坂戸市",false,"坂戸市","",null,"□","狭山市",{"$f":"IF(CJ489=\"☑\",TRUE)","v":false},{"$f":"CK489","v":"狭山市"},"",null,"□","羽生市",false,"羽生市","",null,"□","深谷市",false,"深谷市","",null,"□","皆野町",{"$f":"IF(DB489=\"☑\",TRUE)","v":false},{"$f":"DC489","v":"皆野町"},"",null,null,null,null,null,null,null,null,null,{"$f":"IF(#REF!=\"☑\",TRUE)","v":{"$error":"#REF!"}},{"$f":"IF(DP489,#REF!,\"\")","v":{"$error":"#REF!"}}]
[null,null,null,null,null,null,null,null,null,null,null,null,null,null,null,null,null,null,"□","移動販売",false,"","□","日用品配達",false,"","□","整体・マッサージ（送迎）",false,"","□","整体・マッサージ（出張）",false,"","□","飲食店",false,"","□","駐車場",false,"","□","カラオケ店",false,"","□","パソコン・スマートフォン",false,"",null,"□","見沼区",false,"さいたま市見沼区","",null,null,null,null,null,"",null,"□","新座市",false,"新座市","",null,"□","八潮市",false,"八潮市","",null,"□","北本市",{"$f":"IF(BX490=\"☑\",TRUE)","v":false},{"$f":"BY490","v":"北本市"},"",null,"□","鶴ヶ島市",false,"鶴ヶ島市","",null,"□","入間市",{"$f":"IF(CJ490=\"☑\",TRUE)","v":false},{"$f":"CK490","v":"入間市"},"",null,"□","久喜市",false,"久喜市","",null,"□","美里町",false,"美里町","",null,"□","長瀞町",{"$f":"IF(DB490=\"☑\",TRUE)","v":false},{"$f":"DC490","v":"長瀞町"},""]
[null,null,null,null,null,null,null,null,null,null,null,null,null,null,null,null,null,null,"□","割引サービス",false,"","□","薬・介護用品配達",false,"","□","乗り合いサービス",false,"","□","理容・美容（出張）",false,"","□","イートインスペース",false,"","□","貸しスペース",false,"","□","麻雀・将棋・囲碁",false,"","□","認知症サポート企業",false,"",null,"□","中央区",false,"さいたま市中央区","",null,null,null,null,null,"",null,"□","富士見市",false,"富士見市","",null,"□","三郷市",false,"三郷市","",null,"□","伊奈町",{"$f":"IF(BX491=\"☑\",TRUE)","v":false},{"$f":"BY491","v":"伊奈町"},"",null,"□","毛呂山町",false,"毛呂山町","",null,"□","日高市",{"$f":"IF(CJ491=\"☑\",TRUE)","v":false},{"$f":"CK491","v":"日高市"},"",null,"□","蓮田市",false,"蓮田市","",null,"□","神川町",false,"神川町","",null,"□","小鹿野町",{"$f":"IF(DB491=\"☑\",TRUE)","v":false},{"$f":"DC491","v":"小鹿野町"},"",null,null,null,null,null,null,null,null,null,{"$f":"IF(#REF!=\"☑\",TRUE)","v":{"$error":"#REF!"}},{"$f":"IF(DP491,#REF!,\"\")","v":{"$error":"#REF!"}}]
[null,null,null,null,null,null,null,null,null,null,null,null,null,null,null,null,null,null,"□","その他（買物）",false,"","□","クリーニング",false,{"$f":"IF(Y492,X492,\"\")","v":""},"□","個別移送サービス",false,"","□","ペット",false,"","□","その他（運動・たまり場）",false,"","□","その他（設備・施設・場所貸し）",false,"","□","ゲームセンター",false,"","□","理容・美容",false,"",null,"□","桜区",false,"さいたま市桜区","",null,null,null,null,null,"",null,"□","ふじみ野市",false,"ふじみ野市","",null,"□","吉川市",false,"吉川市","",null,null,null,null,null,"",null,"□","越生町",false,"越生町","",null,null,null,null,null,"",null,"□","幸手市",false,"幸手市","",null,"□","上里町",false,"上里町","",null,null,null,null,null,"",null,null,null,null,null,null,null,null,null,{"$f":"IF(#REF!=\"☑\",TRUE)","v":{"$error":"#REF!"}},{"$f":"IF(DP492,#REF!,\"\")","v":{"$error":"#REF!"}}]
[null,null,null,null,null,null,null,null,null,null,null,null,null,null,null,null,null,null,null,null,null,null,"□","その他（宅配・デリバリー）",false,{"$f":"IF(Y493,X493,\"\")","v":""},"□","交通機関サービス",false,"","□","その他（出張サービス）",false,"",null,null,null,null,null,null,null,null,"□","旅行・レジャー",false,"","□","成年後見・相続",false,"",null,"□","浦和区",false,"さいたま市浦和区","",null,null,null,null,null,"",null,"□","三芳町",false,"三芳町","",null,"□","松伏町",false,"松伏町","",null,null,null,null,null,"",null,"□","滑川町",false,"滑川町","",null,null,null,null,null,"",null,"□","白岡市",false,"白岡市","",null,"□","寄居町",false,"寄居町","",null,null,null,null,null,""]
[null,null,null,null,null,null,null,null,null,null,null,null,null,null,null,null,null,null,null,null,null,null,null,null,null,null,"□","その他（送迎・移動支援）",false,"",null,null,null,"",null,null,null,{"$f":"IF(AK494,AJ494,\"\")","v":""},null,null,null,{"$f":"IF(AO494,AN494,\"\")","v":""},"□","パソコン・スマホ教室",false,"","□","その他（生活サービス）",false,"",null,"□","南区",false,"さいたま市南区","",null,null,null,null,null,"",null,null,null,null,null,"",null,null,null,null,null,"",null,null,null,null,null,"",null,"□","嵐山町",false,"嵐山町","",null,null,null,null,null,"",null,"□","宮代町",false,"宮代町","",null,null,null,null,null,"",null,null,null,null,null,""]
[null,null,null,null,null,null,null,null,null,null,null,null,null,null,null,null,null,null,null,null,null,null,null,null,null,null,null,null,null,null,null,null,null,null,null,null,null,null,null,null,null,null,"□","その他（学び・趣味）",false,"",null,null,null,null,null,"□","緑区",false,"さいたま市緑区","",null,null,null,null,null,"",null,null,null,null,null,"",null,null,null,null,null,"",null,null,null,null,null,"",null,"□","小川町",false,"小川町","",null,null,null,null,null,"",null,"□","杉戸町",false,"杉戸町","",null,null,null,null,null,"",null,null,null,null,null,""]
[null,null,null,null,null,null,null,null,null,null,null,null,null,null,null,null,null,null,null,null,null,null,null,null,null,null,null,null,null,null,null,null,null,null,null,null,null,null,null,null,null,null,null,null,null,null,null,null,null,null,null,"□","岩槻区",{"$f":"IF(AZ496=\"☑\",TRUE)","v":false},"さいたま市岩槻区","",null,null,null,null,null,"",null,null,null,null,null,"",null,null,null,null,null,"",null,null,null,null,null,"",null,"□","川島町",false,"川島町","",null,null,null,null,null,"",null,null,null,null,null,"",null,null,null,null,null,"",null,null,null,null,null,""]
[null,null,null,null,null,null,null,null,null,null,null,null,null,null,null,null,null,null,null,null,null,null,null,null,null,null,null,null,null,null,null,null,null,null,null,null,null,null,null,null,null,null,null,null,null,null,null,null,null,null,null,null,null,null,null,null,null,null,null,null,null,null,null,null,null,null,null,null,null,null,null,null,null,null,null,null,null,null,null,null,null,"□","吉見町",false,"吉見町","",null,null,null,null,null,"",null,null,null,null,null,"",null,null,null,null,null,"",null,null,null,null,null,""]
[null,null,null,null,null,null,null,null,null,null,null,null,null,null,null,null,null,null,null,null,null,null,null,null,null,null,null,null,null,null,null,null,null,null,null,null,null,null,null,null,null,null,null,null,null,null,null,null,null,null,null,null,null,null,null,null,null,null,null,null,null,null,null,null,null,null,null,null,null,null,null,null,null,null,null,null,null,null,null,null,null,"□","鳩山町",false,"鳩山町","",null,null,null,null,null,"",null,null,null,null,null,"",null,null,null,null,null,"",null,null,null,null,null,""]
[null,null,null,null,null,null,null,null,null,null,null,null,null,null,null,null,null,null,null,null,null,null,null,null,null,null,null,null,null,null,null,null,null,null,null,null,null,null,null,null,null,null,null,null,null,null,null,null,null,null,null,null,null,null,null,null,null,null,null,null,null,null,null,null,null,null,null,null,null,null,null,null,null,null,null,null,null,null,null,null,null,"□","ときがわ町",false,"ときがわ町","",null,null,null,null,null,"",null,null,null,null,null,"",null,null,null,null,null,"",null,null,null,null,null,""]
[null,null,null,null,null,null,null,null,null,null,null,null,null,null,null,null,null,null,null,null,null,null,null,null,null,null,null,null,null,null,null,null,null,null,null,null,null,null,null,null,null,null,null,null,null,null,null,null,null,null,null,null,null,null,null,null,null,null,null,null,null,null,null,null,null,null,null,null,null,null,null,null,null,null,null,null,null,null,null,null,null,"□","東秩父村",false,"東秩父村","",null,null,null,null,null,"",null,null,null,null,null,"",null,null,null,null,null,"",null,null,null,null,null,""]
[35,null,null,null,null,null,null,null,null,null,null,null,null,null,null,null,null,null,"□","配送",{"$f":"IF(S501=\"☑\",TRUE)","v":false},{"$f":"IF(U501,T501,\"\")","v":""},"□","弁当配達",{"$f":"IF(W501=\"☑\",TRUE)","v":false},{"$f":"IF(Y501,X501,\"\")","v":""},"□","理容・美容（送迎）",{"$f":"IF(AA501=\"☑\",TRUE)","v":false},{"$f":"IF(AC501,AB501,\"\")","v":""},"□","家事代行・掃除・片付け",{"$f":"IF(AE501=\"☑\",TRUE)","v":false},{"$f":"IF(AG501,AF501,\"\")","v":""},"□","フィットネス・ジム（運動）",{"$f":"IF(AI501=\"☑\",TRUE)","v":false},{"$f":"IF(AK501,AJ501,\"\")","v":""},"□","車イス対応（バリアフリー）",{"$f":"IF(AM501=\"☑\",TRUE)","v":false},{"$f":"IF(AO501,AN501,\"\")","v":""},"□","講座・教室・イベント",{"$f":"IF(AQ501=\"☑\",TRUE)","v":false},{"$f":"IF(AS501,AR501,\"\")","v":""},"□","防犯・見守り",{"$f":"IF(AU501=\"☑\",TRUE)","v":false},{"$f":"IF(AW501,AV501,\"\")","v":""},{"$f":"_xlfn.TEXTJOIN(\"／\",TRUE,V501:V514,Z501:Z514,AD501:AD514,AH501:AH514,AL501:AL514,AP501:AP514,AT501:AT514,AX501:AX514)","v":""},"□","西区",{"$f":"IF(AZ501=\"☑\",TRUE)","v":false},{"$f":"\"さいたま市\"&BA501","v":"さいたま市西区"},{"$f":"IF(BB501,BC501,\"\")","v":""},{"$f":"_xlfn.TEXTJOIN(\"／\",TRUE,BD501:BD514)","v":""},"□","川口市",{"$f":"IF(BF501=\"☑\",TRUE)","v":false},{"$f":"BG501","v":"川口市"},{"$f":"IF(BH501,BI501,\"\")","v":""},{"$f":"_xludf.TEXTJOIN(\",\",TRUE,BJ501:BJ514)","v":""},"□","朝霞市",{"$f":"IF(BL501=\"☑\",TRUE)","v":false},{"$f":"BM501","v":"朝霞市"},{"$f":"IF(BN501,BO501,\"\")","v":""},{"$f":"_xlfn.TEXTJOIN(\"／\",TRUE,BP501:BP514)","v":""},"□","春日部市",{"$f":"IF(BR501=\"☑\",TRUE)","v":false},{"$f":"BS501","v":"春日部市"},{"$f":"IF(BT501,BU501,\"\")","v":""},{"$f":"_xlfn.TEXTJOIN(\"／\",TRUE,BV501:BV514)","v":""},"□","鴻巣市",{"$f":"IF(BX501=\"☑\",TRUE)","v":false},{"$f":"BY501","v":"鴻巣市"},{"$f":"IF(BZ501,CA501,\"\")","v":""},{"$f":"_xlfn.TEXTJOIN(\"／\",TRUE,CB501:CB514)","v":""},"□","川越市",{"$f":"IF(CD501=\"☑\",TRUE)","v":false},"川越市",{"$f":"IF(CF501,CG501,\"\")","v":""},{"$f":"_xlfn.TEXTJOIN(\"／\",TRUE,CH501:CH514)","v":""},"□","所沢市",{"$f":"IF(CJ501=\"☑\",TRUE)","v":false},{"$f":"CK501","v":"所沢市"},{"$f":"IF(CL501,CM501,\"\")","v":""},{"$f":"_xlfn.TEXTJOIN(\"／\",TRUE,CN501:CN514)","v":""},"□","行田市",{"$f":"IF(CP501=\"☑\",TRUE)","v":false},{"$f":"CQ501","v":"行田市"},{"$f":"IF(CR501,CS501,\"\")","v":""},{"$f":"_xludf.TEXTJOIN(\",\",TRUE,CT501:CT514)","v":""},"□","熊谷市",{"$f":"IF(CV501=\"☑\",TRUE)","v":false},{"$f":"CW501","v":"熊谷市"},{"$f":"IF(CX501,CY501,\"\")","v":""},{"$f":"_xlfn.TEXTJOIN(\"／\",TRUE,CZ501:CZ514)","v":""},"□","秩父市",{"$f":"IF(DB501=\"☑\",TRUE)","v":false},{"$f":"DC501","v":"秩父市"},{"$f":"IF(DD501,DE501,\"\")","v":""},{"$f":"_xlfn.TEXTJOIN(\"／\",TRUE,DF501:DF514)","v":""},{"$f":"_xlfn.TEXTJOIN(\"／\",TRUE,BE501,BK501,BQ501,BW501,CC501,CI501,CO501,CU501,DA501,DG501)","v":""},null,null,null,null,null,null,null,{"$f":"IF(#REF!=\"☑\",TRUE)","v":{"$error":"#REF!"}},{"$f":"IF(DP501,#REF!,\"\")","v":{"$error":"#REF!"}},{"$f":"_xludf.TEXTJOIN(\",\",TRUE,DQ501:DQ514)","v":{"$error":"#VALUE!"}}]
[null,null,null,null,null,null,null,null,null,null,null,null,null,null,null,null,null,null,"□","買物サポート",false,"","□","料理デリバリー（出前）",false,"","□","フィットネス・ジム（送迎）",{"$f":"IF(AA502=\"☑\",TRUE)","v":false},{"$f":"IF(AC502,AB502,\"\")","v":""},"□","出張料理",{"$f":"IF(AE502=\"☑\",TRUE)","v":false},{"$f":"IF(AG502,AF502,\"\")","v":""},"□","温泉・銭湯（たまり場）",false,"","□","多目的トイレ",false,"","□","習い事",{"$f":"IF(AQ502=\"☑\",TRUE)","v":false},{"$f":"IF(AS502,AR502,\"\")","v":""},"□","金融・保険",false,"",null,"□","北区",{"$f":"IF(AZ502=\"☑\",TRUE)","v":false},"さいたま市北区",{"$f":"IF(BB502,BC502,\"\")","v":""},null,"□","蕨市",{"$f":"IF(BF502=\"☑\",TRUE)","v":false},{"$f":"BG502","v":"蕨市"},{"$f":"IF(BH502,BI502,\"\")","v":""},null,"□","志木市",{"$f":"IF(BL502=\"☑\",TRUE)","v":false},"志木市",{"$f":"IF(BN502,BO502,\"\")","v":""},null,"□","草加市",{"$f":"IF(BR502=\"☑\",TRUE)","v":false},"草加市","",null,"□","上尾市",{"$f":"IF(BX502=\"☑\",TRUE)","v":false},{"$f":"BY502","v":"上尾市"},{"$f":"IF(BZ502,CA502,\"\")","v":""},null,"□","東松山市",{"$f":"IF(CD502=\"☑\",TRUE)","v":false},"東松山市",{"$f":"IF(CF502,CG502,\"\")","v":""},null,"□","飯能市",{"$f":"IF(CJ502=\"☑\",TRUE)","v":false},{"$f":"CK502","v":"飯能市"},{"$f":"IF(CL502,CM502,\"\")","v":""},null,"□","加須市",{"$f":"IF(CP502=\"☑\",TRUE)","v":false},"加須市",{"$f":"IF(CR502,CS502,\"\")","v":""},null,"□","本庄市",{"$f":"IF(CV502=\"☑\",TRUE)","v":false},"本庄市",{"$f":"IF(CX502,CY502,\"\")","v":""},null,"□","横瀬町",{"$f":"IF(DB502=\"☑\",TRUE)","v":false},{"$f":"DC502","v":"横瀬町"},{"$f":"IF(DD502,DE502,\"\")","v":""},null,null,null,null,null,null,null,null,null,null,{"$f":"IF(DP502,#REF!,\"\")","v":""}]
[null,null,null,null,null,null,null,null,null,null,null,null,null,null,null,null,null,null,"□","買物代行",false,"","□","食材宅配",false,"","□","温泉・銭湯（送迎）",false,"","□","屋外作業・力仕事",false,"","□","カフェ・ファーストフード",false,"","□","休憩スペース",false,"","□","映画館",false,"","□","住宅・リフォーム",false,"",null,"□","大宮区",false,"さいたま市大宮区","",null,"□","戸田市",{"$f":"IF(BF503=\"☑\",TRUE)","v":false},{"$f":"BG503","v":"戸田市"},"",null,"□","和光市",false,"和光市","",null,"□","越谷市",false,"越谷市","",null,"□","桶川市",{"$f":"IF(BX503=\"☑\",TRUE)","v":false},{"$f":"BY503","v":"桶川市"},"",null,"□","坂戸市",false,"坂戸市","",null,"□","狭山市",{"$f":"IF(CJ503=\"☑\",TRUE)","v":false},{"$f":"CK503","v":"狭山市"},"",null,"□","羽生市",false,"羽生市","",null,"□","深谷市",false,"深谷市","",null,"□","皆野町",{"$f":"IF(DB503=\"☑\",TRUE)","v":false},{"$f":"DC503","v":"皆野町"},"",null,null,null,null,null,null,null,null,null,{"$f":"IF(#REF!=\"☑\",TRUE)","v":{"$error":"#REF!"}},{"$f":"IF(DP503,#REF!,\"\")","v":{"$error":"#REF!"}}]
[null,null,null,null,null,null,null,null,null,null,null,null,null,null,null,null,null,null,"□","移動販売",false,"","□","日用品配達",false,"","□","整体・マッサージ（送迎）",false,"","□","整体・マッサージ（出張）",false,"","□","飲食店",false,"","□","駐車場",false,"","□","カラオケ店",false,"","□","パソコン・スマートフォン",false,"",null,"□","見沼区",false,"さいたま市見沼区","",null,null,null,null,null,"",null,"□","新座市",false,"新座市","",null,"□","八潮市",false,"八潮市","",null,"□","北本市",{"$f":"IF(BX504=\"☑\",TRUE)","v":false},{"$f":"BY504","v":"北本市"},"",null,"□","鶴ヶ島市",false,"鶴ヶ島市","",null,"□","入間市",{"$f":"IF(CJ504=\"☑\",TRUE)","v":false},{"$f":"CK504","v":"入間市"},"",null,"□","久喜市",false,"久喜市","",null,"□","美里町",false,"美里町","",null,"□","長瀞町",{"$f":"IF(DB504=\"☑\",TRUE)","v":false},{"$f":"DC504","v":"長瀞町"},""]
[null,null,null,null,null,null,null,null,null,null,null,null,null,null,null,null,null,null,"□","割引サービス",false,"","□","薬・介護用品配達",false,"","□","乗り合いサービス",false,"","□","理容・美容（出張）",false,"","□","イートインスペース",false,"","□","貸しスペース",false,"","□","麻雀・将棋・囲碁",false,"","□","認知症サポート企業",false,"",null,"□","中央区",false,"さいたま市中央区","",null,null,null,null,null,"",null,"□","富士見市",false,"富士見市","",null,"□","三郷市",false,"三郷市","",null,"□","伊奈町",{"$f":"IF(BX505=\"☑\",TRUE)","v":false},{"$f":"BY505","v":"伊奈町"},"",null,"□","毛呂山町",false,"毛呂山町","",null,"□","日高市",{"$f":"IF(CJ505=\"☑\",TRUE)","v":false},{"$f":"CK505","v":"日高市"},"",null,"□","蓮田市",false,"蓮田市","",null,"□","神川町",false,"神川町","",null,"□","小鹿野町",{"$f":"IF(DB505=\"☑\",TRUE)","v":false},{"$f":"DC505","v":"小鹿野町"},"",null,null,null,null,null,null,null,null,null,{"$f":"IF(#REF!=\"☑\",TRUE)","v":{"$error":"#REF!"}},{"$f":"IF(DP505,#REF!,\"\")","v":{"$error":"#REF!"}}]
[null,null,null,null,null,null,null,null,null,null,null,null,null,null,null,null,null,null,"□","その他（買物）",false,"","□","クリーニング",false,{"$f":"IF(Y506,X506,\"\")","v":""},"□","個別移送サービス",false,"","□","ペット",false,"","□","その他（運動・たまり場）",false,"","□","その他（設備・施設・場所貸し）",false,"","□","ゲームセンター",false,"","□","理容・美容",false,"",null,"□","桜区",false,"さいたま市桜区","",null,null,null,null,null,"",null,"□","ふじみ野市",false,"ふじみ野市","",null,"□","吉川市",false,"吉川市","",null,null,null,null,null,"",null,"□","越生町",false,"越生町","",null,null,null,null,null,"",null,"□","幸手市",false,"幸手市","",null,"□","上里町",false,"上里町","",null,null,null,null,null,"",null,null,null,null,null,null,null,null,null,{"$f":"IF(#REF!=\"☑\",TRUE)","v":{"$error":"#REF!"}},{"$f":"IF(DP506,#REF!,\"\")","v":{"$error":"#REF!"}}]
[null,null,null,null,null,null,null,null,null,null,null,null,null,null,null,null,null,null,null,null,null,null,"□","その他（宅配・デリバリー）",false,{"$f":"IF(Y507,X507,\"\")","v":""},"□","交通機関サービス",false,"","□","その他（出張サービス）",false,"",null,null,null,null,null,null,null,null,"□","旅行・レジャー",false,"","□","成年後見・相続",false,"",null,"□","浦和区",false,"さいたま市浦和区","",null,null,null,null,null,"",null,"□","三芳町",false,"三芳町","",null,"□","松伏町",false,"松伏町","",null,null,null,null,null,"",null,"□","滑川町",false,"滑川町","",null,null,null,null,null,"",null,"□","白岡市",false,"白岡市","",null,"□","寄居町",false,"寄居町","",null,null,null,null,null,""]
[null,null,null,null,null,null,null,null,null,null,null,null,null,null,null,null,null,null,null,null,null,null,null,null,null,null,"□","その他（送迎・移動支援）",false,"",null,null,null,"",null,null,null,{"$f":"IF(AK508,AJ508,\"\")","v":""},null,null,null,{"$f":"IF(AO508,AN508,\"\")","v":""},"□","パソコン・スマホ教室",false,"","□","その他（生活サービス）",false,"",null,"□","南区",false,"さいたま市南区","",null,null,null,null,null,"",null,null,null,null,null,"",null,null,null,null,null,"",null,null,null,null,null,"",null,"□","嵐山町",false,"嵐山町","",null,null,null,null,null,"",null,"□","宮代町",false,"宮代町","",null,null,null,null,null,"",null,null,null,null,null,""]
[null,null,null,null,null,null,null,null,null,null,null,null,null,null,null,null,null,null,null,null,null,null,null,null,null,null,null,null,null,null,null,null,null,null,null,null,null,null,null,null,null,null,"□","その他（学び・趣味）",false,"",null,null,null,null,null,"□","緑区",false,"さいたま市緑区","",null,null,null,null,null,"",null,null,null,null,null,"",null,null,null,null,null,"",null,null,null,null,null,"",null,"□","小川町",false,"小川町","",null,null,null,null,null,"",null,"□","杉戸町",false,"杉戸町","",null,null,null,null,null,"",null,null,null,null,null,""]
[null,null,null,null,null,null,null,null,null,null,null,null,null,null,null,null,null,null,null,null,null,null,null,null,null,null,null,null,null,null,null,null,null,null,null,null,null,null,null,null,null,null,null,null,null,null,null,null,null,null,null,"□","岩槻区",{"$f":"IF(AZ510=\"☑\",TRUE)","v":false},"さいたま市岩槻区","",null,null,null,null,null,"",null,null,null,null,null,"",null,null,null,null,null,"",null,null,null,null,null,"",null,"□","川島町",false,"川島町","",null,null,null,null,null,"",null,null,null,null,null,"",null,null,null,null,null,"",null,null,null,null,null,""]
[null,null,null,null,null,null,null,null,null,null,null,null,null,null,null,null,null,null,null,null,null,null,null,null,null,null,null,null,null,null,null,null,null,null,null,null,null,null,null,null,null,null,null,null,null,null,null,null,null,null,null,null,null,null,null,null,null,null,null,null,null,null,null,null,null,null,null,null,null,null,null,null,null,null,null,null,null,null,null,null,null,"□","吉見町",false,"吉見町","",null,null,null,null,null,"",null,null,null,null,null,"",null,null,null,null,null,"",null,null,null,null,null,""]
[null,null,null,null,null,null,null,null,null,null,null,null,null,null,null,null,null,null,null,null,null,null,null,null,null,null,null,null,null,null,null,null,null,null,null,null,null,null,null,null,null,null,null,null,null,null,null,null,null,null,null,null,null,null,null,null,null,null,null,null,null,null,null,null,null,null,null,null,null,null,null,null,null,null,null,null,null,null,null,null,null,"□","鳩山町",false,"鳩山町","",null,null,null,null,null,"",null,null,null,null,null,"",null,null,null,null,null,"",null,null,null,null,null,""]
[null,null,null,null,null,null,null,null,null,null,null,null,null,null,null,null,null,null,null,null,null,null,null,null,null,null,null,null,null,null,null,null,null,null,null,null,null,null,null,null,null,null,null,null,null,null,null,null,null,null,null,null,null,null,null,null,null,null,null,null,null,null,null,null,null,null,null,null,null,null,null,null,null,null,null,null,null,null,null,null,null,"□","ときがわ町",false,"ときがわ町","",null,null,null,null,null,"",null,null,null,null,null,"",null,null,null,null,null,"",null,null,null,null,null,""]
[null,null,null,null,null,null,null,null,null,null,null,null,null,null,null,null,null,null,null,null,null,null,null,null,null,null,null,null,null,null,null,null,null,null,null,null,null,null,null,null,null,null,null,null,null,null,null,null,null,null,null,null,null,null,null,null,null,null,null,null,null,null,null,null,null,null,null,null,null,null,null,null,null,null,null,null,null,null,null,null,null,"□","東秩父村",false,"東秩父村","",null,null,null,null,null,"",null,null,null,null,null,"",null,null,null,null,null,"",null,null,null,null,null,""]
[36,null,null,null,null,null,null,null,null,null,null,null,null,null,null,null,null,null,"□","配送",{"$f":"IF(S515=\"☑\",TRUE)","v":false},{"$f":"IF(U515,T515,\"\")","v":""},"□","弁当配達",{"$f":"IF(W515=\"☑\",TRUE)","v":false},{"$f":"IF(Y515,X515,\"\")","v":""},"□","理容・美容（送迎）",{"$f":"IF(AA515=\"☑\",TRUE)","v":false},{"$f":"IF(AC515,AB515,\"\")","v":""},"□","家事代行・掃除・片付け",{"$f":"IF(AE515=\"☑\",TRUE)","v":false},{"$f":"IF(AG515,AF515,\"\")","v":""},"□","フィットネス・ジム（運動）",{"$f":"IF(AI515=\"☑\",TRUE)","v":false},{"$f":"IF(AK515,AJ515,\"\")","v":""},"□","車イス対応（バリアフリー）",{"$f":"IF(AM515=\"☑\",TRUE)","v":false},{"$f":"IF(AO515,AN515,\"\")","v":""},"□","講座・教室・イベント",{"$f":"IF(AQ515=\"☑\",TRUE)","v":false},{"$f":"IF(AS515,AR515,\"\")","v":""},"□","防犯・見守り",{"$f":"IF(AU515=\"☑\",TRUE)","v":false},{"$f":"IF(AW515,AV515,\"\")","v":""},{"$f":"_xlfn.TEXTJOIN(\"／\",TRUE,V515:V528,Z515:Z528,AD515:AD528,AH515:AH528,AL515:AL528,AP515:AP528,AT515:AT528,AX515:AX528)","v":""},"□","西区",{"$f":"IF(AZ515=\"☑\",TRUE)","v":false},{"$f":"\"さいたま市\"&BA515","v":"さいたま市西区"},{"$f":"IF(BB515,BC515,\"\")","v":""},{"$f":"_xlfn.TEXTJOIN(\"／\",TRUE,BD515:BD528)","v":""},"□","川口市",{"$f":"IF(BF515=\"☑\",TRUE)","v":false},{"$f":"BG515","v":"川口市"},{"$f":"IF(BH515,BI515,\"\")","v":""},{"$f":"_xludf.TEXTJOIN(\",\",TRUE,BJ515:BJ528)","v":""},"□","朝霞市",{"$f":"IF(BL515=\"☑\",TRUE)","v":false},{"$f":"BM515","v":"朝霞市"},{"$f":"IF(BN515,BO515,\"\")","v":""},{"$f":"_xlfn.TEXTJOIN(\"／\",TRUE,BP515:BP528)","v":""},"□","春日部市",{"$f":"IF(BR515=\"☑\",TRUE)","v":false},{"$f":"BS515","v":"春日部市"},{"$f":"IF(BT515,BU515,\"\")","v":""},{"$f":"_xlfn.TEXTJOIN(\"／\",TRUE,BV515:BV528)","v":""},"□","鴻巣市",{"$f":"IF(BX515=\"☑\",TRUE)","v":false},{"$f":"BY515","v":"鴻巣市"},{"$f":"IF(BZ515,CA515,\"\")","v":""},{"$f":"_xlfn.TEXTJOIN(\"／\",TRUE,CB515:CB528)","v":""},"□","川越市",{"$f":"IF(CD515=\"☑\",TRUE)","v":false},"川越市",{"$f":"IF(CF515,CG515,\"\")","v":""},{"$f":"_xlfn.TEXTJOIN(\"／\",TRUE,CH515:CH528)","v":""},"□","所沢市",{"$f":"IF(CJ515=\"☑\",TRUE)","v":false},{"$f":"CK515","v":"所沢市"},{"$f":"IF(CL515,CM515,\"\")","v":""},{"$f":"_xlfn.TEXTJOIN(\"／\",TRUE,CN515:CN528)","v":""},"□","行田市",{"$f":"IF(CP515=\"☑\",TRUE)","v":false},{"$f":"CQ515","v":"行田市"},{"$f":"IF(CR515,CS515,\"\")","v":""},{"$f":"_xludf.TEXTJOIN(\",\",TRUE,CT515:CT528)","v":""},"□","熊谷市",{"$f":"IF(CV515=\"☑\",TRUE)","v":false},{"$f":"CW515","v":"熊谷市"},{"$f":"IF(CX515,CY515,\"\")","v":""},{"$f":"_xlfn.TEXTJOIN(\"／\",TRUE,CZ515:CZ528)","v":""},"□","秩父市",{"$f":"IF(DB515=\"☑\",TRUE)","v":false},{"$f":"DC515","v":"秩父市"},{"$f":"IF(DD515,DE515,\"\")","v":""},{"$f":"_xlfn.TEXTJOIN(\"／\",TRUE,DF515:DF528)","v":""},{"$f":"_xlfn.TEXTJOIN(\"／\",TRUE,BE515,BK515,BQ515,BW515,CC515,CI515,CO515,CU515,DA515,DG515)","v":""},null,null,null,null,null,null,null,{"$f":"IF(#REF!=\"☑\",TRUE)","v":{"$error":"#REF!"}},{"$f":"IF(DP515,#REF!,\"\")","v":{"$error":"#REF!"}},{"$f":"_xludf.TEXTJOIN(\",\",TRUE,DQ515:DQ528)","v":{"$error":"#VALUE!"}}]
[null,null,null,null,null,null,null,null,null,null,null,null,null,null,null,null,null,null,"□","買物サポート",false,"","□","料理デリバリー（出前）",false,"","□","フィットネス・ジム（送迎）",{"$f":"IF(AA516=\"☑\",TRUE)","v":false},{"$f":"IF(AC516,AB516,\"\")","v":""},"□","出張料理",{"$f":"IF(AE516=\"☑\",TRUE)","v":false},{"$f":"IF(AG516,AF516,\"\")","v":""},"□","温泉・銭湯（たまり場）",false,"","□","多目的トイレ",false,"","□","習い事",{"$f":"IF(AQ516=\"☑\",TRUE)","v":false},{"$f":"IF(AS516,AR516,\"\")","v":""},"□","金融・保険",false,"",null,"□","北区",{"$f":"IF(AZ516=\"☑\",TRUE)","v":false},"さいたま市北区",{"$f":"IF(BB516,BC516,\"\")","v":""},null,"□","蕨市",{"$f":"IF(BF516=\"☑\",TRUE)","v":false},{"$f":"BG516","v":"蕨市"},{"$f":"IF(BH516,BI516,\"\")","v":""},null,"□","志木市",{"$f":"IF(BL516=\"☑\",TRUE)","v":false},"志木市",{"$f":"IF(BN516,BO516,\"\")","v":""},null,"□","草加市",{"$f":"IF(BR516=\"☑\",TRUE)","v":false},"草加市","",null,"□","上尾市",{"$f":"IF(BX516=\"☑\",TRUE)","v":false},{"$f":"BY516","v":"上尾市"},{"$f":"IF(BZ516,CA516,\"\")","v":""},null,"□","東松山市",{"$f":"IF(CD516=\"☑\",TRUE)","v":false},"東松山市",{"$f":"IF(CF516,CG516,\"\")","v":""},null,"□","飯能市",{"$f":"IF(CJ516=\"☑\",TRUE)","v":false},{"$f":"CK516","v":"飯能市"},{"$f":"IF(CL516,CM516,\"\")","v":""},null,"□","加須市",{"$f":"IF(CP516=\"☑\",TRUE)","v":false},"加須市",{"$f":"IF(CR516,CS516,\"\")","v":""},null,"□","本庄市",{"$f":"IF(CV516=\"☑\",TRUE)","v":false},"本庄市",{"$f":"IF(CX516,CY516,\"\")","v":""},null,"□","横瀬町",{"$f":"IF(DB516=\"☑\",TRUE)","v":false},{"$f":"DC516","v":"横瀬町"},{"$f":"IF(DD516,DE516,\"\")","v":""},null,null,null,null,null,null,null,null,null,null,{"$f":"IF(DP516,#REF!,\"\")","v":""}]
[null,null,null,null,null,null,null,null,null,null,null,null,null,null,null,null,null,null,"□","買物代行",false,"","□","食材宅配",false,"","□","温泉・銭湯（送迎）",false,"","□","屋外作業・力仕事",false,"","□","カフェ・ファーストフード",false,"","□","休憩スペース",false,"","□","映画館",false,"","□","住宅・リフォーム",false,"",null,"□","大宮区",false,"さいたま市大宮区","",null,"□","戸田市",{"$f":"IF(BF517=\"☑\",TRUE)","v":false},{"$f":"BG517","v":"戸田市"},"",null,"□","和光市",false,"和光市","",null,"□","越谷市",false,"越谷市","",null,"□","桶川市",{"$f":"IF(BX517=\"☑\",TRUE)","v":false},{"$f":"BY517","v":"桶川市"},"",null,"□","坂戸市",false,"坂戸市","",null,"□","狭山市",{"$f":"IF(CJ517=\"☑\",TRUE)","v":false},{"$f":"CK517","v":"狭山市"},"",null,"□","羽生市",false,"羽生市","",null,"□","深谷市",false,"深谷市","",null,"□","皆野町",{"$f":"IF(DB517=\"☑\",TRUE)","v":false},{"$f":"DC517","v":"皆野町"},"",null,null,null,null,null,null,null,null,null,{"$f":"IF(#REF!=\"☑\",TRUE)","v":{"$error":"#REF!"}},{"$f":"IF(DP517,#REF!,\"\")","v":{"$error":"#REF!"}}]
[null,null,null,null,null,null,null,null,null,null,null,null,null,null,null,null,null,null,"□","移動販売",false,"","□","日用品配達",false,"","□","整体・マッサージ（送迎）",false,"","□","整体・マッサージ（出張）",false,"","□","飲食店",false,"","□","駐車場",false,"","□","カラオケ店",false,"","□","パソコン・スマートフォン",false,"",null,"□","見沼区",false,"さいたま市見沼区","",null,null,null,null,null,"",null,"□","新座市",false,"新座市","",null,"□","八潮市",false,"八潮市","",null,"□","北本市",{"$f":"IF(BX518=\"☑\",TRUE)","v":false},{"$f":"BY518","v":"北本市"},"",null,"□","鶴ヶ島市",false,"鶴ヶ島市","",null,"□","入間市",{"$f":"IF(CJ518=\"☑\",TRUE)","v":false},{"$f":"CK518","v":"入間市"},"",null,"□","久喜市",false,"久喜市","",null,"□","美里町",false,"美里町","",null,"□","長瀞町",{"$f":"IF(DB518=\"☑\",TRUE)","v":false},{"$f":"DC518","v":"長瀞町"},""]
[null,null,null,null,null,null,null,null,null,null,null,null,null,null,null,null,null,null,"□","割引サービス",false,"","□","薬・介護用品配達",false,"","□","乗り合いサービス",false,"","□","理容・美容（出張）",false,"","□","イートインスペース",false,"","□","貸しスペース",false,"","□","麻雀・将棋・囲碁",false,"","□","認知症サポート企業",false,"",null,"□","中央区",false,"さいたま市中央区","",null,null,null,null,null,"",null,"□","富士見市",false,"富士見市","",null,"□","三郷市",false,"三郷市","",null,"□","伊奈町",{"$f":"IF(BX519=\"☑\",TRUE)","v":false},{"$f":"BY519","v":"伊奈町"},"",null,"□","毛呂山町",false,"毛呂山町","",null,"□","日高市",{"$f":"IF(CJ519=\"☑\",TRUE)","v":false},{"$f":"CK519","v":"日高市"},"",null,"□","蓮田市",false,"蓮田市","",null,"□","神川町",false,"神川町","",null,"□","小鹿野町",{"$f":"IF(DB519=\"☑\",TRUE)","v":false},{"$f":"DC519","v":"小鹿野町"},"",null,null,null,null,null,null,null,null,null,{"$f":"IF(#REF!=\"☑\",TRUE)","v":{"$error":"#REF!"}},{"$f":"IF(DP519,#REF!,\"\")","v":{"$error":"#REF!"}}]
[null,null,null,null,null,null,null,null,null,null,null,null,null,null,null,null,null,null,"□","その他（買物）",false,"","□","クリーニング",false,{"$f":"IF(Y520,X520,\"\")","v":""},"□","個別移送サービス",false,"","□","ペット",false,"","□","その他（運動・たまり場）",false,"","□","その他（設備・施設・場所貸し）",false,"","□","ゲームセンター",false,"","□","理容・美容",false,"",null,"□","桜区",false,"さいたま市桜区","",null,null,null,null,null,"",null,"□","ふじみ野市",false,"ふじみ野市","",null,"□","吉川市",false,"吉川市","",null,null,null,null,null,"",null,"□","越生町",false,"越生町","",null,null,null,null,null,"",null,"□","幸手市",false,"幸手市","",null,"□","上里町",false,"上里町","",null,null,null,null,null,"",null,null,null,null,null,null,null,null,null,{"$f":"IF(#REF!=\"☑\",TRUE)","v":{"$error":"#REF!"}},{"$f":"IF(DP520,#REF!,\"\")","v":{"$error":"#REF!"}}]
[null,null,null,null,null,null,null,null,null,null,null,null,null,null,null,null,null,null,null,null,null,null,"□","その他（宅配・デリバリー）",false,{"$f":"IF(Y521,X521,\"\")","v":""},"□","交通機関サービス",false,"","□","その他（出張サービス）",false,"",null,null,null,null,null,null,null,null,"□","旅行・レジャー",false,"","□","成年後見・相続",false,"",null,"□","浦和区",false,"さいたま市浦和区","",null,null,null,null,null,"",null,"□","三芳町",false,"三芳町","",null,"□","松伏町",false,"松伏町","",null,null,null,null,null,"",null,"□","滑川町",false,"滑川町","",null,null,null,null,null,"",null,"□","白岡市",false,"白岡市","",null,"□","寄居町",false,"寄居町","",null,null,null,null,null,""]
[null,null,null,null,null,null,null,null,null,null,null,null,null,null,null,null,null,null,null,null,null,null,null,null,null,null,"□","その他（送迎・移動支援）",false,"",null,null,null,"",null,null,null,{"$f":"IF(AK522,AJ522,\"\")","v":""},null,null,null,{"$f":"IF(AO522,AN522,\"\")","v":""},"□","パソコン・スマホ教室",false,"","□","その他（生活サービス）",false,"",null,"□","南区",false,"さいたま市南区","",null,null,null,null,null,"",null,null,null,null,null,"",null,null,null,null,null,"",null,null,null,null,null,"",null,"□","嵐山町",false,"嵐山町","",null,null,null,null,null,"",null,"□","宮代町",false,"宮代町","",null,null,null,null,null,"",null,null,null,null,null,""]
[null,null,null,null,null,null,null,null,null,null,null,null,null,null,null,null,null,null,null,null,null,null,null,null,null,null,null,null,null,null,null,null,null,null,null,null,null,null,null,null,null,null,"□","その他（学び・趣味）",false,"",null,null,null,null,null,"□","緑区",false,"さいたま市緑区","",null,null,null,null,null,"",null,null,null,null,null,"",null,null,null,null,null,"",null,null,null,null,null,"",null,"□","小川町",false,{"$f":"CE523","v":"小川町"},"",null,null,null,null,null,"",null,"□","杉戸町",false,"杉戸町","",null,null,null,null,null,"",null,null,null,null,null,""]
[null,null,null,null,null,null,null,null,null,null,null,null,null,null,null,null,null,null,null,null,null,null,null,null,null,null,null,null,null,null,null,null,null,null,null,null,null,null,null,null,null,null,null,null,null,null,null,null,null,null,null,"□","岩槻区",{"$f":"IF(AZ524=\"☑\",TRUE)","v":false},"さいたま市岩槻区","",null,null,null,null,null,"",null,null,null,null,null,"",null,null,null,null,null,"",null,null,null,null,null,"",null,"□","川島町",false,"川島町","",null,null,null,null,null,"",null,null,null,null,null,"",null,null,null,null,null,"",null,null,null,null,null,""]
[null,null,null,null,null,null,null,null,null,null,null,null,null,null,null,null,null,null,null,null,null,null,null,null,null,null,null,null,null,null,null,null,null,null,null,null,null,null,null,null,null,null,null,null,null,null,null,null,null,null,null,null,null,null,null,null,null,null,null,null,null,null,null,null,null,null,null,null,null,null,null,null,null,null,null,null,null,null,null,null,null,"□","吉見町",false,"吉見町","",null,null,null,null,null,"",null,null,null,null,null,"",null,null,null,null,null,"",null,null,null,null,null,""]
[null,null,null,null,null,null,null,null,null,null,null,null,null,null,null,null,null,null,null,null,null,null,null,null,null,null,null,null,null,null,null,null,null,null,null,null,null,null,null,null,null,null,null,null,null,null,null,null,null,null,null,null,null,null,null,null,null,null,null,null,null,null,null,null,null,null,null,null,null,null,null,null,null,null,null,null,null,null,null,null,null,"□","鳩山町",false,"鳩山町","",null,null,null,null,null,"",null,null,null,null,null,"",null,null,null,null,null,"",null,null,null,null,null,""]
[null,null,null,null,null,null,null,null,null,null,null,null,null,null,null,null,null,null,null,null,null,null,null,null,null,null,null,null,null,null,null,null,null,null,null,null,null,null,null,null,null,null,null,null,null,null,null,null,null,null,null,null,null,null,null,null,null,null,null,null,null,null,null,null,null,null,null,null,null,null,null,null,null,null,null,null,null,null,null,null,null,"□","ときがわ町",false,"ときがわ町","",null,null,null,null,null,"",null,null,null,null,null,"",null,null,null,null,null,"",null,null,null,null,null,""]
[null,null,null,null,null,null,null,null,null,null,null,null,null,null,null,null,null,null,null,null,null,null,null,null,null,null,null,null,null,null,null,null,null,null,null,null,null,null,null,null,null,null,null,null,null,null,null,null,null,null,null,null,null,null,null,null,null,null,null,null,null,null,null,null,null,null,null,null,null,null,null,null,null,null,null,null,null,null,null,null,null,"□","東秩父村",false,"東秩父村","",null,null,null,null,null,"",null,null,null,null,null,"",null,null,null,null,null,"",null,null,null,null,null,""]
[37,null,null,null,null,null,null,null,null,null,null,null,null,null,null,null,null,null,"□","配送",{"$f":"IF(S529=\"☑\",TRUE)","v":false},{"$f":"IF(U529,T529,\"\")","v":""},"□","弁当配達",{"$f":"IF(W529=\"☑\",TRUE)","v":false},{"$f":"IF(Y529,X529,\"\")","v":""},"□","理容・美容（送迎）",{"$f":"IF(AA529=\"☑\",TRUE)","v":false},{"$f":"IF(AC529,AB529,\"\")","v":""},"□","家事代行・掃除・片付け",{"$f":"IF(AE529=\"☑\",TRUE)","v":false},{"$f":"IF(AG529,AF529,\"\")","v":""},"□","フィットネス・ジム（運動）",{"$f":"IF(AI529=\"☑\",TRUE)","v":false},{"$f":"IF(AK529,AJ529,\"\")","v":""},"□","車イス対応（バリアフリー）",{"$f":"IF(AM529=\"☑\",TRUE)","v":false},{"$f":"IF(AO529,AN529,\"\")","v":""},"□","講座・教室・イベント",{"$f":"IF(AQ529=\"☑\",TRUE)","v":false},{"$f":"IF(AS529,AR529,\"\")","v":""},"□","防犯・見守り",{"$f":"IF(AU529=\"☑\",TRUE)","v":false},{"$f":"IF(AW529,AV529,\"\")","v":""},{"$f":"_xlfn.TEXTJOIN(\"／\",TRUE,V529:V542,Z529:Z542,AD529:AD542,AH529:AH542,AL529:AL542,AP529:AP542,AT529:AT542,AX529:AX542)","v":""},"□","西区",{"$f":"IF(AZ529=\"☑\",TRUE)","v":false},{"$f":"\"さいたま市\"&BA529","v":"さいたま市西区"},{"$f":"IF(BB529,BC529,\"\")","v":""},{"$f":"_xlfn.TEXTJOIN(\"／\",TRUE,BD529:BD542)","v":""},"□","川口市",{"$f":"IF(BF529=\"☑\",TRUE)","v":false},{"$f":"BG529","v":"川口市"},{"$f":"IF(BH529,BI529,\"\")","v":""},{"$f":"_xludf.TEXTJOIN(\",\",TRUE,BJ529:BJ542)","v":""},"□","朝霞市",{"$f":"IF(BL529=\"☑\",TRUE)","v":false},{"$f":"BM529","v":"朝霞市"},{"$f":"IF(BN529,BO529,\"\")","v":""},{"$f":"_xlfn.TEXTJOIN(\"／\",TRUE,BP529:BP542)","v":""},"□","春日部市",{"$f":"IF(BR529=\"☑\",TRUE)","v":false},{"$f":"BS529","v":"春日部市"},{"$f":"IF(BT529,BU529,\"\")","v":""},{"$f":"_xlfn.TEXTJOIN(\"／\",TRUE,BV529:BV542)","v":""},"□","鴻巣市",{"$f":"IF(BX529=\"☑\",TRUE)","v":false},{"$f":"BY529","v":"鴻巣市"},{"$f":"IF(BZ529,CA529,\"\")","v":""},{"$f":"_xlfn.TEXTJOIN(\"／\",TRUE,CB529:CB542)","v":""},"□","川越市",{"$f":"IF(CD529=\"☑\",TRUE)","v":false},"川越市",{"$f":"IF(CF529,CG529,\"\")","v":""},{"$f":"_xlfn.TEXTJOIN(\"／\",TRUE,CH529:CH542)","v":""},"□","所沢市",{"$f":"IF(CJ529=\"☑\",TRUE)","v":false},{"$f":"CK529","v":"所沢市"},{"$f":"IF(CL529,CM529,\"\")","v":""},{"$f":"_xlfn.TEXTJOIN(\"／\",TRUE,CN529:CN542)","v":""},"□","行田市",{"$f":"IF(CP529=\"☑\",TRUE)","v":false},{"$f":"CQ529","v":"行田市"},{"$f":"IF(CR529,CS529,\"\")","v":""},{"$f":"_xludf.TEXTJOIN(\",\",TRUE,CT529:CT542)","v":""},"□","熊谷市",{"$f":"IF(CV529=\"☑\",TRUE)","v":false},{"$f":"CW529","v":"熊谷市"},{"$f":"IF(CX529,CY529,\"\")","v":""},{"$f":"_xlfn.TEXTJOIN(\"／\",TRUE,CZ529:CZ542)","v":""},"□","秩父市",{"$f":"IF(DB529=\"☑\",TRUE)","v":false},{"$f":"DC529","v":"秩父市"},{"$f":"IF(DD529,DE529,\"\")","v":""},{"$f":"_xlfn.TEXTJOIN(\"／\",TRUE,DF529:DF542)","v":""},{"$f":"_xlfn.TEXTJOIN(\"／\",TRUE,BE529,BK529,BQ529,BW529,CC529,CI529,CO529,CU529,DA529,DG529)","v":""},null,null,null,null,null,null,null,{"$f":"IF(#REF!=\"☑\",TRUE)","v":{"$error":"#REF!"}},{"$f":"IF(DP529,#REF!,\"\")","v":{"$error":"#REF!"}},{"$f":"_xludf.TEXTJOIN(\",\",TRUE,DQ529:DQ542)","v":{"$error":"#VALUE!"}}]
[null,null,null,null,null,null,null,null,null,null,null,null,null,null,null,null,null,null,"□","買物サポート",false,"","□","料理デリバリー（出前）",false,"","□","フィットネス・ジム（送迎）",{"$f":"IF(AA530=\"☑\",TRUE)","v":false},{"$f":"IF(AC530,AB530,\"\")","v":""},"□","出張料理",{"$f":"IF(AE530=\"☑\",TRUE)","v":false},{"$f":"IF(AG530,AF530,\"\")","v":""},"□","温泉・銭湯（たまり場）",false,"","□","多目的トイレ",false,"","□","習い事",{"$f":"IF(AQ530=\"☑\",TRUE)","v":false},{"$f":"IF(AS530,AR530,\"\")","v":""},"□","金融・保険",false,"",null,"□","北区",{"$f":"IF(AZ530=\"☑\",TRUE)","v":false},"さいたま市北区",{"$f":"IF(BB530,BC530,\"\")","v":""},null,"□","蕨市",{"$f":"IF(BF530=\"☑\",TRUE)","v":false},{"$f":"BG530","v":"蕨市"},{"$f":"IF(BH530,BI530,\"\")","v":""},null,"□","志木市",{"$f":"IF(BL530=\"☑\",TRUE)","v":false},"志木市",{"$f":"IF(BN530,BO530,\"\")","v":""},null,"□","草加市",{"$f":"IF(BR530=\"☑\",TRUE)","v":false},"草加市","",null,"□","上尾市",{"$f":"IF(BX530=\"☑\",TRUE)","v":false},{"$f":"BY530","v":"上尾市"},{"$f":"IF(BZ530,CA530,\"\")","v":""},null,"□","東松山市",{"$f":"IF(CD530=\"☑\",TRUE)","v":false},"東松山市",{"$f":"IF(CF530,CG530,\"\")","v":""},null,"□","飯能市",{"$f":"IF(CJ530=\"☑\",TRUE)","v":false},{"$f":"CK530","v":"飯能市"},{"$f":"IF(CL530,CM530,\"\")","v":""},null,"□","加須市",{"$f":"IF(CP530=\"☑\",TRUE)","v":false},"加須市",{"$f":"IF(CR530,CS530,\"\")","v":""},null,"□","本庄市",{"$f":"IF(CV530=\"☑\",TRUE)","v":false},"本庄市",{"$f":"IF(CX530,CY530,\"\")","v":""},null,"□","横瀬町",{"$f":"IF(DB530=\"☑\",TRUE)","v":false},{"$f":"DC530","v":"横瀬町"},{"$f":"IF(DD530,DE530,\"\")","v":""},null,null,null,null,null,null,null,null,null,null,{"$f":"IF(DP530,#REF!,\"\")","v":""}]
[null,null,null,null,null,null,null,null,null,null,null,null,null,null,null,null,null,null,"□","買物代行",false,"","□","食材宅配",false,"","□","温泉・銭湯（送迎）",false,"","□","屋外作業・力仕事",false,"","□","カフェ・ファーストフード",false,"","□","休憩スペース",false,"","□","映画館",false,"","□","住宅・リフォーム",false,"",null,"□","大宮区",false,"さいたま市大宮区","",null,"□","戸田市",{"$f":"IF(BF531=\"☑\",TRUE)","v":false},{"$f":"BG531","v":"戸田市"},"",null,"□","和光市",false,"和光市","",null,"□","越谷市",false,"越谷市","",null,"□","桶川市",{"$f":"IF(BX531=\"☑\",TRUE)","v":false},{"$f":"BY531","v":"桶川市"},"",null,"□","坂戸市",false,"坂戸市","",null,"□","狭山市",{"$f":"IF(CJ531=\"☑\",TRUE)","v":false},{"$f":"CK531","v":"狭山市"},"",null,"□","羽生市",false,"羽生市","",null,"□","深谷市",false,"深谷市","",null,"□","皆野町",{"$f":"IF(DB531=\"☑\",TRUE)","v":false},{"$f":"DC531","v":"皆野町"},"",null,null,null,null,null,null,null,null,null,{"$f":"IF(#REF!=\"☑\",TRUE)","v":{"$error":"#REF!"}},{"$f":"IF(DP531,#REF!,\"\")","v":{"$error":"#REF!"}}]
[null,null,null,null,null,null,null,null,null,null,null,null,null,null,null,null,null,null,"□","移動販売",false,"","□","日用品配達",false,"","□","整体・マッサージ（送迎）",false,"","□","整体・マッサージ（出張）",false,"","□","飲食店",false,"","□","駐車場",false,"","□","カラオケ店",false,"","□","パソコン・スマートフォン",false,"",null,"□","見沼区",false,"さいたま市見沼区","",null,null,null,null,null,"",null,"□","新座市",false,"新座市","",null,"□","八潮市",false,"八潮市","",null,"□","北本市",{"$f":"IF(BX532=\"☑\",TRUE)","v":false},{"$f":"BY532","v":"北本市"},"",null,"□","鶴ヶ島市",false,"鶴ヶ島市","",null,"□","入間市",{"$f":"IF(CJ532=\"☑\",TRUE)","v":false},{"$f":"CK532","v":"入間市"},"",null,"□","久喜市",false,"久喜市","",null,"□","美里町",false,"美里町","",null,"□","長瀞町",{"$f":"IF(DB532=\"☑\",TRUE)","v":false},{"$f":"DC532","v":"長瀞町"},""]
[null,null,null,null,null,null,null,null,null,null,null,null,null,null,null,null,null,null,"□","割引サービス",false,"","□","薬・介護用品配達",false,"","□","乗り合いサービス",false,"","□","理容・美容（出張）",false,"","□","イートインスペース",false,"","□","貸しスペース",false,"","□","麻雀・将棋・囲碁",false,"","□","認知症サポート企業",false,"",null,"□","中央区",false,"さいたま市中央区","",null,null,null,null,null,"",null,"□","富士見市",false,"富士見市","",null,"□","三郷市",false,"三郷市","",null,"□","伊奈町",{"$f":"IF(BX533=\"☑\",TRUE)","v":false},{"$f":"BY533","v":"伊奈町"},"",null,"□","毛呂山町",false,"毛呂山町","",null,"□","日高市",{"$f":"IF(CJ533=\"☑\",TRUE)","v":false},{"$f":"CK533","v":"日高市"},"",null,"□","蓮田市",false,"蓮田市","",null,"□","神川町",false,"神川町","",null,"□","小鹿野町",{"$f":"IF(DB533=\"☑\",TRUE)","v":false},{"$f":"DC533","v":"小鹿野町"},"",null,null,null,null,null,null,null,null,null,{"$f":"IF(#REF!=\"☑\",TRUE)","v":{"$error":"#REF!"}},{"$f":"IF(DP533,#REF!,\"\")","v":{"$error":"#REF!"}}]
[null,null,null,null,null,null,null,null,null,null,null,null,null,null,null,null,null,null,"□","その他（買物）",false,"","□","クリーニング",false,{"$f":"IF(Y534,X534,\"\")","v":""},"□","個別移送サービス",false,"","□","ペット",false,"","□","その他（運動・たまり場）",false,"","□","その他（設備・施設・場所貸し）",false,"","□","ゲームセンター",false,"","□","理容・美容",false,"",null,"□","桜区",false,"さいたま市桜区","",null,null,null,null,null,"",null,"□","ふじみ野市",false,"ふじみ野市","",null,"□","吉川市",false,"吉川市","",null,null,null,null,null,"",null,"□","越生町",false,"越生町","",null,null,null,null,null,"",null,"□","幸手市",false,"幸手市","",null,"□","上里町",false,"上里町","",null,null,null,null,null,"",null,null,null,null,null,null,null,null,null,{"$f":"IF(#REF!=\"☑\",TRUE)","v":{"$error":"#REF!"}},{"$f":"IF(DP534,#REF!,\"\")","v":{"$error":"#REF!"}}]
[null,null,null,null,null,null,null,null,null,null,null,null,null,null,null,null,null,null,null,null,null,null,"□","その他（宅配・デリバリー）",false,{"$f":"IF(Y535,X535,\"\")","v":""},"□","交通機関サービス",false,"","□","その他（出張サービス）",false,"",null,null,null,null,null,null,null,null,"□","旅行・レジャー",false,"","□","成年後見・相続",false,"",null,"□","浦和区",false,"さいたま市浦和区","",null,null,null,null,null,"",null,"□","三芳町",false,"三芳町","",null,"□","松伏町",false,"松伏町","",null,null,null,null,null,"",null,"□","滑川町",false,"滑川町","",null,null,null,null,null,"",null,"□","白岡市",false,"白岡市","",null,"□","寄居町",false,"寄居町","",null,null,null,null,null,""]
[null,null,null,null,null,null,null,null,null,null,null,null,null,null,null,null,null,null,null,null,null,null,null,null,null,null,"□","その他（送迎・移動支援）",false,"",null,null,null,"",null,null,null,{"$f":"IF(AK536,AJ536,\"\")","v":""},null,null,null,{"$f":"IF(AO536,AN536,\"\")","v":""},"□","パソコン・スマホ教室",false,"","□","その他（生活サービス）",false,"",null,"□","南区",false,"さいたま市南区","",null,null,null,null,null,"",null,null,null,null,null,"",null,null,null,null,null,"",null,null,null,null,null,"",null,"□","嵐山町",false,"嵐山町","",null,null,null,null,null,"",null,"□","宮代町",false,"宮代町","",null,null,null,null,null,"",null,null,null,null,null,""]
[null,null,null,null,null,null,null,null,null,null,null,null,null,null,null,null,null,null,null,null,null,null,null,null,null,null,null,null,null,null,null,null,null,null,null,null,null,null,null,null,null,null,"□","その他（学び・趣味）",false,"",null,null,null,null,null,"□","緑区",false,"さいたま市緑区","",null,null,null,null,null,"",null,null,null,null,null,"",null,null,null,null,null,"",null,null,null,null,null,"",null,"□","小川町",false,"小川町","",null,null,null,null,null,"",null,"□","杉戸町",false,"杉戸町","",null,null,null,null,null,"",null,null,null,null,null,""]
[null,null,null,null,null,null,null,null,null,null,null,null,null,null,null,null,null,null,null,null,null,null,null,null,null,null,null,null,null,null,null,null,null,null,null,null,null,null,null,null,null,null,null,null,null,null,null,null,null,null,null,"□","岩槻区",{"$f":"IF(AZ538=\"☑\",TRUE)","v":false},"さいたま市岩槻区","",null,null,null,null,null,"",null,null,null,null,null,"",null,null,null,null,null,"",null,null,null,null,null,"",null,"□","川島町",false,"川島町","",null,null,null,null,null,"",null,null,null,null,null,"",null,null,null,null,null,"",null,null,null,null,null,""]
[null,null,null,null,null,null,null,null,null,null,null,null,null,null,null,null,null,null,null,null,null,null,null,null,null,null,null,null,null,null,null,null,null,null,null,null,null,null,null,null,null,null,null,null,null,null,null,null,null,null,null,null,null,null,null,null,null,null,null,null,null,null,null,null,null,null,null,null,null,null,null,null,null,null,null,null,null,null,null,null,null,"□","吉見町",false,"吉見町","",null,null,null,null,null,"",null,null,null,null,null,"",null,null,null,null,null,"",null,null,null,null,null,""]
[null,null,null,null,null,null,null,null,null,null,null,null,null,null,null,null,null,null,null,null,null,null,null,null,null,null,null,null,null,null,null,null,null,null,null,null,null,null,null,null,null,null,null,null,null,null,null,null,null,null,null,null,null,null,null,null,null,null,null,null,null,null,null,null,null,null,null,null,null,null,null,null,null,null,null,null,null,null,null,null,null,"□","鳩山町",false,"鳩山町","",null,null,null,null,null,"",null,null,null,null,null,"",null,null,null,null,null,"",null,null,null,null,null,""]
[null,null,null,null,null,null,null,null,null,null,null,null,null,null,null,null,null,null,null,null,null,null,null,null,null,null,null,null,null,null,null,null,null,null,null,null,null,null,null,null,null,null,null,null,null,null,null,null,null,null,null,null,null,null,null,null,null,null,null,null,null,null,null,null,null,null,null,null,null,null,null,null,null,null,null,null,null,null,null,null,null,"□","ときがわ町",false,"ときがわ町","",null,null,null,null,null,"",null,null,null,null,null,"",null,null,null,null,null,"",null,null,null,null,null,""]
[null,null,null,null,null,null,null,null,null,null,null,null,null,null,null,null,null,null,null,null,null,null,null,null,null,null,null,null,null,null,null,null,null,null,null,null,null,null,null,null,null,null,null,null,null,null,null,null,null,null,null,null,null,null,null,null,null,null,null,null,null,null,null,null,null,null,null,null,null,null,null,null,null,null,null,null,null,null,null,null,null,"□","東秩父村",false,"東秩父村","",null,null,null,null,null,"",null,null,null,null,null,"",null,null,null,null,null,"",null,null,null,null,null,""]
[38,null,null,null,null,null,null,null,null,null,null,null,null,null,null,null,null,null,"□","配送",{"$f":"IF(S543=\"☑\",TRUE)","v":false},{"$f":"IF(U543,T543,\"\")","v":""},"□","弁当配達",{"$f":"IF(W543=\"☑\",TRUE)","v":false},{"$f":"IF(Y543,X543,\"\")","v":""},"□","理容・美容（送迎）",{"$f":"IF(AA543=\"☑\",TRUE)","v":false},{"$f":"IF(AC543,AB543,\"\")","v":""},"□","家事代行・掃除・片付け",{"$f":"IF(AE543=\"☑\",TRUE)","v":false},{"$f":"IF(AG543,AF543,\"\")","v":""},"□","フィットネス・ジム（運動）",{"$f":"IF(AI543=\"☑\",TRUE)","v":false},{"$f":"IF(AK543,AJ543,\"\")","v":""},"□","車イス対応（バリアフリー）",{"$f":"IF(AM543=\"☑\",TRUE)","v":false},{"$f":"IF(AO543,AN543,\"\")","v":""},"□","講座・教室・イベント",{"$f":"IF(AQ543=\"☑\",TRUE)","v":false},{"$f":"IF(AS543,AR543,\"\")","v":""},"□","防犯・見守り",{"$f":"IF(AU543=\"☑\",TRUE)","v":false},{"$f":"IF(AW543,AV543,\"\")","v":""},{"$f":"_xlfn.TEXTJOIN(\"／\",TRUE,V543:V556,Z543:Z556,AD543:AD556,AH543:AH556,AL543:AL556,AP543:AP556,AT543:AT556,AX543:AX556)","v":""},"□","西区",{"$f":"IF(AZ543=\"☑\",TRUE)","v":false},{"$f":"\"さいたま市\"&BA543","v":"さいたま市西区"},{"$f":"IF(BB543,BC543,\"\")","v":""},{"$f":"_xlfn.TEXTJOIN(\"／\",TRUE,BD543:BD556)","v":""},"□","川口市",{"$f":"IF(BF543=\"☑\",TRUE)","v":false},{"$f":"BG543","v":"川口市"},{"$f":"IF(BH543,BI543,\"\")","v":""},{"$f":"_xludf.TEXTJOIN(\",\",TRUE,BJ543:BJ556)","v":""},"□","朝霞市",{"$f":"IF(BL543=\"☑\",TRUE)","v":false},{"$f":"BM543","v":"朝霞市"},{"$f":"IF(BN543,BO543,\"\")","v":""},{"$f":"_xlfn.TEXTJOIN(\"／\",TRUE,BP543:BP556)","v":""},"□","春日部市",{"$f":"IF(BR543=\"☑\",TRUE)","v":false},{"$f":"BS543","v":"春日部市"},{"$f":"IF(BT543,BU543,\"\")","v":""},{"$f":"_xlfn.TEXTJOIN(\"／\",TRUE,BV543:BV556)","v":""},"□","鴻巣市",{"$f":"IF(BX543=\"☑\",TRUE)","v":false},{"$f":"BY543","v":"鴻巣市"},{"$f":"IF(BZ543,CA543,\"\")","v":""},{"$f":"_xlfn.TEXTJOIN(\"／\",TRUE,CB543:CB556)","v":""},"□","川越市",{"$f":"IF(CD543=\"☑\",TRUE)","v":false},"川越市",{"$f":"IF(CF543,CG543,\"\")","v":""},{"$f":"_xlfn.TEXTJOIN(\"／\",TRUE,CH543:CH556)","v":""},"□","所沢市",{"$f":"IF(CJ543=\"☑\",TRUE)","v":false},{"$f":"CK543","v":"所沢市"},{"$f":"IF(CL543,CM543,\"\")","v":""},{"$f":"_xlfn.TEXTJOIN(\"／\",TRUE,CN543:CN556)","v":""},"□","行田市",{"$f":"IF(CP543=\"☑\",TRUE)","v":false},{"$f":"CQ543","v":"行田市"},{"$f":"IF(CR543,CS543,\"\")","v":""},{"$f":"_xludf.TEXTJOIN(\",\",TRUE,CT543:CT556)","v":""},"□","熊谷市",{"$f":"IF(CV543=\"☑\",TRUE)","v":false},{"$f":"CW543","v":"熊谷市"},{"$f":"IF(CX543,CY543,\"\")","v":""},{"$f":"_xlfn.TEXTJOIN(\"／\",TRUE,CZ543:CZ556)","v":""},"□","秩父市",{"$f":"IF(DB543=\"☑\",TRUE)","v":false},{"$f":"DC543","v":"秩父市"},{"$f":"IF(DD543,DE543,\"\")","v":""},{"$f":"_xlfn.TEXTJOIN(\"／\",TRUE,DF543:DF556)","v":""},{"$f":"_xlfn.TEXTJOIN(\"／\",TRUE,BE543,BK543,BQ543,BW543,CC543,CI543,CO543,CU543,DA543,DG543)","v":""},null,null,null,null,null,null,null,{"$f":"IF(#REF!=\"☑\",TRUE)","v":{"$error":"#REF!"}},{"$f":"IF(DP543,#REF!,\"\")","v":{"$error":"#REF!"}},{"$f":"_xludf.TEXTJOIN(\",\",TRUE,DQ543:DQ556)","v":{"$error":"#VALUE!"}}]
[null,null,null,null,null,null,null,null,null,null,null,null,null,null,null,null,null,null,"□","買物サポート",false,"","□","料理デリバリー（出前）",false,"","□","フィットネス・ジム（送迎）",{"$f":"IF(AA544=\"☑\",TRUE)","v":false},{"$f":"IF(AC544,AB544,\"\")","v":""},"□","出張料理",{"$f":"IF(AE544=\"☑\",TRUE)","v":false},{"$f":"IF(AG544,AF544,\"\")","v":""},"□","温泉・銭湯（たまり場）",false,"","□","多目的トイレ",false,"","□","習い事",{"$f":"IF(AQ544=\"☑\",TRUE)","v":false},{"$f":"IF(AS544,AR544,\"\")","v":""},"□","金融・保険",false,"",null,"□","北区",{"$f":"IF(AZ544=\"☑\",TRUE)","v":false},"さいたま市北区",{"$f":"IF(BB544,BC544,\"\")","v":""},null,"□","蕨市",{"$f":"IF(BF544=\"☑\",TRUE)","v":false},{"$f":"BG544","v":"蕨市"},{"$f":"IF(BH544,BI544,\"\")","v":""},null,"□","志木市",{"$f":"IF(BL544=\"☑\",TRUE)","v":false},"志木市",{"$f":"IF(BN544,BO544,\"\")","v":""},null,"□","草加市",{"$f":"IF(BR544=\"☑\",TRUE)","v":false},"草加市","",null,"□","上尾市",{"$f":"IF(BX544=\"☑\",TRUE)","v":false},{"$f":"BY544","v":"上尾市"},{"$f":"IF(BZ544,CA544,\"\")","v":""},null,"□","東松山市",{"$f":"IF(CD544=\"☑\",TRUE)","v":false},"東松山市",{"$f":"IF(CF544,CG544,\"\")","v":""},null,"□","飯能市",{"$f":"IF(CJ544=\"☑\",TRUE)","v":false},{"$f":"CK544","v":"飯能市"},{"$f":"IF(CL544,CM544,\"\")","v":""},null,"□","加須市",{"$f":"IF(CP544=\"☑\",TRUE)","v":false},"加須市",{"$f":"IF(CR544,CS544,\"\")","v":""},null,"□","本庄市",{"$f":"IF(CV544=\"☑\",TRUE)","v":false},"本庄市",{"$f":"IF(CX544,CY544,\"\")","v":""},null,"□","横瀬町",{"$f":"IF(DB544=\"☑\",TRUE)","v":false},{"$f":"DC544","v":"横瀬町"},{"$f":"IF(DD544,DE544,\"\")","v":""},null,null,null,null,null,null,null,null,null,null,{"$f":"IF(DP544,#REF!,\"\")","v":""}]
[null,null,null,null,null,null,null,null,null,null,null,null,null,null,null,null,null,null,"□","買物代行",false,"","□","食材宅配",false,"","□","温泉・銭湯（送迎）",false,"","□","屋外作業・力仕事",false,"","□","カフェ・ファーストフード",false,"","□","休憩スペース",false,"","□","映画館",false,"","□","住宅・リフォーム",false,"",null,"□","大宮区",false,"さいたま市大宮区","",null,"□","戸田市",{"$f":"IF(BF545=\"☑\",TRUE)","v":false},{"$f":"BG545","v":"戸田市"},"",null,"□","和光市",false,"和光市","",null,"□","越谷市",false,"越谷市","",null,"□","桶川市",{"$f":"IF(BX545=\"☑\",TRUE)","v":false},{"$f":"BY545","v":"桶川市"},"",null,"□","坂戸市",false,"坂戸市","",null,"□","狭山市",{"$f":"IF(CJ545=\"☑\",TRUE)","v":false},{"$f":"CK545","v":"狭山市"},"",null,"□","羽生市",false,"羽生市","",null,"□","深谷市",false,"深谷市","",null,"□","皆野町",{"$f":"IF(DB545=\"☑\",TRUE)","v":false},{"$f":"DC545","v":"皆野町"},"",null,null,null,null,null,null,null,null,null,{"$f":"IF(#REF!=\"☑\",TRUE)","v":{"$error":"#REF!"}},{"$f":"IF(DP545,#REF!,\"\")","v":{"$error":"#REF!"}}]
[null,null,null,null,null,null,null,null,null,null,null,null,null,null,null,null,null,null,"□","移動販売",false,"","□","日用品配達",false,"","□","整体・マッサージ（送迎）",false,"","□","整体・マッサージ（出張）",false,"","□","飲食店",false,"","□","駐車場",false,"","□","カラオケ店",false,"","□","パソコン・スマートフォン",false,"",null,"□","見沼区",false,"さいたま市見沼区","",null,null,null,null,null,"",null,"□","新座市",false,"新座市","",null,"□","八潮市",false,"八潮市","",null,"□","北本市",{"$f":"IF(BX546=\"☑\",TRUE)","v":false},{"$f":"BY546","v":"北本市"},"",null,"□","鶴ヶ島市",false,"鶴ヶ島市","",null,"□","入間市",{"$f":"IF(CJ546=\"☑\",TRUE)","v":false},{"$f":"CK546","v":"入間市"},"",null,"□","久喜市",false,"久喜市","",null,"□","美里町",false,"美里町","",null,"□","長瀞町",{"$f":"IF(DB546=\"☑\",TRUE)","v":false},{"$f":"DC546","v":"長瀞町"},""]
[null,null,null,null,null,null,null,null,null,null,null,null,null,null,null,null,null,null,"□","割引サービス",false,"","□","薬・介護用品配達",false,"","□","乗り合いサービス",false,"","□","理容・美容（出張）",false,"","□","イートインスペース",false,"","□","貸しスペース",false,"","□","麻雀・将棋・囲碁",false,"","□","認知症サポート企業",false,"",null,"□","中央区",false,"さいたま市中央区","",null,null,null,null,null,"",null,"□","富士見市",false,"富士見市","",null,"□","三郷市",false,"三郷市","",null,"□","伊奈町",{"$f":"IF(BX547=\"☑\",TRUE)","v":false},{"$f":"BY547","v":"伊奈町"},"",null,"□","毛呂山町",false,"毛呂山町","",null,"□","日高市",{"$f":"IF(CJ547=\"☑\",TRUE)","v":false},{"$f":"CK547","v":"日高市"},"",null,"□","蓮田市",false,"蓮田市","",null,"□","神川町",false,"神川町","",null,"□","小鹿野町",{"$f":"IF(DB547=\"☑\",TRUE)","v":false},{"$f":"DC547","v":"小鹿野町"},"",null,null,null,null,null,null,null,null,null,{"$f":"IF(#REF!=\"☑\",TRUE)","v":{"$error":"#REF!"}},{"$f":"IF(DP547,#REF!,\"\")","v":{"$error":"#REF!"}}]
[null,null,null,null,null,null,null,null,null,null,null,null,null,null,null,null,null,null,"□","その他（買物）",false,"","□","クリーニング",false,{"$f":"IF(Y548,X548,\"\")","v":""},"□","個別移送サービス",false,"","□","ペット",false,"","□","その他（運動・たまり場）",false,"","□","その他（設備・施設・場所貸し）",false,"","□","ゲームセンター",false,"","□","理容・美容",false,"",null,"□","桜区",false,"さいたま市桜区","",null,null,null,null,null,"",null,"□","ふじみ野市",false,"ふじみ野市","",null,"□","吉川市",false,"吉川市","",null,null,null,null,null,"",null,"□","越生町",false,"越生町","",null,null,null,null,null,"",null,"□","幸手市",false,"幸手市","",null,"□","上里町",false,"上里町","",null,null,null,null,null,"",null,null,null,null,null,null,null,null,null,{"$f":"IF(#REF!=\"☑\",TRUE)","v":{"$error":"#REF!"}},{"$f":"IF(DP548,#REF!,\"\")","v":{"$error":"#REF!"}}]
[null,null,null,null,null,null,null,null,null,null,null,null,null,null,null,null,null,null,null,null,null,null,"□","その他（宅配・デリバリー）",false,{"$f":"IF(Y549,X549,\"\")","v":""},"□","交通機関サービス",false,"","□","その他（出張サービス）",false,"",null,null,null,null,null,null,null,null,"□","旅行・レジャー",false,"","□","成年後見・相続",false,"",null,"□","浦和区",false,"さいたま市浦和区","",null,null,null,null,null,"",null,"□","三芳町",false,"三芳町","",null,"□","松伏町",false,"松伏町","",null,null,null,null,null,"",null,"□","滑川町",false,"滑川町","",null,null,null,null,null,"",null,"□","白岡市",false,"白岡市","",null,"□","寄居町",false,"寄居町","",null,null,null,null,null,""]
[null,null,null,null,null,null,null,null,null,null,null,null,null,null,null,null,null,null,null,null,null,null,null,null,null,null,"□","その他（送迎・移動支援）",false,"",null,null,null,"",null,null,null,{"$f":"IF(AK550,AJ550,\"\")","v":""},null,null,null,{"$f":"IF(AO550,AN550,\"\")","v":""},"□","パソコン・スマホ教室",false,"","□","その他（生活サービス）",false,"",null,"□","南区",false,"さいたま市南区","",null,null,null,null,null,"",null,null,null,null,null,"",null,null,null,null,null,"",null,null,null,null,null,"",null,"□","嵐山町",false,"嵐山町","",null,null,null,null,null,"",null,"□","宮代町",false,"宮代町","",null,null,null,null,null,"",null,null,null,null,null,""]
[null,null,null,null,null,null,null,null,null,null,null,null,null,null,null,null,null,null,null,null,null,null,null,null,null,null,null,null,null,null,null,null,null,null,null,null,null,null,null,null,null,null,"□","その他（学び・趣味）",false,"",null,null,null,null,null,"□","緑区",false,"さいたま市緑区","",null,null,null,null,null,"",null,null,null,null,null,"",null,null,null,null,null,"",null,null,null,null,null,"",null,"□","小川町",false,"小川町","",null,null,null,null,null,"",null,"□","杉戸町",false,"杉戸町","",null,null,null,null,null,"",null,null,null,null,null,""]
[null,null,null,null,null,null,null,null,null,null,null,null,null,null,null,null,null,null,null,null,null,null,null,null,null,null,null,null,null,null,null,null,null,null,null,null,null,null,null,null,null,null,null,null,null,null,null,null,null,null,null,"□","岩槻区",{"$f":"IF(AZ552=\"☑\",TRUE)","v":false},"さいたま市岩槻区","",null,null,null,null,null,"",null,null,null,null,null,"",null,null,null,null,null,"",null,null,null,null,null,"",null,"□","川島町",false,"川島町","",null,null,null,null,null,"",null,null,null,null,null,"",null,null,null,null,null,"",null,null,null,null,null,""]
[null,null,null,null,null,null,null,null,null,null,null,null,null,null,null,null,null,null,null,null,null,null,null,null,null,null,null,null,null,null,null,null,null,null,null,null,null,null,null,null,null,null,null,null,null,null,null,null,null,null,null,null,null,null,null,null,null,null,null,null,null,null,null,null,null,null,null,null,null,null,null,null,null,null,null,null,null,null,null,null,null,"□","吉見町",false,"吉見町","",null,null,null,null,null,"",null,null,null,null,null,"",null,null,null,null,null,"",null,null,null,null,null,""]
[null,null,null,null,null,null,null,null,null,null,null,null,null,null,null,null,null,null,null,null,null,null,null,null,null,null,null,null,null,null,null,null,null,null,null,null,null,null,null,null,null,null,null,null,null,null,null,null,null,null,null,null,null,null,null,null,null,null,null,null,null,null,null,null,null,null,null,null,null,null,null,null,null,null,null,null,null,null,null,null,null,"□","鳩山町",false,"鳩山町","",null,null,null,null,null,"",null,null,null,null,null,"",null,null,null,null,null,"",null,null,null,null,null,""]
[null,null,null,null,null,null,null,null,null,null,null,null,null,null,null,null,null,null,null,null,null,null,null,null,null,null,null,null,null,null,null,null,null,null,null,null,null,null,null,null,null,null,null,null,null,null,null,null,null,null,null,null,null,null,null,null,null,null,null,null,null,null,null,null,null,null,null,null,null,null,null,null,null,null,null,null,null,null,null,null,null,"□","ときがわ町",false,"ときがわ町","",null,null,null,null,null,"",null,null,null,null,null,"",null,null,null,null,null,"",null,null,null,null,null,""]
[null,null,null,null,null,null,null,null,null,null,null,null,null,null,null,null,null,null,null,null,null,null,null,null,null,null,null,null,null,null,null,null,null,null,null,null,null,null,null,null,null,null,null,null,null,null,null,null,null,null,null,null,null,null,null,null,null,null,null,null,null,null,null,null,null,null,null,null,null,null,null,null,null,null,null,null,null,null,null,null,null,"□","東秩父村",false,"東秩父村","",null,null,null,null,null,"",null,null,null,null,null,"",null,null,null,null,null,"",null,null,null,null,null,""]
[39,null,null,null,null,null,null,null,null,null,null,null,null,null,null,null,null,null,"□","配送",{"$f":"IF(S557=\"☑\",TRUE)","v":false},{"$f":"IF(U557,T557,\"\")","v":""},"□","弁当配達",{"$f":"IF(W557=\"☑\",TRUE)","v":false},{"$f":"IF(Y557,X557,\"\")","v":""},"□","理容・美容（送迎）",{"$f":"IF(AA557=\"☑\",TRUE)","v":false},{"$f":"IF(AC557,AB557,\"\")","v":""},"□","家事代行・掃除・片付け",{"$f":"IF(AE557=\"☑\",TRUE)","v":false},{"$f":"IF(AG557,AF557,\"\")","v":""},"□","フィットネス・ジム（運動）",{"$f":"IF(AI557=\"☑\",TRUE)","v":false},{"$f":"IF(AK557,AJ557,\"\")","v":""},"□","車イス対応（バリアフリー）",{"$f":"IF(AM557=\"☑\",TRUE)","v":false},{"$f":"IF(AO557,AN557,\"\")","v":""},"□","講座・教室・イベント",{"$f":"IF(AQ557=\"☑\",TRUE)","v":false},{"$f":"IF(AS557,AR557,\"\")","v":""},"□","防犯・見守り",{"$f":"IF(AU557=\"☑\",TRUE)","v":false},{"$f":"IF(AW557,AV557,\"\")","v":""},{"$f":"_xlfn.TEXTJOIN(\"／\",TRUE,V557:V570,Z557:Z570,AD557:AD570,AH557:AH570,AL557:AL570,AP557:AP570,AT557:AT570,AX557:AX570)","v":""},"□","西区",{"$f":"IF(AZ557=\"☑\",TRUE)","v":false},{"$f":"\"さいたま市\"&BA557","v":"さいたま市西区"},{"$f":"IF(BB557,BC557,\"\")","v":""},{"$f":"_xlfn.TEXTJOIN(\"／\",TRUE,BD557:BD570)","v":""},"□","川口市",{"$f":"IF(BF557=\"☑\",TRUE)","v":false},{"$f":"BG557","v":"川口市"},{"$f":"IF(BH557,BI557,\"\")","v":""},{"$f":"_xludf.TEXTJOIN(\",\",TRUE,BJ557:BJ570)","v":""},"□","朝霞市",{"$f":"IF(BL557=\"☑\",TRUE)","v":false},{"$f":"BM557","v":"朝霞市"},{"$f":"IF(BN557,BO557,\"\")","v":""},{"$f":"_xlfn.TEXTJOIN(\"／\",TRUE,BP557:BP570)","v":""},"□","春日部市",{"$f":"IF(BR557=\"☑\",TRUE)","v":false},{"$f":"BS557","v":"春日部市"},{"$f":"IF(BT557,BU557,\"\")","v":""},{"$f":"_xlfn.TEXTJOIN(\"／\",TRUE,BV557:BV570)","v":""},"□","鴻巣市",{"$f":"IF(BX557=\"☑\",TRUE)","v":false},{"$f":"BY557","v":"鴻巣市"},{"$f":"IF(BZ557,CA557,\"\")","v":""},{"$f":"_xlfn.TEXTJOIN(\"／\",TRUE,CB557:CB570)","v":""},"□","川越市",{"$f":"IF(CD557=\"☑\",TRUE)","v":false},"川越市",{"$f":"IF(CF557,CG557,\"\")","v":""},{"$f":"_xlfn.TEXTJOIN(\"／\",TRUE,CH557:CH570)","v":""},"□","所沢市",{"$f":"IF(CJ557=\"☑\",TRUE)","v":false},{"$f":"CK557","v":"所沢市"},{"$f":"IF(CL557,CM557,\"\")","v":""},{"$f":"_xlfn.TEXTJOIN(\"／\",TRUE,CN557:CN570)","v":""},"□","行田市",{"$f":"IF(CP557=\"☑\",TRUE)","v":false},{"$f":"CQ557","v":"行田市"},{"$f":"IF(CR557,CS557,\"\")","v":""},{"$f":"_xludf.TEXTJOIN(\",\",TRUE,CT557:CT570)","v":""},"□","熊谷市",{"$f":"IF(CV557=\"☑\",TRUE)","v":false},{"$f":"CW557","v":"熊谷市"},{"$f":"IF(CX557,CY557,\"\")","v":""},{"$f":"_xlfn.TEXTJOIN(\"／\",TRUE,CZ557:CZ570)","v":""},"□","秩父市",{"$f":"IF(DB557=\"☑\",TRUE)","v":false},{"$f":"DC557","v":"秩父市"},{"$f":"IF(DD557,DE557,\"\")","v":""},{"$f":"_xlfn.TEXTJOIN(\"／\",TRUE,DF557:DF570)","v":""},{"$f":"_xlfn.TEXTJOIN(\"／\",TRUE,BE557,BK557,BQ557,BW557,CC557,CI557,CO557,CU557,DA557,DG557)","v":""},null,null,null,null,null,null,null,{"$f":"IF(#REF!=\"☑\",TRUE)","v":{"$error":"#REF!"}},{"$f":"IF(DP557,#REF!,\"\")","v":{"$error":"#REF!"}},{"$f":"_xludf.TEXTJOIN(\",\",TRUE,DQ557:DQ570)","v":{"$error":"#VALUE!"}}]
[null,null,null,null,null,null,null,null,null,null,null,null,null,null,null,null,null,null,"□","買物サポート",false,"","□","料理デリバリー（出前）",false,"","□","フィットネス・ジム（送迎）",{"$f":"IF(AA558=\"☑\",TRUE)","v":false},{"$f":"IF(AC558,AB558,\"\")","v":""},"□","出張料理",{"$f":"IF(AE558=\"☑\",TRUE)","v":false},{"$f":"IF(AG558,AF558,\"\")","v":""},"□","温泉・銭湯（たまり場）",false,"","□","多目的トイレ",false,"","□","習い事",{"$f":"IF(AQ558=\"☑\",TRUE)","v":false},{"$f":"IF(AS558,AR558,\"\")","v":""},"□","金融・保険",false,"",null,"□","北区",{"$f":"IF(AZ558=\"☑\",TRUE)","v":false},"さいたま市北区",{"$f":"IF(BB558,BC558,\"\")","v":""},null,"□","蕨市",{"$f":"IF(BF558=\"☑\",TRUE)","v":false},{"$f":"BG558","v":"蕨市"},{"$f":"IF(BH558,BI558,\"\")","v":""},null,"□","志木市",{"$f":"IF(BL558=\"☑\",TRUE)","v":false},"志木市",{"$f":"IF(BN558,BO558,\"\")","v":""},null,"□","草加市",{"$f":"IF(BR558=\"☑\",TRUE)","v":false},"草加市","",null,"□","上尾市",{"$f":"IF(BX558=\"☑\",TRUE)","v":false},{"$f":"BY558","v":"上尾市"},{"$f":"IF(BZ558,CA558,\"\")","v":""},null,"□","東松山市",{"$f":"IF(CD558=\"☑\",TRUE)","v":false},"東松山市",{"$f":"IF(CF558,CG558,\"\")","v":""},null,"□","飯能市",{"$f":"IF(CJ558=\"☑\",TRUE)","v":false},{"$f":"CK558","v":"飯能市"},{"$f":"IF(CL558,CM558,\"\")","v":""},null,"□","加須市",{"$f":"IF(CP558=\"☑\",TRUE)","v":false},"加須市",{"$f":"IF(CR558,CS558,\"\")","v":""},null,"□","本庄市",{"$f":"IF(CV558=\"☑\",TRUE)","v":false},"本庄市",{"$f":"IF(CX558,CY558,\"\")","v":""},null,"□","横瀬町",{"$f":"IF(DB558=\"☑\",TRUE)","v":false},{"$f":"DC558","v":"横瀬町"},{"$f":"IF(DD558,DE558,\"\")","v":""},null,null,null,null,null,null,null,null,null,null,{"$f":"IF(DP558,#REF!,\"\")","v":""}]
[null,null,null,null,null,null,null,null,null,null,null,null,null,null,null,null,null,null,"□","買物代行",false,"","□","食材宅配",false,"","□","温泉・銭湯（送迎）",false,"","□","屋外作業・力仕事",false,"","□","カフェ・ファーストフード",false,"","□","休憩スペース",false,"","□","映画館",false,"","□","住宅・リフォーム",false,"",null,"□","大宮区",false,"さいたま市大宮区","",null,"□","戸田市",{"$f":"IF(BF559=\"☑\",TRUE)","v":false},{"$f":"BG559","v":"戸田市"},"",null,"□","和光市",false,"和光市","",null,"□","越谷市",false,"越谷市","",null,"□","桶川市",{"$f":"IF(BX559=\"☑\",TRUE)","v":false},{"$f":"BY559","v":"桶川市"},"",null,"□","坂戸市",false,"坂戸市","",null,"□","狭山市",{"$f":"IF(CJ559=\"☑\",TRUE)","v":false},{"$f":"CK559","v":"狭山市"},"",null,"□","羽生市",false,"羽生市","",null,"□","深谷市",false,"深谷市","",null,"□","皆野町",{"$f":"IF(DB559=\"☑\",TRUE)","v":false},{"$f":"DC559","v":"皆野町"},"",null,null,null,null,null,null,null,null,null,{"$f":"IF(#REF!=\"☑\",TRUE)","v":{"$error":"#REF!"}},{"$f":"IF(DP559,#REF!,\"\")","v":{"$error":"#REF!"}}]
[null,null,null,null,null,null,null,null,null,null,null,null,null,null,null,null,null,null,"□","移動販売",false,"","□","日用品配達",false,"","□","整体・マッサージ（送迎）",false,"","□","整体・マッサージ（出張）",false,"","□","飲食店",false,"","□","駐車場",false,"","□","カラオケ店",false,"","□","パソコン・スマートフォン",false,"",null,"□","見沼区",false,"さいたま市見沼区","",null,null,null,null,null,"",null,"□","新座市",false,"新座市","",null,"□","八潮市",false,"八潮市","",null,"□","北本市",{"$f":"IF(BX560=\"☑\",TRUE)","v":false},{"$f":"BY560","v":"北本市"},"",null,"□","鶴ヶ島市",false,"鶴ヶ島市","",null,"□","入間市",{"$f":"IF(CJ560=\"☑\",TRUE)","v":false},{"$f":"CK560","v":"入間市"},"",null,"□","久喜市",false,"久喜市","",null,"□","美里町",false,"美里町","",null,"□","長瀞町",{"$f":"IF(DB560=\"☑\",TRUE)","v":false},{"$f":"DC560","v":"長瀞町"},""]
[null,null,null,null,null,null,null,null,null,null,null,null,null,null,null,null,null,null,"□","割引サービス",false,"","□","薬・介護用品配達",false,"","□","乗り合いサービス",false,"","□","理容・美容（出張）",false,"","□","イートインスペース",false,"","□","貸しスペース",false,"","□","麻雀・将棋・囲碁",false,"","□","認知症サポート企業",false,"",null,"□","中央区",false,"さいたま市中央区","",null,null,null,null,null,"",null,"□","富士見市",false,"富士見市","",null,"□","三郷市",false,"三郷市","",null,"□","伊奈町",{"$f":"IF(BX561=\"☑\",TRUE)","v":false},{"$f":"BY561","v":"伊奈町"},"",null,"□","毛呂山町",false,"毛呂山町","",null,"□","日高市",{"$f":"IF(CJ561=\"☑\",TRUE)","v":false},{"$f":"CK561","v":"日高市"},"",null,"□","蓮田市",false,"蓮田市","",null,"□","神川町",false,"神川町","",null,"□","小鹿野町",{"$f":"IF(DB561=\"☑\",TRUE)","v":false},{"$f":"DC561","v":"小鹿野町"},"",null,null,null,null,null,null,null,null,null,{"$f":"IF(#REF!=\"☑\",TRUE)","v":{"$error":"#REF!"}},{"$f":"IF(DP561,#REF!,\"\")","v":{"$error":"#REF!"}}]
[null,null,null,null,null,null,null,null,null,null,null,null,null,null,null,null,null,null,"□","その他（買物）",false,"","□","クリーニング",false,{"$f":"IF(Y562,X562,\"\")","v":""},"□","個別移送サービス",false,"","□","ペット",false,"","□","その他（運動・たまり場）",false,"","□","その他（設備・施設・場所貸し）",false,"","□","ゲームセンター",false,"","□","理容・美容",false,"",null,"□","桜区",false,"さいたま市桜区","",null,null,null,null,null,"",null,"□","ふじみ野市",false,"ふじみ野市","",null,"□","吉川市",false,"吉川市","",null,null,null,null,null,"",null,"□","越生町",false,"越生町","",null,null,null,null,null,"",null,"□","幸手市",false,"幸手市","",null,"□","上里町",false,"上里町","",null,null,null,null,null,"",null,null,null,null,null,null,null,null,null,{"$f":"IF(#REF!=\"☑\",TRUE)","v":{"$error":"#REF!"}},{"$f":"IF(DP562,#REF!,\"\")","v":{"$error":"#REF!"}}]
[null,null,null,null,null,null,null,null,null,null,null,null,null,null,null,null,null,null,null,null,null,null,"□","その他（宅配・デリバリー）",false,{"$f":"IF(Y563,X563,\"\")","v":""},"□","交通機関サービス",false,"","□","その他（出張サービス）",false,"",null,null,null,null,null,null,null,null,"□","旅行・レジャー",false,"","□","成年後見・相続",false,"",null,"□","浦和区",false,"さいたま市浦和区","",null,null,null,null,null,"",null,"□","三芳町",false,"三芳町","",null,"□","松伏町",false,"松伏町","",null,null,null,null,null,"",null,"□","滑川町",false,"滑川町","",null,null,null,null,null,"",null,"□","白岡市",false,"白岡市","",null,"□","寄居町",false,"寄居町","",null,null,null,null,null,""]
[null,null,null,null,null,null,null,null,null,null,null,null,null,null,null,null,null,null,null,null,null,null,null,null,null,null,"□","その他（送迎・移動支援）",false,"",null,null,null,"",null,null,null,{"$f":"IF(AK564,AJ564,\"\")","v":""},null,null,null,{"$f":"IF(AO564,AN564,\"\")","v":""},"□","パソコン・スマホ教室",false,"","□","その他（生活サービス）",false,"",null,"□","南区",false,"さいたま市南区","",null,null,null,null,null,"",null,null,null,null,null,"",null,null,null,null,null,"",null,null,null,null,null,"",null,"□","嵐山町",false,"嵐山町","",null,null,null,null,null,"",null,"□","宮代町",false,"宮代町","",null,null,null,null,null,"",null,null,null,null,null,""]
[null,null,null,null,null,null,null,null,null,null,null,null,null,null,null,null,null,null,null,null,null,null,null,null,null,null,null,null,null,null,null,null,null,null,null,null,null,null,null,null,null,null,"□","その他（学び・趣味）",false,"",null,null,null,null,null,"□","緑区",false,"さいたま市緑区","",null,null,null,null,null,"",null,null,null,null,null,"",null,null,null,null,null,"",null,null,null,null,null,"",null,"□","小川町",false,"小川町","",null,null,null,null,null,"",null,"□","杉戸町",false,"杉戸町","",null,null,null,null,null,"",null,null,null,null,null,""]
[null,null,null,null,null,null,null,null,null,null,null,null,null,null,null,null,null,null,null,null,null,null,null,null,null,null,null,null,null,null,null,null,null,null,null,null,null,null,null,null,null,null,null,null,null,null,null,null,null,null,null,"□","岩槻区",{"$f":"IF(AZ566=\"☑\",TRUE)","v":false},"さいたま市岩槻区","",null,null,null,null,null,"",null,null,null,null,null,"",null,null,null,null,null,"",null,null,null,null,null,"",null,"□","川島町",false,"川島町","",null,null,null,null,null,"",null,null,null,null,null,"",null,null,null,null,null,"",null,null,null,null,null,""]
[null,null,null,null,null,null,null,null,null,null,null,null,null,null,null,null,null,null,null,null,null,null,null,null,null,null,null,null,null,null,null,null,null,null,null,null,null,null,null,null,null,null,null,null,null,null,null,null,null,null,null,null,null,null,null,null,null,null,null,null,null,null,null,null,null,null,null,null,null,null,null,null,null,null,null,null,null,null,null,null,null,"□","吉見町",false,"吉見町","",null,null,null,null,null,"",null,null,null,null,null,"",null,null,null,null,null,"",null,null,null,null,null,""]
[null,null,null,null,null,null,null,null,null,null,null,null,null,null,null,null,null,null,null,null,null,null,null,null,null,null,null,null,null,null,null,null,null,null,null,null,null,null,null,null,null,null,null,null,null,null,null,null,null,null,null,null,null,null,null,null,null,null,null,null,null,null,null,null,null,null,null,null,null,null,null,null,null,null,null,null,null,null,null,null,null,"□","鳩山町",false,"鳩山町","",null,null,null,null,null,"",null,null,null,null,null,"",null,null,null,null,null,"",null,null,null,null,null,""]
[null,null,null,null,null,null,null,null,null,null,null,null,null,null,null,null,null,null,null,null,null,null,null,null,null,null,null,null,null,null,null,null,null,null,null,null,null,null,null,null,null,null,null,null,null,null,null,null,null,null,null,null,null,null,null,null,null,null,null,null,null,null,null,null,null,null,null,null,null,null,null,null,null,null,null,null,null,null,null,null,null,"□","ときがわ町",false,"ときがわ町","",null,null,null,null,null,"",null,null,null,null,null,"",null,null,null,null,null,"",null,null,null,null,null,""]
[null,null,null,null,null,null,null,null,null,null,null,null,null,null,null,null,null,null,null,null,null,null,null,null,null,null,null,null,null,null,null,null,null,null,null,null,null,null,null,null,null,null,null,null,null,null,null,null,null,null,null,null,null,null,null,null,null,null,null,null,null,null,null,null,null,null,null,null,null,null,null,null,null,null,null,null,null,null,null,null,null,"□","東秩父村",false,"東秩父村","",null,null,null,null,null,"",null,null,null,null,null,"",null,null,null,null,null,"",null,null,null,null,null,""]
[40,null,null,null,null,null,null,null,null,null,null,null,null,null,null,null,null,null,"□","配送",{"$f":"IF(S571=\"☑\",TRUE)","v":false},{"$f":"IF(U571,T571,\"\")","v":""},"□","弁当配達",{"$f":"IF(W571=\"☑\",TRUE)","v":false},{"$f":"IF(Y571,X571,\"\")","v":""},"□","理容・美容（送迎）",{"$f":"IF(AA571=\"☑\",TRUE)","v":false},{"$f":"IF(AC571,AB571,\"\")","v":""},"□","家事代行・掃除・片付け",{"$f":"IF(AE571=\"☑\",TRUE)","v":false},{"$f":"IF(AG571,AF571,\"\")","v":""},"□","フィットネス・ジム（運動）",{"$f":"IF(AI571=\"☑\",TRUE)","v":false},{"$f":"IF(AK571,AJ571,\"\")","v":""},"□","車イス対応（バリアフリー）",{"$f":"IF(AM571=\"☑\",TRUE)","v":false},{"$f":"IF(AO571,AN571,\"\")","v":""},"□","講座・教室・イベント",{"$f":"IF(AQ571=\"☑\",TRUE)","v":false},{"$f":"IF(AS571,AR571,\"\")","v":""},"□","防犯・見守り",{"$f":"IF(AU571=\"☑\",TRUE)","v":false},{"$f":"IF(AW571,AV571,\"\")","v":""},{"$f":"_xlfn.TEXTJOIN(\"／\",TRUE,V571:V584,Z571:Z584,AD571:AD584,AH571:AH584,AL571:AL584,AP571:AP584,AT571:AT584,AX571:AX584)","v":""},"□","西区",{"$f":"IF(AZ571=\"☑\",TRUE)","v":false},{"$f":"\"さいたま市\"&BA571","v":"さいたま市西区"},{"$f":"IF(BB571,BC571,\"\")","v":""},{"$f":"_xlfn.TEXTJOIN(\"／\",TRUE,BD571:BD584)","v":""},"□","川口市",{"$f":"IF(BF571=\"☑\",TRUE)","v":false},{"$f":"BG571","v":"川口市"},{"$f":"IF(BH571,BI571,\"\")","v":""},{"$f":"_xludf.TEXTJOIN(\",\",TRUE,BJ571:BJ584)","v":""},"□","朝霞市",{"$f":"IF(BL571=\"☑\",TRUE)","v":false},{"$f":"BM571","v":"朝霞市"},{"$f":"IF(BN571,BO571,\"\")","v":""},{"$f":"_xlfn.TEXTJOIN(\"／\",TRUE,BP571:BP584)","v":""},"□","春日部市",{"$f":"IF(BR571=\"☑\",TRUE)","v":false},{"$f":"BS571","v":"春日部市"},{"$f":"IF(BT571,BU571,\"\")","v":""},{"$f":"_xlfn.TEXTJOIN(\"／\",TRUE,BV571:BV584)","v":""},"□","鴻巣市",{"$f":"IF(BX571=\"☑\",TRUE)","v":false},{"$f":"BY571","v":"鴻巣市"},{"$f":"IF(BZ571,CA571,\"\")","v":""},{"$f":"_xlfn.TEXTJOIN(\"／\",TRUE,CB571:CB584)","v":""},"□","川越市",{"$f":"IF(CD571=\"☑\",TRUE)","v":false},"川越市",{"$f":"IF(CF571,CG571,\"\")","v":""},{"$f":"_xlfn.TEXTJOIN(\"／\",TRUE,CH571:CH584)","v":""},"□","所沢市",{"$f":"IF(CJ571=\"☑\",TRUE)","v":false},{"$f":"CK571","v":"所沢市"},{"$f":"IF(CL571,CM571,\"\")","v":""},{"$f":"_xlfn.TEXTJOIN(\"／\",TRUE,CN571:CN584)","v":""},"□","行田市",{"$f":"IF(CP571=\"☑\",TRUE)","v":false},{"$f":"CQ571","v":"行田市"},{"$f":"IF(CR571,CS571,\"\")","v":""},{"$f":"_xludf.TEXTJOIN(\",\",TRUE,CT571:CT584)","v":""},"□","熊谷市",{"$f":"IF(CV571=\"☑\",TRUE)","v":false},{"$f":"CW571","v":"熊谷市"},{"$f":"IF(CX571,CY571,\"\")","v":""},{"$f":"_xlfn.TEXTJOIN(\"／\",TRUE,CZ571:CZ584)","v":""},"□","秩父市",{"$f":"IF(DB571=\"☑\",TRUE)","v":false},{"$f":"DC571","v":"秩父市"},{"$f":"IF(DD571,DE571,\"\")","v":""},{"$f":"_xlfn.TEXTJOIN(\"／\",TRUE,DF571:DF584)","v":""},{"$f":"_xlfn.TEXTJOIN(\"／\",TRUE,BE571,BK571,BQ571,BW571,CC571,CI571,CO571,CU571,DA571,DG571)","v":""},null,null,null,null,null,null,null,{"$f":"IF(#REF!=\"☑\",TRUE)","v":{"$error":"#REF!"}},{"$f":"IF(DP571,#REF!,\"\")","v":{"$error":"#REF!"}},{"$f":"_xludf.TEXTJOIN(\",\",TRUE,DQ571:DQ584)","v":{"$error":"#VALUE!"}}]
[null,null,null,null,null,null,null,null,null,null,null,null,null,null,null,null,null,null,"□","買物サポート",false,"","□","料理デリバリー（出前）",false,"","□","フィットネス・ジム（送迎）",{"$f":"IF(AA572=\"☑\",TRUE)","v":false},{"$f":"IF(AC572,AB572,\"\")","v":""},"□","出張料理",{"$f":"IF(AE572=\"☑\",TRUE)","v":false},{"$f":"IF(AG572,AF572,\"\")","v":""},"□","温泉・銭湯（たまり場）",false,"","□","多目的トイレ",false,"","□","習い事",{"$f":"IF(AQ572=\"☑\",TRUE)","v":false},{"$f":"IF(AS572,AR572,\"\")","v":""},"□","金融・保険",false,"",null,"□","北区",{"$f":"IF(AZ572=\"☑\",TRUE)","v":false},"さいたま市北区",{"$f":"IF(BB572,BC572,\"\")","v":""},null,"□","蕨市",{"$f":"IF(BF572=\"☑\",TRUE)","v":false},{"$f":"BG572","v":"蕨市"},{"$f":"IF(BH572,BI572,\"\")","v":""},null,"□","志木市",{"$f":"IF(BL572=\"☑\",TRUE)","v":false},"志木市",{"$f":"IF(BN572,BO572,\"\")","v":""},null,"□","草加市",{"$f":"IF(BR572=\"☑\",TRUE)","v":false},"草加市","",null,"□","上尾市",{"$f":"IF(BX572=\"☑\",TRUE)","v":false},{"$f":"BY572","v":"上尾市"},{"$f":"IF(BZ572,CA572,\"\")","v":""},null,"□","東松山市",{"$f":"IF(CD572=\"☑\",TRUE)","v":false},"東松山市",{"$f":"IF(CF572,CG572,\"\")","v":""},null,"□","飯能市",{"$f":"IF(CJ572=\"☑\",TRUE)","v":false},{"$f":"CK572","v":"飯能市"},{"$f":"IF(CL572,CM572,\"\")","v":""},null,"□","加須市",{"$f":"IF(CP572=\"☑\",TRUE)","v":false},"加須市",{"$f":"IF(CR572,CS572,\"\")","v":""},null,"□","本庄市",{"$f":"IF(CV572=\"☑\",TRUE)","v":false},"本庄市",{"$f":"IF(CX572,CY572,\"\")","v":""},null,"□","横瀬町",{"$f":"IF(DB572=\"☑\",TRUE)","v":false},{"$f":"DC572","v":"横瀬町"},{"$f":"IF(DD572,DE572,\"\")","v":""},null,null,null,null,null,null,null,null,null,null,{"$f":"IF(DP572,#REF!,\"\")","v":""}]
[null,null,null,null,null,null,null,null,null,null,null,null,null,null,null,null,null,null,"□","買物代行",false,"","□","食材宅配",false,"","□","温泉・銭湯（送迎）",false,"","□","屋外作業・力仕事",false,"","□","カフェ・ファーストフード",false,"","□","休憩スペース",false,"","□","映画館",false,"","□","住宅・リフォーム",false,"",null,"□","大宮区",false,"さいたま市大宮区","",null,"□","戸田市",{"$f":"IF(BF573=\"☑\",TRUE)","v":false},{"$f":"BG573","v":"戸田市"},"",null,"□","和光市",false,"和光市","",null,"□","越谷市",false,"越谷市","",null,"□","桶川市",{"$f":"IF(BX573=\"☑\",TRUE)","v":false},{"$f":"BY573","v":"桶川市"},"",null,"□","坂戸市",false,"坂戸市","",null,"□","狭山市",{"$f":"IF(CJ573=\"☑\",TRUE)","v":false},{"$f":"CK573","v":"狭山市"},"",null,"□","羽生市",false,"羽生市","",null,"□","深谷市",false,"深谷市","",null,"□","皆野町",{"$f":"IF(DB573=\"☑\",TRUE)","v":false},{"$f":"DC573","v":"皆野町"},"",null,null,null,null,null,null,null,null,null,{"$f":"IF(#REF!=\"☑\",TRUE)","v":{"$error":"#REF!"}},{"$f":"IF(DP573,#REF!,\"\")","v":{"$error":"#REF!"}}]
[null,null,null,null,null,null,null,null,null,null,null,null,null,null,null,null,null,null,"□","移動販売",false,"","□","日用品配達",false,"","□","整体・マッサージ（送迎）",false,"","□","整体・マッサージ（出張）",false,"","□","飲食店",false,"","□","駐車場",false,"","□","カラオケ店",false,"","□","パソコン・スマートフォン",false,"",null,"□","見沼区",false,"さいたま市見沼区","",null,null,null,null,null,"",null,"□","新座市",false,"新座市","",null,"□","八潮市",false,"八潮市","",null,"□","北本市",{"$f":"IF(BX574=\"☑\",TRUE)","v":false},{"$f":"BY574","v":"北本市"},"",null,"□","鶴ヶ島市",false,"鶴ヶ島市","",null,"□","入間市",{"$f":"IF(CJ574=\"☑\",TRUE)","v":false},{"$f":"CK574","v":"入間市"},"",null,"□","久喜市",false,"久喜市","",null,"□","美里町",false,"美里町","",null,"□","長瀞町",{"$f":"IF(DB574=\"☑\",TRUE)","v":false},{"$f":"DC574","v":"長瀞町"},""]
[null,null,null,null,null,null,null,null,null,null,null,null,null,null,null,null,null,null,"□","割引サービス",false,"","□","薬・介護用品配達",false,"","□","乗り合いサービス",false,"","□","理容・美容（出張）",false,"","□","イートインスペース",false,"","□","貸しスペース",false,"","□","麻雀・将棋・囲碁",false,"","□","認知症サポート企業",false,"",null,"□","中央区",false,"さいたま市中央区","",null,null,null,null,null,"",null,"□","富士見市",false,"富士見市","",null,"□","三郷市",false,"三郷市","",null,"□","伊奈町",{"$f":"IF(BX575=\"☑\",TRUE)","v":false},{"$f":"BY575","v":"伊奈町"},"",null,"□","毛呂山町",false,"毛呂山町","",null,"□","日高市",{"$f":"IF(CJ575=\"☑\",TRUE)","v":false},{"$f":"CK575","v":"日高市"},"",null,"□","蓮田市",false,"蓮田市","",null,"□","神川町",false,"神川町","",null,"□","小鹿野町",{"$f":"IF(DB575=\"☑\",TRUE)","v":false},{"$f":"DC575","v":"小鹿野町"},"",null,null,null,null,null,null,null,null,null,{"$f":"IF(#REF!=\"☑\",TRUE)","v":{"$error":"#REF!"}},{"$f":"IF(DP575,#REF!,\"\")","v":{"$error":"#REF!"}}]
[null,null,null,null,null,null,null,null,null,null,null,null,null,null,null,null,null,null,"□","その他（買物）",false,"","□","クリーニング",false,{"$f":"IF(Y576,X576,\"\")","v":""},"□","個別移送サービス",false,"","□","ペット",false,"","□","その他（運動・たまり場）",false,"","□","その他（設備・施設・場所貸し）",false,"","□","ゲームセンター",false,"","□","理容・美容",false,"",null,"□","桜区",false,"さいたま市桜区","",null,null,null,null,null,"",null,"□","ふじみ野市",false,"ふじみ野市","",null,"□","吉川市",false,"吉川市","",null,null,null,null,null,"",null,"□","越生町",false,"越生町","",null,null,null,null,null,"",null,"□","幸手市",false,"幸手市","",null,"□","上里町",false,"上里町","",null,null,null,null,null,"",null,null,null,null,null,null,null,null,null,{"$f":"IF(#REF!=\"☑\",TRUE)","v":{"$error":"#REF!"}},{"$f":"IF(DP576,#REF!,\"\")","v":{"$error":"#REF!"}}]
[null,null,null,null,null,null,null,null,null,null,null,null,null,null,null,null,null,null,null,null,null,null,"□","その他（宅配・デリバリー）",false,{"$f":"IF(Y577,X577,\"\")","v":""},"□","交通機関サービス",false,"","□","その他（出張サービス）",false,"",null,null,null,null,null,null,null,null,"□","旅行・レジャー",false,"","□","成年後見・相続",false,"",null,"□","浦和区",false,"さいたま市浦和区","",null,null,null,null,null,"",null,"□","三芳町",false,"三芳町","",null,"□","松伏町",false,"松伏町","",null,null,null,null,null,"",null,"□","滑川町",false,"滑川町","",null,null,null,null,null,"",null,"□","白岡市",false,"白岡市","",null,"□","寄居町",false,"寄居町","",null,null,null,null,null,""]
[null,null,null,null,null,null,null,null,null,null,null,null,null,null,null,null,null,null,null,null,null,null,null,null,null,null,"□","その他（送迎・移動支援）",false,"",null,null,null,"",null,null,null,{"$f":"IF(AK578,AJ578,\"\")","v":""},null,null,null,{"$f":"IF(AO578,AN578,\"\")","v":""},"□","パソコン・スマホ教室",false,"","□","その他（生活サービス）",false,"",null,"□","南区",false,"さいたま市南区","",null,null,null,null,null,"",null,null,null,null,null,"",null,null,null,null,null,"",null,null,null,null,null,"",null,"□","嵐山町",false,"嵐山町","",null,null,null,null,null,"",null,"□","宮代町",false,"宮代町","",null,null,null,null,null,"",null,null,null,null,null,""]
[null,null,null,null,null,null,null,null,null,null,null,null,null,null,null,null,null,null,null,null,null,null,null,null,null,null,null,null,null,null,null,null,null,null,null,null,null,null,null,null,null,null,"□","その他（学び・趣味）",false,"",null,null,null,null,null,"□","緑区",false,"さいたま市緑区","",null,null,null,null,null,"",null,null,null,null,null,"",null,null,null,null,null,"",null,null,null,null,null,"",null,"□","小川町",false,"小川町","",null,null,null,null,null,"",null,"□","杉戸町",false,"杉戸町","",null,null,null,null,null,"",null,null,null,null,null,""]
[null,null,null,null,null,null,null,null,null,null,null,null,null,null,null,null,null,null,null,null,null,null,null,null,null,null,null,null,null,null,null,null,null,null,null,null,null,null,null,null,null,null,null,null,null,null,null,null,null,null,null,"□","岩槻区",{"$f":"IF(AZ580=\"☑\",TRUE)","v":false},"さいたま市岩槻区","",null,null,null,null,null,"",null,null,null,null,null,"",null,null,null,null,null,"",null,null,null,null,null,"",null,"□","川島町",false,"川島町","",null,null,null,null,null,"",null,null,null,null,null,"",null,null,null,null,null,"",null,null,null,null,null,""]
[null,null,null,null,null,null,null,null,null,null,null,null,null,null,null,null,null,null,null,null,null,null,null,null,null,null,null,null,null,null,null,null,null,null,null,null,null,null,null,null,null,null,null,null,null,null,null,null,null,null,null,null,null,null,null,null,null,null,null,null,null,null,null,null,null,null,null,null,null,null,null,null,null,null,null,null,null,null,null,null,null,"□","吉見町",false,"吉見町","",null,null,null,null,null,"",null,null,null,null,null,"",null,null,null,null,null,"",null,null,null,null,null,""]
[null,null,null,null,null,null,null,null,null,null,null,null,null,null,null,null,null,null,null,null,null,null,null,null,null,null,null,null,null,null,null,null,null,null,null,null,null,null,null,null,null,null,null,null,null,null,null,null,null,null,null,null,null,null,null,null,null,null,null,null,null,null,null,null,null,null,null,null,null,null,null,null,null,null,null,null,null,null,null,null,null,"□","鳩山町",false,"鳩山町","",null,null,null,null,null,"",null,null,null,null,null,"",null,null,null,null,null,"",null,null,null,null,null,""]
[null,null,null,null,null,null,null,null,null,null,null,null,null,null,null,null,null,null,null,null,null,null,null,null,null,null,null,null,null,null,null,null,null,null,null,null,null,null,null,null,null,null,null,null,null,null,null,null,null,null,null,null,null,null,null,null,null,null,null,null,null,null,null,null,null,null,null,null,null,null,null,null,null,null,null,null,null,null,null,null,null,"□","ときがわ町",false,"ときがわ町","",null,null,null,null,null,"",null,null,null,null,null,"",null,null,null,null,null,"",null,null,null,null,null,""]
[null,null,null,null,null,null,null,null,null,null,null,null,null,null,null,null,null,null,null,null,null,null,null,null,null,null,null,null,null,null,null,null,null,null,null,null,null,null,null,null,null,null,null,null,null,null,null,null,null,null,null,null,null,null,null,null,null,null,null,null,null,null,null,null,null,null,null,null,null,null,null,null,null,null,null,null,null,null,null,null,null,"□","東秩父村",false,"東秩父村","",null,null,null,null,null,"",null,null,null,null,null,"",null,null,null,null,null,"",null,null,null,null,null,""]
[41,null,null,null,null,null,null,null,null,null,null,null,null,null,null,null,null,null,"□","配送",{"$f":"IF(S585=\"☑\",TRUE)","v":false},{"$f":"IF(U585,T585,\"\")","v":""},"□","弁当配達",{"$f":"IF(W585=\"☑\",TRUE)","v":false},{"$f":"IF(Y585,X585,\"\")","v":""},"□","理容・美容（送迎）",{"$f":"IF(AA585=\"☑\",TRUE)","v":false},{"$f":"IF(AC585,AB585,\"\")","v":""},"□","家事代行・掃除・片付け",{"$f":"IF(AE585=\"☑\",TRUE)","v":false},{"$f":"IF(AG585,AF585,\"\")","v":""},"□","フィットネス・ジム（運動）",{"$f":"IF(AI585=\"☑\",TRUE)","v":false},{"$f":"IF(AK585,AJ585,\"\")","v":""},"□","車イス対応（バリアフリー）",{"$f":"IF(AM585=\"☑\",TRUE)","v":false},{"$f":"IF(AO585,AN585,\"\")","v":""},"□","講座・教室・イベント",{"$f":"IF(AQ585=\"☑\",TRUE)","v":false},{"$f":"IF(AS585,AR585,\"\")","v":""},"□","防犯・見守り",{"$f":"IF(AU585=\"☑\",TRUE)","v":false},{"$f":"IF(AW585,AV585,\"\")","v":""},{"$f":"_xlfn.TEXTJOIN(\"／\",TRUE,V585:V598,Z585:Z598,AD585:AD598,AH585:AH598,AL585:AL598,AP585:AP598,AT585:AT598,AX585:AX598)","v":""},"□","西区",{"$f":"IF(AZ585=\"☑\",TRUE)","v":false},{"$f":"\"さいたま市\"&BA585","v":"さいたま市西区"},{"$f":"IF(BB585,BC585,\"\")","v":""},{"$f":"_xlfn.TEXTJOIN(\"／\",TRUE,BD585:BD598)","v":""},"□","川口市",{"$f":"IF(BF585=\"☑\",TRUE)","v":false},{"$f":"BG585","v":"川口市"},{"$f":"IF(BH585,BI585,\"\")","v":""},{"$f":"_xludf.TEXTJOIN(\",\",TRUE,BJ585:BJ598)","v":""},"□","朝霞市",{"$f":"IF(BL585=\"☑\",TRUE)","v":false},{"$f":"BM585","v":"朝霞市"},{"$f":"IF(BN585,BO585,\"\")","v":""},{"$f":"_xlfn.TEXTJOIN(\"／\",TRUE,BP585:BP598)","v":""},"□","春日部市",{"$f":"IF(BR585=\"☑\",TRUE)","v":false},{"$f":"BS585","v":"春日部市"},{"$f":"IF(BT585,BU585,\"\")","v":""},{"$f":"_xlfn.TEXTJOIN(\"／\",TRUE,BV585:BV598)","v":""},"□","鴻巣市",{"$f":"IF(BX585=\"☑\",TRUE)","v":false},{"$f":"BY585","v":"鴻巣市"},{"$f":"IF(BZ585,CA585,\"\")","v":""},{"$f":"_xlfn.TEXTJOIN(\"／\",TRUE,CB585:CB598)","v":""},"□","川越市",{"$f":"IF(CD585=\"☑\",TRUE)","v":false},"川越市",{"$f":"IF(CF585,CG585,\"\")","v":""},{"$f":"_xlfn.TEXTJOIN(\"／\",TRUE,CH585:CH598)","v":""},"□","所沢市",{"$f":"IF(CJ585=\"☑\",TRUE)","v":false},{"$f":"CK585","v":"所沢市"},{"$f":"IF(CL585,CM585,\"\")","v":""},{"$f":"_xlfn.TEXTJOIN(\"／\",TRUE,CN585:CN598)","v":""},"□","行田市",{"$f":"IF(CP585=\"☑\",TRUE)","v":false},{"$f":"CQ585","v":"行田市"},{"$f":"IF(CR585,CS585,\"\")","v":""},{"$f":"_xludf.TEXTJOIN(\",\",TRUE,CT585:CT598)","v":""},"□","熊谷市",{"$f":"IF(CV585=\"☑\",TRUE)","v":false},{"$f":"CW585","v":"熊谷市"},{"$f":"IF(CX585,CY585,\"\")","v":""},{"$f":"_xlfn.TEXTJOIN(\"／\",TRUE,CZ585:CZ598)","v":""},"□","秩父市",{"$f":"IF(DB585=\"☑\",TRUE)","v":false},{"$f":"DC585","v":"秩父市"},{"$f":"IF(DD585,DE585,\"\")","v":""},{"$f":"_xlfn.TEXTJOIN(\"／\",TRUE,DF585:DF598)","v":""},{"$f":"_xlfn.TEXTJOIN(\"／\",TRUE,BE585,BK585,BQ585,BW585,CC585,CI585,CO585,CU585,DA585,DG585)","v":""},null,null,null,null,null,null,null,{"$f":"IF(#REF!=\"☑\",TRUE)","v":{"$error":"#REF!"}},{"$f":"IF(DP585,#REF!,\"\")","v":{"$error":"#REF!"}},{"$f":"_xludf.TEXTJOIN(\",\",TRUE,DQ585:DQ598)","v":{"$error":"#VALUE!"}}]
[null,null,null,null,null,null,null,null,null,null,null,null,null,null,null,null,null,null,"□","買物サポート",false,"","□","料理デリバリー（出前）",false,"","□","フィットネス・ジム（送迎）",{"$f":"IF(AA586=\"☑\",TRUE)","v":false},{"$f":"IF(AC586,AB586,\"\")","v":""},"□","出張料理",{"$f":"IF(AE586=\"☑\",TRUE)","v":false},{"$f":"IF(AG586,AF586,\"\")","v":""},"□","温泉・銭湯（たまり場）",false,"","□","多目的トイレ",false,"","□","習い事",{"$f":"IF(AQ586=\"☑\",TRUE)","v":false},{"$f":"IF(AS586,AR586,\"\")","v":""},"□","金融・保険",false,"",null,"□","北区",{"$f":"IF(AZ586=\"☑\",TRUE)","v":false},"さいたま市北区",{"$f":"IF(BB586,BC586,\"\")","v":""},null,"□","蕨市",{"$f":"IF(BF586=\"☑\",TRUE)","v":false},{"$f":"BG586","v":"蕨市"},{"$f":"IF(BH586,BI586,\"\")","v":""},null,"□","志木市",{"$f":"IF(BL586=\"☑\",TRUE)","v":false},"志木市",{"$f":"IF(BN586,BO586,\"\")","v":""},null,"□","草加市",{"$f":"IF(BR586=\"☑\",TRUE)","v":false},"草加市","",null,"□","上尾市",{"$f":"IF(BX586=\"☑\",TRUE)","v":false},{"$f":"BY586","v":"上尾市"},{"$f":"IF(BZ586,CA586,\"\")","v":""},null,"□","東松山市",{"$f":"IF(CD586=\"☑\",TRUE)","v":false},"東松山市",{"$f":"IF(CF586,CG586,\"\")","v":""},null,"□","飯能市",{"$f":"IF(CJ586=\"☑\",TRUE)","v":false},{"$f":"CK586","v":"飯能市"},{"$f":"IF(CL586,CM586,\"\")","v":""},null,"□","加須市",{"$f":"IF(CP586=\"☑\",TRUE)","v":false},"加須市",{"$f":"IF(CR586,CS586,\"\")","v":""},null,"□","本庄市",{"$f":"IF(CV586=\"☑\",TRUE)","v":false},"本庄市",{"$f":"IF(CX586,CY586,\"\")","v":""},null,"□","横瀬町",{"$f":"IF(DB586=\"☑\",TRUE)","v":false},{"$f":"DC586","v":"横瀬町"},{"$f":"IF(DD586,DE586,\"\")","v":""},null,null,null,null,null,null,null,null,null,null,{"$f":"IF(DP586,#REF!,\"\")","v":""}]
[null,null,null,null,null,null,null,null,null,null,null,null,null,null,null,null,null,null,"□","買物代行",false,"","□","食材宅配",false,"","□","温泉・銭湯（送迎）",false,"","□","屋外作業・力仕事",false,"","□","カフェ・ファーストフード",false,"","□","休憩スペース",false,"","□","映画館",false,"","□","住宅・リフォーム",false,"",null,"□","大宮区",false,"さいたま市大宮区","",null,"□","戸田市",{"$f":"IF(BF587=\"☑\",TRUE)","v":false},{"$f":"BG587","v":"戸田市"},"",null,"□","和光市",false,"和光市","",null,"□","越谷市",false,"越谷市","",null,"□","桶川市",{"$f":"IF(BX587=\"☑\",TRUE)","v":false},{"$f":"BY587","v":"桶川市"},"",null,"□","坂戸市",false,{"$f":"CE587","v":"坂戸市"},"",null,"□","狭山市",{"$f":"IF(CJ587=\"☑\",TRUE)","v":false},{"$f":"CK587","v":"狭山市"},"",null,"□","羽生市",false,"羽生市","",null,"□","深谷市",false,"深谷市","",null,"□","皆野町",{"$f":"IF(DB587=\"☑\",TRUE)","v":false},{"$f":"DC587","v":"皆野町"},"",null,null,null,null,null,null,null,null,null,{"$f":"IF(#REF!=\"☑\",TRUE)","v":{"$error":"#REF!"}},{"$f":"IF(DP587,#REF!,\"\")","v":{"$error":"#REF!"}}]
[null,null,null,null,null,null,null,null,null,null,null,null,null,null,null,null,null,null,"□","移動販売",false,"","□","日用品配達",false,"","□","整体・マッサージ（送迎）",false,"","□","整体・マッサージ（出張）",false,"","□","飲食店",false,"","□","駐車場",false,"","□","カラオケ店",false,"","□","パソコン・スマートフォン",false,"",null,"□","見沼区",false,"さいたま市見沼区","",null,null,null,null,null,"",null,"□","新座市",false,"新座市","",null,"□","八潮市",false,"八潮市","",null,"□","北本市",{"$f":"IF(BX588=\"☑\",TRUE)","v":false},{"$f":"BY588","v":"北本市"},"",null,"□","鶴ヶ島市",false,"鶴ヶ島市","",null,"□","入間市",{"$f":"IF(CJ588=\"☑\",TRUE)","v":false},{"$f":"CK588","v":"入間市"},"",null,"□","久喜市",false,"久喜市","",null,"□","美里町",false,"美里町","",null,"□","長瀞町",{"$f":"IF(DB588=\"☑\",TRUE)","v":false},{"$f":"DC588","v":"長瀞町"},""]
[null,null,null,null,null,null,null,null,null,null,null,null,null,null,null,null,null,null,"□","割引サービス",false,"","□","薬・介護用品配達",false,"","□","乗り合いサービス",false,"","□","理容・美容（出張）",false,"","□","イートインスペース",false,"","□","貸しスペース",false,"","□","麻雀・将棋・囲碁",false,"","□","認知症サポート企業",false,"",null,"□","中央区",false,"さいたま市中央区","",null,null,null,null,null,"",null,"□","富士見市",false,"富士見市","",null,"□","三郷市",false,"三郷市","",null,"□","伊奈町",{"$f":"IF(BX589=\"☑\",TRUE)","v":false},{"$f":"BY589","v":"伊奈町"},"",null,"□","毛呂山町",false,"毛呂山町","",null,"□","日高市",{"$f":"IF(CJ589=\"☑\",TRUE)","v":false},{"$f":"CK589","v":"日高市"},"",null,"□","蓮田市",false,"蓮田市","",null,"□","神川町",false,"神川町","",null,"□","小鹿野町",{"$f":"IF(DB589=\"☑\",TRUE)","v":false},{"$f":"DC589","v":"小鹿野町"},"",null,null,null,null,null,null,null,null,null,{"$f":"IF(#REF!=\"☑\",TRUE)","v":{"$error":"#REF!"}},{"$f":"IF(DP589,#REF!,\"\")","v":{"$error":"#REF!"}}]
[null,null,null,null,null,null,null,null,null,null,null,null,null,null,null,null,null,null,"□","その他（買物）",false,"","□","クリーニング",false,{"$f":"IF(Y590,X590,\"\")","v":""},"□","個別移送サービス",false,"","□","ペット",false,"","□","その他（運動・たまり場）",false,"","□","その他（設備・施設・場所貸し）",false,"","□","ゲームセンター",false,"","□","理容・美容",false,"",null,"□","桜区",false,"さいたま市桜区","",null,null,null,null,null,"",null,"□","ふじみ野市",false,"ふじみ野市","",null,"□","吉川市",false,"吉川市","",null,null,null,null,null,"",null,"□","越生町",false,"越生町","",null,null,null,null,null,"",null,"□","幸手市",false,"幸手市","",null,"□","上里町",false,"上里町","",null,null,null,null,null,"",null,null,null,null,null,null,null,null,null,{"$f":"IF(#REF!=\"☑\",TRUE)","v":{"$error":"#REF!"}},{"$f":"IF(DP590,#REF!,\"\")","v":{"$error":"#REF!"}}]
[null,null,null,null,null,null,null,null,null,null,null,null,null,null,null,null,null,null,null,null,null,null,"□","その他（宅配・デリバリー）",false,{"$f":"IF(Y591,X591,\"\")","v":""},"□","交通機関サービス",false,"","□","その他（出張サービス）",false,"",null,null,null,null,null,null,null,null,"□","旅行・レジャー",false,"","□","成年後見・相続",false,"",null,"□","浦和区",false,"さいたま市浦和区","",null,null,null,null,null,"",null,"□","三芳町",false,"三芳町","",null,"□","松伏町",false,"松伏町","",null,null,null,null,null,"",null,"□","滑川町",false,"滑川町","",null,null,null,null,null,"",null,"□","白岡市",false,"白岡市","",null,"□","寄居町",false,"寄居町","",null,null,null,null,null,""]
[null,null,null,null,null,null,null,null,null,null,null,null,null,null,null,null,null,null,null,null,null,null,null,null,null,null,"□","その他（送迎・移動支援）",false,"",null,null,null,"",null,null,null,{"$f":"IF(AK592,AJ592,\"\")","v":""},null,null,null,{"$f":"IF(AO592,AN592,\"\")","v":""},"□","パソコン・スマホ教室",false,"","□","その他（生活サービス）",false,"",null,"□","南区",false,"さいたま市南区","",null,null,null,null,null,"",null,null,null,null,null,"",null,null,null,null,null,"",null,null,null,null,null,"",null,"□","嵐山町",false,"嵐山町","",null,null,null,null,null,"",null,"□","宮代町",false,"宮代町","",null,null,null,null,null,"",null,null,null,null,null,""]
[null,null,null,null,null,null,null,null,null,null,null,null,null,null,null,null,null,null,null,null,null,null,null,null,null,null,null,null,null,null,null,null,null,null,null,null,null,null,null,null,null,null,"□","その他（学び・趣味）",false,"",null,null,null,null,null,"□","緑区",false,"さいたま市緑区","",null,null,null,null,null,"",null,null,null,null,null,"",null,null,null,null,null,"",null,null,null,null,null,"",null,"□","小川町",false,"小川町","",null,null,null,null,null,"",null,"□","杉戸町",false,"杉戸町","",null,null,null,null,null,"",null,null,null,null,null,""]
[null,null,null,null,null,null,null,null,null,null,null,null,null,null,null,null,null,null,null,null,null,null,null,null,null,null,null,null,null,null,null,null,null,null,null,null,null,null,null,null,null,null,null,null,null,null,null,null,null,null,null,"□","岩槻区",{"$f":"IF(AZ594=\"☑\",TRUE)","v":false},"さいたま市岩槻区","",null,null,null,null,null,"",null,null,null,null,null,"",null,null,null,null,null,"",null,null,null,null,null,"",null,"□","川島町",false,"川島町","",null,null,null,null,null,"",null,null,null,null,null,"",null,null,null,null,null,"",null,null,null,null,null,""]
[null,null,null,null,null,null,null,null,null,null,null,null,null,null,null,null,null,null,null,null,null,null,null,null,null,null,null,null,null,null,null,null,null,null,null,null,null,null,null,null,null,null,null,null,null,null,null,null,null,null,null,null,null,null,null,null,null,null,null,null,null,null,null,null,null,null,null,null,null,null,null,null,null,null,null,null,null,null,null,null,null,"□","吉見町",false,"吉見町","",null,null,null,null,null,"",null,null,null,null,null,"",null,null,null,null,null,"",null,null,null,null,null,""]
[null,null,null,null,null,null,null,null,null,null,null,null,null,null,null,null,null,null,null,null,null,null,null,null,null,null,null,null,null,null,null,null,null,null,null,null,null,null,null,null,null,null,null,null,null,null,null,null,null,null,null,null,null,null,null,null,null,null,null,null,null,null,null,null,null,null,null,null,null,null,null,null,null,null,null,null,null,null,null,null,null,"□","鳩山町",false,"鳩山町","",null,null,null,null,null,"",null,null,null,null,null,"",null,null,null,null,null,"",null,null,null,null,null,""]
[null,null,null,null,null,null,null,null,null,null,null,null,null,null,null,null,null,null,null,null,null,null,null,null,null,null,null,null,null,null,null,null,null,null,null,null,null,null,null,null,null,null,null,null,null,null,null,null,null,null,null,null,null,null,null,null,null,null,null,null,null,null,null,null,null,null,null,null,null,null,null,null,null,null,null,null,null,null,null,null,null,"□","ときがわ町",false,"ときがわ町","",null,null,null,null,null,"",null,null,null,null,null,"",null,null,null,null,null,"",null,null,null,null,null,""]
[null,null,null,null,null,null,null,null,null,null,null,null,null,null,null,null,null,null,null,null,null,null,null,null,null,null,null,null,null,null,null,null,null,null,null,null,null,null,null,null,null,null,null,null,null,null,null,null,null,null,null,null,null,null,null,null,null,null,null,null,null,null,null,null,null,null,null,null,null,null,null,null,null,null,null,null,null,null,null,null,null,"□","東秩父村",false,"東秩父村","",null,null,null,null,null,"",null,null,null,null,null,"",null,null,null,null,null,"",null,null,null,null,null,""]
[42,null,null,null,null,null,null,null,null,null,null,null,null,null,null,null,null,null,"□","配送",{"$f":"IF(S599=\"☑\",TRUE)","v":false},{"$f":"IF(U599,T599,\"\")","v":""},"□","弁当配達",{"$f":"IF(W599=\"☑\",TRUE)","v":false},{"$f":"IF(Y599,X599,\"\")","v":""},"□","理容・美容（送迎）",{"$f":"IF(AA599=\"☑\",TRUE)","v":false},{"$f":"IF(AC599,AB599,\"\")","v":""},"□","家事代行・掃除・片付け",{"$f":"IF(AE599=\"☑\",TRUE)","v":false},{"$f":"IF(AG599,AF599,\"\")","v":""},"□","フィットネス・ジム（運動）",{"$f":"IF(AI599=\"☑\",TRUE)","v":false},{"$f":"IF(AK599,AJ599,\"\")","v":""},"□","車イス対応（バリアフリー）",{"$f":"IF(AM599=\"☑\",TRUE)","v":false},{"$f":"IF(AO599,AN599,\"\")","v":""},"□","講座・教室・イベント",{"$f":"IF(AQ599=\"☑\",TRUE)","v":false},{"$f":"IF(AS599,AR599,\"\")","v":""},"□","防犯・見守り",{"$f":"IF(AU599=\"☑\",TRUE)","v":false},{"$f":"IF(AW599,AV599,\"\")","v":""},{"$f":"_xlfn.TEXTJOIN(\"／\",TRUE,V599:V612,Z599:Z612,AD599:AD612,AH599:AH612,AL599:AL612,AP599:AP612,AT599:AT612,AX599:AX612)","v":""},"□","西区",{"$f":"IF(AZ599=\"☑\",TRUE)","v":false},{"$f":"\"さいたま市\"&BA599","v":"さいたま市西区"},{"$f":"IF(BB599,BC599,\"\")","v":""},{"$f":"_xlfn.TEXTJOIN(\"／\",TRUE,BD599:BD612)","v":""},"□","川口市",{"$f":"IF(BF599=\"☑\",TRUE)","v":false},{"$f":"BG599","v":"川口市"},{"$f":"IF(BH599,BI599,\"\")","v":""},{"$f":"_xludf.TEXTJOIN(\",\",TRUE,BJ599:BJ612)","v":""},"□","朝霞市",{"$f":"IF(BL599=\"☑\",TRUE)","v":false},{"$f":"BM599","v":"朝霞市"},{"$f":"IF(BN599,BO599,\"\")","v":""},{"$f":"_xlfn.TEXTJOIN(\"／\",TRUE,BP599:BP612)","v":""},"□","春日部市",{"$f":"IF(BR599=\"☑\",TRUE)","v":false},{"$f":"BS599","v":"春日部市"},{"$f":"IF(BT599,BU599,\"\")","v":""},{"$f":"_xlfn.TEXTJOIN(\"／\",TRUE,BV599:BV612)","v":""},"□","鴻巣市",{"$f":"IF(BX599=\"☑\",TRUE)","v":false},{"$f":"BY599","v":"鴻巣市"},{"$f":"IF(BZ599,CA599,\"\")","v":""},{"$f":"_xlfn.TEXTJOIN(\"／\",TRUE,CB599:CB612)","v":""},"□","川越市",{"$f":"IF(CD599=\"☑\",TRUE)","v":false},"川越市",{"$f":"IF(CF599,CG599,\"\")","v":""},{"$f":"_xlfn.TEXTJOIN(\"／\",TRUE,CH599:CH612)","v":""},"□","所沢市",{"$f":"IF(CJ599=\"☑\",TRUE)","v":false},{"$f":"CK599","v":"所沢市"},{"$f":"IF(CL599,CM599,\"\")","v":""},{"$f":"_xlfn.TEXTJOIN(\"／\",TRUE,CN599:CN612)","v":""},"□","行田市",{"$f":"IF(CP599=\"☑\",TRUE)","v":false},{"$f":"CQ599","v":"行田市"},{"$f":"IF(CR599,CS599,\"\")","v":""},{"$f":"_xludf.TEXTJOIN(\",\",TRUE,CT599:CT612)","v":""},"□","熊谷市",{"$f":"IF(CV599=\"☑\",TRUE)","v":false},{"$f":"CW599","v":"熊谷市"},{"$f":"IF(CX599,CY599,\"\")","v":""},{"$f":"_xlfn.TEXTJOIN(\"／\",TRUE,CZ599:CZ612)","v":""},"□","秩父市",{"$f":"IF(DB599=\"☑\",TRUE)","v":false},{"$f":"DC599","v":"秩父市"},{"$f":"IF(DD599,DE599,\"\")","v":""},{"$f":"_xlfn.TEXTJOIN(\"／\",TRUE,DF599:DF612)","v":""},{"$f":"_xlfn.TEXTJOIN(\"／\",TRUE,BE599,BK599,BQ599,BW599,CC599,CI599,CO599,CU599,DA599,DG599)","v":""},null,null,null,null,null,null,null,{"$f":"IF(#REF!=\"☑\",TRUE)","v":{"$error":"#REF!"}},{"$f":"IF(DP599,#REF!,\"\")","v":{"$error":"#REF!"}},{"$f":"_xludf.TEXTJOIN(\",\",TRUE,DQ599:DQ612)","v":{"$error":"#VALUE!"}}]
[null,null,null,null,null,null,null,null,null,null,null,null,null,null,null,null,null,null,"□","買物サポート",false,"","□","料理デリバリー（出前）",false,"","□","フィットネス・ジム（送迎）",{"$f":"IF(AA600=\"☑\",TRUE)","v":false},{"$f":"IF(AC600,AB600,\"\")","v":""},"□","出張料理",{"$f":"IF(AE600=\"☑\",TRUE)","v":false},{"$f":"IF(AG600,AF600,\"\")","v":""},"□","温泉・銭湯（たまり場）",false,"","□","多目的トイレ",false,"","□","習い事",{"$f":"IF(AQ600=\"☑\",TRUE)","v":false},{"$f":"IF(AS600,AR600,\"\")","v":""},"□","金融・保険",false,"",null,"□","北区",{"$f":"IF(AZ600=\"☑\",TRUE)","v":false},"さいたま市北区",{"$f":"IF(BB600,BC600,\"\")","v":""},null,"□","蕨市",{"$f":"IF(BF600=\"☑\",TRUE)","v":false},{"$f":"BG600","v":"蕨市"},{"$f":"IF(BH600,BI600,\"\")","v":""},null,"□","志木市",{"$f":"IF(BL600=\"☑\",TRUE)","v":false},"志木市",{"$f":"IF(BN600,BO600,\"\")","v":""},null,"□","草加市",{"$f":"IF(BR600=\"☑\",TRUE)","v":false},"草加市","",null,"□","上尾市",{"$f":"IF(BX600=\"☑\",TRUE)","v":false},{"$f":"BY600","v":"上尾市"},{"$f":"IF(BZ600,CA600,\"\")","v":""},null,"□","東松山市",{"$f":"IF(CD600=\"☑\",TRUE)","v":false},"東松山市",{"$f":"IF(CF600,CG600,\"\")","v":""},null,"□","飯能市",{"$f":"IF(CJ600=\"☑\",TRUE)","v":false},{"$f":"CK600","v":"飯能市"},{"$f":"IF(CL600,CM600,\"\")","v":""},null,"□","加須市",{"$f":"IF(CP600=\"☑\",TRUE)","v":false},"加須市",{"$f":"IF(CR600,CS600,\"\")","v":""},null,"□","本庄市",{"$f":"IF(CV600=\"☑\",TRUE)","v":false},"本庄市",{"$f":"IF(CX600,CY600,\"\")","v":""},null,"□","横瀬町",{"$f":"IF(DB600=\"☑\",TRUE)","v":false},{"$f":"DC600","v":"横瀬町"},{"$f":"IF(DD600,DE600,\"\")","v":""},null,null,null,null,null,null,null,null,null,null,{"$f":"IF(DP600,#REF!,\"\")","v":""}]
[null,null,null,null,null,null,null,null,null,null,null,null,null,null,null,null,null,null,"□","買物代行",false,"","□","食材宅配",false,"","□","温泉・銭湯（送迎）",false,"","□","屋外作業・力仕事",false,"","□","カフェ・ファーストフード",false,"","□","休憩スペース",false,"","□","映画館",false,"","□","住宅・リフォーム",false,"",null,"□","大宮区",false,"さいたま市大宮区","",null,"□","戸田市",{"$f":"IF(BF601=\"☑\",TRUE)","v":false},{"$f":"BG601","v":"戸田市"},"",null,"□","和光市",false,"和光市","",null,"□","越谷市",false,"越谷市","",null,"□","桶川市",{"$f":"IF(BX601=\"☑\",TRUE)","v":false},{"$f":"BY601","v":"桶川市"},"",null,"□","坂戸市",false,"坂戸市","",null,"□","狭山市",{"$f":"IF(CJ601=\"☑\",TRUE)","v":false},{"$f":"CK601","v":"狭山市"},"",null,"□","羽生市",false,"羽生市","",null,"□","深谷市",false,"深谷市","",null,"□","皆野町",{"$f":"IF(DB601=\"☑\",TRUE)","v":false},{"$f":"DC601","v":"皆野町"},"",null,null,null,null,null,null,null,null,null,{"$f":"IF(#REF!=\"☑\",TRUE)","v":{"$error":"#REF!"}},{"$f":"IF(DP601,#REF!,\"\")","v":{"$error":"#REF!"}}]
[null,null,null,null,null,null,null,null,null,null,null,null,null,null,null,null,null,null,"□","移動販売",false,"","□","日用品配達",false,"","□","整体・マッサージ（送迎）",false,"","□","整体・マッサージ（出張）",false,"","□","飲食店",false,"","□","駐車場",false,"","□","カラオケ店",false,"","□","パソコン・スマートフォン",false,"",null,"□","見沼区",false,"さいたま市見沼区","",null,null,null,null,null,"",null,"□","新座市",false,"新座市","",null,"□","八潮市",false,"八潮市","",null,"□","北本市",{"$f":"IF(BX602=\"☑\",TRUE)","v":false},{"$f":"BY602","v":"北本市"},"",null,"□","鶴ヶ島市",false,"鶴ヶ島市","",null,"□","入間市",{"$f":"IF(CJ602=\"☑\",TRUE)","v":false},{"$f":"CK602","v":"入間市"},"",null,"□","久喜市",false,"久喜市","",null,"□","美里町",false,"美里町","",null,"□","長瀞町",{"$f":"IF(DB602=\"☑\",TRUE)","v":false},{"$f":"DC602","v":"長瀞町"},""]
[null,null,null,null,null,null,null,null,null,null,null,null,null,null,null,null,null,null,"□","割引サービス",false,"","□","薬・介護用品配達",false,"","□","乗り合いサービス",false,"","□","理容・美容（出張）",false,"","□","イートインスペース",false,"","□","貸しスペース",false,"","□","麻雀・将棋・囲碁",false,"","□","認知症サポート企業",false,"",null,"□","中央区",false,"さいたま市中央区","",null,null,null,null,null,"",null,"□","富士見市",false,"富士見市","",null,"□","三郷市",false,"三郷市","",null,"□","伊奈町",{"$f":"IF(BX603=\"☑\",TRUE)","v":false},{"$f":"BY603","v":"伊奈町"},"",null,"□","毛呂山町",false,"毛呂山町","",null,"□","日高市",{"$f":"IF(CJ603=\"☑\",TRUE)","v":false},{"$f":"CK603","v":"日高市"},"",null,"□","蓮田市",false,"蓮田市","",null,"□","神川町",false,"神川町","",null,"□","小鹿野町",{"$f":"IF(DB603=\"☑\",TRUE)","v":false},{"$f":"DC603","v":"小鹿野町"},"",null,null,null,null,null,null,null,null,null,{"$f":"IF(#REF!=\"☑\",TRUE)","v":{"$error":"#REF!"}},{"$f":"IF(DP603,#REF!,\"\")","v":{"$error":"#REF!"}}]
[null,null,null,null,null,null,null,null,null,null,null,null,null,null,null,null,null,null,"□","その他（買物）",false,"","□","クリーニング",false,{"$f":"IF(Y604,X604,\"\")","v":""},"□","個別移送サービス",false,"","□","ペット",false,"","□","その他（運動・たまり場）",false,"","□","その他（設備・施設・場所貸し）",false,"","□","ゲームセンター",false,"","□","理容・美容",false,"",null,"□","桜区",false,"さいたま市桜区","",null,null,null,null,null,"",null,"□","ふじみ野市",false,"ふじみ野市","",null,"□","吉川市",false,"吉川市","",null,null,null,null,null,"",null,"□","越生町",false,"越生町","",null,null,null,null,null,"",null,"□","幸手市",false,"幸手市","",null,"□","上里町",false,"上里町","",null,null,null,null,null,"",null,null,null,null,null,null,null,null,null,{"$f":"IF(#REF!=\"☑\",TRUE)","v":{"$error":"#REF!"}},{"$f":"IF(DP604,#REF!,\"\")","v":{"$error":"#REF!"}}]
[null,null,null,null,null,null,null,null,null,null,null,null,null,null,null,null,null,null,null,null,null,null,"□","その他（宅配・デリバリー）",false,{"$f":"IF(Y605,X605,\"\")","v":""},"□","交通機関サービス",false,"","□","その他（出張サービス）",false,"",null,null,null,null,null,null,null,null,"□","旅行・レジャー",false,"","□","成年後見・相続",false,"",null,"□","浦和区",false,"さいたま市浦和区","",null,null,null,null,null,"",null,"□","三芳町",false,"三芳町","",null,"□","松伏町",false,"松伏町","",null,null,null,null,null,"",null,"□","滑川町",false,"滑川町","",null,null,null,null,null,"",null,"□","白岡市",false,"白岡市","",null,"□","寄居町",false,"寄居町","",null,null,null,null,null,""]
[null,null,null,null,null,null,null,null,null,null,null,null,null,null,null,null,null,null,null,null,null,null,null,null,null,null,"□","その他（送迎・移動支援）",false,"",null,null,null,"",null,null,null,{"$f":"IF(AK606,AJ606,\"\")","v":""},null,null,null,{"$f":"IF(AO606,AN606,\"\")","v":""},"□","パソコン・スマホ教室",false,"","□","その他（生活サービス）",false,"",null,"□","南区",false,"さいたま市南区","",null,null,null,null,null,"",null,null,null,null,null,"",null,null,null,null,null,"",null,null,null,null,null,"",null,"□","嵐山町",false,"嵐山町","",null,null,null,null,null,"",null,"□","宮代町",false,"宮代町","",null,null,null,null,null,"",null,null,null,null,null,""]
[null,null,null,null,null,null,null,null,null,null,null,null,null,null,null,null,null,null,null,null,null,null,null,null,null,null,null,null,null,null,null,null,null,null,null,null,null,null,null,null,null,null,"□","その他（学び・趣味）",false,"",null,null,null,null,null,"□","緑区",false,"さいたま市緑区","",null,null,null,null,null,"",null,null,null,null,null,"",null,null,null,null,null,"",null,null,null,null,null,"",null,"□","小川町",false,"小川町","",null,null,null,null,null,"",null,"□","杉戸町",false,"杉戸町","",null,null,null,null,null,"",null,null,null,null,null,""]
[null,null,null,null,null,null,null,null,null,null,null,null,null,null,null,null,null,null,null,null,null,null,null,null,null,null,null,null,null,null,null,null,null,null,null,null,null,null,null,null,null,null,null,null,null,null,null,null,null,null,null,"□","岩槻区",{"$f":"IF(AZ608=\"☑\",TRUE)","v":false},"さいたま市岩槻区","",null,null,null,null,null,"",null,null,null,null,null,"",null,null,null,null,null,"",null,null,null,null,null,"",null,"□","川島町",false,"川島町","",null,null,null,null,null,"",null,null,null,null,null,"",null,null,null,null,null,"",null,null,null,null,null,""]
[null,null,null,null,null,null,null,null,null,null,null,null,null,null,null,null,null,null,null,null,null,null,null,null,null,null,null,null,null,null,null,null,null,null,null,null,null,null,null,null,null,null,null,null,null,null,null,null,null,null,null,null,null,null,null,null,null,null,null,null,null,null,null,null,null,null,null,null,null,null,null,null,null,null,null,null,null,null,null,null,null,"□","吉見町",false,"吉見町","",null,null,null,null,null,"",null,null,null,null,null,"",null,null,null,null,null,"",null,null,null,null,null,""]
[null,null,null,null,null,null,null,null,null,null,null,null,null,null,null,null,null,null,null,null,null,null,null,null,null,null,null,null,null,null,null,null,null,null,null,null,null,null,null,null,null,null,null,null,null,null,null,null,null,null,null,null,null,null,null,null,null,null,null,null,null,null,null,null,null,null,null,null,null,null,null,null,null,null,null,null,null,null,null,null,null,"□","鳩山町",false,"鳩山町","",null,null,null,null,null,"",null,null,null,null,null,"",null,null,null,null,null,"",null,null,null,null,null,""]
[null,null,null,null,null,null,null,null,null,null,null,null,null,null,null,null,null,null,null,null,null,null,null,null,null,null,null,null,null,null,null,null,null,null,null,null,null,null,null,null,null,null,null,null,null,null,null,null,null,null,null,null,null,null,null,null,null,null,null,null,null,null,null,null,null,null,null,null,null,null,null,null,null,null,null,null,null,null,null,null,null,"□","ときがわ町",false,"ときがわ町","",null,null,null,null,null,"",null,null,null,null,null,"",null,null,null,null,null,"",null,null,null,null,null,""]
[null,null,null,null,null,null,null,null,null,null,null,null,null,null,null,null,null,null,null,null,null,null,null,null,null,null,null,null,null,null,null,null,null,null,null,null,null,null,null,null,null,null,null,null,null,null,null,null,null,null,null,null,null,null,null,null,null,null,null,null,null,null,null,null,null,null,null,null,null,null,null,null,null,null,null,null,null,null,null,null,null,"□","東秩父村",false,"東秩父村","",null,null,null,null,null,"",null,null,null,null,null,"",null,null,null,null,null,"",null,null,null,null,null,""]
[43,null,null,null,null,null,null,null,null,null,null,null,null,null,null,null,null,null,"□","配送",{"$f":"IF(S613=\"☑\",TRUE)","v":false},{"$f":"IF(U613,T613,\"\")","v":""},"□","弁当配達",{"$f":"IF(W613=\"☑\",TRUE)","v":false},{"$f":"IF(Y613,X613,\"\")","v":""},"□","理容・美容（送迎）",{"$f":"IF(AA613=\"☑\",TRUE)","v":false},{"$f":"IF(AC613,AB613,\"\")","v":""},"□","家事代行・掃除・片付け",{"$f":"IF(AE613=\"☑\",TRUE)","v":false},{"$f":"IF(AG613,AF613,\"\")","v":""},"□","フィットネス・ジム（運動）",{"$f":"IF(AI613=\"☑\",TRUE)","v":false},{"$f":"IF(AK613,AJ613,\"\")","v":""},"□","車イス対応（バリアフリー）",{"$f":"IF(AM613=\"☑\",TRUE)","v":false},{"$f":"IF(AO613,AN613,\"\")","v":""},"□","講座・教室・イベント",{"$f":"IF(AQ613=\"☑\",TRUE)","v":false},{"$f":"IF(AS613,AR613,\"\")","v":""},"□","防犯・見守り",{"$f":"IF(AU613=\"☑\",TRUE)","v":false},{"$f":"IF(AW613,AV613,\"\")","v":""},{"$f":"_xlfn.TEXTJOIN(\"／\",TRUE,V613:V626,Z613:Z626,AD613:AD626,AH613:AH626,AL613:AL626,AP613:AP626,AT613:AT626,AX613:AX626)","v":""},"□","西区",{"$f":"IF(AZ613=\"☑\",TRUE)","v":false},{"$f":"\"さいたま市\"&BA613","v":"さいたま市西区"},{"$f":"IF(BB613,BC613,\"\")","v":""},{"$f":"_xlfn.TEXTJOIN(\"／\",TRUE,BD613:BD626)","v":""},"□","川口市",{"$f":"IF(BF613=\"☑\",TRUE)","v":false},{"$f":"BG613","v":"川口市"},{"$f":"IF(BH613,BI613,\"\")","v":""},{"$f":"_xludf.TEXTJOIN(\",\",TRUE,BJ613:BJ626)","v":""},"□","朝霞市",{"$f":"IF(BL613=\"☑\",TRUE)","v":false},{"$f":"BM613","v":"朝霞市"},{"$f":"IF(BN613,BO613,\"\")","v":""},{"$f":"_xlfn.TEXTJOIN(\"／\",TRUE,BP613:BP626)","v":""},"□","春日部市",{"$f":"IF(BR613=\"☑\",TRUE)","v":false},{"$f":"BS613","v":"春日部市"},{"$f":"IF(BT613,BU613,\"\")","v":""},{"$f":"_xlfn.TEXTJOIN(\"／\",TRUE,BV613:BV626)","v":""},"□","鴻巣市",{"$f":"IF(BX613=\"☑\",TRUE)","v":false},{"$f":"BY613","v":"鴻巣市"},{"$f":"IF(BZ613,CA613,\"\")","v":""},{"$f":"_xlfn.TEXTJOIN(\"／\",TRUE,CB613:CB626)","v":""},"□","川越市",{"$f":"IF(CD613=\"☑\",TRUE)","v":false},"川越市",{"$f":"IF(CF613,CG613,\"\")","v":""},{"$f":"_xlfn.TEXTJOIN(\"／\",TRUE,CH613:CH626)","v":""},"□","所沢市",{"$f":"IF(CJ613=\"☑\",TRUE)","v":false},{"$f":"CK613","v":"所沢市"},{"$f":"IF(CL613,CM613,\"\")","v":""},{"$f":"_xlfn.TEXTJOIN(\"／\",TRUE,CN613:CN626)","v":""},"□","行田市",{"$f":"IF(CP613=\"☑\",TRUE)","v":false},{"$f":"CQ613","v":"行田市"},{"$f":"IF(CR613,CS613,\"\")","v":""},{"$f":"_xludf.TEXTJOIN(\",\",TRUE,CT613:CT626)","v":""},"□","熊谷市",{"$f":"IF(CV613=\"☑\",TRUE)","v":false},{"$f":"CW613","v":"熊谷市"},{"$f":"IF(CX613,CY613,\"\")","v":""},{"$f":"_xlfn.TEXTJOIN(\"／\",TRUE,CZ613:CZ626)","v":""},"□","秩父市",{"$f":"IF(DB613=\"☑\",TRUE)","v":false},{"$f":"DC613","v":"秩父市"},{"$f":"IF(DD613,DE613,\"\")","v":""},{"$f":"_xlfn.TEXTJOIN(\"／\",TRUE,DF613:DF626)","v":""},{"$f":"_xlfn.TEXTJOIN(\"／\",TRUE,BE613,BK613,BQ613,BW613,CC613,CI613,CO613,CU613,DA613,DG613)","v":""},null,null,null,null,null,null,null,{"$f":"IF(#REF!=\"☑\",TRUE)","v":{"$error":"#REF!"}},{"$f":"IF(DP613,#REF!,\"\")","v":{"$error":"#REF!"}},{"$f":"_xludf.TEXTJOIN(\",\",TRUE,DQ613:DQ626)","v":{"$error":"#VALUE!"}}]
[null,null,null,null,null,null,null,null,null,null,null,null,null,null,null,null,null,null,"□","買物サポート",false,"","□","料理デリバリー（出前）",false,"","□","フィットネス・ジム（送迎）",{"$f":"IF(AA614=\"☑\",TRUE)","v":false},{"$f":"IF(AC614,AB614,\"\")","v":""},"□","出張料理",{"$f":"IF(AE614=\"☑\",TRUE)","v":false},{"$f":"IF(AG614,AF614,\"\")","v":""},"□","温泉・銭湯（たまり場）",false,"","□","多目的トイレ",false,"","□","習い事",{"$f":"IF(AQ614=\"☑\",TRUE)","v":false},{"$f":"IF(AS614,AR614,\"\")","v":""},"□","金融・保険",false,"",null,"□","北区",{"$f":"IF(AZ614=\"☑\",TRUE)","v":false},"さいたま市北区",{"$f":"IF(BB614,BC614,\"\")","v":""},null,"□","蕨市",{"$f":"IF(BF614=\"☑\",TRUE)","v":false},{"$f":"BG614","v":"蕨市"},{"$f":"IF(BH614,BI614,\"\")","v":""},null,"□","志木市",{"$f":"IF(BL614=\"☑\",TRUE)","v":false},"志木市",{"$f":"IF(BN614,BO614,\"\")","v":""},null,"□","草加市",{"$f":"IF(BR614=\"☑\",TRUE)","v":false},"草加市","",null,"□","上尾市",{"$f":"IF(BX614=\"☑\",TRUE)","v":false},{"$f":"BY614","v":"上尾市"},{"$f":"IF(BZ614,CA614,\"\")","v":""},null,"□","東松山市",{"$f":"IF(CD614=\"☑\",TRUE)","v":false},"東松山市",{"$f":"IF(CF614,CG614,\"\")","v":""},null,"□","飯能市",{"$f":"IF(CJ614=\"☑\",TRUE)","v":false},{"$f":"CK614","v":"飯能市"},{"$f":"IF(CL614,CM614,\"\")","v":""},null,"□","加須市",{"$f":"IF(CP614=\"☑\",TRUE)","v":false},"加須市",{"$f":"IF(CR614,CS614,\"\")","v":""},null,"□","本庄市",{"$f":"IF(CV614=\"☑\",TRUE)","v":false},"本庄市",{"$f":"IF(CX614,CY614,\"\")","v":""},null,"□","横瀬町",{"$f":"IF(DB614=\"☑\",TRUE)","v":false},{"$f":"DC614","v":"横瀬町"},{"$f":"IF(DD614,DE614,\"\")","v":""},null,null,null,null,null,null,null,null,null,null,{"$f":"IF(DP614,#REF!,\"\")","v":""}]
[null,null,null,null,null,null,null,null,null,null,null,null,null,null,null,null,null,null,"□","買物代行",false,"","□","食材宅配",false,"","□","温泉・銭湯（送迎）",false,"","□","屋外作業・力仕事",false,"","□","カフェ・ファーストフード",false,"","□","休憩スペース",false,"","□","映画館",false,"","□","住宅・リフォーム",false,"",null,"□","大宮区",false,"さいたま市大宮区","",null,"□","戸田市",{"$f":"IF(BF615=\"☑\",TRUE)","v":false},{"$f":"BG615","v":"戸田市"},"",null,"□","和光市",false,"和光市","",null,"□","越谷市",false,"越谷市","",null,"□","桶川市",{"$f":"IF(BX615=\"☑\",TRUE)","v":false},{"$f":"BY615","v":"桶川市"},"",null,"□","坂戸市",false,"坂戸市","",null,"□","狭山市",{"$f":"IF(CJ615=\"☑\",TRUE)","v":false},{"$f":"CK615","v":"狭山市"},"",null,"□","羽生市",false,"羽生市","",null,"□","深谷市",false,"深谷市","",null,"□","皆野町",{"$f":"IF(DB615=\"☑\",TRUE)","v":false},{"$f":"DC615","v":"皆野町"},"",null,null,null,null,null,null,null,null,null,{"$f":"IF(#REF!=\"☑\",TRUE)","v":{"$error":"#REF!"}},{"$f":"IF(DP615,#REF!,\"\")","v":{"$error":"#REF!"}}]
[null,null,null,null,null,null,null,null,null,null,null,null,null,null,null,null,null,null,"□","移動販売",false,"","□","日用品配達",false,"","□","整体・マッサージ（送迎）",false,"","□","整体・マッサージ（出張）",false,"","□","飲食店",false,"","□","駐車場",false,"","□","カラオケ店",false,"","□","パソコン・スマートフォン",false,"",null,"□","見沼区",false,"さいたま市見沼区","",null,null,null,null,null,"",null,"□","新座市",false,"新座市","",null,"□","八潮市",false,"八潮市","",null,"□","北本市",{"$f":"IF(BX616=\"☑\",TRUE)","v":false},{"$f":"BY616","v":"北本市"},"",null,"□","鶴ヶ島市",false,"鶴ヶ島市","",null,"□","入間市",{"$f":"IF(CJ616=\"☑\",TRUE)","v":false},{"$f":"CK616","v":"入間市"},"",null,"□","久喜市",false,"久喜市","",null,"□","美里町",false,"美里町","",null,"□","長瀞町",{"$f":"IF(DB616=\"☑\",TRUE)","v":false},{"$f":"DC616","v":"長瀞町"},""]
[null,null,null,null,null,null,null,null,null,null,null,null,null,null,null,null,null,null,"□","割引サービス",false,"","□","薬・介護用品配達",false,"","□","乗り合いサービス",false,"","□","理容・美容（出張）",false,"","□","イートインスペース",false,"","□","貸しスペース",false,"","□","麻雀・将棋・囲碁",false,"","□","認知症サポート企業",false,"",null,"□","中央区",false,"さいたま市中央区","",null,null,null,null,null,"",null,"□","富士見市",false,"富士見市","",null,"□","三郷市",false,"三郷市","",null,"□","伊奈町",{"$f":"IF(BX617=\"☑\",TRUE)","v":false},{"$f":"BY617","v":"伊奈町"},"",null,"□","毛呂山町",false,"毛呂山町","",null,"□","日高市",{"$f":"IF(CJ617=\"☑\",TRUE)","v":false},{"$f":"CK617","v":"日高市"},"",null,"□","蓮田市",false,"蓮田市","",null,"□","神川町",false,"神川町","",null,"□","小鹿野町",{"$f":"IF(DB617=\"☑\",TRUE)","v":false},{"$f":"DC617","v":"小鹿野町"},"",null,null,null,null,null,null,null,null,null,{"$f":"IF(#REF!=\"☑\",TRUE)","v":{"$error":"#REF!"}},{"$f":"IF(DP617,#REF!,\"\")","v":{"$error":"#REF!"}}]
[null,null,null,null,null,null,null,null,null,null,null,null,null,null,null,null,null,null,"□","その他（買物）",false,"","□","クリーニング",false,{"$f":"IF(Y618,X618,\"\")","v":""},"□","個別移送サービス",false,"","□","ペット",false,"","□","その他（運動・たまり場）",false,"","□","その他（設備・施設・場所貸し）",false,"","□","ゲームセンター",false,"","□","理容・美容",false,"",null,"□","桜区",false,"さいたま市桜区","",null,null,null,null,null,"",null,"□","ふじみ野市",false,"ふじみ野市","",null,"□","吉川市",false,"吉川市","",null,null,null,null,null,"",null,"□","越生町",false,"越生町","",null,null,null,null,null,"",null,"□","幸手市",false,"幸手市","",null,"□","上里町",false,"上里町","",null,null,null,null,null,"",null,null,null,null,null,null,null,null,null,{"$f":"IF(#REF!=\"☑\",TRUE)","v":{"$error":"#REF!"}},{"$f":"IF(DP618,#REF!,\"\")","v":{"$error":"#REF!"}}]
[null,null,null,null,null,null,null,null,null,null,null,null,null,null,null,null,null,null,null,null,null,null,"□","その他（宅配・デリバリー）",false,{"$f":"IF(Y619,X619,\"\")","v":""},"□","交通機関サービス",false,"","□","その他（出張サービス）",false,"",null,null,null,null,null,null,null,null,"□","旅行・レジャー",false,"","□","成年後見・相続",false,"",null,"□","浦和区",false,"さいたま市浦和区","",null,null,null,null,null,"",null,"□","三芳町",false,"三芳町","",null,"□","松伏町",false,"松伏町","",null,null,null,null,null,"",null,"□","滑川町",false,"滑川町","",null,null,null,null,null,"",null,"□","白岡市",false,"白岡市","",null,"□","寄居町",false,"寄居町","",null,null,null,null,null,""]
[null,null,null,null,null,null,null,null,null,null,null,null,null,null,null,null,null,null,null,null,null,null,null,null,null,null,"□","その他（送迎・移動支援）",false,"",null,null,null,"",null,null,null,{"$f":"IF(AK620,AJ620,\"\")","v":""},null,null,null,{"$f":"IF(AO620,AN620,\"\")","v":""},"□","パソコン・スマホ教室",false,"","□","その他（生活サービス）",false,"",null,"□","南区",false,"さいたま市南区","",null,null,null,null,null,"",null,null,null,null,null,"",null,null,null,null,null,"",null,null,null,null,null,"",null,"□","嵐山町",false,"嵐山町","",null,null,null,null,null,"",null,"□","宮代町",false,"宮代町","",null,null,null,null,null,"",null,null,null,null,null,""]
[null,null,null,null,null,null,null,null,null,null,null,null,null,null,null,null,null,null,null,null,null,null,null,null,null,null,null,null,null,null,null,null,null,null,null,null,null,null,null,null,null,null,"□","その他（学び・趣味）",false,"",null,null,null,null,null,"□","緑区",false,"さいたま市緑区","",null,null,null,null,null,"",null,null,null,null,null,"",null,null,null,null,null,"",null,null,null,null,null,"",null,"□","小川町",false,"小川町","",null,null,null,null,null,"",null,"□","杉戸町",false,"杉戸町","",null,null,null,null,null,"",null,null,null,null,null,""]
[null,null,null,null,null,null,null,null,null,null,null,null,null,null,null,null,null,null,null,null,null,null,null,null,null,null,null,null,null,null,null,null,null,null,null,null,null,null,null,null,null,null,null,null,null,null,null,null,null,null,null,"□","岩槻区",{"$f":"IF(AZ622=\"☑\",TRUE)","v":false},"さいたま市岩槻区","",null,null,null,null,null,"",null,null,null,null,null,"",null,null,null,null,null,"",null,null,null,null,null,"",null,"□","川島町",false,"川島町","",null,null,null,null,null,"",null,null,null,null,null,"",null,null,null,null,null,"",null,null,null,null,null,""]
[null,null,null,null,null,null,null,null,null,null,null,null,null,null,null,null,null,null,null,null,null,null,null,null,null,null,null,null,null,null,null,null,null,null,null,null,null,null,null,null,null,null,null,null,null,null,null,null,null,null,null,null,null,null,null,null,null,null,null,null,null,null,null,null,null,null,null,null,null,null,null,null,null,null,null,null,null,null,null,null,null,"□","吉見町",false,"吉見町","",null,null,null,null,null,"",null,null,null,null,null,"",null,null,null,null,null,"",null,null,null,null,null,""]
[null,null,null,null,null,null,null,null,null,null,null,null,null,null,null,null,null,null,null,null,null,null,null,null,null,null,null,null,null,null,null,null,null,null,null,null,null,null,null,null,null,null,null,null,null,null,null,null,null,null,null,null,null,null,null,null,null,null,null,null,null,null,null,null,null,null,null,null,null,null,null,null,null,null,null,null,null,null,null,null,null,"□","鳩山町",false,"鳩山町","",null,null,null,null,null,"",null,null,null,null,null,"",null,null,null,null,null,"",null,null,null,null,null,""]
[null,null,null,null,null,null,null,null,null,null,null,null,null,null,null,null,null,null,null,null,null,null,null,null,null,null,null,null,null,null,null,null,null,null,null,null,null,null,null,null,null,null,null,null,null,null,null,null,null,null,null,null,null,null,null,null,null,null,null,null,null,null,null,null,null,null,null,null,null,null,null,null,null,null,null,null,null,null,null,null,null,"□","ときがわ町",false,"ときがわ町","",null,null,null,null,null,"",null,null,null,null,null,"",null,null,null,null,null,"",null,null,null,null,null,""]
[null,null,null,null,null,null,null,null,null,null,null,null,null,null,null,null,null,null,null,null,null,null,null,null,null,null,null,null,null,null,null,null,null,null,null,null,null,null,null,null,null,null,null,null,null,null,null,null,null,null,null,null,null,null,null,null,null,null,null,null,null,null,null,null,null,null,null,null,null,null,null,null,null,null,null,null,null,null,null,null,null,"□","東秩父村",false,"東秩父村","",null,null,null,null,null,"",null,null,null,null,null,"",null,null,null,null,null,"",null,null,null,null,null,""]
[44,null,null,null,null,null,null,null,null,null,null,null,null,null,null,null,null,null,"□","配送",{"$f":"IF(S627=\"☑\",TRUE)","v":false},{"$f":"IF(U627,T627,\"\")","v":""},"□","弁当配達",{"$f":"IF(W627=\"☑\",TRUE)","v":false},{"$f":"IF(Y627,X627,\"\")","v":""},"□","理容・美容（送迎）",{"$f":"IF(AA627=\"☑\",TRUE)","v":false},{"$f":"IF(AC627,AB627,\"\")","v":""},"□","家事代行・掃除・片付け",{"$f":"IF(AE627=\"☑\",TRUE)","v":false},{"$f":"IF(AG627,AF627,\"\")","v":""},"□","フィットネス・ジム（運動）",{"$f":"IF(AI627=\"☑\",TRUE)","v":false},{"$f":"IF(AK627,AJ627,\"\")","v":""},"□","車イス対応（バリアフリー）",{"$f":"IF(AM627=\"☑\",TRUE)","v":false},{"$f":"IF(AO627,AN627,\"\")","v":""},"□","講座・教室・イベント",{"$f":"IF(AQ627=\"☑\",TRUE)","v":false},{"$f":"IF(AS627,AR627,\"\")","v":""},"□","防犯・見守り",{"$f":"IF(AU627=\"☑\",TRUE)","v":false},{"$f":"IF(AW627,AV627,\"\")","v":""},{"$f":"_xlfn.TEXTJOIN(\"／\",TRUE,V627:V640,Z627:Z640,AD627:AD640,AH627:AH640,AL627:AL640,AP627:AP640,AT627:AT640,AX627:AX640)","v":""},"□","西区",{"$f":"IF(AZ627=\"☑\",TRUE)","v":false},{"$f":"\"さいたま市\"&BA627","v":"さいたま市西区"},{"$f":"IF(BB627,BC627,\"\")","v":""},{"$f":"_xlfn.TEXTJOIN(\"／\",TRUE,BD627:BD640)","v":""},"□","川口市",{"$f":"IF(BF627=\"☑\",TRUE)","v":false},{"$f":"BG627","v":"川口市"},{"$f":"IF(BH627,BI627,\"\")","v":""},{"$f":"_xludf.TEXTJOIN(\",\",TRUE,BJ627:BJ640)","v":""},"□","朝霞市",{"$f":"IF(BL627=\"☑\",TRUE)","v":false},{"$f":"BM627","v":"朝霞市"},{"$f":"IF(BN627,BO627,\"\")","v":""},{"$f":"_xlfn.TEXTJOIN(\"／\",TRUE,BP627:BP640)","v":""},"□","春日部市",{"$f":"IF(BR627=\"☑\",TRUE)","v":false},{"$f":"BS627","v":"春日部市"},{"$f":"IF(BT627,BU627,\"\")","v":""},{"$f":"_xlfn.TEXTJOIN(\"／\",TRUE,BV627:BV640)","v":""},"□","鴻巣市",{"$f":"IF(BX627=\"☑\",TRUE)","v":false},{"$f":"BY627","v":"鴻巣市"},{"$f":"IF(BZ627,CA627,\"\")","v":""},{"$f":"_xlfn.TEXTJOIN(\"／\",TRUE,CB627:CB640)","v":""},"□","川越市",{"$f":"IF(CD627=\"☑\",TRUE)","v":false},"川越市",{"$f":"IF(CF627,CG627,\"\")","v":""},{"$f":"_xlfn.TEXTJOIN(\"／\",TRUE,CH627:CH640)","v":""},"□","所沢市",{"$f":"IF(CJ627=\"☑\",TRUE)","v":false},{"$f":"CK627","v":"所沢市"},{"$f":"IF(CL627,CM627,\"\")","v":""},{"$f":"_xlfn.TEXTJOIN(\"／\",TRUE,CN627:CN640)","v":""},"□","行田市",{"$f":"IF(CP627=\"☑\",TRUE)","v":false},{"$f":"CQ627","v":"行田市"},{"$f":"IF(CR627,CS627,\"\")","v":""},{"$f":"_xludf.TEXTJOIN(\",\",TRUE,CT627:CT640)","v":""},"□","熊谷市",{"$f":"IF(CV627=\"☑\",TRUE)","v":false},{"$f":"CW627","v":"熊谷市"},{"$f":"IF(CX627,CY627,\"\")","v":""},{"$f":"_xlfn.TEXTJOIN(\"／\",TRUE,CZ627:CZ640)","v":""},"□","秩父市",{"$f":"IF(DB627=\"☑\",TRUE)","v":false},{"$f":"DC627","v":"秩父市"},{"$f":"IF(DD627,DE627,\"\")","v":""},{"$f":"_xlfn.TEXTJOIN(\"／\",TRUE,DF627:DF640)","v":""},{"$f":"_xlfn.TEXTJOIN(\"／\",TRUE,BE627,BK627,BQ627,BW627,CC627,CI627,CO627,CU627,DA627,DG627)","v":""},null,null,null,null,null,null,null,{"$f":"IF(#REF!=\"☑\",TRUE)","v":{"$error":"#REF!"}},{"$f":"IF(DP627,#REF!,\"\")","v":{"$error":"#REF!"}},{"$f":"_xludf.TEXTJOIN(\",\",TRUE,DQ627:DQ640)","v":{"$error":"#VALUE!"}}]
[null,null,null,null,null,null,null,null,null,null,null,null,null,null,null,null,null,null,"□","買物サポート",false,"","□","料理デリバリー（出前）",false,"","□","フィットネス・ジム（送迎）",{"$f":"IF(AA628=\"☑\",TRUE)","v":false},{"$f":"IF(AC628,AB628,\"\")","v":""},"□","出張料理",{"$f":"IF(AE628=\"☑\",TRUE)","v":false},{"$f":"IF(AG628,AF628,\"\")","v":""},"□","温泉・銭湯（たまり場）",false,"","□","多目的トイレ",false,"","□","習い事",{"$f":"IF(AQ628=\"☑\",TRUE)","v":false},{"$f":"IF(AS628,AR628,\"\")","v":""},"□","金融・保険",false,"",null,"□","北区",{"$f":"IF(AZ628=\"☑\",TRUE)","v":false},"さいたま市北区",{"$f":"IF(BB628,BC628,\"\")","v":""},null,"□","蕨市",{"$f":"IF(BF628=\"☑\",TRUE)","v":false},{"$f":"BG628","v":"蕨市"},{"$f":"IF(BH628,BI628,\"\")","v":""},null,"□","志木市",{"$f":"IF(BL628=\"☑\",TRUE)","v":false},"志木市",{"$f":"IF(BN628,BO628,\"\")","v":""},null,"□","草加市",{"$f":"IF(BR628=\"☑\",TRUE)","v":false},"草加市","",null,"□","上尾市",{"$f":"IF(BX628=\"☑\",TRUE)","v":false},{"$f":"BY628","v":"上尾市"},{"$f":"IF(BZ628,CA628,\"\")","v":""},null,"□","東松山市",{"$f":"IF(CD628=\"☑\",TRUE)","v":false},"東松山市",{"$f":"IF(CF628,CG628,\"\")","v":""},null,"□","飯能市",{"$f":"IF(CJ628=\"☑\",TRUE)","v":false},{"$f":"CK628","v":"飯能市"},{"$f":"IF(CL628,CM628,\"\")","v":""},null,"□","加須市",{"$f":"IF(CP628=\"☑\",TRUE)","v":false},"加須市",{"$f":"IF(CR628,CS628,\"\")","v":""},null,"□","本庄市",{"$f":"IF(CV628=\"☑\",TRUE)","v":false},"本庄市",{"$f":"IF(CX628,CY628,\"\")","v":""},null,"□","横瀬町",{"$f":"IF(DB628=\"☑\",TRUE)","v":false},{"$f":"DC628","v":"横瀬町"},{"$f":"IF(DD628,DE628,\"\")","v":""},null,null,null,null,null,null,null,null,null,null,{"$f":"IF(DP628,#REF!,\"\")","v":""}]
[null,null,null,null,null,null,null,null,null,null,null,null,null,null,null,null,null,null,"□","買物代行",false,"","□","食材宅配",false,"","□","温泉・銭湯（送迎）",false,"","□","屋外作業・力仕事",false,"","□","カフェ・ファーストフード",false,"","□","休憩スペース",false,"","□","映画館",false,"","□","住宅・リフォーム",false,"",null,"□","大宮区",false,"さいたま市大宮区","",null,"□","戸田市",{"$f":"IF(BF629=\"☑\",TRUE)","v":false},{"$f":"BG629","v":"戸田市"},"",null,"□","和光市",false,"和光市","",null,"□","越谷市",false,"越谷市","",null,"□","桶川市",{"$f":"IF(BX629=\"☑\",TRUE)","v":false},{"$f":"BY629","v":"桶川市"},"",null,"□","坂戸市",false,"坂戸市","",null,"□","狭山市",{"$f":"IF(CJ629=\"☑\",TRUE)","v":false},{"$f":"CK629","v":"狭山市"},"",null,"□","羽生市",false,"羽生市","",null,"□","深谷市",false,"深谷市","",null,"□","皆野町",{"$f":"IF(DB629=\"☑\",TRUE)","v":false},{"$f":"DC629","v":"皆野町"},"",null,null,null,null,null,null,null,null,null,{"$f":"IF(#REF!=\"☑\",TRUE)","v":{"$error":"#REF!"}},{"$f":"IF(DP629,#REF!,\"\")","v":{"$error":"#REF!"}}]
[null,null,null,null,null,null,null,null,null,null,null,null,null,null,null,null,null,null,"□","移動販売",false,"","□","日用品配達",false,"","□","整体・マッサージ（送迎）",false,"","□","整体・マッサージ（出張）",false,"","□","飲食店",false,"","□","駐車場",false,"","□","カラオケ店",false,"","□","パソコン・スマートフォン",false,"",null,"□","見沼区",false,"さいたま市見沼区","",null,null,null,null,null,"",null,"□","新座市",false,"新座市","",null,"□","八潮市",false,"八潮市","",null,"□","北本市",{"$f":"IF(BX630=\"☑\",TRUE)","v":false},{"$f":"BY630","v":"北本市"},"",null,"□","鶴ヶ島市",false,"鶴ヶ島市","",null,"□","入間市",{"$f":"IF(CJ630=\"☑\",TRUE)","v":false},{"$f":"CK630","v":"入間市"},"",null,"□","久喜市",false,"久喜市","",null,"□","美里町",false,"美里町","",null,"□","長瀞町",{"$f":"IF(DB630=\"☑\",TRUE)","v":false},{"$f":"DC630","v":"長瀞町"},""]
[null,null,null,null,null,null,null,null,null,null,null,null,null,null,null,null,null,null,"□","割引サービス",false,"","□","薬・介護用品配達",false,"","□","乗り合いサービス",false,"","□","理容・美容（出張）",false,"","□","イートインスペース",false,"","□","貸しスペース",false,"","□","麻雀・将棋・囲碁",false,"","□","認知症サポート企業",false,"",null,"□","中央区",false,"さいたま市中央区","",null,null,null,null,null,"",null,"□","富士見市",false,"富士見市","",null,"□","三郷市",false,"三郷市","",null,"□","伊奈町",{"$f":"IF(BX631=\"☑\",TRUE)","v":false},{"$f":"BY631","v":"伊奈町"},"",null,"□","毛呂山町",false,"毛呂山町","",null,"□","日高市",{"$f":"IF(CJ631=\"☑\",TRUE)","v":false},{"$f":"CK631","v":"日高市"},"",null,"□","蓮田市",false,"蓮田市","",null,"□","神川町",false,"神川町","",null,"□","小鹿野町",{"$f":"IF(DB631=\"☑\",TRUE)","v":false},{"$f":"DC631","v":"小鹿野町"},"",null,null,null,null,null,null,null,null,null,{"$f":"IF(#REF!=\"☑\",TRUE)","v":{"$error":"#REF!"}},{"$f":"IF(DP631,#REF!,\"\")","v":{"$error":"#REF!"}}]
[null,null,null,null,null,null,null,null,null,null,null,null,null,null,null,null,null,null,"□","その他（買物）",false,"","□","クリーニング",false,{"$f":"IF(Y632,X632,\"\")","v":""},"□","個別移送サービス",false,"","□","ペット",false,"","□","その他（運動・たまり場）",false,"","□","その他（設備・施設・場所貸し）",false,"","□","ゲームセンター",false,"","□","理容・美容",false,"",null,"□","桜区",false,"さいたま市桜区","",null,null,null,null,null,"",null,"□","ふじみ野市",false,"ふじみ野市","",null,"□","吉川市",false,"吉川市","",null,null,null,null,null,"",null,"□","越生町",false,"越生町","",null,null,null,null,null,"",null,"□","幸手市",false,"幸手市","",null,"□","上里町",false,"上里町","",null,null,null,null,null,"",null,null,null,null,null,null,null,null,null,{"$f":"IF(#REF!=\"☑\",TRUE)","v":{"$error":"#REF!"}},{"$f":"IF(DP632,#REF!,\"\")","v":{"$error":"#REF!"}}]
[null,null,null,null,null,null,null,null,null,null,null,null,null,null,null,null,null,null,null,null,null,null,"□","その他（宅配・デリバリー）",false,{"$f":"IF(Y633,X633,\"\")","v":""},"□","交通機関サービス",false,"","□","その他（出張サービス）",false,"",null,null,null,null,null,null,null,null,"□","旅行・レジャー",false,"","□","成年後見・相続",false,"",null,"□","浦和区",false,"さいたま市浦和区","",null,null,null,null,null,"",null,"□","三芳町",false,"三芳町","",null,"□","松伏町",false,"松伏町","",null,null,null,null,null,"",null,"□","滑川町",false,"滑川町","",null,null,null,null,null,"",null,"□","白岡市",false,"白岡市","",null,"□","寄居町",false,"寄居町","",null,null,null,null,null,""]
[null,null,null,null,null,null,null,null,null,null,null,null,null,null,null,null,null,null,null,null,null,null,null,null,null,null,"□","その他（送迎・移動支援）",false,"",null,null,null,"",null,null,null,{"$f":"IF(AK634,AJ634,\"\")","v":""},null,null,null,{"$f":"IF(AO634,AN634,\"\")","v":""},"□","パソコン・スマホ教室",false,"","□","その他（生活サービス）",false,"",null,"□","南区",false,"さいたま市南区","",null,null,null,null,null,"",null,null,null,null,null,"",null,null,null,null,null,"",null,null,null,null,null,"",null,"□","嵐山町",false,"嵐山町","",null,null,null,null,null,"",null,"□","宮代町",false,"宮代町","",null,null,null,null,null,"",null,null,null,null,null,""]
[null,null,null,null,null,null,null,null,null,null,null,null,null,null,null,null,null,null,null,null,null,null,null,null,null,null,null,null,null,null,null,null,null,null,null,null,null,null,null,null,null,null,"□","その他（学び・趣味）",false,"",null,null,null,null,null,"□","緑区",false,"さいたま市緑区","",null,null,null,null,null,"",null,null,null,null,null,"",null,null,null,null,null,"",null,null,null,null,null,"",null,"□","小川町",false,"小川町","",null,null,null,null,null,"",null,"□","杉戸町",false,"杉戸町","",null,null,null,null,null,"",null,null,null,null,null,""]
[null,null,null,null,null,null,null,null,null,null,null,null,null,null,null,null,null,null,null,null,null,null,null,null,null,null,null,null,null,null,null,null,null,null,null,null,null,null,null,null,null,null,null,null,null,null,null,null,null,null,null,"□","岩槻区",{"$f":"IF(AZ636=\"☑\",TRUE)","v":false},"さいたま市岩槻区","",null,null,null,null,null,"",null,null,null,null,null,"",null,null,null,null,null,"",null,null,null,null,null,"",null,"□","川島町",false,"川島町","",null,null,null,null,null,"",null,null,null,null,null,"",null,null,null,null,null,"",null,null,null,null,null,""]
[null,null,null,null,null,null,null,null,null,null,null,null,null,null,null,null,null,null,null,null,null,null,null,null,null,null,null,null,null,null,null,null,null,null,null,null,null,null,null,null,null,null,null,null,null,null,null,null,null,null,null,null,null,null,null,null,null,null,null,null,null,null,null,null,null,null,null,null,null,null,null,null,null,null,null,null,null,null,null,null,null,"□","吉見町",false,"吉見町","",null,null,null,null,null,"",null,null,null,null,null,"",null,null,null,null,null,"",null,null,null,null,null,""]
[null,null,null,null,null,null,null,null,null,null,null,null,null,null,null,null,null,null,null,null,null,null,null,null,null,null,null,null,null,null,null,null,null,null,null,null,null,null,null,null,null,null,null,null,null,null,null,null,null,null,null,null,null,null,null,null,null,null,null,null,null,null,null,null,null,null,null,null,null,null,null,null,null,null,null,null,null,null,null,null,null,"□","鳩山町",false,"鳩山町","",null,null,null,null,null,"",null,null,null,null,null,"",null,null,null,null,null,"",null,null,null,null,null,""]
[null,null,null,null,null,null,null,null,null,null,null,null,null,null,null,null,null,null,null,null,null,null,null,null,null,null,null,null,null,null,null,null,null,null,null,null,null,null,null,null,null,null,null,null,null,null,null,null,null,null,null,null,null,null,null,null,null,null,null,null,null,null,null,null,null,null,null,null,null,null,null,null,null,null,null,null,null,null,null,null,null,"□","ときがわ町",false,"ときがわ町","",null,null,null,null,null,"",null,null,null,null,null,"",null,null,null,null,null,"",null,null,null,null,null,""]
[null,null,null,null,null,null,null,null,null,null,null,null,null,null,null,null,null,null,null,null,null,null,null,null,null,null,null,null,null,null,null,null,null,null,null,null,null,null,null,null,null,null,null,null,null,null,null,null,null,null,null,null,null,null,null,null,null,null,null,null,null,null,null,null,null,null,null,null,null,null,null,null,null,null,null,null,null,null,null,null,null,"□","東秩父村",false,"東秩父村","",null,null,null,null,null,"",null,null,null,null,null,"",null,null,null,null,null,"",null,null,null,null,null,""]
[45,null,null,null,null,null,null,null,null,null,null,null,null,null,null,null,null,null,"□","配送",{"$f":"IF(S641=\"☑\",TRUE)","v":false},{"$f":"IF(U641,T641,\"\")","v":""},"□","弁当配達",{"$f":"IF(W641=\"☑\",TRUE)","v":false},{"$f":"IF(Y641,X641,\"\")","v":""},"□","理容・美容（送迎）",{"$f":"IF(AA641=\"☑\",TRUE)","v":false},{"$f":"IF(AC641,AB641,\"\")","v":""},"□","家事代行・掃除・片付け",{"$f":"IF(AE641=\"☑\",TRUE)","v":false},{"$f":"IF(AG641,AF641,\"\")","v":""},"□","フィットネス・ジム（運動）",{"$f":"IF(AI641=\"☑\",TRUE)","v":false},{"$f":"IF(AK641,AJ641,\"\")","v":""},"□","車イス対応（バリアフリー）",{"$f":"IF(AM641=\"☑\",TRUE)","v":false},{"$f":"IF(AO641,AN641,\"\")","v":""},"□","講座・教室・イベント",{"$f":"IF(AQ641=\"☑\",TRUE)","v":false},{"$f":"IF(AS641,AR641,\"\")","v":""},"□","防犯・見守り",{"$f":"IF(AU641=\"☑\",TRUE)","v":false},{"$f":"IF(AW641,AV641,\"\")","v":""},{"$f":"_xlfn.TEXTJOIN(\"／\",TRUE,V641:V654,Z641:Z654,AD641:AD654,AH641:AH654,AL641:AL654,AP641:AP654,AT641:AT654,AX641:AX654)","v":""},"□","西区",{"$f":"IF(AZ641=\"☑\",TRUE)","v":false},{"$f":"\"さいたま市\"&BA641","v":"さいたま市西区"},{"$f":"IF(BB641,BC641,\"\")","v":""},{"$f":"_xlfn.TEXTJOIN(\"／\",TRUE,BD641:BD654)","v":""},"□","川口市",{"$f":"IF(BF641=\"☑\",TRUE)","v":false},{"$f":"BG641","v":"川口市"},{"$f":"IF(BH641,BI641,\"\")","v":""},{"$f":"_xludf.TEXTJOIN(\",\",TRUE,BJ641:BJ654)","v":""},"□","朝霞市",{"$f":"IF(BL641=\"☑\",TRUE)","v":false},{"$f":"BM641","v":"朝霞市"},{"$f":"IF(BN641,BO641,\"\")","v":""},{"$f":"_xlfn.TEXTJOIN(\"／\",TRUE,BP641:BP654)","v":""},"□","春日部市",{"$f":"IF(BR641=\"☑\",TRUE)","v":false},{"$f":"BS641","v":"春日部市"},{"$f":"IF(BT641,BU641,\"\")","v":""},{"$f":"_xlfn.TEXTJOIN(\"／\",TRUE,BV641:BV654)","v":""},"□","鴻巣市",{"$f":"IF(BX641=\"☑\",TRUE)","v":false},{"$f":"BY641","v":"鴻巣市"},{"$f":"IF(BZ641,CA641,\"\")","v":""},{"$f":"_xlfn.TEXTJOIN(\"／\",TRUE,CB641:CB654)","v":""},"□","川越市",{"$f":"IF(CD641=\"☑\",TRUE)","v":false},"川越市",{"$f":"IF(CF641,CG641,\"\")","v":""},{"$f":"_xlfn.TEXTJOIN(\"／\",TRUE,CH641:CH654)","v":""},"□","所沢市",{"$f":"IF(CJ641=\"☑\",TRUE)","v":false},{"$f":"CK641","v":"所沢市"},{"$f":"IF(CL641,CM641,\"\")","v":""},{"$f":"_xlfn.TEXTJOIN(\"／\",TRUE,CN641:CN654)","v":""},"□","行田市",{"$f":"IF(CP641=\"☑\",TRUE)","v":false},{"$f":"CQ641","v":"行田市"},{"$f":"IF(CR641,CS641,\"\")","v":""},{"$f":"_xludf.TEXTJOIN(\",\",TRUE,CT641:CT654)","v":""},"□","熊谷市",{"$f":"IF(CV641=\"☑\",TRUE)","v":false},{"$f":"CW641","v":"熊谷市"},{"$f":"IF(CX641,CY641,\"\")","v":""},{"$f":"_xlfn.TEXTJOIN(\"／\",TRUE,CZ641:CZ654)","v":""},"□","秩父市",{"$f":"IF(DB641=\"☑\",TRUE)","v":false},{"$f":"DC641","v":"秩父市"},{"$f":"IF(DD641,DE641,\"\")","v":""},{"$f":"_xlfn.TEXTJOIN(\"／\",TRUE,DF641:DF654)","v":""},{"$f":"_xlfn.TEXTJOIN(\"／\",TRUE,BE641,BK641,BQ641,BW641,CC641,CI641,CO641,CU641,DA641,DG641)","v":""},null,null,null,null,null,null,null,{"$f":"IF(#REF!=\"☑\",TRUE)","v":{"$error":"#REF!"}},{"$f":"IF(DP641,#REF!,\"\")","v":{"$error":"#REF!"}},{"$f":"_xludf.TEXTJOIN(\",\",TRUE,DQ641:DQ654)","v":{"$error":"#VALUE!"}}]
[null,null,null,null,null,null,null,null,null,null,null,null,null,null,null,null,null,null,"□","買物サポート",false,"","□","料理デリバリー（出前）",false,"","□","フィットネス・ジム（送迎）",{"$f":"IF(AA642=\"☑\",TRUE)","v":false},{"$f":"IF(AC642,AB642,\"\")","v":""},"□","出張料理",{"$f":"IF(AE642=\"☑\",TRUE)","v":false},{"$f":"IF(AG642,AF642,\"\")","v":""},"□","温泉・銭湯（たまり場）",false,"","□","多目的トイレ",false,"","□","習い事",{"$f":"IF(AQ642=\"☑\",TRUE)","v":false},{"$f":"IF(AS642,AR642,\"\")","v":""},"□","金融・保険",false,"",null,"□","北区",{"$f":"IF(AZ642=\"☑\",TRUE)","v":false},"さいたま市北区",{"$f":"IF(BB642,BC642,\"\")","v":""},null,"□","蕨市",{"$f":"IF(BF642=\"☑\",TRUE)","v":false},{"$f":"BG642","v":"蕨市"},{"$f":"IF(BH642,BI642,\"\")","v":""},null,"□","志木市",{"$f":"IF(BL642=\"☑\",TRUE)","v":false},"志木市",{"$f":"IF(BN642,BO642,\"\")","v":""},null,"□","草加市",{"$f":"IF(BR642=\"☑\",TRUE)","v":false},"草加市","",null,"□","上尾市",{"$f":"IF(BX642=\"☑\",TRUE)","v":false},{"$f":"BY642","v":"上尾市"},{"$f":"IF(BZ642,CA642,\"\")","v":""},null,"□","東松山市",{"$f":"IF(CD642=\"☑\",TRUE)","v":false},"東松山市",{"$f":"IF(CF642,CG642,\"\")","v":""},null,"□","飯能市",{"$f":"IF(CJ642=\"☑\",TRUE)","v":false},{"$f":"CK642","v":"飯能市"},{"$f":"IF(CL642,CM642,\"\")","v":""},null,"□","加須市",{"$f":"IF(CP642=\"☑\",TRUE)","v":false},"加須市",{"$f":"IF(CR642,CS642,\"\")","v":""},null,"□","本庄市",{"$f":"IF(CV642=\"☑\",TRUE)","v":false},"本庄市",{"$f":"IF(CX642,CY642,\"\")","v":""},null,"□","横瀬町",{"$f":"IF(DB642=\"☑\",TRUE)","v":false},{"$f":"DC642","v":"横瀬町"},{"$f":"IF(DD642,DE642,\"\")","v":""},null,null,null,null,null,null,null,null,null,null,{"$f":"IF(DP642,#REF!,\"\")","v":""}]
[null,null,null,null,null,null,null,null,null,null,null,null,null,null,null,null,null,null,"□","買物代行",false,"","□","食材宅配",false,"","□","温泉・銭湯（送迎）",false,"","□","屋外作業・力仕事",false,"","□","カフェ・ファーストフード",false,"","□","休憩スペース",false,"","□","映画館",false,"","□","住宅・リフォーム",false,"",null,"□","大宮区",false,"さいたま市大宮区","",null,"□","戸田市",{"$f":"IF(BF643=\"☑\",TRUE)","v":false},{"$f":"BG643","v":"戸田市"},"",null,"□","和光市",false,"和光市","",null,"□","越谷市",false,"越谷市","",null,"□","桶川市",{"$f":"IF(BX643=\"☑\",TRUE)","v":false},{"$f":"BY643","v":"桶川市"},"",null,"□","坂戸市",false,"坂戸市","",null,"□","狭山市",{"$f":"IF(CJ643=\"☑\",TRUE)","v":false},{"$f":"CK643","v":"狭山市"},"",null,"□","羽生市",false,"羽生市","",null,"□","深谷市",false,"深谷市","",null,"□","皆野町",{"$f":"IF(DB643=\"☑\",TRUE)","v":false},{"$f":"DC643","v":"皆野町"},"",null,null,null,null,null,null,null,null,null,{"$f":"IF(#REF!=\"☑\",TRUE)","v":{"$error":"#REF!"}},{"$f":"IF(DP643,#REF!,\"\")","v":{"$error":"#REF!"}}]
[null,null,null,null,null,null,null,null,null,null,null,null,null,null,null,null,null,null,"□","移動販売",false,"","□","日用品配達",false,"","□","整体・マッサージ（送迎）",false,"","□","整体・マッサージ（出張）",false,"","□","飲食店",false,"","□","駐車場",false,"","□","カラオケ店",false,"","□","パソコン・スマートフォン",false,"",null,"□","見沼区",false,"さいたま市見沼区","",null,null,null,null,null,"",null,"□","新座市",false,"新座市","",null,"□","八潮市",false,"八潮市","",null,"□","北本市",{"$f":"IF(BX644=\"☑\",TRUE)","v":false},{"$f":"BY644","v":"北本市"},"",null,"□","鶴ヶ島市",false,"鶴ヶ島市","",null,"□","入間市",{"$f":"IF(CJ644=\"☑\",TRUE)","v":false},{"$f":"CK644","v":"入間市"},"",null,"□","久喜市",false,"久喜市","",null,"□","美里町",false,"美里町","",null,"□","長瀞町",{"$f":"IF(DB644=\"☑\",TRUE)","v":false},{"$f":"DC644","v":"長瀞町"},""]
[null,null,null,null,null,null,null,null,null,null,null,null,null,null,null,null,null,null,"□","割引サービス",false,"","□","薬・介護用品配達",false,"","□","乗り合いサービス",false,"","□","理容・美容（出張）",false,"","□","イートインスペース",false,"","□","貸しスペース",false,"","□","麻雀・将棋・囲碁",false,"","□","認知症サポート企業",false,"",null,"□","中央区",false,"さいたま市中央区","",null,null,null,null,null,"",null,"□","富士見市",false,"富士見市","",null,"□","三郷市",false,"三郷市","",null,"□","伊奈町",{"$f":"IF(BX645=\"☑\",TRUE)","v":false},{"$f":"BY645","v":"伊奈町"},"",null,"□","毛呂山町",false,"毛呂山町","",null,"□","日高市",{"$f":"IF(CJ645=\"☑\",TRUE)","v":false},{"$f":"CK645","v":"日高市"},"",null,"□","蓮田市",false,"蓮田市","",null,"□","神川町",false,"神川町","",null,"□","小鹿野町",{"$f":"IF(DB645=\"☑\",TRUE)","v":false},{"$f":"DC645","v":"小鹿野町"},"",null,null,null,null,null,null,null,null,null,{"$f":"IF(#REF!=\"☑\",TRUE)","v":{"$error":"#REF!"}},{"$f":"IF(DP645,#REF!,\"\")","v":{"$error":"#REF!"}}]
[null,null,null,null,null,null,null,null,null,null,null,null,null,null,null,null,null,null,"□","その他（買物）",false,"","□","クリーニング",false,{"$f":"IF(Y646,X646,\"\")","v":""},"□","個別移送サービス",false,"","□","ペット",false,"","□","その他（運動・たまり場）",false,"","□","その他（設備・施設・場所貸し）",false,"","□","ゲームセンター",false,"","□","理容・美容",false,"",null,"□","桜区",false,"さいたま市桜区","",null,null,null,null,null,"",null,"□","ふじみ野市",false,"ふじみ野市","",null,"□","吉川市",false,"吉川市","",null,null,null,null,null,"",null,"□","越生町",false,"越生町","",null,null,null,null,null,"",null,"□","幸手市",false,"幸手市","",null,"□","上里町",false,"上里町","",null,null,null,null,null,"",null,null,null,null,null,null,null,null,null,{"$f":"IF(#REF!=\"☑\",TRUE)","v":{"$error":"#REF!"}},{"$f":"IF(DP646,#REF!,\"\")","v":{"$error":"#REF!"}}]
[null,null,null,null,null,null,null,null,null,null,null,null,null,null,null,null,null,null,null,null,null,null,"□","その他（宅配・デリバリー）",false,{"$f":"IF(Y647,X647,\"\")","v":""},"□","交通機関サービス",false,"","□","その他（出張サービス）",false,"",null,null,null,null,null,null,null,null,"□","旅行・レジャー",false,"","□","成年後見・相続",false,"",null,"□","浦和区",false,"さいたま市浦和区","",null,null,null,null,null,"",null,"□","三芳町",false,"三芳町","",null,"□","松伏町",false,"松伏町","",null,null,null,null,null,"",null,"□","滑川町",false,"滑川町","",null,null,null,null,null,"",null,"□","白岡市",false,"白岡市","",null,"□","寄居町",false,"寄居町","",null,null,null,null,null,""]
[null,null,null,null,null,null,null,null,null,null,null,null,null,null,null,null,null,null,null,null,null,null,null,null,null,null,"□","その他（送迎・移動支援）",false,"",null,null,null,"",null,null,null,{"$f":"IF(AK648,AJ648,\"\")","v":""},null,null,null,{"$f":"IF(AO648,AN648,\"\")","v":""},"□","パソコン・スマホ教室",false,"","□","その他（生活サービス）",false,"",null,"□","南区",false,"さいたま市南区","",null,null,null,null,null,"",null,null,null,null,null,"",null,null,null,null,null,"",null,null,null,null,null,"",null,"□","嵐山町",false,"嵐山町","",null,null,null,null,null,"",null,"□","宮代町",false,"宮代町","",null,null,null,null,null,"",null,null,null,null,null,""]
[null,null,null,null,null,null,null,null,null,null,null,null,null,null,null,null,null,null,null,null,null,null,null,null,null,null,null,null,null,null,null,null,null,null,null,null,null,null,null,null,null,null,"□","その他（学び・趣味）",false,"",null,null,null,null,null,"□","緑区",false,"さいたま市緑区","",null,null,null,null,null,"",null,null,null,null,null,"",null,null,null,null,null,"",null,null,null,null,null,"",null,"□","小川町",false,"小川町","",null,null,null,null,null,"",null,"□","杉戸町",false,"杉戸町","",null,null,null,null,null,"",null,null,null,null,null,""]
[null,null,null,null,null,null,null,null,null,null,null,null,null,null,null,null,null,null,null,null,null,null,null,null,null,null,null,null,null,null,null,null,null,null,null,null,null,null,null,null,null,null,null,null,null,null,null,null,null,null,null,"□","岩槻区",{"$f":"IF(AZ650=\"☑\",TRUE)","v":false},"さいたま市岩槻区","",null,null,null,null,null,"",null,null,null,null,null,"",null,null,null,null,null,"",null,null,null,null,null,"",null,"□","川島町",false,"川島町","",null,null,null,null,null,"",null,null,null,null,null,"",null,null,null,null,null,"",null,null,null,null,null,""]
[null,null,null,null,null,null,null,null,null,null,null,null,null,null,null,null,null,null,null,null,null,null,null,null,null,null,null,null,null,null,null,null,null,null,null,null,null,null,null,null,null,null,null,null,null,null,null,null,null,null,null,null,null,null,null,null,null,null,null,null,null,null,null,null,null,null,null,null,null,null,null,null,null,null,null,null,null,null,null,null,null,"□","吉見町",false,{"$f":"CE651","v":"吉見町"},"",null,null,null,null,null,"",null,null,null,null,null,"",null,null,null,null,null,"",null,null,null,null,null,""]
[null,null,null,null,null,null,null,null,null,null,null,null,null,null,null,null,null,null,null,null,null,null,null,null,null,null,null,null,null,null,null,null,null,null,null,null,null,null,null,null,null,null,null,null,null,null,null,null,null,null,null,null,null,null,null,null,null,null,null,null,null,null,null,null,null,null,null,null,null,null,null,null,null,null,null,null,null,null,null,null,null,"□","鳩山町",false,"鳩山町","",null,null,null,null,null,"",null,null,null,null,null,"",null,null,null,null,null,"",null,null,null,null,null,""]
[null,null,null,null,null,null,null,null,null,null,null,null,null,null,null,null,null,null,null,null,null,null,null,null,null,null,null,null,null,null,null,null,null,null,null,null,null,null,null,null,null,null,null,null,null,null,null,null,null,null,null,null,null,null,null,null,null,null,null,null,null,null,null,null,null,null,null,null,null,null,null,null,null,null,null,null,null,null,null,null,null,"□","ときがわ町",false,"ときがわ町","",null,null,null,null,null,"",null,null,null,null,null,"",null,null,null,null,null,"",null,null,null,null,null,""]
[null,null,null,null,null,null,null,null,null,null,null,null,null,null,null,null,null,null,null,null,null,null,null,null,null,null,null,null,null,null,null,null,null,null,null,null,null,null,null,null,null,null,null,null,null,null,null,null,null,null,null,null,null,null,null,null,null,null,null,null,null,null,null,null,null,null,null,null,null,null,null,null,null,null,null,null,null,null,null,null,null,"□","東秩父村",false,"東秩父村","",null,null,null,null,null,"",null,null,null,null,null,"",null,null,null,null,null,"",null,null,null,null,null,""]
[46,null,null,null,null,null,null,null,null,null,null,null,null,null,null,null,null,null,"□","配送",{"$f":"IF(S655=\"☑\",TRUE)","v":false},{"$f":"IF(U655,T655,\"\")","v":""},"□","弁当配達",{"$f":"IF(W655=\"☑\",TRUE)","v":false},{"$f":"IF(Y655,X655,\"\")","v":""},"□","理容・美容（送迎）",{"$f":"IF(AA655=\"☑\",TRUE)","v":false},{"$f":"IF(AC655,AB655,\"\")","v":""},"□","家事代行・掃除・片付け",{"$f":"IF(AE655=\"☑\",TRUE)","v":false},{"$f":"IF(AG655,AF655,\"\")","v":""},"□","フィットネス・ジム（運動）",{"$f":"IF(AI655=\"☑\",TRUE)","v":false},{"$f":"IF(AK655,AJ655,\"\")","v":""},"□","車イス対応（バリアフリー）",{"$f":"IF(AM655=\"☑\",TRUE)","v":false},{"$f":"IF(AO655,AN655,\"\")","v":""},"□","講座・教室・イベント",{"$f":"IF(AQ655=\"☑\",TRUE)","v":false},{"$f":"IF(AS655,AR655,\"\")","v":""},"□","防犯・見守り",{"$f":"IF(AU655=\"☑\",TRUE)","v":false},{"$f":"IF(AW655,AV655,\"\")","v":""},{"$f":"_xlfn.TEXTJOIN(\"／\",TRUE,V655:V668,Z655:Z668,AD655:AD668,AH655:AH668,AL655:AL668,AP655:AP668,AT655:AT668,AX655:AX668)","v":""},"□","西区",{"$f":"IF(AZ655=\"☑\",TRUE)","v":false},{"$f":"\"さいたま市\"&BA655","v":"さいたま市西区"},{"$f":"IF(BB655,BC655,\"\")","v":""},{"$f":"_xlfn.TEXTJOIN(\"／\",TRUE,BD655:BD668)","v":""},"□","川口市",{"$f":"IF(BF655=\"☑\",TRUE)","v":false},{"$f":"BG655","v":"川口市"},{"$f":"IF(BH655,BI655,\"\")","v":""},{"$f":"_xludf.TEXTJOIN(\",\",TRUE,BJ655:BJ668)","v":""},"□","朝霞市",{"$f":"IF(BL655=\"☑\",TRUE)","v":false},{"$f":"BM655","v":"朝霞市"},{"$f":"IF(BN655,BO655,\"\")","v":""},{"$f":"_xlfn.TEXTJOIN(\"／\",TRUE,BP655:BP668)","v":""},"□","春日部市",{"$f":"IF(BR655=\"☑\",TRUE)","v":false},{"$f":"BS655","v":"春日部市"},{"$f":"IF(BT655,BU655,\"\")","v":""},{"$f":"_xlfn.TEXTJOIN(\"／\",TRUE,BV655:BV668)","v":""},"□","鴻巣市",{"$f":"IF(BX655=\"☑\",TRUE)","v":false},{"$f":"BY655","v":"鴻巣市"},{"$f":"IF(BZ655,CA655,\"\")","v":""},{"$f":"_xlfn.TEXTJOIN(\"／\",TRUE,CB655:CB668)","v":""},"□","川越市",{"$f":"IF(CD655=\"☑\",TRUE)","v":false},"川越市",{"$f":"IF(CF655,CG655,\"\")","v":""},{"$f":"_xlfn.TEXTJOIN(\"／\",TRUE,CH655:CH668)","v":""},"□","所沢市",{"$f":"IF(CJ655=\"☑\",TRUE)","v":false},{"$f":"CK655","v":"所沢市"},{"$f":"IF(CL655,CM655,\"\")","v":""},{"$f":"_xlfn.TEXTJOIN(\"／\",TRUE,CN655:CN668)","v":""},"□","行田市",{"$f":"IF(CP655=\"☑\",TRUE)","v":false},{"$f":"CQ655","v":"行田市"},{"$f":"IF(CR655,CS655,\"\")","v":""},{"$f":"_xludf.TEXTJOIN(\",\",TRUE,CT655:CT668)","v":""},"□","熊谷市",{"$f":"IF(CV655=\"☑\",TRUE)","v":false},{"$f":"CW655","v":"熊谷市"},{"$f":"IF(CX655,CY655,\"\")","v":""},{"$f":"_xlfn.TEXTJOIN(\"／\",TRUE,CZ655:CZ668)","v":""},"□","秩父市",{"$f":"IF(DB655=\"☑\",TRUE)","v":false},{"$f":"DC655","v":"秩父市"},{"$f":"IF(DD655,DE655,\"\")","v":""},{"$f":"_xlfn.TEXTJOIN(\"／\",TRUE,DF655:DF668)","v":""},{"$f":"_xlfn.TEXTJOIN(\"／\",TRUE,BE655,BK655,BQ655,BW655,CC655,CI655,CO655,CU655,DA655,DG655)","v":""},null,null,null,null,null,null,null,{"$f":"IF(#REF!=\"☑\",TRUE)","v":{"$error":"#REF!"}},{"$f":"IF(DP655,#REF!,\"\")","v":{"$error":"#REF!"}},{"$f":"_xludf.TEXTJOIN(\",\",TRUE,DQ655:DQ668)","v":{"$error":"#VALUE!"}}]
[null,null,null,null,null,null,null,null,null,null,null,null,null,null,null,null,null,null,"□","買物サポート",false,"","□","料理デリバリー（出前）",false,"","□","フィットネス・ジム（送迎）",{"$f":"IF(AA656=\"☑\",TRUE)","v":false},{"$f":"IF(AC656,AB656,\"\")","v":""},"□","出張料理",{"$f":"IF(AE656=\"☑\",TRUE)","v":false},{"$f":"IF(AG656,AF656,\"\")","v":""},"□","温泉・銭湯（たまり場）",false,"","□","多目的トイレ",false,"","□","習い事",{"$f":"IF(AQ656=\"☑\",TRUE)","v":false},{"$f":"IF(AS656,AR656,\"\")","v":""},"□","金融・保険",false,"",null,"□","北区",{"$f":"IF(AZ656=\"☑\",TRUE)","v":false},"さいたま市北区",{"$f":"IF(BB656,BC656,\"\")","v":""},null,"□","蕨市",{"$f":"IF(BF656=\"☑\",TRUE)","v":false},{"$f":"BG656","v":"蕨市"},{"$f":"IF(BH656,BI656,\"\")","v":""},null,"□","志木市",{"$f":"IF(BL656=\"☑\",TRUE)","v":false},"志木市",{"$f":"IF(BN656,BO656,\"\")","v":""},null,"□","草加市",{"$f":"IF(BR656=\"☑\",TRUE)","v":false},"草加市","",null,"□","上尾市",{"$f":"IF(BX656=\"☑\",TRUE)","v":false},{"$f":"BY656","v":"上尾市"},{"$f":"IF(BZ656,CA656,\"\")","v":""},null,"□","東松山市",{"$f":"IF(CD656=\"☑\",TRUE)","v":false},"東松山市",{"$f":"IF(CF656,CG656,\"\")","v":""},null,"□","飯能市",{"$f":"IF(CJ656=\"☑\",TRUE)","v":false},{"$f":"CK656","v":"飯能市"},{"$f":"IF(CL656,CM656,\"\")","v":""},null,"□","加須市",{"$f":"IF(CP656=\"☑\",TRUE)","v":false},"加須市",{"$f":"IF(CR656,CS656,\"\")","v":""},null,"□","本庄市",{"$f":"IF(CV656=\"☑\",TRUE)","v":false},"本庄市",{"$f":"IF(CX656,CY656,\"\")","v":""},null,"□","横瀬町",{"$f":"IF(DB656=\"☑\",TRUE)","v":false},{"$f":"DC656","v":"横瀬町"},{"$f":"IF(DD656,DE656,\"\")","v":""},null,null,null,null,null,null,null,null,null,null,{"$f":"IF(DP656,#REF!,\"\")","v":""}]
[null,null,null,null,null,null,null,null,null,null,null,null,null,null,null,null,null,null,"□","買物代行",false,"","□","食材宅配",false,"","□","温泉・銭湯（送迎）",false,"","□","屋外作業・力仕事",false,"","□","カフェ・ファーストフード",false,"","□","休憩スペース",false,"","□","映画館",false,"","□","住宅・リフォーム",false,"",null,"□","大宮区",false,"さいたま市大宮区","",null,"□","戸田市",{"$f":"IF(BF657=\"☑\",TRUE)","v":false},{"$f":"BG657","v":"戸田市"},"",null,"□","和光市",false,"和光市","",null,"□","越谷市",false,"越谷市","",null,"□","桶川市",{"$f":"IF(BX657=\"☑\",TRUE)","v":false},{"$f":"BY657","v":"桶川市"},"",null,"□","坂戸市",false,"坂戸市","",null,"□","狭山市",{"$f":"IF(CJ657=\"☑\",TRUE)","v":false},{"$f":"CK657","v":"狭山市"},"",null,"□","羽生市",false,"羽生市","",null,"□","深谷市",false,"深谷市","",null,"□","皆野町",{"$f":"IF(DB657=\"☑\",TRUE)","v":false},{"$f":"DC657","v":"皆野町"},"",null,null,null,null,null,null,null,null,null,{"$f":"IF(#REF!=\"☑\",TRUE)","v":{"$error":"#REF!"}},{"$f":"IF(DP657,#REF!,\"\")","v":{"$error":"#REF!"}}]
[null,null,null,null,null,null,null,null,null,null,null,null,null,null,null,null,null,null,"□","移動販売",false,"","□","日用品配達",false,"","□","整体・マッサージ（送迎）",false,"","□","整体・マッサージ（出張）",false,"","□","飲食店",false,"","□","駐車場",false,"","□","カラオケ店",false,"","□","パソコン・スマートフォン",false,"",null,"□","見沼区",false,"さいたま市見沼区","",null,null,null,null,null,"",null,"□","新座市",false,"新座市","",null,"□","八潮市",false,"八潮市","",null,"□","北本市",{"$f":"IF(BX658=\"☑\",TRUE)","v":false},{"$f":"BY658","v":"北本市"},"",null,"□","鶴ヶ島市",false,"鶴ヶ島市","",null,"□","入間市",{"$f":"IF(CJ658=\"☑\",TRUE)","v":false},{"$f":"CK658","v":"入間市"},"",null,"□","久喜市",false,"久喜市","",null,"□","美里町",false,"美里町","",null,"□","長瀞町",{"$f":"IF(DB658=\"☑\",TRUE)","v":false},{"$f":"DC658","v":"長瀞町"},""]
[null,null,null,null,null,null,null,null,null,null,null,null,null,null,null,null,null,null,"□","割引サービス",false,"","□","薬・介護用品配達",false,"","□","乗り合いサービス",false,"","□","理容・美容（出張）",false,"","□","イートインスペース",false,"","□","貸しスペース",false,"","□","麻雀・将棋・囲碁",false,"","□","認知症サポート企業",false,"",null,"□","中央区",false,"さいたま市中央区","",null,null,null,null,null,"",null,"□","富士見市",false,"富士見市","",null,"□","三郷市",false,"三郷市","",null,"□","伊奈町",{"$f":"IF(BX659=\"☑\",TRUE)","v":false},{"$f":"BY659","v":"伊奈町"},"",null,"□","毛呂山町",false,"毛呂山町","",null,"□","日高市",{"$f":"IF(CJ659=\"☑\",TRUE)","v":false},{"$f":"CK659","v":"日高市"},"",null,"□","蓮田市",false,"蓮田市","",null,"□","神川町",false,"神川町","",null,"□","小鹿野町",{"$f":"IF(DB659=\"☑\",TRUE)","v":false},{"$f":"DC659","v":"小鹿野町"},"",null,null,null,null,null,null,null,null,null,{"$f":"IF(#REF!=\"☑\",TRUE)","v":{"$error":"#REF!"}},{"$f":"IF(DP659,#REF!,\"\")","v":{"$error":"#REF!"}}]
[null,null,null,null,null,null,null,null,null,null,null,null,null,null,null,null,null,null,"□","その他（買物）",false,"","□","クリーニング",false,{"$f":"IF(Y660,X660,\"\")","v":""},"□","個別移送サービス",false,"","□","ペット",false,"","□","その他（運動・たまり場）",false,"","□","その他（設備・施設・場所貸し）",false,"","□","ゲームセンター",false,"","□","理容・美容",false,"",null,"□","桜区",false,"さいたま市桜区","",null,null,null,null,null,"",null,"□","ふじみ野市",false,"ふじみ野市","",null,"□","吉川市",false,"吉川市","",null,null,null,null,null,"",null,"□","越生町",false,"越生町","",null,null,null,null,null,"",null,"□","幸手市",false,"幸手市","",null,"□","上里町",false,"上里町","",null,null,null,null,null,"",null,null,null,null,null,null,null,null,null,{"$f":"IF(#REF!=\"☑\",TRUE)","v":{"$error":"#REF!"}},{"$f":"IF(DP660,#REF!,\"\")","v":{"$error":"#REF!"}}]
[null,null,null,null,null,null,null,null,null,null,null,null,null,null,null,null,null,null,null,null,null,null,"□","その他（宅配・デリバリー）",false,{"$f":"IF(Y661,X661,\"\")","v":""},"□","交通機関サービス",false,"","□","その他（出張サービス）",false,"",null,null,null,null,null,null,null,null,"□","旅行・レジャー",false,"","□","成年後見・相続",false,"",null,"□","浦和区",false,"さいたま市浦和区","",null,null,null,null,null,"",null,"□","三芳町",false,"三芳町","",null,"□","松伏町",false,"松伏町","",null,null,null,null,null,"",null,"□","滑川町",false,"滑川町","",null,null,null,null,null,"",null,"□","白岡市",false,"白岡市","",null,"□","寄居町",false,"寄居町","",null,null,null,null,null,""]
[null,null,null,null,null,null,null,null,null,null,null,null,null,null,null,null,null,null,null,null,null,null,null,null,null,null,"□","その他（送迎・移動支援）",false,"",null,null,null,"",null,null,null,{"$f":"IF(AK662,AJ662,\"\")","v":""},null,null,null,{"$f":"IF(AO662,AN662,\"\")","v":""},"□","パソコン・スマホ教室",false,"","□","その他（生活サービス）",false,"",null,"□","南区",false,"さいたま市南区","",null,null,null,null,null,"",null,null,null,null,null,"",null,null,null,null,null,"",null,null,null,null,null,"",null,"□","嵐山町",false,"嵐山町","",null,null,null,null,null,"",null,"□","宮代町",false,"宮代町","",null,null,null,null,null,"",null,null,null,null,null,""]
[null,null,null,null,null,null,null,null,null,null,null,null,null,null,null,null,null,null,null,null,null,null,null,null,null,null,null,null,null,null,null,null,null,null,null,null,null,null,null,null,null,null,"□","その他（学び・趣味）",false,"",null,null,null,null,null,"□","緑区",false,"さいたま市緑区","",null,null,null,null,null,"",null,null,null,null,null,"",null,null,null,null,null,"",null,null,null,null,null,"",null,"□","小川町",false,"小川町","",null,null,null,null,null,"",null,"□","杉戸町",false,"杉戸町","",null,null,null,null,null,"",null,null,null,null,null,""]
[null,null,null,null,null,null,null,null,null,null,null,null,null,null,null,null,null,null,null,null,null,null,null,null,null,null,null,null,null,null,null,null,null,null,null,null,null,null,null,null,null,null,null,null,null,null,null,null,null,null,null,"□","岩槻区",{"$f":"IF(AZ664=\"☑\",TRUE)","v":false},"さいたま市岩槻区","",null,null,null,null,null,"",null,null,null,null,null,"",null,null,null,null,null,"",null,null,null,null,null,"",null,"□","川島町",false,"川島町","",null,null,null,null,null,"",null,null,null,null,null,"",null,null,null,null,null,"",null,null,null,null,null,""]
[null,null,null,null,null,null,null,null,null,null,null,null,null,null,null,null,null,null,null,null,null,null,null,null,null,null,null,null,null,null,null,null,null,null,null,null,null,null,null,null,null,null,null,null,null,null,null,null,null,null,null,null,null,null,null,null,null,null,null,null,null,null,null,null,null,null,null,null,null,null,null,null,null,null,null,null,null,null,null,null,null,"□","吉見町",false,"吉見町","",null,null,null,null,null,"",null,null,null,null,null,"",null,null,null,null,null,"",null,null,null,null,null,""]
[null,null,null,null,null,null,null,null,null,null,null,null,null,null,null,null,null,null,null,null,null,null,null,null,null,null,null,null,null,null,null,null,null,null,null,null,null,null,null,null,null,null,null,null,null,null,null,null,null,null,null,null,null,null,null,null,null,null,null,null,null,null,null,null,null,null,null,null,null,null,null,null,null,null,null,null,null,null,null,null,null,"□","鳩山町",false,"鳩山町","",null,null,null,null,null,"",null,null,null,null,null,"",null,null,null,null,null,"",null,null,null,null,null,""]
[null,null,null,null,null,null,null,null,null,null,null,null,null,null,null,null,null,null,null,null,null,null,null,null,null,null,null,null,null,null,null,null,null,null,null,null,null,null,null,null,null,null,null,null,null,null,null,null,null,null,null,null,null,null,null,null,null,null,null,null,null,null,null,null,null,null,null,null,null,null,null,null,null,null,null,null,null,null,null,null,null,"□","ときがわ町",false,"ときがわ町","",null,null,null,null,null,"",null,null,null,null,null,"",null,null,null,null,null,"",null,null,null,null,null,""]
[null,null,null,null,null,null,null,null,null,null,null,null,null,null,null,null,null,null,null,null,null,null,null,null,null,null,null,null,null,null,null,null,null,null,null,null,null,null,null,null,null,null,null,null,null,null,null,null,null,null,null,null,null,null,null,null,null,null,null,null,null,null,null,null,null,null,null,null,null,null,null,null,null,null,null,null,null,null,null,null,null,"□","東秩父村",false,"東秩父村","",null,null,null,null,null,"",null,null,null,null,null,"",null,null,null,null,null,"",null,null,null,null,null,""]
[47,null,null,null,null,null,null,null,null,null,null,null,null,null,null,null,null,null,"□","配送",{"$f":"IF(S669=\"☑\",TRUE)","v":false},{"$f":"IF(U669,T669,\"\")","v":""},"□","弁当配達",{"$f":"IF(W669=\"☑\",TRUE)","v":false},{"$f":"IF(Y669,X669,\"\")","v":""},"□","理容・美容（送迎）",{"$f":"IF(AA669=\"☑\",TRUE)","v":false},{"$f":"IF(AC669,AB669,\"\")","v":""},"□","家事代行・掃除・片付け",{"$f":"IF(AE669=\"☑\",TRUE)","v":false},{"$f":"IF(AG669,AF669,\"\")","v":""},"□","フィットネス・ジム（運動）",{"$f":"IF(AI669=\"☑\",TRUE)","v":false},{"$f":"IF(AK669,AJ669,\"\")","v":""},"□","車イス対応（バリアフリー）",{"$f":"IF(AM669=\"☑\",TRUE)","v":false},{"$f":"IF(AO669,AN669,\"\")","v":""},"□","講座・教室・イベント",{"$f":"IF(AQ669=\"☑\",TRUE)","v":false},{"$f":"IF(AS669,AR669,\"\")","v":""},"□","防犯・見守り",{"$f":"IF(AU669=\"☑\",TRUE)","v":false},{"$f":"IF(AW669,AV669,\"\")","v":""},{"$f":"_xlfn.TEXTJOIN(\"／\",TRUE,V669:V682,Z669:Z682,AD669:AD682,AH669:AH682,AL669:AL682,AP669:AP682,AT669:AT682,AX669:AX682)","v":""},"□","西区",{"$f":"IF(AZ669=\"☑\",TRUE)","v":false},{"$f":"\"さいたま市\"&BA669","v":"さいたま市西区"},{"$f":"IF(BB669,BC669,\"\")","v":""},{"$f":"_xlfn.TEXTJOIN(\"／\",TRUE,BD669:BD682)","v":""},"□","川口市",{"$f":"IF(BF669=\"☑\",TRUE)","v":false},{"$f":"BG669","v":"川口市"},{"$f":"IF(BH669,BI669,\"\")","v":""},{"$f":"_xludf.TEXTJOIN(\",\",TRUE,BJ669:BJ682)","v":""},"□","朝霞市",{"$f":"IF(BL669=\"☑\",TRUE)","v":false},{"$f":"BM669","v":"朝霞市"},{"$f":"IF(BN669,BO669,\"\")","v":""},{"$f":"_xlfn.TEXTJOIN(\"／\",TRUE,BP669:BP682)","v":""},"□","春日部市",{"$f":"IF(BR669=\"☑\",TRUE)","v":false},{"$f":"BS669","v":"春日部市"},{"$f":"IF(BT669,BU669,\"\")","v":""},{"$f":"_xlfn.TEXTJOIN(\"／\",TRUE,BV669:BV682)","v":""},"□","鴻巣市",{"$f":"IF(BX669=\"☑\",TRUE)","v":false},{"$f":"BY669","v":"鴻巣市"},{"$f":"IF(BZ669,CA669,\"\")","v":""},{"$f":"_xlfn.TEXTJOIN(\"／\",TRUE,CB669:CB682)","v":""},"□","川越市",{"$f":"IF(CD669=\"☑\",TRUE)","v":false},"川越市",{"$f":"IF(CF669,CG669,\"\")","v":""},{"$f":"_xlfn.TEXTJOIN(\"／\",TRUE,CH669:CH682)","v":""},"□","所沢市",{"$f":"IF(CJ669=\"☑\",TRUE)","v":false},{"$f":"CK669","v":"所沢市"},{"$f":"IF(CL669,CM669,\"\")","v":""},{"$f":"_xlfn.TEXTJOIN(\"／\",TRUE,CN669:CN682)","v":""},"□","行田市",{"$f":"IF(CP669=\"☑\",TRUE)","v":false},{"$f":"CQ669","v":"行田市"},{"$f":"IF(CR669,CS669,\"\")","v":""},{"$f":"_xludf.TEXTJOIN(\",\",TRUE,CT669:CT682)","v":""},"□","熊谷市",{"$f":"IF(CV669=\"☑\",TRUE)","v":false},{"$f":"CW669","v":"熊谷市"},{"$f":"IF(CX669,CY669,\"\")","v":""},{"$f":"_xlfn.TEXTJOIN(\"／\",TRUE,CZ669:CZ682)","v":""},"□","秩父市",{"$f":"IF(DB669=\"☑\",TRUE)","v":false},{"$f":"DC669","v":"秩父市"},{"$f":"IF(DD669,DE669,\"\")","v":""},{"$f":"_xlfn.TEXTJOIN(\"／\",TRUE,DF669:DF682)","v":""},{"$f":"_xlfn.TEXTJOIN(\"／\",TRUE,BE669,BK669,BQ669,BW669,CC669,CI669,CO669,CU669,DA669,DG669)","v":""},null,null,null,null,null,null,null,{"$f":"IF(#REF!=\"☑\",TRUE)","v":{"$error":"#REF!"}},{"$f":"IF(DP669,#REF!,\"\")","v":{"$error":"#REF!"}},{"$f":"_xludf.TEXTJOIN(\",\",TRUE,DQ669:DQ682)","v":{"$error":"#VALUE!"}}]
[null,null,null,null,null,null,null,null,null,null,null,null,null,null,null,null,null,null,"□","買物サポート",false,"","□","料理デリバリー（出前）",false,"","□","フィットネス・ジム（送迎）",{"$f":"IF(AA670=\"☑\",TRUE)","v":false},{"$f":"IF(AC670,AB670,\"\")","v":""},"□","出張料理",{"$f":"IF(AE670=\"☑\",TRUE)","v":false},{"$f":"IF(AG670,AF670,\"\")","v":""},"□","温泉・銭湯（たまり場）",false,"","□","多目的トイレ",false,"","□","習い事",{"$f":"IF(AQ670=\"☑\",TRUE)","v":false},{"$f":"IF(AS670,AR670,\"\")","v":""},"□","金融・保険",false,"",null,"□","北区",{"$f":"IF(AZ670=\"☑\",TRUE)","v":false},"さいたま市北区",{"$f":"IF(BB670,BC670,\"\")","v":""},null,"□","蕨市",{"$f":"IF(BF670=\"☑\",TRUE)","v":false},{"$f":"BG670","v":"蕨市"},{"$f":"IF(BH670,BI670,\"\")","v":""},null,"□","志木市",{"$f":"IF(BL670=\"☑\",TRUE)","v":false},"志木市",{"$f":"IF(BN670,BO670,\"\")","v":""},null,"□","草加市",{"$f":"IF(BR670=\"☑\",TRUE)","v":false},"草加市","",null,"□","上尾市",{"$f":"IF(BX670=\"☑\",TRUE)","v":false},{"$f":"BY670","v":"上尾市"},{"$f":"IF(BZ670,CA670,\"\")","v":""},null,"□","東松山市",{"$f":"IF(CD670=\"☑\",TRUE)","v":false},"東松山市",{"$f":"IF(CF670,CG670,\"\")","v":""},null,"□","飯能市",{"$f":"IF(CJ670=\"☑\",TRUE)","v":false},{"$f":"CK670","v":"飯能市"},{"$f":"IF(CL670,CM670,\"\")","v":""},null,"□","加須市",{"$f":"IF(CP670=\"☑\",TRUE)","v":false},"加須市",{"$f":"IF(CR670,CS670,\"\")","v":""},null,"□","本庄市",{"$f":"IF(CV670=\"☑\",TRUE)","v":false},"本庄市",{"$f":"IF(CX670,CY670,\"\")","v":""},null,"□","横瀬町",{"$f":"IF(DB670=\"☑\",TRUE)","v":false},{"$f":"DC670","v":"横瀬町"},{"$f":"IF(DD670,DE670,\"\")","v":""},null,null,null,null,null,null,null,null,null,null,{"$f":"IF(DP670,#REF!,\"\")","v":""}]
[null,null,null,null,null,null,null,null,null,null,null,null,null,null,null,null,null,null,"□","買物代行",false,"","□","食材宅配",false,"","□","温泉・銭湯（送迎）",false,"","□","屋外作業・力仕事",false,"","□","カフェ・ファーストフード",false,"","□","休憩スペース",false,"","□","映画館",false,"","□","住宅・リフォーム",false,"",null,"□","大宮区",false,"さいたま市大宮区","",null,"□","戸田市",{"$f":"IF(BF671=\"☑\",TRUE)","v":false},{"$f":"BG671","v":"戸田市"},"",null,"□","和光市",false,"和光市","",null,"□","越谷市",false,"越谷市","",null,"□","桶川市",{"$f":"IF(BX671=\"☑\",TRUE)","v":false},{"$f":"BY671","v":"桶川市"},"",null,"□","坂戸市",false,"坂戸市","",null,"□","狭山市",{"$f":"IF(CJ671=\"☑\",TRUE)","v":false},{"$f":"CK671","v":"狭山市"},"",null,"□","羽生市",false,"羽生市","",null,"□","深谷市",false,"深谷市","",null,"□","皆野町",{"$f":"IF(DB671=\"☑\",TRUE)","v":false},{"$f":"DC671","v":"皆野町"},"",null,null,null,null,null,null,null,null,null,{"$f":"IF(#REF!=\"☑\",TRUE)","v":{"$error":"#REF!"}},{"$f":"IF(DP671,#REF!,\"\")","v":{"$error":"#REF!"}}]
[null,null,null,null,null,null,null,null,null,null,null,null,null,null,null,null,null,null,"□","移動販売",false,"","□","日用品配達",false,"","□","整体・マッサージ（送迎）",false,"","□","整体・マッサージ（出張）",false,"","□","飲食店",false,"","□","駐車場",false,"","□","カラオケ店",false,"","□","パソコン・スマートフォン",false,"",null,"□","見沼区",false,"さいたま市見沼区","",null,null,null,null,null,"",null,"□","新座市",false,"新座市","",null,"□","八潮市",false,"八潮市","",null,"□","北本市",{"$f":"IF(BX672=\"☑\",TRUE)","v":false},{"$f":"BY672","v":"北本市"},"",null,"□","鶴ヶ島市",false,"鶴ヶ島市","",null,"□","入間市",{"$f":"IF(CJ672=\"☑\",TRUE)","v":false},{"$f":"CK672","v":"入間市"},"",null,"□","久喜市",false,"久喜市","",null,"□","美里町",false,"美里町","",null,"□","長瀞町",{"$f":"IF(DB672=\"☑\",TRUE)","v":false},{"$f":"DC672","v":"長瀞町"},""]
[null,null,null,null,null,null,null,null,null,null,null,null,null,null,null,null,null,null,"□","割引サービス",false,"","□","薬・介護用品配達",false,"","□","乗り合いサービス",false,"","□","理容・美容（出張）",false,"","□","イートインスペース",false,"","□","貸しスペース",false,"","□","麻雀・将棋・囲碁",false,"","□","認知症サポート企業",false,"",null,"□","中央区",false,"さいたま市中央区","",null,null,null,null,null,"",null,"□","富士見市",false,"富士見市","",null,"□","三郷市",false,"三郷市","",null,"□","伊奈町",{"$f":"IF(BX673=\"☑\",TRUE)","v":false},{"$f":"BY673","v":"伊奈町"},"",null,"□","毛呂山町",false,"毛呂山町","",null,"□","日高市",{"$f":"IF(CJ673=\"☑\",TRUE)","v":false},{"$f":"CK673","v":"日高市"},"",null,"□","蓮田市",false,"蓮田市","",null,"□","神川町",false,"神川町","",null,"□","小鹿野町",{"$f":"IF(DB673=\"☑\",TRUE)","v":false},{"$f":"DC673","v":"小鹿野町"},"",null,null,null,null,null,null,null,null,null,{"$f":"IF(#REF!=\"☑\",TRUE)","v":{"$error":"#REF!"}},{"$f":"IF(DP673,#REF!,\"\")","v":{"$error":"#REF!"}}]
[null,null,null,null,null,null,null,null,null,null,null,null,null,null,null,null,null,null,"□","その他（買物）",false,"","□","クリーニング",false,{"$f":"IF(Y674,X674,\"\")","v":""},"□","個別移送サービス",false,"","□","ペット",false,"","□","その他（運動・たまり場）",false,"","□","その他（設備・施設・場所貸し）",false,"","□","ゲームセンター",false,"","□","理容・美容",false,"",null,"□","桜区",false,"さいたま市桜区","",null,null,null,null,null,"",null,"□","ふじみ野市",false,"ふじみ野市","",null,"□","吉川市",false,"吉川市","",null,null,null,null,null,"",null,"□","越生町",false,"越生町","",null,null,null,null,null,"",null,"□","幸手市",false,"幸手市","",null,"□","上里町",false,"上里町","",null,null,null,null,null,"",null,null,null,null,null,null,null,null,null,{"$f":"IF(#REF!=\"☑\",TRUE)","v":{"$error":"#REF!"}},{"$f":"IF(DP674,#REF!,\"\")","v":{"$error":"#REF!"}}]
[null,null,null,null,null,null,null,null,null,null,null,null,null,null,null,null,null,null,null,null,null,null,"□","その他（宅配・デリバリー）",false,{"$f":"IF(Y675,X675,\"\")","v":""},"□","交通機関サービス",false,"","□","その他（出張サービス）",false,"",null,null,null,null,null,null,null,null,"□","旅行・レジャー",false,"","□","成年後見・相続",false,"",null,"□","浦和区",false,"さいたま市浦和区","",null,null,null,null,null,"",null,"□","三芳町",false,"三芳町","",null,"□","松伏町",false,"松伏町","",null,null,null,null,null,"",null,"□","滑川町",false,"滑川町","",null,null,null,null,null,"",null,"□","白岡市",false,"白岡市","",null,"□","寄居町",false,"寄居町","",null,null,null,null,null,""]
[null,null,null,null,null,null,null,null,null,null,null,null,null,null,null,null,null,null,null,null,null,null,null,null,null,null,"□","その他（送迎・移動支援）",false,"",null,null,null,"",null,null,null,{"$f":"IF(AK676,AJ676,\"\")","v":""},null,null,null,{"$f":"IF(AO676,AN676,\"\")","v":""},"□","パソコン・スマホ教室",false,"","□","その他（生活サービス）",false,"",null,"□","南区",false,"さいたま市南区","",null,null,null,null,null,"",null,null,null,null,null,"",null,null,null,null,null,"",null,null,null,null,null,"",null,"□","嵐山町",false,"嵐山町","",null,null,null,null,null,"",null,"□","宮代町",false,"宮代町","",null,null,null,null,null,"",null,null,null,null,null,""]
[null,null,null,null,null,null,null,null,null,null,null,null,null,null,null,null,null,null,null,null,null,null,null,null,null,null,null,null,null,null,null,null,null,null,null,null,null,null,null,null,null,null,"□","その他（学び・趣味）",false,"",null,null,null,null,null,"□","緑区",false,"さいたま市緑区","",null,null,null,null,null,"",null,null,null,null,null,"",null,null,null,null,null,"",null,null,null,null,null,"",null,"□","小川町",false,"小川町","",null,null,null,null,null,"",null,"□","杉戸町",false,"杉戸町","",null,null,null,null,null,"",null,null,null,null,null,""]
[null,null,null,null,null,null,null,null,null,null,null,null,null,null,null,null,null,null,null,null,null,null,null,null,null,null,null,null,null,null,null,null,null,null,null,null,null,null,null,null,null,null,null,null,null,null,null,null,null,null,null,"□","岩槻区",{"$f":"IF(AZ678=\"☑\",TRUE)","v":false},"さいたま市岩槻区","",null,null,null,null,null,"",null,null,null,null,null,"",null,null,null,null,null,"",null,null,null,null,null,"",null,"□","川島町",false,"川島町","",null,null,null,null,null,"",null,null,null,null,null,"",null,null,null,null,null,"",null,null,null,null,null,""]
[null,null,null,null,null,null,null,null,null,null,null,null,null,null,null,null,null,null,null,null,null,null,null,null,null,null,null,null,null,null,null,null,null,null,null,null,null,null,null,null,null,null,null,null,null,null,null,null,null,null,null,null,null,null,null,null,null,null,null,null,null,null,null,null,null,null,null,null,null,null,null,null,null,null,null,null,null,null,null,null,null,"□","吉見町",false,"吉見町","",null,null,null,null,null,"",null,null,null,null,null,"",null,null,null,null,null,"",null,null,null,null,null,""]
[null,null,null,null,null,null,null,null,null,null,null,null,null,null,null,null,null,null,null,null,null,null,null,null,null,null,null,null,null,null,null,null,null,null,null,null,null,null,null,null,null,null,null,null,null,null,null,null,null,null,null,null,null,null,null,null,null,null,null,null,null,null,null,null,null,null,null,null,null,null,null,null,null,null,null,null,null,null,null,null,null,"□","鳩山町",false,"鳩山町","",null,null,null,null,null,"",null,null,null,null,null,"",null,null,null,null,null,"",null,null,null,null,null,""]
[null,null,null,null,null,null,null,null,null,null,null,null,null,null,null,null,null,null,null,null,null,null,null,null,null,null,null,null,null,null,null,null,null,null,null,null,null,null,null,null,null,null,null,null,null,null,null,null,null,null,null,null,null,null,null,null,null,null,null,null,null,null,null,null,null,null,null,null,null,null,null,null,null,null,null,null,null,null,null,null,null,"□","ときがわ町",false,"ときがわ町","",null,null,null,null,null,"",null,null,null,null,null,"",null,null,null,null,null,"",null,null,null,null,null,""]
[null,null,null,null,null,null,null,null,null,null,null,null,null,null,null,null,null,null,null,null,null,null,null,null,null,null,null,null,null,null,null,null,null,null,null,null,null,null,null,null,null,null,null,null,null,null,null,null,null,null,null,null,null,null,null,null,null,null,null,null,null,null,null,null,null,null,null,null,null,null,null,null,null,null,null,null,null,null,null,null,null,"□","東秩父村",false,"東秩父村","",null,null,null,null,null,"",null,null,null,null,null,"",null,null,null,null,null,"",null,null,null,null,null,""]
[48,null,null,null,null,null,null,null,null,null,null,null,null,null,null,null,null,null,"□","配送",{"$f":"IF(S683=\"☑\",TRUE)","v":false},{"$f":"IF(U683,T683,\"\")","v":""},"□","弁当配達",{"$f":"IF(W683=\"☑\",TRUE)","v":false},{"$f":"IF(Y683,X683,\"\")","v":""},"□","理容・美容（送迎）",{"$f":"IF(AA683=\"☑\",TRUE)","v":false},{"$f":"IF(AC683,AB683,\"\")","v":""},"□","家事代行・掃除・片付け",{"$f":"IF(AE683=\"☑\",TRUE)","v":false},{"$f":"IF(AG683,AF683,\"\")","v":""},"□","フィットネス・ジム（運動）",{"$f":"IF(AI683=\"☑\",TRUE)","v":false},{"$f":"IF(AK683,AJ683,\"\")","v":""},"□","車イス対応（バリアフリー）",{"$f":"IF(AM683=\"☑\",TRUE)","v":false},{"$f":"IF(AO683,AN683,\"\")","v":""},"□","講座・教室・イベント",{"$f":"IF(AQ683=\"☑\",TRUE)","v":false},{"$f":"IF(AS683,AR683,\"\")","v":""},"□","防犯・見守り",{"$f":"IF(AU683=\"☑\",TRUE)","v":false},{"$f":"IF(AW683,AV683,\"\")","v":""},{"$f":"_xlfn.TEXTJOIN(\"／\",TRUE,V683:V696,Z683:Z696,AD683:AD696,AH683:AH696,AL683:AL696,AP683:AP696,AT683:AT696,AX683:AX696)","v":""},"□","西区",{"$f":"IF(AZ683=\"☑\",TRUE)","v":false},{"$f":"\"さいたま市\"&BA683","v":"さいたま市西区"},{"$f":"IF(BB683,BC683,\"\")","v":""},{"$f":"_xlfn.TEXTJOIN(\"／\",TRUE,BD683:BD696)","v":""},"□","川口市",{"$f":"IF(BF683=\"☑\",TRUE)","v":false},{"$f":"BG683","v":"川口市"},{"$f":"IF(BH683,BI683,\"\")","v":""},{"$f":"_xludf.TEXTJOIN(\",\",TRUE,BJ683:BJ696)","v":""},"□","朝霞市",{"$f":"IF(BL683=\"☑\",TRUE)","v":false},{"$f":"BM683","v":"朝霞市"},{"$f":"IF(BN683,BO683,\"\")","v":""},{"$f":"_xlfn.TEXTJOIN(\"／\",TRUE,BP683:BP696)","v":""},"□","春日部市",{"$f":"IF(BR683=\"☑\",TRUE)","v":false},{"$f":"BS683","v":"春日部市"},{"$f":"IF(BT683,BU683,\"\")","v":""},{"$f":"_xlfn.TEXTJOIN(\"／\",TRUE,BV683:BV696)","v":""},"□","鴻巣市",{"$f":"IF(BX683=\"☑\",TRUE)","v":false},{"$f":"BY683","v":"鴻巣市"},{"$f":"IF(BZ683,CA683,\"\")","v":""},{"$f":"_xlfn.TEXTJOIN(\"／\",TRUE,CB683:CB696)","v":""},"□","川越市",{"$f":"IF(CD683=\"☑\",TRUE)","v":false},"川越市",{"$f":"IF(CF683,CG683,\"\")","v":""},{"$f":"_xlfn.TEXTJOIN(\"／\",TRUE,CH683:CH696)","v":""},"□","所沢市",{"$f":"IF(CJ683=\"☑\",TRUE)","v":false},{"$f":"CK683","v":"所沢市"},{"$f":"IF(CL683,CM683,\"\")","v":""},{"$f":"_xlfn.TEXTJOIN(\"／\",TRUE,CN683:CN696)","v":""},"□","行田市",{"$f":"IF(CP683=\"☑\",TRUE)","v":false},{"$f":"CQ683","v":"行田市"},{"$f":"IF(CR683,CS683,\"\")","v":""},{"$f":"_xludf.TEXTJOIN(\",\",TRUE,CT683:CT696)","v":""},"□","熊谷市",{"$f":"IF(CV683=\"☑\",TRUE)","v":false},{"$f":"CW683","v":"熊谷市"},{"$f":"IF(CX683,CY683,\"\")","v":""},{"$f":"_xlfn.TEXTJOIN(\"／\",TRUE,CZ683:CZ696)","v":""},"□","秩父市",{"$f":"IF(DB683=\"☑\",TRUE)","v":false},{"$f":"DC683","v":"秩父市"},{"$f":"IF(DD683,DE683,\"\")","v":""},{"$f":"_xlfn.TEXTJOIN(\"／\",TRUE,DF683:DF696)","v":""},{"$f":"_xlfn.TEXTJOIN(\"／\",TRUE,BE683,BK683,BQ683,BW683,CC683,CI683,CO683,CU683,DA683,DG683)","v":""},null,null,null,null,null,null,null,{"$f":"IF(#REF!=\"☑\",TRUE)","v":{"$error":"#REF!"}},{"$f":"IF(DP683,#REF!,\"\")","v":{"$error":"#REF!"}},{"$f":"_xludf.TEXTJOIN(\",\",TRUE,DQ683:DQ696)","v":{"$error":"#VALUE!"}}]
[null,null,null,null,null,null,null,null,null,null,null,null,null,null,null,null,null,null,"□","買物サポート",false,"","□","料理デリバリー（出前）",false,"","□","フィットネス・ジム（送迎）",{"$f":"IF(AA684=\"☑\",TRUE)","v":false},{"$f":"IF(AC684,AB684,\"\")","v":""},"□","出張料理",{"$f":"IF(AE684=\"☑\",TRUE)","v":false},{"$f":"IF(AG684,AF684,\"\")","v":""},"□","温泉・銭湯（たまり場）",false,"","□","多目的トイレ",false,"","□","習い事",{"$f":"IF(AQ684=\"☑\",TRUE)","v":false},{"$f":"IF(AS684,AR684,\"\")","v":""},"□","金融・保険",false,"",null,"□","北区",{"$f":"IF(AZ684=\"☑\",TRUE)","v":false},"さいたま市北区",{"$f":"IF(BB684,BC684,\"\")","v":""},null,"□","蕨市",{"$f":"IF(BF684=\"☑\",TRUE)","v":false},{"$f":"BG684","v":"蕨市"},{"$f":"IF(BH684,BI684,\"\")","v":""},null,"□","志木市",{"$f":"IF(BL684=\"☑\",TRUE)","v":false},"志木市",{"$f":"IF(BN684,BO684,\"\")","v":""},null,"□","草加市",{"$f":"IF(BR684=\"☑\",TRUE)","v":false},"草加市","",null,"□","上尾市",{"$f":"IF(BX684=\"☑\",TRUE)","v":false},{"$f":"BY684","v":"上尾市"},{"$f":"IF(BZ684,CA684,\"\")","v":""},null,"□","東松山市",{"$f":"IF(CD684=\"☑\",TRUE)","v":false},"東松山市",{"$f":"IF(CF684,CG684,\"\")","v":""},null,"□","飯能市",{"$f":"IF(CJ684=\"☑\",TRUE)","v":false},{"$f":"CK684","v":"飯能市"},{"$f":"IF(CL684,CM684,\"\")","v":""},null,"□","加須市",{"$f":"IF(CP684=\"☑\",TRUE)","v":false},"加須市",{"$f":"IF(CR684,CS684,\"\")","v":""},null,"□","本庄市",{"$f":"IF(CV684=\"☑\",TRUE)","v":false},"本庄市",{"$f":"IF(CX684,CY684,\"\")","v":""},null,"□","横瀬町",{"$f":"IF(DB684=\"☑\",TRUE)","v":false},{"$f":"DC684","v":"横瀬町"},{"$f":"IF(DD684,DE684,\"\")","v":""},null,null,null,null,null,null,null,null,null,null,{"$f":"IF(DP684,#REF!,\"\")","v":""}]
[null,null,null,null,null,null,null,null,null,null,null,null,null,null,null,null,null,null,"□","買物代行",false,"","□","食材宅配",false,"","□","温泉・銭湯（送迎）",false,"","□","屋外作業・力仕事",false,"","□","カフェ・ファーストフード",false,"","□","休憩スペース",false,"","□","映画館",false,"","□","住宅・リフォーム",false,"",null,"□","大宮区",false,"さいたま市大宮区","",null,"□","戸田市",{"$f":"IF(BF685=\"☑\",TRUE)","v":false},{"$f":"BG685","v":"戸田市"},"",null,"□","和光市",false,"和光市","",null,"□","越谷市",false,"越谷市","",null,"□","桶川市",{"$f":"IF(BX685=\"☑\",TRUE)","v":false},{"$f":"BY685","v":"桶川市"},"",null,"□","坂戸市",false,"坂戸市","",null,"□","狭山市",{"$f":"IF(CJ685=\"☑\",TRUE)","v":false},{"$f":"CK685","v":"狭山市"},"",null,"□","羽生市",false,"羽生市","",null,"□","深谷市",false,"深谷市","",null,"□","皆野町",{"$f":"IF(DB685=\"☑\",TRUE)","v":false},{"$f":"DC685","v":"皆野町"},"",null,null,null,null,null,null,null,null,null,{"$f":"IF(#REF!=\"☑\",TRUE)","v":{"$error":"#REF!"}},{"$f":"IF(DP685,#REF!,\"\")","v":{"$error":"#REF!"}}]
[null,null,null,null,null,null,null,null,null,null,null,null,null,null,null,null,null,null,"□","移動販売",false,"","□","日用品配達",false,"","□","整体・マッサージ（送迎）",false,"","□","整体・マッサージ（出張）",false,"","□","飲食店",false,"","□","駐車場",false,"","□","カラオケ店",false,"","□","パソコン・スマートフォン",false,"",null,"□","見沼区",false,"さいたま市見沼区","",null,null,null,null,null,"",null,"□","新座市",false,"新座市","",null,"□","八潮市",false,"八潮市","",null,"□","北本市",{"$f":"IF(BX686=\"☑\",TRUE)","v":false},{"$f":"BY686","v":"北本市"},"",null,"□","鶴ヶ島市",false,"鶴ヶ島市","",null,"□","入間市",{"$f":"IF(CJ686=\"☑\",TRUE)","v":false},{"$f":"CK686","v":"入間市"},"",null,"□","久喜市",false,"久喜市","",null,"□","美里町",false,"美里町","",null,"□","長瀞町",{"$f":"IF(DB686=\"☑\",TRUE)","v":false},{"$f":"DC686","v":"長瀞町"},""]
[null,null,null,null,null,null,null,null,null,null,null,null,null,null,null,null,null,null,"□","割引サービス",false,"","□","薬・介護用品配達",false,"","□","乗り合いサービス",false,"","□","理容・美容（出張）",false,"","□","イートインスペース",false,"","□","貸しスペース",false,"","□","麻雀・将棋・囲碁",false,"","□","認知症サポート企業",false,"",null,"□","中央区",false,"さいたま市中央区","",null,null,null,null,null,"",null,"□","富士見市",false,"富士見市","",null,"□","三郷市",false,"三郷市","",null,"□","伊奈町",{"$f":"IF(BX687=\"☑\",TRUE)","v":false},{"$f":"BY687","v":"伊奈町"},"",null,"□","毛呂山町",false,"毛呂山町","",null,"□","日高市",{"$f":"IF(CJ687=\"☑\",TRUE)","v":false},{"$f":"CK687","v":"日高市"},"",null,"□","蓮田市",false,"蓮田市","",null,"□","神川町",false,"神川町","",null,"□","小鹿野町",{"$f":"IF(DB687=\"☑\",TRUE)","v":false},{"$f":"DC687","v":"小鹿野町"},"",null,null,null,null,null,null,null,null,null,{"$f":"IF(#REF!=\"☑\",TRUE)","v":{"$error":"#REF!"}},{"$f":"IF(DP687,#REF!,\"\")","v":{"$error":"#REF!"}}]
[null,null,null,null,null,null,null,null,null,null,null,null,null,null,null,null,null,null,"□","その他（買物）",false,"","□","クリーニング",false,{"$f":"IF(Y688,X688,\"\")","v":""},"□","個別移送サービス",false,"","□","ペット",false,"","□","その他（運動・たまり場）",false,"","□","その他（設備・施設・場所貸し）",false,"","□","ゲームセンター",false,"","□","理容・美容",false,"",null,"□","桜区",false,"さいたま市桜区","",null,null,null,null,null,"",null,"□","ふじみ野市",false,"ふじみ野市","",null,"□","吉川市",false,"吉川市","",null,null,null,null,null,"",null,"□","越生町",false,"越生町","",null,null,null,null,null,"",null,"□","幸手市",false,"幸手市","",null,"□","上里町",false,"上里町","",null,null,null,null,null,"",null,null,null,null,null,null,null,null,null,{"$f":"IF(#REF!=\"☑\",TRUE)","v":{"$error":"#REF!"}},{"$f":"IF(DP688,#REF!,\"\")","v":{"$error":"#REF!"}}]
[null,null,null,null,null,null,null,null,null,null,null,null,null,null,null,null,null,null,null,null,null,null,"□","その他（宅配・デリバリー）",false,{"$f":"IF(Y689,X689,\"\")","v":""},"□","交通機関サービス",false,"","□","その他（出張サービス）",false,"",null,null,null,null,null,null,null,null,"□","旅行・レジャー",false,"","□","成年後見・相続",false,"",null,"□","浦和区",false,"さいたま市浦和区","",null,null,null,null,null,"",null,"□","三芳町",false,"三芳町","",null,"□","松伏町",false,"松伏町","",null,null,null,null,null,"",null,"□","滑川町",false,"滑川町","",null,null,null,null,null,"",null,"□","白岡市",false,"白岡市","",null,"□","寄居町",false,"寄居町","",null,null,null,null,null,""]
[null,null,null,null,null,null,null,null,null,null,null,null,null,null,null,null,null,null,null,null,null,null,null,null,null,null,"□","その他（送迎・移動支援）",false,"",null,null,null,"",null,null,null,{"$f":"IF(AK690,AJ690,\"\")","v":""},null,null,null,{"$f":"IF(AO690,AN690,\"\")","v":""},"□","パソコン・スマホ教室",false,"","□","その他（生活サービス）",false,"",null,"□","南区",false,"さいたま市南区","",null,null,null,null,null,"",null,null,null,null,null,"",null,null,null,null,null,"",null,null,null,null,null,"",null,"□","嵐山町",false,"嵐山町","",null,null,null,null,null,"",null,"□","宮代町",false,"宮代町","",null,null,null,null,null,"",null,null,null,null,null,""]
[null,null,null,null,null,null,null,null,null,null,null,null,null,null,null,null,null,null,null,null,null,null,null,null,null,null,null,null,null,null,null,null,null,null,null,null,null,null,null,null,null,null,"□","その他（学び・趣味）",false,"",null,null,null,null,null,"□","緑区",false,"さいたま市緑区","",null,null,null,null,null,"",null,null,null,null,null,"",null,null,null,null,null,"",null,null,null,null,null,"",null,"□","小川町",false,"小川町","",null,null,null,null,null,"",null,"□","杉戸町",false,"杉戸町","",null,null,null,null,null,"",null,null,null,null,null,""]
[null,null,null,null,null,null,null,null,null,null,null,null,null,null,null,null,null,null,null,null,null,null,null,null,null,null,null,null,null,null,null,null,null,null,null,null,null,null,null,null,null,null,null,null,null,null,null,null,null,null,null,"□","岩槻区",{"$f":"IF(AZ692=\"☑\",TRUE)","v":false},"さいたま市岩槻区","",null,null,null,null,null,"",null,null,null,null,null,"",null,null,null,null,null,"",null,null,null,null,null,"",null,"□","川島町",false,"川島町","",null,null,null,null,null,"",null,null,null,null,null,"",null,null,null,null,null,"",null,null,null,null,null,""]
[null,null,null,null,null,null,null,null,null,null,null,null,null,null,null,null,null,null,null,null,null,null,null,null,null,null,null,null,null,null,null,null,null,null,null,null,null,null,null,null,null,null,null,null,null,null,null,null,null,null,null,null,null,null,null,null,null,null,null,null,null,null,null,null,null,null,null,null,null,null,null,null,null,null,null,null,null,null,null,null,null,"□","吉見町",false,"吉見町","",null,null,null,null,null,"",null,null,null,null,null,"",null,null,null,null,null,"",null,null,null,null,null,""]
[null,null,null,null,null,null,null,null,null,null,null,null,null,null,null,null,null,null,null,null,null,null,null,null,null,null,null,null,null,null,null,null,null,null,null,null,null,null,null,null,null,null,null,null,null,null,null,null,null,null,null,null,null,null,null,null,null,null,null,null,null,null,null,null,null,null,null,null,null,null,null,null,null,null,null,null,null,null,null,null,null,"□","鳩山町",false,"鳩山町","",null,null,null,null,null,"",null,null,null,null,null,"",null,null,null,null,null,"",null,null,null,null,null,""]
[null,null,null,null,null,null,null,null,null,null,null,null,null,null,null,null,null,null,null,null,null,null,null,null,null,null,null,null,null,null,null,null,null,null,null,null,null,null,null,null,null,null,null,null,null,null,null,null,null,null,null,null,null,null,null,null,null,null,null,null,null,null,null,null,null,null,null,null,null,null,null,null,null,null,null,null,null,null,null,null,null,"□","ときがわ町",false,"ときがわ町","",null,null,null,null,null,"",null,null,null,null,null,"",null,null,null,null,null,"",null,null,null,null,null,""]
[null,null,null,null,null,null,null,null,null,null,null,null,null,null,null,null,null,null,null,null,null,null,null,null,null,null,null,null,null,null,null,null,null,null,null,null,null,null,null,null,null,null,null,null,null,null,null,null,null,null,null,null,null,null,null,null,null,null,null,null,null,null,null,null,null,null,null,null,null,null,null,null,null,null,null,null,null,null,null,null,null,"□","東秩父村",false,"東秩父村","",null,null,null,null,null,"",null,null,null,null,null,"",null,null,null,null,null,"",null,null,null,null,null,""]
[49,null,null,null,null,null,null,null,null,null,null,null,null,null,null,null,null,null,"□","配送",{"$f":"IF(S697=\"☑\",TRUE)","v":false},{"$f":"IF(U697,T697,\"\")","v":""},"□","弁当配達",{"$f":"IF(W697=\"☑\",TRUE)","v":false},{"$f":"IF(Y697,X697,\"\")","v":""},"□","理容・美容（送迎）",{"$f":"IF(AA697=\"☑\",TRUE)","v":false},{"$f":"IF(AC697,AB697,\"\")","v":""},"□","家事代行・掃除・片付け",{"$f":"IF(AE697=\"☑\",TRUE)","v":false},{"$f":"IF(AG697,AF697,\"\")","v":""},"□","フィットネス・ジム（運動）",{"$f":"IF(AI697=\"☑\",TRUE)","v":false},{"$f":"IF(AK697,AJ697,\"\")","v":""},"□","車イス対応（バリアフリー）",{"$f":"IF(AM697=\"☑\",TRUE)","v":false},{"$f":"IF(AO697,AN697,\"\")","v":""},"□","講座・教室・イベント",{"$f":"IF(AQ697=\"☑\",TRUE)","v":false},{"$f":"IF(AS697,AR697,\"\")","v":""},"□","防犯・見守り",{"$f":"IF(AU697=\"☑\",TRUE)","v":false},{"$f":"IF(AW697,AV697,\"\")","v":""},{"$f":"_xlfn.TEXTJOIN(\"／\",TRUE,V697:V710,Z697:Z710,AD697:AD710,AH697:AH710,AL697:AL710,AP697:AP710,AT697:AT710,AX697:AX710)","v":""},"□","西区",{"$f":"IF(AZ697=\"☑\",TRUE)","v":false},{"$f":"\"さいたま市\"&BA697","v":"さいたま市西区"},{"$f":"IF(BB697,BC697,\"\")","v":""},{"$f":"_xlfn.TEXTJOIN(\"／\",TRUE,BD697:BD710)","v":""},"□","川口市",{"$f":"IF(BF697=\"☑\",TRUE)","v":false},{"$f":"BG697","v":"川口市"},{"$f":"IF(BH697,BI697,\"\")","v":""},{"$f":"_xludf.TEXTJOIN(\",\",TRUE,BJ697:BJ710)","v":""},"□","朝霞市",{"$f":"IF(BL697=\"☑\",TRUE)","v":false},{"$f":"BM697","v":"朝霞市"},{"$f":"IF(BN697,BO697,\"\")","v":""},{"$f":"_xlfn.TEXTJOIN(\"／\",TRUE,BP697:BP710)","v":""},"□","春日部市",{"$f":"IF(BR697=\"☑\",TRUE)","v":false},{"$f":"BS697","v":"春日部市"},{"$f":"IF(BT697,BU697,\"\")","v":""},{"$f":"_xlfn.TEXTJOIN(\"／\",TRUE,BV697:BV710)","v":""},"□","鴻巣市",{"$f":"IF(BX697=\"☑\",TRUE)","v":false},{"$f":"BY697","v":"鴻巣市"},{"$f":"IF(BZ697,CA697,\"\")","v":""},{"$f":"_xlfn.TEXTJOIN(\"／\",TRUE,CB697:CB710)","v":""},"□","川越市",{"$f":"IF(CD697=\"☑\",TRUE)","v":false},"川越市",{"$f":"IF(CF697,CG697,\"\")","v":""},{"$f":"_xlfn.TEXTJOIN(\"／\",TRUE,CH697:CH710)","v":""},"□","所沢市",{"$f":"IF(CJ697=\"☑\",TRUE)","v":false},{"$f":"CK697","v":"所沢市"},{"$f":"IF(CL697,CM697,\"\")","v":""},{"$f":"_xlfn.TEXTJOIN(\"／\",TRUE,CN697:CN710)","v":""},"□","行田市",{"$f":"IF(CP697=\"☑\",TRUE)","v":false},{"$f":"CQ697","v":"行田市"},{"$f":"IF(CR697,CS697,\"\")","v":""},{"$f":"_xludf.TEXTJOIN(\",\",TRUE,CT697:CT710)","v":""},"□","熊谷市",{"$f":"IF(CV697=\"☑\",TRUE)","v":false},{"$f":"CW697","v":"熊谷市"},{"$f":"IF(CX697,CY697,\"\")","v":""},{"$f":"_xlfn.TEXTJOIN(\"／\",TRUE,CZ697:CZ710)","v":""},"□","秩父市",{"$f":"IF(DB697=\"☑\",TRUE)","v":false},{"$f":"DC697","v":"秩父市"},{"$f":"IF(DD697,DE697,\"\")","v":""},{"$f":"_xlfn.TEXTJOIN(\"／\",TRUE,DF697:DF710)","v":""},{"$f":"_xlfn.TEXTJOIN(\"／\",TRUE,BE697,BK697,BQ697,BW697,CC697,CI697,CO697,CU697,DA697,DG697)","v":""},null,null,null,null,null,null,null,{"$f":"IF(#REF!=\"☑\",TRUE)","v":{"$error":"#REF!"}},{"$f":"IF(DP697,#REF!,\"\")","v":{"$error":"#REF!"}},{"$f":"_xludf.TEXTJOIN(\",\",TRUE,DQ697:DQ710)","v":{"$error":"#VALUE!"}}]
[null,null,null,null,null,null,null,null,null,null,null,null,null,null,null,null,null,null,"□","買物サポート",false,"","□","料理デリバリー（出前）",false,"","□","フィットネス・ジム（送迎）",{"$f":"IF(AA698=\"☑\",TRUE)","v":false},{"$f":"IF(AC698,AB698,\"\")","v":""},"□","出張料理",{"$f":"IF(AE698=\"☑\",TRUE)","v":false},{"$f":"IF(AG698,AF698,\"\")","v":""},"□","温泉・銭湯（たまり場）",false,"","□","多目的トイレ",false,"","□","習い事",{"$f":"IF(AQ698=\"☑\",TRUE)","v":false},{"$f":"IF(AS698,AR698,\"\")","v":""},"□","金融・保険",false,"",null,"□","北区",{"$f":"IF(AZ698=\"☑\",TRUE)","v":false},"さいたま市北区",{"$f":"IF(BB698,BC698,\"\")","v":""},null,"□","蕨市",{"$f":"IF(BF698=\"☑\",TRUE)","v":false},{"$f":"BG698","v":"蕨市"},{"$f":"IF(BH698,BI698,\"\")","v":""},null,"□","志木市",{"$f":"IF(BL698=\"☑\",TRUE)","v":false},"志木市",{"$f":"IF(BN698,BO698,\"\")","v":""},null,"□","草加市",{"$f":"IF(BR698=\"☑\",TRUE)","v":false},"草加市","",null,"□","上尾市",{"$f":"IF(BX698=\"☑\",TRUE)","v":false},{"$f":"BY698","v":"上尾市"},{"$f":"IF(BZ698,CA698,\"\")","v":""},null,"□","東松山市",{"$f":"IF(CD698=\"☑\",TRUE)","v":false},"東松山市",{"$f":"IF(CF698,CG698,\"\")","v":""},null,"□","飯能市",{"$f":"IF(CJ698=\"☑\",TRUE)","v":false},{"$f":"CK698","v":"飯能市"},{"$f":"IF(CL698,CM698,\"\")","v":""},null,"□","加須市",{"$f":"IF(CP698=\"☑\",TRUE)","v":false},"加須市",{"$f":"IF(CR698,CS698,\"\")","v":""},null,"□","本庄市",{"$f":"IF(CV698=\"☑\",TRUE)","v":false},"本庄市",{"$f":"IF(CX698,CY698,\"\")","v":""},null,"□","横瀬町",{"$f":"IF(DB698=\"☑\",TRUE)","v":false},{"$f":"DC698","v":"横瀬町"},{"$f":"IF(DD698,DE698,\"\")","v":""},null,null,null,null,null,null,null,null,null,null,{"$f":"IF(DP698,#REF!,\"\")","v":""}]
[null,null,null,null,null,null,null,null,null,null,null,null,null,null,null,null,null,null,"□","買物代行",false,"","□","食材宅配",false,"","□","温泉・銭湯（送迎）",false,"","□","屋外作業・力仕事",false,"","□","カフェ・ファーストフード",false,"","□","休憩スペース",false,"","□","映画館",false,"","□","住宅・リフォーム",false,"",null,"□","大宮区",false,"さいたま市大宮区","",null,"□","戸田市",{"$f":"IF(BF699=\"☑\",TRUE)","v":false},{"$f":"BG699","v":"戸田市"},"",null,"□","和光市",false,"和光市","",null,"□","越谷市",false,"越谷市","",null,"□","桶川市",{"$f":"IF(BX699=\"☑\",TRUE)","v":false},{"$f":"BY699","v":"桶川市"},"",null,"□","坂戸市",false,"坂戸市","",null,"□","狭山市",{"$f":"IF(CJ699=\"☑\",TRUE)","v":false},{"$f":"CK699","v":"狭山市"},"",null,"□","羽生市",false,"羽生市","",null,"□","深谷市",false,"深谷市","",null,"□","皆野町",{"$f":"IF(DB699=\"☑\",TRUE)","v":false},{"$f":"DC699","v":"皆野町"},"",null,null,null,null,null,null,null,null,null,{"$f":"IF(#REF!=\"☑\",TRUE)","v":{"$error":"#REF!"}},{"$f":"IF(DP699,#REF!,\"\")","v":{"$error":"#REF!"}}]
[null,null,null,null,null,null,null,null,null,null,null,null,null,null,null,null,null,null,"□","移動販売",false,"","□","日用品配達",false,"","□","整体・マッサージ（送迎）",false,"","□","整体・マッサージ（出張）",false,"","□","飲食店",false,"","□","駐車場",false,"","□","カラオケ店",false,"","□","パソコン・スマートフォン",false,"",null,"□","見沼区",false,"さいたま市見沼区","",null,null,null,null,null,"",null,"□","新座市",false,"新座市","",null,"□","八潮市",false,"八潮市","",null,"□","北本市",{"$f":"IF(BX700=\"☑\",TRUE)","v":false},{"$f":"BY700","v":"北本市"},"",null,"□","鶴ヶ島市",false,"鶴ヶ島市","",null,"□","入間市",{"$f":"IF(CJ700=\"☑\",TRUE)","v":false},{"$f":"CK700","v":"入間市"},"",null,"□","久喜市",false,"久喜市","",null,"□","美里町",false,"美里町","",null,"□","長瀞町",{"$f":"IF(DB700=\"☑\",TRUE)","v":false},{"$f":"DC700","v":"長瀞町"},""]
[null,null,null,null,null,null,null,null,null,null,null,null,null,null,null,null,null,null,"□","割引サービス",false,"","□","薬・介護用品配達",false,"","□","乗り合いサービス",false,"","□","理容・美容（出張）",false,"","□","イートインスペース",false,"","□","貸しスペース",false,"","□","麻雀・将棋・囲碁",false,"","□","認知症サポート企業",false,"",null,"□","中央区",false,"さいたま市中央区","",null,null,null,null,null,"",null,"□","富士見市",false,"富士見市","",null,"□","三郷市",false,"三郷市","",null,"□","伊奈町",{"$f":"IF(BX701=\"☑\",TRUE)","v":false},{"$f":"BY701","v":"伊奈町"},"",null,"□","毛呂山町",false,"毛呂山町","",null,"□","日高市",{"$f":"IF(CJ701=\"☑\",TRUE)","v":false},{"$f":"CK701","v":"日高市"},"",null,"□","蓮田市",false,"蓮田市","",null,"□","神川町",false,"神川町","",null,"□","小鹿野町",{"$f":"IF(DB701=\"☑\",TRUE)","v":false},{"$f":"DC701","v":"小鹿野町"},"",null,null,null,null,null,null,null,null,null,{"$f":"IF(#REF!=\"☑\",TRUE)","v":{"$error":"#REF!"}},{"$f":"IF(DP701,#REF!,\"\")","v":{"$error":"#REF!"}}]
[null,null,null,null,null,null,null,null,null,null,null,null,null,null,null,null,null,null,"□","その他（買物）",false,"","□","クリーニング",false,{"$f":"IF(Y702,X702,\"\")","v":""},"□","個別移送サービス",false,"","□","ペット",false,"","□","その他（運動・たまり場）",false,"","□","その他（設備・施設・場所貸し）",false,"","□","ゲームセンター",false,"","□","理容・美容",false,"",null,"□","桜区",false,"さいたま市桜区","",null,null,null,null,null,"",null,"□","ふじみ野市",false,"ふじみ野市","",null,"□","吉川市",false,"吉川市","",null,null,null,null,null,"",null,"□","越生町",false,"越生町","",null,null,null,null,null,"",null,"□","幸手市",false,"幸手市","",null,"□","上里町",false,"上里町","",null,null,null,null,null,"",null,null,null,null,null,null,null,null,null,{"$f":"IF(#REF!=\"☑\",TRUE)","v":{"$error":"#REF!"}},{"$f":"IF(DP702,#REF!,\"\")","v":{"$error":"#REF!"}}]
[null,null,null,null,null,null,null,null,null,null,null,null,null,null,null,null,null,null,null,null,null,null,"□","その他（宅配・デリバリー）",false,{"$f":"IF(Y703,X703,\"\")","v":""},"□","交通機関サービス",false,"","□","その他（出張サービス）",false,"",null,null,null,null,null,null,null,null,"□","旅行・レジャー",false,"","□","成年後見・相続",false,"",null,"□","浦和区",false,"さいたま市浦和区","",null,null,null,null,null,"",null,"□","三芳町",false,"三芳町","",null,"□","松伏町",false,"松伏町","",null,null,null,null,null,"",null,"□","滑川町",false,"滑川町","",null,null,null,null,null,"",null,"□","白岡市",false,"白岡市","",null,"□","寄居町",false,"寄居町","",null,null,null,null,null,""]
[null,null,null,null,null,null,null,null,null,null,null,null,null,null,null,null,null,null,null,null,null,null,null,null,null,null,"□","その他（送迎・移動支援）",false,"",null,null,null,"",null,null,null,{"$f":"IF(AK704,AJ704,\"\")","v":""},null,null,null,{"$f":"IF(AO704,AN704,\"\")","v":""},"□","パソコン・スマホ教室",false,"","□","その他（生活サービス）",false,"",null,"□","南区",false,"さいたま市南区","",null,null,null,null,null,"",null,null,null,null,null,"",null,null,null,null,null,"",null,null,null,null,null,"",null,"□","嵐山町",false,"嵐山町","",null,null,null,null,null,"",null,"□","宮代町",false,"宮代町","",null,null,null,null,null,"",null,null,null,null,null,""]
[null,null,null,null,null,null,null,null,null,null,null,null,null,null,null,null,null,null,null,null,null,null,null,null,null,null,null,null,null,null,null,null,null,null,null,null,null,null,null,null,null,null,"□","その他（学び・趣味）",false,"",null,null,null,null,null,"□","緑区",false,"さいたま市緑区","",null,null,null,null,null,"",null,null,null,null,null,"",null,null,null,null,null,"",null,null,null,null,null,"",null,"□","小川町",false,"小川町","",null,null,null,null,null,"",null,"□","杉戸町",false,"杉戸町","",null,null,null,null,null,"",null,null,null,null,null,""]
[null,null,null,null,null,null,null,null,null,null,null,null,null,null,null,null,null,null,null,null,null,null,null,null,null,null,null,null,null,null,null,null,null,null,null,null,null,null,null,null,null,null,null,null,null,null,null,null,null,null,null,"□","岩槻区",{"$f":"IF(AZ706=\"☑\",TRUE)","v":false},"さいたま市岩槻区","",null,null,null,null,null,"",null,null,null,null,null,"",null,null,null,null,null,"",null,null,null,null,null,"",null,"□","川島町",false,"川島町","",null,null,null,null,null,"",null,null,null,null,null,"",null,null,null,null,null,"",null,null,null,null,null,""]
[null,null,null,null,null,null,null,null,null,null,null,null,null,null,null,null,null,null,null,null,null,null,null,null,null,null,null,null,null,null,null,null,null,null,null,null,null,null,null,null,null,null,null,null,null,null,null,null,null,null,null,null,null,null,null,null,null,null,null,null,null,null,null,null,null,null,null,null,null,null,null,null,null,null,null,null,null,null,null,null,null,"□","吉見町",false,"吉見町","",null,null,null,null,null,"",null,null,null,null,null,"",null,null,null,null,null,"",null,null,null,null,null,""]
[null,null,null,null,null,null,null,null,null,null,null,null,null,null,null,null,null,null,null,null,null,null,null,null,null,null,null,null,null,null,null,null,null,null,null,null,null,null,null,null,null,null,null,null,null,null,null,null,null,null,null,null,null,null,null,null,null,null,null,null,null,null,null,null,null,null,null,null,null,null,null,null,null,null,null,null,null,null,null,null,null,"□","鳩山町",false,"鳩山町","",null,null,null,null,null,"",null,null,null,null,null,"",null,null,null,null,null,"",null,null,null,null,null,""]
[null,null,null,null,null,null,null,null,null,null,null,null,null,null,null,null,null,null,null,null,null,null,null,null,null,null,null,null,null,null,null,null,null,null,null,null,null,null,null,null,null,null,null,null,null,null,null,null,null,null,null,null,null,null,null,null,null,null,null,null,null,null,null,null,null,null,null,null,null,null,null,null,null,null,null,null,null,null,null,null,null,"□","ときがわ町",false,"ときがわ町","",null,null,null,null,null,"",null,null,null,null,null,"",null,null,null,null,null,"",null,null,null,null,null,""]
[null,null,null,null,null,null,null,null,null,null,null,null,null,null,null,null,null,null,null,null,null,null,null,null,null,null,null,null,null,null,null,null,null,null,null,null,null,null,null,null,null,null,null,null,null,null,null,null,null,null,null,null,null,null,null,null,null,null,null,null,null,null,null,null,null,null,null,null,null,null,null,null,null,null,null,null,null,null,null,null,null,"□","東秩父村",false,"東秩父村","",null,null,null,null,null,"",null,null,null,null,null,"",null,null,null,null,null,"",null,null,null,null,null,""]
[50,null,null,null,null,null,null,null,null,null,null,null,null,null,null,null,null,null,"□","配送",{"$f":"IF(S711=\"☑\",TRUE)","v":false},{"$f":"IF(U711,T711,\"\")","v":""},"□","弁当配達",{"$f":"IF(W711=\"☑\",TRUE)","v":false},{"$f":"IF(Y711,X711,\"\")","v":""},"□","理容・美容（送迎）",{"$f":"IF(AA711=\"☑\",TRUE)","v":false},{"$f":"IF(AC711,AB711,\"\")","v":""},"□","家事代行・掃除・片付け",{"$f":"IF(AE711=\"☑\",TRUE)","v":false},{"$f":"IF(AG711,AF711,\"\")","v":""},"□","フィットネス・ジム（運動）",{"$f":"IF(AI711=\"☑\",TRUE)","v":false},{"$f":"IF(AK711,AJ711,\"\")","v":""},"□","車イス対応（バリアフリー）",{"$f":"IF(AM711=\"☑\",TRUE)","v":false},{"$f":"IF(AO711,AN711,\"\")","v":""},"□","講座・教室・イベント",{"$f":"IF(AQ711=\"☑\",TRUE)","v":false},{"$f":"IF(AS711,AR711,\"\")","v":""},"□","防犯・見守り",{"$f":"IF(AU711=\"☑\",TRUE)","v":false},{"$f":"IF(AW711,AV711,\"\")","v":""},{"$f":"_xlfn.TEXTJOIN(\"／\",TRUE,V711:V724,Z711:Z724,AD711:AD724,AH711:AH724,AL711:AL724,AP711:AP724,AT711:AT724,AX711:AX724)","v":""},"□","西区",{"$f":"IF(AZ711=\"☑\",TRUE)","v":false},{"$f":"\"さいたま市\"&BA711","v":"さいたま市西区"},{"$f":"IF(BB711,BC711,\"\")","v":""},{"$f":"_xlfn.TEXTJOIN(\"／\",TRUE,BD711:BD724)","v":""},"□","川口市",{"$f":"IF(BF711=\"☑\",TRUE)","v":false},{"$f":"BG711","v":"川口市"},{"$f":"IF(BH711,BI711,\"\")","v":""},{"$f":"_xludf.TEXTJOIN(\",\",TRUE,BJ711:BJ724)","v":""},"□","朝霞市",{"$f":"IF(BL711=\"☑\",TRUE)","v":false},{"$f":"BM711","v":"朝霞市"},{"$f":"IF(BN711,BO711,\"\")","v":""},{"$f":"_xlfn.TEXTJOIN(\"／\",TRUE,BP711:BP724)","v":""},"□","春日部市",{"$f":"IF(BR711=\"☑\",TRUE)","v":false},{"$f":"BS711","v":"春日部市"},{"$f":"IF(BT711,BU711,\"\")","v":""},{"$f":"_xlfn.TEXTJOIN(\"／\",TRUE,BV711:BV724)","v":""},"□","鴻巣市",{"$f":"IF(BX711=\"☑\",TRUE)","v":false},{"$f":"BY711","v":"鴻巣市"},{"$f":"IF(BZ711,CA711,\"\")","v":""},{"$f":"_xlfn.TEXTJOIN(\"／\",TRUE,CB711:CB724)","v":""},"□","川越市",{"$f":"IF(CD711=\"☑\",TRUE)","v":false},"川越市",{"$f":"IF(CF711,CG711,\"\")","v":""},{"$f":"_xlfn.TEXTJOIN(\"／\",TRUE,CH711:CH724)","v":""},"□","所沢市",{"$f":"IF(CJ711=\"☑\",TRUE)","v":false},{"$f":"CK711","v":"所沢市"},{"$f":"IF(CL711,CM711,\"\")","v":""},{"$f":"_xlfn.TEXTJOIN(\"／\",TRUE,CN711:CN724)","v":""},"□","行田市",{"$f":"IF(CP711=\"☑\",TRUE)","v":false},{"$f":"CQ711","v":"行田市"},{"$f":"IF(CR711,CS711,\"\")","v":""},{"$f":"_xludf.TEXTJOIN(\",\",TRUE,CT711:CT724)","v":""},"□","熊谷市",{"$f":"IF(CV711=\"☑\",TRUE)","v":false},{"$f":"CW711","v":"熊谷市"},{"$f":"IF(CX711,CY711,\"\")","v":""},{"$f":"_xlfn.TEXTJOIN(\"／\",TRUE,CZ711:CZ724)","v":""},"□","秩父市",{"$f":"IF(DB711=\"☑\",TRUE)","v":false},{"$f":"DC711","v":"秩父市"},{"$f":"IF(DD711,DE711,\"\")","v":""},{"$f":"_xlfn.TEXTJOIN(\"／\",TRUE,DF711:DF724)","v":""},{"$f":"_xlfn.TEXTJOIN(\"／\",TRUE,BE711,BK711,BQ711,BW711,CC711,CI711,CO711,CU711,DA711,DG711)","v":""},null,null,null,null,null,null,null,{"$f":"IF(#REF!=\"☑\",TRUE)","v":{"$error":"#REF!"}},{"$f":"IF(DP711,#REF!,\"\")","v":{"$error":"#REF!"}},{"$f":"_xludf.TEXTJOIN(\",\",TRUE,DQ711:DQ724)","v":{"$error":"#VALUE!"}}]
[null,null,null,null,null,null,null,null,null,null,null,null,null,null,null,null,null,null,"□","買物サポート",false,"","□","料理デリバリー（出前）",false,"","□","フィットネス・ジム（送迎）",{"$f":"IF(AA712=\"☑\",TRUE)","v":false},{"$f":"IF(AC712,AB712,\"\")","v":""},"□","出張料理",{"$f":"IF(AE712=\"☑\",TRUE)","v":false},{"$f":"IF(AG712,AF712,\"\")","v":""},"□","温泉・銭湯（たまり場）",false,"","□","多目的トイレ",false,"","□","習い事",{"$f":"IF(AQ712=\"☑\",TRUE)","v":false},{"$f":"IF(AS712,AR712,\"\")","v":""},"□","金融・保険",false,"",null,"□","北区",{"$f":"IF(AZ712=\"☑\",TRUE)","v":false},"さいたま市北区",{"$f":"IF(BB712,BC712,\"\")","v":""},null,"□","蕨市",{"$f":"IF(BF712=\"☑\",TRUE)","v":false},{"$f":"BG712","v":"蕨市"},{"$f":"IF(BH712,BI712,\"\")","v":""},null,"□","志木市",{"$f":"IF(BL712=\"☑\",TRUE)","v":false},"志木市",{"$f":"IF(BN712,BO712,\"\")","v":""},null,"□","草加市",{"$f":"IF(BR712=\"☑\",TRUE)","v":false},"草加市","",null,"□","上尾市",{"$f":"IF(BX712=\"☑\",TRUE)","v":false},{"$f":"BY712","v":"上尾市"},{"$f":"IF(BZ712,CA712,\"\")","v":""},null,"□","東松山市",{"$f":"IF(CD712=\"☑\",TRUE)","v":false},"東松山市",{"$f":"IF(CF712,CG712,\"\")","v":""},null,"□","飯能市",{"$f":"IF(CJ712=\"☑\",TRUE)","v":false},{"$f":"CK712","v":"飯能市"},{"$f":"IF(CL712,CM712,\"\")","v":""},null,"□","加須市",{"$f":"IF(CP712=\"☑\",TRUE)","v":false},"加須市",{"$f":"IF(CR712,CS712,\"\")","v":""},null,"□","本庄市",{"$f":"IF(CV712=\"☑\",TRUE)","v":false},"本庄市",{"$f":"IF(CX712,CY712,\"\")","v":""},null,"□","横瀬町",{"$f":"IF(DB712=\"☑\",TRUE)","v":false},{"$f":"DC712","v":"横瀬町"},{"$f":"IF(DD712,DE712,\"\")","v":""},null,null,null,null,null,null,null,null,null,null,{"$f":"IF(DP712,#REF!,\"\")","v":""}]
[null,null,null,null,null,null,null,null,null,null,null,null,null,null,null,null,null,null,"□","買物代行",false,"","□","食材宅配",false,"","□","温泉・銭湯（送迎）",false,"","□","屋外作業・力仕事",false,"","□","カフェ・ファーストフード",false,"","□","休憩スペース",false,"","□","映画館",false,"","□","住宅・リフォーム",false,"",null,"□","大宮区",false,"さいたま市大宮区","",null,"□","戸田市",{"$f":"IF(BF713=\"☑\",TRUE)","v":false},{"$f":"BG713","v":"戸田市"},"",null,"□","和光市",false,"和光市","",null,"□","越谷市",false,"越谷市","",null,"□","桶川市",{"$f":"IF(BX713=\"☑\",TRUE)","v":false},{"$f":"BY713","v":"桶川市"},"",null,"□","坂戸市",false,"坂戸市","",null,"□","狭山市",{"$f":"IF(CJ713=\"☑\",TRUE)","v":false},{"$f":"CK713","v":"狭山市"},"",null,"□","羽生市",false,"羽生市","",null,"□","深谷市",false,"深谷市","",null,"□","皆野町",{"$f":"IF(DB713=\"☑\",TRUE)","v":false},{"$f":"DC713","v":"皆野町"},"",null,null,null,null,null,null,null,null,null,{"$f":"IF(#REF!=\"☑\",TRUE)","v":{"$error":"#REF!"}},{"$f":"IF(DP713,#REF!,\"\")","v":{"$error":"#REF!"}}]
[null,null,null,null,null,null,null,null,null,null,null,null,null,null,null,null,null,null,"□","移動販売",false,"","□","日用品配達",false,"","□","整体・マッサージ（送迎）",false,"","□","整体・マッサージ（出張）",false,"","□","飲食店",false,"","□","駐車場",false,"","□","カラオケ店",false,"","□","パソコン・スマートフォン",false,"",null,"□","見沼区",false,"さいたま市見沼区","",null,null,null,null,null,"",null,"□","新座市",false,"新座市","",null,"□","八潮市",false,"八潮市","",null,"□","北本市",{"$f":"IF(BX714=\"☑\",TRUE)","v":false},{"$f":"BY714","v":"北本市"},"",null,"□","鶴ヶ島市",false,"鶴ヶ島市","",null,"□","入間市",{"$f":"IF(CJ714=\"☑\",TRUE)","v":false},{"$f":"CK714","v":"入間市"},"",null,"□","久喜市",false,"久喜市","",null,"□","美里町",false,"美里町","",null,"□","長瀞町",{"$f":"IF(DB714=\"☑\",TRUE)","v":false},{"$f":"DC714","v":"長瀞町"},""]
[null,null,null,null,null,null,null,null,null,null,null,null,null,null,null,null,null,null,"□","割引サービス",false,"","□","薬・介護用品配達",false,"","□","乗り合いサービス",false,"","□","理容・美容（出張）",false,"","□","イートインスペース",false,"","□","貸しスペース",false,"","□","麻雀・将棋・囲碁",false,"","□","認知症サポート企業",false,"",null,"□","中央区",false,"さいたま市中央区","",null,null,null,null,null,"",null,"□","富士見市",false,"富士見市","",null,"□","三郷市",false,"三郷市","",null,"□","伊奈町",{"$f":"IF(BX715=\"☑\",TRUE)","v":false},{"$f":"BY715","v":"伊奈町"},"",null,"□","毛呂山町",false,{"$f":"CE715","v":"毛呂山町"},"",null,"□","日高市",{"$f":"IF(CJ715=\"☑\",TRUE)","v":false},{"$f":"CK715","v":"日高市"},"",null,"□","蓮田市",false,"蓮田市","",null,"□","神川町",false,"神川町","",null,"□","小鹿野町",{"$f":"IF(DB715=\"☑\",TRUE)","v":false},{"$f":"DC715","v":"小鹿野町"},"",null,null,null,null,null,null,null,null,null,{"$f":"IF(#REF!=\"☑\",TRUE)","v":{"$error":"#REF!"}},{"$f":"IF(DP715,#REF!,\"\")","v":{"$error":"#REF!"}}]
[null,null,null,null,null,null,null,null,null,null,null,null,null,null,null,null,null,null,"□","その他（買物）",false,"","□","クリーニング",false,{"$f":"IF(Y716,X716,\"\")","v":""},"□","個別移送サービス",false,"","□","ペット",false,"","□","その他（運動・たまり場）",false,"","□","その他（設備・施設・場所貸し）",false,"","□","ゲームセンター",false,"","□","理容・美容",false,"",null,"□","桜区",false,"さいたま市桜区","",null,null,null,null,null,"",null,"□","ふじみ野市",false,"ふじみ野市","",null,"□","吉川市",false,"吉川市","",null,null,null,null,null,"",null,"□","越生町",false,"越生町","",null,null,null,null,null,"",null,"□","幸手市",false,"幸手市","",null,"□","上里町",false,"上里町","",null,null,null,null,null,"",null,null,null,null,null,null,null,null,null,{"$f":"IF(#REF!=\"☑\",TRUE)","v":{"$error":"#REF!"}},{"$f":"IF(DP716,#REF!,\"\")","v":{"$error":"#REF!"}}]
[null,null,null,null,null,null,null,null,null,null,null,null,null,null,null,null,null,null,null,null,null,null,"□","その他（宅配・デリバリー）",false,{"$f":"IF(Y717,X717,\"\")","v":""},"□","交通機関サービス",false,"","□","その他（出張サービス）",false,"",null,null,null,null,null,null,null,null,"□","旅行・レジャー",false,"","□","成年後見・相続",false,"",null,"□","浦和区",false,"さいたま市浦和区","",null,null,null,null,null,"",null,"□","三芳町",false,"三芳町","",null,"□","松伏町",false,"松伏町","",null,null,null,null,null,"",null,"□","滑川町",false,"滑川町","",null,null,null,null,null,"",null,"□","白岡市",false,"白岡市","",null,"□","寄居町",false,"寄居町","",null,null,null,null,null,""]
[null,null,null,null,null,null,null,null,null,null,null,null,null,null,null,null,null,null,null,null,null,null,null,null,null,null,"□","その他（送迎・移動支援）",false,"",null,null,null,"",null,null,null,{"$f":"IF(AK718,AJ718,\"\")","v":""},null,null,null,{"$f":"IF(AO718,AN718,\"\")","v":""},"□","パソコン・スマホ教室",false,"","□","その他（生活サービス）",false,"",null,"□","南区",false,"さいたま市南区","",null,null,null,null,null,"",null,null,null,null,null,"",null,null,null,null,null,"",null,null,null,null,null,"",null,"□","嵐山町",false,"嵐山町","",null,null,null,null,null,"",null,"□","宮代町",false,"宮代町","",null,null,null,null,null,"",null,null,null,null,null,""]
[null,null,null,null,null,null,null,null,null,null,null,null,null,null,null,null,null,null,null,null,null,null,null,null,null,null,null,null,null,null,null,null,null,null,null,null,null,null,null,null,null,null,"□","その他（学び・趣味）",false,"",null,null,null,null,null,"□","緑区",false,"さいたま市緑区","",null,null,null,null,null,"",null,null,null,null,null,"",null,null,null,null,null,"",null,null,null,null,null,"",null,"□","小川町",false,"小川町","",null,null,null,null,null,"",null,"□","杉戸町",false,"杉戸町","",null,null,null,null,null,"",null,null,null,null,null,""]
[null,null,null,null,null,null,null,null,null,null,null,null,null,null,null,null,null,null,null,null,null,null,null,null,null,null,null,null,null,null,null,null,null,null,null,null,null,null,null,null,null,null,null,null,null,null,null,null,null,null,null,"□","岩槻区",{"$f":"IF(AZ720=\"☑\",TRUE)","v":false},"さいたま市岩槻区","",null,null,null,null,null,"",null,null,null,null,null,"",null,null,null,null,null,"",null,null,null,null,null,"",null,"□","川島町",false,"川島町","",null,null,null,null,null,"",null,null,null,null,null,"",null,null,null,null,null,"",null,null,null,null,null,""]
[null,null,null,null,null,null,null,null,null,null,null,null,null,null,null,null,null,null,null,null,null,null,null,null,null,null,null,null,null,null,null,null,null,null,null,null,null,null,null,null,null,null,null,null,null,null,null,null,null,null,null,null,null,null,null,null,null,null,null,null,null,null,null,null,null,null,null,null,null,null,null,null,null,null,null,null,null,null,null,null,null,"□","吉見町",false,"吉見町","",null,null,null,null,null,"",null,null,null,null,null,"",null,null,null,null,null,"",null,null,null,null,null,""]
[null,null,null,null,null,null,null,null,null,null,null,null,null,null,null,null,null,null,null,null,null,null,null,null,null,null,null,null,null,null,null,null,null,null,null,null,null,null,null,null,null,null,null,null,null,null,null,null,null,null,null,null,null,null,null,null,null,null,null,null,null,null,null,null,null,null,null,null,null,null,null,null,null,null,null,null,null,null,null,null,null,"□","鳩山町",false,"鳩山町","",null,null,null,null,null,"",null,null,null,null,null,"",null,null,null,null,null,"",null,null,null,null,null,""]
[null,null,null,null,null,null,null,null,null,null,null,null,null,null,null,null,null,null,null,null,null,null,null,null,null,null,null,null,null,null,null,null,null,null,null,null,null,null,null,null,null,null,null,null,null,null,null,null,null,null,null,null,null,null,null,null,null,null,null,null,null,null,null,null,null,null,null,null,null,null,null,null,null,null,null,null,null,null,null,null,null,"□","ときがわ町",false,"ときがわ町","",null,null,null,null,null,"",null,null,null,null,null,"",null,null,null,null,null,"",null,null,null,null,null,""]
[null,null,null,null,null,null,null,null,null,null,null,null,null,null,null,null,null,null,null,null,null,null,null,null,null,null,null,null,null,null,null,null,null,null,null,null,null,null,null,null,null,null,null,null,null,null,null,null,null,null,null,null,null,null,null,null,null,null,null,null,null,null,null,null,null,null,null,null,null,null,null,null,null,null,null,null,null,null,null,null,null,"□","東秩父村",false,"東秩父村","",null,null,null,null,null,"",null,null,null,null,null,"",null,null,null,null,null,"",null,null,null,null,null,""]

{"sheet":"変換シート","index":1,"n_rows":54,"n_cols":83,"rows_kept":54,"cut":false,"hidden":true,"merged":[]}
["変換前データ",null,"変換後データ"]
[null,null,"サービス提供エリア[上尾市]","サービス提供エリア[朝霞市]","サービス提供エリア[伊奈町]","サービス提供エリア[入間市]","サービス提供エリア[小鹿野町]","サービス提供エリア[小川町]","サービス提供エリア[桶川市]","サービス提供エリア[越生町]","サービス提供エリア[春日部市]","サービス提供エリア[加須市]","サービス提供エリア[神川町]","サービス提供エリア[上里町]","サービス提供エリア[川口市]","サービス提供エリア[川越市]","サービス提供エリア[川島町]","サービス提供エリア[北本市]","サービス提供エリア[行田市]","サービス提供エリア[久喜市]","サービス提供エリア[熊谷市]","サービス提供エリア[鴻巣市]","サービス提供エリア[越谷市]","サービス提供エリア[さいたま市岩槻区]","サービス提供エリア[さいたま市浦和区]","サービス提供エリア[さいたま市大宮区]","サービス提供エリア[さいたま市北区]","サービス提供エリア[さいたま市桜区]","サービス提供エリア[さいたま市中央区]","サービス提供エリア[さいたま市西区]","サービス提供エリア[さいたま市緑区]","サービス提供エリア[さいたま市南区]","サービス提供エリア[さいたま市見沼区]","サービス提供エリア[坂戸市]","サービス提供エリア[幸手市]","サービス提供エリア[狭山市]","サービス提供エリア[志木市]","サービス提供エリア[白岡市]","サービス提供エリア[杉戸町]","サービス提供エリア[草加市]","サービス提供エリア[秩父市]","サービス提供エリア[鶴ヶ島市]","サービス提供エリア[ときがわ町]","サービス提供エリア[所沢市]","サービス提供エリア[戸田市]","サービス提供エリア[長瀞町]","サービス提供エリア[滑川町]","サービス提供エリア[新座市]","サービス提供エリア[蓮田市]","サービス提供エリア[鳩山町]","サービス提供エリア[羽生市]","サービス提供エリア[飯能市]","サービス提供エリア[東秩父村]","サービス提供エリア[東松山市]","サービス提供エリア[日高市]","サービス提供エリア[深谷市]","サービス提供エリア[富士見市]","サービス提供エリア[ふじみ野市]","サービス提供エリア[本庄市]","サービス提供エリア[松伏町]","サービス提供エリア[三郷市]","サービス提供エリア[美里町]","サービス提供エリア[皆野町]","サービス提供エリア[宮代町]","サービス提供エリア[三芳町]","サービス提供エリア[毛呂山町]","サービス提供エリア[八潮市]","サービス提供エリア[横瀬町]","サービス提供エリア[吉川市]","サービス提供エリア[吉見町]","サービス提供エリア[寄居町]","サービス提供エリア[嵐山町]","サービス提供エリア[和光市]","サービス提供エリア[蕨市]","サービスカテゴリ[買物]","サービスカテゴリ[宅配・デリバリー]","サービスカテゴリ[送迎サービス]","サービスカテゴリ[出張サービス]","サービスカテゴリ[運動・たまり場（憩いの場）]","サービスカテゴリ[設備・施設・場所貸し]","サービスカテゴリ[学び・趣味]","サービスカテゴリ[生活サービス]"]
["行番号","結合","上尾市","朝霞市","伊奈町","入間市","小鹿野町","小川町","桶川市","越生町","春日部市","加須市","神川町","上里町","川口市","川越市","川島町","北本市","行田市","久喜市","熊谷市","鴻巣市","越谷市","岩槻区","浦和区","大宮区","北区","桜区","中央区","西区","緑区","南区","見沼区","坂戸市","幸手市","狭山市","志木市","白岡市","杉戸町","草加市","秩父市","鶴ヶ島市","ときがわ町","所沢市","戸田市","長瀞町","滑川町","新座市","蓮田市","鳩山町","羽生市","飯能市","東秩父村","東松山市","日高市","深谷市","富士見市","ふじみ野市","本庄市","松伏町","三郷市","美里町","皆野町","宮代町","三芳町","毛呂山町","八潮市","横瀬町","吉川市","吉見町","寄居町","嵐山町","和光市","蕨市","買物","宅配・デリバリー","送迎サービス","出張サービス","運動・たまり場（憩いの場）","設備・施設・場所貸し","学び・趣味","生活サービス","サービスカテゴリ詳細"]
["例",{"$f":"入力画面!DH11","v":"さいたま市西区／さいたま市大宮区／さいたま市中央区／さいたま市浦和区／川口市／朝霞市／富士見市／春日部市／草加市／上尾市／北本市／川越市／所沢市／狭山市／行田市／蓮田市／白岡市／熊谷市／秩父市"},{"$f":"IF(ISNUMBER(SEARCH(C$3, $B4)),1,\"\")","v":1},1,"","","","","","",1,"","","",1,1,"",1,{"$f":"IF(ISNUMBER(SEARCH(S$3, $B4)),1,\"\")","v":1},"",1,"","","",1,1,"","",1,1,"","","","",{"$f":"IF(ISNUMBER(SEARCH(AI$3, $B4)),1,\"\")","v":""},1,"",1,"",1,1,"","",1,"","","","",1,"",{"$f":"IF(ISNUMBER(SEARCH(AY$3, $B4)),1,\"\")","v":""},"","","","","",1,"","","","","","","","","",{"$f":"IF(ISNUMBER(SEARCH(BO$3, $B4)),1,\"\")","v":""},"","","","","","",{"$f":"IF(ISNUMBER(SEARCH(BV$3, $B4)),1,\"\")","v":""},{"$f":"IF(OR(ISNUMBER(SEARCH(\"配送\",BX4)), ISNUMBER(SEARCH(\"買物サポート\",CE4)), ISNUMBER(SEARCH(\"買物代行\",CE4)), ISNUMBER(SEARCH(\"移動販売\",CE4)), ISNUMBER(SEARCH(\"割引サービス\",CE4)), ISNUMBER(SEARCH(\"その他（買物）\",CE4))), 1, \"\")","v":1},{"$f":"IF(OR(ISNUMBER(SEARCH(\"弁当配達\",CE4)), ISNUMBER(SEARCH(\"料理デリバリー（出前）\",CE4)), ISNUMBER(SEARCH(\"食材宅配\",CE4)), ISNUMBER(SEARCH(\"日用品配達\",CE4)), ISNUMBER(SEARCH(\"薬・介護用品配達\",CE4)), ISNUMBER(SEARCH(\"クリーニング\",CE4)), ISNUMBER(SEARCH(\"その他（宅配・デリバリー）\",CE4))), 1, \"\")","v":1},{"$f":"IF(OR(ISNUMBER(SEARCH(\"理容・美容（送迎）\",CE4)), ISNUMBER(SEARCH(\"温泉・銭湯（送迎）\",CE4)), ISNUMBER(SEARCH(\"フィットネスジム（送迎）\",CE4)), ISNUMBER(SEARCH(\"整体・マッサージ（送迎）\",CE4)), ISNUMBER(SEARCH(\"乗り合いサービス\",CE4)), ISNUMBER(SEARCH(\"個別移送サービス\",CE4)), ISNUMBER(SEARCH(\"交通機関サービス\",CE4)), ISNUMBER(SEARCH(\"その他（送迎・移動支援）\",CE4))), 1, \"\")","v":1},{"$f":"IF(OR(ISNUMBER(SEARCH(\"家事代行・掃除・片付け\",CE4)), ISNUMBER(SEARCH(\"出張料理\",CE4)), ISNUMBER(SEARCH(\"屋外作業・力仕事\",CE4)), ISNUMBER(SEARCH(\"整体・マッサージ（出張）\",CE4)), ISNUMBER(SEARCH(\"理容・美容（出張）\",CE4)), ISNUMBER(SEARCH(\"ペット\",CE4)),ISNUMBER(SEARCH(\"その他（出張サービス）\",CE4))), 1, \"\")","v":1},{"$f":"IF(OR(ISNUMBER(SEARCH(\"フィットネスジム（運動）\",CE4)), ISNUMBER(SEARCH(\"温泉・銭湯（たまり場）\",CE4)), ISNUMBER(SEARCH(\"カフェ・ファーストフード\",CE4)), ISNUMBER(SEARCH(\"飲食店\",CE4)), ISNUMBER(SEARCH(\"イートインスペース\",CE4)),ISNUMBER(SEARCH(\"その他（運動・たまり場）\",CE4))), 1, \"\")","v":1},{"$f":"IF(OR(ISNUMBER(SEARCH(\"車いす対応（バリアフリー）\",CE4)), ISNUMBER(SEARCH(\"多目的トイレ\",CE4)), ISNUMBER(SEARCH(\"休憩スペース\",CE4)), ISNUMBER(SEARCH(\"駐車場\",CE4)), ISNUMBER(SEARCH(\"貸しスペース\",CE4)),ISNUMBER(SEARCH(\"その他（設備・施設・場所貸し）\",CE4))), 1,\"\")","v":1},{"$f":"IF(OR(ISNUMBER(SEARCH(\"講座・教室・イベント\",CE4)), ISNUMBER(SEARCH(\"習い事\",CE4)), ISNUMBER(SEARCH(\"映画館\",CE4)), ISNUMBER(SEARCH(\"カラオケ店\",CE4)), ISNUMBER(SEARCH(\"麻雀・将棋・囲碁\",CE4)), ISNUMBER(SEARCH(\"ゲームセンター\",CE4)), ISNUMBER(SEARCH(\"旅行・レジャー\",CE4)), ISNUMBER(SEARCH(\"旅行・レジャー\",CE4)),ISNUMBER(SEARCH(\"パソコン・スマホ教室\",CE4)),ISNUMBER(SEARCH(\"その他（学び・趣味）\",CE4))), 1, \"\")","v":1},{"$f":"IF(OR(ISNUMBER(SEARCH(\"防犯・見守り\",CE4)), ISNUMBER(SEARCH(\"金融・保険\",CE4)), ISNUMBER(SEARCH(\"住宅・リフォーム\",CE4)), ISNUMBER(SEARCH(\"パソコン・スマートフォン\",CE4)), ISNUMBER(SEARCH(\"認知症サポート企業\",CE4)), ISNUMBER(SEARCH(\"理容・美容\",CE4)), ISNUMBER(SEARCH(\"成年後見・相続\",CE4)),ISNUMBER(SEARCH(\"その他（生活サービス）\",CE4))), 1, \"\")","v":1},{"$f":"入力画面!AY11","v":"配送／移動販売／食材宅配／クリーニング／理容・美容（送迎）／家事代行・掃除・片付け／屋外作業・力仕事／カフェ・ファーストフード／イートインスペース／車イス対応（バリアフリー）／多目的トイレ／休憩スペース／講座・教室・イベント／パソコン・スマホ教室／防犯・見守り／認知症サポート企業／成年後見・相続"}]
[1,{"$f":"入力画面!DH25","v":""},"","","","","","","","","","","","","","","","","","","","","","","","","","","","","","","","","","","","","","","","","","","","","","","","","","","","","","","","","","","","","","","","","","","","","","","","",{"$f":"IF(OR(ISNUMBER(SEARCH(\"配送\",BX5)), ISNUMBER(SEARCH(\"買物サポート\",CE5)), ISNUMBER(SEARCH(\"買物代行\",CE5)), ISNUMBER(SEARCH(\"移動販売\",CE5)), ISNUMBER(SEARCH(\"割引サービス\",CE5)), ISNUMBER(SEARCH(\"その他（買物）\",CE5))), 1, \"\")","v":""},{"$f":"IF(OR(ISNUMBER(SEARCH(\"弁当配達\",CE5)), ISNUMBER(SEARCH(\"料理デリバリー（出前）\",CE5)), ISNUMBER(SEARCH(\"食材宅配\",CE5)), ISNUMBER(SEARCH(\"日用品配達\",CE5)), ISNUMBER(SEARCH(\"薬・介護用品配達\",CE5)), ISNUMBER(SEARCH(\"クリーニング\",CE5)), ISNUMBER(SEARCH(\"その他（宅配・デリバリー）\",CE5))), 1, \"\")","v":""},{"$f":"IF(OR(ISNUMBER(SEARCH(\"理容・美容（送迎）\",CE5)), ISNUMBER(SEARCH(\"温泉・銭湯（送迎）\",CE5)), ISNUMBER(SEARCH(\"フィットネスジム（送迎）\",CE5)), ISNUMBER(SEARCH(\"整体・マッサージ（送迎）\",CE5)), ISNUMBER(SEARCH(\"乗り合いサービス\",CE5)), ISNUMBER(SEARCH(\"個別移送サービス\",CE5)), ISNUMBER(SEARCH(\"交通機関サービス\",CE5)), ISNUMBER(SEARCH(\"その他（送迎・移動支援）\",CE5))), 1, \"\")","v":""},{"$f":"IF(OR(ISNUMBER(SEARCH(\"家事代行・掃除・片付け\",CE5)), ISNUMBER(SEARCH(\"出張料理\",CE5)), ISNUMBER(SEARCH(\"屋外作業・力仕事\",CE5)), ISNUMBER(SEARCH(\"整体・マッサージ（出張）\",CE5)), ISNUMBER(SEARCH(\"理容・美容（出張）\",CE5)), ISNUMBER(SEARCH(\"ペット\",CE5)),ISNUMBER(SEARCH(\"その他（出張サービス）\",CE5))), 1, \"\")","v":""},{"$f":"IF(OR(ISNUMBER(SEARCH(\"フィットネスジム（運動）\",CE5)), ISNUMBER(SEARCH(\"温泉・銭湯（たまり場）\",CE5)), ISNUMBER(SEARCH(\"カフェ・ファーストフード\",CE5)), ISNUMBER(SEARCH(\"飲食店\",CE5)), ISNUMBER(SEARCH(\"イートインスペース\",CE5)),ISNUMBER(SEARCH(\"その他（運動・たまり場）\",CE5))), 1, \"\")","v":""},{"$f":"IF(OR(ISNUMBER(SEARCH(\"車いす対応（バリアフリー）\",CE5)), ISNUMBER(SEARCH(\"多目的トイレ\",CE5)), ISNUMBER(SEARCH(\"休憩スペース\",CE5)), ISNUMBER(SEARCH(\"駐車場\",CE5)), ISNUMBER(SEARCH(\"貸しスペース\",CE5)),ISNUMBER(SEARCH(\"その他（設備・施設・場所貸し）\",CE5))), 1,\"\")","v":""},{"$f":"IF(OR(ISNUMBER(SEARCH(\"講座・教室・イベント\",CE5)), ISNUMBER(SEARCH(\"習い事\",CE5)), ISNUMBER(SEARCH(\"映画館\",CE5)), ISNUMBER(SEARCH(\"カラオケ店\",CE5)), ISNUMBER(SEARCH(\"麻雀・将棋・囲碁\",CE5)), ISNUMBER(SEARCH(\"ゲームセンター\",CE5)), ISNUMBER(SEARCH(\"旅行・レジャー\",CE5)), ISNUMBER(SEARCH(\"旅行・レジャー\",CE5)),ISNUMBER(SEARCH(\"パソコン・スマホ教室\",CE5)),ISNUMBER(SEARCH(\"その他（学び・趣味）\",CE5))), 1, \"\")","v":""},{"$f":"IF(OR(ISNUMBER(SEARCH(\"防犯・見守り\",CE5)), ISNUMBER(SEARCH(\"金融・保険\",CE5)), ISNUMBER(SEARCH(\"住宅・リフォーム\",CE5)), ISNUMBER(SEARCH(\"パソコン・スマートフォン\",CE5)), ISNUMBER(SEARCH(\"認知症サポート企業\",CE5)), ISNUMBER(SEARCH(\"理容・美容\",CE5)), ISNUMBER(SEARCH(\"成年後見・相続\",CE5)),ISNUMBER(SEARCH(\"その他（生活サービス）\",CE5))), 1, \"\")","v":""},{"$f":"入力画面!AY25","v":""}]
[2,{"$f":"入力画面!DH39","v":""},"","","","","","","","","","","","","","","","","","","","","","","","","","","","","","","","","","","","","","","","","","","","","","","","","","","","","","","","","","","","","","","","","","","","","","","","","","","","","","","","",{"$f":"入力画面!AY39","v":""}]
[3,{"$f":"入力画面!DH53","v":""},"","","","","","","","","","","","","","","","","","","","","","","","","","","","","","","","","","","","","","","","","","","","","","","","","","","","","","","","","","","","","","","","","","","","","","","","","","","","","","","","",{"$f":"入力画面!AY53","v":""}]
[4,{"$f":"入力画面!DH67","v":""},"","","","","","","","","","","","","","","","","","","","","","","","","","","","","","","","","","","","","","","","","","","","","","","","","","","","","","","","","","","","","","","","","","","","","","","","","","","","","","","","",{"$f":"入力画面!AY67","v":""}]
[5,{"$f":"入力画面!DH81","v":""},"","","","","","","","","","","","","","","","","","","","","","","","","","","","","","","","","","","","","","","","","","","","","","","","","","","","","","","","","","","","","","","","","","","","","","","","","","","","","","","","",{"$f":"入力画面!AY81","v":""}]
[6,{"$f":"入力画面!DH95","v":""},"","","","","","","","","","","","","","","","","","","","","","","","","","","","","","","","","","","","","","","","","","","","","","","","","","","","","","","","","","","","","","","","","","","","","","","","","","","","","","","","",{"$f":"入力画面!AY95","v":""}]
[7,{"$f":"入力画面!DH109","v":""},"","","","","","","","","","","","","","","","","","","","","","","","","","","","","","","","","","","","","","","","","","","","","","","","","","","","","","","","","","","","","","","","","","","","","","","","","","","","","","","","",{"$f":"入力画面!AY109","v":""}]
[8,{"$f":"入力画面!DH123","v":""},"","","","","","","","","","","","","","","","","","","","","","","","","","","","","","","","","","","","","","","","","","","","","","","","","","","","","","","","","","","","","","","","","","","","","","","","","","","","","","","","",{"$f":"入力画面!AY123","v":""}]
[9,{"$f":"入力画面!DH137","v":""},"","","","","","","","","","","","","","","","","","","","","","","","","","","","","","","","","","","","","","","","","","","","","","","","","","","","","","","","","","","","","","","","","","","","","","","","","","","","","","","","",{"$f":"入力画面!AY137","v":""}]
[10,{"$f":"入力画面!DH151","v":""},"","","","","","","","","","","","","","","","","","","","","","","","","","","","","","","","","","","","","","","","","","","","","","","","","","","","","","","","","","","","","","","","","","","","","","","","","","","","","","","","",{"$f":"入力画面!AY151","v":""}]
[11,{"$f":"入力画面!DH165","v":""},"","","","","","","","","","","","","","","","","","","","","","","","","","","","","","","","","","","","","","","","","","","","","","","","","","","","","","","","","","","","","","","","","","","","","","","","","","","","","","","","",{"$f":"入力画面!AY165","v":""}]
[12,{"$f":"入力画面!DH179","v":""},"","","","","","","","","","","","","","","","","","","","","","","","","","","","","","","","","","","","","","","","","","","","","","","","","","","","","","","","","","","","","","","","","","","","","","","","","","","","","","","","",{"$f":"入力画面!AY179","v":""}]
[13,{"$f":"入力画面!DH193","v":""},"","","","","","","","","","","","","","","","","","","","","","","","","","","","","","","","","","","","","","","","","","","","","","","","","","","","","","","","","","","","","","","","","","","","","","","","","","","","","","","","",{"$f":"入力画面!AY193","v":""}]
[14,{"$f":"入力画面!DH207","v":""},"","","","","","","","","","","","","","","","","","","","","","","","","","","","","","","","","","","","","","","","","","","","","","","","","","","","","","","","","","","","","","","","","","","","","","","","","","","","","","","","",{"$f":"入力画面!AY207","v":""}]
[15,{"$f":"入力画面!DH221","v":""},"","","","","","","","","","","","","","","",{"$f":"IF(ISNUMBER(SEARCH(R$3, $B19)),1,\"\")","v":""},"","","","","","","","","","","","","","","",{"$f":"IF(ISNUMBER(SEARCH(AH$3, $B19)),1,\"\")","v":""},"","","","","","","","","","","","","","","",{"$f":"IF(ISNUMBER(SEARCH(AX$3, $B19)),1,\"\")","v":""},"","","","","","","","","","","","","","","",{"$f":"IF(ISNUMBER(SEARCH(BN$3, $B19)),1,\"\")","v":""},"","","","","","","","","","","","","","","","",{"$f":"入力画面!AY221","v":""}]
[16,{"$f":"入力画面!DH235","v":""},"","","","","","","","","","","","","","","","","","","","","","","","","","","","","","","","","","","","","","","","","","","","","","","","","","","","","","","","","","","","","","","","",{"$f":"IF(ISNUMBER(SEARCH(BO$3, $B20)),1,\"\")","v":""},"","","","","","","","","","","","","","","",{"$f":"入力画面!AY235","v":""}]
[17,{"$f":"入力画面!DH249","v":""},"","","","","","","","","","","","","","","","","","","","","","","","","","","","","","","","","","","","","","","","","","","","","","","","","","","","","","","","","","","","","","","","","","","","","","","","","","","","","","","","",{"$f":"入力画面!AY249","v":""}]
[18,{"$f":"入力画面!DH263","v":""},"","","","","","","","","","","","","","","","","","","","","","","","","","","","","","","","","","","","","","","","","","","","","","","","","","","","","","","","","","","","","","","","","","","","","","","","","","","","","","","","",{"$f":"入力画面!AY263","v":""}]
[19,{"$f":"入力画面!DH277","v":""},"","","","","","","","","","","","","","","","","","","","","","","","","","","","","","","","","","","","","","","","","","","","","","","","","","","","","","","","","","","","","","","","","","","","","","","","","","","","","","","","",{"$f":"入力画面!AY277","v":""}]
[20,{"$f":"入力画面!DH291","v":""},"","","","","","","","","","","","","","","","","","","","","","","","","","","","","","","","","","","","","","","","","","","","","","","","","","","","","","","","","","","","","","","","","","","","","","","","","","","","","","","","",{"$f":"入力画面!AY291","v":""}]
[21,{"$f":"入力画面!DH305","v":""},"","","","","","","","","","","","","","","","","","","","","","","","","","","","","","","","","","","","","","","","","","","","","","","","","","","","","","","","","","","","","","","","","","","","","","","","","","","","","","","","",{"$f":"入力画面!AY305","v":""}]
[22,{"$f":"入力画面!DH319","v":""},"","","","","","","","","","","","","","","","","","","","","","","","","","","","","","","","","","","","","","","","","","","","","","","","","","","","","","","","","","","","","","","","","","","","","","","","","","","","","","","","",{"$f":"入力画面!AY319","v":""}]
[23,{"$f":"入力画面!DH333","v":""},"","","","","","","","","","","","","","","","","","","","","","","","","","","","","","","","","","","","","","","","","","","","","","","","","","","","","","","","","","","","","","","","","","","","","","","","","","","","","","","","",{"$f":"入力画面!AY333","v":""}]
[24,{"$f":"入力画面!DH347","v":""},"","","","","","","","","","","","","","","","","","","","","","","","","","","","","","","","","","","","","","","","","","","","","","","","","","","","","","","","","","","","","","","","","","","","","","","","","","","","","","","","",{"$f":"入力画面!AY347","v":""}]
[25,{"$f":"入力画面!DH361","v":""},"","","","","","","","","","","","","","","","","","","","","","","","","","","","","","","","","","","","","","","","","","","","","","","","","","","","","","","","","","","","","","","","","","","","","","","","","","","","","","","","",{"$f":"入力画面!AY361","v":""}]
[26,{"$f":"入力画面!DH375","v":""},"","","","","","","","","","","","","","","","","","","","","","","","","","","","","","","","","","","","","","","","","","","","","","","","","","","","","","","","","","","","","","","","","","","","","","","","","","","","","","","","",{"$f":"入力画面!AY375","v":""}]
[27,{"$f":"入力画面!DH389","v":""},"","","","","","","","","","","","","","","","","","","","","","","","","","","","","","","","","","","","","","","","","","","","","","","","","","","","","","","","","","","","","","","","","","","","","","","","","","","","","","","","",{"$f":"入力画面!AY389","v":""}]
[28,{"$f":"入力画面!DH403","v":""},"","","","","","","","","","","","","","","","","","","","","","","","","","","","","","","","","","","","","","","","","","","","","","","","","","","","","","","","","","","","","","","","","","","","","","","","","","","","","","","","",{"$f":"入力画面!AY403","v":""}]
[29,{"$f":"入力画面!DH417","v":""},"","","","","","","","","","","","","","","","","","","","","","","","","","","","","","","","","","","","","","","","","","","","","","","","","","","","","","","","","","","","","","","","","","","","","","","","","","","","","","","","",{"$f":"入力画面!AY417","v":""}]
[30,{"$f":"入力画面!DH431","v":""},"","","","","","","","","","","","","","","","","","","","","","","","","","","","","","","","","","","","","","","","","","","","","","","","","","","","","","","","","","","","","","","","","","","","","","","","","","","","","","","","",{"$f":"入力画面!AY431","v":""}]
[31,{"$f":"入力画面!DH445","v":""},"","","","","","","","","","","","","","",{"$f":"IF(ISNUMBER(SEARCH(Q$3, $B35)),1,\"\")","v":""},"","","","","","","","","","","","","","","",{"$f":"IF(ISNUMBER(SEARCH(AG$3, $B35)),1,\"\")","v":""},"","","","","","","","","","","","","","","",{"$f":"IF(ISNUMBER(SEARCH(AW$3, $B35)),1,\"\")","v":""},"","","","","","","","","","","","","","","",{"$f":"IF(ISNUMBER(SEARCH(BM$3, $B35)),1,\"\")","v":""},"","","","","","","","","","","","","","","","","",{"$f":"入力画面!AY445","v":""}]
[32,{"$f":"入力画面!DH459","v":""},"","","","","","","","","","","","","","","","","","","","","","","","","","","","","","","","","","","","","","","","","","","","","","","","","","","","","","","","","","","","","","","","","","","","","","","","","","","","","","","","",{"$f":"入力画面!AY459","v":""}]
[33,{"$f":"入力画面!DH473","v":""},"","","","","","","","","","","","","","","","","","","","","","","","","","","","","","","","","","","","","","","","","","","","","","","","","","","","","","","","","","","","","","","","","","","","","","","","","","","","","","","","",{"$f":"入力画面!AY473","v":""}]
[34,{"$f":"入力画面!DH487","v":""},"","","","","","","","","","","","","","","","","","","","","","","","","","","","","","","","","","","","","","","","","","","","","","","","","","","","","","","","","","","","","","","","","","","","","","","","","","","","","","","","",{"$f":"入力画面!AY487","v":""}]
[35,{"$f":"入力画面!DH501","v":""},"","","","","","","","","","","","","","","","","","","","","","","","","","","","","","","","","","","","","","","","","","","","","","","","","","","","","","","","","","","","","","","","","","","","","","","","","","","","","","","","",{"$f":"入力画面!AY501","v":""}]
[36,{"$f":"入力画面!DH515","v":""},"","","","","","","","","","","","","","","","","","","","","","","","","","","","","","","","","","","","","","","","","","","","","","","","","","","","","","","","","","","","","","","","","","","","","","","","","","","","","","","","",{"$f":"入力画面!AY515","v":""}]
[37,{"$f":"入力画面!DH529","v":""},"","","","","","","","","","","","","","","","","","","","","","","","","","","","","","","","","","","","","","","","","","","","","","","","","","","","","","","","","","","","","","","","","","","","","","","","","","","","","","","","",{"$f":"入力画面!AY529","v":""}]
[38,{"$f":"入力画面!DH543","v":""},"","","","","","","","","","","","","","","","","","","","","","","","","","","","","","","","","","","","","","","","","","","","","","","","","","","","","","","","","","","","","","","","","","","","","","","","","","","","","","","","",{"$f":"入力画面!AY543","v":""}]
[39,{"$f":"入力画面!DH557","v":""},"","","","","","","","","","","","","","","","","","","","","","","","","","","","","","","","","","","","","","","","","","","","","","","","","","","","","","","","","","","","","","","","","","","","","","","","","","","","","","","","",{"$f":"入力画面!AY557","v":""}]
[40,{"$f":"入力画面!DH571","v":""},"","","","","","","","","","","","","","","","","","","","","","","","","","","","","","","","","","","","","","","","","","","","","","","","","","","","","","","","","","","","","","","","","","","","","","","","","","","","","","","","",{"$f":"入力画面!AY571","v":""}]
[41,{"$f":"入力画面!DH585","v":""},"","","","","","","","","","","","","","","","","","","","","","","","","","","","","","","","","","","","","","","","","","","","","","","","","","","","","","","","","","","","","","","","","","","","","","","","","","","","","","","","",{"$f":"入力画面!AY585","v":""}]
[42,{"$f":"入力画面!DH599","v":""},"","","","","","","","","","","","","","","","","","","","","","","","","","","","","","","","","","","","","","","","","","","","","","","","","","","","","","","","","","","","","","","","","","","","","","","","","","","","","","","","",{"$f":"入力画面!AY599","v":""}]
[43,{"$f":"入力画面!DH613","v":""},"","","","","","","","","","","","","","","","","","","","","","","","","","","","","","","","","","","","","","","","","","","","","","","","","","","","","","","","","","","","","","","","","","","","","","","","","","","","","","","","",{"$f":"入力画面!AY613","v":""}]
[44,{"$f":"入力画面!DH627","v":""},"","","","","","","","","","","","","","","","","","","","","","","","","","","","","","","","","","","","","","","","","","","","","","","","","","","","","","","","","","","","","","","","","","","","","","","","","","","","","","","","",{"$f":"入力画面!AY627","v":""}]
[45,{"$f":"入力画面!DH641","v":""},"","","","","","","","","","","","","","","","","","","","","","","","","","","","","","","","","","","","","","","","","","","","","","","","","","","","","","","","","","","","","","","","","","","","","","","","","","","","","","","","",{"$f":"入力画面!AY641","v":""}]
[46,{"$f":"入力画面!DH655","v":""},"","","","","","","","","","","","","","","","","","","","","","","","","","","","","","","","","","","","","","","","","","","","","","","","","","","","","","","","","","","","","","","","","","","","","","","","","","","","","","","","",{"$f":"入力画面!AY655","v":""}]
[47,{"$f":"入力画面!DH669","v":""},"","","","","","","","","","","","","",{"$f":"IF(ISNUMBER(SEARCH(P$3, $B51)),1,\"\")","v":""},"","","","","","","","","","","","","","","",{"$f":"IF(ISNUMBER(SEARCH(AF$3, $B51)),1,\"\")","v":""},"","","","","","","","","","","","","","","",{"$f":"IF(ISNUMBER(SEARCH(AV$3, $B51)),1,\"\")","v":""},"","","","","","","","","","","","","","","",{"$f":"IF(ISNUMBER(SEARCH(BL$3, $B51)),1,\"\")","v":""},"","","","","","","","","",{"$f":"IF(ISNUMBER(SEARCH(BV$3, $B51)),1,\"\")","v":""},"","","","","","","","",{"$f":"入力画面!AY669","v":""}]
[48,{"$f":"入力画面!DH683","v":""},"","","","","","","","","","","","","","","","","","","","","","","","","","","","","","","","","","","","","","","","","","","","","","","","","","","","","","","","","","","","","","","","",{"$f":"IF(ISNUMBER(SEARCH(BO$3, $B52)),1,\"\")","v":""},"","","","","","","","","","","","","","","",{"$f":"入力画面!AY683","v":""}]
[49,{"$f":"入力画面!DH697","v":""},"","","","","","","","","","","","","","","","","","","","","","","","","","","","","","","","","","","","","","","","","","","","","","","","","","","","","","","","","","","","","","","","","","","","","","","","","","","","","","","","",{"$f":"入力画面!AY697","v":""}]
[50,{"$f":"入力画面!DH711","v":""},"","","","","","","","","","","","","","","","","","","","","","","","","","","","","","","","","","","","","","","","","","","","","","","","","","","","","","","","","","","","","","","","","","","","","","","","","","","","","","","","",{"$f":"入力画面!AY711","v":""}]

{"sheet":"③アプリ一括登録様式","index":2,"n_rows":52,"n_cols":108,"rows_kept":52,"cut":false,"hidden":true,"merged":[]}
[null,"レコード番号","管理番号","情報提供元 県、市町村、社協　名称","法人名・屋号・氏名","会社　郵便番号","会社　住所","会社　電話番号","会社　FAX番号","会社　メールアドレス","会社　ホームページ","担当部署・担当者名","店舗名・サービス名","問合せ電話番号","問合せFAX番号","メールアドレス","ホームページ","店舗名","住所","サービスカテゴリ[買物]","サービスカテゴリ[宅配・デリバリー]","サービスカテゴリ[送迎サービス]","サービスカテゴリ[出張サービス]","サービスカテゴリ[運動・たまり場（憩いの場）]","サービスカテゴリ[設備・施設・場所貸し]","サービスカテゴリ[学び・趣味]","サービスカテゴリ[生活サービス]","サービスカテゴリ詳細","サービス内容","サービス提供エリア[上尾市]","サービス提供エリア[朝霞市]","サービス提供エリア[伊奈町]","サービス提供エリア[入間市]","サービス提供エリア[小鹿野町]","サービス提供エリア[小川町]","サービス提供エリア[桶川市]","サービス提供エリア[越生町]","サービス提供エリア[春日部市]","サービス提供エリア[加須市]","サービス提供エリア[神川町]","サービス提供エリア[上里町]","サービス提供エリア[川口市]","サービス提供エリア[川越市]","サービス提供エリア[川島町]","サービス提供エリア[北本市]","サービス提供エリア[行田市]","サービス提供エリア[久喜市]","サービス提供エリア[熊谷市]","サービス提供エリア[鴻巣市]","サービス提供エリア[越谷市]","サービス提供エリア[さいたま市岩槻区]","サービス提供エリア[さいたま市浦和区]","サービス提供エリア[さいたま市大宮区]","サービス提供エリア[さいたま市北区]","サービス提供エリア[さいたま市桜区]","サービス提供エリア[さいたま市中央区]","サービス提供エリア[さいたま市西区]","サービス提供エリア[さいたま市緑区]","サービス提供エリア[さいたま市南区]","サービス提供エリア[さいたま市見沼区]","サービス提供エリア[坂戸市]","サービス提供エリア[幸手市]","サービス提供エリア[狭山市]","サービス提供エリア[志木市]","サービス提供エリア[白岡市]","サービス提供エリア[杉戸町]","サービス提供エリア[草加市]","サービス提供エリア[秩父市]","サービス提供エリア[鶴ヶ島市]","サービス提供エリア[ときがわ町]","サービス提供エリア[所沢市]","サービス提供エリア[戸田市]","サービス提供エリア[長瀞町]","サービス提供エリア[滑川町]","サービス提供エリア[新座市]","サービス提供エリア[蓮田市]","サービス提供エリア[鳩山町]","サービス提供エリア[羽生市]","サービス提供エリア[飯能市]","サービス提供エリア[東秩父村]","サービス提供エリア[東松山市]","サービス提供エリア[日高市]","サービス提供エリア[深谷市]","サービス提供エリア[富士見市]","サービス提供エリア[ふじみ野市]","サービス提供エリア[本庄市]","サービス提供エリア[松伏町]","サービス提供エリア[三郷市]","サービス提供エリア[美里町]","サービス提供エリア[皆野町]","サービス提供エリア[宮代町]","サービス提供エリア[三芳町]","サービス提供エリア[毛呂山町]","サービス提供エリア[八潮市]","サービス提供エリア[横瀬町]","サービス提供エリア[吉川市]","サービス提供エリア[吉見町]","サービス提供エリア[寄居町]","サービス提供エリア[嵐山町]","サービス提供エリア[和光市]","サービス提供エリア[蕨市]","費用","営業時間・定休日","利用方法","PR","サービス内容詳細","備考","公開／非公開"]
["例",null,null,"埼玉県 福祉部 地域包括ケア課",{"$f":"入力画面!B11&\"\"","v":"埼玉県地域包括ケア株式会社\n"},{"$f":"入力画面!D11&\"\"","v":"330-0000"},{"$f":"入力画面!E11&\"\"","v":"埼玉県さいたま市浦和区高砂3-15-1\n"},{"$f":"入力画面!F11&\"\"","v":"048-000-0000"},{"$f":"入力画面!G11&\"\"","v":"048-000-0000"},{"$f":"入力画面!H11&\"\"","v":"saitama@○○○○.jp\n"},{"$f":"入力画面!I11&\"\"","v":"https://www.○○○\n"},{"$f":"入力画面!J11&\"\"","v":"○○部　××課　主任　埼玉花子"},{"$f":"入力画面!K11&\"\"","v":"スーパー埼玉　高砂店"},{"$f":"入力画面!M11&\"\"","v":"048-000-0000"},{"$f":"入力画面!N11&\"\"","v":"048-000-0000"},{"$f":"入力画面!O11&\"\"","v":"saitama@○○○○.jp"},{"$f":"入力画面!P11&\"\"","v":""},{"$f":"入力画面!Q11&\"\"","v":"スーパー埼玉　高砂店"},{"$f":"入力画面!R11","v":"埼玉県,さいたま市浦和区,高砂三丁目15番1号"},{"$f":"変換シート!BW4","v":1},{"$f":"変換シート!BX4","v":1},{"$f":"変換シート!BY4","v":1},{"$f":"変換シート!BZ4","v":1},{"$f":"変換シート!CA4","v":1},{"$f":"変換シート!CB4","v":1},{"$f":"変換シート!CC4","v":1},{"$f":"変換シート!CD4","v":1},{"$f":"入力画面!AY11&\"\"","v":"配送／移動販売／食材宅配／クリーニング／理容・美容（送迎）／家事代行・掃除・片付け／屋外作業・力仕事／カフェ・ファーストフード／イートインスペース／車イス対応（バリアフリー）／多目的トイレ／休憩スペース／講座・教室・イベント／パソコン・スマホ教室／防犯・見守り／認知症サポート企業／成年後見・相続"},{"$f":"入力画面!DI11","v":"例）お買い上げいただいた商品をご自宅まで配送いたします。"},{"$f":"変換シート!C4","v":1},{"$f":"変換シート!D4","v":1},{"$f":"変換シート!E4","v":""},{"$f":"変換シート!F4","v":""},{"$f":"変換シート!G4","v":""},{"$f":"変換シート!H4","v":""},{"$f":"変換シート!I4","v":""},{"$f":"変換シート!J4","v":""},{"$f":"変換シート!K4","v":1},{"$f":"変換シート!L4","v":""},{"$f":"変換シート!M4","v":""},{"$f":"変換シート!N4","v":""},{"$f":"変換シート!O4","v":1},{"$f":"変換シート!P4","v":1},{"$f":"変換シート!Q4","v":""},{"$f":"変換シート!R4","v":1},{"$f":"変換シート!S4","v":1},{"$f":"変換シート!T4","v":""},{"$f":"変換シート!U4","v":1},{"$f":"変換シート!V4","v":""},{"$f":"変換シート!W4","v":""},{"$f":"変換シート!X4","v":""},{"$f":"変換シート!Y4","v":1},{"$f":"変換シート!Z4","v":1},{"$f":"変換シート!AA4","v":""},{"$f":"変換シート!AB4","v":""},{"$f":"変換シート!AC4","v":1},{"$f":"変換シート!AD4","v":1},{"$f":"変換シート!AE4","v":""},{"$f":"変換シート!AF4","v":""},{"$f":"変換シート!AG4","v":""},{"$f":"変換シート!AH4","v":""},{"$f":"変換シート!AI4","v":""},{"$f":"変換シート!AJ4","v":1},{"$f":"変換シート!AK4","v":""},{"$f":"変換シート!AL4","v":1},{"$f":"変換シート!AM4","v":""},{"$f":"変換シート!AN4","v":1},{"$f":"変換シート!AO4","v":1},{"$f":"変換シート!AP4","v":""},{"$f":"変換シート!AQ4","v":""},{"$f":"変換シート!AR4","v":1},{"$f":"変換シート!AS4","v":""},{"$f":"変換シート!AT4","v":""},{"$f":"変換シート!AU4","v":""},{"$f":"変換シート!AV4","v":""},{"$f":"変換シート!AW4","v":1},{"$f":"変換シート!AX4","v":""},{"$f":"変換シート!AY4","v":""},{"$f":"変換シート!AZ4","v":""},{"$f":"変換シート!BA4","v":""},{"$f":"変換シート!BB4","v":""},{"$f":"変換シート!BC4","v":""},{"$f":"変換シート!BD4","v":""},{"$f":"変換シート!BE4","v":1},{"$f":"変換シート!BF4","v":""},{"$f":"変換シート!BG4","v":""},{"$f":"変換シート!BH4","v":""},{"$f":"変換シート!BI4","v":""},{"$f":"変換シート!BJ4","v":""},{"$f":"変換シート!BK4","v":""},{"$f":"変換シート!BL4","v":""},{"$f":"変換シート!BM4","v":""},{"$f":"変換シート!BN4","v":""},{"$f":"変換シート!BO4","v":""},{"$f":"変換シート!BP4","v":""},{"$f":"変換シート!BQ4","v":""},{"$f":"変換シート!BR4","v":""},{"$f":"変換シート!BS4","v":""},{"$f":"変換シート!BT4","v":""},{"$f":"変換シート!BU4","v":""},{"$f":"変換シート!BV4","v":""},{"$f":"入力画面!DJ11&\"\"","v":"例）お買い上げ3,000円（税込）以上の場合は配送料無料\n\n※　無償の場合は、\n「上記の内容に関しては無償」などご記入ください。"},{"$f":"入力画面!DK11&\"\"","v":"例）9時～18時　\n無給\n※出張は第〇水曜日　〇時～〇時のみ\n"},{"$f":"入力画面!DL11&\"\"","v":"例）事前に電話連絡でお知らせください。\n\n例）詳しくはお問合せください。"},{"$f":"入力画面!DM11&\"\"","v":"例）多目的トイレや休憩スペースもございます。ぜひ、ご来店ください。\n"},{"$f":"入力画面!DN11&\"\"","v":""},{"$f":"入力画面!DO11&\"\"","v":"例）〇〇市　△△地域のみ宅配可能です。"},"非公開"]
[1,null,null,"埼玉県 福祉部 地域包括ケア課",{"$f":"入力画面!B25&\"\"","v":""},{"$f":"入力画面!D25&\"\"","v":""},{"$f":"入力画面!E25&\"\"","v":""},{"$f":"入力画面!F25&\"\"","v":""},{"$f":"入力画面!G25&\"\"","v":""},{"$f":"入力画面!H25&\"\"","v":""},{"$f":"入力画面!I25&\"\"","v":""},{"$f":"入力画面!J25&\"\"","v":""},{"$f":"入力画面!K25&\"\"","v":""},{"$f":"入力画面!M25&\"\"","v":""},{"$f":"入力画面!N25&\"\"","v":""},{"$f":"入力画面!O25&\"\"","v":""},{"$f":"入力画面!P25&\"\"","v":""},{"$f":"入力画面!Q25&\"\"","v":""},{"$f":"入力画面!R25&\"\"","v":""},{"$f":"変換シート!BW5","v":""},{"$f":"変換シート!BX5","v":""},{"$f":"変換シート!BY5","v":""},{"$f":"変換シート!BZ5","v":""},{"$f":"変換シート!CA5","v":""},{"$f":"変換シート!CB5","v":""},{"$f":"変換シート!CC5","v":""},{"$f":"変換シート!CD5","v":""},{"$f":"入力画面!AY25&\"\"","v":""},{"$f":"入力画面!DI25&\"\"","v":""},{"$f":"変換シート!C5","v":""},{"$f":"変換シート!D5","v":""},{"$f":"変換シート!E5","v":""},{"$f":"変換シート!F5","v":""},{"$f":"変換シート!G5","v":""},{"$f":"変換シート!H5","v":""},{"$f":"変換シート!I5","v":""},{"$f":"変換シート!J5","v":""},{"$f":"変換シート!K5","v":""},{"$f":"変換シート!L5","v":""},{"$f":"変換シート!M5","v":""},{"$f":"変換シート!N5","v":""},{"$f":"変換シート!O5","v":""},{"$f":"変換シート!P5","v":""},{"$f":"変換シート!Q5","v":""},{"$f":"変換シート!R5","v":""},{"$f":"変換シート!S5","v":""},{"$f":"変換シート!T5","v":""},{"$f":"変換シート!U5","v":""},{"$f":"変換シート!V5","v":""},{"$f":"変換シート!W5","v":""},{"$f":"変換シート!X5","v":""},{"$f":"変換シート!Y5","v":""},{"$f":"変換シート!Z5","v":""},{"$f":"変換シート!AA5","v":""},{"$f":"変換シート!AB5","v":""},{"$f":"変換シート!AC5","v":""},{"$f":"変換シート!AD5","v":""},{"$f":"変換シート!AE5","v":""},{"$f":"変換シート!AF5","v":""},{"$f":"変換シート!AG5","v":""},{"$f":"変換シート!AH5","v":""},{"$f":"変換シート!AI5","v":""},{"$f":"変換シート!AJ5","v":""},{"$f":"変換シート!AK5","v":""},{"$f":"変換シート!AL5","v":""},{"$f":"変換シート!AM5","v":""},{"$f":"変換シート!AN5","v":""},{"$f":"変換シート!AO5","v":""},{"$f":"変換シート!AP5","v":""},{"$f":"変換シート!AQ5","v":""},{"$f":"変換シート!AR5","v":""},{"$f":"変換シート!AS5","v":""},{"$f":"変換シート!AT5","v":""},{"$f":"変換シート!AU5","v":""},{"$f":"変換シート!AV5","v":""},{"$f":"変換シート!AW5","v":""},{"$f":"変換シート!AX5","v":""},{"$f":"変換シート!AY5","v":""},{"$f":"変換シート!AZ5","v":""},{"$f":"変換シート!BA5","v":""},{"$f":"変換シート!BB5","v":""},{"$f":"変換シート!BC5","v":""},{"$f":"変換シート!BD5","v":""},{"$f":"変換シート!BE5","v":""},{"$f":"変換シート!BF5","v":""},{"$f":"変換シート!BG5","v":""},{"$f":"変換シート!BH5","v":""},{"$f":"変換シート!BI5","v":""},{"$f":"変換シート!BJ5","v":""},{"$f":"変換シート!BK5","v":""},{"$f":"変換シート!BL5","v":""},{"$f":"変換シート!BM5","v":""},{"$f":"変換シート!BN5","v":""},{"$f":"変換シート!BO5","v":""},{"$f":"変換シート!BP5","v":""},{"$f":"変換シート!BQ5","v":""},{"$f":"変換シート!BR5","v":""},{"$f":"変換シート!BS5","v":""},{"$f":"変換シート!BT5","v":""},{"$f":"変換シート!BU5","v":""},{"$f":"変換シート!BV5","v":""},{"$f":"入力画面!DJ25&\"\"","v":""},{"$f":"入力画面!DK25&\"\"","v":""},{"$f":"入力画面!DL25&\"\"","v":""},{"$f":"入力画面!DM25&\"\"","v":""},{"$f":"入力画面!DN25&\"\"","v":""},{"$f":"入力画面!DO25&\"\"","v":""},"非公開"]
[2,null,null,"埼玉県 福祉部 地域包括ケア課",{"$f":"入力画面!B39&\"\"","v":""},{"$f":"入力画面!D39&\"\"","v":""},{"$f":"入力画面!E39&\"\"","v":""},{"$f":"入力画面!F39&\"\"","v":""},{"$f":"入力画面!G39&\"\"","v":""},{"$f":"入力画面!H39&\"\"","v":""},{"$f":"入力画面!I39&\"\"","v":""},{"$f":"入力画面!J39&\"\"","v":""},{"$f":"入力画面!K39&\"\"","v":""},{"$f":"入力画面!M39&\"\"","v":""},{"$f":"入力画面!N39&\"\"","v":""},{"$f":"入力画面!O39&\"\"","v":""},{"$f":"入力画面!P39&\"\"","v":""},{"$f":"入力画面!Q39&\"\"","v":""},{"$f":"入力画面!R39&\"\"","v":""},{"$f":"変換シート!BW6","v":""},{"$f":"変換シート!BX6","v":""},{"$f":"変換シート!BY6","v":""},{"$f":"変換シート!BZ6","v":""},{"$f":"変換シート!CA6","v":""},{"$f":"変換シート!CB6","v":""},{"$f":"変換シート!CC6","v":""},{"$f":"変換シート!CD6","v":""},{"$f":"入力画面!AY39&\"\"","v":""},{"$f":"入力画面!DI39&\"\"","v":""},{"$f":"変換シート!C6","v":""},{"$f":"変換シート!D6","v":""},{"$f":"変換シート!E6","v":""},{"$f":"変換シート!F6","v":""},{"$f":"変換シート!G6","v":""},{"$f":"変換シート!H6","v":""},{"$f":"変換シート!I6","v":""},{"$f":"変換シート!J6","v":""},{"$f":"変換シート!K6","v":""},{"$f":"変換シート!L6","v":""},{"$f":"変換シート!M6","v":""},{"$f":"変換シート!N6","v":""},{"$f":"変換シート!O6","v":""},{"$f":"変換シート!P6","v":""},{"$f":"変換シート!Q6","v":""},{"$f":"変換シート!R6","v":""},{"$f":"変換シート!S6","v":""},{"$f":"変換シート!T6","v":""},{"$f":"変換シート!U6","v":""},{"$f":"変換シート!V6","v":""},{"$f":"変換シート!W6","v":""},{"$f":"変換シート!X6","v":""},{"$f":"変換シート!Y6","v":""},{"$f":"変換シート!Z6","v":""},{"$f":"変換シート!AA6","v":""},{"$f":"変換シート!AB6","v":""},{"$f":"変換シート!AC6","v":""},{"$f":"変換シート!AD6","v":""},{"$f":"変換シート!AE6","v":""},{"$f":"変換シート!AF6","v":""},{"$f":"変換シート!AG6","v":""},{"$f":"変換シート!AH6","v":""},{"$f":"変換シート!AI6","v":""},{"$f":"変換シート!AJ6","v":""},{"$f":"変換シート!AK6","v":""},{"$f":"変換シート!AL6","v":""},{"$f":"変換シート!AM6","v":""},{"$f":"変換シート!AN6","v":""},{"$f":"変換シート!AO6","v":""},{"$f":"変換シート!AP6","v":""},{"$f":"変換シート!AQ6","v":""},{"$f":"変換シート!AR6","v":""},{"$f":"変換シート!AS6","v":""},{"$f":"変換シート!AT6","v":""},{"$f":"変換シート!AU6","v":""},{"$f":"変換シート!AV6","v":""},{"$f":"変換シート!AW6","v":""},{"$f":"変換シート!AX6","v":""},{"$f":"変換シート!AY6","v":""},{"$f":"変換シート!AZ6","v":""},{"$f":"変換シート!BA6","v":""},{"$f":"変換シート!BB6","v":""},{"$f":"変換シート!BC6","v":""},{"$f":"変換シート!BD6","v":""},{"$f":"変換シート!BE6","v":""},{"$f":"変換シート!BF6","v":""},{"$f":"変換シート!BG6","v":""},{"$f":"変換シート!BH6","v":""},{"$f":"変換シート!BI6","v":""},{"$f":"変換シート!BJ6","v":""},{"$f":"変換シート!BK6","v":""},{"$f":"変換シート!BL6","v":""},{"$f":"変換シート!BM6","v":""},{"$f":"変換シート!BN6","v":""},{"$f":"変換シート!BO6","v":""},{"$f":"変換シート!BP6","v":""},{"$f":"変換シート!BQ6","v":""},{"$f":"変換シート!BR6","v":""},{"$f":"変換シート!BS6","v":""},{"$f":"変換シート!BT6","v":""},{"$f":"変換シート!BU6","v":""},{"$f":"変換シート!BV6","v":""},{"$f":"入力画面!DJ39&\"\"","v":""},{"$f":"入力画面!DK39&\"\"","v":""},{"$f":"入力画面!DL39&\"\"","v":""},{"$f":"入力画面!DM39&\"\"","v":""},{"$f":"入力画面!DN39&\"\"","v":""},{"$f":"入力画面!DO39&\"\"","v":""},"非公開"]
[3,null,null,"埼玉県 福祉部 地域包括ケア課",{"$f":"入力画面!B53&\"\"","v":""},{"$f":"入力画面!D53&\"\"","v":""},{"$f":"入力画面!E53&\"\"","v":""},{"$f":"入力画面!F53&\"\"","v":""},{"$f":"入力画面!G53&\"\"","v":""},{"$f":"入力画面!H53&\"\"","v":""},{"$f":"入力画面!I53&\"\"","v":""},{"$f":"入力画面!J53&\"\"","v":""},{"$f":"入力画面!K53&\"\"","v":""},{"$f":"入力画面!M53&\"\"","v":""},{"$f":"入力画面!N53&\"\"","v":""},{"$f":"入力画面!O53&\"\"","v":""},{"$f":"入力画面!P53&\"\"","v":""},{"$f":"入力画面!Q53&\"\"","v":""},{"$f":"入力画面!R53&\"\"","v":""},{"$f":"変換シート!BW7","v":""},{"$f":"変換シート!BX7","v":""},{"$f":"変換シート!BY7","v":""},{"$f":"変換シート!BZ7","v":""},{"$f":"変換シート!CA7","v":""},{"$f":"変換シート!CB7","v":""},{"$f":"変換シート!CC7","v":""},{"$f":"変換シート!CD7","v":""},{"$f":"入力画面!AY53&\"\"","v":""},{"$f":"入力画面!DI53&\"\"","v":""},{"$f":"変換シート!C7","v":""},{"$f":"変換シート!D7","v":""},{"$f":"変換シート!E7","v":""},{"$f":"変換シート!F7","v":""},{"$f":"変換シート!G7","v":""},{"$f":"変換シート!H7","v":""},{"$f":"変換シート!I7","v":""},{"$f":"変換シート!J7","v":""},{"$f":"変換シート!K7","v":""},{"$f":"変換シート!L7","v":""},{"$f":"変換シート!M7","v":""},{"$f":"変換シート!N7","v":""},{"$f":"変換シート!O7","v":""},{"$f":"変換シート!P7","v":""},{"$f":"変換シート!Q7","v":""},{"$f":"変換シート!R7","v":""},{"$f":"変換シート!S7","v":""},{"$f":"変換シート!T7","v":""},{"$f":"変換シート!U7","v":""},{"$f":"変換シート!V7","v":""},{"$f":"変換シート!W7","v":""},{"$f":"変換シート!X7","v":""},{"$f":"変換シート!Y7","v":""},{"$f":"変換シート!Z7","v":""},{"$f":"変換シート!AA7","v":""},{"$f":"変換シート!AB7","v":""},{"$f":"変換シート!AC7","v":""},{"$f":"変換シート!AD7","v":""},{"$f":"変換シート!AE7","v":""},{"$f":"変換シート!AF7","v":""},{"$f":"変換シート!AG7","v":""},{"$f":"変換シート!AH7","v":""},{"$f":"変換シート!AI7","v":""},{"$f":"変換シート!AJ7","v":""},{"$f":"変換シート!AK7","v":""},{"$f":"変換シート!AL7","v":""},{"$f":"変換シート!AM7","v":""},{"$f":"変換シート!AN7","v":""},{"$f":"変換シート!AO7","v":""},{"$f":"変換シート!AP7","v":""},{"$f":"変換シート!AQ7","v":""},{"$f":"変換シート!AR7","v":""},{"$f":"変換シート!AS7","v":""},{"$f":"変換シート!AT7","v":""},{"$f":"変換シート!AU7","v":""},{"$f":"変換シート!AV7","v":""},{"$f":"変換シート!AW7","v":""},{"$f":"変換シート!AX7","v":""},{"$f":"変換シート!AY7","v":""},{"$f":"変換シート!AZ7","v":""},{"$f":"変換シート!BA7","v":""},{"$f":"変換シート!BB7","v":""},{"$f":"変換シート!BC7","v":""},{"$f":"変換シート!BD7","v":""},{"$f":"変換シート!BE7","v":""},{"$f":"変換シート!BF7","v":""},{"$f":"変換シート!BG7","v":""},{"$f":"変換シート!BH7","v":""},{"$f":"変換シート!BI7","v":""},{"$f":"変換シート!BJ7","v":""},{"$f":"変換シート!BK7","v":""},{"$f":"変換シート!BL7","v":""},{"$f":"変換シート!BM7","v":""},{"$f":"変換シート!BN7","v":""},{"$f":"変換シート!BO7","v":""},{"$f":"変換シート!BP7","v":""},{"$f":"変換シート!BQ7","v":""},{"$f":"変換シート!BR7","v":""},{"$f":"変換シート!BS7","v":""},{"$f":"変換シート!BT7","v":""},{"$f":"変換シート!BU7","v":""},{"$f":"変換シート!BV7","v":""},{"$f":"入力画面!DJ53&\"\"","v":""},{"$f":"入力画面!DK53&\"\"","v":""},{"$f":"入力画面!DL53&\"\"","v":""},{"$f":"入力画面!DM53&\"\"","v":""},{"$f":"入力画面!DN53&\"\"","v":""},{"$f":"入力画面!DO53&\"\"","v":""},"非公開"]
[4,null,null,"埼玉県 福祉部 地域包括ケア課",{"$f":"入力画面!B67&\"\"","v":""},{"$f":"入力画面!D67&\"\"","v":""},{"$f":"入力画面!E67&\"\"","v":""},{"$f":"入力画面!F67&\"\"","v":""},{"$f":"入力画面!G67&\"\"","v":""},{"$f":"入力画面!H67&\"\"","v":""},{"$f":"入力画面!I67&\"\"","v":""},{"$f":"入力画面!J67&\"\"","v":""},{"$f":"入力画面!K67&\"\"","v":""},{"$f":"入力画面!M67&\"\"","v":""},{"$f":"入力画面!N67&\"\"","v":""},{"$f":"入力画面!O67&\"\"","v":""},{"$f":"入力画面!P67&\"\"","v":""},{"$f":"入力画面!Q67&\"\"","v":""},{"$f":"入力画面!R67&\"\"","v":""},{"$f":"変換シート!BW8","v":""},{"$f":"変換シート!BX8","v":""},{"$f":"変換シート!BY8","v":""},{"$f":"変換シート!BZ8","v":""},{"$f":"変換シート!CA8","v":""},{"$f":"変換シート!CB8","v":""},{"$f":"変換シート!CC8","v":""},{"$f":"変換シート!CD8","v":""},{"$f":"入力画面!AY67&\"\"","v":""},{"$f":"入力画面!DI67&\"\"","v":""},{"$f":"変換シート!C8","v":""},{"$f":"変換シート!D8","v":""},{"$f":"変換シート!E8","v":""},{"$f":"変換シート!F8","v":""},{"$f":"変換シート!G8","v":""},{"$f":"変換シート!H8","v":""},{"$f":"変換シート!I8","v":""},{"$f":"変換シート!J8","v":""},{"$f":"変換シート!K8","v":""},{"$f":"変換シート!L8","v":""},{"$f":"変換シート!M8","v":""},{"$f":"変換シート!N8","v":""},{"$f":"変換シート!O8","v":""},{"$f":"変換シート!P8","v":""},{"$f":"変換シート!Q8","v":""},{"$f":"変換シート!R8","v":""},{"$f":"変換シート!S8","v":""},{"$f":"変換シート!T8","v":""},{"$f":"変換シート!U8","v":""},{"$f":"変換シート!V8","v":""},{"$f":"変換シート!W8","v":""},{"$f":"変換シート!X8","v":""},{"$f":"変換シート!Y8","v":""},{"$f":"変換シート!Z8","v":""},{"$f":"変換シート!AA8","v":""},{"$f":"変換シート!AB8","v":""},{"$f":"変換シート!AC8","v":""},{"$f":"変換シート!AD8","v":""},{"$f":"変換シート!AE8","v":""},{"$f":"変換シート!AF8","v":""},{"$f":"変換シート!AG8","v":""},{"$f":"変換シート!AH8","v":""},{"$f":"変換シート!AI8","v":""},{"$f":"変換シート!AJ8","v":""},{"$f":"変換シート!AK8","v":""},{"$f":"変換シート!AL8","v":""},{"$f":"変換シート!AM8","v":""},{"$f":"変換シート!AN8","v":""},{"$f":"変換シート!AO8","v":""},{"$f":"変換シート!AP8","v":""},{"$f":"変換シート!AQ8","v":""},{"$f":"変換シート!AR8","v":""},{"$f":"変換シート!AS8","v":""},{"$f":"変換シート!AT8","v":""},{"$f":"変換シート!AU8","v":""},{"$f":"変換シート!AV8","v":""},{"$f":"変換シート!AW8","v":""},{"$f":"変換シート!AX8","v":""},{"$f":"変換シート!AY8","v":""},{"$f":"変換シート!AZ8","v":""},{"$f":"変換シート!BA8","v":""},{"$f":"変換シート!BB8","v":""},{"$f":"変換シート!BC8","v":""},{"$f":"変換シート!BD8","v":""},{"$f":"変換シート!BE8","v":""},{"$f":"変換シート!BF8","v":""},{"$f":"変換シート!BG8","v":""},{"$f":"変換シート!BH8","v":""},{"$f":"変換シート!BI8","v":""},{"$f":"変換シート!BJ8","v":""},{"$f":"変換シート!BK8","v":""},{"$f":"変換シート!BL8","v":""},{"$f":"変換シート!BM8","v":""},{"$f":"変換シート!BN8","v":""},{"$f":"変換シート!BO8","v":""},{"$f":"変換シート!BP8","v":""},{"$f":"変換シート!BQ8","v":""},{"$f":"変換シート!BR8","v":""},{"$f":"変換シート!BS8","v":""},{"$f":"変換シート!BT8","v":""},{"$f":"変換シート!BU8","v":""},{"$f":"変換シート!BV8","v":""},{"$f":"入力画面!DJ67&\"\"","v":""},{"$f":"入力画面!DK67&\"\"","v":""},{"$f":"入力画面!DL67&\"\"","v":""},{"$f":"入力画面!DM67&\"\"","v":""},{"$f":"入力画面!DN67&\"\"","v":""},{"$f":"入力画面!DO67&\"\"","v":""},"非公開"]
[5,null,null,"埼玉県 福祉部 地域包括ケア課",{"$f":"入力画面!B81&\"\"","v":""},{"$f":"入力画面!D81&\"\"","v":""},{"$f":"入力画面!E81&\"\"","v":""},{"$f":"入力画面!F81&\"\"","v":""},{"$f":"入力画面!G81&\"\"","v":""},{"$f":"入力画面!H81&\"\"","v":""},{"$f":"入力画面!I81&\"\"","v":""},{"$f":"入力画面!J81&\"\"","v":""},{"$f":"入力画面!K81&\"\"","v":""},{"$f":"入力画面!M81&\"\"","v":""},{"$f":"入力画面!N81&\"\"","v":""},{"$f":"入力画面!O81&\"\"","v":""},{"$f":"入力画面!P81&\"\"","v":""},{"$f":"入力画面!Q81&\"\"","v":""},{"$f":"入力画面!R81&\"\"","v":""},{"$f":"変換シート!BW9","v":""},{"$f":"変換シート!BX9","v":""},{"$f":"変換シート!BY9","v":""},{"$f":"変換シート!BZ9","v":""},{"$f":"変換シート!CA9","v":""},{"$f":"変換シート!CB9","v":""},{"$f":"変換シート!CC9","v":""},{"$f":"変換シート!CD9","v":""},{"$f":"入力画面!AY81&\"\"","v":""},{"$f":"入力画面!DI81&\"\"","v":""},{"$f":"変換シート!C9","v":""},{"$f":"変換シート!D9","v":""},{"$f":"変換シート!E9","v":""},{"$f":"変換シート!F9","v":""},{"$f":"変換シート!G9","v":""},{"$f":"変換シート!H9","v":""},{"$f":"変換シート!I9","v":""},{"$f":"変換シート!J9","v":""},{"$f":"変換シート!K9","v":""},{"$f":"変換シート!L9","v":""},{"$f":"変換シート!M9","v":""},{"$f":"変換シート!N9","v":""},{"$f":"変換シート!O9","v":""},{"$f":"変換シート!P9","v":""},{"$f":"変換シート!Q9","v":""},{"$f":"変換シート!R9","v":""},{"$f":"変換シート!S9","v":""},{"$f":"変換シート!T9","v":""},{"$f":"変換シート!U9","v":""},{"$f":"変換シート!V9","v":""},{"$f":"変換シート!W9","v":""},{"$f":"変換シート!X9","v":""},{"$f":"変換シート!Y9","v":""},{"$f":"変換シート!Z9","v":""},{"$f":"変換シート!AA9","v":""},{"$f":"変換シート!AB9","v":""},{"$f":"変換シート!AC9","v":""},{"$f":"変換シート!AD9","v":""},{"$f":"変換シート!AE9","v":""},{"$f":"変換シート!AF9","v":""},{"$f":"変換シート!AG9","v":""},{"$f":"変換シート!AH9","v":""},{"$f":"変換シート!AI9","v":""},{"$f":"変換シート!AJ9","v":""},{"$f":"変換シート!AK9","v":""},{"$f":"変換シート!AL9","v":""},{"$f":"変換シート!AM9","v":""},{"$f":"変換シート!AN9","v":""},{"$f":"変換シート!AO9","v":""},{"$f":"変換シート!AP9","v":""},{"$f":"変換シート!AQ9","v":""},{"$f":"変換シート!AR9","v":""},{"$f":"変換シート!AS9","v":""},{"$f":"変換シート!AT9","v":""},{"$f":"変換シート!AU9","v":""},{"$f":"変換シート!AV9","v":""},{"$f":"変換シート!AW9","v":""},{"$f":"変換シート!AX9","v":""},{"$f":"変換シート!AY9","v":""},{"$f":"変換シート!AZ9","v":""},{"$f":"変換シート!BA9","v":""},{"$f":"変換シート!BB9","v":""},{"$f":"変換シート!BC9","v":""},{"$f":"変換シート!BD9","v":""},{"$f":"変換シート!BE9","v":""},{"$f":"変換シート!BF9","v":""},{"$f":"変換シート!BG9","v":""},{"$f":"変換シート!BH9","v":""},{"$f":"変換シート!BI9","v":""},{"$f":"変換シート!BJ9","v":""},{"$f":"変換シート!BK9","v":""},{"$f":"変換シート!BL9","v":""},{"$f":"変換シート!BM9","v":""},{"$f":"変換シート!BN9","v":""},{"$f":"変換シート!BO9","v":""},{"$f":"変換シート!BP9","v":""},{"$f":"変換シート!BQ9","v":""},{"$f":"変換シート!BR9","v":""},{"$f":"変換シート!BS9","v":""},{"$f":"変換シート!BT9","v":""},{"$f":"変換シート!BU9","v":""},{"$f":"変換シート!BV9","v":""},{"$f":"入力画面!DJ81&\"\"","v":""},{"$f":"入力画面!DK81&\"\"","v":""},{"$f":"入力画面!DL81&\"\"","v":""},{"$f":"入力画面!DM81&\"\"","v":""},{"$f":"入力画面!DN81&\"\"","v":""},{"$f":"入力画面!DO81&\"\"","v":""},"非公開"]
[6,null,null,"埼玉県 福祉部 地域包括ケア課",{"$f":"入力画面!B95&\"\"","v":""},{"$f":"入力画面!D95&\"\"","v":""},{"$f":"入力画面!E95&\"\"","v":""},{"$f":"入力画面!F95&\"\"","v":""},{"$f":"入力画面!G95&\"\"","v":""},{"$f":"入力画面!H95&\"\"","v":""},{"$f":"入力画面!I95&\"\"","v":""},{"$f":"入力画面!J95&\"\"","v":""},{"$f":"入力画面!K95&\"\"","v":""},{"$f":"入力画面!M95&\"\"","v":""},{"$f":"入力画面!N95&\"\"","v":""},{"$f":"入力画面!O95&\"\"","v":""},{"$f":"入力画面!P95&\"\"","v":""},{"$f":"入力画面!Q95&\"\"","v":""},{"$f":"入力画面!R95&\"\"","v":""},{"$f":"変換シート!BW10","v":""},{"$f":"変換シート!BX10","v":""},{"$f":"変換シート!BY10","v":""},{"$f":"変換シート!BZ10","v":""},{"$f":"変換シート!CA10","v":""},{"$f":"変換シート!CB10","v":""},{"$f":"変換シート!CC10","v":""},{"$f":"変換シート!CD10","v":""},{"$f":"入力画面!AY95&\"\"","v":""},{"$f":"入力画面!DI95&\"\"","v":""},{"$f":"変換シート!C10","v":""},{"$f":"変換シート!D10","v":""},{"$f":"変換シート!E10","v":""},{"$f":"変換シート!F10","v":""},{"$f":"変換シート!G10","v":""},{"$f":"変換シート!H10","v":""},{"$f":"変換シート!I10","v":""},{"$f":"変換シート!J10","v":""},{"$f":"変換シート!K10","v":""},{"$f":"変換シート!L10","v":""},{"$f":"変換シート!M10","v":""},{"$f":"変換シート!N10","v":""},{"$f":"変換シート!O10","v":""},{"$f":"変換シート!P10","v":""},{"$f":"変換シート!Q10","v":""},{"$f":"変換シート!R10","v":""},{"$f":"変換シート!S10","v":""},{"$f":"変換シート!T10","v":""},{"$f":"変換シート!U10","v":""},{"$f":"変換シート!V10","v":""},{"$f":"変換シート!W10","v":""},{"$f":"変換シート!X10","v":""},{"$f":"変換シート!Y10","v":""},{"$f":"変換シート!Z10","v":""},{"$f":"変換シート!AA10","v":""},{"$f":"変換シート!AB10","v":""},{"$f":"変換シート!AC10","v":""},{"$f":"変換シート!AD10","v":""},{"$f":"変換シート!AE10","v":""},{"$f":"変換シート!AF10","v":""},{"$f":"変換シート!AG10","v":""},{"$f":"変換シート!AH10","v":""},{"$f":"変換シート!AI10","v":""},{"$f":"変換シート!AJ10","v":""},{"$f":"変換シート!AK10","v":""},{"$f":"変換シート!AL10","v":""},{"$f":"変換シート!AM10","v":""},{"$f":"変換シート!AN10","v":""},{"$f":"変換シート!AO10","v":""},{"$f":"変換シート!AP10","v":""},{"$f":"変換シート!AQ10","v":""},{"$f":"変換シート!AR10","v":""},{"$f":"変換シート!AS10","v":""},{"$f":"変換シート!AT10","v":""},{"$f":"変換シート!AU10","v":""},{"$f":"変換シート!AV10","v":""},{"$f":"変換シート!AW10","v":""},{"$f":"変換シート!AX10","v":""},{"$f":"変換シート!AY10","v":""},{"$f":"変換シート!AZ10","v":""},{"$f":"変換シート!BA10","v":""},{"$f":"変換シート!BB10","v":""},{"$f":"変換シート!BC10","v":""},{"$f":"変換シート!BD10","v":""},{"$f":"変換シート!BE10","v":""},{"$f":"変換シート!BF10","v":""},{"$f":"変換シート!BG10","v":""},{"$f":"変換シート!BH10","v":""},{"$f":"変換シート!BI10","v":""},{"$f":"変換シート!BJ10","v":""},{"$f":"変換シート!BK10","v":""},{"$f":"変換シート!BL10","v":""},{"$f":"変換シート!BM10","v":""},{"$f":"変換シート!BN10","v":""},{"$f":"変換シート!BO10","v":""},{"$f":"変換シート!BP10","v":""},{"$f":"変換シート!BQ10","v":""},{"$f":"変換シート!BR10","v":""},{"$f":"変換シート!BS10","v":""},{"$f":"変換シート!BT10","v":""},{"$f":"変換シート!BU10","v":""},{"$f":"変換シート!BV10","v":""},{"$f":"入力画面!DJ95&\"\"","v":""},{"$f":"入力画面!DK95&\"\"","v":""},{"$f":"入力画面!DL95&\"\"","v":""},{"$f":"入力画面!DM95&\"\"","v":""},{"$f":"入力画面!DN95&\"\"","v":""},{"$f":"入力画面!DO95&\"\"","v":""},"非公開"]
[7,null,null,"埼玉県 福祉部 地域包括ケア課",{"$f":"入力画面!B109&\"\"","v":""},{"$f":"入力画面!D109&\"\"","v":""},{"$f":"入力画面!E109&\"\"","v":""},{"$f":"入力画面!F109&\"\"","v":""},{"$f":"入力画面!G109&\"\"","v":""},{"$f":"入力画面!H109&\"\"","v":""},{"$f":"入力画面!I109&\"\"","v":""},{"$f":"入力画面!J109&\"\"","v":""},{"$f":"入力画面!K109&\"\"","v":""},{"$f":"入力画面!M109&\"\"","v":""},{"$f":"入力画面!N109&\"\"","v":""},{"$f":"入力画面!O109&\"\"","v":""},{"$f":"入力画面!P109&\"\"","v":""},{"$f":"入力画面!Q109&\"\"","v":""},{"$f":"入力画面!R109&\"\"","v":""},{"$f":"変換シート!BW11","v":""},{"$f":"変換シート!BX11","v":""},{"$f":"変換シート!BY11","v":""},{"$f":"変換シート!BZ11","v":""},{"$f":"変換シート!CA11","v":""},{"$f":"変換シート!CB11","v":""},{"$f":"変換シート!CC11","v":""},{"$f":"変換シート!CD11","v":""},{"$f":"入力画面!AY109&\"\"","v":""},{"$f":"入力画面!DI109&\"\"","v":""},{"$f":"変換シート!C11","v":""},{"$f":"変換シート!D11","v":""},{"$f":"変換シート!E11","v":""},{"$f":"変換シート!F11","v":""},{"$f":"変換シート!G11","v":""},{"$f":"変換シート!H11","v":""},{"$f":"変換シート!I11","v":""},{"$f":"変換シート!J11","v":""},{"$f":"変換シート!K11","v":""},{"$f":"変換シート!L11","v":""},{"$f":"変換シート!M11","v":""},{"$f":"変換シート!N11","v":""},{"$f":"変換シート!O11","v":""},{"$f":"変換シート!P11","v":""},{"$f":"変換シート!Q11","v":""},{"$f":"変換シート!R11","v":""},{"$f":"変換シート!S11","v":""},{"$f":"変換シート!T11","v":""},{"$f":"変換シート!U11","v":""},{"$f":"変換シート!V11","v":""},{"$f":"変換シート!W11","v":""},{"$f":"変換シート!X11","v":""},{"$f":"変換シート!Y11","v":""},{"$f":"変換シート!Z11","v":""},{"$f":"変換シート!AA11","v":""},{"$f":"変換シート!AB11","v":""},{"$f":"変換シート!AC11","v":""},{"$f":"変換シート!AD11","v":""},{"$f":"変換シート!AE11","v":""},{"$f":"変換シート!AF11","v":""},{"$f":"変換シート!AG11","v":""},{"$f":"変換シート!AH11","v":""},{"$f":"変換シート!AI11","v":""},{"$f":"変換シート!AJ11","v":""},{"$f":"変換シート!AK11","v":""},{"$f":"変換シート!AL11","v":""},{"$f":"変換シート!AM11","v":""},{"$f":"変換シート!AN11","v":""},{"$f":"変換シート!AO11","v":""},{"$f":"変換シート!AP11","v":""},{"$f":"変換シート!AQ11","v":""},{"$f":"変換シート!AR11","v":""},{"$f":"変換シート!AS11","v":""},{"$f":"変換シート!AT11","v":""},{"$f":"変換シート!AU11","v":""},{"$f":"変換シート!AV11","v":""},{"$f":"変換シート!AW11","v":""},{"$f":"変換シート!AX11","v":""},{"$f":"変換シート!AY11","v":""},{"$f":"変換シート!AZ11","v":""},{"$f":"変換シート!BA11","v":""},{"$f":"変換シート!BB11","v":""},{"$f":"変換シート!BC11","v":""},{"$f":"変換シート!BD11","v":""},{"$f":"変換シート!BE11","v":""},{"$f":"変換シート!BF11","v":""},{"$f":"変換シート!BG11","v":""},{"$f":"変換シート!BH11","v":""},{"$f":"変換シート!BI11","v":""},{"$f":"変換シート!BJ11","v":""},{"$f":"変換シート!BK11","v":""},{"$f":"変換シート!BL11","v":""},{"$f":"変換シート!BM11","v":""},{"$f":"変換シート!BN11","v":""},{"$f":"変換シート!BO11","v":""},{"$f":"変換シート!BP11","v":""},{"$f":"変換シート!BQ11","v":""},{"$f":"変換シート!BR11","v":""},{"$f":"変換シート!BS11","v":""},{"$f":"変換シート!BT11","v":""},{"$f":"変換シート!BU11","v":""},{"$f":"変換シート!BV11","v":""},{"$f":"入力画面!DJ109&\"\"","v":""},{"$f":"入力画面!DK109&\"\"","v":""},{"$f":"入力画面!DL109&\"\"","v":""},{"$f":"入力画面!DM109&\"\"","v":""},{"$f":"入力画面!DN109&\"\"","v":""},{"$f":"入力画面!DO109&\"\"","v":""},"非公開"]
[8,null,null,"埼玉県 福祉部 地域包括ケア課",{"$f":"入力画面!B123&\"\"","v":""},{"$f":"入力画面!D123&\"\"","v":""},{"$f":"入力画面!E123&\"\"","v":""},{"$f":"入力画面!F123&\"\"","v":""},{"$f":"入力画面!G123&\"\"","v":""},{"$f":"入力画面!H123&\"\"","v":""},{"$f":"入力画面!I123&\"\"","v":""},{"$f":"入力画面!J123&\"\"","v":""},{"$f":"入力画面!K123&\"\"","v":""},{"$f":"入力画面!M123&\"\"","v":""},{"$f":"入力画面!N123&\"\"","v":""},{"$f":"入力画面!O123&\"\"","v":""},{"$f":"入力画面!P123&\"\"","v":""},{"$f":"入力画面!Q123&\"\"","v":""},{"$f":"入力画面!R123&\"\"","v":""},{"$f":"変換シート!BW12","v":""},{"$f":"変換シート!BX12","v":""},{"$f":"変換シート!BY12","v":""},{"$f":"変換シート!BZ12","v":""},{"$f":"変換シート!CA12","v":""},{"$f":"変換シート!CB12","v":""},{"$f":"変換シート!CC12","v":""},{"$f":"変換シート!CD12","v":""},{"$f":"入力画面!AY123&\"\"","v":""},{"$f":"入力画面!DI123&\"\"","v":""},{"$f":"変換シート!C12","v":""},{"$f":"変換シート!D12","v":""},{"$f":"変換シート!E12","v":""},{"$f":"変換シート!F12","v":""},{"$f":"変換シート!G12","v":""},{"$f":"変換シート!H12","v":""},{"$f":"変換シート!I12","v":""},{"$f":"変換シート!J12","v":""},{"$f":"変換シート!K12","v":""},{"$f":"変換シート!L12","v":""},{"$f":"変換シート!M12","v":""},{"$f":"変換シート!N12","v":""},{"$f":"変換シート!O12","v":""},{"$f":"変換シート!P12","v":""},{"$f":"変換シート!Q12","v":""},{"$f":"変換シート!R12","v":""},{"$f":"変換シート!S12","v":""},{"$f":"変換シート!T12","v":""},{"$f":"変換シート!U12","v":""},{"$f":"変換シート!V12","v":""},{"$f":"変換シート!W12","v":""},{"$f":"変換シート!X12","v":""},{"$f":"変換シート!Y12","v":""},{"$f":"変換シート!Z12","v":""},{"$f":"変換シート!AA12","v":""},{"$f":"変換シート!AB12","v":""},{"$f":"変換シート!AC12","v":""},{"$f":"変換シート!AD12","v":""},{"$f":"変換シート!AE12","v":""},{"$f":"変換シート!AF12","v":""},{"$f":"変換シート!AG12","v":""},{"$f":"変換シート!AH12","v":""},{"$f":"変換シート!AI12","v":""},{"$f":"変換シート!AJ12","v":""},{"$f":"変換シート!AK12","v":""},{"$f":"変換シート!AL12","v":""},{"$f":"変換シート!AM12","v":""},{"$f":"変換シート!AN12","v":""},{"$f":"変換シート!AO12","v":""},{"$f":"変換シート!AP12","v":""},{"$f":"変換シート!AQ12","v":""},{"$f":"変換シート!AR12","v":""},{"$f":"変換シート!AS12","v":""},{"$f":"変換シート!AT12","v":""},{"$f":"変換シート!AU12","v":""},{"$f":"変換シート!AV12","v":""},{"$f":"変換シート!AW12","v":""},{"$f":"変換シート!AX12","v":""},{"$f":"変換シート!AY12","v":""},{"$f":"変換シート!AZ12","v":""},{"$f":"変換シート!BA12","v":""},{"$f":"変換シート!BB12","v":""},{"$f":"変換シート!BC12","v":""},{"$f":"変換シート!BD12","v":""},{"$f":"変換シート!BE12","v":""},{"$f":"変換シート!BF12","v":""},{"$f":"変換シート!BG12","v":""},{"$f":"変換シート!BH12","v":""},{"$f":"変換シート!BI12","v":""},{"$f":"変換シート!BJ12","v":""},{"$f":"変換シート!BK12","v":""},{"$f":"変換シート!BL12","v":""},{"$f":"変換シート!BM12","v":""},{"$f":"変換シート!BN12","v":""},{"$f":"変換シート!BO12","v":""},{"$f":"変換シート!BP12","v":""},{"$f":"変換シート!BQ12","v":""},{"$f":"変換シート!BR12","v":""},{"$f":"変換シート!BS12","v":""},{"$f":"変換シート!BT12","v":""},{"$f":"変換シート!BU12","v":""},{"$f":"変換シート!BV12","v":""},{"$f":"入力画面!DJ123&\"\"","v":""},{"$f":"入力画面!DK123&\"\"","v":""},{"$f":"入力画面!DL123&\"\"","v":""},{"$f":"入力画面!DM123&\"\"","v":""},{"$f":"入力画面!DN123&\"\"","v":""},{"$f":"入力画面!DO123&\"\"","v":""},"非公開"]
[9,null,null,"埼玉県 福祉部 地域包括ケア課",{"$f":"入力画面!B137&\"\"","v":""},{"$f":"入力画面!D137&\"\"","v":""},{"$f":"入力画面!E137&\"\"","v":""},{"$f":"入力画面!F137&\"\"","v":""},{"$f":"入力画面!G137&\"\"","v":""},{"$f":"入力画面!H137&\"\"","v":""},{"$f":"入力画面!I137&\"\"","v":""},{"$f":"入力画面!J137&\"\"","v":""},{"$f":"入力画面!K137&\"\"","v":""},{"$f":"入力画面!M137&\"\"","v":""},{"$f":"入力画面!N137&\"\"","v":""},{"$f":"入力画面!O137&\"\"","v":""},{"$f":"入力画面!P137&\"\"","v":""},{"$f":"入力画面!Q137&\"\"","v":""},{"$f":"入力画面!R137&\"\"","v":""},{"$f":"変換シート!BW13","v":""},{"$f":"変換シート!BX13","v":""},{"$f":"変換シート!BY13","v":""},{"$f":"変換シート!BZ13","v":""},{"$f":"変換シート!CA13","v":""},{"$f":"変換シート!CB13","v":""},{"$f":"変換シート!CC13","v":""},{"$f":"変換シート!CD13","v":""},{"$f":"入力画面!AY137&\"\"","v":""},{"$f":"入力画面!DI137&\"\"","v":""},{"$f":"変換シート!C13","v":""},{"$f":"変換シート!D13","v":""},{"$f":"変換シート!E13","v":""},{"$f":"変換シート!F13","v":""},{"$f":"変換シート!G13","v":""},{"$f":"変換シート!H13","v":""},{"$f":"変換シート!I13","v":""},{"$f":"変換シート!J13","v":""},{"$f":"変換シート!K13","v":""},{"$f":"変換シート!L13","v":""},{"$f":"変換シート!M13","v":""},{"$f":"変換シート!N13","v":""},{"$f":"変換シート!O13","v":""},{"$f":"変換シート!P13","v":""},{"$f":"変換シート!Q13","v":""},{"$f":"変換シート!R13","v":""},{"$f":"変換シート!S13","v":""},{"$f":"変換シート!T13","v":""},{"$f":"変換シート!U13","v":""},{"$f":"変換シート!V13","v":""},{"$f":"変換シート!W13","v":""},{"$f":"変換シート!X13","v":""},{"$f":"変換シート!Y13","v":""},{"$f":"変換シート!Z13","v":""},{"$f":"変換シート!AA13","v":""},{"$f":"変換シート!AB13","v":""},{"$f":"変換シート!AC13","v":""},{"$f":"変換シート!AD13","v":""},{"$f":"変換シート!AE13","v":""},{"$f":"変換シート!AF13","v":""},{"$f":"変換シート!AG13","v":""},{"$f":"変換シート!AH13","v":""},{"$f":"変換シート!AI13","v":""},{"$f":"変換シート!AJ13","v":""},{"$f":"変換シート!AK13","v":""},{"$f":"変換シート!AL13","v":""},{"$f":"変換シート!AM13","v":""},{"$f":"変換シート!AN13","v":""},{"$f":"変換シート!AO13","v":""},{"$f":"変換シート!AP13","v":""},{"$f":"変換シート!AQ13","v":""},{"$f":"変換シート!AR13","v":""},{"$f":"変換シート!AS13","v":""},{"$f":"変換シート!AT13","v":""},{"$f":"変換シート!AU13","v":""},{"$f":"変換シート!AV13","v":""},{"$f":"変換シート!AW13","v":""},{"$f":"変換シート!AX13","v":""},{"$f":"変換シート!AY13","v":""},{"$f":"変換シート!AZ13","v":""},{"$f":"変換シート!BA13","v":""},{"$f":"変換シート!BB13","v":""},{"$f":"変換シート!BC13","v":""},{"$f":"変換シート!BD13","v":""},{"$f":"変換シート!BE13","v":""},{"$f":"変換シート!BF13","v":""},{"$f":"変換シート!BG13","v":""},{"$f":"変換シート!BH13","v":""},{"$f":"変換シート!BI13","v":""},{"$f":"変換シート!BJ13","v":""},{"$f":"変換シート!BK13","v":""},{"$f":"変換シート!BL13","v":""},{"$f":"変換シート!BM13","v":""},{"$f":"変換シート!BN13","v":""},{"$f":"変換シート!BO13","v":""},{"$f":"変換シート!BP13","v":""},{"$f":"変換シート!BQ13","v":""},{"$f":"変換シート!BR13","v":""},{"$f":"変換シート!BS13","v":""},{"$f":"変換シート!BT13","v":""},{"$f":"変換シート!BU13","v":""},{"$f":"変換シート!BV13","v":""},{"$f":"入力画面!DJ137&\"\"","v":""},{"$f":"入力画面!DK137&\"\"","v":""},{"$f":"入力画面!DL137&\"\"","v":""},{"$f":"入力画面!DM137&\"\"","v":""},{"$f":"入力画面!DN137&\"\"","v":""},{"$f":"入力画面!DO137&\"\"","v":""},"非公開"]
[10,null,null,"埼玉県 福祉部 地域包括ケア課",{"$f":"入力画面!B151&\"\"","v":""},{"$f":"入力画面!D151&\"\"","v":""},{"$f":"入力画面!E151&\"\"","v":""},{"$f":"入力画面!F151&\"\"","v":""},{"$f":"入力画面!G151&\"\"","v":""},{"$f":"入力画面!H151&\"\"","v":""},{"$f":"入力画面!I151&\"\"","v":""},{"$f":"入力画面!J151&\"\"","v":""},{"$f":"入力画面!K151&\"\"","v":""},{"$f":"入力画面!M151&\"\"","v":""},{"$f":"入力画面!N151&\"\"","v":""},{"$f":"入力画面!O151&\"\"","v":""},{"$f":"入力画面!P151&\"\"","v":""},{"$f":"入力画面!Q151&\"\"","v":""},{"$f":"入力画面!R151&\"\"","v":""},{"$f":"変換シート!BW14","v":""},{"$f":"変換シート!BX14","v":""},{"$f":"変換シート!BY14","v":""},{"$f":"変換シート!BZ14","v":""},{"$f":"変換シート!CA14","v":""},{"$f":"変換シート!CB14","v":""},{"$f":"変換シート!CC14","v":""},{"$f":"変換シート!CD14","v":""},{"$f":"入力画面!AY151&\"\"","v":""},{"$f":"入力画面!DI151&\"\"","v":""},{"$f":"変換シート!C14","v":""},{"$f":"変換シート!D14","v":""},{"$f":"変換シート!E14","v":""},{"$f":"変換シート!F14","v":""},{"$f":"変換シート!G14","v":""},{"$f":"変換シート!H14","v":""},{"$f":"変換シート!I14","v":""},{"$f":"変換シート!J14","v":""},{"$f":"変換シート!K14","v":""},{"$f":"変換シート!L14","v":""},{"$f":"変換シート!M14","v":""},{"$f":"変換シート!N14","v":""},{"$f":"変換シート!O14","v":""},{"$f":"変換シート!P14","v":""},{"$f":"変換シート!Q14","v":""},{"$f":"変換シート!R14","v":""},{"$f":"変換シート!S14","v":""},{"$f":"変換シート!T14","v":""},{"$f":"変換シート!U14","v":""},{"$f":"変換シート!V14","v":""},{"$f":"変換シート!W14","v":""},{"$f":"変換シート!X14","v":""},{"$f":"変換シート!Y14","v":""},{"$f":"変換シート!Z14","v":""},{"$f":"変換シート!AA14","v":""},{"$f":"変換シート!AB14","v":""},{"$f":"変換シート!AC14","v":""},{"$f":"変換シート!AD14","v":""},{"$f":"変換シート!AE14","v":""},{"$f":"変換シート!AF14","v":""},{"$f":"変換シート!AG14","v":""},{"$f":"変換シート!AH14","v":""},{"$f":"変換シート!AI14","v":""},{"$f":"変換シート!AJ14","v":""},{"$f":"変換シート!AK14","v":""},{"$f":"変換シート!AL14","v":""},{"$f":"変換シート!AM14","v":""},{"$f":"変換シート!AN14","v":""},{"$f":"変換シート!AO14","v":""},{"$f":"変換シート!AP14","v":""},{"$f":"変換シート!AQ14","v":""},{"$f":"変換シート!AR14","v":""},{"$f":"変換シート!AS14","v":""},{"$f":"変換シート!AT14","v":""},{"$f":"変換シート!AU14","v":""},{"$f":"変換シート!AV14","v":""},{"$f":"変換シート!AW14","v":""},{"$f":"変換シート!AX14","v":""},{"$f":"変換シート!AY14","v":""},{"$f":"変換シート!AZ14","v":""},{"$f":"変換シート!BA14","v":""},{"$f":"変換シート!BB14","v":""},{"$f":"変換シート!BC14","v":""},{"$f":"変換シート!BD14","v":""},{"$f":"変換シート!BE14","v":""},{"$f":"変換シート!BF14","v":""},{"$f":"変換シート!BG14","v":""},{"$f":"変換シート!BH14","v":""},{"$f":"変換シート!BI14","v":""},{"$f":"変換シート!BJ14","v":""},{"$f":"変換シート!BK14","v":""},{"$f":"変換シート!BL14","v":""},{"$f":"変換シート!BM14","v":""},{"$f":"変換シート!BN14","v":""},{"$f":"変換シート!BO14","v":""},{"$f":"変換シート!BP14","v":""},{"$f":"変換シート!BQ14","v":""},{"$f":"変換シート!BR14","v":""},{"$f":"変換シート!BS14","v":""},{"$f":"変換シート!BT14","v":""},{"$f":"変換シート!BU14","v":""},{"$f":"変換シート!BV14","v":""},{"$f":"入力画面!DJ151&\"\"","v":""},{"$f":"入力画面!DK151&\"\"","v":""},{"$f":"入力画面!DL151&\"\"","v":""},{"$f":"入力画面!DM151&\"\"","v":""},{"$f":"入力画面!DN151&\"\"","v":""},{"$f":"入力画面!DO151&\"\"","v":""},"非公開"]
[11,null,null,"埼玉県 福祉部 地域包括ケア課",{"$f":"入力画面!B165&\"\"","v":""},{"$f":"入力画面!D165&\"\"","v":""},{"$f":"入力画面!E165&\"\"","v":""},{"$f":"入力画面!F165&\"\"","v":""},{"$f":"入力画面!G165&\"\"","v":""},{"$f":"入力画面!H165&\"\"","v":""},{"$f":"入力画面!I165&\"\"","v":""},{"$f":"入力画面!J165&\"\"","v":""},{"$f":"入力画面!K165&\"\"","v":""},{"$f":"入力画面!M165&\"\"","v":""},{"$f":"入力画面!N165&\"\"","v":""},{"$f":"入力画面!O165&\"\"","v":""},{"$f":"入力画面!P165&\"\"","v":""},{"$f":"入力画面!Q165&\"\"","v":""},{"$f":"入力画面!R165&\"\"","v":""},{"$f":"変換シート!BW15","v":""},{"$f":"変換シート!BX15","v":""},{"$f":"変換シート!BY15","v":""},{"$f":"変換シート!BZ15","v":""},{"$f":"変換シート!CA15","v":""},{"$f":"変換シート!CB15","v":""},{"$f":"変換シート!CC15","v":""},{"$f":"変換シート!CD15","v":""},{"$f":"入力画面!AY165&\"\"","v":""},{"$f":"入力画面!DI165&\"\"","v":""},{"$f":"変換シート!C15","v":""},{"$f":"変換シート!D15","v":""},{"$f":"変換シート!E15","v":""},{"$f":"変換シート!F15","v":""},{"$f":"変換シート!G15","v":""},{"$f":"変換シート!H15","v":""},{"$f":"変換シート!I15","v":""},{"$f":"変換シート!J15","v":""},{"$f":"変換シート!K15","v":""},{"$f":"変換シート!L15","v":""},{"$f":"変換シート!M15","v":""},{"$f":"変換シート!N15","v":""},{"$f":"変換シート!O15","v":""},{"$f":"変換シート!P15","v":""},{"$f":"変換シート!Q15","v":""},{"$f":"変換シート!R15","v":""},{"$f":"変換シート!S15","v":""},{"$f":"変換シート!T15","v":""},{"$f":"変換シート!U15","v":""},{"$f":"変換シート!V15","v":""},{"$f":"変換シート!W15","v":""},{"$f":"変換シート!X15","v":""},{"$f":"変換シート!Y15","v":""},{"$f":"変換シート!Z15","v":""},{"$f":"変換シート!AA15","v":""},{"$f":"変換シート!AB15","v":""},{"$f":"変換シート!AC15","v":""},{"$f":"変換シート!AD15","v":""},{"$f":"変換シート!AE15","v":""},{"$f":"変換シート!AF15","v":""},{"$f":"変換シート!AG15","v":""},{"$f":"変換シート!AH15","v":""},{"$f":"変換シート!AI15","v":""},{"$f":"変換シート!AJ15","v":""},{"$f":"変換シート!AK15","v":""},{"$f":"変換シート!AL15","v":""},{"$f":"変換シート!AM15","v":""},{"$f":"変換シート!AN15","v":""},{"$f":"変換シート!AO15","v":""},{"$f":"変換シート!AP15","v":""},{"$f":"変換シート!AQ15","v":""},{"$f":"変換シート!AR15","v":""},{"$f":"変換シート!AS15","v":""},{"$f":"変換シート!AT15","v":""},{"$f":"変換シート!AU15","v":""},{"$f":"変換シート!AV15","v":""},{"$f":"変換シート!AW15","v":""},{"$f":"変換シート!AX15","v":""},{"$f":"変換シート!AY15","v":""},{"$f":"変換シート!AZ15","v":""},{"$f":"変換シート!BA15","v":""},{"$f":"変換シート!BB15","v":""},{"$f":"変換シート!BC15","v":""},{"$f":"変換シート!BD15","v":""},{"$f":"変換シート!BE15","v":""},{"$f":"変換シート!BF15","v":""},{"$f":"変換シート!BG15","v":""},{"$f":"変換シート!BH15","v":""},{"$f":"変換シート!BI15","v":""},{"$f":"変換シート!BJ15","v":""},{"$f":"変換シート!BK15","v":""},{"$f":"変換シート!BL15","v":""},{"$f":"変換シート!BM15","v":""},{"$f":"変換シート!BN15","v":""},{"$f":"変換シート!BO15","v":""},{"$f":"変換シート!BP15","v":""},{"$f":"変換シート!BQ15","v":""},{"$f":"変換シート!BR15","v":""},{"$f":"変換シート!BS15","v":""},{"$f":"変換シート!BT15","v":""},{"$f":"変換シート!BU15","v":""},{"$f":"変換シート!BV15","v":""},{"$f":"入力画面!DJ165&\"\"","v":""},{"$f":"入力画面!DK165&\"\"","v":""},{"$f":"入力画面!DL165&\"\"","v":""},{"$f":"入力画面!DM165&\"\"","v":""},{"$f":"入力画面!DN165&\"\"","v":""},{"$f":"入力画面!DO165&\"\"","v":""},"非公開"]
[12,null,null,"埼玉県 福祉部 地域包括ケア課",{"$f":"入力画面!B179&\"\"","v":""},{"$f":"入力画面!D179&\"\"","v":""},{"$f":"入力画面!E179&\"\"","v":""},{"$f":"入力画面!F179&\"\"","v":""},{"$f":"入力画面!G179&\"\"","v":""},{"$f":"入力画面!H179&\"\"","v":""},{"$f":"入力画面!I179&\"\"","v":""},{"$f":"入力画面!J179&\"\"","v":""},{"$f":"入力画面!K179&\"\"","v":""},{"$f":"入力画面!M179&\"\"","v":""},{"$f":"入力画面!N179&\"\"","v":""},{"$f":"入力画面!O179&\"\"","v":""},{"$f":"入力画面!P179&\"\"","v":""},{"$f":"入力画面!Q179&\"\"","v":""},{"$f":"入力画面!R179&\"\"","v":""},{"$f":"変換シート!BW16","v":""},{"$f":"変換シート!BX16","v":""},{"$f":"変換シート!BY16","v":""},{"$f":"変換シート!BZ16","v":""},{"$f":"変換シート!CA16","v":""},{"$f":"変換シート!CB16","v":""},{"$f":"変換シート!CC16","v":""},{"$f":"変換シート!CD16","v":""},{"$f":"入力画面!AY179&\"\"","v":""},{"$f":"入力画面!DI179&\"\"","v":""},{"$f":"変換シート!C16","v":""},{"$f":"変換シート!D16","v":""},{"$f":"変換シート!E16","v":""},{"$f":"変換シート!F16","v":""},{"$f":"変換シート!G16","v":""},{"$f":"変換シート!H16","v":""},{"$f":"変換シート!I16","v":""},{"$f":"変換シート!J16","v":""},{"$f":"変換シート!K16","v":""},{"$f":"変換シート!L16","v":""},{"$f":"変換シート!M16","v":""},{"$f":"変換シート!N16","v":""},{"$f":"変換シート!O16","v":""},{"$f":"変換シート!P16","v":""},{"$f":"変換シート!Q16","v":""},{"$f":"変換シート!R16","v":""},{"$f":"変換シート!S16","v":""},{"$f":"変換シート!T16","v":""},{"$f":"変換シート!U16","v":""},{"$f":"変換シート!V16","v":""},{"$f":"変換シート!W16","v":""},{"$f":"変換シート!X16","v":""},{"$f":"変換シート!Y16","v":""},{"$f":"変換シート!Z16","v":""},{"$f":"変換シート!AA16","v":""},{"$f":"変換シート!AB16","v":""},{"$f":"変換シート!AC16","v":""},{"$f":"変換シート!AD16","v":""},{"$f":"変換シート!AE16","v":""},{"$f":"変換シート!AF16","v":""},{"$f":"変換シート!AG16","v":""},{"$f":"変換シート!AH16","v":""},{"$f":"変換シート!AI16","v":""},{"$f":"変換シート!AJ16","v":""},{"$f":"変換シート!AK16","v":""},{"$f":"変換シート!AL16","v":""},{"$f":"変換シート!AM16","v":""},{"$f":"変換シート!AN16","v":""},{"$f":"変換シート!AO16","v":""},{"$f":"変換シート!AP16","v":""},{"$f":"変換シート!AQ16","v":""},{"$f":"変換シート!AR16","v":""},{"$f":"変換シート!AS16","v":""},{"$f":"変換シート!AT16","v":""},{"$f":"変換シート!AU16","v":""},{"$f":"変換シート!AV16","v":""},{"$f":"変換シート!AW16","v":""},{"$f":"変換シート!AX16","v":""},{"$f":"変換シート!AY16","v":""},{"$f":"変換シート!AZ16","v":""},{"$f":"変換シート!BA16","v":""},{"$f":"変換シート!BB16","v":""},{"$f":"変換シート!BC16","v":""},{"$f":"変換シート!BD16","v":""},{"$f":"変換シート!BE16","v":""},{"$f":"変換シート!BF16","v":""},{"$f":"変換シート!BG16","v":""},{"$f":"変換シート!BH16","v":""},{"$f":"変換シート!BI16","v":""},{"$f":"変換シート!BJ16","v":""},{"$f":"変換シート!BK16","v":""},{"$f":"変換シート!BL16","v":""},{"$f":"変換シート!BM16","v":""},{"$f":"変換シート!BN16","v":""},{"$f":"変換シート!BO16","v":""},{"$f":"変換シート!BP16","v":""},{"$f":"変換シート!BQ16","v":""},{"$f":"変換シート!BR16","v":""},{"$f":"変換シート!BS16","v":""},{"$f":"変換シート!BT16","v":""},{"$f":"変換シート!BU16","v":""},{"$f":"変換シート!BV16","v":""},{"$f":"入力画面!DJ179&\"\"","v":""},{"$f":"入力画面!DK179&\"\"","v":""},{"$f":"入力画面!DL179&\"\"","v":""},{"$f":"入力画面!DM179&\"\"","v":""},{"$f":"入力画面!DN179&\"\"","v":""},{"$f":"入力画面!DO179&\"\"","v":""},"非公開"]
[13,null,null,"埼玉県 福祉部 地域包括ケア課",{"$f":"入力画面!B193&\"\"","v":""},{"$f":"入力画面!D193&\"\"","v":""},{"$f":"入力画面!E193&\"\"","v":""},{"$f":"入力画面!F193&\"\"","v":""},{"$f":"入力画面!G193&\"\"","v":""},{"$f":"入力画面!H193&\"\"","v":""},{"$f":"入力画面!I193&\"\"","v":""},{"$f":"入力画面!J193&\"\"","v":""},{"$f":"入力画面!K193&\"\"","v":""},{"$f":"入力画面!M193&\"\"","v":""},{"$f":"入力画面!N193&\"\"","v":""},{"$f":"入力画面!O193&\"\"","v":""},{"$f":"入力画面!P193&\"\"","v":""},{"$f":"入力画面!Q193&\"\"","v":""},{"$f":"入力画面!R193&\"\"","v":""},{"$f":"変換シート!BW17","v":""},{"$f":"変換シート!BX17","v":""},{"$f":"変換シート!BY17","v":""},{"$f":"変換シート!BZ17","v":""},{"$f":"変換シート!CA17","v":""},{"$f":"変換シート!CB17","v":""},{"$f":"変換シート!CC17","v":""},{"$f":"変換シート!CD17","v":""},{"$f":"入力画面!AY193&\"\"","v":""},{"$f":"入力画面!DI193&\"\"","v":""},{"$f":"変換シート!C17","v":""},{"$f":"変換シート!D17","v":""},{"$f":"変換シート!E17","v":""},{"$f":"変換シート!F17","v":""},{"$f":"変換シート!G17","v":""},{"$f":"変換シート!H17","v":""},{"$f":"変換シート!I17","v":""},{"$f":"変換シート!J17","v":""},{"$f":"変換シート!K17","v":""},{"$f":"変換シート!L17","v":""},{"$f":"変換シート!M17","v":""},{"$f":"変換シート!N17","v":""},{"$f":"変換シート!O17","v":""},{"$f":"変換シート!P17","v":""},{"$f":"変換シート!Q17","v":""},{"$f":"変換シート!R17","v":""},{"$f":"変換シート!S17","v":""},{"$f":"変換シート!T17","v":""},{"$f":"変換シート!U17","v":""},{"$f":"変換シート!V17","v":""},{"$f":"変換シート!W17","v":""},{"$f":"変換シート!X17","v":""},{"$f":"変換シート!Y17","v":""},{"$f":"変換シート!Z17","v":""},{"$f":"変換シート!AA17","v":""},{"$f":"変換シート!AB17","v":""},{"$f":"変換シート!AC17","v":""},{"$f":"変換シート!AD17","v":""},{"$f":"変換シート!AE17","v":""},{"$f":"変換シート!AF17","v":""},{"$f":"変換シート!AG17","v":""},{"$f":"変換シート!AH17","v":""},{"$f":"変換シート!AI17","v":""},{"$f":"変換シート!AJ17","v":""},{"$f":"変換シート!AK17","v":""},{"$f":"変換シート!AL17","v":""},{"$f":"変換シート!AM17","v":""},{"$f":"変換シート!AN17","v":""},{"$f":"変換シート!AO17","v":""},{"$f":"変換シート!AP17","v":""},{"$f":"変換シート!AQ17","v":""},{"$f":"変換シート!AR17","v":""},{"$f":"変換シート!AS17","v":""},{"$f":"変換シート!AT17","v":""},{"$f":"変換シート!AU17","v":""},{"$f":"変換シート!AV17","v":""},{"$f":"変換シート!AW17","v":""},{"$f":"変換シート!AX17","v":""},{"$f":"変換シート!AY17","v":""},{"$f":"変換シート!AZ17","v":""},{"$f":"変換シート!BA17","v":""},{"$f":"変換シート!BB17","v":""},{"$f":"変換シート!BC17","v":""},{"$f":"変換シート!BD17","v":""},{"$f":"変換シート!BE17","v":""},{"$f":"変換シート!BF17","v":""},{"$f":"変換シート!BG17","v":""},{"$f":"変換シート!BH17","v":""},{"$f":"変換シート!BI17","v":""},{"$f":"変換シート!BJ17","v":""},{"$f":"変換シート!BK17","v":""},{"$f":"変換シート!BL17","v":""},{"$f":"変換シート!BM17","v":""},{"$f":"変換シート!BN17","v":""},{"$f":"変換シート!BO17","v":""},{"$f":"変換シート!BP17","v":""},{"$f":"変換シート!BQ17","v":""},{"$f":"変換シート!BR17","v":""},{"$f":"変換シート!BS17","v":""},{"$f":"変換シート!BT17","v":""},{"$f":"変換シート!BU17","v":""},{"$f":"変換シート!BV17","v":""},{"$f":"入力画面!DJ193&\"\"","v":""},{"$f":"入力画面!DK193&\"\"","v":""},{"$f":"入力画面!DL193&\"\"","v":""},{"$f":"入力画面!DM193&\"\"","v":""},{"$f":"入力画面!DN193&\"\"","v":""},{"$f":"入力画面!DO193&\"\"","v":""},"非公開"]
[14,null,null,"埼玉県 福祉部 地域包括ケア課",{"$f":"入力画面!B207&\"\"","v":""},{"$f":"入力画面!D207&\"\"","v":""},{"$f":"入力画面!E207&\"\"","v":""},{"$f":"入力画面!F207&\"\"","v":""},{"$f":"入力画面!G207&\"\"","v":""},{"$f":"入力画面!H207&\"\"","v":""},{"$f":"入力画面!I207&\"\"","v":""},{"$f":"入力画面!J207&\"\"","v":""},{"$f":"入力画面!K207&\"\"","v":""},{"$f":"入力画面!M207&\"\"","v":""},{"$f":"入力画面!N207&\"\"","v":""},{"$f":"入力画面!O207&\"\"","v":""},{"$f":"入力画面!P207&\"\"","v":""},{"$f":"入力画面!Q207&\"\"","v":""},{"$f":"入力画面!R207&\"\"","v":""},{"$f":"変換シート!BW18","v":""},{"$f":"変換シート!BX18","v":""},{"$f":"変換シート!BY18","v":""},{"$f":"変換シート!BZ18","v":""},{"$f":"変換シート!CA18","v":""},{"$f":"変換シート!CB18","v":""},{"$f":"変換シート!CC18","v":""},{"$f":"変換シート!CD18","v":""},{"$f":"入力画面!AY207&\"\"","v":""},{"$f":"入力画面!DI207&\"\"","v":""},{"$f":"変換シート!C18","v":""},{"$f":"変換シート!D18","v":""},{"$f":"変換シート!E18","v":""},{"$f":"変換シート!F18","v":""},{"$f":"変換シート!G18","v":""},{"$f":"変換シート!H18","v":""},{"$f":"変換シート!I18","v":""},{"$f":"変換シート!J18","v":""},{"$f":"変換シート!K18","v":""},{"$f":"変換シート!L18","v":""},{"$f":"変換シート!M18","v":""},{"$f":"変換シート!N18","v":""},{"$f":"変換シート!O18","v":""},{"$f":"変換シート!P18","v":""},{"$f":"変換シート!Q18","v":""},{"$f":"変換シート!R18","v":""},{"$f":"変換シート!S18","v":""},{"$f":"変換シート!T18","v":""},{"$f":"変換シート!U18","v":""},{"$f":"変換シート!V18","v":""},{"$f":"変換シート!W18","v":""},{"$f":"変換シート!X18","v":""},{"$f":"変換シート!Y18","v":""},{"$f":"変換シート!Z18","v":""},{"$f":"変換シート!AA18","v":""},{"$f":"変換シート!AB18","v":""},{"$f":"変換シート!AC18","v":""},{"$f":"変換シート!AD18","v":""},{"$f":"変換シート!AE18","v":""},{"$f":"変換シート!AF18","v":""},{"$f":"変換シート!AG18","v":""},{"$f":"変換シート!AH18","v":""},{"$f":"変換シート!AI18","v":""},{"$f":"変換シート!AJ18","v":""},{"$f":"変換シート!AK18","v":""},{"$f":"変換シート!AL18","v":""},{"$f":"変換シート!AM18","v":""},{"$f":"変換シート!AN18","v":""},{"$f":"変換シート!AO18","v":""},{"$f":"変換シート!AP18","v":""},{"$f":"変換シート!AQ18","v":""},{"$f":"変換シート!AR18","v":""},{"$f":"変換シート!AS18","v":""},{"$f":"変換シート!AT18","v":""},{"$f":"変換シート!AU18","v":""},{"$f":"変換シート!AV18","v":""},{"$f":"変換シート!AW18","v":""},{"$f":"変換シート!AX18","v":""},{"$f":"変換シート!AY18","v":""},{"$f":"変換シート!AZ18","v":""},{"$f":"変換シート!BA18","v":""},{"$f":"変換シート!BB18","v":""},{"$f":"変換シート!BC18","v":""},{"$f":"変換シート!BD18","v":""},{"$f":"変換シート!BE18","v":""},{"$f":"変換シート!BF18","v":""},{"$f":"変換シート!BG18","v":""},{"$f":"変換シート!BH18","v":""},{"$f":"変換シート!BI18","v":""},{"$f":"変換シート!BJ18","v":""},{"$f":"変換シート!BK18","v":""},{"$f":"変換シート!BL18","v":""},{"$f":"変換シート!BM18","v":""},{"$f":"変換シート!BN18","v":""},{"$f":"変換シート!BO18","v":""},{"$f":"変換シート!BP18","v":""},{"$f":"変換シート!BQ18","v":""},{"$f":"変換シート!BR18","v":""},{"$f":"変換シート!BS18","v":""},{"$f":"変換シート!BT18","v":""},{"$f":"変換シート!BU18","v":""},{"$f":"変換シート!BV18","v":""},{"$f":"入力画面!DJ207&\"\"","v":""},{"$f":"入力画面!DK207&\"\"","v":""},{"$f":"入力画面!DL207&\"\"","v":""},{"$f":"入力画面!DM207&\"\"","v":""},{"$f":"入力画面!DN207&\"\"","v":""},{"$f":"入力画面!DO207&\"\"","v":""},"非公開"]
[15,null,null,"埼玉県 福祉部 地域包括ケア課",{"$f":"入力画面!B221&\"\"","v":""},{"$f":"入力画面!D221&\"\"","v":""},{"$f":"入力画面!E221&\"\"","v":""},{"$f":"入力画面!F221&\"\"","v":""},{"$f":"入力画面!G221&\"\"","v":""},{"$f":"入力画面!H221&\"\"","v":""},{"$f":"入力画面!I221&\"\"","v":""},{"$f":"入力画面!J221&\"\"","v":""},{"$f":"入力画面!K221&\"\"","v":""},{"$f":"入力画面!M221&\"\"","v":""},{"$f":"入力画面!N221&\"\"","v":""},{"$f":"入力画面!O221&\"\"","v":""},{"$f":"入力画面!P221&\"\"","v":""},{"$f":"入力画面!Q221&\"\"","v":""},{"$f":"入力画面!R221&\"\"","v":""},{"$f":"変換シート!BW19","v":""},{"$f":"変換シート!BX19","v":""},{"$f":"変換シート!BY19","v":""},{"$f":"変換シート!BZ19","v":""},{"$f":"変換シート!CA19","v":""},{"$f":"変換シート!CB19","v":""},{"$f":"変換シート!CC19","v":""},{"$f":"変換シート!CD19","v":""},{"$f":"入力画面!AY221&\"\"","v":""},{"$f":"入力画面!DI221&\"\"","v":""},{"$f":"変換シート!C19","v":""},{"$f":"変換シート!D19","v":""},{"$f":"変換シート!E19","v":""},{"$f":"変換シート!F19","v":""},{"$f":"変換シート!G19","v":""},{"$f":"変換シート!H19","v":""},{"$f":"変換シート!I19","v":""},{"$f":"変換シート!J19","v":""},{"$f":"変換シート!K19","v":""},{"$f":"変換シート!L19","v":""},{"$f":"変換シート!M19","v":""},{"$f":"変換シート!N19","v":""},{"$f":"変換シート!O19","v":""},{"$f":"変換シート!P19","v":""},{"$f":"変換シート!Q19","v":""},{"$f":"変換シート!R19","v":""},{"$f":"変換シート!S19","v":""},{"$f":"変換シート!T19","v":""},{"$f":"変換シート!U19","v":""},{"$f":"変換シート!V19","v":""},{"$f":"変換シート!W19","v":""},{"$f":"変換シート!X19","v":""},{"$f":"変換シート!Y19","v":""},{"$f":"変換シート!Z19","v":""},{"$f":"変換シート!AA19","v":""},{"$f":"変換シート!AB19","v":""},{"$f":"変換シート!AC19","v":""},{"$f":"変換シート!AD19","v":""},{"$f":"変換シート!AE19","v":""},{"$f":"変換シート!AF19","v":""},{"$f":"変換シート!AG19","v":""},{"$f":"変換シート!AH19","v":""},{"$f":"変換シート!AI19","v":""},{"$f":"変換シート!AJ19","v":""},{"$f":"変換シート!AK19","v":""},{"$f":"変換シート!AL19","v":""},{"$f":"変換シート!AM19","v":""},{"$f":"変換シート!AN19","v":""},{"$f":"変換シート!AO19","v":""},{"$f":"変換シート!AP19","v":""},{"$f":"変換シート!AQ19","v":""},{"$f":"変換シート!AR19","v":""},{"$f":"変換シート!AS19","v":""},{"$f":"変換シート!AT19","v":""},{"$f":"変換シート!AU19","v":""},{"$f":"変換シート!AV19","v":""},{"$f":"変換シート!AW19","v":""},{"$f":"変換シート!AX19","v":""},{"$f":"変換シート!AY19","v":""},{"$f":"変換シート!AZ19","v":""},{"$f":"変換シート!BA19","v":""},{"$f":"変換シート!BB19","v":""},{"$f":"変換シート!BC19","v":""},{"$f":"変換シート!BD19","v":""},{"$f":"変換シート!BE19","v":""},{"$f":"変換シート!BF19","v":""},{"$f":"変換シート!BG19","v":""},{"$f":"変換シート!BH19","v":""},{"$f":"変換シート!BI19","v":""},{"$f":"変換シート!BJ19","v":""},{"$f":"変換シート!BK19","v":""},{"$f":"変換シート!BL19","v":""},{"$f":"変換シート!BM19","v":""},{"$f":"変換シート!BN19","v":""},{"$f":"変換シート!BO19","v":""},{"$f":"変換シート!BP19","v":""},{"$f":"変換シート!BQ19","v":""},{"$f":"変換シート!BR19","v":""},{"$f":"変換シート!BS19","v":""},{"$f":"変換シート!BT19","v":""},{"$f":"変換シート!BU19","v":""},{"$f":"変換シート!BV19","v":""},{"$f":"入力画面!DJ221&\"\"","v":""},{"$f":"入力画面!DK221&\"\"","v":""},{"$f":"入力画面!DL221&\"\"","v":""},{"$f":"入力画面!DM221&\"\"","v":""},{"$f":"入力画面!DN221&\"\"","v":""},{"$f":"入力画面!DO221&\"\"","v":""},"非公開"]
[16,null,null,"埼玉県 福祉部 地域包括ケア課",{"$f":"入力画面!B235&\"\"","v":""},{"$f":"入力画面!D235&\"\"","v":""},{"$f":"入力画面!E235&\"\"","v":""},{"$f":"入力画面!F235&\"\"","v":""},{"$f":"入力画面!G235&\"\"","v":""},{"$f":"入力画面!H235&\"\"","v":""},{"$f":"入力画面!I235&\"\"","v":""},{"$f":"入力画面!J235&\"\"","v":""},{"$f":"入力画面!K235&\"\"","v":""},{"$f":"入力画面!M235&\"\"","v":""},{"$f":"入力画面!N235&\"\"","v":""},{"$f":"入力画面!O235&\"\"","v":""},{"$f":"入力画面!P235&\"\"","v":""},{"$f":"入力画面!Q235&\"\"","v":""},{"$f":"入力画面!R235&\"\"","v":""},{"$f":"変換シート!BW20","v":""},{"$f":"変換シート!BX20","v":""},{"$f":"変換シート!BY20","v":""},{"$f":"変換シート!BZ20","v":""},{"$f":"変換シート!CA20","v":""},{"$f":"変換シート!CB20","v":""},{"$f":"変換シート!CC20","v":""},{"$f":"変換シート!CD20","v":""},{"$f":"入力画面!AY235&\"\"","v":""},{"$f":"入力画面!DI235&\"\"","v":""},{"$f":"変換シート!C20","v":""},{"$f":"変換シート!D20","v":""},{"$f":"変換シート!E20","v":""},{"$f":"変換シート!F20","v":""},{"$f":"変換シート!G20","v":""},{"$f":"変換シート!H20","v":""},{"$f":"変換シート!I20","v":""},{"$f":"変換シート!J20","v":""},{"$f":"変換シート!K20","v":""},{"$f":"変換シート!L20","v":""},{"$f":"変換シート!M20","v":""},{"$f":"変換シート!N20","v":""},{"$f":"変換シート!O20","v":""},{"$f":"変換シート!P20","v":""},{"$f":"変換シート!Q20","v":""},{"$f":"変換シート!R20","v":""},{"$f":"変換シート!S20","v":""},{"$f":"変換シート!T20","v":""},{"$f":"変換シート!U20","v":""},{"$f":"変換シート!V20","v":""},{"$f":"変換シート!W20","v":""},{"$f":"変換シート!X20","v":""},{"$f":"変換シート!Y20","v":""},{"$f":"変換シート!Z20","v":""},{"$f":"変換シート!AA20","v":""},{"$f":"変換シート!AB20","v":""},{"$f":"変換シート!AC20","v":""},{"$f":"変換シート!AD20","v":""},{"$f":"変換シート!AE20","v":""},{"$f":"変換シート!AF20","v":""},{"$f":"変換シート!AG20","v":""},{"$f":"変換シート!AH20","v":""},{"$f":"変換シート!AI20","v":""},{"$f":"変換シート!AJ20","v":""},{"$f":"変換シート!AK20","v":""},{"$f":"変換シート!AL20","v":""},{"$f":"変換シート!AM20","v":""},{"$f":"変換シート!AN20","v":""},{"$f":"変換シート!AO20","v":""},{"$f":"変換シート!AP20","v":""},{"$f":"変換シート!AQ20","v":""},{"$f":"変換シート!AR20","v":""},{"$f":"変換シート!AS20","v":""},{"$f":"変換シート!AT20","v":""},{"$f":"変換シート!AU20","v":""},{"$f":"変換シート!AV20","v":""},{"$f":"変換シート!AW20","v":""},{"$f":"変換シート!AX20","v":""},{"$f":"変換シート!AY20","v":""},{"$f":"変換シート!AZ20","v":""},{"$f":"変換シート!BA20","v":""},{"$f":"変換シート!BB20","v":""},{"$f":"変換シート!BC20","v":""},{"$f":"変換シート!BD20","v":""},{"$f":"変換シート!BE20","v":""},{"$f":"変換シート!BF20","v":""},{"$f":"変換シート!BG20","v":""},{"$f":"変換シート!BH20","v":""},{"$f":"変換シート!BI20","v":""},{"$f":"変換シート!BJ20","v":""},{"$f":"変換シート!BK20","v":""},{"$f":"変換シート!BL20","v":""},{"$f":"変換シート!BM20","v":""},{"$f":"変換シート!BN20","v":""},{"$f":"変換シート!BO20","v":""},{"$f":"変換シート!BP20","v":""},{"$f":"変換シート!BQ20","v":""},{"$f":"変換シート!BR20","v":""},{"$f":"変換シート!BS20","v":""},{"$f":"変換シート!BT20","v":""},{"$f":"変換シート!BU20","v":""},{"$f":"変換シート!BV20","v":""},{"$f":"入力画面!DJ235&\"\"","v":""},{"$f":"入力画面!DK235&\"\"","v":""},{"$f":"入力画面!DL235&\"\"","v":""},{"$f":"入力画面!DM235&\"\"","v":""},{"$f":"入力画面!DN235&\"\"","v":""},{"$f":"入力画面!DO235&\"\"","v":""},"非公開"]
[17,null,null,"埼玉県 福祉部 地域包括ケア課",{"$f":"入力画面!B249&\"\"","v":""},{"$f":"入力画面!D249&\"\"","v":""},{"$f":"入力画面!E249&\"\"","v":""},{"$f":"入力画面!F249&\"\"","v":""},{"$f":"入力画面!G249&\"\"","v":""},{"$f":"入力画面!H249&\"\"","v":""},{"$f":"入力画面!I249&\"\"","v":""},{"$f":"入力画面!J249&\"\"","v":""},{"$f":"入力画面!K249&\"\"","v":""},{"$f":"入力画面!M249&\"\"","v":""},{"$f":"入力画面!N249&\"\"","v":""},{"$f":"入力画面!O249&\"\"","v":""},{"$f":"入力画面!P249&\"\"","v":""},{"$f":"入力画面!Q249&\"\"","v":""},{"$f":"入力画面!R249&\"\"","v":""},{"$f":"変換シート!BW21","v":""},{"$f":"変換シート!BX21","v":""},{"$f":"変換シート!BY21","v":""},{"$f":"変換シート!BZ21","v":""},{"$f":"変換シート!CA21","v":""},{"$f":"変換シート!CB21","v":""},{"$f":"変換シート!CC21","v":""},{"$f":"変換シート!CD21","v":""},{"$f":"入力画面!AY249&\"\"","v":""},{"$f":"入力画面!DI249&\"\"","v":""},{"$f":"変換シート!C21","v":""},{"$f":"変換シート!D21","v":""},{"$f":"変換シート!E21","v":""},{"$f":"変換シート!F21","v":""},{"$f":"変換シート!G21","v":""},{"$f":"変換シート!H21","v":""},{"$f":"変換シート!I21","v":""},{"$f":"変換シート!J21","v":""},{"$f":"変換シート!K21","v":""},{"$f":"変換シート!L21","v":""},{"$f":"変換シート!M21","v":""},{"$f":"変換シート!N21","v":""},{"$f":"変換シート!O21","v":""},{"$f":"変換シート!P21","v":""},{"$f":"変換シート!Q21","v":""},{"$f":"変換シート!R21","v":""},{"$f":"変換シート!S21","v":""},{"$f":"変換シート!T21","v":""},{"$f":"変換シート!U21","v":""},{"$f":"変換シート!V21","v":""},{"$f":"変換シート!W21","v":""},{"$f":"変換シート!X21","v":""},{"$f":"変換シート!Y21","v":""},{"$f":"変換シート!Z21","v":""},{"$f":"変換シート!AA21","v":""},{"$f":"変換シート!AB21","v":""},{"$f":"変換シート!AC21","v":""},{"$f":"変換シート!AD21","v":""},{"$f":"変換シート!AE21","v":""},{"$f":"変換シート!AF21","v":""},{"$f":"変換シート!AG21","v":""},{"$f":"変換シート!AH21","v":""},{"$f":"変換シート!AI21","v":""},{"$f":"変換シート!AJ21","v":""},{"$f":"変換シート!AK21","v":""},{"$f":"変換シート!AL21","v":""},{"$f":"変換シート!AM21","v":""},{"$f":"変換シート!AN21","v":""},{"$f":"変換シート!AO21","v":""},{"$f":"変換シート!AP21","v":""},{"$f":"変換シート!AQ21","v":""},{"$f":"変換シート!AR21","v":""},{"$f":"変換シート!AS21","v":""},{"$f":"変換シート!AT21","v":""},{"$f":"変換シート!AU21","v":""},{"$f":"変換シート!AV21","v":""},{"$f":"変換シート!AW21","v":""},{"$f":"変換シート!AX21","v":""},{"$f":"変換シート!AY21","v":""},{"$f":"変換シート!AZ21","v":""},{"$f":"変換シート!BA21","v":""},{"$f":"変換シート!BB21","v":""},{"$f":"変換シート!BC21","v":""},{"$f":"変換シート!BD21","v":""},{"$f":"変換シート!BE21","v":""},{"$f":"変換シート!BF21","v":""},{"$f":"変換シート!BG21","v":""},{"$f":"変換シート!BH21","v":""},{"$f":"変換シート!BI21","v":""},{"$f":"変換シート!BJ21","v":""},{"$f":"変換シート!BK21","v":""},{"$f":"変換シート!BL21","v":""},{"$f":"変換シート!BM21","v":""},{"$f":"変換シート!BN21","v":""},{"$f":"変換シート!BO21","v":""},{"$f":"変換シート!BP21","v":""},{"$f":"変換シート!BQ21","v":""},{"$f":"変換シート!BR21","v":""},{"$f":"変換シート!BS21","v":""},{"$f":"変換シート!BT21","v":""},{"$f":"変換シート!BU21","v":""},{"$f":"変換シート!BV21","v":""},{"$f":"入力画面!DJ249&\"\"","v":""},{"$f":"入力画面!DK249&\"\"","v":""},{"$f":"入力画面!DL249&\"\"","v":""},{"$f":"入力画面!DM249&\"\"","v":""},{"$f":"入力画面!DN249&\"\"","v":""},{"$f":"入力画面!DO249&\"\"","v":""},"非公開"]
[18,null,null,"埼玉県 福祉部 地域包括ケア課",{"$f":"入力画面!B263&\"\"","v":""},{"$f":"入力画面!D263&\"\"","v":""},{"$f":"入力画面!E263&\"\"","v":""},{"$f":"入力画面!F263&\"\"","v":""},{"$f":"入力画面!G263&\"\"","v":""},{"$f":"入力画面!H263&\"\"","v":""},{"$f":"入力画面!I263&\"\"","v":""},{"$f":"入力画面!J263&\"\"","v":""},{"$f":"入力画面!K263&\"\"","v":""},{"$f":"入力画面!M263&\"\"","v":""},{"$f":"入力画面!N263&\"\"","v":""},{"$f":"入力画面!O263&\"\"","v":""},{"$f":"入力画面!P263&\"\"","v":""},{"$f":"入力画面!Q263&\"\"","v":""},{"$f":"入力画面!R263&\"\"","v":""},{"$f":"変換シート!BW22","v":""},{"$f":"変換シート!BX22","v":""},{"$f":"変換シート!BY22","v":""},{"$f":"変換シート!BZ22","v":""},{"$f":"変換シート!CA22","v":""},{"$f":"変換シート!CB22","v":""},{"$f":"変換シート!CC22","v":""},{"$f":"変換シート!CD22","v":""},{"$f":"入力画面!AY263&\"\"","v":""},{"$f":"入力画面!DI263&\"\"","v":""},{"$f":"変換シート!C22","v":""},{"$f":"変換シート!D22","v":""},{"$f":"変換シート!E22","v":""},{"$f":"変換シート!F22","v":""},{"$f":"変換シート!G22","v":""},{"$f":"変換シート!H22","v":""},{"$f":"変換シート!I22","v":""},{"$f":"変換シート!J22","v":""},{"$f":"変換シート!K22","v":""},{"$f":"変換シート!L22","v":""},{"$f":"変換シート!M22","v":""},{"$f":"変換シート!N22","v":""},{"$f":"変換シート!O22","v":""},{"$f":"変換シート!P22","v":""},{"$f":"変換シート!Q22","v":""},{"$f":"変換シート!R22","v":""},{"$f":"変換シート!S22","v":""},{"$f":"変換シート!T22","v":""},{"$f":"変換シート!U22","v":""},{"$f":"変換シート!V22","v":""},{"$f":"変換シート!W22","v":""},{"$f":"変換シート!X22","v":""},{"$f":"変換シート!Y22","v":""},{"$f":"変換シート!Z22","v":""},{"$f":"変換シート!AA22","v":""},{"$f":"変換シート!AB22","v":""},{"$f":"変換シート!AC22","v":""},{"$f":"変換シート!AD22","v":""},{"$f":"変換シート!AE22","v":""},{"$f":"変換シート!AF22","v":""},{"$f":"変換シート!AG22","v":""},{"$f":"変換シート!AH22","v":""},{"$f":"変換シート!AI22","v":""},{"$f":"変換シート!AJ22","v":""},{"$f":"変換シート!AK22","v":""},{"$f":"変換シート!AL22","v":""},{"$f":"変換シート!AM22","v":""},{"$f":"変換シート!AN22","v":""},{"$f":"変換シート!AO22","v":""},{"$f":"変換シート!AP22","v":""},{"$f":"変換シート!AQ22","v":""},{"$f":"変換シート!AR22","v":""},{"$f":"変換シート!AS22","v":""},{"$f":"変換シート!AT22","v":""},{"$f":"変換シート!AU22","v":""},{"$f":"変換シート!AV22","v":""},{"$f":"変換シート!AW22","v":""},{"$f":"変換シート!AX22","v":""},{"$f":"変換シート!AY22","v":""},{"$f":"変換シート!AZ22","v":""},{"$f":"変換シート!BA22","v":""},{"$f":"変換シート!BB22","v":""},{"$f":"変換シート!BC22","v":""},{"$f":"変換シート!BD22","v":""},{"$f":"変換シート!BE22","v":""},{"$f":"変換シート!BF22","v":""},{"$f":"変換シート!BG22","v":""},{"$f":"変換シート!BH22","v":""},{"$f":"変換シート!BI22","v":""},{"$f":"変換シート!BJ22","v":""},{"$f":"変換シート!BK22","v":""},{"$f":"変換シート!BL22","v":""},{"$f":"変換シート!BM22","v":""},{"$f":"変換シート!BN22","v":""},{"$f":"変換シート!BO22","v":""},{"$f":"変換シート!BP22","v":""},{"$f":"変換シート!BQ22","v":""},{"$f":"変換シート!BR22","v":""},{"$f":"変換シート!BS22","v":""},{"$f":"変換シート!BT22","v":""},{"$f":"変換シート!BU22","v":""},{"$f":"変換シート!BV22","v":""},{"$f":"入力画面!DJ263&\"\"","v":""},{"$f":"入力画面!DK263&\"\"","v":""},{"$f":"入力画面!DL263&\"\"","v":""},{"$f":"入力画面!DM263&\"\"","v":""},{"$f":"入力画面!DN263&\"\"","v":""},{"$f":"入力画面!DO263&\"\"","v":""},"非公開"]
[19,null,null,"埼玉県 福祉部 地域包括ケア課",{"$f":"入力画面!B277&\"\"","v":""},{"$f":"入力画面!D277&\"\"","v":""},{"$f":"入力画面!E277&\"\"","v":""},{"$f":"入力画面!F277&\"\"","v":""},{"$f":"入力画面!G277&\"\"","v":""},{"$f":"入力画面!H277&\"\"","v":""},{"$f":"入力画面!I277&\"\"","v":""},{"$f":"入力画面!J277&\"\"","v":""},{"$f":"入力画面!K277&\"\"","v":""},{"$f":"入力画面!M277&\"\"","v":""},{"$f":"入力画面!N277&\"\"","v":""},{"$f":"入力画面!O277&\"\"","v":""},{"$f":"入力画面!P277&\"\"","v":""},{"$f":"入力画面!Q277&\"\"","v":""},{"$f":"入力画面!R277&\"\"","v":""},{"$f":"変換シート!BW23","v":""},{"$f":"変換シート!BX23","v":""},{"$f":"変換シート!BY23","v":""},{"$f":"変換シート!BZ23","v":""},{"$f":"変換シート!CA23","v":""},{"$f":"変換シート!CB23","v":""},{"$f":"変換シート!CC23","v":""},{"$f":"変換シート!CD23","v":""},{"$f":"入力画面!AY277&\"\"","v":""},{"$f":"入力画面!DI277&\"\"","v":""},{"$f":"変換シート!C23","v":""},{"$f":"変換シート!D23","v":""},{"$f":"変換シート!E23","v":""},{"$f":"変換シート!F23","v":""},{"$f":"変換シート!G23","v":""},{"$f":"変換シート!H23","v":""},{"$f":"変換シート!I23","v":""},{"$f":"変換シート!J23","v":""},{"$f":"変換シート!K23","v":""},{"$f":"変換シート!L23","v":""},{"$f":"変換シート!M23","v":""},{"$f":"変換シート!N23","v":""},{"$f":"変換シート!O23","v":""},{"$f":"変換シート!P23","v":""},{"$f":"変換シート!Q23","v":""},{"$f":"変換シート!R23","v":""},{"$f":"変換シート!S23","v":""},{"$f":"変換シート!T23","v":""},{"$f":"変換シート!U23","v":""},{"$f":"変換シート!V23","v":""},{"$f":"変換シート!W23","v":""},{"$f":"変換シート!X23","v":""},{"$f":"変換シート!Y23","v":""},{"$f":"変換シート!Z23","v":""},{"$f":"変換シート!AA23","v":""},{"$f":"変換シート!AB23","v":""},{"$f":"変換シート!AC23","v":""},{"$f":"変換シート!AD23","v":""},{"$f":"変換シート!AE23","v":""},{"$f":"変換シート!AF23","v":""},{"$f":"変換シート!AG23","v":""},{"$f":"変換シート!AH23","v":""},{"$f":"変換シート!AI23","v":""},{"$f":"変換シート!AJ23","v":""},{"$f":"変換シート!AK23","v":""},{"$f":"変換シート!AL23","v":""},{"$f":"変換シート!AM23","v":""},{"$f":"変換シート!AN23","v":""},{"$f":"変換シート!AO23","v":""},{"$f":"変換シート!AP23","v":""},{"$f":"変換シート!AQ23","v":""},{"$f":"変換シート!AR23","v":""},{"$f":"変換シート!AS23","v":""},{"$f":"変換シート!AT23","v":""},{"$f":"変換シート!AU23","v":""},{"$f":"変換シート!AV23","v":""},{"$f":"変換シート!AW23","v":""},{"$f":"変換シート!AX23","v":""},{"$f":"変換シート!AY23","v":""},{"$f":"変換シート!AZ23","v":""},{"$f":"変換シート!BA23","v":""},{"$f":"変換シート!BB23","v":""},{"$f":"変換シート!BC23","v":""},{"$f":"変換シート!BD23","v":""},{"$f":"変換シート!BE23","v":""},{"$f":"変換シート!BF23","v":""},{"$f":"変換シート!BG23","v":""},{"$f":"変換シート!BH23","v":""},{"$f":"変換シート!BI23","v":""},{"$f":"変換シート!BJ23","v":""},{"$f":"変換シート!BK23","v":""},{"$f":"変換シート!BL23","v":""},{"$f":"変換シート!BM23","v":""},{"$f":"変換シート!BN23","v":""},{"$f":"変換シート!BO23","v":""},{"$f":"変換シート!BP23","v":""},{"$f":"変換シート!BQ23","v":""},{"$f":"変換シート!BR23","v":""},{"$f":"変換シート!BS23","v":""},{"$f":"変換シート!BT23","v":""},{"$f":"変換シート!BU23","v":""},{"$f":"変換シート!BV23","v":""},{"$f":"入力画面!DJ277&\"\"","v":""},{"$f":"入力画面!DK277&\"\"","v":""},{"$f":"入力画面!DL277&\"\"","v":""},{"$f":"入力画面!DM277&\"\"","v":""},{"$f":"入力画面!DN277&\"\"","v":""},{"$f":"入力画面!DO277&\"\"","v":""},"非公開"]
[20,null,null,"埼玉県 福祉部 地域包括ケア課",{"$f":"入力画面!B291&\"\"","v":""},{"$f":"入力画面!D291&\"\"","v":""},{"$f":"入力画面!E291&\"\"","v":""},{"$f":"入力画面!F291&\"\"","v":""},{"$f":"入力画面!G291&\"\"","v":""},{"$f":"入力画面!H291&\"\"","v":""},{"$f":"入力画面!I291&\"\"","v":""},{"$f":"入力画面!J291&\"\"","v":""},{"$f":"入力画面!K291&\"\"","v":""},{"$f":"入力画面!M291&\"\"","v":""},{"$f":"入力画面!N291&\"\"","v":""},{"$f":"入力画面!O291&\"\"","v":""},{"$f":"入力画面!P291&\"\"","v":""},{"$f":"入力画面!Q291&\"\"","v":""},{"$f":"入力画面!R291&\"\"","v":""},{"$f":"変換シート!BW24","v":""},{"$f":"変換シート!BX24","v":""},{"$f":"変換シート!BY24","v":""},{"$f":"変換シート!BZ24","v":""},{"$f":"変換シート!CA24","v":""},{"$f":"変換シート!CB24","v":""},{"$f":"変換シート!CC24","v":""},{"$f":"変換シート!CD24","v":""},{"$f":"入力画面!AY291&\"\"","v":""},{"$f":"入力画面!DI291&\"\"","v":""},{"$f":"変換シート!C24","v":""},{"$f":"変換シート!D24","v":""},{"$f":"変換シート!E24","v":""},{"$f":"変換シート!F24","v":""},{"$f":"変換シート!G24","v":""},{"$f":"変換シート!H24","v":""},{"$f":"変換シート!I24","v":""},{"$f":"変換シート!J24","v":""},{"$f":"変換シート!K24","v":""},{"$f":"変換シート!L24","v":""},{"$f":"変換シート!M24","v":""},{"$f":"変換シート!N24","v":""},{"$f":"変換シート!O24","v":""},{"$f":"変換シート!P24","v":""},{"$f":"変換シート!Q24","v":""},{"$f":"変換シート!R24","v":""},{"$f":"変換シート!S24","v":""},{"$f":"変換シート!T24","v":""},{"$f":"変換シート!U24","v":""},{"$f":"変換シート!V24","v":""},{"$f":"変換シート!W24","v":""},{"$f":"変換シート!X24","v":""},{"$f":"変換シート!Y24","v":""},{"$f":"変換シート!Z24","v":""},{"$f":"変換シート!AA24","v":""},{"$f":"変換シート!AB24","v":""},{"$f":"変換シート!AC24","v":""},{"$f":"変換シート!AD24","v":""},{"$f":"変換シート!AE24","v":""},{"$f":"変換シート!AF24","v":""},{"$f":"変換シート!AG24","v":""},{"$f":"変換シート!AH24","v":""},{"$f":"変換シート!AI24","v":""},{"$f":"変換シート!AJ24","v":""},{"$f":"変換シート!AK24","v":""},{"$f":"変換シート!AL24","v":""},{"$f":"変換シート!AM24","v":""},{"$f":"変換シート!AN24","v":""},{"$f":"変換シート!AO24","v":""},{"$f":"変換シート!AP24","v":""},{"$f":"変換シート!AQ24","v":""},{"$f":"変換シート!AR24","v":""},{"$f":"変換シート!AS24","v":""},{"$f":"変換シート!AT24","v":""},{"$f":"変換シート!AU24","v":""},{"$f":"変換シート!AV24","v":""},{"$f":"変換シート!AW24","v":""},{"$f":"変換シート!AX24","v":""},{"$f":"変換シート!AY24","v":""},{"$f":"変換シート!AZ24","v":""},{"$f":"変換シート!BA24","v":""},{"$f":"変換シート!BB24","v":""},{"$f":"変換シート!BC24","v":""},{"$f":"変換シート!BD24","v":""},{"$f":"変換シート!BE24","v":""},{"$f":"変換シート!BF24","v":""},{"$f":"変換シート!BG24","v":""},{"$f":"変換シート!BH24","v":""},{"$f":"変換シート!BI24","v":""},{"$f":"変換シート!BJ24","v":""},{"$f":"変換シート!BK24","v":""},{"$f":"変換シート!BL24","v":""},{"$f":"変換シート!BM24","v":""},{"$f":"変換シート!BN24","v":""},{"$f":"変換シート!BO24","v":""},{"$f":"変換シート!BP24","v":""},{"$f":"変換シート!BQ24","v":""},{"$f":"変換シート!BR24","v":""},{"$f":"変換シート!BS24","v":""},{"$f":"変換シート!BT24","v":""},{"$f":"変換シート!BU24","v":""},{"$f":"変換シート!BV24","v":""},{"$f":"入力画面!DJ291&\"\"","v":""},{"$f":"入力画面!DK291&\"\"","v":""},{"$f":"入力画面!DL291&\"\"","v":""},{"$f":"入力画面!DM291&\"\"","v":""},{"$f":"入力画面!DN291&\"\"","v":""},{"$f":"入力画面!DO291&\"\"","v":""},"非公開"]
[21,null,null,"埼玉県 福祉部 地域包括ケア課",{"$f":"入力画面!B305&\"\"","v":""},{"$f":"入力画面!D305&\"\"","v":""},{"$f":"入力画面!E305&\"\"","v":""},{"$f":"入力画面!F305&\"\"","v":""},{"$f":"入力画面!G305&\"\"","v":""},{"$f":"入力画面!H305&\"\"","v":""},{"$f":"入力画面!I305&\"\"","v":""},{"$f":"入力画面!J305&\"\"","v":""},{"$f":"入力画面!K305&\"\"","v":""},{"$f":"入力画面!M305&\"\"","v":""},{"$f":"入力画面!N305&\"\"","v":""},{"$f":"入力画面!O305&\"\"","v":""},{"$f":"入力画面!P305&\"\"","v":""},{"$f":"入力画面!Q305&\"\"","v":""},{"$f":"入力画面!R305&\"\"","v":""},{"$f":"変換シート!BW25","v":""},{"$f":"変換シート!BX25","v":""},{"$f":"変換シート!BY25","v":""},{"$f":"変換シート!BZ25","v":""},{"$f":"変換シート!CA25","v":""},{"$f":"変換シート!CB25","v":""},{"$f":"変換シート!CC25","v":""},{"$f":"変換シート!CD25","v":""},{"$f":"入力画面!AY305&\"\"","v":""},{"$f":"入力画面!DI305&\"\"","v":""},{"$f":"変換シート!C25","v":""},{"$f":"変換シート!D25","v":""},{"$f":"変換シート!E25","v":""},{"$f":"変換シート!F25","v":""},{"$f":"変換シート!G25","v":""},{"$f":"変換シート!H25","v":""},{"$f":"変換シート!I25","v":""},{"$f":"変換シート!J25","v":""},{"$f":"変換シート!K25","v":""},{"$f":"変換シート!L25","v":""},{"$f":"変換シート!M25","v":""},{"$f":"変換シート!N25","v":""},{"$f":"変換シート!O25","v":""},{"$f":"変換シート!P25","v":""},{"$f":"変換シート!Q25","v":""},{"$f":"変換シート!R25","v":""},{"$f":"変換シート!S25","v":""},{"$f":"変換シート!T25","v":""},{"$f":"変換シート!U25","v":""},{"$f":"変換シート!V25","v":""},{"$f":"変換シート!W25","v":""},{"$f":"変換シート!X25","v":""},{"$f":"変換シート!Y25","v":""},{"$f":"変換シート!Z25","v":""},{"$f":"変換シート!AA25","v":""},{"$f":"変換シート!AB25","v":""},{"$f":"変換シート!AC25","v":""},{"$f":"変換シート!AD25","v":""},{"$f":"変換シート!AE25","v":""},{"$f":"変換シート!AF25","v":""},{"$f":"変換シート!AG25","v":""},{"$f":"変換シート!AH25","v":""},{"$f":"変換シート!AI25","v":""},{"$f":"変換シート!AJ25","v":""},{"$f":"変換シート!AK25","v":""},{"$f":"変換シート!AL25","v":""},{"$f":"変換シート!AM25","v":""},{"$f":"変換シート!AN25","v":""},{"$f":"変換シート!AO25","v":""},{"$f":"変換シート!AP25","v":""},{"$f":"変換シート!AQ25","v":""},{"$f":"変換シート!AR25","v":""},{"$f":"変換シート!AS25","v":""},{"$f":"変換シート!AT25","v":""},{"$f":"変換シート!AU25","v":""},{"$f":"変換シート!AV25","v":""},{"$f":"変換シート!AW25","v":""},{"$f":"変換シート!AX25","v":""},{"$f":"変換シート!AY25","v":""},{"$f":"変換シート!AZ25","v":""},{"$f":"変換シート!BA25","v":""},{"$f":"変換シート!BB25","v":""},{"$f":"変換シート!BC25","v":""},{"$f":"変換シート!BD25","v":""},{"$f":"変換シート!BE25","v":""},{"$f":"変換シート!BF25","v":""},{"$f":"変換シート!BG25","v":""},{"$f":"変換シート!BH25","v":""},{"$f":"変換シート!BI25","v":""},{"$f":"変換シート!BJ25","v":""},{"$f":"変換シート!BK25","v":""},{"$f":"変換シート!BL25","v":""},{"$f":"変換シート!BM25","v":""},{"$f":"変換シート!BN25","v":""},{"$f":"変換シート!BO25","v":""},{"$f":"変換シート!BP25","v":""},{"$f":"変換シート!BQ25","v":""},{"$f":"変換シート!BR25","v":""},{"$f":"変換シート!BS25","v":""},{"$f":"変換シート!BT25","v":""},{"$f":"変換シート!BU25","v":""},{"$f":"変換シート!BV25","v":""},{"$f":"入力画面!DJ305&\"\"","v":""},{"$f":"入力画面!DK305&\"\"","v":""},{"$f":"入力画面!DL305&\"\"","v":""},{"$f":"入力画面!DM305&\"\"","v":""},{"$f":"入力画面!DN305&\"\"","v":""},{"$f":"入力画面!DO305&\"\"","v":""},"非公開"]
[22,null,null,"埼玉県 福祉部 地域包括ケア課",{"$f":"入力画面!B319&\"\"","v":""},{"$f":"入力画面!D319&\"\"","v":""},{"$f":"入力画面!E319&\"\"","v":""},{"$f":"入力画面!F319&\"\"","v":""},{"$f":"入力画面!G319&\"\"","v":""},{"$f":"入力画面!H319&\"\"","v":""},{"$f":"入力画面!I319&\"\"","v":""},{"$f":"入力画面!J319&\"\"","v":""},{"$f":"入力画面!K319&\"\"","v":""},{"$f":"入力画面!M319&\"\"","v":""},{"$f":"入力画面!N319&\"\"","v":""},{"$f":"入力画面!O319&\"\"","v":""},{"$f":"入力画面!P319&\"\"","v":""},{"$f":"入力画面!Q319&\"\"","v":""},{"$f":"入力画面!R319&\"\"","v":""},{"$f":"変換シート!BW26","v":""},{"$f":"変換シート!BX26","v":""},{"$f":"変換シート!BY26","v":""},{"$f":"変換シート!BZ26","v":""},{"$f":"変換シート!CA26","v":""},{"$f":"変換シート!CB26","v":""},{"$f":"変換シート!CC26","v":""},{"$f":"変換シート!CD26","v":""},{"$f":"入力画面!AY319&\"\"","v":""},{"$f":"入力画面!DI319&\"\"","v":""},{"$f":"変換シート!C26","v":""},{"$f":"変換シート!D26","v":""},{"$f":"変換シート!E26","v":""},{"$f":"変換シート!F26","v":""},{"$f":"変換シート!G26","v":""},{"$f":"変換シート!H26","v":""},{"$f":"変換シート!I26","v":""},{"$f":"変換シート!J26","v":""},{"$f":"変換シート!K26","v":""},{"$f":"変換シート!L26","v":""},{"$f":"変換シート!M26","v":""},{"$f":"変換シート!N26","v":""},{"$f":"変換シート!O26","v":""},{"$f":"変換シート!P26","v":""},{"$f":"変換シート!Q26","v":""},{"$f":"変換シート!R26","v":""},{"$f":"変換シート!S26","v":""},{"$f":"変換シート!T26","v":""},{"$f":"変換シート!U26","v":""},{"$f":"変換シート!V26","v":""},{"$f":"変換シート!W26","v":""},{"$f":"変換シート!X26","v":""},{"$f":"変換シート!Y26","v":""},{"$f":"変換シート!Z26","v":""},{"$f":"変換シート!AA26","v":""},{"$f":"変換シート!AB26","v":""},{"$f":"変換シート!AC26","v":""},{"$f":"変換シート!AD26","v":""},{"$f":"変換シート!AE26","v":""},{"$f":"変換シート!AF26","v":""},{"$f":"変換シート!AG26","v":""},{"$f":"変換シート!AH26","v":""},{"$f":"変換シート!AI26","v":""},{"$f":"変換シート!AJ26","v":""},{"$f":"変換シート!AK26","v":""},{"$f":"変換シート!AL26","v":""},{"$f":"変換シート!AM26","v":""},{"$f":"変換シート!AN26","v":""},{"$f":"変換シート!AO26","v":""},{"$f":"変換シート!AP26","v":""},{"$f":"変換シート!AQ26","v":""},{"$f":"変換シート!AR26","v":""},{"$f":"変換シート!AS26","v":""},{"$f":"変換シート!AT26","v":""},{"$f":"変換シート!AU26","v":""},{"$f":"変換シート!AV26","v":""},{"$f":"変換シート!AW26","v":""},{"$f":"変換シート!AX26","v":""},{"$f":"変換シート!AY26","v":""},{"$f":"変換シート!AZ26","v":""},{"$f":"変換シート!BA26","v":""},{"$f":"変換シート!BB26","v":""},{"$f":"変換シート!BC26","v":""},{"$f":"変換シート!BD26","v":""},{"$f":"変換シート!BE26","v":""},{"$f":"変換シート!BF26","v":""},{"$f":"変換シート!BG26","v":""},{"$f":"変換シート!BH26","v":""},{"$f":"変換シート!BI26","v":""},{"$f":"変換シート!BJ26","v":""},{"$f":"変換シート!BK26","v":""},{"$f":"変換シート!BL26","v":""},{"$f":"変換シート!BM26","v":""},{"$f":"変換シート!BN26","v":""},{"$f":"変換シート!BO26","v":""},{"$f":"変換シート!BP26","v":""},{"$f":"変換シート!BQ26","v":""},{"$f":"変換シート!BR26","v":""},{"$f":"変換シート!BS26","v":""},{"$f":"変換シート!BT26","v":""},{"$f":"変換シート!BU26","v":""},{"$f":"変換シート!BV26","v":""},{"$f":"入力画面!DJ319&\"\"","v":""},{"$f":"入力画面!DK319&\"\"","v":""},{"$f":"入力画面!DL319&\"\"","v":""},{"$f":"入力画面!DM319&\"\"","v":""},{"$f":"入力画面!DN319&\"\"","v":""},{"$f":"入力画面!DO319&\"\"","v":""},"非公開"]
[23,null,null,"埼玉県 福祉部 地域包括ケア課",{"$f":"入力画面!B333&\"\"","v":""},{"$f":"入力画面!D333&\"\"","v":""},{"$f":"入力画面!E333&\"\"","v":""},{"$f":"入力画面!F333&\"\"","v":""},{"$f":"入力画面!G333&\"\"","v":""},{"$f":"入力画面!H333&\"\"","v":""},{"$f":"入力画面!I333&\"\"","v":""},{"$f":"入力画面!J333&\"\"","v":""},{"$f":"入力画面!K333&\"\"","v":""},{"$f":"入力画面!M333&\"\"","v":""},{"$f":"入力画面!N333&\"\"","v":""},{"$f":"入力画面!O333&\"\"","v":""},{"$f":"入力画面!P333&\"\"","v":""},{"$f":"入力画面!Q333&\"\"","v":""},{"$f":"入力画面!R333&\"\"","v":""},{"$f":"変換シート!BW27","v":""},{"$f":"変換シート!BX27","v":""},{"$f":"変換シート!BY27","v":""},{"$f":"変換シート!BZ27","v":""},{"$f":"変換シート!CA27","v":""},{"$f":"変換シート!CB27","v":""},{"$f":"変換シート!CC27","v":""},{"$f":"変換シート!CD27","v":""},{"$f":"入力画面!AY333&\"\"","v":""},{"$f":"入力画面!DI333&\"\"","v":""},{"$f":"変換シート!C27","v":""},{"$f":"変換シート!D27","v":""},{"$f":"変換シート!E27","v":""},{"$f":"変換シート!F27","v":""},{"$f":"変換シート!G27","v":""},{"$f":"変換シート!H27","v":""},{"$f":"変換シート!I27","v":""},{"$f":"変換シート!J27","v":""},{"$f":"変換シート!K27","v":""},{"$f":"変換シート!L27","v":""},{"$f":"変換シート!M27","v":""},{"$f":"変換シート!N27","v":""},{"$f":"変換シート!O27","v":""},{"$f":"変換シート!P27","v":""},{"$f":"変換シート!Q27","v":""},{"$f":"変換シート!R27","v":""},{"$f":"変換シート!S27","v":""},{"$f":"変換シート!T27","v":""},{"$f":"変換シート!U27","v":""},{"$f":"変換シート!V27","v":""},{"$f":"変換シート!W27","v":""},{"$f":"変換シート!X27","v":""},{"$f":"変換シート!Y27","v":""},{"$f":"変換シート!Z27","v":""},{"$f":"変換シート!AA27","v":""},{"$f":"変換シート!AB27","v":""},{"$f":"変換シート!AC27","v":""},{"$f":"変換シート!AD27","v":""},{"$f":"変換シート!AE27","v":""},{"$f":"変換シート!AF27","v":""},{"$f":"変換シート!AG27","v":""},{"$f":"変換シート!AH27","v":""},{"$f":"変換シート!AI27","v":""},{"$f":"変換シート!AJ27","v":""},{"$f":"変換シート!AK27","v":""},{"$f":"変換シート!AL27","v":""},{"$f":"変換シート!AM27","v":""},{"$f":"変換シート!AN27","v":""},{"$f":"変換シート!AO27","v":""},{"$f":"変換シート!AP27","v":""},{"$f":"変換シート!AQ27","v":""},{"$f":"変換シート!AR27","v":""},{"$f":"変換シート!AS27","v":""},{"$f":"変換シート!AT27","v":""},{"$f":"変換シート!AU27","v":""},{"$f":"変換シート!AV27","v":""},{"$f":"変換シート!AW27","v":""},{"$f":"変換シート!AX27","v":""},{"$f":"変換シート!AY27","v":""},{"$f":"変換シート!AZ27","v":""},{"$f":"変換シート!BA27","v":""},{"$f":"変換シート!BB27","v":""},{"$f":"変換シート!BC27","v":""},{"$f":"変換シート!BD27","v":""},{"$f":"変換シート!BE27","v":""},{"$f":"変換シート!BF27","v":""},{"$f":"変換シート!BG27","v":""},{"$f":"変換シート!BH27","v":""},{"$f":"変換シート!BI27","v":""},{"$f":"変換シート!BJ27","v":""},{"$f":"変換シート!BK27","v":""},{"$f":"変換シート!BL27","v":""},{"$f":"変換シート!BM27","v":""},{"$f":"変換シート!BN27","v":""},{"$f":"変換シート!BO27","v":""},{"$f":"変換シート!BP27","v":""},{"$f":"変換シート!BQ27","v":""},{"$f":"変換シート!BR27","v":""},{"$f":"変換シート!BS27","v":""},{"$f":"変換シート!BT27","v":""},{"$f":"変換シート!BU27","v":""},{"$f":"変換シート!BV27","v":""},{"$f":"入力画面!DJ333&\"\"","v":""},{"$f":"入力画面!DK333&\"\"","v":""},{"$f":"入力画面!DL333&\"\"","v":""},{"$f":"入力画面!DM333&\"\"","v":""},{"$f":"入力画面!DN333&\"\"","v":""},{"$f":"入力画面!DO333&\"\"","v":""},"非公開"]
[24,null,null,"埼玉県 福祉部 地域包括ケア課",{"$f":"入力画面!B347&\"\"","v":""},{"$f":"入力画面!D347&\"\"","v":""},{"$f":"入力画面!E347&\"\"","v":""},{"$f":"入力画面!F347&\"\"","v":""},{"$f":"入力画面!G347&\"\"","v":""},{"$f":"入力画面!H347&\"\"","v":""},{"$f":"入力画面!I347&\"\"","v":""},{"$f":"入力画面!J347&\"\"","v":""},{"$f":"入力画面!K347&\"\"","v":""},{"$f":"入力画面!M347&\"\"","v":""},{"$f":"入力画面!N347&\"\"","v":""},{"$f":"入力画面!O347&\"\"","v":""},{"$f":"入力画面!P347&\"\"","v":""},{"$f":"入力画面!Q347&\"\"","v":""},{"$f":"入力画面!R347&\"\"","v":""},{"$f":"変換シート!BW28","v":""},{"$f":"変換シート!BX28","v":""},{"$f":"変換シート!BY28","v":""},{"$f":"変換シート!BZ28","v":""},{"$f":"変換シート!CA28","v":""},{"$f":"変換シート!CB28","v":""},{"$f":"変換シート!CC28","v":""},{"$f":"変換シート!CD28","v":""},{"$f":"入力画面!AY347&\"\"","v":""},{"$f":"入力画面!DI347&\"\"","v":""},{"$f":"変換シート!C28","v":""},{"$f":"変換シート!D28","v":""},{"$f":"変換シート!E28","v":""},{"$f":"変換シート!F28","v":""},{"$f":"変換シート!G28","v":""},{"$f":"変換シート!H28","v":""},{"$f":"変換シート!I28","v":""},{"$f":"変換シート!J28","v":""},{"$f":"変換シート!K28","v":""},{"$f":"変換シート!L28","v":""},{"$f":"変換シート!M28","v":""},{"$f":"変換シート!N28","v":""},{"$f":"変換シート!O28","v":""},{"$f":"変換シート!P28","v":""},{"$f":"変換シート!Q28","v":""},{"$f":"変換シート!R28","v":""},{"$f":"変換シート!S28","v":""},{"$f":"変換シート!T28","v":""},{"$f":"変換シート!U28","v":""},{"$f":"変換シート!V28","v":""},{"$f":"変換シート!W28","v":""},{"$f":"変換シート!X28","v":""},{"$f":"変換シート!Y28","v":""},{"$f":"変換シート!Z28","v":""},{"$f":"変換シート!AA28","v":""},{"$f":"変換シート!AB28","v":""},{"$f":"変換シート!AC28","v":""},{"$f":"変換シート!AD28","v":""},{"$f":"変換シート!AE28","v":""},{"$f":"変換シート!AF28","v":""},{"$f":"変換シート!AG28","v":""},{"$f":"変換シート!AH28","v":""},{"$f":"変換シート!AI28","v":""},{"$f":"変換シート!AJ28","v":""},{"$f":"変換シート!AK28","v":""},{"$f":"変換シート!AL28","v":""},{"$f":"変換シート!AM28","v":""},{"$f":"変換シート!AN28","v":""},{"$f":"変換シート!AO28","v":""},{"$f":"変換シート!AP28","v":""},{"$f":"変換シート!AQ28","v":""},{"$f":"変換シート!AR28","v":""},{"$f":"変換シート!AS28","v":""},{"$f":"変換シート!AT28","v":""},{"$f":"変換シート!AU28","v":""},{"$f":"変換シート!AV28","v":""},{"$f":"変換シート!AW28","v":""},{"$f":"変換シート!AX28","v":""},{"$f":"変換シート!AY28","v":""},{"$f":"変換シート!AZ28","v":""},{"$f":"変換シート!BA28","v":""},{"$f":"変換シート!BB28","v":""},{"$f":"変換シート!BC28","v":""},{"$f":"変換シート!BD28","v":""},{"$f":"変換シート!BE28","v":""},{"$f":"変換シート!BF28","v":""},{"$f":"変換シート!BG28","v":""},{"$f":"変換シート!BH28","v":""},{"$f":"変換シート!BI28","v":""},{"$f":"変換シート!BJ28","v":""},{"$f":"変換シート!BK28","v":""},{"$f":"変換シート!BL28","v":""},{"$f":"変換シート!BM28","v":""},{"$f":"変換シート!BN28","v":""},{"$f":"変換シート!BO28","v":""},{"$f":"変換シート!BP28","v":""},{"$f":"変換シート!BQ28","v":""},{"$f":"変換シート!BR28","v":""},{"$f":"変換シート!BS28","v":""},{"$f":"変換シート!BT28","v":""},{"$f":"変換シート!BU28","v":""},{"$f":"変換シート!BV28","v":""},{"$f":"入力画面!DJ347&\"\"","v":""},{"$f":"入力画面!DK347&\"\"","v":""},{"$f":"入力画面!DL347&\"\"","v":""},{"$f":"入力画面!DM347&\"\"","v":""},{"$f":"入力画面!DN347&\"\"","v":""},{"$f":"入力画面!DO347&\"\"","v":""},"非公開"]
[25,null,null,"埼玉県 福祉部 地域包括ケア課",{"$f":"入力画面!B361&\"\"","v":""},{"$f":"入力画面!D361&\"\"","v":""},{"$f":"入力画面!E361&\"\"","v":""},{"$f":"入力画面!F361&\"\"","v":""},{"$f":"入力画面!G361&\"\"","v":""},{"$f":"入力画面!H361&\"\"","v":""},{"$f":"入力画面!I361&\"\"","v":""},{"$f":"入力画面!J361&\"\"","v":""},{"$f":"入力画面!K361&\"\"","v":""},{"$f":"入力画面!M361&\"\"","v":""},{"$f":"入力画面!N361&\"\"","v":""},{"$f":"入力画面!O361&\"\"","v":""},{"$f":"入力画面!P361&\"\"","v":""},{"$f":"入力画面!Q361&\"\"","v":""},{"$f":"入力画面!R361&\"\"","v":""},{"$f":"変換シート!BW29","v":""},{"$f":"変換シート!BX29","v":""},{"$f":"変換シート!BY29","v":""},{"$f":"変換シート!BZ29","v":""},{"$f":"変換シート!CA29","v":""},{"$f":"変換シート!CB29","v":""},{"$f":"変換シート!CC29","v":""},{"$f":"変換シート!CD29","v":""},{"$f":"入力画面!AY361&\"\"","v":""},{"$f":"入力画面!DI361&\"\"","v":""},{"$f":"変換シート!C29","v":""},{"$f":"変換シート!D29","v":""},{"$f":"変換シート!E29","v":""},{"$f":"変換シート!F29","v":""},{"$f":"変換シート!G29","v":""},{"$f":"変換シート!H29","v":""},{"$f":"変換シート!I29","v":""},{"$f":"変換シート!J29","v":""},{"$f":"変換シート!K29","v":""},{"$f":"変換シート!L29","v":""},{"$f":"変換シート!M29","v":""},{"$f":"変換シート!N29","v":""},{"$f":"変換シート!O29","v":""},{"$f":"変換シート!P29","v":""},{"$f":"変換シート!Q29","v":""},{"$f":"変換シート!R29","v":""},{"$f":"変換シート!S29","v":""},{"$f":"変換シート!T29","v":""},{"$f":"変換シート!U29","v":""},{"$f":"変換シート!V29","v":""},{"$f":"変換シート!W29","v":""},{"$f":"変換シート!X29","v":""},{"$f":"変換シート!Y29","v":""},{"$f":"変換シート!Z29","v":""},{"$f":"変換シート!AA29","v":""},{"$f":"変換シート!AB29","v":""},{"$f":"変換シート!AC29","v":""},{"$f":"変換シート!AD29","v":""},{"$f":"変換シート!AE29","v":""},{"$f":"変換シート!AF29","v":""},{"$f":"変換シート!AG29","v":""},{"$f":"変換シート!AH29","v":""},{"$f":"変換シート!AI29","v":""},{"$f":"変換シート!AJ29","v":""},{"$f":"変換シート!AK29","v":""},{"$f":"変換シート!AL29","v":""},{"$f":"変換シート!AM29","v":""},{"$f":"変換シート!AN29","v":""},{"$f":"変換シート!AO29","v":""},{"$f":"変換シート!AP29","v":""},{"$f":"変換シート!AQ29","v":""},{"$f":"変換シート!AR29","v":""},{"$f":"変換シート!AS29","v":""},{"$f":"変換シート!AT29","v":""},{"$f":"変換シート!AU29","v":""},{"$f":"変換シート!AV29","v":""},{"$f":"変換シート!AW29","v":""},{"$f":"変換シート!AX29","v":""},{"$f":"変換シート!AY29","v":""},{"$f":"変換シート!AZ29","v":""},{"$f":"変換シート!BA29","v":""},{"$f":"変換シート!BB29","v":""},{"$f":"変換シート!BC29","v":""},{"$f":"変換シート!BD29","v":""},{"$f":"変換シート!BE29","v":""},{"$f":"変換シート!BF29","v":""},{"$f":"変換シート!BG29","v":""},{"$f":"変換シート!BH29","v":""},{"$f":"変換シート!BI29","v":""},{"$f":"変換シート!BJ29","v":""},{"$f":"変換シート!BK29","v":""},{"$f":"変換シート!BL29","v":""},{"$f":"変換シート!BM29","v":""},{"$f":"変換シート!BN29","v":""},{"$f":"変換シート!BO29","v":""},{"$f":"変換シート!BP29","v":""},{"$f":"変換シート!BQ29","v":""},{"$f":"変換シート!BR29","v":""},{"$f":"変換シート!BS29","v":""},{"$f":"変換シート!BT29","v":""},{"$f":"変換シート!BU29","v":""},{"$f":"変換シート!BV29","v":""},{"$f":"入力画面!DJ361&\"\"","v":""},{"$f":"入力画面!DK361&\"\"","v":""},{"$f":"入力画面!DL361&\"\"","v":""},{"$f":"入力画面!DM361&\"\"","v":""},{"$f":"入力画面!DN361&\"\"","v":""},{"$f":"入力画面!DO361&\"\"","v":""},"非公開"]
[26,null,null,"埼玉県 福祉部 地域包括ケア課",{"$f":"入力画面!B375&\"\"","v":""},{"$f":"入力画面!D375&\"\"","v":""},{"$f":"入力画面!E375&\"\"","v":""},{"$f":"入力画面!F375&\"\"","v":""},{"$f":"入力画面!G375&\"\"","v":""},{"$f":"入力画面!H375&\"\"","v":""},{"$f":"入力画面!I375&\"\"","v":""},{"$f":"入力画面!J375&\"\"","v":""},{"$f":"入力画面!K375&\"\"","v":""},{"$f":"入力画面!M375&\"\"","v":""},{"$f":"入力画面!N375&\"\"","v":""},{"$f":"入力画面!O375&\"\"","v":""},{"$f":"入力画面!P375&\"\"","v":""},{"$f":"入力画面!Q375&\"\"","v":""},{"$f":"入力画面!R375&\"\"","v":""},{"$f":"変換シート!BW30","v":""},{"$f":"変換シート!BX30","v":""},{"$f":"変換シート!BY30","v":""},{"$f":"変換シート!BZ30","v":""},{"$f":"変換シート!CA30","v":""},{"$f":"変換シート!CB30","v":""},{"$f":"変換シート!CC30","v":""},{"$f":"変換シート!CD30","v":""},{"$f":"入力画面!AY375&\"\"","v":""},{"$f":"入力画面!DI375&\"\"","v":""},{"$f":"変換シート!C30","v":""},{"$f":"変換シート!D30","v":""},{"$f":"変換シート!E30","v":""},{"$f":"変換シート!F30","v":""},{"$f":"変換シート!G30","v":""},{"$f":"変換シート!H30","v":""},{"$f":"変換シート!I30","v":""},{"$f":"変換シート!J30","v":""},{"$f":"変換シート!K30","v":""},{"$f":"変換シート!L30","v":""},{"$f":"変換シート!M30","v":""},{"$f":"変換シート!N30","v":""},{"$f":"変換シート!O30","v":""},{"$f":"変換シート!P30","v":""},{"$f":"変換シート!Q30","v":""},{"$f":"変換シート!R30","v":""},{"$f":"変換シート!S30","v":""},{"$f":"変換シート!T30","v":""},{"$f":"変換シート!U30","v":""},{"$f":"変換シート!V30","v":""},{"$f":"変換シート!W30","v":""},{"$f":"変換シート!X30","v":""},{"$f":"変換シート!Y30","v":""},{"$f":"変換シート!Z30","v":""},{"$f":"変換シート!AA30","v":""},{"$f":"変換シート!AB30","v":""},{"$f":"変換シート!AC30","v":""},{"$f":"変換シート!AD30","v":""},{"$f":"変換シート!AE30","v":""},{"$f":"変換シート!AF30","v":""},{"$f":"変換シート!AG30","v":""},{"$f":"変換シート!AH30","v":""},{"$f":"変換シート!AI30","v":""},{"$f":"変換シート!AJ30","v":""},{"$f":"変換シート!AK30","v":""},{"$f":"変換シート!AL30","v":""},{"$f":"変換シート!AM30","v":""},{"$f":"変換シート!AN30","v":""},{"$f":"変換シート!AO30","v":""},{"$f":"変換シート!AP30","v":""},{"$f":"変換シート!AQ30","v":""},{"$f":"変換シート!AR30","v":""},{"$f":"変換シート!AS30","v":""},{"$f":"変換シート!AT30","v":""},{"$f":"変換シート!AU30","v":""},{"$f":"変換シート!AV30","v":""},{"$f":"変換シート!AW30","v":""},{"$f":"変換シート!AX30","v":""},{"$f":"変換シート!AY30","v":""},{"$f":"変換シート!AZ30","v":""},{"$f":"変換シート!BA30","v":""},{"$f":"変換シート!BB30","v":""},{"$f":"変換シート!BC30","v":""},{"$f":"変換シート!BD30","v":""},{"$f":"変換シート!BE30","v":""},{"$f":"変換シート!BF30","v":""},{"$f":"変換シート!BG30","v":""},{"$f":"変換シート!BH30","v":""},{"$f":"変換シート!BI30","v":""},{"$f":"変換シート!BJ30","v":""},{"$f":"変換シート!BK30","v":""},{"$f":"変換シート!BL30","v":""},{"$f":"変換シート!BM30","v":""},{"$f":"変換シート!BN30","v":""},{"$f":"変換シート!BO30","v":""},{"$f":"変換シート!BP30","v":""},{"$f":"変換シート!BQ30","v":""},{"$f":"変換シート!BR30","v":""},{"$f":"変換シート!BS30","v":""},{"$f":"変換シート!BT30","v":""},{"$f":"変換シート!BU30","v":""},{"$f":"変換シート!BV30","v":""},{"$f":"入力画面!DJ375&\"\"","v":""},{"$f":"入力画面!DK375&\"\"","v":""},{"$f":"入力画面!DL375&\"\"","v":""},{"$f":"入力画面!DM375&\"\"","v":""},{"$f":"入力画面!DN375&\"\"","v":""},{"$f":"入力画面!DO375&\"\"","v":""},"非公開"]
[27,null,null,"埼玉県 福祉部 地域包括ケア課",{"$f":"入力画面!B389&\"\"","v":""},{"$f":"入力画面!D389&\"\"","v":""},{"$f":"入力画面!E389&\"\"","v":""},{"$f":"入力画面!F389&\"\"","v":""},{"$f":"入力画面!G389&\"\"","v":""},{"$f":"入力画面!H389&\"\"","v":""},{"$f":"入力画面!I389&\"\"","v":""},{"$f":"入力画面!J389&\"\"","v":""},{"$f":"入力画面!K389&\"\"","v":""},{"$f":"入力画面!M389&\"\"","v":""},{"$f":"入力画面!N389&\"\"","v":""},{"$f":"入力画面!O389&\"\"","v":""},{"$f":"入力画面!P389&\"\"","v":""},{"$f":"入力画面!Q389&\"\"","v":""},{"$f":"入力画面!R389&\"\"","v":""},{"$f":"変換シート!BW31","v":""},{"$f":"変換シート!BX31","v":""},{"$f":"変換シート!BY31","v":""},{"$f":"変換シート!BZ31","v":""},{"$f":"変換シート!CA31","v":""},{"$f":"変換シート!CB31","v":""},{"$f":"変換シート!CC31","v":""},{"$f":"変換シート!CD31","v":""},{"$f":"入力画面!AY389&\"\"","v":""},{"$f":"入力画面!DI389&\"\"","v":""},{"$f":"変換シート!C31","v":""},{"$f":"変換シート!D31","v":""},{"$f":"変換シート!E31","v":""},{"$f":"変換シート!F31","v":""},{"$f":"変換シート!G31","v":""},{"$f":"変換シート!H31","v":""},{"$f":"変換シート!I31","v":""},{"$f":"変換シート!J31","v":""},{"$f":"変換シート!K31","v":""},{"$f":"変換シート!L31","v":""},{"$f":"変換シート!M31","v":""},{"$f":"変換シート!N31","v":""},{"$f":"変換シート!O31","v":""},{"$f":"変換シート!P31","v":""},{"$f":"変換シート!Q31","v":""},{"$f":"変換シート!R31","v":""},{"$f":"変換シート!S31","v":""},{"$f":"変換シート!T31","v":""},{"$f":"変換シート!U31","v":""},{"$f":"変換シート!V31","v":""},{"$f":"変換シート!W31","v":""},{"$f":"変換シート!X31","v":""},{"$f":"変換シート!Y31","v":""},{"$f":"変換シート!Z31","v":""},{"$f":"変換シート!AA31","v":""},{"$f":"変換シート!AB31","v":""},{"$f":"変換シート!AC31","v":""},{"$f":"変換シート!AD31","v":""},{"$f":"変換シート!AE31","v":""},{"$f":"変換シート!AF31","v":""},{"$f":"変換シート!AG31","v":""},{"$f":"変換シート!AH31","v":""},{"$f":"変換シート!AI31","v":""},{"$f":"変換シート!AJ31","v":""},{"$f":"変換シート!AK31","v":""},{"$f":"変換シート!AL31","v":""},{"$f":"変換シート!AM31","v":""},{"$f":"変換シート!AN31","v":""},{"$f":"変換シート!AO31","v":""},{"$f":"変換シート!AP31","v":""},{"$f":"変換シート!AQ31","v":""},{"$f":"変換シート!AR31","v":""},{"$f":"変換シート!AS31","v":""},{"$f":"変換シート!AT31","v":""},{"$f":"変換シート!AU31","v":""},{"$f":"変換シート!AV31","v":""},{"$f":"変換シート!AW31","v":""},{"$f":"変換シート!AX31","v":""},{"$f":"変換シート!AY31","v":""},{"$f":"変換シート!AZ31","v":""},{"$f":"変換シート!BA31","v":""},{"$f":"変換シート!BB31","v":""},{"$f":"変換シート!BC31","v":""},{"$f":"変換シート!BD31","v":""},{"$f":"変換シート!BE31","v":""},{"$f":"変換シート!BF31","v":""},{"$f":"変換シート!BG31","v":""},{"$f":"変換シート!BH31","v":""},{"$f":"変換シート!BI31","v":""},{"$f":"変換シート!BJ31","v":""},{"$f":"変換シート!BK31","v":""},{"$f":"変換シート!BL31","v":""},{"$f":"変換シート!BM31","v":""},{"$f":"変換シート!BN31","v":""},{"$f":"変換シート!BO31","v":""},{"$f":"変換シート!BP31","v":""},{"$f":"変換シート!BQ31","v":""},{"$f":"変換シート!BR31","v":""},{"$f":"変換シート!BS31","v":""},{"$f":"変換シート!BT31","v":""},{"$f":"変換シート!BU31","v":""},{"$f":"変換シート!BV31","v":""},{"$f":"入力画面!DJ389&\"\"","v":""},{"$f":"入力画面!DK389&\"\"","v":""},{"$f":"入力画面!DL389&\"\"","v":""},{"$f":"入力画面!DM389&\"\"","v":""},{"$f":"入力画面!DN389&\"\"","v":""},{"$f":"入力画面!DO389&\"\"","v":""},"非公開"]
[28,null,null,"埼玉県 福祉部 地域包括ケア課",{"$f":"入力画面!B403&\"\"","v":""},{"$f":"入力画面!D403&\"\"","v":""},{"$f":"入力画面!E403&\"\"","v":""},{"$f":"入力画面!F403&\"\"","v":""},{"$f":"入力画面!G403&\"\"","v":""},{"$f":"入力画面!H403&\"\"","v":""},{"$f":"入力画面!I403&\"\"","v":""},{"$f":"入力画面!J403&\"\"","v":""},{"$f":"入力画面!K403&\"\"","v":""},{"$f":"入力画面!M403&\"\"","v":""},{"$f":"入力画面!N403&\"\"","v":""},{"$f":"入力画面!O403&\"\"","v":""},{"$f":"入力画面!P403&\"\"","v":""},{"$f":"入力画面!Q403&\"\"","v":""},{"$f":"入力画面!R403&\"\"","v":""},{"$f":"変換シート!BW32","v":""},{"$f":"変換シート!BX32","v":""},{"$f":"変換シート!BY32","v":""},{"$f":"変換シート!BZ32","v":""},{"$f":"変換シート!CA32","v":""},{"$f":"変換シート!CB32","v":""},{"$f":"変換シート!CC32","v":""},{"$f":"変換シート!CD32","v":""},{"$f":"入力画面!AY403&\"\"","v":""},{"$f":"入力画面!DI403&\"\"","v":""},{"$f":"変換シート!C32","v":""},{"$f":"変換シート!D32","v":""},{"$f":"変換シート!E32","v":""},{"$f":"変換シート!F32","v":""},{"$f":"変換シート!G32","v":""},{"$f":"変換シート!H32","v":""},{"$f":"変換シート!I32","v":""},{"$f":"変換シート!J32","v":""},{"$f":"変換シート!K32","v":""},{"$f":"変換シート!L32","v":""},{"$f":"変換シート!M32","v":""},{"$f":"変換シート!N32","v":""},{"$f":"変換シート!O32","v":""},{"$f":"変換シート!P32","v":""},{"$f":"変換シート!Q32","v":""},{"$f":"変換シート!R32","v":""},{"$f":"変換シート!S32","v":""},{"$f":"変換シート!T32","v":""},{"$f":"変換シート!U32","v":""},{"$f":"変換シート!V32","v":""},{"$f":"変換シート!W32","v":""},{"$f":"変換シート!X32","v":""},{"$f":"変換シート!Y32","v":""},{"$f":"変換シート!Z32","v":""},{"$f":"変換シート!AA32","v":""},{"$f":"変換シート!AB32","v":""},{"$f":"変換シート!AC32","v":""},{"$f":"変換シート!AD32","v":""},{"$f":"変換シート!AE32","v":""},{"$f":"変換シート!AF32","v":""},{"$f":"変換シート!AG32","v":""},{"$f":"変換シート!AH32","v":""},{"$f":"変換シート!AI32","v":""},{"$f":"変換シート!AJ32","v":""},{"$f":"変換シート!AK32","v":""},{"$f":"変換シート!AL32","v":""},{"$f":"変換シート!AM32","v":""},{"$f":"変換シート!AN32","v":""},{"$f":"変換シート!AO32","v":""},{"$f":"変換シート!AP32","v":""},{"$f":"変換シート!AQ32","v":""},{"$f":"変換シート!AR32","v":""},{"$f":"変換シート!AS32","v":""},{"$f":"変換シート!AT32","v":""},{"$f":"変換シート!AU32","v":""},{"$f":"変換シート!AV32","v":""},{"$f":"変換シート!AW32","v":""},{"$f":"変換シート!AX32","v":""},{"$f":"変換シート!AY32","v":""},{"$f":"変換シート!AZ32","v":""},{"$f":"変換シート!BA32","v":""},{"$f":"変換シート!BB32","v":""},{"$f":"変換シート!BC32","v":""},{"$f":"変換シート!BD32","v":""},{"$f":"変換シート!BE32","v":""},{"$f":"変換シート!BF32","v":""},{"$f":"変換シート!BG32","v":""},{"$f":"変換シート!BH32","v":""},{"$f":"変換シート!BI32","v":""},{"$f":"変換シート!BJ32","v":""},{"$f":"変換シート!BK32","v":""},{"$f":"変換シート!BL32","v":""},{"$f":"変換シート!BM32","v":""},{"$f":"変換シート!BN32","v":""},{"$f":"変換シート!BO32","v":""},{"$f":"変換シート!BP32","v":""},{"$f":"変換シート!BQ32","v":""},{"$f":"変換シート!BR32","v":""},{"$f":"変換シート!BS32","v":""},{"$f":"変換シート!BT32","v":""},{"$f":"変換シート!BU32","v":""},{"$f":"変換シート!BV32","v":""},{"$f":"入力画面!DJ403&\"\"","v":""},{"$f":"入力画面!DK403&\"\"","v":""},{"$f":"入力画面!DL403&\"\"","v":""},{"$f":"入力画面!DM403&\"\"","v":""},{"$f":"入力画面!DN403&\"\"","v":""},{"$f":"入力画面!DO403&\"\"","v":""},"非公開"]
[29,null,null,"埼玉県 福祉部 地域包括ケア課",{"$f":"入力画面!B417&\"\"","v":""},{"$f":"入力画面!D417&\"\"","v":""},{"$f":"入力画面!E417&\"\"","v":""},{"$f":"入力画面!F417&\"\"","v":""},{"$f":"入力画面!G417&\"\"","v":""},{"$f":"入力画面!H417&\"\"","v":""},{"$f":"入力画面!I417&\"\"","v":""},{"$f":"入力画面!J417&\"\"","v":""},{"$f":"入力画面!K417&\"\"","v":""},{"$f":"入力画面!M417&\"\"","v":""},{"$f":"入力画面!N417&\"\"","v":""},{"$f":"入力画面!O417&\"\"","v":""},{"$f":"入力画面!P417&\"\"","v":""},{"$f":"入力画面!Q417&\"\"","v":""},{"$f":"入力画面!R417&\"\"","v":""},{"$f":"変換シート!BW33","v":""},{"$f":"変換シート!BX33","v":""},{"$f":"変換シート!BY33","v":""},{"$f":"変換シート!BZ33","v":""},{"$f":"変換シート!CA33","v":""},{"$f":"変換シート!CB33","v":""},{"$f":"変換シート!CC33","v":""},{"$f":"変換シート!CD33","v":""},{"$f":"入力画面!AY417&\"\"","v":""},{"$f":"入力画面!DI417&\"\"","v":""},{"$f":"変換シート!C33","v":""},{"$f":"変換シート!D33","v":""},{"$f":"変換シート!E33","v":""},{"$f":"変換シート!F33","v":""},{"$f":"変換シート!G33","v":""},{"$f":"変換シート!H33","v":""},{"$f":"変換シート!I33","v":""},{"$f":"変換シート!J33","v":""},{"$f":"変換シート!K33","v":""},{"$f":"変換シート!L33","v":""},{"$f":"変換シート!M33","v":""},{"$f":"変換シート!N33","v":""},{"$f":"変換シート!O33","v":""},{"$f":"変換シート!P33","v":""},{"$f":"変換シート!Q33","v":""},{"$f":"変換シート!R33","v":""},{"$f":"変換シート!S33","v":""},{"$f":"変換シート!T33","v":""},{"$f":"変換シート!U33","v":""},{"$f":"変換シート!V33","v":""},{"$f":"変換シート!W33","v":""},{"$f":"変換シート!X33","v":""},{"$f":"変換シート!Y33","v":""},{"$f":"変換シート!Z33","v":""},{"$f":"変換シート!AA33","v":""},{"$f":"変換シート!AB33","v":""},{"$f":"変換シート!AC33","v":""},{"$f":"変換シート!AD33","v":""},{"$f":"変換シート!AE33","v":""},{"$f":"変換シート!AF33","v":""},{"$f":"変換シート!AG33","v":""},{"$f":"変換シート!AH33","v":""},{"$f":"変換シート!AI33","v":""},{"$f":"変換シート!AJ33","v":""},{"$f":"変換シート!AK33","v":""},{"$f":"変換シート!AL33","v":""},{"$f":"変換シート!AM33","v":""},{"$f":"変換シート!AN33","v":""},{"$f":"変換シート!AO33","v":""},{"$f":"変換シート!AP33","v":""},{"$f":"変換シート!AQ33","v":""},{"$f":"変換シート!AR33","v":""},{"$f":"変換シート!AS33","v":""},{"$f":"変換シート!AT33","v":""},{"$f":"変換シート!AU33","v":""},{"$f":"変換シート!AV33","v":""},{"$f":"変換シート!AW33","v":""},{"$f":"変換シート!AX33","v":""},{"$f":"変換シート!AY33","v":""},{"$f":"変換シート!AZ33","v":""},{"$f":"変換シート!BA33","v":""},{"$f":"変換シート!BB33","v":""},{"$f":"変換シート!BC33","v":""},{"$f":"変換シート!BD33","v":""},{"$f":"変換シート!BE33","v":""},{"$f":"変換シート!BF33","v":""},{"$f":"変換シート!BG33","v":""},{"$f":"変換シート!BH33","v":""},{"$f":"変換シート!BI33","v":""},{"$f":"変換シート!BJ33","v":""},{"$f":"変換シート!BK33","v":""},{"$f":"変換シート!BL33","v":""},{"$f":"変換シート!BM33","v":""},{"$f":"変換シート!BN33","v":""},{"$f":"変換シート!BO33","v":""},{"$f":"変換シート!BP33","v":""},{"$f":"変換シート!BQ33","v":""},{"$f":"変換シート!BR33","v":""},{"$f":"変換シート!BS33","v":""},{"$f":"変換シート!BT33","v":""},{"$f":"変換シート!BU33","v":""},{"$f":"変換シート!BV33","v":""},{"$f":"入力画面!DJ417&\"\"","v":""},{"$f":"入力画面!DK417&\"\"","v":""},{"$f":"入力画面!DL417&\"\"","v":""},{"$f":"入力画面!DM417&\"\"","v":""},{"$f":"入力画面!DN417&\"\"","v":""},{"$f":"入力画面!DO417&\"\"","v":""},"非公開"]
[30,null,null,"埼玉県 福祉部 地域包括ケア課",{"$f":"入力画面!B431&\"\"","v":""},{"$f":"入力画面!D431&\"\"","v":""},{"$f":"入力画面!E431&\"\"","v":""},{"$f":"入力画面!F431&\"\"","v":""},{"$f":"入力画面!G431&\"\"","v":""},{"$f":"入力画面!H431&\"\"","v":""},{"$f":"入力画面!I431&\"\"","v":""},{"$f":"入力画面!J431&\"\"","v":""},{"$f":"入力画面!K431&\"\"","v":""},{"$f":"入力画面!M431&\"\"","v":""},{"$f":"入力画面!N431&\"\"","v":""},{"$f":"入力画面!O431&\"\"","v":""},{"$f":"入力画面!P431&\"\"","v":""},{"$f":"入力画面!Q431&\"\"","v":""},{"$f":"入力画面!R431&\"\"","v":""},{"$f":"変換シート!BW34","v":""},{"$f":"変換シート!BX34","v":""},{"$f":"変換シート!BY34","v":""},{"$f":"変換シート!BZ34","v":""},{"$f":"変換シート!CA34","v":""},{"$f":"変換シート!CB34","v":""},{"$f":"変換シート!CC34","v":""},{"$f":"変換シート!CD34","v":""},{"$f":"入力画面!AY431&\"\"","v":""},{"$f":"入力画面!DI431&\"\"","v":""},{"$f":"変換シート!C34","v":""},{"$f":"変換シート!D34","v":""},{"$f":"変換シート!E34","v":""},{"$f":"変換シート!F34","v":""},{"$f":"変換シート!G34","v":""},{"$f":"変換シート!H34","v":""},{"$f":"変換シート!I34","v":""},{"$f":"変換シート!J34","v":""},{"$f":"変換シート!K34","v":""},{"$f":"変換シート!L34","v":""},{"$f":"変換シート!M34","v":""},{"$f":"変換シート!N34","v":""},{"$f":"変換シート!O34","v":""},{"$f":"変換シート!P34","v":""},{"$f":"変換シート!Q34","v":""},{"$f":"変換シート!R34","v":""},{"$f":"変換シート!S34","v":""},{"$f":"変換シート!T34","v":""},{"$f":"変換シート!U34","v":""},{"$f":"変換シート!V34","v":""},{"$f":"変換シート!W34","v":""},{"$f":"変換シート!X34","v":""},{"$f":"変換シート!Y34","v":""},{"$f":"変換シート!Z34","v":""},{"$f":"変換シート!AA34","v":""},{"$f":"変換シート!AB34","v":""},{"$f":"変換シート!AC34","v":""},{"$f":"変換シート!AD34","v":""},{"$f":"変換シート!AE34","v":""},{"$f":"変換シート!AF34","v":""},{"$f":"変換シート!AG34","v":""},{"$f":"変換シート!AH34","v":""},{"$f":"変換シート!AI34","v":""},{"$f":"変換シート!AJ34","v":""},{"$f":"変換シート!AK34","v":""},{"$f":"変換シート!AL34","v":""},{"$f":"変換シート!AM34","v":""},{"$f":"変換シート!AN34","v":""},{"$f":"変換シート!AO34","v":""},{"$f":"変換シート!AP34","v":""},{"$f":"変換シート!AQ34","v":""},{"$f":"変換シート!AR34","v":""},{"$f":"変換シート!AS34","v":""},{"$f":"変換シート!AT34","v":""},{"$f":"変換シート!AU34","v":""},{"$f":"変換シート!AV34","v":""},{"$f":"変換シート!AW34","v":""},{"$f":"変換シート!AX34","v":""},{"$f":"変換シート!AY34","v":""},{"$f":"変換シート!AZ34","v":""},{"$f":"変換シート!BA34","v":""},{"$f":"変換シート!BB34","v":""},{"$f":"変換シート!BC34","v":""},{"$f":"変換シート!BD34","v":""},{"$f":"変換シート!BE34","v":""},{"$f":"変換シート!BF34","v":""},{"$f":"変換シート!BG34","v":""},{"$f":"変換シート!BH34","v":""},{"$f":"変換シート!BI34","v":""},{"$f":"変換シート!BJ34","v":""},{"$f":"変換シート!BK34","v":""},{"$f":"変換シート!BL34","v":""},{"$f":"変換シート!BM34","v":""},{"$f":"変換シート!BN34","v":""},{"$f":"変換シート!BO34","v":""},{"$f":"変換シート!BP34","v":""},{"$f":"変換シート!BQ34","v":""},{"$f":"変換シート!BR34","v":""},{"$f":"変換シート!BS34","v":""},{"$f":"変換シート!BT34","v":""},{"$f":"変換シート!BU34","v":""},{"$f":"変換シート!BV34","v":""},{"$f":"入力画面!DJ431&\"\"","v":""},{"$f":"入力画面!DK431&\"\"","v":""},{"$f":"入力画面!DL431&\"\"","v":""},{"$f":"入力画面!DM431&\"\"","v":""},{"$f":"入力画面!DN431&\"\"","v":""},{"$f":"入力画面!DO431&\"\"","v":""},"非公開"]
[31,null,null,"埼玉県 福祉部 地域包括ケア課",{"$f":"入力画面!B445&\"\"","v":""},{"$f":"入力画面!D445&\"\"","v":""},{"$f":"入力画面!E445&\"\"","v":""},{"$f":"入力画面!F445&\"\"","v":""},{"$f":"入力画面!G445&\"\"","v":""},{"$f":"入力画面!H445&\"\"","v":""},{"$f":"入力画面!I445&\"\"","v":""},{"$f":"入力画面!J445&\"\"","v":""},{"$f":"入力画面!K445&\"\"","v":""},{"$f":"入力画面!M445&\"\"","v":""},{"$f":"入力画面!N445&\"\"","v":""},{"$f":"入力画面!O445&\"\"","v":""},{"$f":"入力画面!P445&\"\"","v":""},{"$f":"入力画面!Q445&\"\"","v":""},{"$f":"入力画面!R445&\"\"","v":""},{"$f":"変換シート!BW35","v":""},{"$f":"変換シート!BX35","v":""},{"$f":"変換シート!BY35","v":""},{"$f":"変換シート!BZ35","v":""},{"$f":"変換シート!CA35","v":""},{"$f":"変換シート!CB35","v":""},{"$f":"変換シート!CC35","v":""},{"$f":"変換シート!CD35","v":""},{"$f":"入力画面!AY445&\"\"","v":""},{"$f":"入力画面!DI445&\"\"","v":""},{"$f":"変換シート!C35","v":""},{"$f":"変換シート!D35","v":""},{"$f":"変換シート!E35","v":""},{"$f":"変換シート!F35","v":""},{"$f":"変換シート!G35","v":""},{"$f":"変換シート!H35","v":""},{"$f":"変換シート!I35","v":""},{"$f":"変換シート!J35","v":""},{"$f":"変換シート!K35","v":""},{"$f":"変換シート!L35","v":""},{"$f":"変換シート!M35","v":""},{"$f":"変換シート!N35","v":""},{"$f":"変換シート!O35","v":""},{"$f":"変換シート!P35","v":""},{"$f":"変換シート!Q35","v":""},{"$f":"変換シート!R35","v":""},{"$f":"変換シート!S35","v":""},{"$f":"変換シート!T35","v":""},{"$f":"変換シート!U35","v":""},{"$f":"変換シート!V35","v":""},{"$f":"変換シート!W35","v":""},{"$f":"変換シート!X35","v":""},{"$f":"変換シート!Y35","v":""},{"$f":"変換シート!Z35","v":""},{"$f":"変換シート!AA35","v":""},{"$f":"変換シート!AB35","v":""},{"$f":"変換シート!AC35","v":""},{"$f":"変換シート!AD35","v":""},{"$f":"変換シート!AE35","v":""},{"$f":"変換シート!AF35","v":""},{"$f":"変換シート!AG35","v":""},{"$f":"変換シート!AH35","v":""},{"$f":"変換シート!AI35","v":""},{"$f":"変換シート!AJ35","v":""},{"$f":"変換シート!AK35","v":""},{"$f":"変換シート!AL35","v":""},{"$f":"変換シート!AM35","v":""},{"$f":"変換シート!AN35","v":""},{"$f":"変換シート!AO35","v":""},{"$f":"変換シート!AP35","v":""},{"$f":"変換シート!AQ35","v":""},{"$f":"変換シート!AR35","v":""},{"$f":"変換シート!AS35","v":""},{"$f":"変換シート!AT35","v":""},{"$f":"変換シート!AU35","v":""},{"$f":"変換シート!AV35","v":""},{"$f":"変換シート!AW35","v":""},{"$f":"変換シート!AX35","v":""},{"$f":"変換シート!AY35","v":""},{"$f":"変換シート!AZ35","v":""},{"$f":"変換シート!BA35","v":""},{"$f":"変換シート!BB35","v":""},{"$f":"変換シート!BC35","v":""},{"$f":"変換シート!BD35","v":""},{"$f":"変換シート!BE35","v":""},{"$f":"変換シート!BF35","v":""},{"$f":"変換シート!BG35","v":""},{"$f":"変換シート!BH35","v":""},{"$f":"変換シート!BI35","v":""},{"$f":"変換シート!BJ35","v":""},{"$f":"変換シート!BK35","v":""},{"$f":"変換シート!BL35","v":""},{"$f":"変換シート!BM35","v":""},{"$f":"変換シート!BN35","v":""},{"$f":"変換シート!BO35","v":""},{"$f":"変換シート!BP35","v":""},{"$f":"変換シート!BQ35","v":""},{"$f":"変換シート!BR35","v":""},{"$f":"変換シート!BS35","v":""},{"$f":"変換シート!BT35","v":""},{"$f":"変換シート!BU35","v":""},{"$f":"変換シート!BV35","v":""},{"$f":"入力画面!DJ445&\"\"","v":""},{"$f":"入力画面!DK445&\"\"","v":""},{"$f":"入力画面!DL445&\"\"","v":""},{"$f":"入力画面!DM445&\"\"","v":""},{"$f":"入力画面!DN445&\"\"","v":""},{"$f":"入力画面!DO445&\"\"","v":""},"非公開"]
[32,null,null,"埼玉県 福祉部 地域包括ケア課",{"$f":"入力画面!B459&\"\"","v":""},{"$f":"入力画面!D459&\"\"","v":""},{"$f":"入力画面!E459&\"\"","v":""},{"$f":"入力画面!F459&\"\"","v":""},{"$f":"入力画面!G459&\"\"","v":""},{"$f":"入力画面!H459&\"\"","v":""},{"$f":"入力画面!I459&\"\"","v":""},{"$f":"入力画面!J459&\"\"","v":""},{"$f":"入力画面!K459&\"\"","v":""},{"$f":"入力画面!M459&\"\"","v":""},{"$f":"入力画面!N459&\"\"","v":""},{"$f":"入力画面!O459&\"\"","v":""},{"$f":"入力画面!P459&\"\"","v":""},{"$f":"入力画面!Q459&\"\"","v":""},{"$f":"入力画面!R459&\"\"","v":""},{"$f":"変換シート!BW36","v":""},{"$f":"変換シート!BX36","v":""},{"$f":"変換シート!BY36","v":""},{"$f":"変換シート!BZ36","v":""},{"$f":"変換シート!CA36","v":""},{"$f":"変換シート!CB36","v":""},{"$f":"変換シート!CC36","v":""},{"$f":"変換シート!CD36","v":""},{"$f":"入力画面!AY459&\"\"","v":""},{"$f":"入力画面!DI459&\"\"","v":""},{"$f":"変換シート!C36","v":""},{"$f":"変換シート!D36","v":""},{"$f":"変換シート!E36","v":""},{"$f":"変換シート!F36","v":""},{"$f":"変換シート!G36","v":""},{"$f":"変換シート!H36","v":""},{"$f":"変換シート!I36","v":""},{"$f":"変換シート!J36","v":""},{"$f":"変換シート!K36","v":""},{"$f":"変換シート!L36","v":""},{"$f":"変換シート!M36","v":""},{"$f":"変換シート!N36","v":""},{"$f":"変換シート!O36","v":""},{"$f":"変換シート!P36","v":""},{"$f":"変換シート!Q36","v":""},{"$f":"変換シート!R36","v":""},{"$f":"変換シート!S36","v":""},{"$f":"変換シート!T36","v":""},{"$f":"変換シート!U36","v":""},{"$f":"変換シート!V36","v":""},{"$f":"変換シート!W36","v":""},{"$f":"変換シート!X36","v":""},{"$f":"変換シート!Y36","v":""},{"$f":"変換シート!Z36","v":""},{"$f":"変換シート!AA36","v":""},{"$f":"変換シート!AB36","v":""},{"$f":"変換シート!AC36","v":""},{"$f":"変換シート!AD36","v":""},{"$f":"変換シート!AE36","v":""},{"$f":"変換シート!AF36","v":""},{"$f":"変換シート!AG36","v":""},{"$f":"変換シート!AH36","v":""},{"$f":"変換シート!AI36","v":""},{"$f":"変換シート!AJ36","v":""},{"$f":"変換シート!AK36","v":""},{"$f":"変換シート!AL36","v":""},{"$f":"変換シート!AM36","v":""},{"$f":"変換シート!AN36","v":""},{"$f":"変換シート!AO36","v":""},{"$f":"変換シート!AP36","v":""},{"$f":"変換シート!AQ36","v":""},{"$f":"変換シート!AR36","v":""},{"$f":"変換シート!AS36","v":""},{"$f":"変換シート!AT36","v":""},{"$f":"変換シート!AU36","v":""},{"$f":"変換シート!AV36","v":""},{"$f":"変換シート!AW36","v":""},{"$f":"変換シート!AX36","v":""},{"$f":"変換シート!AY36","v":""},{"$f":"変換シート!AZ36","v":""},{"$f":"変換シート!BA36","v":""},{"$f":"変換シート!BB36","v":""},{"$f":"変換シート!BC36","v":""},{"$f":"変換シート!BD36","v":""},{"$f":"変換シート!BE36","v":""},{"$f":"変換シート!BF36","v":""},{"$f":"変換シート!BG36","v":""},{"$f":"変換シート!BH36","v":""},{"$f":"変換シート!BI36","v":""},{"$f":"変換シート!BJ36","v":""},{"$f":"変換シート!BK36","v":""},{"$f":"変換シート!BL36","v":""},{"$f":"変換シート!BM36","v":""},{"$f":"変換シート!BN36","v":""},{"$f":"変換シート!BO36","v":""},{"$f":"変換シート!BP36","v":""},{"$f":"変換シート!BQ36","v":""},{"$f":"変換シート!BR36","v":""},{"$f":"変換シート!BS36","v":""},{"$f":"変換シート!BT36","v":""},{"$f":"変換シート!BU36","v":""},{"$f":"変換シート!BV36","v":""},{"$f":"入力画面!DJ459&\"\"","v":""},{"$f":"入力画面!DK459&\"\"","v":""},{"$f":"入力画面!DL459&\"\"","v":""},{"$f":"入力画面!DM459&\"\"","v":""},{"$f":"入力画面!DN459&\"\"","v":""},{"$f":"入力画面!DO459&\"\"","v":""},"非公開"]
[33,null,null,"埼玉県 福祉部 地域包括ケア課",{"$f":"入力画面!B473&\"\"","v":""},{"$f":"入力画面!D473&\"\"","v":""},{"$f":"入力画面!E473&\"\"","v":""},{"$f":"入力画面!F473&\"\"","v":""},{"$f":"入力画面!G473&\"\"","v":""},{"$f":"入力画面!H473&\"\"","v":""},{"$f":"入力画面!I473&\"\"","v":""},{"$f":"入力画面!J473&\"\"","v":""},{"$f":"入力画面!K473&\"\"","v":""},{"$f":"入力画面!M473&\"\"","v":""},{"$f":"入力画面!N473&\"\"","v":""},{"$f":"入力画面!O473&\"\"","v":""},{"$f":"入力画面!P473&\"\"","v":""},{"$f":"入力画面!Q473&\"\"","v":""},{"$f":"入力画面!R473&\"\"","v":""},{"$f":"変換シート!BW37","v":""},{"$f":"変換シート!BX37","v":""},{"$f":"変換シート!BY37","v":""},{"$f":"変換シート!BZ37","v":""},{"$f":"変換シート!CA37","v":""},{"$f":"変換シート!CB37","v":""},{"$f":"変換シート!CC37","v":""},{"$f":"変換シート!CD37","v":""},{"$f":"入力画面!AY473&\"\"","v":""},{"$f":"入力画面!DI473&\"\"","v":""},{"$f":"変換シート!C37","v":""},{"$f":"変換シート!D37","v":""},{"$f":"変換シート!E37","v":""},{"$f":"変換シート!F37","v":""},{"$f":"変換シート!G37","v":""},{"$f":"変換シート!H37","v":""},{"$f":"変換シート!I37","v":""},{"$f":"変換シート!J37","v":""},{"$f":"変換シート!K37","v":""},{"$f":"変換シート!L37","v":""},{"$f":"変換シート!M37","v":""},{"$f":"変換シート!N37","v":""},{"$f":"変換シート!O37","v":""},{"$f":"変換シート!P37","v":""},{"$f":"変換シート!Q37","v":""},{"$f":"変換シート!R37","v":""},{"$f":"変換シート!S37","v":""},{"$f":"変換シート!T37","v":""},{"$f":"変換シート!U37","v":""},{"$f":"変換シート!V37","v":""},{"$f":"変換シート!W37","v":""},{"$f":"変換シート!X37","v":""},{"$f":"変換シート!Y37","v":""},{"$f":"変換シート!Z37","v":""},{"$f":"変換シート!AA37","v":""},{"$f":"変換シート!AB37","v":""},{"$f":"変換シート!AC37","v":""},{"$f":"変換シート!AD37","v":""},{"$f":"変換シート!AE37","v":""},{"$f":"変換シート!AF37","v":""},{"$f":"変換シート!AG37","v":""},{"$f":"変換シート!AH37","v":""},{"$f":"変換シート!AI37","v":""},{"$f":"変換シート!AJ37","v":""},{"$f":"変換シート!AK37","v":""},{"$f":"変換シート!AL37","v":""},{"$f":"変換シート!AM37","v":""},{"$f":"変換シート!AN37","v":""},{"$f":"変換シート!AO37","v":""},{"$f":"変換シート!AP37","v":""},{"$f":"変換シート!AQ37","v":""},{"$f":"変換シート!AR37","v":""},{"$f":"変換シート!AS37","v":""},{"$f":"変換シート!AT37","v":""},{"$f":"変換シート!AU37","v":""},{"$f":"変換シート!AV37","v":""},{"$f":"変換シート!AW37","v":""},{"$f":"変換シート!AX37","v":""},{"$f":"変換シート!AY37","v":""},{"$f":"変換シート!AZ37","v":""},{"$f":"変換シート!BA37","v":""},{"$f":"変換シート!BB37","v":""},{"$f":"変換シート!BC37","v":""},{"$f":"変換シート!BD37","v":""},{"$f":"変換シート!BE37","v":""},{"$f":"変換シート!BF37","v":""},{"$f":"変換シート!BG37","v":""},{"$f":"変換シート!BH37","v":""},{"$f":"変換シート!BI37","v":""},{"$f":"変換シート!BJ37","v":""},{"$f":"変換シート!BK37","v":""},{"$f":"変換シート!BL37","v":""},{"$f":"変換シート!BM37","v":""},{"$f":"変換シート!BN37","v":""},{"$f":"変換シート!BO37","v":""},{"$f":"変換シート!BP37","v":""},{"$f":"変換シート!BQ37","v":""},{"$f":"変換シート!BR37","v":""},{"$f":"変換シート!BS37","v":""},{"$f":"変換シート!BT37","v":""},{"$f":"変換シート!BU37","v":""},{"$f":"変換シート!BV37","v":""},{"$f":"入力画面!DJ473&\"\"","v":""},{"$f":"入力画面!DK473&\"\"","v":""},{"$f":"入力画面!DL473&\"\"","v":""},{"$f":"入力画面!DM473&\"\"","v":""},{"$f":"入力画面!DN473&\"\"","v":""},{"$f":"入力画面!DO473&\"\"","v":""},"非公開"]
[34,null,null,"埼玉県 福祉部 地域包括ケア課",{"$f":"入力画面!B487&\"\"","v":""},{"$f":"入力画面!D487&\"\"","v":""},{"$f":"入力画面!E487&\"\"","v":""},{"$f":"入力画面!F487&\"\"","v":""},{"$f":"入力画面!G487&\"\"","v":""},{"$f":"入力画面!H487&\"\"","v":""},{"$f":"入力画面!I487&\"\"","v":""},{"$f":"入力画面!J487&\"\"","v":""},{"$f":"入力画面!K487&\"\"","v":""},{"$f":"入力画面!M487&\"\"","v":""},{"$f":"入力画面!N487&\"\"","v":""},{"$f":"入力画面!O487&\"\"","v":""},{"$f":"入力画面!P487&\"\"","v":""},{"$f":"入力画面!Q487&\"\"","v":""},{"$f":"入力画面!R487&\"\"","v":""},{"$f":"変換シート!BW38","v":""},{"$f":"変換シート!BX38","v":""},{"$f":"変換シート!BY38","v":""},{"$f":"変換シート!BZ38","v":""},{"$f":"変換シート!CA38","v":""},{"$f":"変換シート!CB38","v":""},{"$f":"変換シート!CC38","v":""},{"$f":"変換シート!CD38","v":""},{"$f":"入力画面!AY487&\"\"","v":""},{"$f":"入力画面!DI487&\"\"","v":""},{"$f":"変換シート!C38","v":""},{"$f":"変換シート!D38","v":""},{"$f":"変換シート!E38","v":""},{"$f":"変換シート!F38","v":""},{"$f":"変換シート!G38","v":""},{"$f":"変換シート!H38","v":""},{"$f":"変換シート!I38","v":""},{"$f":"変換シート!J38","v":""},{"$f":"変換シート!K38","v":""},{"$f":"変換シート!L38","v":""},{"$f":"変換シート!M38","v":""},{"$f":"変換シート!N38","v":""},{"$f":"変換シート!O38","v":""},{"$f":"変換シート!P38","v":""},{"$f":"変換シート!Q38","v":""},{"$f":"変換シート!R38","v":""},{"$f":"変換シート!S38","v":""},{"$f":"変換シート!T38","v":""},{"$f":"変換シート!U38","v":""},{"$f":"変換シート!V38","v":""},{"$f":"変換シート!W38","v":""},{"$f":"変換シート!X38","v":""},{"$f":"変換シート!Y38","v":""},{"$f":"変換シート!Z38","v":""},{"$f":"変換シート!AA38","v":""},{"$f":"変換シート!AB38","v":""},{"$f":"変換シート!AC38","v":""},{"$f":"変換シート!AD38","v":""},{"$f":"変換シート!AE38","v":""},{"$f":"変換シート!AF38","v":""},{"$f":"変換シート!AG38","v":""},{"$f":"変換シート!AH38","v":""},{"$f":"変換シート!AI38","v":""},{"$f":"変換シート!AJ38","v":""},{"$f":"変換シート!AK38","v":""},{"$f":"変換シート!AL38","v":""},{"$f":"変換シート!AM38","v":""},{"$f":"変換シート!AN38","v":""},{"$f":"変換シート!AO38","v":""},{"$f":"変換シート!AP38","v":""},{"$f":"変換シート!AQ38","v":""},{"$f":"変換シート!AR38","v":""},{"$f":"変換シート!AS38","v":""},{"$f":"変換シート!AT38","v":""},{"$f":"変換シート!AU38","v":""},{"$f":"変換シート!AV38","v":""},{"$f":"変換シート!AW38","v":""},{"$f":"変換シート!AX38","v":""},{"$f":"変換シート!AY38","v":""},{"$f":"変換シート!AZ38","v":""},{"$f":"変換シート!BA38","v":""},{"$f":"変換シート!BB38","v":""},{"$f":"変換シート!BC38","v":""},{"$f":"変換シート!BD38","v":""},{"$f":"変換シート!BE38","v":""},{"$f":"変換シート!BF38","v":""},{"$f":"変換シート!BG38","v":""},{"$f":"変換シート!BH38","v":""},{"$f":"変換シート!BI38","v":""},{"$f":"変換シート!BJ38","v":""},{"$f":"変換シート!BK38","v":""},{"$f":"変換シート!BL38","v":""},{"$f":"変換シート!BM38","v":""},{"$f":"変換シート!BN38","v":""},{"$f":"変換シート!BO38","v":""},{"$f":"変換シート!BP38","v":""},{"$f":"変換シート!BQ38","v":""},{"$f":"変換シート!BR38","v":""},{"$f":"変換シート!BS38","v":""},{"$f":"変換シート!BT38","v":""},{"$f":"変換シート!BU38","v":""},{"$f":"変換シート!BV38","v":""},{"$f":"入力画面!DJ487&\"\"","v":""},{"$f":"入力画面!DK487&\"\"","v":""},{"$f":"入力画面!DL487&\"\"","v":""},{"$f":"入力画面!DM487&\"\"","v":""},{"$f":"入力画面!DN487&\"\"","v":""},{"$f":"入力画面!DO487&\"\"","v":""},"非公開"]
[35,null,null,"埼玉県 福祉部 地域包括ケア課",{"$f":"入力画面!B501&\"\"","v":""},{"$f":"入力画面!D501&\"\"","v":""},{"$f":"入力画面!E501&\"\"","v":""},{"$f":"入力画面!F501&\"\"","v":""},{"$f":"入力画面!G501&\"\"","v":""},{"$f":"入力画面!H501&\"\"","v":""},{"$f":"入力画面!I501&\"\"","v":""},{"$f":"入力画面!J501&\"\"","v":""},{"$f":"入力画面!K501&\"\"","v":""},{"$f":"入力画面!M501&\"\"","v":""},{"$f":"入力画面!N501&\"\"","v":""},{"$f":"入力画面!O501&\"\"","v":""},{"$f":"入力画面!P501&\"\"","v":""},{"$f":"入力画面!Q501&\"\"","v":""},{"$f":"入力画面!R501&\"\"","v":""},{"$f":"変換シート!BW39","v":""},{"$f":"変換シート!BX39","v":""},{"$f":"変換シート!BY39","v":""},{"$f":"変換シート!BZ39","v":""},{"$f":"変換シート!CA39","v":""},{"$f":"変換シート!CB39","v":""},{"$f":"変換シート!CC39","v":""},{"$f":"変換シート!CD39","v":""},{"$f":"入力画面!AY501&\"\"","v":""},{"$f":"入力画面!DI501&\"\"","v":""},{"$f":"変換シート!C39","v":""},{"$f":"変換シート!D39","v":""},{"$f":"変換シート!E39","v":""},{"$f":"変換シート!F39","v":""},{"$f":"変換シート!G39","v":""},{"$f":"変換シート!H39","v":""},{"$f":"変換シート!I39","v":""},{"$f":"変換シート!J39","v":""},{"$f":"変換シート!K39","v":""},{"$f":"変換シート!L39","v":""},{"$f":"変換シート!M39","v":""},{"$f":"変換シート!N39","v":""},{"$f":"変換シート!O39","v":""},{"$f":"変換シート!P39","v":""},{"$f":"変換シート!Q39","v":""},{"$f":"変換シート!R39","v":""},{"$f":"変換シート!S39","v":""},{"$f":"変換シート!T39","v":""},{"$f":"変換シート!U39","v":""},{"$f":"変換シート!V39","v":""},{"$f":"変換シート!W39","v":""},{"$f":"変換シート!X39","v":""},{"$f":"変換シート!Y39","v":""},{"$f":"変換シート!Z39","v":""},{"$f":"変換シート!AA39","v":""},{"$f":"変換シート!AB39","v":""},{"$f":"変換シート!AC39","v":""},{"$f":"変換シート!AD39","v":""},{"$f":"変換シート!AE39","v":""},{"$f":"変換シート!AF39","v":""},{"$f":"変換シート!AG39","v":""},{"$f":"変換シート!AH39","v":""},{"$f":"変換シート!AI39","v":""},{"$f":"変換シート!AJ39","v":""},{"$f":"変換シート!AK39","v":""},{"$f":"変換シート!AL39","v":""},{"$f":"変換シート!AM39","v":""},{"$f":"変換シート!AN39","v":""},{"$f":"変換シート!AO39","v":""},{"$f":"変換シート!AP39","v":""},{"$f":"変換シート!AQ39","v":""},{"$f":"変換シート!AR39","v":""},{"$f":"変換シート!AS39","v":""},{"$f":"変換シート!AT39","v":""},{"$f":"変換シート!AU39","v":""},{"$f":"変換シート!AV39","v":""},{"$f":"変換シート!AW39","v":""},{"$f":"変換シート!AX39","v":""},{"$f":"変換シート!AY39","v":""},{"$f":"変換シート!AZ39","v":""},{"$f":"変換シート!BA39","v":""},{"$f":"変換シート!BB39","v":""},{"$f":"変換シート!BC39","v":""},{"$f":"変換シート!BD39","v":""},{"$f":"変換シート!BE39","v":""},{"$f":"変換シート!BF39","v":""},{"$f":"変換シート!BG39","v":""},{"$f":"変換シート!BH39","v":""},{"$f":"変換シート!BI39","v":""},{"$f":"変換シート!BJ39","v":""},{"$f":"変換シート!BK39","v":""},{"$f":"変換シート!BL39","v":""},{"$f":"変換シート!BM39","v":""},{"$f":"変換シート!BN39","v":""},{"$f":"変換シート!BO39","v":""},{"$f":"変換シート!BP39","v":""},{"$f":"変換シート!BQ39","v":""},{"$f":"変換シート!BR39","v":""},{"$f":"変換シート!BS39","v":""},{"$f":"変換シート!BT39","v":""},{"$f":"変換シート!BU39","v":""},{"$f":"変換シート!BV39","v":""},{"$f":"入力画面!DJ501&\"\"","v":""},{"$f":"入力画面!DK501&\"\"","v":""},{"$f":"入力画面!DL501&\"\"","v":""},{"$f":"入力画面!DM501&\"\"","v":""},{"$f":"入力画面!DN501&\"\"","v":""},{"$f":"入力画面!DO501&\"\"","v":""},"非公開"]
[36,null,null,"埼玉県 福祉部 地域包括ケア課",{"$f":"入力画面!B515&\"\"","v":""},{"$f":"入力画面!D515&\"\"","v":""},{"$f":"入力画面!E515&\"\"","v":""},{"$f":"入力画面!F515&\"\"","v":""},{"$f":"入力画面!G515&\"\"","v":""},{"$f":"入力画面!H515&\"\"","v":""},{"$f":"入力画面!I515&\"\"","v":""},{"$f":"入力画面!J515&\"\"","v":""},{"$f":"入力画面!K515&\"\"","v":""},{"$f":"入力画面!M515&\"\"","v":""},{"$f":"入力画面!N515&\"\"","v":""},{"$f":"入力画面!O515&\"\"","v":""},{"$f":"入力画面!P515&\"\"","v":""},{"$f":"入力画面!Q515&\"\"","v":""},{"$f":"入力画面!R515&\"\"","v":""},{"$f":"変換シート!BW40","v":""},{"$f":"変換シート!BX40","v":""},{"$f":"変換シート!BY40","v":""},{"$f":"変換シート!BZ40","v":""},{"$f":"変換シート!CA40","v":""},{"$f":"変換シート!CB40","v":""},{"$f":"変換シート!CC40","v":""},{"$f":"変換シート!CD40","v":""},{"$f":"入力画面!AY515&\"\"","v":""},{"$f":"入力画面!DI515&\"\"","v":""},{"$f":"変換シート!C40","v":""},{"$f":"変換シート!D40","v":""},{"$f":"変換シート!E40","v":""},{"$f":"変換シート!F40","v":""},{"$f":"変換シート!G40","v":""},{"$f":"変換シート!H40","v":""},{"$f":"変換シート!I40","v":""},{"$f":"変換シート!J40","v":""},{"$f":"変換シート!K40","v":""},{"$f":"変換シート!L40","v":""},{"$f":"変換シート!M40","v":""},{"$f":"変換シート!N40","v":""},{"$f":"変換シート!O40","v":""},{"$f":"変換シート!P40","v":""},{"$f":"変換シート!Q40","v":""},{"$f":"変換シート!R40","v":""},{"$f":"変換シート!S40","v":""},{"$f":"変換シート!T40","v":""},{"$f":"変換シート!U40","v":""},{"$f":"変換シート!V40","v":""},{"$f":"変換シート!W40","v":""},{"$f":"変換シート!X40","v":""},{"$f":"変換シート!Y40","v":""},{"$f":"変換シート!Z40","v":""},{"$f":"変換シート!AA40","v":""},{"$f":"変換シート!AB40","v":""},{"$f":"変換シート!AC40","v":""},{"$f":"変換シート!AD40","v":""},{"$f":"変換シート!AE40","v":""},{"$f":"変換シート!AF40","v":""},{"$f":"変換シート!AG40","v":""},{"$f":"変換シート!AH40","v":""},{"$f":"変換シート!AI40","v":""},{"$f":"変換シート!AJ40","v":""},{"$f":"変換シート!AK40","v":""},{"$f":"変換シート!AL40","v":""},{"$f":"変換シート!AM40","v":""},{"$f":"変換シート!AN40","v":""},{"$f":"変換シート!AO40","v":""},{"$f":"変換シート!AP40","v":""},{"$f":"変換シート!AQ40","v":""},{"$f":"変換シート!AR40","v":""},{"$f":"変換シート!AS40","v":""},{"$f":"変換シート!AT40","v":""},{"$f":"変換シート!AU40","v":""},{"$f":"変換シート!AV40","v":""},{"$f":"変換シート!AW40","v":""},{"$f":"変換シート!AX40","v":""},{"$f":"変換シート!AY40","v":""},{"$f":"変換シート!AZ40","v":""},{"$f":"変換シート!BA40","v":""},{"$f":"変換シート!BB40","v":""},{"$f":"変換シート!BC40","v":""},{"$f":"変換シート!BD40","v":""},{"$f":"変換シート!BE40","v":""},{"$f":"変換シート!BF40","v":""},{"$f":"変換シート!BG40","v":""},{"$f":"変換シート!BH40","v":""},{"$f":"変換シート!BI40","v":""},{"$f":"変換シート!BJ40","v":""},{"$f":"変換シート!BK40","v":""},{"$f":"変換シート!BL40","v":""},{"$f":"変換シート!BM40","v":""},{"$f":"変換シート!BN40","v":""},{"$f":"変換シート!BO40","v":""},{"$f":"変換シート!BP40","v":""},{"$f":"変換シート!BQ40","v":""},{"$f":"変換シート!BR40","v":""},{"$f":"変換シート!BS40","v":""},{"$f":"変換シート!BT40","v":""},{"$f":"変換シート!BU40","v":""},{"$f":"変換シート!BV40","v":""},{"$f":"入力画面!DJ515&\"\"","v":""},{"$f":"入力画面!DK515&\"\"","v":""},{"$f":"入力画面!DL515&\"\"","v":""},{"$f":"入力画面!DM515&\"\"","v":""},{"$f":"入力画面!DN515&\"\"","v":""},{"$f":"入力画面!DO515&\"\"","v":""},"非公開"]
[37,null,null,"埼玉県 福祉部 地域包括ケア課",{"$f":"入力画面!B529&\"\"","v":""},{"$f":"入力画面!D529&\"\"","v":""},{"$f":"入力画面!E529&\"\"","v":""},{"$f":"入力画面!F529&\"\"","v":""},{"$f":"入力画面!G529&\"\"","v":""},{"$f":"入力画面!H529&\"\"","v":""},{"$f":"入力画面!I529&\"\"","v":""},{"$f":"入力画面!J529&\"\"","v":""},{"$f":"入力画面!K529&\"\"","v":""},{"$f":"入力画面!M529&\"\"","v":""},{"$f":"入力画面!N529&\"\"","v":""},{"$f":"入力画面!O529&\"\"","v":""},{"$f":"入力画面!P529&\"\"","v":""},{"$f":"入力画面!Q529&\"\"","v":""},{"$f":"入力画面!R529&\"\"","v":""},{"$f":"変換シート!BW41","v":""},{"$f":"変換シート!BX41","v":""},{"$f":"変換シート!BY41","v":""},{"$f":"変換シート!BZ41","v":""},{"$f":"変換シート!CA41","v":""},{"$f":"変換シート!CB41","v":""},{"$f":"変換シート!CC41","v":""},{"$f":"変換シート!CD41","v":""},{"$f":"入力画面!AY529&\"\"","v":""},{"$f":"入力画面!DI529&\"\"","v":""},{"$f":"変換シート!C41","v":""},{"$f":"変換シート!D41","v":""},{"$f":"変換シート!E41","v":""},{"$f":"変換シート!F41","v":""},{"$f":"変換シート!G41","v":""},{"$f":"変換シート!H41","v":""},{"$f":"変換シート!I41","v":""},{"$f":"変換シート!J41","v":""},{"$f":"変換シート!K41","v":""},{"$f":"変換シート!L41","v":""},{"$f":"変換シート!M41","v":""},{"$f":"変換シート!N41","v":""},{"$f":"変換シート!O41","v":""},{"$f":"変換シート!P41","v":""},{"$f":"変換シート!Q41","v":""},{"$f":"変換シート!R41","v":""},{"$f":"変換シート!S41","v":""},{"$f":"変換シート!T41","v":""},{"$f":"変換シート!U41","v":""},{"$f":"変換シート!V41","v":""},{"$f":"変換シート!W41","v":""},{"$f":"変換シート!X41","v":""},{"$f":"変換シート!Y41","v":""},{"$f":"変換シート!Z41","v":""},{"$f":"変換シート!AA41","v":""},{"$f":"変換シート!AB41","v":""},{"$f":"変換シート!AC41","v":""},{"$f":"変換シート!AD41","v":""},{"$f":"変換シート!AE41","v":""},{"$f":"変換シート!AF41","v":""},{"$f":"変換シート!AG41","v":""},{"$f":"変換シート!AH41","v":""},{"$f":"変換シート!AI41","v":""},{"$f":"変換シート!AJ41","v":""},{"$f":"変換シート!AK41","v":""},{"$f":"変換シート!AL41","v":""},{"$f":"変換シート!AM41","v":""},{"$f":"変換シート!AN41","v":""},{"$f":"変換シート!AO41","v":""},{"$f":"変換シート!AP41","v":""},{"$f":"変換シート!AQ41","v":""},{"$f":"変換シート!AR41","v":""},{"$f":"変換シート!AS41","v":""},{"$f":"変換シート!AT41","v":""},{"$f":"変換シート!AU41","v":""},{"$f":"変換シート!AV41","v":""},{"$f":"変換シート!AW41","v":""},{"$f":"変換シート!AX41","v":""},{"$f":"変換シート!AY41","v":""},{"$f":"変換シート!AZ41","v":""},{"$f":"変換シート!BA41","v":""},{"$f":"変換シート!BB41","v":""},{"$f":"変換シート!BC41","v":""},{"$f":"変換シート!BD41","v":""},{"$f":"変換シート!BE41","v":""},{"$f":"変換シート!BF41","v":""},{"$f":"変換シート!BG41","v":""},{"$f":"変換シート!BH41","v":""},{"$f":"変換シート!BI41","v":""},{"$f":"変換シート!BJ41","v":""},{"$f":"変換シート!BK41","v":""},{"$f":"変換シート!BL41","v":""},{"$f":"変換シート!BM41","v":""},{"$f":"変換シート!BN41","v":""},{"$f":"変換シート!BO41","v":""},{"$f":"変換シート!BP41","v":""},{"$f":"変換シート!BQ41","v":""},{"$f":"変換シート!BR41","v":""},{"$f":"変換シート!BS41","v":""},{"$f":"変換シート!BT41","v":""},{"$f":"変換シート!BU41","v":""},{"$f":"変換シート!BV41","v":""},{"$f":"入力画面!DJ529&\"\"","v":""},{"$f":"入力画面!DK529&\"\"","v":""},{"$f":"入力画面!DL529&\"\"","v":""},{"$f":"入力画面!DM529&\"\"","v":""},{"$f":"入力画面!DN529&\"\"","v":""},{"$f":"入力画面!DO529&\"\"","v":""},"非公開"]
[38,null,null,"埼玉県 福祉部 地域包括ケア課",{"$f":"入力画面!B543&\"\"","v":""},{"$f":"入力画面!D543&\"\"","v":""},{"$f":"入力画面!E543&\"\"","v":""},{"$f":"入力画面!F543&\"\"","v":""},{"$f":"入力画面!G543&\"\"","v":""},{"$f":"入力画面!H543&\"\"","v":""},{"$f":"入力画面!I543&\"\"","v":""},{"$f":"入力画面!J543&\"\"","v":""},{"$f":"入力画面!K543&\"\"","v":""},{"$f":"入力画面!M543&\"\"","v":""},{"$f":"入力画面!N543&\"\"","v":""},{"$f":"入力画面!O543&\"\"","v":""},{"$f":"入力画面!P543&\"\"","v":""},{"$f":"入力画面!Q543&\"\"","v":""},{"$f":"入力画面!R543&\"\"","v":""},{"$f":"変換シート!BW42","v":""},{"$f":"変換シート!BX42","v":""},{"$f":"変換シート!BY42","v":""},{"$f":"変換シート!BZ42","v":""},{"$f":"変換シート!CA42","v":""},{"$f":"変換シート!CB42","v":""},{"$f":"変換シート!CC42","v":""},{"$f":"変換シート!CD42","v":""},{"$f":"入力画面!AY543&\"\"","v":""},{"$f":"入力画面!DI543&\"\"","v":""},{"$f":"変換シート!C42","v":""},{"$f":"変換シート!D42","v":""},{"$f":"変換シート!E42","v":""},{"$f":"変換シート!F42","v":""},{"$f":"変換シート!G42","v":""},{"$f":"変換シート!H42","v":""},{"$f":"変換シート!I42","v":""},{"$f":"変換シート!J42","v":""},{"$f":"変換シート!K42","v":""},{"$f":"変換シート!L42","v":""},{"$f":"変換シート!M42","v":""},{"$f":"変換シート!N42","v":""},{"$f":"変換シート!O42","v":""},{"$f":"変換シート!P42","v":""},{"$f":"変換シート!Q42","v":""},{"$f":"変換シート!R42","v":""},{"$f":"変換シート!S42","v":""},{"$f":"変換シート!T42","v":""},{"$f":"変換シート!U42","v":""},{"$f":"変換シート!V42","v":""},{"$f":"変換シート!W42","v":""},{"$f":"変換シート!X42","v":""},{"$f":"変換シート!Y42","v":""},{"$f":"変換シート!Z42","v":""},{"$f":"変換シート!AA42","v":""},{"$f":"変換シート!AB42","v":""},{"$f":"変換シート!AC42","v":""},{"$f":"変換シート!AD42","v":""},{"$f":"変換シート!AE42","v":""},{"$f":"変換シート!AF42","v":""},{"$f":"変換シート!AG42","v":""},{"$f":"変換シート!AH42","v":""},{"$f":"変換シート!AI42","v":""},{"$f":"変換シート!AJ42","v":""},{"$f":"変換シート!AK42","v":""},{"$f":"変換シート!AL42","v":""},{"$f":"変換シート!AM42","v":""},{"$f":"変換シート!AN42","v":""},{"$f":"変換シート!AO42","v":""},{"$f":"変換シート!AP42","v":""},{"$f":"変換シート!AQ42","v":""},{"$f":"変換シート!AR42","v":""},{"$f":"変換シート!AS42","v":""},{"$f":"変換シート!AT42","v":""},{"$f":"変換シート!AU42","v":""},{"$f":"変換シート!AV42","v":""},{"$f":"変換シート!AW42","v":""},{"$f":"変換シート!AX42","v":""},{"$f":"変換シート!AY42","v":""},{"$f":"変換シート!AZ42","v":""},{"$f":"変換シート!BA42","v":""},{"$f":"変換シート!BB42","v":""},{"$f":"変換シート!BC42","v":""},{"$f":"変換シート!BD42","v":""},{"$f":"変換シート!BE42","v":""},{"$f":"変換シート!BF42","v":""},{"$f":"変換シート!BG42","v":""},{"$f":"変換シート!BH42","v":""},{"$f":"変換シート!BI42","v":""},{"$f":"変換シート!BJ42","v":""},{"$f":"変換シート!BK42","v":""},{"$f":"変換シート!BL42","v":""},{"$f":"変換シート!BM42","v":""},{"$f":"変換シート!BN42","v":""},{"$f":"変換シート!BO42","v":""},{"$f":"変換シート!BP42","v":""},{"$f":"変換シート!BQ42","v":""},{"$f":"変換シート!BR42","v":""},{"$f":"変換シート!BS42","v":""},{"$f":"変換シート!BT42","v":""},{"$f":"変換シート!BU42","v":""},{"$f":"変換シート!BV42","v":""},{"$f":"入力画面!DJ543&\"\"","v":""},{"$f":"入力画面!DK543&\"\"","v":""},{"$f":"入力画面!DL543&\"\"","v":""},{"$f":"入力画面!DM543&\"\"","v":""},{"$f":"入力画面!DN543&\"\"","v":""},{"$f":"入力画面!DO543&\"\"","v":""},"非公開"]
[39,null,null,"埼玉県 福祉部 地域包括ケア課",{"$f":"入力画面!B557&\"\"","v":""},{"$f":"入力画面!D557&\"\"","v":""},{"$f":"入力画面!E557&\"\"","v":""},{"$f":"入力画面!F557&\"\"","v":""},{"$f":"入力画面!G557&\"\"","v":""},{"$f":"入力画面!H557&\"\"","v":""},{"$f":"入力画面!I557&\"\"","v":""},{"$f":"入力画面!J557&\"\"","v":""},{"$f":"入力画面!K557&\"\"","v":""},{"$f":"入力画面!M557&\"\"","v":""},{"$f":"入力画面!N557&\"\"","v":""},{"$f":"入力画面!O557&\"\"","v":""},{"$f":"入力画面!P557&\"\"","v":""},{"$f":"入力画面!Q557&\"\"","v":""},{"$f":"入力画面!R557&\"\"","v":""},{"$f":"変換シート!BW43","v":""},{"$f":"変換シート!BX43","v":""},{"$f":"変換シート!BY43","v":""},{"$f":"変換シート!BZ43","v":""},{"$f":"変換シート!CA43","v":""},{"$f":"変換シート!CB43","v":""},{"$f":"変換シート!CC43","v":""},{"$f":"変換シート!CD43","v":""},{"$f":"入力画面!AY557&\"\"","v":""},{"$f":"入力画面!DI557&\"\"","v":""},{"$f":"変換シート!C43","v":""},{"$f":"変換シート!D43","v":""},{"$f":"変換シート!E43","v":""},{"$f":"変換シート!F43","v":""},{"$f":"変換シート!G43","v":""},{"$f":"変換シート!H43","v":""},{"$f":"変換シート!I43","v":""},{"$f":"変換シート!J43","v":""},{"$f":"変換シート!K43","v":""},{"$f":"変換シート!L43","v":""},{"$f":"変換シート!M43","v":""},{"$f":"変換シート!N43","v":""},{"$f":"変換シート!O43","v":""},{"$f":"変換シート!P43","v":""},{"$f":"変換シート!Q43","v":""},{"$f":"変換シート!R43","v":""},{"$f":"変換シート!S43","v":""},{"$f":"変換シート!T43","v":""},{"$f":"変換シート!U43","v":""},{"$f":"変換シート!V43","v":""},{"$f":"変換シート!W43","v":""},{"$f":"変換シート!X43","v":""},{"$f":"変換シート!Y43","v":""},{"$f":"変換シート!Z43","v":""},{"$f":"変換シート!AA43","v":""},{"$f":"変換シート!AB43","v":""},{"$f":"変換シート!AC43","v":""},{"$f":"変換シート!AD43","v":""},{"$f":"変換シート!AE43","v":""},{"$f":"変換シート!AF43","v":""},{"$f":"変換シート!AG43","v":""},{"$f":"変換シート!AH43","v":""},{"$f":"変換シート!AI43","v":""},{"$f":"変換シート!AJ43","v":""},{"$f":"変換シート!AK43","v":""},{"$f":"変換シート!AL43","v":""},{"$f":"変換シート!AM43","v":""},{"$f":"変換シート!AN43","v":""},{"$f":"変換シート!AO43","v":""},{"$f":"変換シート!AP43","v":""},{"$f":"変換シート!AQ43","v":""},{"$f":"変換シート!AR43","v":""},{"$f":"変換シート!AS43","v":""},{"$f":"変換シート!AT43","v":""},{"$f":"変換シート!AU43","v":""},{"$f":"変換シート!AV43","v":""},{"$f":"変換シート!AW43","v":""},{"$f":"変換シート!AX43","v":""},{"$f":"変換シート!AY43","v":""},{"$f":"変換シート!AZ43","v":""},{"$f":"変換シート!BA43","v":""},{"$f":"変換シート!BB43","v":""},{"$f":"変換シート!BC43","v":""},{"$f":"変換シート!BD43","v":""},{"$f":"変換シート!BE43","v":""},{"$f":"変換シート!BF43","v":""},{"$f":"変換シート!BG43","v":""},{"$f":"変換シート!BH43","v":""},{"$f":"変換シート!BI43","v":""},{"$f":"変換シート!BJ43","v":""},{"$f":"変換シート!BK43","v":""},{"$f":"変換シート!BL43","v":""},{"$f":"変換シート!BM43","v":""},{"$f":"変換シート!BN43","v":""},{"$f":"変換シート!BO43","v":""},{"$f":"変換シート!BP43","v":""},{"$f":"変換シート!BQ43","v":""},{"$f":"変換シート!BR43","v":""},{"$f":"変換シート!BS43","v":""},{"$f":"変換シート!BT43","v":""},{"$f":"変換シート!BU43","v":""},{"$f":"変換シート!BV43","v":""},{"$f":"入力画面!DJ557&\"\"","v":""},{"$f":"入力画面!DK557&\"\"","v":""},{"$f":"入力画面!DL557&\"\"","v":""},{"$f":"入力画面!DM557&\"\"","v":""},{"$f":"入力画面!DN557&\"\"","v":""},{"$f":"入力画面!DO557&\"\"","v":""},"非公開"]
[40,null,null,"埼玉県 福祉部 地域包括ケア課",{"$f":"入力画面!B571&\"\"","v":""},{"$f":"入力画面!D571&\"\"","v":""},{"$f":"入力画面!E571&\"\"","v":""},{"$f":"入力画面!F571&\"\"","v":""},{"$f":"入力画面!G571&\"\"","v":""},{"$f":"入力画面!H571&\"\"","v":""},{"$f":"入力画面!I571&\"\"","v":""},{"$f":"入力画面!J571&\"\"","v":""},{"$f":"入力画面!K571&\"\"","v":""},{"$f":"入力画面!M571&\"\"","v":""},{"$f":"入力画面!N571&\"\"","v":""},{"$f":"入力画面!O571&\"\"","v":""},{"$f":"入力画面!P571&\"\"","v":""},{"$f":"入力画面!Q571&\"\"","v":""},{"$f":"入力画面!R571&\"\"","v":""},{"$f":"変換シート!BW44","v":""},{"$f":"変換シート!BX44","v":""},{"$f":"変換シート!BY44","v":""},{"$f":"変換シート!BZ44","v":""},{"$f":"変換シート!CA44","v":""},{"$f":"変換シート!CB44","v":""},{"$f":"変換シート!CC44","v":""},{"$f":"変換シート!CD44","v":""},{"$f":"入力画面!AY571&\"\"","v":""},{"$f":"入力画面!DI571&\"\"","v":""},{"$f":"変換シート!C44","v":""},{"$f":"変換シート!D44","v":""},{"$f":"変換シート!E44","v":""},{"$f":"変換シート!F44","v":""},{"$f":"変換シート!G44","v":""},{"$f":"変換シート!H44","v":""},{"$f":"変換シート!I44","v":""},{"$f":"変換シート!J44","v":""},{"$f":"変換シート!K44","v":""},{"$f":"変換シート!L44","v":""},{"$f":"変換シート!M44","v":""},{"$f":"変換シート!N44","v":""},{"$f":"変換シート!O44","v":""},{"$f":"変換シート!P44","v":""},{"$f":"変換シート!Q44","v":""},{"$f":"変換シート!R44","v":""},{"$f":"変換シート!S44","v":""},{"$f":"変換シート!T44","v":""},{"$f":"変換シート!U44","v":""},{"$f":"変換シート!V44","v":""},{"$f":"変換シート!W44","v":""},{"$f":"変換シート!X44","v":""},{"$f":"変換シート!Y44","v":""},{"$f":"変換シート!Z44","v":""},{"$f":"変換シート!AA44","v":""},{"$f":"変換シート!AB44","v":""},{"$f":"変換シート!AC44","v":""},{"$f":"変換シート!AD44","v":""},{"$f":"変換シート!AE44","v":""},{"$f":"変換シート!AF44","v":""},{"$f":"変換シート!AG44","v":""},{"$f":"変換シート!AH44","v":""},{"$f":"変換シート!AI44","v":""},{"$f":"変換シート!AJ44","v":""},{"$f":"変換シート!AK44","v":""},{"$f":"変換シート!AL44","v":""},{"$f":"変換シート!AM44","v":""},{"$f":"変換シート!AN44","v":""},{"$f":"変換シート!AO44","v":""},{"$f":"変換シート!AP44","v":""},{"$f":"変換シート!AQ44","v":""},{"$f":"変換シート!AR44","v":""},{"$f":"変換シート!AS44","v":""},{"$f":"変換シート!AT44","v":""},{"$f":"変換シート!AU44","v":""},{"$f":"変換シート!AV44","v":""},{"$f":"変換シート!AW44","v":""},{"$f":"変換シート!AX44","v":""},{"$f":"変換シート!AY44","v":""},{"$f":"変換シート!AZ44","v":""},{"$f":"変換シート!BA44","v":""},{"$f":"変換シート!BB44","v":""},{"$f":"変換シート!BC44","v":""},{"$f":"変換シート!BD44","v":""},{"$f":"変換シート!BE44","v":""},{"$f":"変換シート!BF44","v":""},{"$f":"変換シート!BG44","v":""},{"$f":"変換シート!BH44","v":""},{"$f":"変換シート!BI44","v":""},{"$f":"変換シート!BJ44","v":""},{"$f":"変換シート!BK44","v":""},{"$f":"変換シート!BL44","v":""},{"$f":"変換シート!BM44","v":""},{"$f":"変換シート!BN44","v":""},{"$f":"変換シート!BO44","v":""},{"$f":"変換シート!BP44","v":""},{"$f":"変換シート!BQ44","v":""},{"$f":"変換シート!BR44","v":""},{"$f":"変換シート!BS44","v":""},{"$f":"変換シート!BT44","v":""},{"$f":"変換シート!BU44","v":""},{"$f":"変換シート!BV44","v":""},{"$f":"入力画面!DJ571&\"\"","v":""},{"$f":"入力画面!DK571&\"\"","v":""},{"$f":"入力画面!DL571&\"\"","v":""},{"$f":"入力画面!DM571&\"\"","v":""},{"$f":"入力画面!DN571&\"\"","v":""},{"$f":"入力画面!DO571&\"\"","v":""},"非公開"]
[41,null,null,"埼玉県 福祉部 地域包括ケア課",{"$f":"入力画面!B585&\"\"","v":""},{"$f":"入力画面!D585&\"\"","v":""},{"$f":"入力画面!E585&\"\"","v":""},{"$f":"入力画面!F585&\"\"","v":""},{"$f":"入力画面!G585&\"\"","v":""},{"$f":"入力画面!H585&\"\"","v":""},{"$f":"入力画面!I585&\"\"","v":""},{"$f":"入力画面!J585&\"\"","v":""},{"$f":"入力画面!K585&\"\"","v":""},{"$f":"入力画面!M585&\"\"","v":""},{"$f":"入力画面!N585&\"\"","v":""},{"$f":"入力画面!O585&\"\"","v":""},{"$f":"入力画面!P585&\"\"","v":""},{"$f":"入力画面!Q585&\"\"","v":""},{"$f":"入力画面!R585&\"\"","v":""},{"$f":"変換シート!BW45","v":""},{"$f":"変換シート!BX45","v":""},{"$f":"変換シート!BY45","v":""},{"$f":"変換シート!BZ45","v":""},{"$f":"変換シート!CA45","v":""},{"$f":"変換シート!CB45","v":""},{"$f":"変換シート!CC45","v":""},{"$f":"変換シート!CD45","v":""},{"$f":"入力画面!AY585&\"\"","v":""},{"$f":"入力画面!DI585&\"\"","v":""},{"$f":"変換シート!C45","v":""},{"$f":"変換シート!D45","v":""},{"$f":"変換シート!E45","v":""},{"$f":"変換シート!F45","v":""},{"$f":"変換シート!G45","v":""},{"$f":"変換シート!H45","v":""},{"$f":"変換シート!I45","v":""},{"$f":"変換シート!J45","v":""},{"$f":"変換シート!K45","v":""},{"$f":"変換シート!L45","v":""},{"$f":"変換シート!M45","v":""},{"$f":"変換シート!N45","v":""},{"$f":"変換シート!O45","v":""},{"$f":"変換シート!P45","v":""},{"$f":"変換シート!Q45","v":""},{"$f":"変換シート!R45","v":""},{"$f":"変換シート!S45","v":""},{"$f":"変換シート!T45","v":""},{"$f":"変換シート!U45","v":""},{"$f":"変換シート!V45","v":""},{"$f":"変換シート!W45","v":""},{"$f":"変換シート!X45","v":""},{"$f":"変換シート!Y45","v":""},{"$f":"変換シート!Z45","v":""},{"$f":"変換シート!AA45","v":""},{"$f":"変換シート!AB45","v":""},{"$f":"変換シート!AC45","v":""},{"$f":"変換シート!AD45","v":""},{"$f":"変換シート!AE45","v":""},{"$f":"変換シート!AF45","v":""},{"$f":"変換シート!AG45","v":""},{"$f":"変換シート!AH45","v":""},{"$f":"変換シート!AI45","v":""},{"$f":"変換シート!AJ45","v":""},{"$f":"変換シート!AK45","v":""},{"$f":"変換シート!AL45","v":""},{"$f":"変換シート!AM45","v":""},{"$f":"変換シート!AN45","v":""},{"$f":"変換シート!AO45","v":""},{"$f":"変換シート!AP45","v":""},{"$f":"変換シート!AQ45","v":""},{"$f":"変換シート!AR45","v":""},{"$f":"変換シート!AS45","v":""},{"$f":"変換シート!AT45","v":""},{"$f":"変換シート!AU45","v":""},{"$f":"変換シート!AV45","v":""},{"$f":"変換シート!AW45","v":""},{"$f":"変換シート!AX45","v":""},{"$f":"変換シート!AY45","v":""},{"$f":"変換シート!AZ45","v":""},{"$f":"変換シート!BA45","v":""},{"$f":"変換シート!BB45","v":""},{"$f":"変換シート!BC45","v":""},{"$f":"変換シート!BD45","v":""},{"$f":"変換シート!BE45","v":""},{"$f":"変換シート!BF45","v":""},{"$f":"変換シート!BG45","v":""},{"$f":"変換シート!BH45","v":""},{"$f":"変換シート!BI45","v":""},{"$f":"変換シート!BJ45","v":""},{"$f":"変換シート!BK45","v":""},{"$f":"変換シート!BL45","v":""},{"$f":"変換シート!BM45","v":""},{"$f":"変換シート!BN45","v":""},{"$f":"変換シート!BO45","v":""},{"$f":"変換シート!BP45","v":""},{"$f":"変換シート!BQ45","v":""},{"$f":"変換シート!BR45","v":""},{"$f":"変換シート!BS45","v":""},{"$f":"変換シート!BT45","v":""},{"$f":"変換シート!BU45","v":""},{"$f":"変換シート!BV45","v":""},{"$f":"入力画面!DJ585&\"\"","v":""},{"$f":"入力画面!DK585&\"\"","v":""},{"$f":"入力画面!DL585&\"\"","v":""},{"$f":"入力画面!DM585&\"\"","v":""},{"$f":"入力画面!DN585&\"\"","v":""},{"$f":"入力画面!DO585&\"\"","v":""},"非公開"]
[42,null,null,"埼玉県 福祉部 地域包括ケア課",{"$f":"入力画面!B599&\"\"","v":""},{"$f":"入力画面!D599&\"\"","v":""},{"$f":"入力画面!E599&\"\"","v":""},{"$f":"入力画面!F599&\"\"","v":""},{"$f":"入力画面!G599&\"\"","v":""},{"$f":"入力画面!H599&\"\"","v":""},{"$f":"入力画面!I599&\"\"","v":""},{"$f":"入力画面!J599&\"\"","v":""},{"$f":"入力画面!K599&\"\"","v":""},{"$f":"入力画面!M599&\"\"","v":""},{"$f":"入力画面!N599&\"\"","v":""},{"$f":"入力画面!O599&\"\"","v":""},{"$f":"入力画面!P599&\"\"","v":""},{"$f":"入力画面!Q599&\"\"","v":""},{"$f":"入力画面!R599&\"\"","v":""},{"$f":"変換シート!BW46","v":""},{"$f":"変換シート!BX46","v":""},{"$f":"変換シート!BY46","v":""},{"$f":"変換シート!BZ46","v":""},{"$f":"変換シート!CA46","v":""},{"$f":"変換シート!CB46","v":""},{"$f":"変換シート!CC46","v":""},{"$f":"変換シート!CD46","v":""},{"$f":"入力画面!AY599&\"\"","v":""},{"$f":"入力画面!DI599&\"\"","v":""},{"$f":"変換シート!C46","v":""},{"$f":"変換シート!D46","v":""},{"$f":"変換シート!E46","v":""},{"$f":"変換シート!F46","v":""},{"$f":"変換シート!G46","v":""},{"$f":"変換シート!H46","v":""},{"$f":"変換シート!I46","v":""},{"$f":"変換シート!J46","v":""},{"$f":"変換シート!K46","v":""},{"$f":"変換シート!L46","v":""},{"$f":"変換シート!M46","v":""},{"$f":"変換シート!N46","v":""},{"$f":"変換シート!O46","v":""},{"$f":"変換シート!P46","v":""},{"$f":"変換シート!Q46","v":""},{"$f":"変換シート!R46","v":""},{"$f":"変換シート!S46","v":""},{"$f":"変換シート!T46","v":""},{"$f":"変換シート!U46","v":""},{"$f":"変換シート!V46","v":""},{"$f":"変換シート!W46","v":""},{"$f":"変換シート!X46","v":""},{"$f":"変換シート!Y46","v":""},{"$f":"変換シート!Z46","v":""},{"$f":"変換シート!AA46","v":""},{"$f":"変換シート!AB46","v":""},{"$f":"変換シート!AC46","v":""},{"$f":"変換シート!AD46","v":""},{"$f":"変換シート!AE46","v":""},{"$f":"変換シート!AF46","v":""},{"$f":"変換シート!AG46","v":""},{"$f":"変換シート!AH46","v":""},{"$f":"変換シート!AI46","v":""},{"$f":"変換シート!AJ46","v":""},{"$f":"変換シート!AK46","v":""},{"$f":"変換シート!AL46","v":""},{"$f":"変換シート!AM46","v":""},{"$f":"変換シート!AN46","v":""},{"$f":"変換シート!AO46","v":""},{"$f":"変換シート!AP46","v":""},{"$f":"変換シート!AQ46","v":""},{"$f":"変換シート!AR46","v":""},{"$f":"変換シート!AS46","v":""},{"$f":"変換シート!AT46","v":""},{"$f":"変換シート!AU46","v":""},{"$f":"変換シート!AV46","v":""},{"$f":"変換シート!AW46","v":""},{"$f":"変換シート!AX46","v":""},{"$f":"変換シート!AY46","v":""},{"$f":"変換シート!AZ46","v":""},{"$f":"変換シート!BA46","v":""},{"$f":"変換シート!BB46","v":""},{"$f":"変換シート!BC46","v":""},{"$f":"変換シート!BD46","v":""},{"$f":"変換シート!BE46","v":""},{"$f":"変換シート!BF46","v":""},{"$f":"変換シート!BG46","v":""},{"$f":"変換シート!BH46","v":""},{"$f":"変換シート!BI46","v":""},{"$f":"変換シート!BJ46","v":""},{"$f":"変換シート!BK46","v":""},{"$f":"変換シート!BL46","v":""},{"$f":"変換シート!BM46","v":""},{"$f":"変換シート!BN46","v":""},{"$f":"変換シート!BO46","v":""},{"$f":"変換シート!BP46","v":""},{"$f":"変換シート!BQ46","v":""},{"$f":"変換シート!BR46","v":""},{"$f":"変換シート!BS46","v":""},{"$f":"変換シート!BT46","v":""},{"$f":"変換シート!BU46","v":""},{"$f":"変換シート!BV46","v":""},{"$f":"入力画面!DJ599&\"\"","v":""},{"$f":"入力画面!DK599&\"\"","v":""},{"$f":"入力画面!DL599&\"\"","v":""},{"$f":"入力画面!DM599&\"\"","v":""},{"$f":"入力画面!DN599&\"\"","v":""},{"$f":"入力画面!DO599&\"\"","v":""},"非公開"]
[43,null,null,"埼玉県 福祉部 地域包括ケア課",{"$f":"入力画面!B613&\"\"","v":""},{"$f":"入力画面!D613&\"\"","v":""},{"$f":"入力画面!E613&\"\"","v":""},{"$f":"入力画面!F613&\"\"","v":""},{"$f":"入力画面!G613&\"\"","v":""},{"$f":"入力画面!H613&\"\"","v":""},{"$f":"入力画面!I613&\"\"","v":""},{"$f":"入力画面!J613&\"\"","v":""},{"$f":"入力画面!K613&\"\"","v":""},{"$f":"入力画面!M613&\"\"","v":""},{"$f":"入力画面!N613&\"\"","v":""},{"$f":"入力画面!O613&\"\"","v":""},{"$f":"入力画面!P613&\"\"","v":""},{"$f":"入力画面!Q613&\"\"","v":""},{"$f":"入力画面!R613&\"\"","v":""},{"$f":"変換シート!BW47","v":""},{"$f":"変換シート!BX47","v":""},{"$f":"変換シート!BY47","v":""},{"$f":"変換シート!BZ47","v":""},{"$f":"変換シート!CA47","v":""},{"$f":"変換シート!CB47","v":""},{"$f":"変換シート!CC47","v":""},{"$f":"変換シート!CD47","v":""},{"$f":"入力画面!AY613&\"\"","v":""},{"$f":"入力画面!DI613&\"\"","v":""},{"$f":"変換シート!C47","v":""},{"$f":"変換シート!D47","v":""},{"$f":"変換シート!E47","v":""},{"$f":"変換シート!F47","v":""},{"$f":"変換シート!G47","v":""},{"$f":"変換シート!H47","v":""},{"$f":"変換シート!I47","v":""},{"$f":"変換シート!J47","v":""},{"$f":"変換シート!K47","v":""},{"$f":"変換シート!L47","v":""},{"$f":"変換シート!M47","v":""},{"$f":"変換シート!N47","v":""},{"$f":"変換シート!O47","v":""},{"$f":"変換シート!P47","v":""},{"$f":"変換シート!Q47","v":""},{"$f":"変換シート!R47","v":""},{"$f":"変換シート!S47","v":""},{"$f":"変換シート!T47","v":""},{"$f":"変換シート!U47","v":""},{"$f":"変換シート!V47","v":""},{"$f":"変換シート!W47","v":""},{"$f":"変換シート!X47","v":""},{"$f":"変換シート!Y47","v":""},{"$f":"変換シート!Z47","v":""},{"$f":"変換シート!AA47","v":""},{"$f":"変換シート!AB47","v":""},{"$f":"変換シート!AC47","v":""},{"$f":"変換シート!AD47","v":""},{"$f":"変換シート!AE47","v":""},{"$f":"変換シート!AF47","v":""},{"$f":"変換シート!AG47","v":""},{"$f":"変換シート!AH47","v":""},{"$f":"変換シート!AI47","v":""},{"$f":"変換シート!AJ47","v":""},{"$f":"変換シート!AK47","v":""},{"$f":"変換シート!AL47","v":""},{"$f":"変換シート!AM47","v":""},{"$f":"変換シート!AN47","v":""},{"$f":"変換シート!AO47","v":""},{"$f":"変換シート!AP47","v":""},{"$f":"変換シート!AQ47","v":""},{"$f":"変換シート!AR47","v":""},{"$f":"変換シート!AS47","v":""},{"$f":"変換シート!AT47","v":""},{"$f":"変換シート!AU47","v":""},{"$f":"変換シート!AV47","v":""},{"$f":"変換シート!AW47","v":""},{"$f":"変換シート!AX47","v":""},{"$f":"変換シート!AY47","v":""},{"$f":"変換シート!AZ47","v":""},{"$f":"変換シート!BA47","v":""},{"$f":"変換シート!BB47","v":""},{"$f":"変換シート!BC47","v":""},{"$f":"変換シート!BD47","v":""},{"$f":"変換シート!BE47","v":""},{"$f":"変換シート!BF47","v":""},{"$f":"変換シート!BG47","v":""},{"$f":"変換シート!BH47","v":""},{"$f":"変換シート!BI47","v":""},{"$f":"変換シート!BJ47","v":""},{"$f":"変換シート!BK47","v":""},{"$f":"変換シート!BL47","v":""},{"$f":"変換シート!BM47","v":""},{"$f":"変換シート!BN47","v":""},{"$f":"変換シート!BO47","v":""},{"$f":"変換シート!BP47","v":""},{"$f":"変換シート!BQ47","v":""},{"$f":"変換シート!BR47","v":""},{"$f":"変換シート!BS47","v":""},{"$f":"変換シート!BT47","v":""},{"$f":"変換シート!BU47","v":""},{"$f":"変換シート!BV47","v":""},{"$f":"入力画面!DJ613&\"\"","v":""},{"$f":"入力画面!DK613&\"\"","v":""},{"$f":"入力画面!DL613&\"\"","v":""},{"$f":"入力画面!DM613&\"\"","v":""},{"$f":"入力画面!DN613&\"\"","v":""},{"$f":"入力画面!DO613&\"\"","v":""},"非公開"]
[44,null,null,"埼玉県 福祉部 地域包括ケア課",{"$f":"入力画面!B627&\"\"","v":""},{"$f":"入力画面!D627&\"\"","v":""},{"$f":"入力画面!E627&\"\"","v":""},{"$f":"入力画面!F627&\"\"","v":""},{"$f":"入力画面!G627&\"\"","v":""},{"$f":"入力画面!H627&\"\"","v":""},{"$f":"入力画面!I627&\"\"","v":""},{"$f":"入力画面!J627&\"\"","v":""},{"$f":"入力画面!K627&\"\"","v":""},{"$f":"入力画面!M627&\"\"","v":""},{"$f":"入力画面!N627&\"\"","v":""},{"$f":"入力画面!O627&\"\"","v":""},{"$f":"入力画面!P627&\"\"","v":""},{"$f":"入力画面!Q627&\"\"","v":""},{"$f":"入力画面!R627&\"\"","v":""},{"$f":"変換シート!BW48","v":""},{"$f":"変換シート!BX48","v":""},{"$f":"変換シート!BY48","v":""},{"$f":"変換シート!BZ48","v":""},{"$f":"変換シート!CA48","v":""},{"$f":"変換シート!CB48","v":""},{"$f":"変換シート!CC48","v":""},{"$f":"変換シート!CD48","v":""},{"$f":"入力画面!AY627&\"\"","v":""},{"$f":"入力画面!DI627&\"\"","v":""},{"$f":"変換シート!C48","v":""},{"$f":"変換シート!D48","v":""},{"$f":"変換シート!E48","v":""},{"$f":"変換シート!F48","v":""},{"$f":"変換シート!G48","v":""},{"$f":"変換シート!H48","v":""},{"$f":"変換シート!I48","v":""},{"$f":"変換シート!J48","v":""},{"$f":"変換シート!K48","v":""},{"$f":"変換シート!L48","v":""},{"$f":"変換シート!M48","v":""},{"$f":"変換シート!N48","v":""},{"$f":"変換シート!O48","v":""},{"$f":"変換シート!P48","v":""},{"$f":"変換シート!Q48","v":""},{"$f":"変換シート!R48","v":""},{"$f":"変換シート!S48","v":""},{"$f":"変換シート!T48","v":""},{"$f":"変換シート!U48","v":""},{"$f":"変換シート!V48","v":""},{"$f":"変換シート!W48","v":""},{"$f":"変換シート!X48","v":""},{"$f":"変換シート!Y48","v":""},{"$f":"変換シート!Z48","v":""},{"$f":"変換シート!AA48","v":""},{"$f":"変換シート!AB48","v":""},{"$f":"変換シート!AC48","v":""},{"$f":"変換シート!AD48","v":""},{"$f":"変換シート!AE48","v":""},{"$f":"変換シート!AF48","v":""},{"$f":"変換シート!AG48","v":""},{"$f":"変換シート!AH48","v":""},{"$f":"変換シート!AI48","v":""},{"$f":"変換シート!AJ48","v":""},{"$f":"変換シート!AK48","v":""},{"$f":"変換シート!AL48","v":""},{"$f":"変換シート!AM48","v":""},{"$f":"変換シート!AN48","v":""},{"$f":"変換シート!AO48","v":""},{"$f":"変換シート!AP48","v":""},{"$f":"変換シート!AQ48","v":""},{"$f":"変換シート!AR48","v":""},{"$f":"変換シート!AS48","v":""},{"$f":"変換シート!AT48","v":""},{"$f":"変換シート!AU48","v":""},{"$f":"変換シート!AV48","v":""},{"$f":"変換シート!AW48","v":""},{"$f":"変換シート!AX48","v":""},{"$f":"変換シート!AY48","v":""},{"$f":"変換シート!AZ48","v":""},{"$f":"変換シート!BA48","v":""},{"$f":"変換シート!BB48","v":""},{"$f":"変換シート!BC48","v":""},{"$f":"変換シート!BD48","v":""},{"$f":"変換シート!BE48","v":""},{"$f":"変換シート!BF48","v":""},{"$f":"変換シート!BG48","v":""},{"$f":"変換シート!BH48","v":""},{"$f":"変換シート!BI48","v":""},{"$f":"変換シート!BJ48","v":""},{"$f":"変換シート!BK48","v":""},{"$f":"変換シート!BL48","v":""},{"$f":"変換シート!BM48","v":""},{"$f":"変換シート!BN48","v":""},{"$f":"変換シート!BO48","v":""},{"$f":"変換シート!BP48","v":""},{"$f":"変換シート!BQ48","v":""},{"$f":"変換シート!BR48","v":""},{"$f":"変換シート!BS48","v":""},{"$f":"変換シート!BT48","v":""},{"$f":"変換シート!BU48","v":""},{"$f":"変換シート!BV48","v":""},{"$f":"入力画面!DJ627&\"\"","v":""},{"$f":"入力画面!DK627&\"\"","v":""},{"$f":"入力画面!DL627&\"\"","v":""},{"$f":"入力画面!DM627&\"\"","v":""},{"$f":"入力画面!DN627&\"\"","v":""},{"$f":"入力画面!DO627&\"\"","v":""},"非公開"]
[45,null,null,"埼玉県 福祉部 地域包括ケア課",{"$f":"入力画面!B641&\"\"","v":""},{"$f":"入力画面!D641&\"\"","v":""},{"$f":"入力画面!E641&\"\"","v":""},{"$f":"入力画面!F641&\"\"","v":""},{"$f":"入力画面!G641&\"\"","v":""},{"$f":"入力画面!H641&\"\"","v":""},{"$f":"入力画面!I641&\"\"","v":""},{"$f":"入力画面!J641&\"\"","v":""},{"$f":"入力画面!K641&\"\"","v":""},{"$f":"入力画面!M641&\"\"","v":""},{"$f":"入力画面!N641&\"\"","v":""},{"$f":"入力画面!O641&\"\"","v":""},{"$f":"入力画面!P641&\"\"","v":""},{"$f":"入力画面!Q641&\"\"","v":""},{"$f":"入力画面!R641&\"\"","v":""},{"$f":"変換シート!BW49","v":""},{"$f":"変換シート!BX49","v":""},{"$f":"変換シート!BY49","v":""},{"$f":"変換シート!BZ49","v":""},{"$f":"変換シート!CA49","v":""},{"$f":"変換シート!CB49","v":""},{"$f":"変換シート!CC49","v":""},{"$f":"変換シート!CD49","v":""},{"$f":"入力画面!AY641&\"\"","v":""},{"$f":"入力画面!DI641&\"\"","v":""},{"$f":"変換シート!C49","v":""},{"$f":"変換シート!D49","v":""},{"$f":"変換シート!E49","v":""},{"$f":"変換シート!F49","v":""},{"$f":"変換シート!G49","v":""},{"$f":"変換シート!H49","v":""},{"$f":"変換シート!I49","v":""},{"$f":"変換シート!J49","v":""},{"$f":"変換シート!K49","v":""},{"$f":"変換シート!L49","v":""},{"$f":"変換シート!M49","v":""},{"$f":"変換シート!N49","v":""},{"$f":"変換シート!O49","v":""},{"$f":"変換シート!P49","v":""},{"$f":"変換シート!Q49","v":""},{"$f":"変換シート!R49","v":""},{"$f":"変換シート!S49","v":""},{"$f":"変換シート!T49","v":""},{"$f":"変換シート!U49","v":""},{"$f":"変換シート!V49","v":""},{"$f":"変換シート!W49","v":""},{"$f":"変換シート!X49","v":""},{"$f":"変換シート!Y49","v":""},{"$f":"変換シート!Z49","v":""},{"$f":"変換シート!AA49","v":""},{"$f":"変換シート!AB49","v":""},{"$f":"変換シート!AC49","v":""},{"$f":"変換シート!AD49","v":""},{"$f":"変換シート!AE49","v":""},{"$f":"変換シート!AF49","v":""},{"$f":"変換シート!AG49","v":""},{"$f":"変換シート!AH49","v":""},{"$f":"変換シート!AI49","v":""},{"$f":"変換シート!AJ49","v":""},{"$f":"変換シート!AK49","v":""},{"$f":"変換シート!AL49","v":""},{"$f":"変換シート!AM49","v":""},{"$f":"変換シート!AN49","v":""},{"$f":"変換シート!AO49","v":""},{"$f":"変換シート!AP49","v":""},{"$f":"変換シート!AQ49","v":""},{"$f":"変換シート!AR49","v":""},{"$f":"変換シート!AS49","v":""},{"$f":"変換シート!AT49","v":""},{"$f":"変換シート!AU49","v":""},{"$f":"変換シート!AV49","v":""},{"$f":"変換シート!AW49","v":""},{"$f":"変換シート!AX49","v":""},{"$f":"変換シート!AY49","v":""},{"$f":"変換シート!AZ49","v":""},{"$f":"変換シート!BA49","v":""},{"$f":"変換シート!BB49","v":""},{"$f":"変換シート!BC49","v":""},{"$f":"変換シート!BD49","v":""},{"$f":"変換シート!BE49","v":""},{"$f":"変換シート!BF49","v":""},{"$f":"変換シート!BG49","v":""},{"$f":"変換シート!BH49","v":""},{"$f":"変換シート!BI49","v":""},{"$f":"変換シート!BJ49","v":""},{"$f":"変換シート!BK49","v":""},{"$f":"変換シート!BL49","v":""},{"$f":"変換シート!BM49","v":""},{"$f":"変換シート!BN49","v":""},{"$f":"変換シート!BO49","v":""},{"$f":"変換シート!BP49","v":""},{"$f":"変換シート!BQ49","v":""},{"$f":"変換シート!BR49","v":""},{"$f":"変換シート!BS49","v":""},{"$f":"変換シート!BT49","v":""},{"$f":"変換シート!BU49","v":""},{"$f":"変換シート!BV49","v":""},{"$f":"入力画面!DJ641&\"\"","v":""},{"$f":"入力画面!DK641&\"\"","v":""},{"$f":"入力画面!DL641&\"\"","v":""},{"$f":"入力画面!DM641&\"\"","v":""},{"$f":"入力画面!DN641&\"\"","v":""},{"$f":"入力画面!DO641&\"\"","v":""},"非公開"]
[46,null,null,"埼玉県 福祉部 地域包括ケア課",{"$f":"入力画面!B655&\"\"","v":""},{"$f":"入力画面!D655&\"\"","v":""},{"$f":"入力画面!E655&\"\"","v":""},{"$f":"入力画面!F655&\"\"","v":""},{"$f":"入力画面!G655&\"\"","v":""},{"$f":"入力画面!H655&\"\"","v":""},{"$f":"入力画面!I655&\"\"","v":""},{"$f":"入力画面!J655&\"\"","v":""},{"$f":"入力画面!K655&\"\"","v":""},{"$f":"入力画面!M655&\"\"","v":""},{"$f":"入力画面!N655&\"\"","v":""},{"$f":"入力画面!O655&\"\"","v":""},{"$f":"入力画面!P655&\"\"","v":""},{"$f":"入力画面!Q655&\"\"","v":""},{"$f":"入力画面!R655&\"\"","v":""},{"$f":"変換シート!BW50","v":""},{"$f":"変換シート!BX50","v":""},{"$f":"変換シート!BY50","v":""},{"$f":"変換シート!BZ50","v":""},{"$f":"変換シート!CA50","v":""},{"$f":"変換シート!CB50","v":""},{"$f":"変換シート!CC50","v":""},{"$f":"変換シート!CD50","v":""},{"$f":"入力画面!AY655&\"\"","v":""},{"$f":"入力画面!DI655&\"\"","v":""},{"$f":"変換シート!C50","v":""},{"$f":"変換シート!D50","v":""},{"$f":"変換シート!E50","v":""},{"$f":"変換シート!F50","v":""},{"$f":"変換シート!G50","v":""},{"$f":"変換シート!H50","v":""},{"$f":"変換シート!I50","v":""},{"$f":"変換シート!J50","v":""},{"$f":"変換シート!K50","v":""},{"$f":"変換シート!L50","v":""},{"$f":"変換シート!M50","v":""},{"$f":"変換シート!N50","v":""},{"$f":"変換シート!O50","v":""},{"$f":"変換シート!P50","v":""},{"$f":"変換シート!Q50","v":""},{"$f":"変換シート!R50","v":""},{"$f":"変換シート!S50","v":""},{"$f":"変換シート!T50","v":""},{"$f":"変換シート!U50","v":""},{"$f":"変換シート!V50","v":""},{"$f":"変換シート!W50","v":""},{"$f":"変換シート!X50","v":""},{"$f":"変換シート!Y50","v":""},{"$f":"変換シート!Z50","v":""},{"$f":"変換シート!AA50","v":""},{"$f":"変換シート!AB50","v":""},{"$f":"変換シート!AC50","v":""},{"$f":"変換シート!AD50","v":""},{"$f":"変換シート!AE50","v":""},{"$f":"変換シート!AF50","v":""},{"$f":"変換シート!AG50","v":""},{"$f":"変換シート!AH50","v":""},{"$f":"変換シート!AI50","v":""},{"$f":"変換シート!AJ50","v":""},{"$f":"変換シート!AK50","v":""},{"$f":"変換シート!AL50","v":""},{"$f":"変換シート!AM50","v":""},{"$f":"変換シート!AN50","v":""},{"$f":"変換シート!AO50","v":""},{"$f":"変換シート!AP50","v":""},{"$f":"変換シート!AQ50","v":""},{"$f":"変換シート!AR50","v":""},{"$f":"変換シート!AS50","v":""},{"$f":"変換シート!AT50","v":""},{"$f":"変換シート!AU50","v":""},{"$f":"変換シート!AV50","v":""},{"$f":"変換シート!AW50","v":""},{"$f":"変換シート!AX50","v":""},{"$f":"変換シート!AY50","v":""},{"$f":"変換シート!AZ50","v":""},{"$f":"変換シート!BA50","v":""},{"$f":"変換シート!BB50","v":""},{"$f":"変換シート!BC50","v":""},{"$f":"変換シート!BD50","v":""},{"$f":"変換シート!BE50","v":""},{"$f":"変換シート!BF50","v":""},{"$f":"変換シート!BG50","v":""},{"$f":"変換シート!BH50","v":""},{"$f":"変換シート!BI50","v":""},{"$f":"変換シート!BJ50","v":""},{"$f":"変換シート!BK50","v":""},{"$f":"変換シート!BL50","v":""},{"$f":"変換シート!BM50","v":""},{"$f":"変換シート!BN50","v":""},{"$f":"変換シート!BO50","v":""},{"$f":"変換シート!BP50","v":""},{"$f":"変換シート!BQ50","v":""},{"$f":"変換シート!BR50","v":""},{"$f":"変換シート!BS50","v":""},{"$f":"変換シート!BT50","v":""},{"$f":"変換シート!BU50","v":""},{"$f":"変換シート!BV50","v":""},{"$f":"入力画面!DJ655&\"\"","v":""},{"$f":"入力画面!DK655&\"\"","v":""},{"$f":"入力画面!DL655&\"\"","v":""},{"$f":"入力画面!DM655&\"\"","v":""},{"$f":"入力画面!DN655&\"\"","v":""},{"$f":"入力画面!DO655&\"\"","v":""},"非公開"]
[47,null,null,"埼玉県 福祉部 地域包括ケア課",{"$f":"入力画面!B669&\"\"","v":""},{"$f":"入力画面!D669&\"\"","v":""},{"$f":"入力画面!E669&\"\"","v":""},{"$f":"入力画面!F669&\"\"","v":""},{"$f":"入力画面!G669&\"\"","v":""},{"$f":"入力画面!H669&\"\"","v":""},{"$f":"入力画面!I669&\"\"","v":""},{"$f":"入力画面!J669&\"\"","v":""},{"$f":"入力画面!K669&\"\"","v":""},{"$f":"入力画面!M669&\"\"","v":""},{"$f":"入力画面!N669&\"\"","v":""},{"$f":"入力画面!O669&\"\"","v":""},{"$f":"入力画面!P669&\"\"","v":""},{"$f":"入力画面!Q669&\"\"","v":""},{"$f":"入力画面!R669&\"\"","v":""},{"$f":"変換シート!BW51","v":""},{"$f":"変換シート!BX51","v":""},{"$f":"変換シート!BY51","v":""},{"$f":"変換シート!BZ51","v":""},{"$f":"変換シート!CA51","v":""},{"$f":"変換シート!CB51","v":""},{"$f":"変換シート!CC51","v":""},{"$f":"変換シート!CD51","v":""},{"$f":"入力画面!AY669&\"\"","v":""},{"$f":"入力画面!DI669&\"\"","v":""},{"$f":"変換シート!C51","v":""},{"$f":"変換シート!D51","v":""},{"$f":"変換シート!E51","v":""},{"$f":"変換シート!F51","v":""},{"$f":"変換シート!G51","v":""},{"$f":"変換シート!H51","v":""},{"$f":"変換シート!I51","v":""},{"$f":"変換シート!J51","v":""},{"$f":"変換シート!K51","v":""},{"$f":"変換シート!L51","v":""},{"$f":"変換シート!M51","v":""},{"$f":"変換シート!N51","v":""},{"$f":"変換シート!O51","v":""},{"$f":"変換シート!P51","v":""},{"$f":"変換シート!Q51","v":""},{"$f":"変換シート!R51","v":""},{"$f":"変換シート!S51","v":""},{"$f":"変換シート!T51","v":""},{"$f":"変換シート!U51","v":""},{"$f":"変換シート!V51","v":""},{"$f":"変換シート!W51","v":""},{"$f":"変換シート!X51","v":""},{"$f":"変換シート!Y51","v":""},{"$f":"変換シート!Z51","v":""},{"$f":"変換シート!AA51","v":""},{"$f":"変換シート!AB51","v":""},{"$f":"変換シート!AC51","v":""},{"$f":"変換シート!AD51","v":""},{"$f":"変換シート!AE51","v":""},{"$f":"変換シート!AF51","v":""},{"$f":"変換シート!AG51","v":""},{"$f":"変換シート!AH51","v":""},{"$f":"変換シート!AI51","v":""},{"$f":"変換シート!AJ51","v":""},{"$f":"変換シート!AK51","v":""},{"$f":"変換シート!AL51","v":""},{"$f":"変換シート!AM51","v":""},{"$f":"変換シート!AN51","v":""},{"$f":"変換シート!AO51","v":""},{"$f":"変換シート!AP51","v":""},{"$f":"変換シート!AQ51","v":""},{"$f":"変換シート!AR51","v":""},{"$f":"変換シート!AS51","v":""},{"$f":"変換シート!AT51","v":""},{"$f":"変換シート!AU51","v":""},{"$f":"変換シート!AV51","v":""},{"$f":"変換シート!AW51","v":""},{"$f":"変換シート!AX51","v":""},{"$f":"変換シート!AY51","v":""},{"$f":"変換シート!AZ51","v":""},{"$f":"変換シート!BA51","v":""},{"$f":"変換シート!BB51","v":""},{"$f":"変換シート!BC51","v":""},{"$f":"変換シート!BD51","v":""},{"$f":"変換シート!BE51","v":""},{"$f":"変換シート!BF51","v":""},{"$f":"変換シート!BG51","v":""},{"$f":"変換シート!BH51","v":""},{"$f":"変換シート!BI51","v":""},{"$f":"変換シート!BJ51","v":""},{"$f":"変換シート!BK51","v":""},{"$f":"変換シート!BL51","v":""},{"$f":"変換シート!BM51","v":""},{"$f":"変換シート!BN51","v":""},{"$f":"変換シート!BO51","v":""},{"$f":"変換シート!BP51","v":""},{"$f":"変換シート!BQ51","v":""},{"$f":"変換シート!BR51","v":""},{"$f":"変換シート!BS51","v":""},{"$f":"変換シート!BT51","v":""},{"$f":"変換シート!BU51","v":""},{"$f":"変換シート!BV51","v":""},{"$f":"入力画面!DJ669&\"\"","v":""},{"$f":"入力画面!DK669&\"\"","v":""},{"$f":"入力画面!DL669&\"\"","v":""},{"$f":"入力画面!DM669&\"\"","v":""},{"$f":"入力画面!DN669&\"\"","v":""},{"$f":"入力画面!DO669&\"\"","v":""},"非公開"]
[48,null,null,"埼玉県 福祉部 地域包括ケア課",{"$f":"入力画面!B683&\"\"","v":""},{"$f":"入力画面!D683&\"\"","v":""},{"$f":"入力画面!E683&\"\"","v":""},{"$f":"入力画面!F683&\"\"","v":""},{"$f":"入力画面!G683&\"\"","v":""},{"$f":"入力画面!H683&\"\"","v":""},{"$f":"入力画面!I683&\"\"","v":""},{"$f":"入力画面!J683&\"\"","v":""},{"$f":"入力画面!K683&\"\"","v":""},{"$f":"入力画面!M683&\"\"","v":""},{"$f":"入力画面!N683&\"\"","v":""},{"$f":"入力画面!O683&\"\"","v":""},{"$f":"入力画面!P683&\"\"","v":""},{"$f":"入力画面!Q683&\"\"","v":""},{"$f":"入力画面!R683&\"\"","v":""},{"$f":"変換シート!BW52","v":""},{"$f":"変換シート!BX52","v":""},{"$f":"変換シート!BY52","v":""},{"$f":"変換シート!BZ52","v":""},{"$f":"変換シート!CA52","v":""},{"$f":"変換シート!CB52","v":""},{"$f":"変換シート!CC52","v":""},{"$f":"変換シート!CD52","v":""},{"$f":"入力画面!AY683&\"\"","v":""},{"$f":"入力画面!DI683&\"\"","v":""},{"$f":"変換シート!C52","v":""},{"$f":"変換シート!D52","v":""},{"$f":"変換シート!E52","v":""},{"$f":"変換シート!F52","v":""},{"$f":"変換シート!G52","v":""},{"$f":"変換シート!H52","v":""},{"$f":"変換シート!I52","v":""},{"$f":"変換シート!J52","v":""},{"$f":"変換シート!K52","v":""},{"$f":"変換シート!L52","v":""},{"$f":"変換シート!M52","v":""},{"$f":"変換シート!N52","v":""},{"$f":"変換シート!O52","v":""},{"$f":"変換シート!P52","v":""},{"$f":"変換シート!Q52","v":""},{"$f":"変換シート!R52","v":""},{"$f":"変換シート!S52","v":""},{"$f":"変換シート!T52","v":""},{"$f":"変換シート!U52","v":""},{"$f":"変換シート!V52","v":""},{"$f":"変換シート!W52","v":""},{"$f":"変換シート!X52","v":""},{"$f":"変換シート!Y52","v":""},{"$f":"変換シート!Z52","v":""},{"$f":"変換シート!AA52","v":""},{"$f":"変換シート!AB52","v":""},{"$f":"変換シート!AC52","v":""},{"$f":"変換シート!AD52","v":""},{"$f":"変換シート!AE52","v":""},{"$f":"変換シート!AF52","v":""},{"$f":"変換シート!AG52","v":""},{"$f":"変換シート!AH52","v":""},{"$f":"変換シート!AI52","v":""},{"$f":"変換シート!AJ52","v":""},{"$f":"変換シート!AK52","v":""},{"$f":"変換シート!AL52","v":""},{"$f":"変換シート!AM52","v":""},{"$f":"変換シート!AN52","v":""},{"$f":"変換シート!AO52","v":""},{"$f":"変換シート!AP52","v":""},{"$f":"変換シート!AQ52","v":""},{"$f":"変換シート!AR52","v":""},{"$f":"変換シート!AS52","v":""},{"$f":"変換シート!AT52","v":""},{"$f":"変換シート!AU52","v":""},{"$f":"変換シート!AV52","v":""},{"$f":"変換シート!AW52","v":""},{"$f":"変換シート!AX52","v":""},{"$f":"変換シート!AY52","v":""},{"$f":"変換シート!AZ52","v":""},{"$f":"変換シート!BA52","v":""},{"$f":"変換シート!BB52","v":""},{"$f":"変換シート!BC52","v":""},{"$f":"変換シート!BD52","v":""},{"$f":"変換シート!BE52","v":""},{"$f":"変換シート!BF52","v":""},{"$f":"変換シート!BG52","v":""},{"$f":"変換シート!BH52","v":""},{"$f":"変換シート!BI52","v":""},{"$f":"変換シート!BJ52","v":""},{"$f":"変換シート!BK52","v":""},{"$f":"変換シート!BL52","v":""},{"$f":"変換シート!BM52","v":""},{"$f":"変換シート!BN52","v":""},{"$f":"変換シート!BO52","v":""},{"$f":"変換シート!BP52","v":""},{"$f":"変換シート!BQ52","v":""},{"$f":"変換シート!BR52","v":""},{"$f":"変換シート!BS52","v":""},{"$f":"変換シート!BT52","v":""},{"$f":"変換シート!BU52","v":""},{"$f":"変換シート!BV52","v":""},{"$f":"入力画面!DJ683&\"\"","v":""},{"$f":"入力画面!DK683&\"\"","v":""},{"$f":"入力画面!DL683&\"\"","v":""},{"$f":"入力画面!DM683&\"\"","v":""},{"$f":"入力画面!DN683&\"\"","v":""},{"$f":"入力画面!DO683&\"\"","v":""},"非公開"]
[49,null,null,"埼玉県 福祉部 地域包括ケア課",{"$f":"入力画面!B697&\"\"","v":""},{"$f":"入力画面!D697&\"\"","v":""},{"$f":"入力画面!E697&\"\"","v":""},{"$f":"入力画面!F697&\"\"","v":""},{"$f":"入力画面!G697&\"\"","v":""},{"$f":"入力画面!H697&\"\"","v":""},{"$f":"入力画面!I697&\"\"","v":""},{"$f":"入力画面!J697&\"\"","v":""},{"$f":"入力画面!K697&\"\"","v":""},{"$f":"入力画面!M697&\"\"","v":""},{"$f":"入力画面!N697&\"\"","v":""},{"$f":"入力画面!O697&\"\"","v":""},{"$f":"入力画面!P697&\"\"","v":""},{"$f":"入力画面!Q697&\"\"","v":""},{"$f":"入力画面!R697&\"\"","v":""},{"$f":"変換シート!BW53","v":""},{"$f":"変換シート!BX53","v":""},{"$f":"変換シート!BY53","v":""},{"$f":"変換シート!BZ53","v":""},{"$f":"変換シート!CA53","v":""},{"$f":"変換シート!CB53","v":""},{"$f":"変換シート!CC53","v":""},{"$f":"変換シート!CD53","v":""},{"$f":"入力画面!AY697&\"\"","v":""},{"$f":"入力画面!DI697&\"\"","v":""},{"$f":"変換シート!C53","v":""},{"$f":"変換シート!D53","v":""},{"$f":"変換シート!E53","v":""},{"$f":"変換シート!F53","v":""},{"$f":"変換シート!G53","v":""},{"$f":"変換シート!H53","v":""},{"$f":"変換シート!I53","v":""},{"$f":"変換シート!J53","v":""},{"$f":"変換シート!K53","v":""},{"$f":"変換シート!L53","v":""},{"$f":"変換シート!M53","v":""},{"$f":"変換シート!N53","v":""},{"$f":"変換シート!O53","v":""},{"$f":"変換シート!P53","v":""},{"$f":"変換シート!Q53","v":""},{"$f":"変換シート!R53","v":""},{"$f":"変換シート!S53","v":""},{"$f":"変換シート!T53","v":""},{"$f":"変換シート!U53","v":""},{"$f":"変換シート!V53","v":""},{"$f":"変換シート!W53","v":""},{"$f":"変換シート!X53","v":""},{"$f":"変換シート!Y53","v":""},{"$f":"変換シート!Z53","v":""},{"$f":"変換シート!AA53","v":""},{"$f":"変換シート!AB53","v":""},{"$f":"変換シート!AC53","v":""},{"$f":"変換シート!AD53","v":""},{"$f":"変換シート!AE53","v":""},{"$f":"変換シート!AF53","v":""},{"$f":"変換シート!AG53","v":""},{"$f":"変換シート!AH53","v":""},{"$f":"変換シート!AI53","v":""},{"$f":"変換シート!AJ53","v":""},{"$f":"変換シート!AK53","v":""},{"$f":"変換シート!AL53","v":""},{"$f":"変換シート!AM53","v":""},{"$f":"変換シート!AN53","v":""},{"$f":"変換シート!AO53","v":""},{"$f":"変換シート!AP53","v":""},{"$f":"変換シート!AQ53","v":""},{"$f":"変換シート!AR53","v":""},{"$f":"変換シート!AS53","v":""},{"$f":"変換シート!AT53","v":""},{"$f":"変換シート!AU53","v":""},{"$f":"変換シート!AV53","v":""},{"$f":"変換シート!AW53","v":""},{"$f":"変換シート!AX53","v":""},{"$f":"変換シート!AY53","v":""},{"$f":"変換シート!AZ53","v":""},{"$f":"変換シート!BA53","v":""},{"$f":"変換シート!BB53","v":""},{"$f":"変換シート!BC53","v":""},{"$f":"変換シート!BD53","v":""},{"$f":"変換シート!BE53","v":""},{"$f":"変換シート!BF53","v":""},{"$f":"変換シート!BG53","v":""},{"$f":"変換シート!BH53","v":""},{"$f":"変換シート!BI53","v":""},{"$f":"変換シート!BJ53","v":""},{"$f":"変換シート!BK53","v":""},{"$f":"変換シート!BL53","v":""},{"$f":"変換シート!BM53","v":""},{"$f":"変換シート!BN53","v":""},{"$f":"変換シート!BO53","v":""},{"$f":"変換シート!BP53","v":""},{"$f":"変換シート!BQ53","v":""},{"$f":"変換シート!BR53","v":""},{"$f":"変換シート!BS53","v":""},{"$f":"変換シート!BT53","v":""},{"$f":"変換シート!BU53","v":""},{"$f":"変換シート!BV53","v":""},{"$f":"入力画面!DJ697&\"\"","v":""},{"$f":"入力画面!DK697&\"\"","v":""},{"$f":"入力画面!DL697&\"\"","v":""},{"$f":"入力画面!DM697&\"\"","v":""},{"$f":"入力画面!DN697&\"\"","v":""},{"$f":"入力画面!DO697&\"\"","v":""},"非公開"]
[50,null,null,"埼玉県 福祉部 地域包括ケア課",{"$f":"入力画面!B711&\"\"","v":""},{"$f":"入力画面!D711&\"\"","v":""},{"$f":"入力画面!E711&\"\"","v":""},{"$f":"入力画面!F711&\"\"","v":""},{"$f":"入力画面!G711&\"\"","v":""},{"$f":"入力画面!H711&\"\"","v":""},{"$f":"入力画面!I711&\"\"","v":""},{"$f":"入力画面!J711&\"\"","v":""},{"$f":"入力画面!K711&\"\"","v":""},{"$f":"入力画面!M711&\"\"","v":""},{"$f":"入力画面!N711&\"\"","v":""},{"$f":"入力画面!O711&\"\"","v":""},{"$f":"入力画面!P711&\"\"","v":""},{"$f":"入力画面!Q711&\"\"","v":""},{"$f":"入力画面!R711&\"\"","v":""},{"$f":"変換シート!BW54","v":""},{"$f":"変換シート!BX54","v":""},{"$f":"変換シート!BY54","v":""},{"$f":"変換シート!BZ54","v":""},{"$f":"変換シート!CA54","v":""},{"$f":"変換シート!CB54","v":""},{"$f":"変換シート!CC54","v":""},{"$f":"変換シート!CD54","v":""},{"$f":"入力画面!AY711&\"\"","v":""},{"$f":"入力画面!DI711&\"\"","v":""},{"$f":"変換シート!C54","v":""},{"$f":"変換シート!D54","v":""},{"$f":"変換シート!E54","v":""},{"$f":"変換シート!F54","v":""},{"$f":"変換シート!G54","v":""},{"$f":"変換シート!H54","v":""},{"$f":"変換シート!I54","v":""},{"$f":"変換シート!J54","v":""},{"$f":"変換シート!K54","v":""},{"$f":"変換シート!L54","v":""},{"$f":"変換シート!M54","v":""},{"$f":"変換シート!N54","v":""},{"$f":"変換シート!O54","v":""},{"$f":"変換シート!P54","v":""},{"$f":"変換シート!Q54","v":""},{"$f":"変換シート!R54","v":""},{"$f":"変換シート!S54","v":""},{"$f":"変換シート!T54","v":""},{"$f":"変換シート!U54","v":""},{"$f":"変換シート!V54","v":""},{"$f":"変換シート!W54","v":""},{"$f":"変換シート!X54","v":""},{"$f":"変換シート!Y54","v":""},{"$f":"変換シート!Z54","v":""},{"$f":"変換シート!AA54","v":""},{"$f":"変換シート!AB54","v":""},{"$f":"変換シート!AC54","v":""},{"$f":"変換シート!AD54","v":""},{"$f":"変換シート!AE54","v":""},{"$f":"変換シート!AF54","v":""},{"$f":"変換シート!AG54","v":""},{"$f":"変換シート!AH54","v":""},{"$f":"変換シート!AI54","v":""},{"$f":"変換シート!AJ54","v":""},{"$f":"変換シート!AK54","v":""},{"$f":"変換シート!AL54","v":""},{"$f":"変換シート!AM54","v":""},{"$f":"変換シート!AN54","v":""},{"$f":"変換シート!AO54","v":""},{"$f":"変換シート!AP54","v":""},{"$f":"変換シート!AQ54","v":""},{"$f":"変換シート!AR54","v":""},{"$f":"変換シート!AS54","v":""},{"$f":"変換シート!AT54","v":""},{"$f":"変換シート!AU54","v":""},{"$f":"変換シート!AV54","v":""},{"$f":"変換シート!AW54","v":""},{"$f":"変換シート!AX54","v":""},{"$f":"変換シート!AY54","v":""},{"$f":"変換シート!AZ54","v":""},{"$f":"変換シート!BA54","v":""},{"$f":"変換シート!BB54","v":""},{"$f":"変換シート!BC54","v":""},{"$f":"変換シート!BD54","v":""},{"$f":"変換シート!BE54","v":""},{"$f":"変換シート!BF54","v":""},{"$f":"変換シート!BG54","v":""},{"$f":"変換シート!BH54","v":""},{"$f":"変換シート!BI54","v":""},{"$f":"変換シート!BJ54","v":""},{"$f":"変換シート!BK54","v":""},{"$f":"変換シート!BL54","v":""},{"$f":"変換シート!BM54","v":""},{"$f":"変換シート!BN54","v":""},{"$f":"変換シート!BO54","v":""},{"$f":"変換シート!BP54","v":""},{"$f":"変換シート!BQ54","v":""},{"$f":"変換シート!BR54","v":""},{"$f":"変換シート!BS54","v":""},{"$f":"変換シート!BT54","v":""},{"$f":"変換シート!BU54","v":""},{"$f":"変換シート!BV54","v":""},{"$f":"入力画面!DJ711&\"\"","v":""},{"$f":"入力画面!DK711&\"\"","v":""},{"$f":"入力画面!DL711&\"\"","v":""},{"$f":"入力画面!DM711&\"\"","v":""},{"$f":"入力画面!DN711&\"\"","v":""},{"$f":"入力画面!DO711&\"\"","v":""},"非公開"]

{"sheet":"③アプリ一括登録様式 (値)","index":3,"n_rows":52,"n_cols":108,"rows_kept":52,"cut":false,"hidden":true,"merged":[]}
[null,"レコード番号","管理番号","情報提供元 県、市町村、社協　名称","法人名・屋号・氏名","会社　郵便番号","会社　住所","会社　電話番号","会社　FAX番号","会社　メールアドレス","会社　ホームページ","担当部署・担当者名","店舗名・サービス名","問合せ電話番号","問合せFAX番号","メールアドレス","ホームページ","店舗名","住所","サービスカテゴリ[買物]","サービスカテゴリ[宅配・デリバリー]","サービスカテゴリ[送迎サービス]","サービスカテゴリ[出張サービス]","サービスカテゴリ[運動・たまり場（憩いの場）]","サービスカテゴリ[設備・施設・場所貸し]","サービスカテゴリ[学び・趣味]","サービスカテゴリ[生活サービス]","サービスカテゴリ詳細","サービス内容","サービス提供エリア[上尾市]","サービス提供エリア[朝霞市]","サービス提供エリア[伊奈町]","サービス提供エリア[入間市]","サービス提供エリア[小鹿野町]","サービス提供エリア[小川町]","サービス提供エリア[桶川市]","サービス提供エリア[越生町]","サービス提供エリア[春日部市]","サービス提供エリア[加須市]","サービス提供エリア[神川町]","サービス提供エリア[上里町]","サービス提供エリア[川口市]","サービス提供エリア[川越市]","サービス提供エリア[川島町]","サービス提供エリア[北本市]","サービス提供エリア[行田市]","サービス提供エリア[久喜市]","サービス提供エリア[熊谷市]","サービス提供エリア[鴻巣市]","サービス提供エリア[越谷市]","サービス提供エリア[さいたま市岩槻区]","サービス提供エリア[さいたま市浦和区]","サービス提供エリア[さいたま市大宮区]","サービス提供エリア[さいたま市北区]","サービス提供エリア[さいたま市桜区]","サービス提供エリア[さいたま市中央区]","サービス提供エリア[さいたま市西区]","サービス提供エリア[さいたま市緑区]","サービス提供エリア[さいたま市南区]","サービス提供エリア[さいたま市見沼区]","サービス提供エリア[坂戸市]","サービス提供エリア[幸手市]","サービス提供エリア[狭山市]","サービス提供エリア[志木市]","サービス提供エリア[白岡市]","サービス提供エリア[杉戸町]","サービス提供エリア[草加市]","サービス提供エリア[秩父市]","サービス提供エリア[鶴ヶ島市]","サービス提供エリア[ときがわ町]","サービス提供エリア[所沢市]","サービス提供エリア[戸田市]","サービス提供エリア[長瀞町]","サービス提供エリア[滑川町]","サービス提供エリア[新座市]","サービス提供エリア[蓮田市]","サービス提供エリア[鳩山町]","サービス提供エリア[羽生市]","サービス提供エリア[飯能市]","サービス提供エリア[東秩父村]","サービス提供エリア[東松山市]","サービス提供エリア[日高市]","サービス提供エリア[深谷市]","サービス提供エリア[富士見市]","サービス提供エリア[ふじみ野市]","サービス提供エリア[本庄市]","サービス提供エリア[松伏町]","サービス提供エリア[三郷市]","サービス提供エリア[美里町]","サービス提供エリア[皆野町]","サービス提供エリア[宮代町]","サービス提供エリア[三芳町]","サービス提供エリア[毛呂山町]","サービス提供エリア[八潮市]","サービス提供エリア[横瀬町]","サービス提供エリア[吉川市]","サービス提供エリア[吉見町]","サービス提供エリア[寄居町]","サービス提供エリア[嵐山町]","サービス提供エリア[和光市]","サービス提供エリア[蕨市]","費用","営業時間・定休日","利用方法","PR","サービス内容詳細","備考","公開／非公開"]
["例",null,null,"埼玉県 福祉部 地域包括ケア課",{"$f":"入力画面!B11&\"\"","v":"埼玉県地域包括ケア株式会社\n"},{"$f":"入力画面!D11&\"\"","v":"330-0000"},{"$f":"入力画面!E11&\"\"","v":"埼玉県さいたま市浦和区高砂3-15-1\n"},{"$f":"入力画面!F11&\"\"","v":"048-000-0000"},{"$f":"入力画面!G11&\"\"","v":"048-000-0000"},{"$f":"入力画面!H11&\"\"","v":"saitama@○○○○.jp\n"},{"$f":"入力画面!I11&\"\"","v":"https://www.○○○\n"},{"$f":"入力画面!J11&\"\"","v":"○○部　××課　主任　埼玉花子"},{"$f":"入力画面!K11&\"\"","v":"スーパー埼玉　高砂店"},{"$f":"入力画面!M11&\"\"","v":"048-000-0000"},{"$f":"入力画面!N11&\"\"","v":"048-000-0000"},{"$f":"入力画面!O11&\"\"","v":"saitama@○○○○.jp"},{"$f":"入力画面!P11&\"\"","v":""},{"$f":"入力画面!Q11&\"\"","v":"スーパー埼玉　高砂店"},{"$f":"入力画面!R11","v":"埼玉県,さいたま市浦和区,高砂三丁目15番1号"},{"$f":"変換シート!BW4","v":1},{"$f":"変換シート!BX4","v":1},{"$f":"変換シート!BY4","v":1},{"$f":"変換シート!BZ4","v":1},{"$f":"変換シート!CA4","v":1},{"$f":"変換シート!CB4","v":1},{"$f":"変換シート!CC4","v":1},{"$f":"変換シート!CD4","v":1},{"$f":"入力画面!AY11&\"\"","v":"配送／移動販売／食材宅配／クリーニング／理容・美容（送迎）／家事代行・掃除・片付け／屋外作業・力仕事／カフェ・ファーストフード／イートインスペース／車イス対応（バリアフリー）／多目的トイレ／休憩スペース／講座・教室・イベント／パソコン・スマホ教室／防犯・見守り／認知症サポート企業／成年後見・相続"},{"$f":"入力画面!DI11","v":"例）お買い上げいただいた商品をご自宅まで配送いたします。"},{"$f":"変換シート!C4","v":1},{"$f":"変換シート!D4","v":1},{"$f":"変換シート!E4","v":""},{"$f":"変換シート!F4","v":""},{"$f":"変換シート!G4","v":""},{"$f":"変換シート!H4","v":""},{"$f":"変換シート!I4","v":""},{"$f":"変換シート!J4","v":""},{"$f":"変換シート!K4","v":1},{"$f":"変換シート!L4","v":""},{"$f":"変換シート!M4","v":""},{"$f":"変換シート!N4","v":""},{"$f":"変換シート!O4","v":1},{"$f":"変換シート!P4","v":1},{"$f":"変換シート!Q4","v":""},{"$f":"変換シート!R4","v":1},{"$f":"変換シート!S4","v":1},{"$f":"変換シート!T4","v":""},{"$f":"変換シート!U4","v":1},{"$f":"変換シート!V4","v":""},{"$f":"変換シート!W4","v":""},{"$f":"変換シート!X4","v":""},{"$f":"変換シート!Y4","v":1},{"$f":"変換シート!Z4","v":1},{"$f":"変換シート!AA4","v":""},{"$f":"変換シート!AB4","v":""},{"$f":"変換シート!AC4","v":1},{"$f":"変換シート!AD4","v":1},{"$f":"変換シート!AE4","v":""},{"$f":"変換シート!AF4","v":""},{"$f":"変換シート!AG4","v":""},{"$f":"変換シート!AH4","v":""},{"$f":"変換シート!AI4","v":""},{"$f":"変換シート!AJ4","v":1},{"$f":"変換シート!AK4","v":""},{"$f":"変換シート!AL4","v":1},{"$f":"変換シート!AM4","v":""},{"$f":"変換シート!AN4","v":1},{"$f":"変換シート!AO4","v":1},{"$f":"変換シート!AP4","v":""},{"$f":"変換シート!AQ4","v":""},{"$f":"変換シート!AR4","v":1},{"$f":"変換シート!AS4","v":""},{"$f":"変換シート!AT4","v":""},{"$f":"変換シート!AU4","v":""},{"$f":"変換シート!AV4","v":""},{"$f":"変換シート!AW4","v":1},{"$f":"変換シート!AX4","v":""},{"$f":"変換シート!AY4","v":""},{"$f":"変換シート!AZ4","v":""},{"$f":"変換シート!BA4","v":""},{"$f":"変換シート!BB4","v":""},{"$f":"変換シート!BC4","v":""},{"$f":"変換シート!BD4","v":""},{"$f":"変換シート!BE4","v":1},{"$f":"変換シート!BF4","v":""},{"$f":"変換シート!BG4","v":""},{"$f":"変換シート!BH4","v":""},{"$f":"変換シート!BI4","v":""},{"$f":"変換シート!BJ4","v":""},{"$f":"変換シート!BK4","v":""},{"$f":"変換シート!BL4","v":""},{"$f":"変換シート!BM4","v":""},{"$f":"変換シート!BN4","v":""},{"$f":"変換シート!BO4","v":""},{"$f":"変換シート!BP4","v":""},{"$f":"変換シート!BQ4","v":""},{"$f":"変換シート!BR4","v":""},{"$f":"変換シート!BS4","v":""},{"$f":"変換シート!BT4","v":""},{"$f":"変換シート!BU4","v":""},{"$f":"変換シート!BV4","v":""},{"$f":"入力画面!DJ11&\"\"","v":"例）お買い上げ3,000円（税込）以上の場合は配送料無料\n\n※　無償の場合は、\n「上記の内容に関しては無償」などご記入ください。"},{"$f":"入力画面!DK11&\"\"","v":"例）9時～18時　\n無給\n※出張は第〇水曜日　〇時～〇時のみ\n"},{"$f":"入力画面!DL11&\"\"","v":"例）事前に電話連絡でお知らせください。\n\n例）詳しくはお問合せください。"},{"$f":"入力画面!DM11&\"\"","v":"例）多目的トイレや休憩スペースもございます。ぜひ、ご来店ください。\n"},{"$f":"入力画面!DN11&\"\"","v":""},{"$f":"入力画面!DO11&\"\"","v":"例）〇〇市　△△地域のみ宅配可能です。"},"非公開"]
[1,null,null,"埼玉県 福祉部 地域包括ケア課",{"$f":"入力画面!B25&\"\"","v":""},{"$f":"入力画面!D25&\"\"","v":""},{"$f":"入力画面!E25&\"\"","v":""},{"$f":"入力画面!F25&\"\"","v":""},{"$f":"入力画面!G25&\"\"","v":""},{"$f":"入力画面!H25&\"\"","v":""},{"$f":"入力画面!I25&\"\"","v":""},{"$f":"入力画面!J25&\"\"","v":""},{"$f":"入力画面!K25&\"\"","v":""},{"$f":"入力画面!M25&\"\"","v":""},{"$f":"入力画面!N25&\"\"","v":""},{"$f":"入力画面!O25&\"\"","v":""},{"$f":"入力画面!P25&\"\"","v":""},{"$f":"入力画面!Q25&\"\"","v":""},{"$f":"入力画面!R25&\"\"","v":""},{"$f":"変換シート!BW5","v":""},{"$f":"変換シート!BX5","v":""},{"$f":"変換シート!BY5","v":""},{"$f":"変換シート!BZ5","v":""},{"$f":"変換シート!CA5","v":""},{"$f":"変換シート!CB5","v":""},{"$f":"変換シート!CC5","v":""},{"$f":"変換シート!CD5","v":""},{"$f":"入力画面!AY25&\"\"","v":""},{"$f":"入力画面!DI25","v":0},{"$f":"変換シート!C5","v":""},{"$f":"変換シート!D5","v":""},{"$f":"変換シート!E5","v":""},{"$f":"変換シート!F5","v":""},{"$f":"変換シート!G5","v":""},{"$f":"変換シート!H5","v":""},{"$f":"変換シート!I5","v":""},{"$f":"変換シート!J5","v":""},{"$f":"変換シート!K5","v":""},{"$f":"変換シート!L5","v":""},{"$f":"変換シート!M5","v":""},{"$f":"変換シート!N5","v":""},{"$f":"変換シート!O5","v":""},{"$f":"変換シート!P5","v":""},{"$f":"変換シート!Q5","v":""},{"$f":"変換シート!R5","v":""},{"$f":"変換シート!S5","v":""},{"$f":"変換シート!T5","v":""},{"$f":"変換シート!U5","v":""},{"$f":"変換シート!V5","v":""},{"$f":"変換シート!W5","v":""},{"$f":"変換シート!X5","v":""},{"$f":"変換シート!Y5","v":""},{"$f":"変換シート!Z5","v":""},{"$f":"変換シート!AA5","v":""},{"$f":"変換シート!AB5","v":""},{"$f":"変換シート!AC5","v":""},{"$f":"変換シート!AD5","v":""},{"$f":"変換シート!AE5","v":""},{"$f":"変換シート!AF5","v":""},{"$f":"変換シート!AG5","v":""},{"$f":"変換シート!AH5","v":""},{"$f":"変換シート!AI5","v":""},{"$f":"変換シート!AJ5","v":""},{"$f":"変換シート!AK5","v":""},{"$f":"変換シート!AL5","v":""},{"$f":"変換シート!AM5","v":""},{"$f":"変換シート!AN5","v":""},{"$f":"変換シート!AO5","v":""},{"$f":"変換シート!AP5","v":""},{"$f":"変換シート!AQ5","v":""},{"$f":"変換シート!AR5","v":""},{"$f":"変換シート!AS5","v":""},{"$f":"変換シート!AT5","v":""},{"$f":"変換シート!AU5","v":""},{"$f":"変換シート!AV5","v":""},{"$f":"変換シート!AW5","v":""},{"$f":"変換シート!AX5","v":""},{"$f":"変換シート!AY5","v":""},{"$f":"変換シート!AZ5","v":""},{"$f":"変換シート!BA5","v":""},{"$f":"変換シート!BB5","v":""},{"$f":"変換シート!BC5","v":""},{"$f":"変換シート!BD5","v":""},{"$f":"変換シート!BE5","v":""},{"$f":"変換シート!BF5","v":""},{"$f":"変換シート!BG5","v":""},{"$f":"変換シート!BH5","v":""},{"$f":"変換シート!BI5","v":""},{"$f":"変換シート!BJ5","v":""},{"$f":"変換シート!BK5","v":""},{"$f":"変換シート!BL5","v":""},{"$f":"変換シート!BM5","v":""},{"$f":"変換シート!BN5","v":""},{"$f":"変換シート!BO5","v":""},{"$f":"変換シート!BP5","v":""},{"$f":"変換シート!BQ5","v":""},{"$f":"変換シート!BR5","v":""},{"$f":"変換シート!BS5","v":""},{"$f":"変換シート!BT5","v":""},{"$f":"変換シート!BU5","v":""},{"$f":"変換シート!BV5","v":""},{"$f":"入力画面!DJ25&\"\"","v":""},{"$f":"入力画面!DK25&\"\"","v":""},{"$f":"入力画面!DL25&\"\"","v":""},{"$f":"入力画面!DM25&\"\"","v":""},{"$f":"入力画面!DN25&\"\"","v":""},{"$f":"入力画面!DO25&\"\"","v":""},"非公開"]
[2,null,null,"埼玉県 福祉部 地域包括ケア課",{"$f":"入力画面!B39&\"\"","v":""},{"$f":"入力画面!D39&\"\"","v":""},{"$f":"入力画面!E39&\"\"","v":""},{"$f":"入力画面!F39&\"\"","v":""},{"$f":"入力画面!G39&\"\"","v":""},{"$f":"入力画面!H39&\"\"","v":""},{"$f":"入力画面!I39&\"\"","v":""},{"$f":"入力画面!J39&\"\"","v":""},{"$f":"入力画面!K39&\"\"","v":""},{"$f":"入力画面!M39&\"\"","v":""},{"$f":"入力画面!N39&\"\"","v":""},{"$f":"入力画面!O39&\"\"","v":""},{"$f":"入力画面!P39&\"\"","v":""},{"$f":"入力画面!Q39&\"\"","v":""},{"$f":"入力画面!R39&\"\"","v":""},{"$f":"変換シート!BW6","v":""},{"$f":"変換シート!BX6","v":""},{"$f":"変換シート!BY6","v":""},{"$f":"変換シート!BZ6","v":""},{"$f":"変換シート!CA6","v":""},{"$f":"変換シート!CB6","v":""},{"$f":"変換シート!CC6","v":""},{"$f":"変換シート!CD6","v":""},{"$f":"入力画面!AY39&\"\"","v":""},{"$f":"入力画面!DI39","v":0},{"$f":"変換シート!C6","v":""},{"$f":"変換シート!D6","v":""},{"$f":"変換シート!E6","v":""},{"$f":"変換シート!F6","v":""},{"$f":"変換シート!G6","v":""},{"$f":"変換シート!H6","v":""},{"$f":"変換シート!I6","v":""},{"$f":"変換シート!J6","v":""},{"$f":"変換シート!K6","v":""},{"$f":"変換シート!L6","v":""},{"$f":"変換シート!M6","v":""},{"$f":"変換シート!N6","v":""},{"$f":"変換シート!O6","v":""},{"$f":"変換シート!P6","v":""},{"$f":"変換シート!Q6","v":""},{"$f":"変換シート!R6","v":""},{"$f":"変換シート!S6","v":""},{"$f":"変換シート!T6","v":""},{"$f":"変換シート!U6","v":""},{"$f":"変換シート!V6","v":""},{"$f":"変換シート!W6","v":""},{"$f":"変換シート!X6","v":""},{"$f":"変換シート!Y6","v":""},{"$f":"変換シート!Z6","v":""},{"$f":"変換シート!AA6","v":""},{"$f":"変換シート!AB6","v":""},{"$f":"変換シート!AC6","v":""},{"$f":"変換シート!AD6","v":""},{"$f":"変換シート!AE6","v":""},{"$f":"変換シート!AF6","v":""},{"$f":"変換シート!AG6","v":""},{"$f":"変換シート!AH6","v":""},{"$f":"変換シート!AI6","v":""},{"$f":"変換シート!AJ6","v":""},{"$f":"変換シート!AK6","v":""},{"$f":"変換シート!AL6","v":""},{"$f":"変換シート!AM6","v":""},{"$f":"変換シート!AN6","v":""},{"$f":"変換シート!AO6","v":""},{"$f":"変換シート!AP6","v":""},{"$f":"変換シート!AQ6","v":""},{"$f":"変換シート!AR6","v":""},{"$f":"変換シート!AS6","v":""},{"$f":"変換シート!AT6","v":""},{"$f":"変換シート!AU6","v":""},{"$f":"変換シート!AV6","v":""},{"$f":"変換シート!AW6","v":""},{"$f":"変換シート!AX6","v":""},{"$f":"変換シート!AY6","v":""},{"$f":"変換シート!AZ6","v":""},{"$f":"変換シート!BA6","v":""},{"$f":"変換シート!BB6","v":""},{"$f":"変換シート!BC6","v":""},{"$f":"変換シート!BD6","v":""},{"$f":"変換シート!BE6","v":""},{"$f":"変換シート!BF6","v":""},{"$f":"変換シート!BG6","v":""},{"$f":"変換シート!BH6","v":""},{"$f":"変換シート!BI6","v":""},{"$f":"変換シート!BJ6","v":""},{"$f":"変換シート!BK6","v":""},{"$f":"変換シート!BL6","v":""},{"$f":"変換シート!BM6","v":""},{"$f":"変換シート!BN6","v":""},{"$f":"変換シート!BO6","v":""},{"$f":"変換シート!BP6","v":""},{"$f":"変換シート!BQ6","v":""},{"$f":"変換シート!BR6","v":""},{"$f":"変換シート!BS6","v":""},{"$f":"変換シート!BT6","v":""},{"$f":"変換シート!BU6","v":""},{"$f":"変換シート!BV6","v":""},{"$f":"入力画面!DJ39&\"\"","v":""},{"$f":"入力画面!DK39&\"\"","v":""},{"$f":"入力画面!DL39&\"\"","v":""},{"$f":"入力画面!DM39&\"\"","v":""},{"$f":"入力画面!DN39&\"\"","v":""},{"$f":"入力画面!DO39&\"\"","v":""},"非公開"]
[3,null,null,"埼玉県 福祉部 地域包括ケア課",{"$f":"入力画面!B53&\"\"","v":""},{"$f":"入力画面!D53&\"\"","v":""},{"$f":"入力画面!E53&\"\"","v":""},{"$f":"入力画面!F53&\"\"","v":""},{"$f":"入力画面!G53&\"\"","v":""},{"$f":"入力画面!H53&\"\"","v":""},{"$f":"入力画面!I53&\"\"","v":""},{"$f":"入力画面!J53&\"\"","v":""},{"$f":"入力画面!K53&\"\"","v":""},{"$f":"入力画面!M53&\"\"","v":""},{"$f":"入力画面!N53&\"\"","v":""},{"$f":"入力画面!O53&\"\"","v":""},{"$f":"入力画面!P53&\"\"","v":""},{"$f":"入力画面!Q53&\"\"","v":""},{"$f":"入力画面!R53&\"\"","v":""},{"$f":"変換シート!BW7","v":""},{"$f":"変換シート!BX7","v":""},{"$f":"変換シート!BY7","v":""},{"$f":"変換シート!BZ7","v":""},{"$f":"変換シート!CA7","v":""},{"$f":"変換シート!CB7","v":""},{"$f":"変換シート!CC7","v":""},{"$f":"変換シート!CD7","v":""},{"$f":"入力画面!AY53&\"\"","v":""},{"$f":"入力画面!DI53","v":0},{"$f":"変換シート!C7","v":""},{"$f":"変換シート!D7","v":""},{"$f":"変換シート!E7","v":""},{"$f":"変換シート!F7","v":""},{"$f":"変換シート!G7","v":""},{"$f":"変換シート!H7","v":""},{"$f":"変換シート!I7","v":""},{"$f":"変換シート!J7","v":""},{"$f":"変換シート!K7","v":""},{"$f":"変換シート!L7","v":""},{"$f":"変換シート!M7","v":""},{"$f":"変換シート!N7","v":""},{"$f":"変換シート!O7","v":""},{"$f":"変換シート!P7","v":""},{"$f":"変換シート!Q7","v":""},{"$f":"変換シート!R7","v":""},{"$f":"変換シート!S7","v":""},{"$f":"変換シート!T7","v":""},{"$f":"変換シート!U7","v":""},{"$f":"変換シート!V7","v":""},{"$f":"変換シート!W7","v":""},{"$f":"変換シート!X7","v":""},{"$f":"変換シート!Y7","v":""},{"$f":"変換シート!Z7","v":""},{"$f":"変換シート!AA7","v":""},{"$f":"変換シート!AB7","v":""},{"$f":"変換シート!AC7","v":""},{"$f":"変換シート!AD7","v":""},{"$f":"変換シート!AE7","v":""},{"$f":"変換シート!AF7","v":""},{"$f":"変換シート!AG7","v":""},{"$f":"変換シート!AH7","v":""},{"$f":"変換シート!AI7","v":""},{"$f":"変換シート!AJ7","v":""},{"$f":"変換シート!AK7","v":""},{"$f":"変換シート!AL7","v":""},{"$f":"変換シート!AM7","v":""},{"$f":"変換シート!AN7","v":""},{"$f":"変換シート!AO7","v":""},{"$f":"変換シート!AP7","v":""},{"$f":"変換シート!AQ7","v":""},{"$f":"変換シート!AR7","v":""},{"$f":"変換シート!AS7","v":""},{"$f":"変換シート!AT7","v":""},{"$f":"変換シート!AU7","v":""},{"$f":"変換シート!AV7","v":""},{"$f":"変換シート!AW7","v":""},{"$f":"変換シート!AX7","v":""},{"$f":"変換シート!AY7","v":""},{"$f":"変換シート!AZ7","v":""},{"$f":"変換シート!BA7","v":""},{"$f":"変換シート!BB7","v":""},{"$f":"変換シート!BC7","v":""},{"$f":"変換シート!BD7","v":""},{"$f":"変換シート!BE7","v":""},{"$f":"変換シート!BF7","v":""},{"$f":"変換シート!BG7","v":""},{"$f":"変換シート!BH7","v":""},{"$f":"変換シート!BI7","v":""},{"$f":"変換シート!BJ7","v":""},{"$f":"変換シート!BK7","v":""},{"$f":"変換シート!BL7","v":""},{"$f":"変換シート!BM7","v":""},{"$f":"変換シート!BN7","v":""},{"$f":"変換シート!BO7","v":""},{"$f":"変換シート!BP7","v":""},{"$f":"変換シート!BQ7","v":""},{"$f":"変換シート!BR7","v":""},{"$f":"変換シート!BS7","v":""},{"$f":"変換シート!BT7","v":""},{"$f":"変換シート!BU7","v":""},{"$f":"変換シート!BV7","v":""},{"$f":"入力画面!DJ53&\"\"","v":""},{"$f":"入力画面!DK53&\"\"","v":""},{"$f":"入力画面!DL53&\"\"","v":""},{"$f":"入力画面!DM53&\"\"","v":""},{"$f":"入力画面!DN53&\"\"","v":""},{"$f":"入力画面!DO53&\"\"","v":""},"非公開"]
[4,null,null,"埼玉県 福祉部 地域包括ケア課",{"$f":"入力画面!B67&\"\"","v":""},{"$f":"入力画面!D67&\"\"","v":""},{"$f":"入力画面!E67&\"\"","v":""},{"$f":"入力画面!F67&\"\"","v":""},{"$f":"入力画面!G67&\"\"","v":""},{"$f":"入力画面!H67&\"\"","v":""},{"$f":"入力画面!I67&\"\"","v":""},{"$f":"入力画面!J67&\"\"","v":""},{"$f":"入力画面!K67&\"\"","v":""},{"$f":"入力画面!M67&\"\"","v":""},{"$f":"入力画面!N67&\"\"","v":""},{"$f":"入力画面!O67&\"\"","v":""},{"$f":"入力画面!P67&\"\"","v":""},{"$f":"入力画面!Q67&\"\"","v":""},{"$f":"入力画面!R67&\"\"","v":""},{"$f":"変換シート!BW8","v":""},{"$f":"変換シート!BX8","v":""},{"$f":"変換シート!BY8","v":""},{"$f":"変換シート!BZ8","v":""},{"$f":"変換シート!CA8","v":""},{"$f":"変換シート!CB8","v":""},{"$f":"変換シート!CC8","v":""},{"$f":"変換シート!CD8","v":""},{"$f":"入力画面!AY67&\"\"","v":""},{"$f":"入力画面!DI67","v":0},{"$f":"変換シート!C8","v":""},{"$f":"変換シート!D8","v":""},{"$f":"変換シート!E8","v":""},{"$f":"変換シート!F8","v":""},{"$f":"変換シート!G8","v":""},{"$f":"変換シート!H8","v":""},{"$f":"変換シート!I8","v":""},{"$f":"変換シート!J8","v":""},{"$f":"変換シート!K8","v":""},{"$f":"変換シート!L8","v":""},{"$f":"変換シート!M8","v":""},{"$f":"変換シート!N8","v":""},{"$f":"変換シート!O8","v":""},{"$f":"変換シート!P8","v":""},{"$f":"変換シート!Q8","v":""},{"$f":"変換シート!R8","v":""},{"$f":"変換シート!S8","v":""},{"$f":"変換シート!T8","v":""},{"$f":"変換シート!U8","v":""},{"$f":"変換シート!V8","v":""},{"$f":"変換シート!W8","v":""},{"$f":"変換シート!X8","v":""},{"$f":"変換シート!Y8","v":""},{"$f":"変換シート!Z8","v":""},{"$f":"変換シート!AA8","v":""},{"$f":"変換シート!AB8","v":""},{"$f":"変換シート!AC8","v":""},{"$f":"変換シート!AD8","v":""},{"$f":"変換シート!AE8","v":""},{"$f":"変換シート!AF8","v":""},{"$f":"変換シート!AG8","v":""},{"$f":"変換シート!AH8","v":""},{"$f":"変換シート!AI8","v":""},{"$f":"変換シート!AJ8","v":""},{"$f":"変換シート!AK8","v":""},{"$f":"変換シート!AL8","v":""},{"$f":"変換シート!AM8","v":""},{"$f":"変換シート!AN8","v":""},{"$f":"変換シート!AO8","v":""},{"$f":"変換シート!AP8","v":""},{"$f":"変換シート!AQ8","v":""},{"$f":"変換シート!AR8","v":""},{"$f":"変換シート!AS8","v":""},{"$f":"変換シート!AT8","v":""},{"$f":"変換シート!AU8","v":""},{"$f":"変換シート!AV8","v":""},{"$f":"変換シート!AW8","v":""},{"$f":"変換シート!AX8","v":""},{"$f":"変換シート!AY8","v":""},{"$f":"変換シート!AZ8","v":""},{"$f":"変換シート!BA8","v":""},{"$f":"変換シート!BB8","v":""},{"$f":"変換シート!BC8","v":""},{"$f":"変換シート!BD8","v":""},{"$f":"変換シート!BE8","v":""},{"$f":"変換シート!BF8","v":""},{"$f":"変換シート!BG8","v":""},{"$f":"変換シート!BH8","v":""},{"$f":"変換シート!BI8","v":""},{"$f":"変換シート!BJ8","v":""},{"$f":"変換シート!BK8","v":""},{"$f":"変換シート!BL8","v":""},{"$f":"変換シート!BM8","v":""},{"$f":"変換シート!BN8","v":""},{"$f":"変換シート!BO8","v":""},{"$f":"変換シート!BP8","v":""},{"$f":"変換シート!BQ8","v":""},{"$f":"変換シート!BR8","v":""},{"$f":"変換シート!BS8","v":""},{"$f":"変換シート!BT8","v":""},{"$f":"変換シート!BU8","v":""},{"$f":"変換シート!BV8","v":""},{"$f":"入力画面!DJ67&\"\"","v":""},{"$f":"入力画面!DK67&\"\"","v":""},{"$f":"入力画面!DL67&\"\"","v":""},{"$f":"入力画面!DM67&\"\"","v":""},{"$f":"入力画面!DN67&\"\"","v":""},{"$f":"入力画面!DO67&\"\"","v":""},"非公開"]
[5,null,null,"埼玉県 福祉部 地域包括ケア課",{"$f":"入力画面!B81&\"\"","v":""},{"$f":"入力画面!D81&\"\"","v":""},{"$f":"入力画面!E81&\"\"","v":""},{"$f":"入力画面!F81&\"\"","v":""},{"$f":"入力画面!G81&\"\"","v":""},{"$f":"入力画面!H81&\"\"","v":""},{"$f":"入力画面!I81&\"\"","v":""},{"$f":"入力画面!J81&\"\"","v":""},{"$f":"入力画面!K81&\"\"","v":""},{"$f":"入力画面!M81&\"\"","v":""},{"$f":"入力画面!N81&\"\"","v":""},{"$f":"入力画面!O81&\"\"","v":""},{"$f":"入力画面!P81&\"\"","v":""},{"$f":"入力画面!Q81&\"\"","v":""},{"$f":"入力画面!R81&\"\"","v":""},{"$f":"変換シート!BW9","v":""},{"$f":"変換シート!BX9","v":""},{"$f":"変換シート!BY9","v":""},{"$f":"変換シート!BZ9","v":""},{"$f":"変換シート!CA9","v":""},{"$f":"変換シート!CB9","v":""},{"$f":"変換シート!CC9","v":""},{"$f":"変換シート!CD9","v":""},{"$f":"入力画面!AY81&\"\"","v":""},{"$f":"入力画面!DI81","v":0},{"$f":"変換シート!C9","v":""},{"$f":"変換シート!D9","v":""},{"$f":"変換シート!E9","v":""},{"$f":"変換シート!F9","v":""},{"$f":"変換シート!G9","v":""},{"$f":"変換シート!H9","v":""},{"$f":"変換シート!I9","v":""},{"$f":"変換シート!J9","v":""},{"$f":"変換シート!K9","v":""},{"$f":"変換シート!L9","v":""},{"$f":"変換シート!M9","v":""},{"$f":"変換シート!N9","v":""},{"$f":"変換シート!O9","v":""},{"$f":"変換シート!P9","v":""},{"$f":"変換シート!Q9","v":""},{"$f":"変換シート!R9","v":""},{"$f":"変換シート!S9","v":""},{"$f":"変換シート!T9","v":""},{"$f":"変換シート!U9","v":""},{"$f":"変換シート!V9","v":""},{"$f":"変換シート!W9","v":""},{"$f":"変換シート!X9","v":""},{"$f":"変換シート!Y9","v":""},{"$f":"変換シート!Z9","v":""},{"$f":"変換シート!AA9","v":""},{"$f":"変換シート!AB9","v":""},{"$f":"変換シート!AC9","v":""},{"$f":"変換シート!AD9","v":""},{"$f":"変換シート!AE9","v":""},{"$f":"変換シート!AF9","v":""},{"$f":"変換シート!AG9","v":""},{"$f":"変換シート!AH9","v":""},{"$f":"変換シート!AI9","v":""},{"$f":"変換シート!AJ9","v":""},{"$f":"変換シート!AK9","v":""},{"$f":"変換シート!AL9","v":""},{"$f":"変換シート!AM9","v":""},{"$f":"変換シート!AN9","v":""},{"$f":"変換シート!AO9","v":""},{"$f":"変換シート!AP9","v":""},{"$f":"変換シート!AQ9","v":""},{"$f":"変換シート!AR9","v":""},{"$f":"変換シート!AS9","v":""},{"$f":"変換シート!AT9","v":""},{"$f":"変換シート!AU9","v":""},{"$f":"変換シート!AV9","v":""},{"$f":"変換シート!AW9","v":""},{"$f":"変換シート!AX9","v":""},{"$f":"変換シート!AY9","v":""},{"$f":"変換シート!AZ9","v":""},{"$f":"変換シート!BA9","v":""},{"$f":"変換シート!BB9","v":""},{"$f":"変換シート!BC9","v":""},{"$f":"変換シート!BD9","v":""},{"$f":"変換シート!BE9","v":""},{"$f":"変換シート!BF9","v":""},{"$f":"変換シート!BG9","v":""},{"$f":"変換シート!BH9","v":""},{"$f":"変換シート!BI9","v":""},{"$f":"変換シート!BJ9","v":""},{"$f":"変換シート!BK9","v":""},{"$f":"変換シート!BL9","v":""},{"$f":"変換シート!BM9","v":""},{"$f":"変換シート!BN9","v":""},{"$f":"変換シート!BO9","v":""},{"$f":"変換シート!BP9","v":""},{"$f":"変換シート!BQ9","v":""},{"$f":"変換シート!BR9","v":""},{"$f":"変換シート!BS9","v":""},{"$f":"変換シート!BT9","v":""},{"$f":"変換シート!BU9","v":""},{"$f":"変換シート!BV9","v":""},{"$f":"入力画面!DJ81&\"\"","v":""},{"$f":"入力画面!DK81&\"\"","v":""},{"$f":"入力画面!DL81&\"\"","v":""},{"$f":"入力画面!DM81&\"\"","v":""},{"$f":"入力画面!DN81&\"\"","v":""},{"$f":"入力画面!DO81&\"\"","v":""},"非公開"]
[6,null,null,"埼玉県 福祉部 地域包括ケア課",{"$f":"入力画面!B95&\"\"","v":""},{"$f":"入力画面!D95&\"\"","v":""},{"$f":"入力画面!E95&\"\"","v":""},{"$f":"入力画面!F95&\"\"","v":""},{"$f":"入力画面!G95&\"\"","v":""},{"$f":"入力画面!H95&\"\"","v":""},{"$f":"入力画面!I95&\"\"","v":""},{"$f":"入力画面!J95&\"\"","v":""},{"$f":"入力画面!K95&\"\"","v":""},{"$f":"入力画面!M95&\"\"","v":""},{"$f":"入力画面!N95&\"\"","v":""},{"$f":"入力画面!O95&\"\"","v":""},{"$f":"入力画面!P95&\"\"","v":""},{"$f":"入力画面!Q95&\"\"","v":""},{"$f":"入力画面!R95&\"\"","v":""},{"$f":"変換シート!BW10","v":""},{"$f":"変換シート!BX10","v":""},{"$f":"変換シート!BY10","v":""},{"$f":"変換シート!BZ10","v":""},{"$f":"変換シート!CA10","v":""},{"$f":"変換シート!CB10","v":""},{"$f":"変換シート!CC10","v":""},{"$f":"変換シート!CD10","v":""},{"$f":"入力画面!AY95&\"\"","v":""},{"$f":"入力画面!DI95","v":0},{"$f":"変換シート!C10","v":""},{"$f":"変換シート!D10","v":""},{"$f":"変換シート!E10","v":""},{"$f":"変換シート!F10","v":""},{"$f":"変換シート!G10","v":""},{"$f":"変換シート!H10","v":""},{"$f":"変換シート!I10","v":""},{"$f":"変換シート!J10","v":""},{"$f":"変換シート!K10","v":""},{"$f":"変換シート!L10","v":""},{"$f":"変換シート!M10","v":""},{"$f":"変換シート!N10","v":""},{"$f":"変換シート!O10","v":""},{"$f":"変換シート!P10","v":""},{"$f":"変換シート!Q10","v":""},{"$f":"変換シート!R10","v":""},{"$f":"変換シート!S10","v":""},{"$f":"変換シート!T10","v":""},{"$f":"変換シート!U10","v":""},{"$f":"変換シート!V10","v":""},{"$f":"変換シート!W10","v":""},{"$f":"変換シート!X10","v":""},{"$f":"変換シート!Y10","v":""},{"$f":"変換シート!Z10","v":""},{"$f":"変換シート!AA10","v":""},{"$f":"変換シート!AB10","v":""},{"$f":"変換シート!AC10","v":""},{"$f":"変換シート!AD10","v":""},{"$f":"変換シート!AE10","v":""},{"$f":"変換シート!AF10","v":""},{"$f":"変換シート!AG10","v":""},{"$f":"変換シート!AH10","v":""},{"$f":"変換シート!AI10","v":""},{"$f":"変換シート!AJ10","v":""},{"$f":"変換シート!AK10","v":""},{"$f":"変換シート!AL10","v":""},{"$f":"変換シート!AM10","v":""},{"$f":"変換シート!AN10","v":""},{"$f":"変換シート!AO10","v":""},{"$f":"変換シート!AP10","v":""},{"$f":"変換シート!AQ10","v":""},{"$f":"変換シート!AR10","v":""},{"$f":"変換シート!AS10","v":""},{"$f":"変換シート!AT10","v":""},{"$f":"変換シート!AU10","v":""},{"$f":"変換シート!AV10","v":""},{"$f":"変換シート!AW10","v":""},{"$f":"変換シート!AX10","v":""},{"$f":"変換シート!AY10","v":""},{"$f":"変換シート!AZ10","v":""},{"$f":"変換シート!BA10","v":""},{"$f":"変換シート!BB10","v":""},{"$f":"変換シート!BC10","v":""},{"$f":"変換シート!BD10","v":""},{"$f":"変換シート!BE10","v":""},{"$f":"変換シート!BF10","v":""},{"$f":"変換シート!BG10","v":""},{"$f":"変換シート!BH10","v":""},{"$f":"変換シート!BI10","v":""},{"$f":"変換シート!BJ10","v":""},{"$f":"変換シート!BK10","v":""},{"$f":"変換シート!BL10","v":""},{"$f":"変換シート!BM10","v":""},{"$f":"変換シート!BN10","v":""},{"$f":"変換シート!BO10","v":""},{"$f":"変換シート!BP10","v":""},{"$f":"変換シート!BQ10","v":""},{"$f":"変換シート!BR10","v":""},{"$f":"変換シート!BS10","v":""},{"$f":"変換シート!BT10","v":""},{"$f":"変換シート!BU10","v":""},{"$f":"変換シート!BV10","v":""},{"$f":"入力画面!DJ95&\"\"","v":""},{"$f":"入力画面!DK95&\"\"","v":""},{"$f":"入力画面!DL95&\"\"","v":""},{"$f":"入力画面!DM95&\"\"","v":""},{"$f":"入力画面!DN95&\"\"","v":""},{"$f":"入力画面!DO95&\"\"","v":""},"非公開"]
[7,null,null,"埼玉県 福祉部 地域包括ケア課",{"$f":"入力画面!B109&\"\"","v":""},{"$f":"入力画面!D109&\"\"","v":""},{"$f":"入力画面!E109&\"\"","v":""},{"$f":"入力画面!F109&\"\"","v":""},{"$f":"入力画面!G109&\"\"","v":""},{"$f":"入力画面!H109&\"\"","v":""},{"$f":"入力画面!I109&\"\"","v":""},{"$f":"入力画面!J109&\"\"","v":""},{"$f":"入力画面!K109&\"\"","v":""},{"$f":"入力画面!M109&\"\"","v":""},{"$f":"入力画面!N109&\"\"","v":""},{"$f":"入力画面!O109&\"\"","v":""},{"$f":"入力画面!P109&\"\"","v":""},{"$f":"入力画面!Q109&\"\"","v":""},{"$f":"入力画面!R109&\"\"","v":""},{"$f":"変換シート!BW11","v":""},{"$f":"変換シート!BX11","v":""},{"$f":"変換シート!BY11","v":""},{"$f":"変換シート!BZ11","v":""},{"$f":"変換シート!CA11","v":""},{"$f":"変換シート!CB11","v":""},{"$f":"変換シート!CC11","v":""},{"$f":"変換シート!CD11","v":""},{"$f":"入力画面!AY109&\"\"","v":""},{"$f":"入力画面!DI109","v":0},{"$f":"変換シート!C11","v":""},{"$f":"変換シート!D11","v":""},{"$f":"変換シート!E11","v":""},{"$f":"変換シート!F11","v":""},{"$f":"変換シート!G11","v":""},{"$f":"変換シート!H11","v":""},{"$f":"変換シート!I11","v":""},{"$f":"変換シート!J11","v":""},{"$f":"変換シート!K11","v":""},{"$f":"変換シート!L11","v":""},{"$f":"変換シート!M11","v":""},{"$f":"変換シート!N11","v":""},{"$f":"変換シート!O11","v":""},{"$f":"変換シート!P11","v":""},{"$f":"変換シート!Q11","v":""},{"$f":"変換シート!R11","v":""},{"$f":"変換シート!S11","v":""},{"$f":"変換シート!T11","v":""},{"$f":"変換シート!U11","v":""},{"$f":"変換シート!V11","v":""},{"$f":"変換シート!W11","v":""},{"$f":"変換シート!X11","v":""},{"$f":"変換シート!Y11","v":""},{"$f":"変換シート!Z11","v":""},{"$f":"変換シート!AA11","v":""},{"$f":"変換シート!AB11","v":""},{"$f":"変換シート!AC11","v":""},{"$f":"変換シート!AD11","v":""},{"$f":"変換シート!AE11","v":""},{"$f":"変換シート!AF11","v":""},{"$f":"変換シート!AG11","v":""},{"$f":"変換シート!AH11","v":""},{"$f":"変換シート!AI11","v":""},{"$f":"変換シート!AJ11","v":""},{"$f":"変換シート!AK11","v":""},{"$f":"変換シート!AL11","v":""},{"$f":"変換シート!AM11","v":""},{"$f":"変換シート!AN11","v":""},{"$f":"変換シート!AO11","v":""},{"$f":"変換シート!AP11","v":""},{"$f":"変換シート!AQ11","v":""},{"$f":"変換シート!AR11","v":""},{"$f":"変換シート!AS11","v":""},{"$f":"変換シート!AT11","v":""},{"$f":"変換シート!AU11","v":""},{"$f":"変換シート!AV11","v":""},{"$f":"変換シート!AW11","v":""},{"$f":"変換シート!AX11","v":""},{"$f":"変換シート!AY11","v":""},{"$f":"変換シート!AZ11","v":""},{"$f":"変換シート!BA11","v":""},{"$f":"変換シート!BB11","v":""},{"$f":"変換シート!BC11","v":""},{"$f":"変換シート!BD11","v":""},{"$f":"変換シート!BE11","v":""},{"$f":"変換シート!BF11","v":""},{"$f":"変換シート!BG11","v":""},{"$f":"変換シート!BH11","v":""},{"$f":"変換シート!BI11","v":""},{"$f":"変換シート!BJ11","v":""},{"$f":"変換シート!BK11","v":""},{"$f":"変換シート!BL11","v":""},{"$f":"変換シート!BM11","v":""},{"$f":"変換シート!BN11","v":""},{"$f":"変換シート!BO11","v":""},{"$f":"変換シート!BP11","v":""},{"$f":"変換シート!BQ11","v":""},{"$f":"変換シート!BR11","v":""},{"$f":"変換シート!BS11","v":""},{"$f":"変換シート!BT11","v":""},{"$f":"変換シート!BU11","v":""},{"$f":"変換シート!BV11","v":""},{"$f":"入力画面!DJ109&\"\"","v":""},{"$f":"入力画面!DK109&\"\"","v":""},{"$f":"入力画面!DL109&\"\"","v":""},{"$f":"入力画面!DM109&\"\"","v":""},{"$f":"入力画面!DN109&\"\"","v":""},{"$f":"入力画面!DO109&\"\"","v":""},"非公開"]
[8,null,null,"埼玉県 福祉部 地域包括ケア課",{"$f":"入力画面!B123&\"\"","v":""},{"$f":"入力画面!D123&\"\"","v":""},{"$f":"入力画面!E123&\"\"","v":""},{"$f":"入力画面!F123&\"\"","v":""},{"$f":"入力画面!G123&\"\"","v":""},{"$f":"入力画面!H123&\"\"","v":""},{"$f":"入力画面!I123&\"\"","v":""},{"$f":"入力画面!J123&\"\"","v":""},{"$f":"入力画面!K123&\"\"","v":""},{"$f":"入力画面!M123&\"\"","v":""},{"$f":"入力画面!N123&\"\"","v":""},{"$f":"入力画面!O123&\"\"","v":""},{"$f":"入力画面!P123&\"\"","v":""},{"$f":"入力画面!Q123&\"\"","v":""},{"$f":"入力画面!R123&\"\"","v":""},{"$f":"変換シート!BW12","v":""},{"$f":"変換シート!BX12","v":""},{"$f":"変換シート!BY12","v":""},{"$f":"変換シート!BZ12","v":""},{"$f":"変換シート!CA12","v":""},{"$f":"変換シート!CB12","v":""},{"$f":"変換シート!CC12","v":""},{"$f":"変換シート!CD12","v":""},{"$f":"入力画面!AY123&\"\"","v":""},{"$f":"入力画面!DI123","v":0},{"$f":"変換シート!C12","v":""},{"$f":"変換シート!D12","v":""},{"$f":"変換シート!E12","v":""},{"$f":"変換シート!F12","v":""},{"$f":"変換シート!G12","v":""},{"$f":"変換シート!H12","v":""},{"$f":"変換シート!I12","v":""},{"$f":"変換シート!J12","v":""},{"$f":"変換シート!K12","v":""},{"$f":"変換シート!L12","v":""},{"$f":"変換シート!M12","v":""},{"$f":"変換シート!N12","v":""},{"$f":"変換シート!O12","v":""},{"$f":"変換シート!P12","v":""},{"$f":"変換シート!Q12","v":""},{"$f":"変換シート!R12","v":""},{"$f":"変換シート!S12","v":""},{"$f":"変換シート!T12","v":""},{"$f":"変換シート!U12","v":""},{"$f":"変換シート!V12","v":""},{"$f":"変換シート!W12","v":""},{"$f":"変換シート!X12","v":""},{"$f":"変換シート!Y12","v":""},{"$f":"変換シート!Z12","v":""},{"$f":"変換シート!AA12","v":""},{"$f":"変換シート!AB12","v":""},{"$f":"変換シート!AC12","v":""},{"$f":"変換シート!AD12","v":""},{"$f":"変換シート!AE12","v":""},{"$f":"変換シート!AF12","v":""},{"$f":"変換シート!AG12","v":""},{"$f":"変換シート!AH12","v":""},{"$f":"変換シート!AI12","v":""},{"$f":"変換シート!AJ12","v":""},{"$f":"変換シート!AK12","v":""},{"$f":"変換シート!AL12","v":""},{"$f":"変換シート!AM12","v":""},{"$f":"変換シート!AN12","v":""},{"$f":"変換シート!AO12","v":""},{"$f":"変換シート!AP12","v":""},{"$f":"変換シート!AQ12","v":""},{"$f":"変換シート!AR12","v":""},{"$f":"変換シート!AS12","v":""},{"$f":"変換シート!AT12","v":""},{"$f":"変換シート!AU12","v":""},{"$f":"変換シート!AV12","v":""},{"$f":"変換シート!AW12","v":""},{"$f":"変換シート!AX12","v":""},{"$f":"変換シート!AY12","v":""},{"$f":"変換シート!AZ12","v":""},{"$f":"変換シート!BA12","v":""},{"$f":"変換シート!BB12","v":""},{"$f":"変換シート!BC12","v":""},{"$f":"変換シート!BD12","v":""},{"$f":"変換シート!BE12","v":""},{"$f":"変換シート!BF12","v":""},{"$f":"変換シート!BG12","v":""},{"$f":"変換シート!BH12","v":""},{"$f":"変換シート!BI12","v":""},{"$f":"変換シート!BJ12","v":""},{"$f":"変換シート!BK12","v":""},{"$f":"変換シート!BL12","v":""},{"$f":"変換シート!BM12","v":""},{"$f":"変換シート!BN12","v":""},{"$f":"変換シート!BO12","v":""},{"$f":"変換シート!BP12","v":""},{"$f":"変換シート!BQ12","v":""},{"$f":"変換シート!BR12","v":""},{"$f":"変換シート!BS12","v":""},{"$f":"変換シート!BT12","v":""},{"$f":"変換シート!BU12","v":""},{"$f":"変換シート!BV12","v":""},{"$f":"入力画面!DJ123&\"\"","v":""},{"$f":"入力画面!DK123&\"\"","v":""},{"$f":"入力画面!DL123&\"\"","v":""},{"$f":"入力画面!DM123&\"\"","v":""},{"$f":"入力画面!DN123&\"\"","v":""},{"$f":"入力画面!DO123&\"\"","v":""},"非公開"]
[9,null,null,"埼玉県 福祉部 地域包括ケア課",{"$f":"入力画面!B137&\"\"","v":""},{"$f":"入力画面!D137&\"\"","v":""},{"$f":"入力画面!E137&\"\"","v":""},{"$f":"入力画面!F137&\"\"","v":""},{"$f":"入力画面!G137&\"\"","v":""},{"$f":"入力画面!H137&\"\"","v":""},{"$f":"入力画面!I137&\"\"","v":""},{"$f":"入力画面!J137&\"\"","v":""},{"$f":"入力画面!K137&\"\"","v":""},{"$f":"入力画面!M137&\"\"","v":""},{"$f":"入力画面!N137&\"\"","v":""},{"$f":"入力画面!O137&\"\"","v":""},{"$f":"入力画面!P137&\"\"","v":""},{"$f":"入力画面!Q137&\"\"","v":""},{"$f":"入力画面!R137&\"\"","v":""},{"$f":"変換シート!BW13","v":""},{"$f":"変換シート!BX13","v":""},{"$f":"変換シート!BY13","v":""},{"$f":"変換シート!BZ13","v":""},{"$f":"変換シート!CA13","v":""},{"$f":"変換シート!CB13","v":""},{"$f":"変換シート!CC13","v":""},{"$f":"変換シート!CD13","v":""},{"$f":"入力画面!AY137&\"\"","v":""},{"$f":"入力画面!DI137","v":0},{"$f":"変換シート!C13","v":""},{"$f":"変換シート!D13","v":""},{"$f":"変換シート!E13","v":""},{"$f":"変換シート!F13","v":""},{"$f":"変換シート!G13","v":""},{"$f":"変換シート!H13","v":""},{"$f":"変換シート!I13","v":""},{"$f":"変換シート!J13","v":""},{"$f":"変換シート!K13","v":""},{"$f":"変換シート!L13","v":""},{"$f":"変換シート!M13","v":""},{"$f":"変換シート!N13","v":""},{"$f":"変換シート!O13","v":""},{"$f":"変換シート!P13","v":""},{"$f":"変換シート!Q13","v":""},{"$f":"変換シート!R13","v":""},{"$f":"変換シート!S13","v":""},{"$f":"変換シート!T13","v":""},{"$f":"変換シート!U13","v":""},{"$f":"変換シート!V13","v":""},{"$f":"変換シート!W13","v":""},{"$f":"変換シート!X13","v":""},{"$f":"変換シート!Y13","v":""},{"$f":"変換シート!Z13","v":""},{"$f":"変換シート!AA13","v":""},{"$f":"変換シート!AB13","v":""},{"$f":"変換シート!AC13","v":""},{"$f":"変換シート!AD13","v":""},{"$f":"変換シート!AE13","v":""},{"$f":"変換シート!AF13","v":""},{"$f":"変換シート!AG13","v":""},{"$f":"変換シート!AH13","v":""},{"$f":"変換シート!AI13","v":""},{"$f":"変換シート!AJ13","v":""},{"$f":"変換シート!AK13","v":""},{"$f":"変換シート!AL13","v":""},{"$f":"変換シート!AM13","v":""},{"$f":"変換シート!AN13","v":""},{"$f":"変換シート!AO13","v":""},{"$f":"変換シート!AP13","v":""},{"$f":"変換シート!AQ13","v":""},{"$f":"変換シート!AR13","v":""},{"$f":"変換シート!AS13","v":""},{"$f":"変換シート!AT13","v":""},{"$f":"変換シート!AU13","v":""},{"$f":"変換シート!AV13","v":""},{"$f":"変換シート!AW13","v":""},{"$f":"変換シート!AX13","v":""},{"$f":"変換シート!AY13","v":""},{"$f":"変換シート!AZ13","v":""},{"$f":"変換シート!BA13","v":""},{"$f":"変換シート!BB13","v":""},{"$f":"変換シート!BC13","v":""},{"$f":"変換シート!BD13","v":""},{"$f":"変換シート!BE13","v":""},{"$f":"変換シート!BF13","v":""},{"$f":"変換シート!BG13","v":""},{"$f":"変換シート!BH13","v":""},{"$f":"変換シート!BI13","v":""},{"$f":"変換シート!BJ13","v":""},{"$f":"変換シート!BK13","v":""},{"$f":"変換シート!BL13","v":""},{"$f":"変換シート!BM13","v":""},{"$f":"変換シート!BN13","v":""},{"$f":"変換シート!BO13","v":""},{"$f":"変換シート!BP13","v":""},{"$f":"変換シート!BQ13","v":""},{"$f":"変換シート!BR13","v":""},{"$f":"変換シート!BS13","v":""},{"$f":"変換シート!BT13","v":""},{"$f":"変換シート!BU13","v":""},{"$f":"変換シート!BV13","v":""},{"$f":"入力画面!DJ137&\"\"","v":""},{"$f":"入力画面!DK137&\"\"","v":""},{"$f":"入力画面!DL137&\"\"","v":""},{"$f":"入力画面!DM137&\"\"","v":""},{"$f":"入力画面!DN137&\"\"","v":""},{"$f":"入力画面!DO137&\"\"","v":""},"非公開"]
[10,null,null,"埼玉県 福祉部 地域包括ケア課",{"$f":"入力画面!B151&\"\"","v":""},{"$f":"入力画面!D151&\"\"","v":""},{"$f":"入力画面!E151&\"\"","v":""},{"$f":"入力画面!F151&\"\"","v":""},{"$f":"入力画面!G151&\"\"","v":""},{"$f":"入力画面!H151&\"\"","v":""},{"$f":"入力画面!I151&\"\"","v":""},{"$f":"入力画面!J151&\"\"","v":""},{"$f":"入力画面!K151&\"\"","v":""},{"$f":"入力画面!M151&\"\"","v":""},{"$f":"入力画面!N151&\"\"","v":""},{"$f":"入力画面!O151&\"\"","v":""},{"$f":"入力画面!P151&\"\"","v":""},{"$f":"入力画面!Q151&\"\"","v":""},{"$f":"入力画面!R151&\"\"","v":""},{"$f":"変換シート!BW14","v":""},{"$f":"変換シート!BX14","v":""},{"$f":"変換シート!BY14","v":""},{"$f":"変換シート!BZ14","v":""},{"$f":"変換シート!CA14","v":""},{"$f":"変換シート!CB14","v":""},{"$f":"変換シート!CC14","v":""},{"$f":"変換シート!CD14","v":""},{"$f":"入力画面!AY151&\"\"","v":""},{"$f":"入力画面!DI151","v":0},{"$f":"変換シート!C14","v":""},{"$f":"変換シート!D14","v":""},{"$f":"変換シート!E14","v":""},{"$f":"変換シート!F14","v":""},{"$f":"変換シート!G14","v":""},{"$f":"変換シート!H14","v":""},{"$f":"変換シート!I14","v":""},{"$f":"変換シート!J14","v":""},{"$f":"変換シート!K14","v":""},{"$f":"変換シート!L14","v":""},{"$f":"変換シート!M14","v":""},{"$f":"変換シート!N14","v":""},{"$f":"変換シート!O14","v":""},{"$f":"変換シート!P14","v":""},{"$f":"変換シート!Q14","v":""},{"$f":"変換シート!R14","v":""},{"$f":"変換シート!S14","v":""},{"$f":"変換シート!T14","v":""},{"$f":"変換シート!U14","v":""},{"$f":"変換シート!V14","v":""},{"$f":"変換シート!W14","v":""},{"$f":"変換シート!X14","v":""},{"$f":"変換シート!Y14","v":""},{"$f":"変換シート!Z14","v":""},{"$f":"変換シート!AA14","v":""},{"$f":"変換シート!AB14","v":""},{"$f":"変換シート!AC14","v":""},{"$f":"変換シート!AD14","v":""},{"$f":"変換シート!AE14","v":""},{"$f":"変換シート!AF14","v":""},{"$f":"変換シート!AG14","v":""},{"$f":"変換シート!AH14","v":""},{"$f":"変換シート!AI14","v":""},{"$f":"変換シート!AJ14","v":""},{"$f":"変換シート!AK14","v":""},{"$f":"変換シート!AL14","v":""},{"$f":"変換シート!AM14","v":""},{"$f":"変換シート!AN14","v":""},{"$f":"変換シート!AO14","v":""},{"$f":"変換シート!AP14","v":""},{"$f":"変換シート!AQ14","v":""},{"$f":"変換シート!AR14","v":""},{"$f":"変換シート!AS14","v":""},{"$f":"変換シート!AT14","v":""},{"$f":"変換シート!AU14","v":""},{"$f":"変換シート!AV14","v":""},{"$f":"変換シート!AW14","v":""},{"$f":"変換シート!AX14","v":""},{"$f":"変換シート!AY14","v":""},{"$f":"変換シート!AZ14","v":""},{"$f":"変換シート!BA14","v":""},{"$f":"変換シート!BB14","v":""},{"$f":"変換シート!BC14","v":""},{"$f":"変換シート!BD14","v":""},{"$f":"変換シート!BE14","v":""},{"$f":"変換シート!BF14","v":""},{"$f":"変換シート!BG14","v":""},{"$f":"変換シート!BH14","v":""},{"$f":"変換シート!BI14","v":""},{"$f":"変換シート!BJ14","v":""},{"$f":"変換シート!BK14","v":""},{"$f":"変換シート!BL14","v":""},{"$f":"変換シート!BM14","v":""},{"$f":"変換シート!BN14","v":""},{"$f":"変換シート!BO14","v":""},{"$f":"変換シート!BP14","v":""},{"$f":"変換シート!BQ14","v":""},{"$f":"変換シート!BR14","v":""},{"$f":"変換シート!BS14","v":""},{"$f":"変換シート!BT14","v":""},{"$f":"変換シート!BU14","v":""},{"$f":"変換シート!BV14","v":""},{"$f":"入力画面!DJ151&\"\"","v":""},{"$f":"入力画面!DK151&\"\"","v":""},{"$f":"入力画面!DL151&\"\"","v":""},{"$f":"入力画面!DM151&\"\"","v":""},{"$f":"入力画面!DN151&\"\"","v":""},{"$f":"入力画面!DO151&\"\"","v":""},"非公開"]
[11,null,null,"埼玉県 福祉部 地域包括ケア課",{"$f":"入力画面!B165&\"\"","v":""},{"$f":"入力画面!D165&\"\"","v":""},{"$f":"入力画面!E165&\"\"","v":""},{"$f":"入力画面!F165&\"\"","v":""},{"$f":"入力画面!G165&\"\"","v":""},{"$f":"入力画面!H165&\"\"","v":""},{"$f":"入力画面!I165&\"\"","v":""},{"$f":"入力画面!J165&\"\"","v":""},{"$f":"入力画面!K165&\"\"","v":""},{"$f":"入力画面!M165&\"\"","v":""},{"$f":"入力画面!N165&\"\"","v":""},{"$f":"入力画面!O165&\"\"","v":""},{"$f":"入力画面!P165&\"\"","v":""},{"$f":"入力画面!Q165&\"\"","v":""},{"$f":"入力画面!R165&\"\"","v":""},{"$f":"変換シート!BW15","v":""},{"$f":"変換シート!BX15","v":""},{"$f":"変換シート!BY15","v":""},{"$f":"変換シート!BZ15","v":""},{"$f":"変換シート!CA15","v":""},{"$f":"変換シート!CB15","v":""},{"$f":"変換シート!CC15","v":""},{"$f":"変換シート!CD15","v":""},{"$f":"入力画面!AY165&\"\"","v":""},{"$f":"入力画面!DI165","v":0},{"$f":"変換シート!C15","v":""},{"$f":"変換シート!D15","v":""},{"$f":"変換シート!E15","v":""},{"$f":"変換シート!F15","v":""},{"$f":"変換シート!G15","v":""},{"$f":"変換シート!H15","v":""},{"$f":"変換シート!I15","v":""},{"$f":"変換シート!J15","v":""},{"$f":"変換シート!K15","v":""},{"$f":"変換シート!L15","v":""},{"$f":"変換シート!M15","v":""},{"$f":"変換シート!N15","v":""},{"$f":"変換シート!O15","v":""},{"$f":"変換シート!P15","v":""},{"$f":"変換シート!Q15","v":""},{"$f":"変換シート!R15","v":""},{"$f":"変換シート!S15","v":""},{"$f":"変換シート!T15","v":""},{"$f":"変換シート!U15","v":""},{"$f":"変換シート!V15","v":""},{"$f":"変換シート!W15","v":""},{"$f":"変換シート!X15","v":""},{"$f":"変換シート!Y15","v":""},{"$f":"変換シート!Z15","v":""},{"$f":"変換シート!AA15","v":""},{"$f":"変換シート!AB15","v":""},{"$f":"変換シート!AC15","v":""},{"$f":"変換シート!AD15","v":""},{"$f":"変換シート!AE15","v":""},{"$f":"変換シート!AF15","v":""},{"$f":"変換シート!AG15","v":""},{"$f":"変換シート!AH15","v":""},{"$f":"変換シート!AI15","v":""},{"$f":"変換シート!AJ15","v":""},{"$f":"変換シート!AK15","v":""},{"$f":"変換シート!AL15","v":""},{"$f":"変換シート!AM15","v":""},{"$f":"変換シート!AN15","v":""},{"$f":"変換シート!AO15","v":""},{"$f":"変換シート!AP15","v":""},{"$f":"変換シート!AQ15","v":""},{"$f":"変換シート!AR15","v":""},{"$f":"変換シート!AS15","v":""},{"$f":"変換シート!AT15","v":""},{"$f":"変換シート!AU15","v":""},{"$f":"変換シート!AV15","v":""},{"$f":"変換シート!AW15","v":""},{"$f":"変換シート!AX15","v":""},{"$f":"変換シート!AY15","v":""},{"$f":"変換シート!AZ15","v":""},{"$f":"変換シート!BA15","v":""},{"$f":"変換シート!BB15","v":""},{"$f":"変換シート!BC15","v":""},{"$f":"変換シート!BD15","v":""},{"$f":"変換シート!BE15","v":""},{"$f":"変換シート!BF15","v":""},{"$f":"変換シート!BG15","v":""},{"$f":"変換シート!BH15","v":""},{"$f":"変換シート!BI15","v":""},{"$f":"変換シート!BJ15","v":""},{"$f":"変換シート!BK15","v":""},{"$f":"変換シート!BL15","v":""},{"$f":"変換シート!BM15","v":""},{"$f":"変換シート!BN15","v":""},{"$f":"変換シート!BO15","v":""},{"$f":"変換シート!BP15","v":""},{"$f":"変換シート!BQ15","v":""},{"$f":"変換シート!BR15","v":""},{"$f":"変換シート!BS15","v":""},{"$f":"変換シート!BT15","v":""},{"$f":"変換シート!BU15","v":""},{"$f":"変換シート!BV15","v":""},{"$f":"入力画面!DJ165&\"\"","v":""},{"$f":"入力画面!DK165&\"\"","v":""},{"$f":"入力画面!DL165&\"\"","v":""},{"$f":"入力画面!DM165&\"\"","v":""},{"$f":"入力画面!DN165&\"\"","v":""},{"$f":"入力画面!DO165&\"\"","v":""},"非公開"]
[12,null,null,"埼玉県 福祉部 地域包括ケア課",{"$f":"入力画面!B179&\"\"","v":""},{"$f":"入力画面!D179&\"\"","v":""},{"$f":"入力画面!E179&\"\"","v":""},{"$f":"入力画面!F179&\"\"","v":""},{"$f":"入力画面!G179&\"\"","v":""},{"$f":"入力画面!H179&\"\"","v":""},{"$f":"入力画面!I179&\"\"","v":""},{"$f":"入力画面!J179&\"\"","v":""},{"$f":"入力画面!K179&\"\"","v":""},{"$f":"入力画面!M179&\"\"","v":""},{"$f":"入力画面!N179&\"\"","v":""},{"$f":"入力画面!O179&\"\"","v":""},{"$f":"入力画面!P179&\"\"","v":""},{"$f":"入力画面!Q179&\"\"","v":""},{"$f":"入力画面!R179&\"\"","v":""},{"$f":"変換シート!BW16","v":""},{"$f":"変換シート!BX16","v":""},{"$f":"変換シート!BY16","v":""},{"$f":"変換シート!BZ16","v":""},{"$f":"変換シート!CA16","v":""},{"$f":"変換シート!CB16","v":""},{"$f":"変換シート!CC16","v":""},{"$f":"変換シート!CD16","v":""},{"$f":"入力画面!AY179&\"\"","v":""},{"$f":"入力画面!DI179","v":0},{"$f":"変換シート!C16","v":""},{"$f":"変換シート!D16","v":""},{"$f":"変換シート!E16","v":""},{"$f":"変換シート!F16","v":""},{"$f":"変換シート!G16","v":""},{"$f":"変換シート!H16","v":""},{"$f":"変換シート!I16","v":""},{"$f":"変換シート!J16","v":""},{"$f":"変換シート!K16","v":""},{"$f":"変換シート!L16","v":""},{"$f":"変換シート!M16","v":""},{"$f":"変換シート!N16","v":""},{"$f":"変換シート!O16","v":""},{"$f":"変換シート!P16","v":""},{"$f":"変換シート!Q16","v":""},{"$f":"変換シート!R16","v":""},{"$f":"変換シート!S16","v":""},{"$f":"変換シート!T16","v":""},{"$f":"変換シート!U16","v":""},{"$f":"変換シート!V16","v":""},{"$f":"変換シート!W16","v":""},{"$f":"変換シート!X16","v":""},{"$f":"変換シート!Y16","v":""},{"$f":"変換シート!Z16","v":""},{"$f":"変換シート!AA16","v":""},{"$f":"変換シート!AB16","v":""},{"$f":"変換シート!AC16","v":""},{"$f":"変換シート!AD16","v":""},{"$f":"変換シート!AE16","v":""},{"$f":"変換シート!AF16","v":""},{"$f":"変換シート!AG16","v":""},{"$f":"変換シート!AH16","v":""},{"$f":"変換シート!AI16","v":""},{"$f":"変換シート!AJ16","v":""},{"$f":"変換シート!AK16","v":""},{"$f":"変換シート!AL16","v":""},{"$f":"変換シート!AM16","v":""},{"$f":"変換シート!AN16","v":""},{"$f":"変換シート!AO16","v":""},{"$f":"変換シート!AP16","v":""},{"$f":"変換シート!AQ16","v":""},{"$f":"変換シート!AR16","v":""},{"$f":"変換シート!AS16","v":""},{"$f":"変換シート!AT16","v":""},{"$f":"変換シート!AU16","v":""},{"$f":"変換シート!AV16","v":""},{"$f":"変換シート!AW16","v":""},{"$f":"変換シート!AX16","v":""},{"$f":"変換シート!AY16","v":""},{"$f":"変換シート!AZ16","v":""},{"$f":"変換シート!BA16","v":""},{"$f":"変換シート!BB16","v":""},{"$f":"変換シート!BC16","v":""},{"$f":"変換シート!BD16","v":""},{"$f":"変換シート!BE16","v":""},{"$f":"変換シート!BF16","v":""},{"$f":"変換シート!BG16","v":""},{"$f":"変換シート!BH16","v":""},{"$f":"変換シート!BI16","v":""},{"$f":"変換シート!BJ16","v":""},{"$f":"変換シート!BK16","v":""},{"$f":"変換シート!BL16","v":""},{"$f":"変換シート!BM16","v":""},{"$f":"変換シート!BN16","v":""},{"$f":"変換シート!BO16","v":""},{"$f":"変換シート!BP16","v":""},{"$f":"変換シート!BQ16","v":""},{"$f":"変換シート!BR16","v":""},{"$f":"変換シート!BS16","v":""},{"$f":"変換シート!BT16","v":""},{"$f":"変換シート!BU16","v":""},{"$f":"変換シート!BV16","v":""},{"$f":"入力画面!DJ179&\"\"","v":""},{"$f":"入力画面!DK179&\"\"","v":""},{"$f":"入力画面!DL179&\"\"","v":""},{"$f":"入力画面!DM179&\"\"","v":""},{"$f":"入力画面!DN179&\"\"","v":""},{"$f":"入力画面!DO179&\"\"","v":""},"非公開"]
[13,null,null,"埼玉県 福祉部 地域包括ケア課",{"$f":"入力画面!B193&\"\"","v":""},{"$f":"入力画面!D193&\"\"","v":""},{"$f":"入力画面!E193&\"\"","v":""},{"$f":"入力画面!F193&\"\"","v":""},{"$f":"入力画面!G193&\"\"","v":""},{"$f":"入力画面!H193&\"\"","v":""},{"$f":"入力画面!I193&\"\"","v":""},{"$f":"入力画面!J193&\"\"","v":""},{"$f":"入力画面!K193&\"\"","v":""},{"$f":"入力画面!M193&\"\"","v":""},{"$f":"入力画面!N193&\"\"","v":""},{"$f":"入力画面!O193&\"\"","v":""},{"$f":"入力画面!P193&\"\"","v":""},{"$f":"入力画面!Q193&\"\"","v":""},{"$f":"入力画面!R193&\"\"","v":""},{"$f":"変換シート!BW17","v":""},{"$f":"変換シート!BX17","v":""},{"$f":"変換シート!BY17","v":""},{"$f":"変換シート!BZ17","v":""},{"$f":"変換シート!CA17","v":""},{"$f":"変換シート!CB17","v":""},{"$f":"変換シート!CC17","v":""},{"$f":"変換シート!CD17","v":""},{"$f":"入力画面!AY193&\"\"","v":""},{"$f":"入力画面!DI193","v":0},{"$f":"変換シート!C17","v":""},{"$f":"変換シート!D17","v":""},{"$f":"変換シート!E17","v":""},{"$f":"変換シート!F17","v":""},{"$f":"変換シート!G17","v":""},{"$f":"変換シート!H17","v":""},{"$f":"変換シート!I17","v":""},{"$f":"変換シート!J17","v":""},{"$f":"変換シート!K17","v":""},{"$f":"変換シート!L17","v":""},{"$f":"変換シート!M17","v":""},{"$f":"変換シート!N17","v":""},{"$f":"変換シート!O17","v":""},{"$f":"変換シート!P17","v":""},{"$f":"変換シート!Q17","v":""},{"$f":"変換シート!R17","v":""},{"$f":"変換シート!S17","v":""},{"$f":"変換シート!T17","v":""},{"$f":"変換シート!U17","v":""},{"$f":"変換シート!V17","v":""},{"$f":"変換シート!W17","v":""},{"$f":"変換シート!X17","v":""},{"$f":"変換シート!Y17","v":""},{"$f":"変換シート!Z17","v":""},{"$f":"変換シート!AA17","v":""},{"$f":"変換シート!AB17","v":""},{"$f":"変換シート!AC17","v":""},{"$f":"変換シート!AD17","v":""},{"$f":"変換シート!AE17","v":""},{"$f":"変換シート!AF17","v":""},{"$f":"変換シート!AG17","v":""},{"$f":"変換シート!AH17","v":""},{"$f":"変換シート!AI17","v":""},{"$f":"変換シート!AJ17","v":""},{"$f":"変換シート!AK17","v":""},{"$f":"変換シート!AL17","v":""},{"$f":"変換シート!AM17","v":""},{"$f":"変換シート!AN17","v":""},{"$f":"変換シート!AO17","v":""},{"$f":"変換シート!AP17","v":""},{"$f":"変換シート!AQ17","v":""},{"$f":"変換シート!AR17","v":""},{"$f":"変換シート!AS17","v":""},{"$f":"変換シート!AT17","v":""},{"$f":"変換シート!AU17","v":""},{"$f":"変換シート!AV17","v":""},{"$f":"変換シート!AW17","v":""},{"$f":"変換シート!AX17","v":""},{"$f":"変換シート!AY17","v":""},{"$f":"変換シート!AZ17","v":""},{"$f":"変換シート!BA17","v":""},{"$f":"変換シート!BB17","v":""},{"$f":"変換シート!BC17","v":""},{"$f":"変換シート!BD17","v":""},{"$f":"変換シート!BE17","v":""},{"$f":"変換シート!BF17","v":""},{"$f":"変換シート!BG17","v":""},{"$f":"変換シート!BH17","v":""},{"$f":"変換シート!BI17","v":""},{"$f":"変換シート!BJ17","v":""},{"$f":"変換シート!BK17","v":""},{"$f":"変換シート!BL17","v":""},{"$f":"変換シート!BM17","v":""},{"$f":"変換シート!BN17","v":""},{"$f":"変換シート!BO17","v":""},{"$f":"変換シート!BP17","v":""},{"$f":"変換シート!BQ17","v":""},{"$f":"変換シート!BR17","v":""},{"$f":"変換シート!BS17","v":""},{"$f":"変換シート!BT17","v":""},{"$f":"変換シート!BU17","v":""},{"$f":"変換シート!BV17","v":""},{"$f":"入力画面!DJ193&\"\"","v":""},{"$f":"入力画面!DK193&\"\"","v":""},{"$f":"入力画面!DL193&\"\"","v":""},{"$f":"入力画面!DM193&\"\"","v":""},{"$f":"入力画面!DN193&\"\"","v":""},{"$f":"入力画面!DO193&\"\"","v":""},"非公開"]
[14,null,null,"埼玉県 福祉部 地域包括ケア課",{"$f":"入力画面!B207&\"\"","v":""},{"$f":"入力画面!D207&\"\"","v":""},{"$f":"入力画面!E207&\"\"","v":""},{"$f":"入力画面!F207&\"\"","v":""},{"$f":"入力画面!G207&\"\"","v":""},{"$f":"入力画面!H207&\"\"","v":""},{"$f":"入力画面!I207&\"\"","v":""},{"$f":"入力画面!J207&\"\"","v":""},{"$f":"入力画面!K207&\"\"","v":""},{"$f":"入力画面!M207&\"\"","v":""},{"$f":"入力画面!N207&\"\"","v":""},{"$f":"入力画面!O207&\"\"","v":""},{"$f":"入力画面!P207&\"\"","v":""},{"$f":"入力画面!Q207&\"\"","v":""},{"$f":"入力画面!R207&\"\"","v":""},{"$f":"変換シート!BW18","v":""},{"$f":"変換シート!BX18","v":""},{"$f":"変換シート!BY18","v":""},{"$f":"変換シート!BZ18","v":""},{"$f":"変換シート!CA18","v":""},{"$f":"変換シート!CB18","v":""},{"$f":"変換シート!CC18","v":""},{"$f":"変換シート!CD18","v":""},{"$f":"入力画面!AY207&\"\"","v":""},{"$f":"入力画面!DI207","v":0},{"$f":"変換シート!C18","v":""},{"$f":"変換シート!D18","v":""},{"$f":"変換シート!E18","v":""},{"$f":"変換シート!F18","v":""},{"$f":"変換シート!G18","v":""},{"$f":"変換シート!H18","v":""},{"$f":"変換シート!I18","v":""},{"$f":"変換シート!J18","v":""},{"$f":"変換シート!K18","v":""},{"$f":"変換シート!L18","v":""},{"$f":"変換シート!M18","v":""},{"$f":"変換シート!N18","v":""},{"$f":"変換シート!O18","v":""},{"$f":"変換シート!P18","v":""},{"$f":"変換シート!Q18","v":""},{"$f":"変換シート!R18","v":""},{"$f":"変換シート!S18","v":""},{"$f":"変換シート!T18","v":""},{"$f":"変換シート!U18","v":""},{"$f":"変換シート!V18","v":""},{"$f":"変換シート!W18","v":""},{"$f":"変換シート!X18","v":""},{"$f":"変換シート!Y18","v":""},{"$f":"変換シート!Z18","v":""},{"$f":"変換シート!AA18","v":""},{"$f":"変換シート!AB18","v":""},{"$f":"変換シート!AC18","v":""},{"$f":"変換シート!AD18","v":""},{"$f":"変換シート!AE18","v":""},{"$f":"変換シート!AF18","v":""},{"$f":"変換シート!AG18","v":""},{"$f":"変換シート!AH18","v":""},{"$f":"変換シート!AI18","v":""},{"$f":"変換シート!AJ18","v":""},{"$f":"変換シート!AK18","v":""},{"$f":"変換シート!AL18","v":""},{"$f":"変換シート!AM18","v":""},{"$f":"変換シート!AN18","v":""},{"$f":"変換シート!AO18","v":""},{"$f":"変換シート!AP18","v":""},{"$f":"変換シート!AQ18","v":""},{"$f":"変換シート!AR18","v":""},{"$f":"変換シート!AS18","v":""},{"$f":"変換シート!AT18","v":""},{"$f":"変換シート!AU18","v":""},{"$f":"変換シート!AV18","v":""},{"$f":"変換シート!AW18","v":""},{"$f":"変換シート!AX18","v":""},{"$f":"変換シート!AY18","v":""},{"$f":"変換シート!AZ18","v":""},{"$f":"変換シート!BA18","v":""},{"$f":"変換シート!BB18","v":""},{"$f":"変換シート!BC18","v":""},{"$f":"変換シート!BD18","v":""},{"$f":"変換シート!BE18","v":""},{"$f":"変換シート!BF18","v":""},{"$f":"変換シート!BG18","v":""},{"$f":"変換シート!BH18","v":""},{"$f":"変換シート!BI18","v":""},{"$f":"変換シート!BJ18","v":""},{"$f":"変換シート!BK18","v":""},{"$f":"変換シート!BL18","v":""},{"$f":"変換シート!BM18","v":""},{"$f":"変換シート!BN18","v":""},{"$f":"変換シート!BO18","v":""},{"$f":"変換シート!BP18","v":""},{"$f":"変換シート!BQ18","v":""},{"$f":"変換シート!BR18","v":""},{"$f":"変換シート!BS18","v":""},{"$f":"変換シート!BT18","v":""},{"$f":"変換シート!BU18","v":""},{"$f":"変換シート!BV18","v":""},{"$f":"入力画面!DJ207&\"\"","v":""},{"$f":"入力画面!DK207&\"\"","v":""},{"$f":"入力画面!DL207&\"\"","v":""},{"$f":"入力画面!DM207&\"\"","v":""},{"$f":"入力画面!DN207&\"\"","v":""},{"$f":"入力画面!DO207&\"\"","v":""},"非公開"]
[15,null,null,"埼玉県 福祉部 地域包括ケア課",{"$f":"入力画面!B221&\"\"","v":""},{"$f":"入力画面!D221&\"\"","v":""},{"$f":"入力画面!E221&\"\"","v":""},{"$f":"入力画面!F221&\"\"","v":""},{"$f":"入力画面!G221&\"\"","v":""},{"$f":"入力画面!H221&\"\"","v":""},{"$f":"入力画面!I221&\"\"","v":""},{"$f":"入力画面!J221&\"\"","v":""},{"$f":"入力画面!K221&\"\"","v":""},{"$f":"入力画面!M221&\"\"","v":""},{"$f":"入力画面!N221&\"\"","v":""},{"$f":"入力画面!O221&\"\"","v":""},{"$f":"入力画面!P221&\"\"","v":""},{"$f":"入力画面!Q221&\"\"","v":""},{"$f":"入力画面!R221&\"\"","v":""},{"$f":"変換シート!BW19","v":""},{"$f":"変換シート!BX19","v":""},{"$f":"変換シート!BY19","v":""},{"$f":"変換シート!BZ19","v":""},{"$f":"変換シート!CA19","v":""},{"$f":"変換シート!CB19","v":""},{"$f":"変換シート!CC19","v":""},{"$f":"変換シート!CD19","v":""},{"$f":"入力画面!AY221&\"\"","v":""},{"$f":"入力画面!DI221","v":0},{"$f":"変換シート!C19","v":""},{"$f":"変換シート!D19","v":""},{"$f":"変換シート!E19","v":""},{"$f":"変換シート!F19","v":""},{"$f":"変換シート!G19","v":""},{"$f":"変換シート!H19","v":""},{"$f":"変換シート!I19","v":""},{"$f":"変換シート!J19","v":""},{"$f":"変換シート!K19","v":""},{"$f":"変換シート!L19","v":""},{"$f":"変換シート!M19","v":""},{"$f":"変換シート!N19","v":""},{"$f":"変換シート!O19","v":""},{"$f":"変換シート!P19","v":""},{"$f":"変換シート!Q19","v":""},{"$f":"変換シート!R19","v":""},{"$f":"変換シート!S19","v":""},{"$f":"変換シート!T19","v":""},{"$f":"変換シート!U19","v":""},{"$f":"変換シート!V19","v":""},{"$f":"変換シート!W19","v":""},{"$f":"変換シート!X19","v":""},{"$f":"変換シート!Y19","v":""},{"$f":"変換シート!Z19","v":""},{"$f":"変換シート!AA19","v":""},{"$f":"変換シート!AB19","v":""},{"$f":"変換シート!AC19","v":""},{"$f":"変換シート!AD19","v":""},{"$f":"変換シート!AE19","v":""},{"$f":"変換シート!AF19","v":""},{"$f":"変換シート!AG19","v":""},{"$f":"変換シート!AH19","v":""},{"$f":"変換シート!AI19","v":""},{"$f":"変換シート!AJ19","v":""},{"$f":"変換シート!AK19","v":""},{"$f":"変換シート!AL19","v":""},{"$f":"変換シート!AM19","v":""},{"$f":"変換シート!AN19","v":""},{"$f":"変換シート!AO19","v":""},{"$f":"変換シート!AP19","v":""},{"$f":"変換シート!AQ19","v":""},{"$f":"変換シート!AR19","v":""},{"$f":"変換シート!AS19","v":""},{"$f":"変換シート!AT19","v":""},{"$f":"変換シート!AU19","v":""},{"$f":"変換シート!AV19","v":""},{"$f":"変換シート!AW19","v":""},{"$f":"変換シート!AX19","v":""},{"$f":"変換シート!AY19","v":""},{"$f":"変換シート!AZ19","v":""},{"$f":"変換シート!BA19","v":""},{"$f":"変換シート!BB19","v":""},{"$f":"変換シート!BC19","v":""},{"$f":"変換シート!BD19","v":""},{"$f":"変換シート!BE19","v":""},{"$f":"変換シート!BF19","v":""},{"$f":"変換シート!BG19","v":""},{"$f":"変換シート!BH19","v":""},{"$f":"変換シート!BI19","v":""},{"$f":"変換シート!BJ19","v":""},{"$f":"変換シート!BK19","v":""},{"$f":"変換シート!BL19","v":""},{"$f":"変換シート!BM19","v":""},{"$f":"変換シート!BN19","v":""},{"$f":"変換シート!BO19","v":""},{"$f":"変換シート!BP19","v":""},{"$f":"変換シート!BQ19","v":""},{"$f":"変換シート!BR19","v":""},{"$f":"変換シート!BS19","v":""},{"$f":"変換シート!BT19","v":""},{"$f":"変換シート!BU19","v":""},{"$f":"変換シート!BV19","v":""},{"$f":"入力画面!DJ221&\"\"","v":""},{"$f":"入力画面!DK221&\"\"","v":""},{"$f":"入力画面!DL221&\"\"","v":""},{"$f":"入力画面!DM221&\"\"","v":""},{"$f":"入力画面!DN221&\"\"","v":""},{"$f":"入力画面!DO221&\"\"","v":""},"非公開"]
[16,null,null,"埼玉県 福祉部 地域包括ケア課",{"$f":"入力画面!B235&\"\"","v":""},{"$f":"入力画面!D235&\"\"","v":""},{"$f":"入力画面!E235&\"\"","v":""},{"$f":"入力画面!F235&\"\"","v":""},{"$f":"入力画面!G235&\"\"","v":""},{"$f":"入力画面!H235&\"\"","v":""},{"$f":"入力画面!I235&\"\"","v":""},{"$f":"入力画面!J235&\"\"","v":""},{"$f":"入力画面!K235&\"\"","v":""},{"$f":"入力画面!M235&\"\"","v":""},{"$f":"入力画面!N235&\"\"","v":""},{"$f":"入力画面!O235&\"\"","v":""},{"$f":"入力画面!P235&\"\"","v":""},{"$f":"入力画面!Q235&\"\"","v":""},{"$f":"入力画面!R235&\"\"","v":""},{"$f":"変換シート!BW20","v":""},{"$f":"変換シート!BX20","v":""},{"$f":"変換シート!BY20","v":""},{"$f":"変換シート!BZ20","v":""},{"$f":"変換シート!CA20","v":""},{"$f":"変換シート!CB20","v":""},{"$f":"変換シート!CC20","v":""},{"$f":"変換シート!CD20","v":""},{"$f":"入力画面!AY235&\"\"","v":""},{"$f":"入力画面!DI235","v":0},{"$f":"変換シート!C20","v":""},{"$f":"変換シート!D20","v":""},{"$f":"変換シート!E20","v":""},{"$f":"変換シート!F20","v":""},{"$f":"変換シート!G20","v":""},{"$f":"変換シート!H20","v":""},{"$f":"変換シート!I20","v":""},{"$f":"変換シート!J20","v":""},{"$f":"変換シート!K20","v":""},{"$f":"変換シート!L20","v":""},{"$f":"変換シート!M20","v":""},{"$f":"変換シート!N20","v":""},{"$f":"変換シート!O20","v":""},{"$f":"変換シート!P20","v":""},{"$f":"変換シート!Q20","v":""},{"$f":"変換シート!R20","v":""},{"$f":"変換シート!S20","v":""},{"$f":"変換シート!T20","v":""},{"$f":"変換シート!U20","v":""},{"$f":"変換シート!V20","v":""},{"$f":"変換シート!W20","v":""},{"$f":"変換シート!X20","v":""},{"$f":"変換シート!Y20","v":""},{"$f":"変換シート!Z20","v":""},{"$f":"変換シート!AA20","v":""},{"$f":"変換シート!AB20","v":""},{"$f":"変換シート!AC20","v":""},{"$f":"変換シート!AD20","v":""},{"$f":"変換シート!AE20","v":""},{"$f":"変換シート!AF20","v":""},{"$f":"変換シート!AG20","v":""},{"$f":"変換シート!AH20","v":""},{"$f":"変換シート!AI20","v":""},{"$f":"変換シート!AJ20","v":""},{"$f":"変換シート!AK20","v":""},{"$f":"変換シート!AL20","v":""},{"$f":"変換シート!AM20","v":""},{"$f":"変換シート!AN20","v":""},{"$f":"変換シート!AO20","v":""},{"$f":"変換シート!AP20","v":""},{"$f":"変換シート!AQ20","v":""},{"$f":"変換シート!AR20","v":""},{"$f":"変換シート!AS20","v":""},{"$f":"変換シート!AT20","v":""},{"$f":"変換シート!AU20","v":""},{"$f":"変換シート!AV20","v":""},{"$f":"変換シート!AW20","v":""},{"$f":"変換シート!AX20","v":""},{"$f":"変換シート!AY20","v":""},{"$f":"変換シート!AZ20","v":""},{"$f":"変換シート!BA20","v":""},{"$f":"変換シート!BB20","v":""},{"$f":"変換シート!BC20","v":""},{"$f":"変換シート!BD20","v":""},{"$f":"変換シート!BE20","v":""},{"$f":"変換シート!BF20","v":""},{"$f":"変換シート!BG20","v":""},{"$f":"変換シート!BH20","v":""},{"$f":"変換シート!BI20","v":""},{"$f":"変換シート!BJ20","v":""},{"$f":"変換シート!BK20","v":""},{"$f":"変換シート!BL20","v":""},{"$f":"変換シート!BM20","v":""},{"$f":"変換シート!BN20","v":""},{"$f":"変換シート!BO20","v":""},{"$f":"変換シート!BP20","v":""},{"$f":"変換シート!BQ20","v":""},{"$f":"変換シート!BR20","v":""},{"$f":"変換シート!BS20","v":""},{"$f":"変換シート!BT20","v":""},{"$f":"変換シート!BU20","v":""},{"$f":"変換シート!BV20","v":""},{"$f":"入力画面!DJ235&\"\"","v":""},{"$f":"入力画面!DK235&\"\"","v":""},{"$f":"入力画面!DL235&\"\"","v":""},{"$f":"入力画面!DM235&\"\"","v":""},{"$f":"入力画面!DN235&\"\"","v":""},{"$f":"入力画面!DO235&\"\"","v":""},"非公開"]
[17,null,null,"埼玉県 福祉部 地域包括ケア課",{"$f":"入力画面!B249&\"\"","v":""},{"$f":"入力画面!D249&\"\"","v":""},{"$f":"入力画面!E249&\"\"","v":""},{"$f":"入力画面!F249&\"\"","v":""},{"$f":"入力画面!G249&\"\"","v":""},{"$f":"入力画面!H249&\"\"","v":""},{"$f":"入力画面!I249&\"\"","v":""},{"$f":"入力画面!J249&\"\"","v":""},{"$f":"入力画面!K249&\"\"","v":""},{"$f":"入力画面!M249&\"\"","v":""},{"$f":"入力画面!N249&\"\"","v":""},{"$f":"入力画面!O249&\"\"","v":""},{"$f":"入力画面!P249&\"\"","v":""},{"$f":"入力画面!Q249&\"\"","v":""},{"$f":"入力画面!R249&\"\"","v":""},{"$f":"変換シート!BW21","v":""},{"$f":"変換シート!BX21","v":""},{"$f":"変換シート!BY21","v":""},{"$f":"変換シート!BZ21","v":""},{"$f":"変換シート!CA21","v":""},{"$f":"変換シート!CB21","v":""},{"$f":"変換シート!CC21","v":""},{"$f":"変換シート!CD21","v":""},{"$f":"入力画面!AY249&\"\"","v":""},{"$f":"入力画面!DI249","v":0},{"$f":"変換シート!C21","v":""},{"$f":"変換シート!D21","v":""},{"$f":"変換シート!E21","v":""},{"$f":"変換シート!F21","v":""},{"$f":"変換シート!G21","v":""},{"$f":"変換シート!H21","v":""},{"$f":"変換シート!I21","v":""},{"$f":"変換シート!J21","v":""},{"$f":"変換シート!K21","v":""},{"$f":"変換シート!L21","v":""},{"$f":"変換シート!M21","v":""},{"$f":"変換シート!N21","v":""},{"$f":"変換シート!O21","v":""},{"$f":"変換シート!P21","v":""},{"$f":"変換シート!Q21","v":""},{"$f":"変換シート!R21","v":""},{"$f":"変換シート!S21","v":""},{"$f":"変換シート!T21","v":""},{"$f":"変換シート!U21","v":""},{"$f":"変換シート!V21","v":""},{"$f":"変換シート!W21","v":""},{"$f":"変換シート!X21","v":""},{"$f":"変換シート!Y21","v":""},{"$f":"変換シート!Z21","v":""},{"$f":"変換シート!AA21","v":""},{"$f":"変換シート!AB21","v":""},{"$f":"変換シート!AC21","v":""},{"$f":"変換シート!AD21","v":""},{"$f":"変換シート!AE21","v":""},{"$f":"変換シート!AF21","v":""},{"$f":"変換シート!AG21","v":""},{"$f":"変換シート!AH21","v":""},{"$f":"変換シート!AI21","v":""},{"$f":"変換シート!AJ21","v":""},{"$f":"変換シート!AK21","v":""},{"$f":"変換シート!AL21","v":""},{"$f":"変換シート!AM21","v":""},{"$f":"変換シート!AN21","v":""},{"$f":"変換シート!AO21","v":""},{"$f":"変換シート!AP21","v":""},{"$f":"変換シート!AQ21","v":""},{"$f":"変換シート!AR21","v":""},{"$f":"変換シート!AS21","v":""},{"$f":"変換シート!AT21","v":""},{"$f":"変換シート!AU21","v":""},{"$f":"変換シート!AV21","v":""},{"$f":"変換シート!AW21","v":""},{"$f":"変換シート!AX21","v":""},{"$f":"変換シート!AY21","v":""},{"$f":"変換シート!AZ21","v":""},{"$f":"変換シート!BA21","v":""},{"$f":"変換シート!BB21","v":""},{"$f":"変換シート!BC21","v":""},{"$f":"変換シート!BD21","v":""},{"$f":"変換シート!BE21","v":""},{"$f":"変換シート!BF21","v":""},{"$f":"変換シート!BG21","v":""},{"$f":"変換シート!BH21","v":""},{"$f":"変換シート!BI21","v":""},{"$f":"変換シート!BJ21","v":""},{"$f":"変換シート!BK21","v":""},{"$f":"変換シート!BL21","v":""},{"$f":"変換シート!BM21","v":""},{"$f":"変換シート!BN21","v":""},{"$f":"変換シート!BO21","v":""},{"$f":"変換シート!BP21","v":""},{"$f":"変換シート!BQ21","v":""},{"$f":"変換シート!BR21","v":""},{"$f":"変換シート!BS21","v":""},{"$f":"変換シート!BT21","v":""},{"$f":"変換シート!BU21","v":""},{"$f":"変換シート!BV21","v":""},{"$f":"入力画面!DJ249&\"\"","v":""},{"$f":"入力画面!DK249&\"\"","v":""},{"$f":"入力画面!DL249&\"\"","v":""},{"$f":"入力画面!DM249&\"\"","v":""},{"$f":"入力画面!DN249&\"\"","v":""},{"$f":"入力画面!DO249&\"\"","v":""},"非公開"]
[18,null,null,"埼玉県 福祉部 地域包括ケア課",{"$f":"入力画面!B263&\"\"","v":""},{"$f":"入力画面!D263&\"\"","v":""},{"$f":"入力画面!E263&\"\"","v":""},{"$f":"入力画面!F263&\"\"","v":""},{"$f":"入力画面!G263&\"\"","v":""},{"$f":"入力画面!H263&\"\"","v":""},{"$f":"入力画面!I263&\"\"","v":""},{"$f":"入力画面!J263&\"\"","v":""},{"$f":"入力画面!K263&\"\"","v":""},{"$f":"入力画面!M263&\"\"","v":""},{"$f":"入力画面!N263&\"\"","v":""},{"$f":"入力画面!O263&\"\"","v":""},{"$f":"入力画面!P263&\"\"","v":""},{"$f":"入力画面!Q263&\"\"","v":""},{"$f":"入力画面!R263&\"\"","v":""},{"$f":"変換シート!BW22","v":""},{"$f":"変換シート!BX22","v":""},{"$f":"変換シート!BY22","v":""},{"$f":"変換シート!BZ22","v":""},{"$f":"変換シート!CA22","v":""},{"$f":"変換シート!CB22","v":""},{"$f":"変換シート!CC22","v":""},{"$f":"変換シート!CD22","v":""},{"$f":"入力画面!AY263&\"\"","v":""},{"$f":"入力画面!DI263","v":0},{"$f":"変換シート!C22","v":""},{"$f":"変換シート!D22","v":""},{"$f":"変換シート!E22","v":""},{"$f":"変換シート!F22","v":""},{"$f":"変換シート!G22","v":""},{"$f":"変換シート!H22","v":""},{"$f":"変換シート!I22","v":""},{"$f":"変換シート!J22","v":""},{"$f":"変換シート!K22","v":""},{"$f":"変換シート!L22","v":""},{"$f":"変換シート!M22","v":""},{"$f":"変換シート!N22","v":""},{"$f":"変換シート!O22","v":""},{"$f":"変換シート!P22","v":""},{"$f":"変換シート!Q22","v":""},{"$f":"変換シート!R22","v":""},{"$f":"変換シート!S22","v":""},{"$f":"変換シート!T22","v":""},{"$f":"変換シート!U22","v":""},{"$f":"変換シート!V22","v":""},{"$f":"変換シート!W22","v":""},{"$f":"変換シート!X22","v":""},{"$f":"変換シート!Y22","v":""},{"$f":"変換シート!Z22","v":""},{"$f":"変換シート!AA22","v":""},{"$f":"変換シート!AB22","v":""},{"$f":"変換シート!AC22","v":""},{"$f":"変換シート!AD22","v":""},{"$f":"変換シート!AE22","v":""},{"$f":"変換シート!AF22","v":""},{"$f":"変換シート!AG22","v":""},{"$f":"変換シート!AH22","v":""},{"$f":"変換シート!AI22","v":""},{"$f":"変換シート!AJ22","v":""},{"$f":"変換シート!AK22","v":""},{"$f":"変換シート!AL22","v":""},{"$f":"変換シート!AM22","v":""},{"$f":"変換シート!AN22","v":""},{"$f":"変換シート!AO22","v":""},{"$f":"変換シート!AP22","v":""},{"$f":"変換シート!AQ22","v":""},{"$f":"変換シート!AR22","v":""},{"$f":"変換シート!AS22","v":""},{"$f":"変換シート!AT22","v":""},{"$f":"変換シート!AU22","v":""},{"$f":"変換シート!AV22","v":""},{"$f":"変換シート!AW22","v":""},{"$f":"変換シート!AX22","v":""},{"$f":"変換シート!AY22","v":""},{"$f":"変換シート!AZ22","v":""},{"$f":"変換シート!BA22","v":""},{"$f":"変換シート!BB22","v":""},{"$f":"変換シート!BC22","v":""},{"$f":"変換シート!BD22","v":""},{"$f":"変換シート!BE22","v":""},{"$f":"変換シート!BF22","v":""},{"$f":"変換シート!BG22","v":""},{"$f":"変換シート!BH22","v":""},{"$f":"変換シート!BI22","v":""},{"$f":"変換シート!BJ22","v":""},{"$f":"変換シート!BK22","v":""},{"$f":"変換シート!BL22","v":""},{"$f":"変換シート!BM22","v":""},{"$f":"変換シート!BN22","v":""},{"$f":"変換シート!BO22","v":""},{"$f":"変換シート!BP22","v":""},{"$f":"変換シート!BQ22","v":""},{"$f":"変換シート!BR22","v":""},{"$f":"変換シート!BS22","v":""},{"$f":"変換シート!BT22","v":""},{"$f":"変換シート!BU22","v":""},{"$f":"変換シート!BV22","v":""},{"$f":"入力画面!DJ263&\"\"","v":""},{"$f":"入力画面!DK263&\"\"","v":""},{"$f":"入力画面!DL263&\"\"","v":""},{"$f":"入力画面!DM263&\"\"","v":""},{"$f":"入力画面!DN263&\"\"","v":""},{"$f":"入力画面!DO263&\"\"","v":""},"非公開"]
[19,null,null,"埼玉県 福祉部 地域包括ケア課",{"$f":"入力画面!B277&\"\"","v":""},{"$f":"入力画面!D277&\"\"","v":""},{"$f":"入力画面!E277&\"\"","v":""},{"$f":"入力画面!F277&\"\"","v":""},{"$f":"入力画面!G277&\"\"","v":""},{"$f":"入力画面!H277&\"\"","v":""},{"$f":"入力画面!I277&\"\"","v":""},{"$f":"入力画面!J277&\"\"","v":""},{"$f":"入力画面!K277&\"\"","v":""},{"$f":"入力画面!M277&\"\"","v":""},{"$f":"入力画面!N277&\"\"","v":""},{"$f":"入力画面!O277&\"\"","v":""},{"$f":"入力画面!P277&\"\"","v":""},{"$f":"入力画面!Q277&\"\"","v":""},{"$f":"入力画面!R277&\"\"","v":""},{"$f":"変換シート!BW23","v":""},{"$f":"変換シート!BX23","v":""},{"$f":"変換シート!BY23","v":""},{"$f":"変換シート!BZ23","v":""},{"$f":"変換シート!CA23","v":""},{"$f":"変換シート!CB23","v":""},{"$f":"変換シート!CC23","v":""},{"$f":"変換シート!CD23","v":""},{"$f":"入力画面!AY277&\"\"","v":""},{"$f":"入力画面!DI277","v":0},{"$f":"変換シート!C23","v":""},{"$f":"変換シート!D23","v":""},{"$f":"変換シート!E23","v":""},{"$f":"変換シート!F23","v":""},{"$f":"変換シート!G23","v":""},{"$f":"変換シート!H23","v":""},{"$f":"変換シート!I23","v":""},{"$f":"変換シート!J23","v":""},{"$f":"変換シート!K23","v":""},{"$f":"変換シート!L23","v":""},{"$f":"変換シート!M23","v":""},{"$f":"変換シート!N23","v":""},{"$f":"変換シート!O23","v":""},{"$f":"変換シート!P23","v":""},{"$f":"変換シート!Q23","v":""},{"$f":"変換シート!R23","v":""},{"$f":"変換シート!S23","v":""},{"$f":"変換シート!T23","v":""},{"$f":"変換シート!U23","v":""},{"$f":"変換シート!V23","v":""},{"$f":"変換シート!W23","v":""},{"$f":"変換シート!X23","v":""},{"$f":"変換シート!Y23","v":""},{"$f":"変換シート!Z23","v":""},{"$f":"変換シート!AA23","v":""},{"$f":"変換シート!AB23","v":""},{"$f":"変換シート!AC23","v":""},{"$f":"変換シート!AD23","v":""},{"$f":"変換シート!AE23","v":""},{"$f":"変換シート!AF23","v":""},{"$f":"変換シート!AG23","v":""},{"$f":"変換シート!AH23","v":""},{"$f":"変換シート!AI23","v":""},{"$f":"変換シート!AJ23","v":""},{"$f":"変換シート!AK23","v":""},{"$f":"変換シート!AL23","v":""},{"$f":"変換シート!AM23","v":""},{"$f":"変換シート!AN23","v":""},{"$f":"変換シート!AO23","v":""},{"$f":"変換シート!AP23","v":""},{"$f":"変換シート!AQ23","v":""},{"$f":"変換シート!AR23","v":""},{"$f":"変換シート!AS23","v":""},{"$f":"変換シート!AT23","v":""},{"$f":"変換シート!AU23","v":""},{"$f":"変換シート!AV23","v":""},{"$f":"変換シート!AW23","v":""},{"$f":"変換シート!AX23","v":""},{"$f":"変換シート!AY23","v":""},{"$f":"変換シート!AZ23","v":""},{"$f":"変換シート!BA23","v":""},{"$f":"変換シート!BB23","v":""},{"$f":"変換シート!BC23","v":""},{"$f":"変換シート!BD23","v":""},{"$f":"変換シート!BE23","v":""},{"$f":"変換シート!BF23","v":""},{"$f":"変換シート!BG23","v":""},{"$f":"変換シート!BH23","v":""},{"$f":"変換シート!BI23","v":""},{"$f":"変換シート!BJ23","v":""},{"$f":"変換シート!BK23","v":""},{"$f":"変換シート!BL23","v":""},{"$f":"変換シート!BM23","v":""},{"$f":"変換シート!BN23","v":""},{"$f":"変換シート!BO23","v":""},{"$f":"変換シート!BP23","v":""},{"$f":"変換シート!BQ23","v":""},{"$f":"変換シート!BR23","v":""},{"$f":"変換シート!BS23","v":""},{"$f":"変換シート!BT23","v":""},{"$f":"変換シート!BU23","v":""},{"$f":"変換シート!BV23","v":""},{"$f":"入力画面!DJ277&\"\"","v":""},{"$f":"入力画面!DK277&\"\"","v":""},{"$f":"入力画面!DL277&\"\"","v":""},{"$f":"入力画面!DM277&\"\"","v":""},{"$f":"入力画面!DN277&\"\"","v":""},{"$f":"入力画面!DO277&\"\"","v":""},"非公開"]
[20,null,null,"埼玉県 福祉部 地域包括ケア課",{"$f":"入力画面!B291&\"\"","v":""},{"$f":"入力画面!D291&\"\"","v":""},{"$f":"入力画面!E291&\"\"","v":""},{"$f":"入力画面!F291&\"\"","v":""},{"$f":"入力画面!G291&\"\"","v":""},{"$f":"入力画面!H291&\"\"","v":""},{"$f":"入力画面!I291&\"\"","v":""},{"$f":"入力画面!J291&\"\"","v":""},{"$f":"入力画面!K291&\"\"","v":""},{"$f":"入力画面!M291&\"\"","v":""},{"$f":"入力画面!N291&\"\"","v":""},{"$f":"入力画面!O291&\"\"","v":""},{"$f":"入力画面!P291&\"\"","v":""},{"$f":"入力画面!Q291&\"\"","v":""},{"$f":"入力画面!R291&\"\"","v":""},{"$f":"変換シート!BW24","v":""},{"$f":"変換シート!BX24","v":""},{"$f":"変換シート!BY24","v":""},{"$f":"変換シート!BZ24","v":""},{"$f":"変換シート!CA24","v":""},{"$f":"変換シート!CB24","v":""},{"$f":"変換シート!CC24","v":""},{"$f":"変換シート!CD24","v":""},{"$f":"入力画面!AY291&\"\"","v":""},{"$f":"入力画面!DI291","v":0},{"$f":"変換シート!C24","v":""},{"$f":"変換シート!D24","v":""},{"$f":"変換シート!E24","v":""},{"$f":"変換シート!F24","v":""},{"$f":"変換シート!G24","v":""},{"$f":"変換シート!H24","v":""},{"$f":"変換シート!I24","v":""},{"$f":"変換シート!J24","v":""},{"$f":"変換シート!K24","v":""},{"$f":"変換シート!L24","v":""},{"$f":"変換シート!M24","v":""},{"$f":"変換シート!N24","v":""},{"$f":"変換シート!O24","v":""},{"$f":"変換シート!P24","v":""},{"$f":"変換シート!Q24","v":""},{"$f":"変換シート!R24","v":""},{"$f":"変換シート!S24","v":""},{"$f":"変換シート!T24","v":""},{"$f":"変換シート!U24","v":""},{"$f":"変換シート!V24","v":""},{"$f":"変換シート!W24","v":""},{"$f":"変換シート!X24","v":""},{"$f":"変換シート!Y24","v":""},{"$f":"変換シート!Z24","v":""},{"$f":"変換シート!AA24","v":""},{"$f":"変換シート!AB24","v":""},{"$f":"変換シート!AC24","v":""},{"$f":"変換シート!AD24","v":""},{"$f":"変換シート!AE24","v":""},{"$f":"変換シート!AF24","v":""},{"$f":"変換シート!AG24","v":""},{"$f":"変換シート!AH24","v":""},{"$f":"変換シート!AI24","v":""},{"$f":"変換シート!AJ24","v":""},{"$f":"変換シート!AK24","v":""},{"$f":"変換シート!AL24","v":""},{"$f":"変換シート!AM24","v":""},{"$f":"変換シート!AN24","v":""},{"$f":"変換シート!AO24","v":""},{"$f":"変換シート!AP24","v":""},{"$f":"変換シート!AQ24","v":""},{"$f":"変換シート!AR24","v":""},{"$f":"変換シート!AS24","v":""},{"$f":"変換シート!AT24","v":""},{"$f":"変換シート!AU24","v":""},{"$f":"変換シート!AV24","v":""},{"$f":"変換シート!AW24","v":""},{"$f":"変換シート!AX24","v":""},{"$f":"変換シート!AY24","v":""},{"$f":"変換シート!AZ24","v":""},{"$f":"変換シート!BA24","v":""},{"$f":"変換シート!BB24","v":""},{"$f":"変換シート!BC24","v":""},{"$f":"変換シート!BD24","v":""},{"$f":"変換シート!BE24","v":""},{"$f":"変換シート!BF24","v":""},{"$f":"変換シート!BG24","v":""},{"$f":"変換シート!BH24","v":""},{"$f":"変換シート!BI24","v":""},{"$f":"変換シート!BJ24","v":""},{"$f":"変換シート!BK24","v":""},{"$f":"変換シート!BL24","v":""},{"$f":"変換シート!BM24","v":""},{"$f":"変換シート!BN24","v":""},{"$f":"変換シート!BO24","v":""},{"$f":"変換シート!BP24","v":""},{"$f":"変換シート!BQ24","v":""},{"$f":"変換シート!BR24","v":""},{"$f":"変換シート!BS24","v":""},{"$f":"変換シート!BT24","v":""},{"$f":"変換シート!BU24","v":""},{"$f":"変換シート!BV24","v":""},{"$f":"入力画面!DJ291&\"\"","v":""},{"$f":"入力画面!DK291&\"\"","v":""},{"$f":"入力画面!DL291&\"\"","v":""},{"$f":"入力画面!DM291&\"\"","v":""},{"$f":"入力画面!DN291&\"\"","v":""},{"$f":"入力画面!DO291&\"\"","v":""},"非公開"]
[21,null,null,"埼玉県 福祉部 地域包括ケア課",{"$f":"入力画面!B305&\"\"","v":""},{"$f":"入力画面!D305&\"\"","v":""},{"$f":"入力画面!E305&\"\"","v":""},{"$f":"入力画面!F305&\"\"","v":""},{"$f":"入力画面!G305&\"\"","v":""},{"$f":"入力画面!H305&\"\"","v":""},{"$f":"入力画面!I305&\"\"","v":""},{"$f":"入力画面!J305&\"\"","v":""},{"$f":"入力画面!K305&\"\"","v":""},{"$f":"入力画面!M305&\"\"","v":""},{"$f":"入力画面!N305&\"\"","v":""},{"$f":"入力画面!O305&\"\"","v":""},{"$f":"入力画面!P305&\"\"","v":""},{"$f":"入力画面!Q305&\"\"","v":""},{"$f":"入力画面!R305&\"\"","v":""},{"$f":"変換シート!BW25","v":""},{"$f":"変換シート!BX25","v":""},{"$f":"変換シート!BY25","v":""},{"$f":"変換シート!BZ25","v":""},{"$f":"変換シート!CA25","v":""},{"$f":"変換シート!CB25","v":""},{"$f":"変換シート!CC25","v":""},{"$f":"変換シート!CD25","v":""},{"$f":"入力画面!AY305&\"\"","v":""},{"$f":"入力画面!DI305","v":0},{"$f":"変換シート!C25","v":""},{"$f":"変換シート!D25","v":""},{"$f":"変換シート!E25","v":""},{"$f":"変換シート!F25","v":""},{"$f":"変換シート!G25","v":""},{"$f":"変換シート!H25","v":""},{"$f":"変換シート!I25","v":""},{"$f":"変換シート!J25","v":""},{"$f":"変換シート!K25","v":""},{"$f":"変換シート!L25","v":""},{"$f":"変換シート!M25","v":""},{"$f":"変換シート!N25","v":""},{"$f":"変換シート!O25","v":""},{"$f":"変換シート!P25","v":""},{"$f":"変換シート!Q25","v":""},{"$f":"変換シート!R25","v":""},{"$f":"変換シート!S25","v":""},{"$f":"変換シート!T25","v":""},{"$f":"変換シート!U25","v":""},{"$f":"変換シート!V25","v":""},{"$f":"変換シート!W25","v":""},{"$f":"変換シート!X25","v":""},{"$f":"変換シート!Y25","v":""},{"$f":"変換シート!Z25","v":""},{"$f":"変換シート!AA25","v":""},{"$f":"変換シート!AB25","v":""},{"$f":"変換シート!AC25","v":""},{"$f":"変換シート!AD25","v":""},{"$f":"変換シート!AE25","v":""},{"$f":"変換シート!AF25","v":""},{"$f":"変換シート!AG25","v":""},{"$f":"変換シート!AH25","v":""},{"$f":"変換シート!AI25","v":""},{"$f":"変換シート!AJ25","v":""},{"$f":"変換シート!AK25","v":""},{"$f":"変換シート!AL25","v":""},{"$f":"変換シート!AM25","v":""},{"$f":"変換シート!AN25","v":""},{"$f":"変換シート!AO25","v":""},{"$f":"変換シート!AP25","v":""},{"$f":"変換シート!AQ25","v":""},{"$f":"変換シート!AR25","v":""},{"$f":"変換シート!AS25","v":""},{"$f":"変換シート!AT25","v":""},{"$f":"変換シート!AU25","v":""},{"$f":"変換シート!AV25","v":""},{"$f":"変換シート!AW25","v":""},{"$f":"変換シート!AX25","v":""},{"$f":"変換シート!AY25","v":""},{"$f":"変換シート!AZ25","v":""},{"$f":"変換シート!BA25","v":""},{"$f":"変換シート!BB25","v":""},{"$f":"変換シート!BC25","v":""},{"$f":"変換シート!BD25","v":""},{"$f":"変換シート!BE25","v":""},{"$f":"変換シート!BF25","v":""},{"$f":"変換シート!BG25","v":""},{"$f":"変換シート!BH25","v":""},{"$f":"変換シート!BI25","v":""},{"$f":"変換シート!BJ25","v":""},{"$f":"変換シート!BK25","v":""},{"$f":"変換シート!BL25","v":""},{"$f":"変換シート!BM25","v":""},{"$f":"変換シート!BN25","v":""},{"$f":"変換シート!BO25","v":""},{"$f":"変換シート!BP25","v":""},{"$f":"変換シート!BQ25","v":""},{"$f":"変換シート!BR25","v":""},{"$f":"変換シート!BS25","v":""},{"$f":"変換シート!BT25","v":""},{"$f":"変換シート!BU25","v":""},{"$f":"変換シート!BV25","v":""},{"$f":"入力画面!DJ305&\"\"","v":""},{"$f":"入力画面!DK305&\"\"","v":""},{"$f":"入力画面!DL305&\"\"","v":""},{"$f":"入力画面!DM305&\"\"","v":""},{"$f":"入力画面!DN305&\"\"","v":""},{"$f":"入力画面!DO305&\"\"","v":""},"非公開"]
[22,null,null,"埼玉県 福祉部 地域包括ケア課",{"$f":"入力画面!B319&\"\"","v":""},{"$f":"入力画面!D319&\"\"","v":""},{"$f":"入力画面!E319&\"\"","v":""},{"$f":"入力画面!F319&\"\"","v":""},{"$f":"入力画面!G319&\"\"","v":""},{"$f":"入力画面!H319&\"\"","v":""},{"$f":"入力画面!I319&\"\"","v":""},{"$f":"入力画面!J319&\"\"","v":""},{"$f":"入力画面!K319&\"\"","v":""},{"$f":"入力画面!M319&\"\"","v":""},{"$f":"入力画面!N319&\"\"","v":""},{"$f":"入力画面!O319&\"\"","v":""},{"$f":"入力画面!P319&\"\"","v":""},{"$f":"入力画面!Q319&\"\"","v":""},{"$f":"入力画面!R319&\"\"","v":""},{"$f":"変換シート!BW26","v":""},{"$f":"変換シート!BX26","v":""},{"$f":"変換シート!BY26","v":""},{"$f":"変換シート!BZ26","v":""},{"$f":"変換シート!CA26","v":""},{"$f":"変換シート!CB26","v":""},{"$f":"変換シート!CC26","v":""},{"$f":"変換シート!CD26","v":""},{"$f":"入力画面!AY319&\"\"","v":""},{"$f":"入力画面!DI319","v":0},{"$f":"変換シート!C26","v":""},{"$f":"変換シート!D26","v":""},{"$f":"変換シート!E26","v":""},{"$f":"変換シート!F26","v":""},{"$f":"変換シート!G26","v":""},{"$f":"変換シート!H26","v":""},{"$f":"変換シート!I26","v":""},{"$f":"変換シート!J26","v":""},{"$f":"変換シート!K26","v":""},{"$f":"変換シート!L26","v":""},{"$f":"変換シート!M26","v":""},{"$f":"変換シート!N26","v":""},{"$f":"変換シート!O26","v":""},{"$f":"変換シート!P26","v":""},{"$f":"変換シート!Q26","v":""},{"$f":"変換シート!R26","v":""},{"$f":"変換シート!S26","v":""},{"$f":"変換シート!T26","v":""},{"$f":"変換シート!U26","v":""},{"$f":"変換シート!V26","v":""},{"$f":"変換シート!W26","v":""},{"$f":"変換シート!X26","v":""},{"$f":"変換シート!Y26","v":""},{"$f":"変換シート!Z26","v":""},{"$f":"変換シート!AA26","v":""},{"$f":"変換シート!AB26","v":""},{"$f":"変換シート!AC26","v":""},{"$f":"変換シート!AD26","v":""},{"$f":"変換シート!AE26","v":""},{"$f":"変換シート!AF26","v":""},{"$f":"変換シート!AG26","v":""},{"$f":"変換シート!AH26","v":""},{"$f":"変換シート!AI26","v":""},{"$f":"変換シート!AJ26","v":""},{"$f":"変換シート!AK26","v":""},{"$f":"変換シート!AL26","v":""},{"$f":"変換シート!AM26","v":""},{"$f":"変換シート!AN26","v":""},{"$f":"変換シート!AO26","v":""},{"$f":"変換シート!AP26","v":""},{"$f":"変換シート!AQ26","v":""},{"$f":"変換シート!AR26","v":""},{"$f":"変換シート!AS26","v":""},{"$f":"変換シート!AT26","v":""},{"$f":"変換シート!AU26","v":""},{"$f":"変換シート!AV26","v":""},{"$f":"変換シート!AW26","v":""},{"$f":"変換シート!AX26","v":""},{"$f":"変換シート!AY26","v":""},{"$f":"変換シート!AZ26","v":""},{"$f":"変換シート!BA26","v":""},{"$f":"変換シート!BB26","v":""},{"$f":"変換シート!BC26","v":""},{"$f":"変換シート!BD26","v":""},{"$f":"変換シート!BE26","v":""},{"$f":"変換シート!BF26","v":""},{"$f":"変換シート!BG26","v":""},{"$f":"変換シート!BH26","v":""},{"$f":"変換シート!BI26","v":""},{"$f":"変換シート!BJ26","v":""},{"$f":"変換シート!BK26","v":""},{"$f":"変換シート!BL26","v":""},{"$f":"変換シート!BM26","v":""},{"$f":"変換シート!BN26","v":""},{"$f":"変換シート!BO26","v":""},{"$f":"変換シート!BP26","v":""},{"$f":"変換シート!BQ26","v":""},{"$f":"変換シート!BR26","v":""},{"$f":"変換シート!BS26","v":""},{"$f":"変換シート!BT26","v":""},{"$f":"変換シート!BU26","v":""},{"$f":"変換シート!BV26","v":""},{"$f":"入力画面!DJ319&\"\"","v":""},{"$f":"入力画面!DK319&\"\"","v":""},{"$f":"入力画面!DL319&\"\"","v":""},{"$f":"入力画面!DM319&\"\"","v":""},{"$f":"入力画面!DN319&\"\"","v":""},{"$f":"入力画面!DO319&\"\"","v":""},"非公開"]
[23,null,null,"埼玉県 福祉部 地域包括ケア課",{"$f":"入力画面!B333&\"\"","v":""},{"$f":"入力画面!D333&\"\"","v":""},{"$f":"入力画面!E333&\"\"","v":""},{"$f":"入力画面!F333&\"\"","v":""},{"$f":"入力画面!G333&\"\"","v":""},{"$f":"入力画面!H333&\"\"","v":""},{"$f":"入力画面!I333&\"\"","v":""},{"$f":"入力画面!J333&\"\"","v":""},{"$f":"入力画面!K333&\"\"","v":""},{"$f":"入力画面!M333&\"\"","v":""},{"$f":"入力画面!N333&\"\"","v":""},{"$f":"入力画面!O333&\"\"","v":""},{"$f":"入力画面!P333&\"\"","v":""},{"$f":"入力画面!Q333&\"\"","v":""},{"$f":"入力画面!R333&\"\"","v":""},{"$f":"変換シート!BW27","v":""},{"$f":"変換シート!BX27","v":""},{"$f":"変換シート!BY27","v":""},{"$f":"変換シート!BZ27","v":""},{"$f":"変換シート!CA27","v":""},{"$f":"変換シート!CB27","v":""},{"$f":"変換シート!CC27","v":""},{"$f":"変換シート!CD27","v":""},{"$f":"入力画面!AY333&\"\"","v":""},{"$f":"入力画面!DI333","v":0},{"$f":"変換シート!C27","v":""},{"$f":"変換シート!D27","v":""},{"$f":"変換シート!E27","v":""},{"$f":"変換シート!F27","v":""},{"$f":"変換シート!G27","v":""},{"$f":"変換シート!H27","v":""},{"$f":"変換シート!I27","v":""},{"$f":"変換シート!J27","v":""},{"$f":"変換シート!K27","v":""},{"$f":"変換シート!L27","v":""},{"$f":"変換シート!M27","v":""},{"$f":"変換シート!N27","v":""},{"$f":"変換シート!O27","v":""},{"$f":"変換シート!P27","v":""},{"$f":"変換シート!Q27","v":""},{"$f":"変換シート!R27","v":""},{"$f":"変換シート!S27","v":""},{"$f":"変換シート!T27","v":""},{"$f":"変換シート!U27","v":""},{"$f":"変換シート!V27","v":""},{"$f":"変換シート!W27","v":""},{"$f":"変換シート!X27","v":""},{"$f":"変換シート!Y27","v":""},{"$f":"変換シート!Z27","v":""},{"$f":"変換シート!AA27","v":""},{"$f":"変換シート!AB27","v":""},{"$f":"変換シート!AC27","v":""},{"$f":"変換シート!AD27","v":""},{"$f":"変換シート!AE27","v":""},{"$f":"変換シート!AF27","v":""},{"$f":"変換シート!AG27","v":""},{"$f":"変換シート!AH27","v":""},{"$f":"変換シート!AI27","v":""},{"$f":"変換シート!AJ27","v":""},{"$f":"変換シート!AK27","v":""},{"$f":"変換シート!AL27","v":""},{"$f":"変換シート!AM27","v":""},{"$f":"変換シート!AN27","v":""},{"$f":"変換シート!AO27","v":""},{"$f":"変換シート!AP27","v":""},{"$f":"変換シート!AQ27","v":""},{"$f":"変換シート!AR27","v":""},{"$f":"変換シート!AS27","v":""},{"$f":"変換シート!AT27","v":""},{"$f":"変換シート!AU27","v":""},{"$f":"変換シート!AV27","v":""},{"$f":"変換シート!AW27","v":""},{"$f":"変換シート!AX27","v":""},{"$f":"変換シート!AY27","v":""},{"$f":"変換シート!AZ27","v":""},{"$f":"変換シート!BA27","v":""},{"$f":"変換シート!BB27","v":""},{"$f":"変換シート!BC27","v":""},{"$f":"変換シート!BD27","v":""},{"$f":"変換シート!BE27","v":""},{"$f":"変換シート!BF27","v":""},{"$f":"変換シート!BG27","v":""},{"$f":"変換シート!BH27","v":""},{"$f":"変換シート!BI27","v":""},{"$f":"変換シート!BJ27","v":""},{"$f":"変換シート!BK27","v":""},{"$f":"変換シート!BL27","v":""},{"$f":"変換シート!BM27","v":""},{"$f":"変換シート!BN27","v":""},{"$f":"変換シート!BO27","v":""},{"$f":"変換シート!BP27","v":""},{"$f":"変換シート!BQ27","v":""},{"$f":"変換シート!BR27","v":""},{"$f":"変換シート!BS27","v":""},{"$f":"変換シート!BT27","v":""},{"$f":"変換シート!BU27","v":""},{"$f":"変換シート!BV27","v":""},{"$f":"入力画面!DJ333&\"\"","v":""},{"$f":"入力画面!DK333&\"\"","v":""},{"$f":"入力画面!DL333&\"\"","v":""},{"$f":"入力画面!DM333&\"\"","v":""},{"$f":"入力画面!DN333&\"\"","v":""},{"$f":"入力画面!DO333&\"\"","v":""},"非公開"]
[24,null,null,"埼玉県 福祉部 地域包括ケア課",{"$f":"入力画面!B347&\"\"","v":""},{"$f":"入力画面!D347&\"\"","v":""},{"$f":"入力画面!E347&\"\"","v":""},{"$f":"入力画面!F347&\"\"","v":""},{"$f":"入力画面!G347&\"\"","v":""},{"$f":"入力画面!H347&\"\"","v":""},{"$f":"入力画面!I347&\"\"","v":""},{"$f":"入力画面!J347&\"\"","v":""},{"$f":"入力画面!K347&\"\"","v":""},{"$f":"入力画面!M347&\"\"","v":""},{"$f":"入力画面!N347&\"\"","v":""},{"$f":"入力画面!O347&\"\"","v":""},{"$f":"入力画面!P347&\"\"","v":""},{"$f":"入力画面!Q347&\"\"","v":""},{"$f":"入力画面!R347&\"\"","v":""},{"$f":"変換シート!BW28","v":""},{"$f":"変換シート!BX28","v":""},{"$f":"変換シート!BY28","v":""},{"$f":"変換シート!BZ28","v":""},{"$f":"変換シート!CA28","v":""},{"$f":"変換シート!CB28","v":""},{"$f":"変換シート!CC28","v":""},{"$f":"変換シート!CD28","v":""},{"$f":"入力画面!AY347&\"\"","v":""},{"$f":"入力画面!DI347","v":0},{"$f":"変換シート!C28","v":""},{"$f":"変換シート!D28","v":""},{"$f":"変換シート!E28","v":""},{"$f":"変換シート!F28","v":""},{"$f":"変換シート!G28","v":""},{"$f":"変換シート!H28","v":""},{"$f":"変換シート!I28","v":""},{"$f":"変換シート!J28","v":""},{"$f":"変換シート!K28","v":""},{"$f":"変換シート!L28","v":""},{"$f":"変換シート!M28","v":""},{"$f":"変換シート!N28","v":""},{"$f":"変換シート!O28","v":""},{"$f":"変換シート!P28","v":""},{"$f":"変換シート!Q28","v":""},{"$f":"変換シート!R28","v":""},{"$f":"変換シート!S28","v":""},{"$f":"変換シート!T28","v":""},{"$f":"変換シート!U28","v":""},{"$f":"変換シート!V28","v":""},{"$f":"変換シート!W28","v":""},{"$f":"変換シート!X28","v":""},{"$f":"変換シート!Y28","v":""},{"$f":"変換シート!Z28","v":""},{"$f":"変換シート!AA28","v":""},{"$f":"変換シート!AB28","v":""},{"$f":"変換シート!AC28","v":""},{"$f":"変換シート!AD28","v":""},{"$f":"変換シート!AE28","v":""},{"$f":"変換シート!AF28","v":""},{"$f":"変換シート!AG28","v":""},{"$f":"変換シート!AH28","v":""},{"$f":"変換シート!AI28","v":""},{"$f":"変換シート!AJ28","v":""},{"$f":"変換シート!AK28","v":""},{"$f":"変換シート!AL28","v":""},{"$f":"変換シート!AM28","v":""},{"$f":"変換シート!AN28","v":""},{"$f":"変換シート!AO28","v":""},{"$f":"変換シート!AP28","v":""},{"$f":"変換シート!AQ28","v":""},{"$f":"変換シート!AR28","v":""},{"$f":"変換シート!AS28","v":""},{"$f":"変換シート!AT28","v":""},{"$f":"変換シート!AU28","v":""},{"$f":"変換シート!AV28","v":""},{"$f":"変換シート!AW28","v":""},{"$f":"変換シート!AX28","v":""},{"$f":"変換シート!AY28","v":""},{"$f":"変換シート!AZ28","v":""},{"$f":"変換シート!BA28","v":""},{"$f":"変換シート!BB28","v":""},{"$f":"変換シート!BC28","v":""},{"$f":"変換シート!BD28","v":""},{"$f":"変換シート!BE28","v":""},{"$f":"変換シート!BF28","v":""},{"$f":"変換シート!BG28","v":""},{"$f":"変換シート!BH28","v":""},{"$f":"変換シート!BI28","v":""},{"$f":"変換シート!BJ28","v":""},{"$f":"変換シート!BK28","v":""},{"$f":"変換シート!BL28","v":""},{"$f":"変換シート!BM28","v":""},{"$f":"変換シート!BN28","v":""},{"$f":"変換シート!BO28","v":""},{"$f":"変換シート!BP28","v":""},{"$f":"変換シート!BQ28","v":""},{"$f":"変換シート!BR28","v":""},{"$f":"変換シート!BS28","v":""},{"$f":"変換シート!BT28","v":""},{"$f":"変換シート!BU28","v":""},{"$f":"変換シート!BV28","v":""},{"$f":"入力画面!DJ347&\"\"","v":""},{"$f":"入力画面!DK347&\"\"","v":""},{"$f":"入力画面!DL347&\"\"","v":""},{"$f":"入力画面!DM347&\"\"","v":""},{"$f":"入力画面!DN347&\"\"","v":""},{"$f":"入力画面!DO347&\"\"","v":""},"非公開"]
[25,null,null,"埼玉県 福祉部 地域包括ケア課",{"$f":"入力画面!B361&\"\"","v":""},{"$f":"入力画面!D361&\"\"","v":""},{"$f":"入力画面!E361&\"\"","v":""},{"$f":"入力画面!F361&\"\"","v":""},{"$f":"入力画面!G361&\"\"","v":""},{"$f":"入力画面!H361&\"\"","v":""},{"$f":"入力画面!I361&\"\"","v":""},{"$f":"入力画面!J361&\"\"","v":""},{"$f":"入力画面!K361&\"\"","v":""},{"$f":"入力画面!M361&\"\"","v":""},{"$f":"入力画面!N361&\"\"","v":""},{"$f":"入力画面!O361&\"\"","v":""},{"$f":"入力画面!P361&\"\"","v":""},{"$f":"入力画面!Q361&\"\"","v":""},{"$f":"入力画面!R361&\"\"","v":""},{"$f":"変換シート!BW29","v":""},{"$f":"変換シート!BX29","v":""},{"$f":"変換シート!BY29","v":""},{"$f":"変換シート!BZ29","v":""},{"$f":"変換シート!CA29","v":""},{"$f":"変換シート!CB29","v":""},{"$f":"変換シート!CC29","v":""},{"$f":"変換シート!CD29","v":""},{"$f":"入力画面!AY361&\"\"","v":""},{"$f":"入力画面!DI361","v":0},{"$f":"変換シート!C29","v":""},{"$f":"変換シート!D29","v":""},{"$f":"変換シート!E29","v":""},{"$f":"変換シート!F29","v":""},{"$f":"変換シート!G29","v":""},{"$f":"変換シート!H29","v":""},{"$f":"変換シート!I29","v":""},{"$f":"変換シート!J29","v":""},{"$f":"変換シート!K29","v":""},{"$f":"変換シート!L29","v":""},{"$f":"変換シート!M29","v":""},{"$f":"変換シート!N29","v":""},{"$f":"変換シート!O29","v":""},{"$f":"変換シート!P29","v":""},{"$f":"変換シート!Q29","v":""},{"$f":"変換シート!R29","v":""},{"$f":"変換シート!S29","v":""},{"$f":"変換シート!T29","v":""},{"$f":"変換シート!U29","v":""},{"$f":"変換シート!V29","v":""},{"$f":"変換シート!W29","v":""},{"$f":"変換シート!X29","v":""},{"$f":"変換シート!Y29","v":""},{"$f":"変換シート!Z29","v":""},{"$f":"変換シート!AA29","v":""},{"$f":"変換シート!AB29","v":""},{"$f":"変換シート!AC29","v":""},{"$f":"変換シート!AD29","v":""},{"$f":"変換シート!AE29","v":""},{"$f":"変換シート!AF29","v":""},{"$f":"変換シート!AG29","v":""},{"$f":"変換シート!AH29","v":""},{"$f":"変換シート!AI29","v":""},{"$f":"変換シート!AJ29","v":""},{"$f":"変換シート!AK29","v":""},{"$f":"変換シート!AL29","v":""},{"$f":"変換シート!AM29","v":""},{"$f":"変換シート!AN29","v":""},{"$f":"変換シート!AO29","v":""},{"$f":"変換シート!AP29","v":""},{"$f":"変換シート!AQ29","v":""},{"$f":"変換シート!AR29","v":""},{"$f":"変換シート!AS29","v":""},{"$f":"変換シート!AT29","v":""},{"$f":"変換シート!AU29","v":""},{"$f":"変換シート!AV29","v":""},{"$f":"変換シート!AW29","v":""},{"$f":"変換シート!AX29","v":""},{"$f":"変換シート!AY29","v":""},{"$f":"変換シート!AZ29","v":""},{"$f":"変換シート!BA29","v":""},{"$f":"変換シート!BB29","v":""},{"$f":"変換シート!BC29","v":""},{"$f":"変換シート!BD29","v":""},{"$f":"変換シート!BE29","v":""},{"$f":"変換シート!BF29","v":""},{"$f":"変換シート!BG29","v":""},{"$f":"変換シート!BH29","v":""},{"$f":"変換シート!BI29","v":""},{"$f":"変換シート!BJ29","v":""},{"$f":"変換シート!BK29","v":""},{"$f":"変換シート!BL29","v":""},{"$f":"変換シート!BM29","v":""},{"$f":"変換シート!BN29","v":""},{"$f":"変換シート!BO29","v":""},{"$f":"変換シート!BP29","v":""},{"$f":"変換シート!BQ29","v":""},{"$f":"変換シート!BR29","v":""},{"$f":"変換シート!BS29","v":""},{"$f":"変換シート!BT29","v":""},{"$f":"変換シート!BU29","v":""},{"$f":"変換シート!BV29","v":""},{"$f":"入力画面!DJ361&\"\"","v":""},{"$f":"入力画面!DK361&\"\"","v":""},{"$f":"入力画面!DL361&\"\"","v":""},{"$f":"入力画面!DM361&\"\"","v":""},{"$f":"入力画面!DN361&\"\"","v":""},{"$f":"入力画面!DO361&\"\"","v":""},"非公開"]
[26,null,null,"埼玉県 福祉部 地域包括ケア課",{"$f":"入力画面!B375&\"\"","v":""},{"$f":"入力画面!D375&\"\"","v":""},{"$f":"入力画面!E375&\"\"","v":""},{"$f":"入力画面!F375&\"\"","v":""},{"$f":"入力画面!G375&\"\"","v":""},{"$f":"入力画面!H375&\"\"","v":""},{"$f":"入力画面!I375&\"\"","v":""},{"$f":"入力画面!J375&\"\"","v":""},{"$f":"入力画面!K375&\"\"","v":""},{"$f":"入力画面!M375&\"\"","v":""},{"$f":"入力画面!N375&\"\"","v":""},{"$f":"入力画面!O375&\"\"","v":""},{"$f":"入力画面!P375&\"\"","v":""},{"$f":"入力画面!Q375&\"\"","v":""},{"$f":"入力画面!R375&\"\"","v":""},{"$f":"変換シート!BW30","v":""},{"$f":"変換シート!BX30","v":""},{"$f":"変換シート!BY30","v":""},{"$f":"変換シート!BZ30","v":""},{"$f":"変換シート!CA30","v":""},{"$f":"変換シート!CB30","v":""},{"$f":"変換シート!CC30","v":""},{"$f":"変換シート!CD30","v":""},{"$f":"入力画面!AY375&\"\"","v":""},{"$f":"入力画面!DI375","v":0},{"$f":"変換シート!C30","v":""},{"$f":"変換シート!D30","v":""},{"$f":"変換シート!E30","v":""},{"$f":"変換シート!F30","v":""},{"$f":"変換シート!G30","v":""},{"$f":"変換シート!H30","v":""},{"$f":"変換シート!I30","v":""},{"$f":"変換シート!J30","v":""},{"$f":"変換シート!K30","v":""},{"$f":"変換シート!L30","v":""},{"$f":"変換シート!M30","v":""},{"$f":"変換シート!N30","v":""},{"$f":"変換シート!O30","v":""},{"$f":"変換シート!P30","v":""},{"$f":"変換シート!Q30","v":""},{"$f":"変換シート!R30","v":""},{"$f":"変換シート!S30","v":""},{"$f":"変換シート!T30","v":""},{"$f":"変換シート!U30","v":""},{"$f":"変換シート!V30","v":""},{"$f":"変換シート!W30","v":""},{"$f":"変換シート!X30","v":""},{"$f":"変換シート!Y30","v":""},{"$f":"変換シート!Z30","v":""},{"$f":"変換シート!AA30","v":""},{"$f":"変換シート!AB30","v":""},{"$f":"変換シート!AC30","v":""},{"$f":"変換シート!AD30","v":""},{"$f":"変換シート!AE30","v":""},{"$f":"変換シート!AF30","v":""},{"$f":"変換シート!AG30","v":""},{"$f":"変換シート!AH30","v":""},{"$f":"変換シート!AI30","v":""},{"$f":"変換シート!AJ30","v":""},{"$f":"変換シート!AK30","v":""},{"$f":"変換シート!AL30","v":""},{"$f":"変換シート!AM30","v":""},{"$f":"変換シート!AN30","v":""},{"$f":"変換シート!AO30","v":""},{"$f":"変換シート!AP30","v":""},{"$f":"変換シート!AQ30","v":""},{"$f":"変換シート!AR30","v":""},{"$f":"変換シート!AS30","v":""},{"$f":"変換シート!AT30","v":""},{"$f":"変換シート!AU30","v":""},{"$f":"変換シート!AV30","v":""},{"$f":"変換シート!AW30","v":""},{"$f":"変換シート!AX30","v":""},{"$f":"変換シート!AY30","v":""},{"$f":"変換シート!AZ30","v":""},{"$f":"変換シート!BA30","v":""},{"$f":"変換シート!BB30","v":""},{"$f":"変換シート!BC30","v":""},{"$f":"変換シート!BD30","v":""},{"$f":"変換シート!BE30","v":""},{"$f":"変換シート!BF30","v":""},{"$f":"変換シート!BG30","v":""},{"$f":"変換シート!BH30","v":""},{"$f":"変換シート!BI30","v":""},{"$f":"変換シート!BJ30","v":""},{"$f":"変換シート!BK30","v":""},{"$f":"変換シート!BL30","v":""},{"$f":"変換シート!BM30","v":""},{"$f":"変換シート!BN30","v":""},{"$f":"変換シート!BO30","v":""},{"$f":"変換シート!BP30","v":""},{"$f":"変換シート!BQ30","v":""},{"$f":"変換シート!BR30","v":""},{"$f":"変換シート!BS30","v":""},{"$f":"変換シート!BT30","v":""},{"$f":"変換シート!BU30","v":""},{"$f":"変換シート!BV30","v":""},{"$f":"入力画面!DJ375&\"\"","v":""},{"$f":"入力画面!DK375&\"\"","v":""},{"$f":"入力画面!DL375&\"\"","v":""},{"$f":"入力画面!DM375&\"\"","v":""},{"$f":"入力画面!DN375&\"\"","v":""},{"$f":"入力画面!DO375&\"\"","v":""},"非公開"]
[27,null,null,"埼玉県 福祉部 地域包括ケア課",{"$f":"入力画面!B389&\"\"","v":""},{"$f":"入力画面!D389&\"\"","v":""},{"$f":"入力画面!E389&\"\"","v":""},{"$f":"入力画面!F389&\"\"","v":""},{"$f":"入力画面!G389&\"\"","v":""},{"$f":"入力画面!H389&\"\"","v":""},{"$f":"入力画面!I389&\"\"","v":""},{"$f":"入力画面!J389&\"\"","v":""},{"$f":"入力画面!K389&\"\"","v":""},{"$f":"入力画面!M389&\"\"","v":""},{"$f":"入力画面!N389&\"\"","v":""},{"$f":"入力画面!O389&\"\"","v":""},{"$f":"入力画面!P389&\"\"","v":""},{"$f":"入力画面!Q389&\"\"","v":""},{"$f":"入力画面!R389&\"\"","v":""},{"$f":"変換シート!BW31","v":""},{"$f":"変換シート!BX31","v":""},{"$f":"変換シート!BY31","v":""},{"$f":"変換シート!BZ31","v":""},{"$f":"変換シート!CA31","v":""},{"$f":"変換シート!CB31","v":""},{"$f":"変換シート!CC31","v":""},{"$f":"変換シート!CD31","v":""},{"$f":"入力画面!AY389&\"\"","v":""},{"$f":"入力画面!DI389","v":0},{"$f":"変換シート!C31","v":""},{"$f":"変換シート!D31","v":""},{"$f":"変換シート!E31","v":""},{"$f":"変換シート!F31","v":""},{"$f":"変換シート!G31","v":""},{"$f":"変換シート!H31","v":""},{"$f":"変換シート!I31","v":""},{"$f":"変換シート!J31","v":""},{"$f":"変換シート!K31","v":""},{"$f":"変換シート!L31","v":""},{"$f":"変換シート!M31","v":""},{"$f":"変換シート!N31","v":""},{"$f":"変換シート!O31","v":""},{"$f":"変換シート!P31","v":""},{"$f":"変換シート!Q31","v":""},{"$f":"変換シート!R31","v":""},{"$f":"変換シート!S31","v":""},{"$f":"変換シート!T31","v":""},{"$f":"変換シート!U31","v":""},{"$f":"変換シート!V31","v":""},{"$f":"変換シート!W31","v":""},{"$f":"変換シート!X31","v":""},{"$f":"変換シート!Y31","v":""},{"$f":"変換シート!Z31","v":""},{"$f":"変換シート!AA31","v":""},{"$f":"変換シート!AB31","v":""},{"$f":"変換シート!AC31","v":""},{"$f":"変換シート!AD31","v":""},{"$f":"変換シート!AE31","v":""},{"$f":"変換シート!AF31","v":""},{"$f":"変換シート!AG31","v":""},{"$f":"変換シート!AH31","v":""},{"$f":"変換シート!AI31","v":""},{"$f":"変換シート!AJ31","v":""},{"$f":"変換シート!AK31","v":""},{"$f":"変換シート!AL31","v":""},{"$f":"変換シート!AM31","v":""},{"$f":"変換シート!AN31","v":""},{"$f":"変換シート!AO31","v":""},{"$f":"変換シート!AP31","v":""},{"$f":"変換シート!AQ31","v":""},{"$f":"変換シート!AR31","v":""},{"$f":"変換シート!AS31","v":""},{"$f":"変換シート!AT31","v":""},{"$f":"変換シート!AU31","v":""},{"$f":"変換シート!AV31","v":""},{"$f":"変換シート!AW31","v":""},{"$f":"変換シート!AX31","v":""},{"$f":"変換シート!AY31","v":""},{"$f":"変換シート!AZ31","v":""},{"$f":"変換シート!BA31","v":""},{"$f":"変換シート!BB31","v":""},{"$f":"変換シート!BC31","v":""},{"$f":"変換シート!BD31","v":""},{"$f":"変換シート!BE31","v":""},{"$f":"変換シート!BF31","v":""},{"$f":"変換シート!BG31","v":""},{"$f":"変換シート!BH31","v":""},{"$f":"変換シート!BI31","v":""},{"$f":"変換シート!BJ31","v":""},{"$f":"変換シート!BK31","v":""},{"$f":"変換シート!BL31","v":""},{"$f":"変換シート!BM31","v":""},{"$f":"変換シート!BN31","v":""},{"$f":"変換シート!BO31","v":""},{"$f":"変換シート!BP31","v":""},{"$f":"変換シート!BQ31","v":""},{"$f":"変換シート!BR31","v":""},{"$f":"変換シート!BS31","v":""},{"$f":"変換シート!BT31","v":""},{"$f":"変換シート!BU31","v":""},{"$f":"変換シート!BV31","v":""},{"$f":"入力画面!DJ389&\"\"","v":""},{"$f":"入力画面!DK389&\"\"","v":""},{"$f":"入力画面!DL389&\"\"","v":""},{"$f":"入力画面!DM389&\"\"","v":""},{"$f":"入力画面!DN389&\"\"","v":""},{"$f":"入力画面!DO389&\"\"","v":""},"非公開"]
[28,null,null,"埼玉県 福祉部 地域包括ケア課",{"$f":"入力画面!B403&\"\"","v":""},{"$f":"入力画面!D403&\"\"","v":""},{"$f":"入力画面!E403&\"\"","v":""},{"$f":"入力画面!F403&\"\"","v":""},{"$f":"入力画面!G403&\"\"","v":""},{"$f":"入力画面!H403&\"\"","v":""},{"$f":"入力画面!I403&\"\"","v":""},{"$f":"入力画面!J403&\"\"","v":""},{"$f":"入力画面!K403&\"\"","v":""},{"$f":"入力画面!M403&\"\"","v":""},{"$f":"入力画面!N403&\"\"","v":""},{"$f":"入力画面!O403&\"\"","v":""},{"$f":"入力画面!P403&\"\"","v":""},{"$f":"入力画面!Q403&\"\"","v":""},{"$f":"入力画面!R403&\"\"","v":""},{"$f":"変換シート!BW32","v":""},{"$f":"変換シート!BX32","v":""},{"$f":"変換シート!BY32","v":""},{"$f":"変換シート!BZ32","v":""},{"$f":"変換シート!CA32","v":""},{"$f":"変換シート!CB32","v":""},{"$f":"変換シート!CC32","v":""},{"$f":"変換シート!CD32","v":""},{"$f":"入力画面!AY403&\"\"","v":""},{"$f":"入力画面!DI403","v":0},{"$f":"変換シート!C32","v":""},{"$f":"変換シート!D32","v":""},{"$f":"変換シート!E32","v":""},{"$f":"変換シート!F32","v":""},{"$f":"変換シート!G32","v":""},{"$f":"変換シート!H32","v":""},{"$f":"変換シート!I32","v":""},{"$f":"変換シート!J32","v":""},{"$f":"変換シート!K32","v":""},{"$f":"変換シート!L32","v":""},{"$f":"変換シート!M32","v":""},{"$f":"変換シート!N32","v":""},{"$f":"変換シート!O32","v":""},{"$f":"変換シート!P32","v":""},{"$f":"変換シート!Q32","v":""},{"$f":"変換シート!R32","v":""},{"$f":"変換シート!S32","v":""},{"$f":"変換シート!T32","v":""},{"$f":"変換シート!U32","v":""},{"$f":"変換シート!V32","v":""},{"$f":"変換シート!W32","v":""},{"$f":"変換シート!X32","v":""},{"$f":"変換シート!Y32","v":""},{"$f":"変換シート!Z32","v":""},{"$f":"変換シート!AA32","v":""},{"$f":"変換シート!AB32","v":""},{"$f":"変換シート!AC32","v":""},{"$f":"変換シート!AD32","v":""},{"$f":"変換シート!AE32","v":""},{"$f":"変換シート!AF32","v":""},{"$f":"変換シート!AG32","v":""},{"$f":"変換シート!AH32","v":""},{"$f":"変換シート!AI32","v":""},{"$f":"変換シート!AJ32","v":""},{"$f":"変換シート!AK32","v":""},{"$f":"変換シート!AL32","v":""},{"$f":"変換シート!AM32","v":""},{"$f":"変換シート!AN32","v":""},{"$f":"変換シート!AO32","v":""},{"$f":"変換シート!AP32","v":""},{"$f":"変換シート!AQ32","v":""},{"$f":"変換シート!AR32","v":""},{"$f":"変換シート!AS32","v":""},{"$f":"変換シート!AT32","v":""},{"$f":"変換シート!AU32","v":""},{"$f":"変換シート!AV32","v":""},{"$f":"変換シート!AW32","v":""},{"$f":"変換シート!AX32","v":""},{"$f":"変換シート!AY32","v":""},{"$f":"変換シート!AZ32","v":""},{"$f":"変換シート!BA32","v":""},{"$f":"変換シート!BB32","v":""},{"$f":"変換シート!BC32","v":""},{"$f":"変換シート!BD32","v":""},{"$f":"変換シート!BE32","v":""},{"$f":"変換シート!BF32","v":""},{"$f":"変換シート!BG32","v":""},{"$f":"変換シート!BH32","v":""},{"$f":"変換シート!BI32","v":""},{"$f":"変換シート!BJ32","v":""},{"$f":"変換シート!BK32","v":""},{"$f":"変換シート!BL32","v":""},{"$f":"変換シート!BM32","v":""},{"$f":"変換シート!BN32","v":""},{"$f":"変換シート!BO32","v":""},{"$f":"変換シート!BP32","v":""},{"$f":"変換シート!BQ32","v":""},{"$f":"変換シート!BR32","v":""},{"$f":"変換シート!BS32","v":""},{"$f":"変換シート!BT32","v":""},{"$f":"変換シート!BU32","v":""},{"$f":"変換シート!BV32","v":""},{"$f":"入力画面!DJ403&\"\"","v":""},{"$f":"入力画面!DK403&\"\"","v":""},{"$f":"入力画面!DL403&\"\"","v":""},{"$f":"入力画面!DM403&\"\"","v":""},{"$f":"入力画面!DN403&\"\"","v":""},{"$f":"入力画面!DO403&\"\"","v":""},"非公開"]
[29,null,null,"埼玉県 福祉部 地域包括ケア課",{"$f":"入力画面!B417&\"\"","v":""},{"$f":"入力画面!D417&\"\"","v":""},{"$f":"入力画面!E417&\"\"","v":""},{"$f":"入力画面!F417&\"\"","v":""},{"$f":"入力画面!G417&\"\"","v":""},{"$f":"入力画面!H417&\"\"","v":""},{"$f":"入力画面!I417&\"\"","v":""},{"$f":"入力画面!J417&\"\"","v":""},{"$f":"入力画面!K417&\"\"","v":""},{"$f":"入力画面!M417&\"\"","v":""},{"$f":"入力画面!N417&\"\"","v":""},{"$f":"入力画面!O417&\"\"","v":""},{"$f":"入力画面!P417&\"\"","v":""},{"$f":"入力画面!Q417&\"\"","v":""},{"$f":"入力画面!R417&\"\"","v":""},{"$f":"変換シート!BW33","v":""},{"$f":"変換シート!BX33","v":""},{"$f":"変換シート!BY33","v":""},{"$f":"変換シート!BZ33","v":""},{"$f":"変換シート!CA33","v":""},{"$f":"変換シート!CB33","v":""},{"$f":"変換シート!CC33","v":""},{"$f":"変換シート!CD33","v":""},{"$f":"入力画面!AY417&\"\"","v":""},{"$f":"入力画面!DI417","v":0},{"$f":"変換シート!C33","v":""},{"$f":"変換シート!D33","v":""},{"$f":"変換シート!E33","v":""},{"$f":"変換シート!F33","v":""},{"$f":"変換シート!G33","v":""},{"$f":"変換シート!H33","v":""},{"$f":"変換シート!I33","v":""},{"$f":"変換シート!J33","v":""},{"$f":"変換シート!K33","v":""},{"$f":"変換シート!L33","v":""},{"$f":"変換シート!M33","v":""},{"$f":"変換シート!N33","v":""},{"$f":"変換シート!O33","v":""},{"$f":"変換シート!P33","v":""},{"$f":"変換シート!Q33","v":""},{"$f":"変換シート!R33","v":""},{"$f":"変換シート!S33","v":""},{"$f":"変換シート!T33","v":""},{"$f":"変換シート!U33","v":""},{"$f":"変換シート!V33","v":""},{"$f":"変換シート!W33","v":""},{"$f":"変換シート!X33","v":""},{"$f":"変換シート!Y33","v":""},{"$f":"変換シート!Z33","v":""},{"$f":"変換シート!AA33","v":""},{"$f":"変換シート!AB33","v":""},{"$f":"変換シート!AC33","v":""},{"$f":"変換シート!AD33","v":""},{"$f":"変換シート!AE33","v":""},{"$f":"変換シート!AF33","v":""},{"$f":"変換シート!AG33","v":""},{"$f":"変換シート!AH33","v":""},{"$f":"変換シート!AI33","v":""},{"$f":"変換シート!AJ33","v":""},{"$f":"変換シート!AK33","v":""},{"$f":"変換シート!AL33","v":""},{"$f":"変換シート!AM33","v":""},{"$f":"変換シート!AN33","v":""},{"$f":"変換シート!AO33","v":""},{"$f":"変換シート!AP33","v":""},{"$f":"変換シート!AQ33","v":""},{"$f":"変換シート!AR33","v":""},{"$f":"変換シート!AS33","v":""},{"$f":"変換シート!AT33","v":""},{"$f":"変換シート!AU33","v":""},{"$f":"変換シート!AV33","v":""},{"$f":"変換シート!AW33","v":""},{"$f":"変換シート!AX33","v":""},{"$f":"変換シート!AY33","v":""},{"$f":"変換シート!AZ33","v":""},{"$f":"変換シート!BA33","v":""},{"$f":"変換シート!BB33","v":""},{"$f":"変換シート!BC33","v":""},{"$f":"変換シート!BD33","v":""},{"$f":"変換シート!BE33","v":""},{"$f":"変換シート!BF33","v":""},{"$f":"変換シート!BG33","v":""},{"$f":"変換シート!BH33","v":""},{"$f":"変換シート!BI33","v":""},{"$f":"変換シート!BJ33","v":""},{"$f":"変換シート!BK33","v":""},{"$f":"変換シート!BL33","v":""},{"$f":"変換シート!BM33","v":""},{"$f":"変換シート!BN33","v":""},{"$f":"変換シート!BO33","v":""},{"$f":"変換シート!BP33","v":""},{"$f":"変換シート!BQ33","v":""},{"$f":"変換シート!BR33","v":""},{"$f":"変換シート!BS33","v":""},{"$f":"変換シート!BT33","v":""},{"$f":"変換シート!BU33","v":""},{"$f":"変換シート!BV33","v":""},{"$f":"入力画面!DJ417&\"\"","v":""},{"$f":"入力画面!DK417&\"\"","v":""},{"$f":"入力画面!DL417&\"\"","v":""},{"$f":"入力画面!DM417&\"\"","v":""},{"$f":"入力画面!DN417&\"\"","v":""},{"$f":"入力画面!DO417&\"\"","v":""},"非公開"]
[30,null,null,"埼玉県 福祉部 地域包括ケア課",{"$f":"入力画面!B431&\"\"","v":""},{"$f":"入力画面!D431&\"\"","v":""},{"$f":"入力画面!E431&\"\"","v":""},{"$f":"入力画面!F431&\"\"","v":""},{"$f":"入力画面!G431&\"\"","v":""},{"$f":"入力画面!H431&\"\"","v":""},{"$f":"入力画面!I431&\"\"","v":""},{"$f":"入力画面!J431&\"\"","v":""},{"$f":"入力画面!K431&\"\"","v":""},{"$f":"入力画面!M431&\"\"","v":""},{"$f":"入力画面!N431&\"\"","v":""},{"$f":"入力画面!O431&\"\"","v":""},{"$f":"入力画面!P431&\"\"","v":""},{"$f":"入力画面!Q431&\"\"","v":""},{"$f":"入力画面!R431&\"\"","v":""},{"$f":"変換シート!BW34","v":""},{"$f":"変換シート!BX34","v":""},{"$f":"変換シート!BY34","v":""},{"$f":"変換シート!BZ34","v":""},{"$f":"変換シート!CA34","v":""},{"$f":"変換シート!CB34","v":""},{"$f":"変換シート!CC34","v":""},{"$f":"変換シート!CD34","v":""},{"$f":"入力画面!AY431&\"\"","v":""},{"$f":"入力画面!DI431","v":0},{"$f":"変換シート!C34","v":""},{"$f":"変換シート!D34","v":""},{"$f":"変換シート!E34","v":""},{"$f":"変換シート!F34","v":""},{"$f":"変換シート!G34","v":""},{"$f":"変換シート!H34","v":""},{"$f":"変換シート!I34","v":""},{"$f":"変換シート!J34","v":""},{"$f":"変換シート!K34","v":""},{"$f":"変換シート!L34","v":""},{"$f":"変換シート!M34","v":""},{"$f":"変換シート!N34","v":""},{"$f":"変換シート!O34","v":""},{"$f":"変換シート!P34","v":""},{"$f":"変換シート!Q34","v":""},{"$f":"変換シート!R34","v":""},{"$f":"変換シート!S34","v":""},{"$f":"変換シート!T34","v":""},{"$f":"変換シート!U34","v":""},{"$f":"変換シート!V34","v":""},{"$f":"変換シート!W34","v":""},{"$f":"変換シート!X34","v":""},{"$f":"変換シート!Y34","v":""},{"$f":"変換シート!Z34","v":""},{"$f":"変換シート!AA34","v":""},{"$f":"変換シート!AB34","v":""},{"$f":"変換シート!AC34","v":""},{"$f":"変換シート!AD34","v":""},{"$f":"変換シート!AE34","v":""},{"$f":"変換シート!AF34","v":""},{"$f":"変換シート!AG34","v":""},{"$f":"変換シート!AH34","v":""},{"$f":"変換シート!AI34","v":""},{"$f":"変換シート!AJ34","v":""},{"$f":"変換シート!AK34","v":""},{"$f":"変換シート!AL34","v":""},{"$f":"変換シート!AM34","v":""},{"$f":"変換シート!AN34","v":""},{"$f":"変換シート!AO34","v":""},{"$f":"変換シート!AP34","v":""},{"$f":"変換シート!AQ34","v":""},{"$f":"変換シート!AR34","v":""},{"$f":"変換シート!AS34","v":""},{"$f":"変換シート!AT34","v":""},{"$f":"変換シート!AU34","v":""},{"$f":"変換シート!AV34","v":""},{"$f":"変換シート!AW34","v":""},{"$f":"変換シート!AX34","v":""},{"$f":"変換シート!AY34","v":""},{"$f":"変換シート!AZ34","v":""},{"$f":"変換シート!BA34","v":""},{"$f":"変換シート!BB34","v":""},{"$f":"変換シート!BC34","v":""},{"$f":"変換シート!BD34","v":""},{"$f":"変換シート!BE34","v":""},{"$f":"変換シート!BF34","v":""},{"$f":"変換シート!BG34","v":""},{"$f":"変換シート!BH34","v":""},{"$f":"変換シート!BI34","v":""},{"$f":"変換シート!BJ34","v":""},{"$f":"変換シート!BK34","v":""},{"$f":"変換シート!BL34","v":""},{"$f":"変換シート!BM34","v":""},{"$f":"変換シート!BN34","v":""},{"$f":"変換シート!BO34","v":""},{"$f":"変換シート!BP34","v":""},{"$f":"変換シート!BQ34","v":""},{"$f":"変換シート!BR34","v":""},{"$f":"変換シート!BS34","v":""},{"$f":"変換シート!BT34","v":""},{"$f":"変換シート!BU34","v":""},{"$f":"変換シート!BV34","v":""},{"$f":"入力画面!DJ431&\"\"","v":""},{"$f":"入力画面!DK431&\"\"","v":""},{"$f":"入力画面!DL431&\"\"","v":""},{"$f":"入力画面!DM431&\"\"","v":""},{"$f":"入力画面!DN431&\"\"","v":""},{"$f":"入力画面!DO431&\"\"","v":""},"非公開"]
[31,null,null,"埼玉県 福祉部 地域包括ケア課",{"$f":"入力画面!B445&\"\"","v":""},{"$f":"入力画面!D445&\"\"","v":""},{"$f":"入力画面!E445&\"\"","v":""},{"$f":"入力画面!F445&\"\"","v":""},{"$f":"入力画面!G445&\"\"","v":""},{"$f":"入力画面!H445&\"\"","v":""},{"$f":"入力画面!I445&\"\"","v":""},{"$f":"入力画面!J445&\"\"","v":""},{"$f":"入力画面!K445&\"\"","v":""},{"$f":"入力画面!M445&\"\"","v":""},{"$f":"入力画面!N445&\"\"","v":""},{"$f":"入力画面!O445&\"\"","v":""},{"$f":"入力画面!P445&\"\"","v":""},{"$f":"入力画面!Q445&\"\"","v":""},{"$f":"入力画面!R445&\"\"","v":""},{"$f":"変換シート!BW35","v":""},{"$f":"変換シート!BX35","v":""},{"$f":"変換シート!BY35","v":""},{"$f":"変換シート!BZ35","v":""},{"$f":"変換シート!CA35","v":""},{"$f":"変換シート!CB35","v":""},{"$f":"変換シート!CC35","v":""},{"$f":"変換シート!CD35","v":""},{"$f":"入力画面!AY445&\"\"","v":""},{"$f":"入力画面!DI445","v":0},{"$f":"変換シート!C35","v":""},{"$f":"変換シート!D35","v":""},{"$f":"変換シート!E35","v":""},{"$f":"変換シート!F35","v":""},{"$f":"変換シート!G35","v":""},{"$f":"変換シート!H35","v":""},{"$f":"変換シート!I35","v":""},{"$f":"変換シート!J35","v":""},{"$f":"変換シート!K35","v":""},{"$f":"変換シート!L35","v":""},{"$f":"変換シート!M35","v":""},{"$f":"変換シート!N35","v":""},{"$f":"変換シート!O35","v":""},{"$f":"変換シート!P35","v":""},{"$f":"変換シート!Q35","v":""},{"$f":"変換シート!R35","v":""},{"$f":"変換シート!S35","v":""},{"$f":"変換シート!T35","v":""},{"$f":"変換シート!U35","v":""},{"$f":"変換シート!V35","v":""},{"$f":"変換シート!W35","v":""},{"$f":"変換シート!X35","v":""},{"$f":"変換シート!Y35","v":""},{"$f":"変換シート!Z35","v":""},{"$f":"変換シート!AA35","v":""},{"$f":"変換シート!AB35","v":""},{"$f":"変換シート!AC35","v":""},{"$f":"変換シート!AD35","v":""},{"$f":"変換シート!AE35","v":""},{"$f":"変換シート!AF35","v":""},{"$f":"変換シート!AG35","v":""},{"$f":"変換シート!AH35","v":""},{"$f":"変換シート!AI35","v":""},{"$f":"変換シート!AJ35","v":""},{"$f":"変換シート!AK35","v":""},{"$f":"変換シート!AL35","v":""},{"$f":"変換シート!AM35","v":""},{"$f":"変換シート!AN35","v":""},{"$f":"変換シート!AO35","v":""},{"$f":"変換シート!AP35","v":""},{"$f":"変換シート!AQ35","v":""},{"$f":"変換シート!AR35","v":""},{"$f":"変換シート!AS35","v":""},{"$f":"変換シート!AT35","v":""},{"$f":"変換シート!AU35","v":""},{"$f":"変換シート!AV35","v":""},{"$f":"変換シート!AW35","v":""},{"$f":"変換シート!AX35","v":""},{"$f":"変換シート!AY35","v":""},{"$f":"変換シート!AZ35","v":""},{"$f":"変換シート!BA35","v":""},{"$f":"変換シート!BB35","v":""},{"$f":"変換シート!BC35","v":""},{"$f":"変換シート!BD35","v":""},{"$f":"変換シート!BE35","v":""},{"$f":"変換シート!BF35","v":""},{"$f":"変換シート!BG35","v":""},{"$f":"変換シート!BH35","v":""},{"$f":"変換シート!BI35","v":""},{"$f":"変換シート!BJ35","v":""},{"$f":"変換シート!BK35","v":""},{"$f":"変換シート!BL35","v":""},{"$f":"変換シート!BM35","v":""},{"$f":"変換シート!BN35","v":""},{"$f":"変換シート!BO35","v":""},{"$f":"変換シート!BP35","v":""},{"$f":"変換シート!BQ35","v":""},{"$f":"変換シート!BR35","v":""},{"$f":"変換シート!BS35","v":""},{"$f":"変換シート!BT35","v":""},{"$f":"変換シート!BU35","v":""},{"$f":"変換シート!BV35","v":""},{"$f":"入力画面!DJ445&\"\"","v":""},{"$f":"入力画面!DK445&\"\"","v":""},{"$f":"入力画面!DL445&\"\"","v":""},{"$f":"入力画面!DM445&\"\"","v":""},{"$f":"入力画面!DN445&\"\"","v":""},{"$f":"入力画面!DO445&\"\"","v":""},"非公開"]
[32,null,null,"埼玉県 福祉部 地域包括ケア課",{"$f":"入力画面!B459&\"\"","v":""},{"$f":"入力画面!D459&\"\"","v":""},{"$f":"入力画面!E459&\"\"","v":""},{"$f":"入力画面!F459&\"\"","v":""},{"$f":"入力画面!G459&\"\"","v":""},{"$f":"入力画面!H459&\"\"","v":""},{"$f":"入力画面!I459&\"\"","v":""},{"$f":"入力画面!J459&\"\"","v":""},{"$f":"入力画面!K459&\"\"","v":""},{"$f":"入力画面!M459&\"\"","v":""},{"$f":"入力画面!N459&\"\"","v":""},{"$f":"入力画面!O459&\"\"","v":""},{"$f":"入力画面!P459&\"\"","v":""},{"$f":"入力画面!Q459&\"\"","v":""},{"$f":"入力画面!R459&\"\"","v":""},{"$f":"変換シート!BW36","v":""},{"$f":"変換シート!BX36","v":""},{"$f":"変換シート!BY36","v":""},{"$f":"変換シート!BZ36","v":""},{"$f":"変換シート!CA36","v":""},{"$f":"変換シート!CB36","v":""},{"$f":"変換シート!CC36","v":""},{"$f":"変換シート!CD36","v":""},{"$f":"入力画面!AY459&\"\"","v":""},{"$f":"入力画面!DI459","v":0},{"$f":"変換シート!C36","v":""},{"$f":"変換シート!D36","v":""},{"$f":"変換シート!E36","v":""},{"$f":"変換シート!F36","v":""},{"$f":"変換シート!G36","v":""},{"$f":"変換シート!H36","v":""},{"$f":"変換シート!I36","v":""},{"$f":"変換シート!J36","v":""},{"$f":"変換シート!K36","v":""},{"$f":"変換シート!L36","v":""},{"$f":"変換シート!M36","v":""},{"$f":"変換シート!N36","v":""},{"$f":"変換シート!O36","v":""},{"$f":"変換シート!P36","v":""},{"$f":"変換シート!Q36","v":""},{"$f":"変換シート!R36","v":""},{"$f":"変換シート!S36","v":""},{"$f":"変換シート!T36","v":""},{"$f":"変換シート!U36","v":""},{"$f":"変換シート!V36","v":""},{"$f":"変換シート!W36","v":""},{"$f":"変換シート!X36","v":""},{"$f":"変換シート!Y36","v":""},{"$f":"変換シート!Z36","v":""},{"$f":"変換シート!AA36","v":""},{"$f":"変換シート!AB36","v":""},{"$f":"変換シート!AC36","v":""},{"$f":"変換シート!AD36","v":""},{"$f":"変換シート!AE36","v":""},{"$f":"変換シート!AF36","v":""},{"$f":"変換シート!AG36","v":""},{"$f":"変換シート!AH36","v":""},{"$f":"変換シート!AI36","v":""},{"$f":"変換シート!AJ36","v":""},{"$f":"変換シート!AK36","v":""},{"$f":"変換シート!AL36","v":""},{"$f":"変換シート!AM36","v":""},{"$f":"変換シート!AN36","v":""},{"$f":"変換シート!AO36","v":""},{"$f":"変換シート!AP36","v":""},{"$f":"変換シート!AQ36","v":""},{"$f":"変換シート!AR36","v":""},{"$f":"変換シート!AS36","v":""},{"$f":"変換シート!AT36","v":""},{"$f":"変換シート!AU36","v":""},{"$f":"変換シート!AV36","v":""},{"$f":"変換シート!AW36","v":""},{"$f":"変換シート!AX36","v":""},{"$f":"変換シート!AY36","v":""},{"$f":"変換シート!AZ36","v":""},{"$f":"変換シート!BA36","v":""},{"$f":"変換シート!BB36","v":""},{"$f":"変換シート!BC36","v":""},{"$f":"変換シート!BD36","v":""},{"$f":"変換シート!BE36","v":""},{"$f":"変換シート!BF36","v":""},{"$f":"変換シート!BG36","v":""},{"$f":"変換シート!BH36","v":""},{"$f":"変換シート!BI36","v":""},{"$f":"変換シート!BJ36","v":""},{"$f":"変換シート!BK36","v":""},{"$f":"変換シート!BL36","v":""},{"$f":"変換シート!BM36","v":""},{"$f":"変換シート!BN36","v":""},{"$f":"変換シート!BO36","v":""},{"$f":"変換シート!BP36","v":""},{"$f":"変換シート!BQ36","v":""},{"$f":"変換シート!BR36","v":""},{"$f":"変換シート!BS36","v":""},{"$f":"変換シート!BT36","v":""},{"$f":"変換シート!BU36","v":""},{"$f":"変換シート!BV36","v":""},{"$f":"入力画面!DJ459&\"\"","v":""},{"$f":"入力画面!DK459&\"\"","v":""},{"$f":"入力画面!DL459&\"\"","v":""},{"$f":"入力画面!DM459&\"\"","v":""},{"$f":"入力画面!DN459&\"\"","v":""},{"$f":"入力画面!DO459&\"\"","v":""},"非公開"]
[33,null,null,"埼玉県 福祉部 地域包括ケア課",{"$f":"入力画面!B473&\"\"","v":""},{"$f":"入力画面!D473&\"\"","v":""},{"$f":"入力画面!E473&\"\"","v":""},{"$f":"入力画面!F473&\"\"","v":""},{"$f":"入力画面!G473&\"\"","v":""},{"$f":"入力画面!H473&\"\"","v":""},{"$f":"入力画面!I473&\"\"","v":""},{"$f":"入力画面!J473&\"\"","v":""},{"$f":"入力画面!K473&\"\"","v":""},{"$f":"入力画面!M473&\"\"","v":""},{"$f":"入力画面!N473&\"\"","v":""},{"$f":"入力画面!O473&\"\"","v":""},{"$f":"入力画面!P473&\"\"","v":""},{"$f":"入力画面!Q473&\"\"","v":""},{"$f":"入力画面!R473&\"\"","v":""},{"$f":"変換シート!BW37","v":""},{"$f":"変換シート!BX37","v":""},{"$f":"変換シート!BY37","v":""},{"$f":"変換シート!BZ37","v":""},{"$f":"変換シート!CA37","v":""},{"$f":"変換シート!CB37","v":""},{"$f":"変換シート!CC37","v":""},{"$f":"変換シート!CD37","v":""},{"$f":"入力画面!AY473&\"\"","v":""},{"$f":"入力画面!DI473","v":0},{"$f":"変換シート!C37","v":""},{"$f":"変換シート!D37","v":""},{"$f":"変換シート!E37","v":""},{"$f":"変換シート!F37","v":""},{"$f":"変換シート!G37","v":""},{"$f":"変換シート!H37","v":""},{"$f":"変換シート!I37","v":""},{"$f":"変換シート!J37","v":""},{"$f":"変換シート!K37","v":""},{"$f":"変換シート!L37","v":""},{"$f":"変換シート!M37","v":""},{"$f":"変換シート!N37","v":""},{"$f":"変換シート!O37","v":""},{"$f":"変換シート!P37","v":""},{"$f":"変換シート!Q37","v":""},{"$f":"変換シート!R37","v":""},{"$f":"変換シート!S37","v":""},{"$f":"変換シート!T37","v":""},{"$f":"変換シート!U37","v":""},{"$f":"変換シート!V37","v":""},{"$f":"変換シート!W37","v":""},{"$f":"変換シート!X37","v":""},{"$f":"変換シート!Y37","v":""},{"$f":"変換シート!Z37","v":""},{"$f":"変換シート!AA37","v":""},{"$f":"変換シート!AB37","v":""},{"$f":"変換シート!AC37","v":""},{"$f":"変換シート!AD37","v":""},{"$f":"変換シート!AE37","v":""},{"$f":"変換シート!AF37","v":""},{"$f":"変換シート!AG37","v":""},{"$f":"変換シート!AH37","v":""},{"$f":"変換シート!AI37","v":""},{"$f":"変換シート!AJ37","v":""},{"$f":"変換シート!AK37","v":""},{"$f":"変換シート!AL37","v":""},{"$f":"変換シート!AM37","v":""},{"$f":"変換シート!AN37","v":""},{"$f":"変換シート!AO37","v":""},{"$f":"変換シート!AP37","v":""},{"$f":"変換シート!AQ37","v":""},{"$f":"変換シート!AR37","v":""},{"$f":"変換シート!AS37","v":""},{"$f":"変換シート!AT37","v":""},{"$f":"変換シート!AU37","v":""},{"$f":"変換シート!AV37","v":""},{"$f":"変換シート!AW37","v":""},{"$f":"変換シート!AX37","v":""},{"$f":"変換シート!AY37","v":""},{"$f":"変換シート!AZ37","v":""},{"$f":"変換シート!BA37","v":""},{"$f":"変換シート!BB37","v":""},{"$f":"変換シート!BC37","v":""},{"$f":"変換シート!BD37","v":""},{"$f":"変換シート!BE37","v":""},{"$f":"変換シート!BF37","v":""},{"$f":"変換シート!BG37","v":""},{"$f":"変換シート!BH37","v":""},{"$f":"変換シート!BI37","v":""},{"$f":"変換シート!BJ37","v":""},{"$f":"変換シート!BK37","v":""},{"$f":"変換シート!BL37","v":""},{"$f":"変換シート!BM37","v":""},{"$f":"変換シート!BN37","v":""},{"$f":"変換シート!BO37","v":""},{"$f":"変換シート!BP37","v":""},{"$f":"変換シート!BQ37","v":""},{"$f":"変換シート!BR37","v":""},{"$f":"変換シート!BS37","v":""},{"$f":"変換シート!BT37","v":""},{"$f":"変換シート!BU37","v":""},{"$f":"変換シート!BV37","v":""},{"$f":"入力画面!DJ473&\"\"","v":""},{"$f":"入力画面!DK473&\"\"","v":""},{"$f":"入力画面!DL473&\"\"","v":""},{"$f":"入力画面!DM473&\"\"","v":""},{"$f":"入力画面!DN473&\"\"","v":""},{"$f":"入力画面!DO473&\"\"","v":""},"非公開"]
[34,null,null,"埼玉県 福祉部 地域包括ケア課",{"$f":"入力画面!B487&\"\"","v":""},{"$f":"入力画面!D487&\"\"","v":""},{"$f":"入力画面!E487&\"\"","v":""},{"$f":"入力画面!F487&\"\"","v":""},{"$f":"入力画面!G487&\"\"","v":""},{"$f":"入力画面!H487&\"\"","v":""},{"$f":"入力画面!I487&\"\"","v":""},{"$f":"入力画面!J487&\"\"","v":""},{"$f":"入力画面!K487&\"\"","v":""},{"$f":"入力画面!M487&\"\"","v":""},{"$f":"入力画面!N487&\"\"","v":""},{"$f":"入力画面!O487&\"\"","v":""},{"$f":"入力画面!P487&\"\"","v":""},{"$f":"入力画面!Q487&\"\"","v":""},{"$f":"入力画面!R487&\"\"","v":""},{"$f":"変換シート!BW38","v":""},{"$f":"変換シート!BX38","v":""},{"$f":"変換シート!BY38","v":""},{"$f":"変換シート!BZ38","v":""},{"$f":"変換シート!CA38","v":""},{"$f":"変換シート!CB38","v":""},{"$f":"変換シート!CC38","v":""},{"$f":"変換シート!CD38","v":""},{"$f":"入力画面!AY487&\"\"","v":""},{"$f":"入力画面!DI487","v":0},{"$f":"変換シート!C38","v":""},{"$f":"変換シート!D38","v":""},{"$f":"変換シート!E38","v":""},{"$f":"変換シート!F38","v":""},{"$f":"変換シート!G38","v":""},{"$f":"変換シート!H38","v":""},{"$f":"変換シート!I38","v":""},{"$f":"変換シート!J38","v":""},{"$f":"変換シート!K38","v":""},{"$f":"変換シート!L38","v":""},{"$f":"変換シート!M38","v":""},{"$f":"変換シート!N38","v":""},{"$f":"変換シート!O38","v":""},{"$f":"変換シート!P38","v":""},{"$f":"変換シート!Q38","v":""},{"$f":"変換シート!R38","v":""},{"$f":"変換シート!S38","v":""},{"$f":"変換シート!T38","v":""},{"$f":"変換シート!U38","v":""},{"$f":"変換シート!V38","v":""},{"$f":"変換シート!W38","v":""},{"$f":"変換シート!X38","v":""},{"$f":"変換シート!Y38","v":""},{"$f":"変換シート!Z38","v":""},{"$f":"変換シート!AA38","v":""},{"$f":"変換シート!AB38","v":""},{"$f":"変換シート!AC38","v":""},{"$f":"変換シート!AD38","v":""},{"$f":"変換シート!AE38","v":""},{"$f":"変換シート!AF38","v":""},{"$f":"変換シート!AG38","v":""},{"$f":"変換シート!AH38","v":""},{"$f":"変換シート!AI38","v":""},{"$f":"変換シート!AJ38","v":""},{"$f":"変換シート!AK38","v":""},{"$f":"変換シート!AL38","v":""},{"$f":"変換シート!AM38","v":""},{"$f":"変換シート!AN38","v":""},{"$f":"変換シート!AO38","v":""},{"$f":"変換シート!AP38","v":""},{"$f":"変換シート!AQ38","v":""},{"$f":"変換シート!AR38","v":""},{"$f":"変換シート!AS38","v":""},{"$f":"変換シート!AT38","v":""},{"$f":"変換シート!AU38","v":""},{"$f":"変換シート!AV38","v":""},{"$f":"変換シート!AW38","v":""},{"$f":"変換シート!AX38","v":""},{"$f":"変換シート!AY38","v":""},{"$f":"変換シート!AZ38","v":""},{"$f":"変換シート!BA38","v":""},{"$f":"変換シート!BB38","v":""},{"$f":"変換シート!BC38","v":""},{"$f":"変換シート!BD38","v":""},{"$f":"変換シート!BE38","v":""},{"$f":"変換シート!BF38","v":""},{"$f":"変換シート!BG38","v":""},{"$f":"変換シート!BH38","v":""},{"$f":"変換シート!BI38","v":""},{"$f":"変換シート!BJ38","v":""},{"$f":"変換シート!BK38","v":""},{"$f":"変換シート!BL38","v":""},{"$f":"変換シート!BM38","v":""},{"$f":"変換シート!BN38","v":""},{"$f":"変換シート!BO38","v":""},{"$f":"変換シート!BP38","v":""},{"$f":"変換シート!BQ38","v":""},{"$f":"変換シート!BR38","v":""},{"$f":"変換シート!BS38","v":""},{"$f":"変換シート!BT38","v":""},{"$f":"変換シート!BU38","v":""},{"$f":"変換シート!BV38","v":""},{"$f":"入力画面!DJ487&\"\"","v":""},{"$f":"入力画面!DK487&\"\"","v":""},{"$f":"入力画面!DL487&\"\"","v":""},{"$f":"入力画面!DM487&\"\"","v":""},{"$f":"入力画面!DN487&\"\"","v":""},{"$f":"入力画面!DO487&\"\"","v":""},"非公開"]
[35,null,null,"埼玉県 福祉部 地域包括ケア課",{"$f":"入力画面!B501&\"\"","v":""},{"$f":"入力画面!D501&\"\"","v":""},{"$f":"入力画面!E501&\"\"","v":""},{"$f":"入力画面!F501&\"\"","v":""},{"$f":"入力画面!G501&\"\"","v":""},{"$f":"入力画面!H501&\"\"","v":""},{"$f":"入力画面!I501&\"\"","v":""},{"$f":"入力画面!J501&\"\"","v":""},{"$f":"入力画面!K501&\"\"","v":""},{"$f":"入力画面!M501&\"\"","v":""},{"$f":"入力画面!N501&\"\"","v":""},{"$f":"入力画面!O501&\"\"","v":""},{"$f":"入力画面!P501&\"\"","v":""},{"$f":"入力画面!Q501&\"\"","v":""},{"$f":"入力画面!R501&\"\"","v":""},{"$f":"変換シート!BW39","v":""},{"$f":"変換シート!BX39","v":""},{"$f":"変換シート!BY39","v":""},{"$f":"変換シート!BZ39","v":""},{"$f":"変換シート!CA39","v":""},{"$f":"変換シート!CB39","v":""},{"$f":"変換シート!CC39","v":""},{"$f":"変換シート!CD39","v":""},{"$f":"入力画面!AY501&\"\"","v":""},{"$f":"入力画面!DI501","v":0},{"$f":"変換シート!C39","v":""},{"$f":"変換シート!D39","v":""},{"$f":"変換シート!E39","v":""},{"$f":"変換シート!F39","v":""},{"$f":"変換シート!G39","v":""},{"$f":"変換シート!H39","v":""},{"$f":"変換シート!I39","v":""},{"$f":"変換シート!J39","v":""},{"$f":"変換シート!K39","v":""},{"$f":"変換シート!L39","v":""},{"$f":"変換シート!M39","v":""},{"$f":"変換シート!N39","v":""},{"$f":"変換シート!O39","v":""},{"$f":"変換シート!P39","v":""},{"$f":"変換シート!Q39","v":""},{"$f":"変換シート!R39","v":""},{"$f":"変換シート!S39","v":""},{"$f":"変換シート!T39","v":""},{"$f":"変換シート!U39","v":""},{"$f":"変換シート!V39","v":""},{"$f":"変換シート!W39","v":""},{"$f":"変換シート!X39","v":""},{"$f":"変換シート!Y39","v":""},{"$f":"変換シート!Z39","v":""},{"$f":"変換シート!AA39","v":""},{"$f":"変換シート!AB39","v":""},{"$f":"変換シート!AC39","v":""},{"$f":"変換シート!AD39","v":""},{"$f":"変換シート!AE39","v":""},{"$f":"変換シート!AF39","v":""},{"$f":"変換シート!AG39","v":""},{"$f":"変換シート!AH39","v":""},{"$f":"変換シート!AI39","v":""},{"$f":"変換シート!AJ39","v":""},{"$f":"変換シート!AK39","v":""},{"$f":"変換シート!AL39","v":""},{"$f":"変換シート!AM39","v":""},{"$f":"変換シート!AN39","v":""},{"$f":"変換シート!AO39","v":""},{"$f":"変換シート!AP39","v":""},{"$f":"変換シート!AQ39","v":""},{"$f":"変換シート!AR39","v":""},{"$f":"変換シート!AS39","v":""},{"$f":"変換シート!AT39","v":""},{"$f":"変換シート!AU39","v":""},{"$f":"変換シート!AV39","v":""},{"$f":"変換シート!AW39","v":""},{"$f":"変換シート!AX39","v":""},{"$f":"変換シート!AY39","v":""},{"$f":"変換シート!AZ39","v":""},{"$f":"変換シート!BA39","v":""},{"$f":"変換シート!BB39","v":""},{"$f":"変換シート!BC39","v":""},{"$f":"変換シート!BD39","v":""},{"$f":"変換シート!BE39","v":""},{"$f":"変換シート!BF39","v":""},{"$f":"変換シート!BG39","v":""},{"$f":"変換シート!BH39","v":""},{"$f":"変換シート!BI39","v":""},{"$f":"変換シート!BJ39","v":""},{"$f":"変換シート!BK39","v":""},{"$f":"変換シート!BL39","v":""},{"$f":"変換シート!BM39","v":""},{"$f":"変換シート!BN39","v":""},{"$f":"変換シート!BO39","v":""},{"$f":"変換シート!BP39","v":""},{"$f":"変換シート!BQ39","v":""},{"$f":"変換シート!BR39","v":""},{"$f":"変換シート!BS39","v":""},{"$f":"変換シート!BT39","v":""},{"$f":"変換シート!BU39","v":""},{"$f":"変換シート!BV39","v":""},{"$f":"入力画面!DJ501&\"\"","v":""},{"$f":"入力画面!DK501&\"\"","v":""},{"$f":"入力画面!DL501&\"\"","v":""},{"$f":"入力画面!DM501&\"\"","v":""},{"$f":"入力画面!DN501&\"\"","v":""},{"$f":"入力画面!DO501&\"\"","v":""},"非公開"]
[36,null,null,"埼玉県 福祉部 地域包括ケア課",{"$f":"入力画面!B515&\"\"","v":""},{"$f":"入力画面!D515&\"\"","v":""},{"$f":"入力画面!E515&\"\"","v":""},{"$f":"入力画面!F515&\"\"","v":""},{"$f":"入力画面!G515&\"\"","v":""},{"$f":"入力画面!H515&\"\"","v":""},{"$f":"入力画面!I515&\"\"","v":""},{"$f":"入力画面!J515&\"\"","v":""},{"$f":"入力画面!K515&\"\"","v":""},{"$f":"入力画面!M515&\"\"","v":""},{"$f":"入力画面!N515&\"\"","v":""},{"$f":"入力画面!O515&\"\"","v":""},{"$f":"入力画面!P515&\"\"","v":""},{"$f":"入力画面!Q515&\"\"","v":""},{"$f":"入力画面!R515&\"\"","v":""},{"$f":"変換シート!BW40","v":""},{"$f":"変換シート!BX40","v":""},{"$f":"変換シート!BY40","v":""},{"$f":"変換シート!BZ40","v":""},{"$f":"変換シート!CA40","v":""},{"$f":"変換シート!CB40","v":""},{"$f":"変換シート!CC40","v":""},{"$f":"変換シート!CD40","v":""},{"$f":"入力画面!AY515&\"\"","v":""},{"$f":"入力画面!DI515","v":0},{"$f":"変換シート!C40","v":""},{"$f":"変換シート!D40","v":""},{"$f":"変換シート!E40","v":""},{"$f":"変換シート!F40","v":""},{"$f":"変換シート!G40","v":""},{"$f":"変換シート!H40","v":""},{"$f":"変換シート!I40","v":""},{"$f":"変換シート!J40","v":""},{"$f":"変換シート!K40","v":""},{"$f":"変換シート!L40","v":""},{"$f":"変換シート!M40","v":""},{"$f":"変換シート!N40","v":""},{"$f":"変換シート!O40","v":""},{"$f":"変換シート!P40","v":""},{"$f":"変換シート!Q40","v":""},{"$f":"変換シート!R40","v":""},{"$f":"変換シート!S40","v":""},{"$f":"変換シート!T40","v":""},{"$f":"変換シート!U40","v":""},{"$f":"変換シート!V40","v":""},{"$f":"変換シート!W40","v":""},{"$f":"変換シート!X40","v":""},{"$f":"変換シート!Y40","v":""},{"$f":"変換シート!Z40","v":""},{"$f":"変換シート!AA40","v":""},{"$f":"変換シート!AB40","v":""},{"$f":"変換シート!AC40","v":""},{"$f":"変換シート!AD40","v":""},{"$f":"変換シート!AE40","v":""},{"$f":"変換シート!AF40","v":""},{"$f":"変換シート!AG40","v":""},{"$f":"変換シート!AH40","v":""},{"$f":"変換シート!AI40","v":""},{"$f":"変換シート!AJ40","v":""},{"$f":"変換シート!AK40","v":""},{"$f":"変換シート!AL40","v":""},{"$f":"変換シート!AM40","v":""},{"$f":"変換シート!AN40","v":""},{"$f":"変換シート!AO40","v":""},{"$f":"変換シート!AP40","v":""},{"$f":"変換シート!AQ40","v":""},{"$f":"変換シート!AR40","v":""},{"$f":"変換シート!AS40","v":""},{"$f":"変換シート!AT40","v":""},{"$f":"変換シート!AU40","v":""},{"$f":"変換シート!AV40","v":""},{"$f":"変換シート!AW40","v":""},{"$f":"変換シート!AX40","v":""},{"$f":"変換シート!AY40","v":""},{"$f":"変換シート!AZ40","v":""},{"$f":"変換シート!BA40","v":""},{"$f":"変換シート!BB40","v":""},{"$f":"変換シート!BC40","v":""},{"$f":"変換シート!BD40","v":""},{"$f":"変換シート!BE40","v":""},{"$f":"変換シート!BF40","v":""},{"$f":"変換シート!BG40","v":""},{"$f":"変換シート!BH40","v":""},{"$f":"変換シート!BI40","v":""},{"$f":"変換シート!BJ40","v":""},{"$f":"変換シート!BK40","v":""},{"$f":"変換シート!BL40","v":""},{"$f":"変換シート!BM40","v":""},{"$f":"変換シート!BN40","v":""},{"$f":"変換シート!BO40","v":""},{"$f":"変換シート!BP40","v":""},{"$f":"変換シート!BQ40","v":""},{"$f":"変換シート!BR40","v":""},{"$f":"変換シート!BS40","v":""},{"$f":"変換シート!BT40","v":""},{"$f":"変換シート!BU40","v":""},{"$f":"変換シート!BV40","v":""},{"$f":"入力画面!DJ515&\"\"","v":""},{"$f":"入力画面!DK515&\"\"","v":""},{"$f":"入力画面!DL515&\"\"","v":""},{"$f":"入力画面!DM515&\"\"","v":""},{"$f":"入力画面!DN515&\"\"","v":""},{"$f":"入力画面!DO515&\"\"","v":""},"非公開"]
[37,null,null,"埼玉県 福祉部 地域包括ケア課",{"$f":"入力画面!B529&\"\"","v":""},{"$f":"入力画面!D529&\"\"","v":""},{"$f":"入力画面!E529&\"\"","v":""},{"$f":"入力画面!F529&\"\"","v":""},{"$f":"入力画面!G529&\"\"","v":""},{"$f":"入力画面!H529&\"\"","v":""},{"$f":"入力画面!I529&\"\"","v":""},{"$f":"入力画面!J529&\"\"","v":""},{"$f":"入力画面!K529&\"\"","v":""},{"$f":"入力画面!M529&\"\"","v":""},{"$f":"入力画面!N529&\"\"","v":""},{"$f":"入力画面!O529&\"\"","v":""},{"$f":"入力画面!P529&\"\"","v":""},{"$f":"入力画面!Q529&\"\"","v":""},{"$f":"入力画面!R529&\"\"","v":""},{"$f":"変換シート!BW41","v":""},{"$f":"変換シート!BX41","v":""},{"$f":"変換シート!BY41","v":""},{"$f":"変換シート!BZ41","v":""},{"$f":"変換シート!CA41","v":""},{"$f":"変換シート!CB41","v":""},{"$f":"変換シート!CC41","v":""},{"$f":"変換シート!CD41","v":""},{"$f":"入力画面!AY529&\"\"","v":""},{"$f":"入力画面!DI529","v":0},{"$f":"変換シート!C41","v":""},{"$f":"変換シート!D41","v":""},{"$f":"変換シート!E41","v":""},{"$f":"変換シート!F41","v":""},{"$f":"変換シート!G41","v":""},{"$f":"変換シート!H41","v":""},{"$f":"変換シート!I41","v":""},{"$f":"変換シート!J41","v":""},{"$f":"変換シート!K41","v":""},{"$f":"変換シート!L41","v":""},{"$f":"変換シート!M41","v":""},{"$f":"変換シート!N41","v":""},{"$f":"変換シート!O41","v":""},{"$f":"変換シート!P41","v":""},{"$f":"変換シート!Q41","v":""},{"$f":"変換シート!R41","v":""},{"$f":"変換シート!S41","v":""},{"$f":"変換シート!T41","v":""},{"$f":"変換シート!U41","v":""},{"$f":"変換シート!V41","v":""},{"$f":"変換シート!W41","v":""},{"$f":"変換シート!X41","v":""},{"$f":"変換シート!Y41","v":""},{"$f":"変換シート!Z41","v":""},{"$f":"変換シート!AA41","v":""},{"$f":"変換シート!AB41","v":""},{"$f":"変換シート!AC41","v":""},{"$f":"変換シート!AD41","v":""},{"$f":"変換シート!AE41","v":""},{"$f":"変換シート!AF41","v":""},{"$f":"変換シート!AG41","v":""},{"$f":"変換シート!AH41","v":""},{"$f":"変換シート!AI41","v":""},{"$f":"変換シート!AJ41","v":""},{"$f":"変換シート!AK41","v":""},{"$f":"変換シート!AL41","v":""},{"$f":"変換シート!AM41","v":""},{"$f":"変換シート!AN41","v":""},{"$f":"変換シート!AO41","v":""},{"$f":"変換シート!AP41","v":""},{"$f":"変換シート!AQ41","v":""},{"$f":"変換シート!AR41","v":""},{"$f":"変換シート!AS41","v":""},{"$f":"変換シート!AT41","v":""},{"$f":"変換シート!AU41","v":""},{"$f":"変換シート!AV41","v":""},{"$f":"変換シート!AW41","v":""},{"$f":"変換シート!AX41","v":""},{"$f":"変換シート!AY41","v":""},{"$f":"変換シート!AZ41","v":""},{"$f":"変換シート!BA41","v":""},{"$f":"変換シート!BB41","v":""},{"$f":"変換シート!BC41","v":""},{"$f":"変換シート!BD41","v":""},{"$f":"変換シート!BE41","v":""},{"$f":"変換シート!BF41","v":""},{"$f":"変換シート!BG41","v":""},{"$f":"変換シート!BH41","v":""},{"$f":"変換シート!BI41","v":""},{"$f":"変換シート!BJ41","v":""},{"$f":"変換シート!BK41","v":""},{"$f":"変換シート!BL41","v":""},{"$f":"変換シート!BM41","v":""},{"$f":"変換シート!BN41","v":""},{"$f":"変換シート!BO41","v":""},{"$f":"変換シート!BP41","v":""},{"$f":"変換シート!BQ41","v":""},{"$f":"変換シート!BR41","v":""},{"$f":"変換シート!BS41","v":""},{"$f":"変換シート!BT41","v":""},{"$f":"変換シート!BU41","v":""},{"$f":"変換シート!BV41","v":""},{"$f":"入力画面!DJ529&\"\"","v":""},{"$f":"入力画面!DK529&\"\"","v":""},{"$f":"入力画面!DL529&\"\"","v":""},{"$f":"入力画面!DM529&\"\"","v":""},{"$f":"入力画面!DN529&\"\"","v":""},{"$f":"入力画面!DO529&\"\"","v":""},"非公開"]
[38,null,null,"埼玉県 福祉部 地域包括ケア課",{"$f":"入力画面!B543&\"\"","v":""},{"$f":"入力画面!D543&\"\"","v":""},{"$f":"入力画面!E543&\"\"","v":""},{"$f":"入力画面!F543&\"\"","v":""},{"$f":"入力画面!G543&\"\"","v":""},{"$f":"入力画面!H543&\"\"","v":""},{"$f":"入力画面!I543&\"\"","v":""},{"$f":"入力画面!J543&\"\"","v":""},{"$f":"入力画面!K543&\"\"","v":""},{"$f":"入力画面!M543&\"\"","v":""},{"$f":"入力画面!N543&\"\"","v":""},{"$f":"入力画面!O543&\"\"","v":""},{"$f":"入力画面!P543&\"\"","v":""},{"$f":"入力画面!Q543&\"\"","v":""},{"$f":"入力画面!R543&\"\"","v":""},{"$f":"変換シート!BW42","v":""},{"$f":"変換シート!BX42","v":""},{"$f":"変換シート!BY42","v":""},{"$f":"変換シート!BZ42","v":""},{"$f":"変換シート!CA42","v":""},{"$f":"変換シート!CB42","v":""},{"$f":"変換シート!CC42","v":""},{"$f":"変換シート!CD42","v":""},{"$f":"入力画面!AY543&\"\"","v":""},{"$f":"入力画面!DI543","v":0},{"$f":"変換シート!C42","v":""},{"$f":"変換シート!D42","v":""},{"$f":"変換シート!E42","v":""},{"$f":"変換シート!F42","v":""},{"$f":"変換シート!G42","v":""},{"$f":"変換シート!H42","v":""},{"$f":"変換シート!I42","v":""},{"$f":"変換シート!J42","v":""},{"$f":"変換シート!K42","v":""},{"$f":"変換シート!L42","v":""},{"$f":"変換シート!M42","v":""},{"$f":"変換シート!N42","v":""},{"$f":"変換シート!O42","v":""},{"$f":"変換シート!P42","v":""},{"$f":"変換シート!Q42","v":""},{"$f":"変換シート!R42","v":""},{"$f":"変換シート!S42","v":""},{"$f":"変換シート!T42","v":""},{"$f":"変換シート!U42","v":""},{"$f":"変換シート!V42","v":""},{"$f":"変換シート!W42","v":""},{"$f":"変換シート!X42","v":""},{"$f":"変換シート!Y42","v":""},{"$f":"変換シート!Z42","v":""},{"$f":"変換シート!AA42","v":""},{"$f":"変換シート!AB42","v":""},{"$f":"変換シート!AC42","v":""},{"$f":"変換シート!AD42","v":""},{"$f":"変換シート!AE42","v":""},{"$f":"変換シート!AF42","v":""},{"$f":"変換シート!AG42","v":""},{"$f":"変換シート!AH42","v":""},{"$f":"変換シート!AI42","v":""},{"$f":"変換シート!AJ42","v":""},{"$f":"変換シート!AK42","v":""},{"$f":"変換シート!AL42","v":""},{"$f":"変換シート!AM42","v":""},{"$f":"変換シート!AN42","v":""},{"$f":"変換シート!AO42","v":""},{"$f":"変換シート!AP42","v":""},{"$f":"変換シート!AQ42","v":""},{"$f":"変換シート!AR42","v":""},{"$f":"変換シート!AS42","v":""},{"$f":"変換シート!AT42","v":""},{"$f":"変換シート!AU42","v":""},{"$f":"変換シート!AV42","v":""},{"$f":"変換シート!AW42","v":""},{"$f":"変換シート!AX42","v":""},{"$f":"変換シート!AY42","v":""},{"$f":"変換シート!AZ42","v":""},{"$f":"変換シート!BA42","v":""},{"$f":"変換シート!BB42","v":""},{"$f":"変換シート!BC42","v":""},{"$f":"変換シート!BD42","v":""},{"$f":"変換シート!BE42","v":""},{"$f":"変換シート!BF42","v":""},{"$f":"変換シート!BG42","v":""},{"$f":"変換シート!BH42","v":""},{"$f":"変換シート!BI42","v":""},{"$f":"変換シート!BJ42","v":""},{"$f":"変換シート!BK42","v":""},{"$f":"変換シート!BL42","v":""},{"$f":"変換シート!BM42","v":""},{"$f":"変換シート!BN42","v":""},{"$f":"変換シート!BO42","v":""},{"$f":"変換シート!BP42","v":""},{"$f":"変換シート!BQ42","v":""},{"$f":"変換シート!BR42","v":""},{"$f":"変換シート!BS42","v":""},{"$f":"変換シート!BT42","v":""},{"$f":"変換シート!BU42","v":""},{"$f":"変換シート!BV42","v":""},{"$f":"入力画面!DJ543&\"\"","v":""},{"$f":"入力画面!DK543&\"\"","v":""},{"$f":"入力画面!DL543&\"\"","v":""},{"$f":"入力画面!DM543&\"\"","v":""},{"$f":"入力画面!DN543&\"\"","v":""},{"$f":"入力画面!DO543&\"\"","v":""},"非公開"]
[39,null,null,"埼玉県 福祉部 地域包括ケア課",{"$f":"入力画面!B557&\"\"","v":""},{"$f":"入力画面!D557&\"\"","v":""},{"$f":"入力画面!E557&\"\"","v":""},{"$f":"入力画面!F557&\"\"","v":""},{"$f":"入力画面!G557&\"\"","v":""},{"$f":"入力画面!H557&\"\"","v":""},{"$f":"入力画面!I557&\"\"","v":""},{"$f":"入力画面!J557&\"\"","v":""},{"$f":"入力画面!K557&\"\"","v":""},{"$f":"入力画面!M557&\"\"","v":""},{"$f":"入力画面!N557&\"\"","v":""},{"$f":"入力画面!O557&\"\"","v":""},{"$f":"入力画面!P557&\"\"","v":""},{"$f":"入力画面!Q557&\"\"","v":""},{"$f":"入力画面!R557&\"\"","v":""},{"$f":"変換シート!BW43","v":""},{"$f":"変換シート!BX43","v":""},{"$f":"変換シート!BY43","v":""},{"$f":"変換シート!BZ43","v":""},{"$f":"変換シート!CA43","v":""},{"$f":"変換シート!CB43","v":""},{"$f":"変換シート!CC43","v":""},{"$f":"変換シート!CD43","v":""},{"$f":"入力画面!AY557&\"\"","v":""},{"$f":"入力画面!DI557","v":0},{"$f":"変換シート!C43","v":""},{"$f":"変換シート!D43","v":""},{"$f":"変換シート!E43","v":""},{"$f":"変換シート!F43","v":""},{"$f":"変換シート!G43","v":""},{"$f":"変換シート!H43","v":""},{"$f":"変換シート!I43","v":""},{"$f":"変換シート!J43","v":""},{"$f":"変換シート!K43","v":""},{"$f":"変換シート!L43","v":""},{"$f":"変換シート!M43","v":""},{"$f":"変換シート!N43","v":""},{"$f":"変換シート!O43","v":""},{"$f":"変換シート!P43","v":""},{"$f":"変換シート!Q43","v":""},{"$f":"変換シート!R43","v":""},{"$f":"変換シート!S43","v":""},{"$f":"変換シート!T43","v":""},{"$f":"変換シート!U43","v":""},{"$f":"変換シート!V43","v":""},{"$f":"変換シート!W43","v":""},{"$f":"変換シート!X43","v":""},{"$f":"変換シート!Y43","v":""},{"$f":"変換シート!Z43","v":""},{"$f":"変換シート!AA43","v":""},{"$f":"変換シート!AB43","v":""},{"$f":"変換シート!AC43","v":""},{"$f":"変換シート!AD43","v":""},{"$f":"変換シート!AE43","v":""},{"$f":"変換シート!AF43","v":""},{"$f":"変換シート!AG43","v":""},{"$f":"変換シート!AH43","v":""},{"$f":"変換シート!AI43","v":""},{"$f":"変換シート!AJ43","v":""},{"$f":"変換シート!AK43","v":""},{"$f":"変換シート!AL43","v":""},{"$f":"変換シート!AM43","v":""},{"$f":"変換シート!AN43","v":""},{"$f":"変換シート!AO43","v":""},{"$f":"変換シート!AP43","v":""},{"$f":"変換シート!AQ43","v":""},{"$f":"変換シート!AR43","v":""},{"$f":"変換シート!AS43","v":""},{"$f":"変換シート!AT43","v":""},{"$f":"変換シート!AU43","v":""},{"$f":"変換シート!AV43","v":""},{"$f":"変換シート!AW43","v":""},{"$f":"変換シート!AX43","v":""},{"$f":"変換シート!AY43","v":""},{"$f":"変換シート!AZ43","v":""},{"$f":"変換シート!BA43","v":""},{"$f":"変換シート!BB43","v":""},{"$f":"変換シート!BC43","v":""},{"$f":"変換シート!BD43","v":""},{"$f":"変換シート!BE43","v":""},{"$f":"変換シート!BF43","v":""},{"$f":"変換シート!BG43","v":""},{"$f":"変換シート!BH43","v":""},{"$f":"変換シート!BI43","v":""},{"$f":"変換シート!BJ43","v":""},{"$f":"変換シート!BK43","v":""},{"$f":"変換シート!BL43","v":""},{"$f":"変換シート!BM43","v":""},{"$f":"変換シート!BN43","v":""},{"$f":"変換シート!BO43","v":""},{"$f":"変換シート!BP43","v":""},{"$f":"変換シート!BQ43","v":""},{"$f":"変換シート!BR43","v":""},{"$f":"変換シート!BS43","v":""},{"$f":"変換シート!BT43","v":""},{"$f":"変換シート!BU43","v":""},{"$f":"変換シート!BV43","v":""},{"$f":"入力画面!DJ557&\"\"","v":""},{"$f":"入力画面!DK557&\"\"","v":""},{"$f":"入力画面!DL557&\"\"","v":""},{"$f":"入力画面!DM557&\"\"","v":""},{"$f":"入力画面!DN557&\"\"","v":""},{"$f":"入力画面!DO557&\"\"","v":""},"非公開"]
[40,null,null,"埼玉県 福祉部 地域包括ケア課",{"$f":"入力画面!B571&\"\"","v":""},{"$f":"入力画面!D571&\"\"","v":""},{"$f":"入力画面!E571&\"\"","v":""},{"$f":"入力画面!F571&\"\"","v":""},{"$f":"入力画面!G571&\"\"","v":""},{"$f":"入力画面!H571&\"\"","v":""},{"$f":"入力画面!I571&\"\"","v":""},{"$f":"入力画面!J571&\"\"","v":""},{"$f":"入力画面!K571&\"\"","v":""},{"$f":"入力画面!M571&\"\"","v":""},{"$f":"入力画面!N571&\"\"","v":""},{"$f":"入力画面!O571&\"\"","v":""},{"$f":"入力画面!P571&\"\"","v":""},{"$f":"入力画面!Q571&\"\"","v":""},{"$f":"入力画面!R571&\"\"","v":""},{"$f":"変換シート!BW44","v":""},{"$f":"変換シート!BX44","v":""},{"$f":"変換シート!BY44","v":""},{"$f":"変換シート!BZ44","v":""},{"$f":"変換シート!CA44","v":""},{"$f":"変換シート!CB44","v":""},{"$f":"変換シート!CC44","v":""},{"$f":"変換シート!CD44","v":""},{"$f":"入力画面!AY571&\"\"","v":""},{"$f":"入力画面!DI571","v":0},{"$f":"変換シート!C44","v":""},{"$f":"変換シート!D44","v":""},{"$f":"変換シート!E44","v":""},{"$f":"変換シート!F44","v":""},{"$f":"変換シート!G44","v":""},{"$f":"変換シート!H44","v":""},{"$f":"変換シート!I44","v":""},{"$f":"変換シート!J44","v":""},{"$f":"変換シート!K44","v":""},{"$f":"変換シート!L44","v":""},{"$f":"変換シート!M44","v":""},{"$f":"変換シート!N44","v":""},{"$f":"変換シート!O44","v":""},{"$f":"変換シート!P44","v":""},{"$f":"変換シート!Q44","v":""},{"$f":"変換シート!R44","v":""},{"$f":"変換シート!S44","v":""},{"$f":"変換シート!T44","v":""},{"$f":"変換シート!U44","v":""},{"$f":"変換シート!V44","v":""},{"$f":"変換シート!W44","v":""},{"$f":"変換シート!X44","v":""},{"$f":"変換シート!Y44","v":""},{"$f":"変換シート!Z44","v":""},{"$f":"変換シート!AA44","v":""},{"$f":"変換シート!AB44","v":""},{"$f":"変換シート!AC44","v":""},{"$f":"変換シート!AD44","v":""},{"$f":"変換シート!AE44","v":""},{"$f":"変換シート!AF44","v":""},{"$f":"変換シート!AG44","v":""},{"$f":"変換シート!AH44","v":""},{"$f":"変換シート!AI44","v":""},{"$f":"変換シート!AJ44","v":""},{"$f":"変換シート!AK44","v":""},{"$f":"変換シート!AL44","v":""},{"$f":"変換シート!AM44","v":""},{"$f":"変換シート!AN44","v":""},{"$f":"変換シート!AO44","v":""},{"$f":"変換シート!AP44","v":""},{"$f":"変換シート!AQ44","v":""},{"$f":"変換シート!AR44","v":""},{"$f":"変換シート!AS44","v":""},{"$f":"変換シート!AT44","v":""},{"$f":"変換シート!AU44","v":""},{"$f":"変換シート!AV44","v":""},{"$f":"変換シート!AW44","v":""},{"$f":"変換シート!AX44","v":""},{"$f":"変換シート!AY44","v":""},{"$f":"変換シート!AZ44","v":""},{"$f":"変換シート!BA44","v":""},{"$f":"変換シート!BB44","v":""},{"$f":"変換シート!BC44","v":""},{"$f":"変換シート!BD44","v":""},{"$f":"変換シート!BE44","v":""},{"$f":"変換シート!BF44","v":""},{"$f":"変換シート!BG44","v":""},{"$f":"変換シート!BH44","v":""},{"$f":"変換シート!BI44","v":""},{"$f":"変換シート!BJ44","v":""},{"$f":"変換シート!BK44","v":""},{"$f":"変換シート!BL44","v":""},{"$f":"変換シート!BM44","v":""},{"$f":"変換シート!BN44","v":""},{"$f":"変換シート!BO44","v":""},{"$f":"変換シート!BP44","v":""},{"$f":"変換シート!BQ44","v":""},{"$f":"変換シート!BR44","v":""},{"$f":"変換シート!BS44","v":""},{"$f":"変換シート!BT44","v":""},{"$f":"変換シート!BU44","v":""},{"$f":"変換シート!BV44","v":""},{"$f":"入力画面!DJ571&\"\"","v":""},{"$f":"入力画面!DK571&\"\"","v":""},{"$f":"入力画面!DL571&\"\"","v":""},{"$f":"入力画面!DM571&\"\"","v":""},{"$f":"入力画面!DN571&\"\"","v":""},{"$f":"入力画面!DO571&\"\"","v":""},"非公開"]
[41,null,null,"埼玉県 福祉部 地域包括ケア課",{"$f":"入力画面!B585&\"\"","v":""},{"$f":"入力画面!D585&\"\"","v":""},{"$f":"入力画面!E585&\"\"","v":""},{"$f":"入力画面!F585&\"\"","v":""},{"$f":"入力画面!G585&\"\"","v":""},{"$f":"入力画面!H585&\"\"","v":""},{"$f":"入力画面!I585&\"\"","v":""},{"$f":"入力画面!J585&\"\"","v":""},{"$f":"入力画面!K585&\"\"","v":""},{"$f":"入力画面!M585&\"\"","v":""},{"$f":"入力画面!N585&\"\"","v":""},{"$f":"入力画面!O585&\"\"","v":""},{"$f":"入力画面!P585&\"\"","v":""},{"$f":"入力画面!Q585&\"\"","v":""},{"$f":"入力画面!R585&\"\"","v":""},{"$f":"変換シート!BW45","v":""},{"$f":"変換シート!BX45","v":""},{"$f":"変換シート!BY45","v":""},{"$f":"変換シート!BZ45","v":""},{"$f":"変換シート!CA45","v":""},{"$f":"変換シート!CB45","v":""},{"$f":"変換シート!CC45","v":""},{"$f":"変換シート!CD45","v":""},{"$f":"入力画面!AY585&\"\"","v":""},{"$f":"入力画面!DI585","v":0},{"$f":"変換シート!C45","v":""},{"$f":"変換シート!D45","v":""},{"$f":"変換シート!E45","v":""},{"$f":"変換シート!F45","v":""},{"$f":"変換シート!G45","v":""},{"$f":"変換シート!H45","v":""},{"$f":"変換シート!I45","v":""},{"$f":"変換シート!J45","v":""},{"$f":"変換シート!K45","v":""},{"$f":"変換シート!L45","v":""},{"$f":"変換シート!M45","v":""},{"$f":"変換シート!N45","v":""},{"$f":"変換シート!O45","v":""},{"$f":"変換シート!P45","v":""},{"$f":"変換シート!Q45","v":""},{"$f":"変換シート!R45","v":""},{"$f":"変換シート!S45","v":""},{"$f":"変換シート!T45","v":""},{"$f":"変換シート!U45","v":""},{"$f":"変換シート!V45","v":""},{"$f":"変換シート!W45","v":""},{"$f":"変換シート!X45","v":""},{"$f":"変換シート!Y45","v":""},{"$f":"変換シート!Z45","v":""},{"$f":"変換シート!AA45","v":""},{"$f":"変換シート!AB45","v":""},{"$f":"変換シート!AC45","v":""},{"$f":"変換シート!AD45","v":""},{"$f":"変換シート!AE45","v":""},{"$f":"変換シート!AF45","v":""},{"$f":"変換シート!AG45","v":""},{"$f":"変換シート!AH45","v":""},{"$f":"変換シート!AI45","v":""},{"$f":"変換シート!AJ45","v":""},{"$f":"変換シート!AK45","v":""},{"$f":"変換シート!AL45","v":""},{"$f":"変換シート!AM45","v":""},{"$f":"変換シート!AN45","v":""},{"$f":"変換シート!AO45","v":""},{"$f":"変換シート!AP45","v":""},{"$f":"変換シート!AQ45","v":""},{"$f":"変換シート!AR45","v":""},{"$f":"変換シート!AS45","v":""},{"$f":"変換シート!AT45","v":""},{"$f":"変換シート!AU45","v":""},{"$f":"変換シート!AV45","v":""},{"$f":"変換シート!AW45","v":""},{"$f":"変換シート!AX45","v":""},{"$f":"変換シート!AY45","v":""},{"$f":"変換シート!AZ45","v":""},{"$f":"変換シート!BA45","v":""},{"$f":"変換シート!BB45","v":""},{"$f":"変換シート!BC45","v":""},{"$f":"変換シート!BD45","v":""},{"$f":"変換シート!BE45","v":""},{"$f":"変換シート!BF45","v":""},{"$f":"変換シート!BG45","v":""},{"$f":"変換シート!BH45","v":""},{"$f":"変換シート!BI45","v":""},{"$f":"変換シート!BJ45","v":""},{"$f":"変換シート!BK45","v":""},{"$f":"変換シート!BL45","v":""},{"$f":"変換シート!BM45","v":""},{"$f":"変換シート!BN45","v":""},{"$f":"変換シート!BO45","v":""},{"$f":"変換シート!BP45","v":""},{"$f":"変換シート!BQ45","v":""},{"$f":"変換シート!BR45","v":""},{"$f":"変換シート!BS45","v":""},{"$f":"変換シート!BT45","v":""},{"$f":"変換シート!BU45","v":""},{"$f":"変換シート!BV45","v":""},{"$f":"入力画面!DJ585&\"\"","v":""},{"$f":"入力画面!DK585&\"\"","v":""},{"$f":"入力画面!DL585&\"\"","v":""},{"$f":"入力画面!DM585&\"\"","v":""},{"$f":"入力画面!DN585&\"\"","v":""},{"$f":"入力画面!DO585&\"\"","v":""},"非公開"]
[42,null,null,"埼玉県 福祉部 地域包括ケア課",{"$f":"入力画面!B599&\"\"","v":""},{"$f":"入力画面!D599&\"\"","v":""},{"$f":"入力画面!E599&\"\"","v":""},{"$f":"入力画面!F599&\"\"","v":""},{"$f":"入力画面!G599&\"\"","v":""},{"$f":"入力画面!H599&\"\"","v":""},{"$f":"入力画面!I599&\"\"","v":""},{"$f":"入力画面!J599&\"\"","v":""},{"$f":"入力画面!K599&\"\"","v":""},{"$f":"入力画面!M599&\"\"","v":""},{"$f":"入力画面!N599&\"\"","v":""},{"$f":"入力画面!O599&\"\"","v":""},{"$f":"入力画面!P599&\"\"","v":""},{"$f":"入力画面!Q599&\"\"","v":""},{"$f":"入力画面!R599&\"\"","v":""},{"$f":"変換シート!BW46","v":""},{"$f":"変換シート!BX46","v":""},{"$f":"変換シート!BY46","v":""},{"$f":"変換シート!BZ46","v":""},{"$f":"変換シート!CA46","v":""},{"$f":"変換シート!CB46","v":""},{"$f":"変換シート!CC46","v":""},{"$f":"変換シート!CD46","v":""},{"$f":"入力画面!AY599&\"\"","v":""},{"$f":"入力画面!DI599","v":0},{"$f":"変換シート!C46","v":""},{"$f":"変換シート!D46","v":""},{"$f":"変換シート!E46","v":""},{"$f":"変換シート!F46","v":""},{"$f":"変換シート!G46","v":""},{"$f":"変換シート!H46","v":""},{"$f":"変換シート!I46","v":""},{"$f":"変換シート!J46","v":""},{"$f":"変換シート!K46","v":""},{"$f":"変換シート!L46","v":""},{"$f":"変換シート!M46","v":""},{"$f":"変換シート!N46","v":""},{"$f":"変換シート!O46","v":""},{"$f":"変換シート!P46","v":""},{"$f":"変換シート!Q46","v":""},{"$f":"変換シート!R46","v":""},{"$f":"変換シート!S46","v":""},{"$f":"変換シート!T46","v":""},{"$f":"変換シート!U46","v":""},{"$f":"変換シート!V46","v":""},{"$f":"変換シート!W46","v":""},{"$f":"変換シート!X46","v":""},{"$f":"変換シート!Y46","v":""},{"$f":"変換シート!Z46","v":""},{"$f":"変換シート!AA46","v":""},{"$f":"変換シート!AB46","v":""},{"$f":"変換シート!AC46","v":""},{"$f":"変換シート!AD46","v":""},{"$f":"変換シート!AE46","v":""},{"$f":"変換シート!AF46","v":""},{"$f":"変換シート!AG46","v":""},{"$f":"変換シート!AH46","v":""},{"$f":"変換シート!AI46","v":""},{"$f":"変換シート!AJ46","v":""},{"$f":"変換シート!AK46","v":""},{"$f":"変換シート!AL46","v":""},{"$f":"変換シート!AM46","v":""},{"$f":"変換シート!AN46","v":""},{"$f":"変換シート!AO46","v":""},{"$f":"変換シート!AP46","v":""},{"$f":"変換シート!AQ46","v":""},{"$f":"変換シート!AR46","v":""},{"$f":"変換シート!AS46","v":""},{"$f":"変換シート!AT46","v":""},{"$f":"変換シート!AU46","v":""},{"$f":"変換シート!AV46","v":""},{"$f":"変換シート!AW46","v":""},{"$f":"変換シート!AX46","v":""},{"$f":"変換シート!AY46","v":""},{"$f":"変換シート!AZ46","v":""},{"$f":"変換シート!BA46","v":""},{"$f":"変換シート!BB46","v":""},{"$f":"変換シート!BC46","v":""},{"$f":"変換シート!BD46","v":""},{"$f":"変換シート!BE46","v":""},{"$f":"変換シート!BF46","v":""},{"$f":"変換シート!BG46","v":""},{"$f":"変換シート!BH46","v":""},{"$f":"変換シート!BI46","v":""},{"$f":"変換シート!BJ46","v":""},{"$f":"変換シート!BK46","v":""},{"$f":"変換シート!BL46","v":""},{"$f":"変換シート!BM46","v":""},{"$f":"変換シート!BN46","v":""},{"$f":"変換シート!BO46","v":""},{"$f":"変換シート!BP46","v":""},{"$f":"変換シート!BQ46","v":""},{"$f":"変換シート!BR46","v":""},{"$f":"変換シート!BS46","v":""},{"$f":"変換シート!BT46","v":""},{"$f":"変換シート!BU46","v":""},{"$f":"変換シート!BV46","v":""},{"$f":"入力画面!DJ599&\"\"","v":""},{"$f":"入力画面!DK599&\"\"","v":""},{"$f":"入力画面!DL599&\"\"","v":""},{"$f":"入力画面!DM599&\"\"","v":""},{"$f":"入力画面!DN599&\"\"","v":""},{"$f":"入力画面!DO599&\"\"","v":""},"非公開"]
[43,null,null,"埼玉県 福祉部 地域包括ケア課",{"$f":"入力画面!B613&\"\"","v":""},{"$f":"入力画面!D613&\"\"","v":""},{"$f":"入力画面!E613&\"\"","v":""},{"$f":"入力画面!F613&\"\"","v":""},{"$f":"入力画面!G613&\"\"","v":""},{"$f":"入力画面!H613&\"\"","v":""},{"$f":"入力画面!I613&\"\"","v":""},{"$f":"入力画面!J613&\"\"","v":""},{"$f":"入力画面!K613&\"\"","v":""},{"$f":"入力画面!M613&\"\"","v":""},{"$f":"入力画面!N613&\"\"","v":""},{"$f":"入力画面!O613&\"\"","v":""},{"$f":"入力画面!P613&\"\"","v":""},{"$f":"入力画面!Q613&\"\"","v":""},{"$f":"入力画面!R613&\"\"","v":""},{"$f":"変換シート!BW47","v":""},{"$f":"変換シート!BX47","v":""},{"$f":"変換シート!BY47","v":""},{"$f":"変換シート!BZ47","v":""},{"$f":"変換シート!CA47","v":""},{"$f":"変換シート!CB47","v":""},{"$f":"変換シート!CC47","v":""},{"$f":"変換シート!CD47","v":""},{"$f":"入力画面!AY613&\"\"","v":""},{"$f":"入力画面!DI613","v":0},{"$f":"変換シート!C47","v":""},{"$f":"変換シート!D47","v":""},{"$f":"変換シート!E47","v":""},{"$f":"変換シート!F47","v":""},{"$f":"変換シート!G47","v":""},{"$f":"変換シート!H47","v":""},{"$f":"変換シート!I47","v":""},{"$f":"変換シート!J47","v":""},{"$f":"変換シート!K47","v":""},{"$f":"変換シート!L47","v":""},{"$f":"変換シート!M47","v":""},{"$f":"変換シート!N47","v":""},{"$f":"変換シート!O47","v":""},{"$f":"変換シート!P47","v":""},{"$f":"変換シート!Q47","v":""},{"$f":"変換シート!R47","v":""},{"$f":"変換シート!S47","v":""},{"$f":"変換シート!T47","v":""},{"$f":"変換シート!U47","v":""},{"$f":"変換シート!V47","v":""},{"$f":"変換シート!W47","v":""},{"$f":"変換シート!X47","v":""},{"$f":"変換シート!Y47","v":""},{"$f":"変換シート!Z47","v":""},{"$f":"変換シート!AA47","v":""},{"$f":"変換シート!AB47","v":""},{"$f":"変換シート!AC47","v":""},{"$f":"変換シート!AD47","v":""},{"$f":"変換シート!AE47","v":""},{"$f":"変換シート!AF47","v":""},{"$f":"変換シート!AG47","v":""},{"$f":"変換シート!AH47","v":""},{"$f":"変換シート!AI47","v":""},{"$f":"変換シート!AJ47","v":""},{"$f":"変換シート!AK47","v":""},{"$f":"変換シート!AL47","v":""},{"$f":"変換シート!AM47","v":""},{"$f":"変換シート!AN47","v":""},{"$f":"変換シート!AO47","v":""},{"$f":"変換シート!AP47","v":""},{"$f":"変換シート!AQ47","v":""},{"$f":"変換シート!AR47","v":""},{"$f":"変換シート!AS47","v":""},{"$f":"変換シート!AT47","v":""},{"$f":"変換シート!AU47","v":""},{"$f":"変換シート!AV47","v":""},{"$f":"変換シート!AW47","v":""},{"$f":"変換シート!AX47","v":""},{"$f":"変換シート!AY47","v":""},{"$f":"変換シート!AZ47","v":""},{"$f":"変換シート!BA47","v":""},{"$f":"変換シート!BB47","v":""},{"$f":"変換シート!BC47","v":""},{"$f":"変換シート!BD47","v":""},{"$f":"変換シート!BE47","v":""},{"$f":"変換シート!BF47","v":""},{"$f":"変換シート!BG47","v":""},{"$f":"変換シート!BH47","v":""},{"$f":"変換シート!BI47","v":""},{"$f":"変換シート!BJ47","v":""},{"$f":"変換シート!BK47","v":""},{"$f":"変換シート!BL47","v":""},{"$f":"変換シート!BM47","v":""},{"$f":"変換シート!BN47","v":""},{"$f":"変換シート!BO47","v":""},{"$f":"変換シート!BP47","v":""},{"$f":"変換シート!BQ47","v":""},{"$f":"変換シート!BR47","v":""},{"$f":"変換シート!BS47","v":""},{"$f":"変換シート!BT47","v":""},{"$f":"変換シート!BU47","v":""},{"$f":"変換シート!BV47","v":""},{"$f":"入力画面!DJ613&\"\"","v":""},{"$f":"入力画面!DK613&\"\"","v":""},{"$f":"入力画面!DL613&\"\"","v":""},{"$f":"入力画面!DM613&\"\"","v":""},{"$f":"入力画面!DN613&\"\"","v":""},{"$f":"入力画面!DO613&\"\"","v":""},"非公開"]
[44,null,null,"埼玉県 福祉部 地域包括ケア課",{"$f":"入力画面!B627&\"\"","v":""},{"$f":"入力画面!D627&\"\"","v":""},{"$f":"入力画面!E627&\"\"","v":""},{"$f":"入力画面!F627&\"\"","v":""},{"$f":"入力画面!G627&\"\"","v":""},{"$f":"入力画面!H627&\"\"","v":""},{"$f":"入力画面!I627&\"\"","v":""},{"$f":"入力画面!J627&\"\"","v":""},{"$f":"入力画面!K627&\"\"","v":""},{"$f":"入力画面!M627&\"\"","v":""},{"$f":"入力画面!N627&\"\"","v":""},{"$f":"入力画面!O627&\"\"","v":""},{"$f":"入力画面!P627&\"\"","v":""},{"$f":"入力画面!Q627&\"\"","v":""},{"$f":"入力画面!R627&\"\"","v":""},{"$f":"変換シート!BW48","v":""},{"$f":"変換シート!BX48","v":""},{"$f":"変換シート!BY48","v":""},{"$f":"変換シート!BZ48","v":""},{"$f":"変換シート!CA48","v":""},{"$f":"変換シート!CB48","v":""},{"$f":"変換シート!CC48","v":""},{"$f":"変換シート!CD48","v":""},{"$f":"入力画面!AY627&\"\"","v":""},{"$f":"入力画面!DI627","v":0},{"$f":"変換シート!C48","v":""},{"$f":"変換シート!D48","v":""},{"$f":"変換シート!E48","v":""},{"$f":"変換シート!F48","v":""},{"$f":"変換シート!G48","v":""},{"$f":"変換シート!H48","v":""},{"$f":"変換シート!I48","v":""},{"$f":"変換シート!J48","v":""},{"$f":"変換シート!K48","v":""},{"$f":"変換シート!L48","v":""},{"$f":"変換シート!M48","v":""},{"$f":"変換シート!N48","v":""},{"$f":"変換シート!O48","v":""},{"$f":"変換シート!P48","v":""},{"$f":"変換シート!Q48","v":""},{"$f":"変換シート!R48","v":""},{"$f":"変換シート!S48","v":""},{"$f":"変換シート!T48","v":""},{"$f":"変換シート!U48","v":""},{"$f":"変換シート!V48","v":""},{"$f":"変換シート!W48","v":""},{"$f":"変換シート!X48","v":""},{"$f":"変換シート!Y48","v":""},{"$f":"変換シート!Z48","v":""},{"$f":"変換シート!AA48","v":""},{"$f":"変換シート!AB48","v":""},{"$f":"変換シート!AC48","v":""},{"$f":"変換シート!AD48","v":""},{"$f":"変換シート!AE48","v":""},{"$f":"変換シート!AF48","v":""},{"$f":"変換シート!AG48","v":""},{"$f":"変換シート!AH48","v":""},{"$f":"変換シート!AI48","v":""},{"$f":"変換シート!AJ48","v":""},{"$f":"変換シート!AK48","v":""},{"$f":"変換シート!AL48","v":""},{"$f":"変換シート!AM48","v":""},{"$f":"変換シート!AN48","v":""},{"$f":"変換シート!AO48","v":""},{"$f":"変換シート!AP48","v":""},{"$f":"変換シート!AQ48","v":""},{"$f":"変換シート!AR48","v":""},{"$f":"変換シート!AS48","v":""},{"$f":"変換シート!AT48","v":""},{"$f":"変換シート!AU48","v":""},{"$f":"変換シート!AV48","v":""},{"$f":"変換シート!AW48","v":""},{"$f":"変換シート!AX48","v":""},{"$f":"変換シート!AY48","v":""},{"$f":"変換シート!AZ48","v":""},{"$f":"変換シート!BA48","v":""},{"$f":"変換シート!BB48","v":""},{"$f":"変換シート!BC48","v":""},{"$f":"変換シート!BD48","v":""},{"$f":"変換シート!BE48","v":""},{"$f":"変換シート!BF48","v":""},{"$f":"変換シート!BG48","v":""},{"$f":"変換シート!BH48","v":""},{"$f":"変換シート!BI48","v":""},{"$f":"変換シート!BJ48","v":""},{"$f":"変換シート!BK48","v":""},{"$f":"変換シート!BL48","v":""},{"$f":"変換シート!BM48","v":""},{"$f":"変換シート!BN48","v":""},{"$f":"変換シート!BO48","v":""},{"$f":"変換シート!BP48","v":""},{"$f":"変換シート!BQ48","v":""},{"$f":"変換シート!BR48","v":""},{"$f":"変換シート!BS48","v":""},{"$f":"変換シート!BT48","v":""},{"$f":"変換シート!BU48","v":""},{"$f":"変換シート!BV48","v":""},{"$f":"入力画面!DJ627&\"\"","v":""},{"$f":"入力画面!DK627&\"\"","v":""},{"$f":"入力画面!DL627&\"\"","v":""},{"$f":"入力画面!DM627&\"\"","v":""},{"$f":"入力画面!DN627&\"\"","v":""},{"$f":"入力画面!DO627&\"\"","v":""},"非公開"]
[45,null,null,"埼玉県 福祉部 地域包括ケア課",{"$f":"入力画面!B641&\"\"","v":""},{"$f":"入力画面!D641&\"\"","v":""},{"$f":"入力画面!E641&\"\"","v":""},{"$f":"入力画面!F641&\"\"","v":""},{"$f":"入力画面!G641&\"\"","v":""},{"$f":"入力画面!H641&\"\"","v":""},{"$f":"入力画面!I641&\"\"","v":""},{"$f":"入力画面!J641&\"\"","v":""},{"$f":"入力画面!K641&\"\"","v":""},{"$f":"入力画面!M641&\"\"","v":""},{"$f":"入力画面!N641&\"\"","v":""},{"$f":"入力画面!O641&\"\"","v":""},{"$f":"入力画面!P641&\"\"","v":""},{"$f":"入力画面!Q641&\"\"","v":""},{"$f":"入力画面!R641&\"\"","v":""},{"$f":"変換シート!BW49","v":""},{"$f":"変換シート!BX49","v":""},{"$f":"変換シート!BY49","v":""},{"$f":"変換シート!BZ49","v":""},{"$f":"変換シート!CA49","v":""},{"$f":"変換シート!CB49","v":""},{"$f":"変換シート!CC49","v":""},{"$f":"変換シート!CD49","v":""},{"$f":"入力画面!AY641&\"\"","v":""},{"$f":"入力画面!DI641","v":0},{"$f":"変換シート!C49","v":""},{"$f":"変換シート!D49","v":""},{"$f":"変換シート!E49","v":""},{"$f":"変換シート!F49","v":""},{"$f":"変換シート!G49","v":""},{"$f":"変換シート!H49","v":""},{"$f":"変換シート!I49","v":""},{"$f":"変換シート!J49","v":""},{"$f":"変換シート!K49","v":""},{"$f":"変換シート!L49","v":""},{"$f":"変換シート!M49","v":""},{"$f":"変換シート!N49","v":""},{"$f":"変換シート!O49","v":""},{"$f":"変換シート!P49","v":""},{"$f":"変換シート!Q49","v":""},{"$f":"変換シート!R49","v":""},{"$f":"変換シート!S49","v":""},{"$f":"変換シート!T49","v":""},{"$f":"変換シート!U49","v":""},{"$f":"変換シート!V49","v":""},{"$f":"変換シート!W49","v":""},{"$f":"変換シート!X49","v":""},{"$f":"変換シート!Y49","v":""},{"$f":"変換シート!Z49","v":""},{"$f":"変換シート!AA49","v":""},{"$f":"変換シート!AB49","v":""},{"$f":"変換シート!AC49","v":""},{"$f":"変換シート!AD49","v":""},{"$f":"変換シート!AE49","v":""},{"$f":"変換シート!AF49","v":""},{"$f":"変換シート!AG49","v":""},{"$f":"変換シート!AH49","v":""},{"$f":"変換シート!AI49","v":""},{"$f":"変換シート!AJ49","v":""},{"$f":"変換シート!AK49","v":""},{"$f":"変換シート!AL49","v":""},{"$f":"変換シート!AM49","v":""},{"$f":"変換シート!AN49","v":""},{"$f":"変換シート!AO49","v":""},{"$f":"変換シート!AP49","v":""},{"$f":"変換シート!AQ49","v":""},{"$f":"変換シート!AR49","v":""},{"$f":"変換シート!AS49","v":""},{"$f":"変換シート!AT49","v":""},{"$f":"変換シート!AU49","v":""},{"$f":"変換シート!AV49","v":""},{"$f":"変換シート!AW49","v":""},{"$f":"変換シート!AX49","v":""},{"$f":"変換シート!AY49","v":""},{"$f":"変換シート!AZ49","v":""},{"$f":"変換シート!BA49","v":""},{"$f":"変換シート!BB49","v":""},{"$f":"変換シート!BC49","v":""},{"$f":"変換シート!BD49","v":""},{"$f":"変換シート!BE49","v":""},{"$f":"変換シート!BF49","v":""},{"$f":"変換シート!BG49","v":""},{"$f":"変換シート!BH49","v":""},{"$f":"変換シート!BI49","v":""},{"$f":"変換シート!BJ49","v":""},{"$f":"変換シート!BK49","v":""},{"$f":"変換シート!BL49","v":""},{"$f":"変換シート!BM49","v":""},{"$f":"変換シート!BN49","v":""},{"$f":"変換シート!BO49","v":""},{"$f":"変換シート!BP49","v":""},{"$f":"変換シート!BQ49","v":""},{"$f":"変換シート!BR49","v":""},{"$f":"変換シート!BS49","v":""},{"$f":"変換シート!BT49","v":""},{"$f":"変換シート!BU49","v":""},{"$f":"変換シート!BV49","v":""},{"$f":"入力画面!DJ641&\"\"","v":""},{"$f":"入力画面!DK641&\"\"","v":""},{"$f":"入力画面!DL641&\"\"","v":""},{"$f":"入力画面!DM641&\"\"","v":""},{"$f":"入力画面!DN641&\"\"","v":""},{"$f":"入力画面!DO641&\"\"","v":""},"非公開"]
[46,null,null,"埼玉県 福祉部 地域包括ケア課",{"$f":"入力画面!B655&\"\"","v":""},{"$f":"入力画面!D655&\"\"","v":""},{"$f":"入力画面!E655&\"\"","v":""},{"$f":"入力画面!F655&\"\"","v":""},{"$f":"入力画面!G655&\"\"","v":""},{"$f":"入力画面!H655&\"\"","v":""},{"$f":"入力画面!I655&\"\"","v":""},{"$f":"入力画面!J655&\"\"","v":""},{"$f":"入力画面!K655&\"\"","v":""},{"$f":"入力画面!M655&\"\"","v":""},{"$f":"入力画面!N655&\"\"","v":""},{"$f":"入力画面!O655&\"\"","v":""},{"$f":"入力画面!P655&\"\"","v":""},{"$f":"入力画面!Q655&\"\"","v":""},{"$f":"入力画面!R655&\"\"","v":""},{"$f":"変換シート!BW50","v":""},{"$f":"変換シート!BX50","v":""},{"$f":"変換シート!BY50","v":""},{"$f":"変換シート!BZ50","v":""},{"$f":"変換シート!CA50","v":""},{"$f":"変換シート!CB50","v":""},{"$f":"変換シート!CC50","v":""},{"$f":"変換シート!CD50","v":""},{"$f":"入力画面!AY655&\"\"","v":""},{"$f":"入力画面!DI655","v":0},{"$f":"変換シート!C50","v":""},{"$f":"変換シート!D50","v":""},{"$f":"変換シート!E50","v":""},{"$f":"変換シート!F50","v":""},{"$f":"変換シート!G50","v":""},{"$f":"変換シート!H50","v":""},{"$f":"変換シート!I50","v":""},{"$f":"変換シート!J50","v":""},{"$f":"変換シート!K50","v":""},{"$f":"変換シート!L50","v":""},{"$f":"変換シート!M50","v":""},{"$f":"変換シート!N50","v":""},{"$f":"変換シート!O50","v":""},{"$f":"変換シート!P50","v":""},{"$f":"変換シート!Q50","v":""},{"$f":"変換シート!R50","v":""},{"$f":"変換シート!S50","v":""},{"$f":"変換シート!T50","v":""},{"$f":"変換シート!U50","v":""},{"$f":"変換シート!V50","v":""},{"$f":"変換シート!W50","v":""},{"$f":"変換シート!X50","v":""},{"$f":"変換シート!Y50","v":""},{"$f":"変換シート!Z50","v":""},{"$f":"変換シート!AA50","v":""},{"$f":"変換シート!AB50","v":""},{"$f":"変換シート!AC50","v":""},{"$f":"変換シート!AD50","v":""},{"$f":"変換シート!AE50","v":""},{"$f":"変換シート!AF50","v":""},{"$f":"変換シート!AG50","v":""},{"$f":"変換シート!AH50","v":""},{"$f":"変換シート!AI50","v":""},{"$f":"変換シート!AJ50","v":""},{"$f":"変換シート!AK50","v":""},{"$f":"変換シート!AL50","v":""},{"$f":"変換シート!AM50","v":""},{"$f":"変換シート!AN50","v":""},{"$f":"変換シート!AO50","v":""},{"$f":"変換シート!AP50","v":""},{"$f":"変換シート!AQ50","v":""},{"$f":"変換シート!AR50","v":""},{"$f":"変換シート!AS50","v":""},{"$f":"変換シート!AT50","v":""},{"$f":"変換シート!AU50","v":""},{"$f":"変換シート!AV50","v":""},{"$f":"変換シート!AW50","v":""},{"$f":"変換シート!AX50","v":""},{"$f":"変換シート!AY50","v":""},{"$f":"変換シート!AZ50","v":""},{"$f":"変換シート!BA50","v":""},{"$f":"変換シート!BB50","v":""},{"$f":"変換シート!BC50","v":""},{"$f":"変換シート!BD50","v":""},{"$f":"変換シート!BE50","v":""},{"$f":"変換シート!BF50","v":""},{"$f":"変換シート!BG50","v":""},{"$f":"変換シート!BH50","v":""},{"$f":"変換シート!BI50","v":""},{"$f":"変換シート!BJ50","v":""},{"$f":"変換シート!BK50","v":""},{"$f":"変換シート!BL50","v":""},{"$f":"変換シート!BM50","v":""},{"$f":"変換シート!BN50","v":""},{"$f":"変換シート!BO50","v":""},{"$f":"変換シート!BP50","v":""},{"$f":"変換シート!BQ50","v":""},{"$f":"変換シート!BR50","v":""},{"$f":"変換シート!BS50","v":""},{"$f":"変換シート!BT50","v":""},{"$f":"変換シート!BU50","v":""},{"$f":"変換シート!BV50","v":""},{"$f":"入力画面!DJ655&\"\"","v":""},{"$f":"入力画面!DK655&\"\"","v":""},{"$f":"入力画面!DL655&\"\"","v":""},{"$f":"入力画面!DM655&\"\"","v":""},{"$f":"入力画面!DN655&\"\"","v":""},{"$f":"入力画面!DO655&\"\"","v":""},"非公開"]
[47,null,null,"埼玉県 福祉部 地域包括ケア課",{"$f":"入力画面!B669&\"\"","v":""},{"$f":"入力画面!D669&\"\"","v":""},{"$f":"入力画面!E669&\"\"","v":""},{"$f":"入力画面!F669&\"\"","v":""},{"$f":"入力画面!G669&\"\"","v":""},{"$f":"入力画面!H669&\"\"","v":""},{"$f":"入力画面!I669&\"\"","v":""},{"$f":"入力画面!J669&\"\"","v":""},{"$f":"入力画面!K669&\"\"","v":""},{"$f":"入力画面!M669&\"\"","v":""},{"$f":"入力画面!N669&\"\"","v":""},{"$f":"入力画面!O669&\"\"","v":""},{"$f":"入力画面!P669&\"\"","v":""},{"$f":"入力画面!Q669&\"\"","v":""},{"$f":"入力画面!R669&\"\"","v":""},{"$f":"変換シート!BW51","v":""},{"$f":"変換シート!BX51","v":""},{"$f":"変換シート!BY51","v":""},{"$f":"変換シート!BZ51","v":""},{"$f":"変換シート!CA51","v":""},{"$f":"変換シート!CB51","v":""},{"$f":"変換シート!CC51","v":""},{"$f":"変換シート!CD51","v":""},{"$f":"入力画面!AY669&\"\"","v":""},{"$f":"入力画面!DI669","v":0},{"$f":"変換シート!C51","v":""},{"$f":"変換シート!D51","v":""},{"$f":"変換シート!E51","v":""},{"$f":"変換シート!F51","v":""},{"$f":"変換シート!G51","v":""},{"$f":"変換シート!H51","v":""},{"$f":"変換シート!I51","v":""},{"$f":"変換シート!J51","v":""},{"$f":"変換シート!K51","v":""},{"$f":"変換シート!L51","v":""},{"$f":"変換シート!M51","v":""},{"$f":"変換シート!N51","v":""},{"$f":"変換シート!O51","v":""},{"$f":"変換シート!P51","v":""},{"$f":"変換シート!Q51","v":""},{"$f":"変換シート!R51","v":""},{"$f":"変換シート!S51","v":""},{"$f":"変換シート!T51","v":""},{"$f":"変換シート!U51","v":""},{"$f":"変換シート!V51","v":""},{"$f":"変換シート!W51","v":""},{"$f":"変換シート!X51","v":""},{"$f":"変換シート!Y51","v":""},{"$f":"変換シート!Z51","v":""},{"$f":"変換シート!AA51","v":""},{"$f":"変換シート!AB51","v":""},{"$f":"変換シート!AC51","v":""},{"$f":"変換シート!AD51","v":""},{"$f":"変換シート!AE51","v":""},{"$f":"変換シート!AF51","v":""},{"$f":"変換シート!AG51","v":""},{"$f":"変換シート!AH51","v":""},{"$f":"変換シート!AI51","v":""},{"$f":"変換シート!AJ51","v":""},{"$f":"変換シート!AK51","v":""},{"$f":"変換シート!AL51","v":""},{"$f":"変換シート!AM51","v":""},{"$f":"変換シート!AN51","v":""},{"$f":"変換シート!AO51","v":""},{"$f":"変換シート!AP51","v":""},{"$f":"変換シート!AQ51","v":""},{"$f":"変換シート!AR51","v":""},{"$f":"変換シート!AS51","v":""},{"$f":"変換シート!AT51","v":""},{"$f":"変換シート!AU51","v":""},{"$f":"変換シート!AV51","v":""},{"$f":"変換シート!AW51","v":""},{"$f":"変換シート!AX51","v":""},{"$f":"変換シート!AY51","v":""},{"$f":"変換シート!AZ51","v":""},{"$f":"変換シート!BA51","v":""},{"$f":"変換シート!BB51","v":""},{"$f":"変換シート!BC51","v":""},{"$f":"変換シート!BD51","v":""},{"$f":"変換シート!BE51","v":""},{"$f":"変換シート!BF51","v":""},{"$f":"変換シート!BG51","v":""},{"$f":"変換シート!BH51","v":""},{"$f":"変換シート!BI51","v":""},{"$f":"変換シート!BJ51","v":""},{"$f":"変換シート!BK51","v":""},{"$f":"変換シート!BL51","v":""},{"$f":"変換シート!BM51","v":""},{"$f":"変換シート!BN51","v":""},{"$f":"変換シート!BO51","v":""},{"$f":"変換シート!BP51","v":""},{"$f":"変換シート!BQ51","v":""},{"$f":"変換シート!BR51","v":""},{"$f":"変換シート!BS51","v":""},{"$f":"変換シート!BT51","v":""},{"$f":"変換シート!BU51","v":""},{"$f":"変換シート!BV51","v":""},{"$f":"入力画面!DJ669&\"\"","v":""},{"$f":"入力画面!DK669&\"\"","v":""},{"$f":"入力画面!DL669&\"\"","v":""},{"$f":"入力画面!DM669&\"\"","v":""},{"$f":"入力画面!DN669&\"\"","v":""},{"$f":"入力画面!DO669&\"\"","v":""},"非公開"]
[48,null,null,"埼玉県 福祉部 地域包括ケア課",{"$f":"入力画面!B683&\"\"","v":""},{"$f":"入力画面!D683&\"\"","v":""},{"$f":"入力画面!E683&\"\"","v":""},{"$f":"入力画面!F683&\"\"","v":""},{"$f":"入力画面!G683&\"\"","v":""},{"$f":"入力画面!H683&\"\"","v":""},{"$f":"入力画面!I683&\"\"","v":""},{"$f":"入力画面!J683&\"\"","v":""},{"$f":"入力画面!K683&\"\"","v":""},{"$f":"入力画面!M683&\"\"","v":""},{"$f":"入力画面!N683&\"\"","v":""},{"$f":"入力画面!O683&\"\"","v":""},{"$f":"入力画面!P683&\"\"","v":""},{"$f":"入力画面!Q683&\"\"","v":""},{"$f":"入力画面!R683&\"\"","v":""},{"$f":"変換シート!BW52","v":""},{"$f":"変換シート!BX52","v":""},{"$f":"変換シート!BY52","v":""},{"$f":"変換シート!BZ52","v":""},{"$f":"変換シート!CA52","v":""},{"$f":"変換シート!CB52","v":""},{"$f":"変換シート!CC52","v":""},{"$f":"変換シート!CD52","v":""},{"$f":"入力画面!AY683&\"\"","v":""},{"$f":"入力画面!DI683","v":0},{"$f":"変換シート!C52","v":""},{"$f":"変換シート!D52","v":""},{"$f":"変換シート!E52","v":""},{"$f":"変換シート!F52","v":""},{"$f":"変換シート!G52","v":""},{"$f":"変換シート!H52","v":""},{"$f":"変換シート!I52","v":""},{"$f":"変換シート!J52","v":""},{"$f":"変換シート!K52","v":""},{"$f":"変換シート!L52","v":""},{"$f":"変換シート!M52","v":""},{"$f":"変換シート!N52","v":""},{"$f":"変換シート!O52","v":""},{"$f":"変換シート!P52","v":""},{"$f":"変換シート!Q52","v":""},{"$f":"変換シート!R52","v":""},{"$f":"変換シート!S52","v":""},{"$f":"変換シート!T52","v":""},{"$f":"変換シート!U52","v":""},{"$f":"変換シート!V52","v":""},{"$f":"変換シート!W52","v":""},{"$f":"変換シート!X52","v":""},{"$f":"変換シート!Y52","v":""},{"$f":"変換シート!Z52","v":""},{"$f":"変換シート!AA52","v":""},{"$f":"変換シート!AB52","v":""},{"$f":"変換シート!AC52","v":""},{"$f":"変換シート!AD52","v":""},{"$f":"変換シート!AE52","v":""},{"$f":"変換シート!AF52","v":""},{"$f":"変換シート!AG52","v":""},{"$f":"変換シート!AH52","v":""},{"$f":"変換シート!AI52","v":""},{"$f":"変換シート!AJ52","v":""},{"$f":"変換シート!AK52","v":""},{"$f":"変換シート!AL52","v":""},{"$f":"変換シート!AM52","v":""},{"$f":"変換シート!AN52","v":""},{"$f":"変換シート!AO52","v":""},{"$f":"変換シート!AP52","v":""},{"$f":"変換シート!AQ52","v":""},{"$f":"変換シート!AR52","v":""},{"$f":"変換シート!AS52","v":""},{"$f":"変換シート!AT52","v":""},{"$f":"変換シート!AU52","v":""},{"$f":"変換シート!AV52","v":""},{"$f":"変換シート!AW52","v":""},{"$f":"変換シート!AX52","v":""},{"$f":"変換シート!AY52","v":""},{"$f":"変換シート!AZ52","v":""},{"$f":"変換シート!BA52","v":""},{"$f":"変換シート!BB52","v":""},{"$f":"変換シート!BC52","v":""},{"$f":"変換シート!BD52","v":""},{"$f":"変換シート!BE52","v":""},{"$f":"変換シート!BF52","v":""},{"$f":"変換シート!BG52","v":""},{"$f":"変換シート!BH52","v":""},{"$f":"変換シート!BI52","v":""},{"$f":"変換シート!BJ52","v":""},{"$f":"変換シート!BK52","v":""},{"$f":"変換シート!BL52","v":""},{"$f":"変換シート!BM52","v":""},{"$f":"変換シート!BN52","v":""},{"$f":"変換シート!BO52","v":""},{"$f":"変換シート!BP52","v":""},{"$f":"変換シート!BQ52","v":""},{"$f":"変換シート!BR52","v":""},{"$f":"変換シート!BS52","v":""},{"$f":"変換シート!BT52","v":""},{"$f":"変換シート!BU52","v":""},{"$f":"変換シート!BV52","v":""},{"$f":"入力画面!DJ683&\"\"","v":""},{"$f":"入力画面!DK683&\"\"","v":""},{"$f":"入力画面!DL683&\"\"","v":""},{"$f":"入力画面!DM683&\"\"","v":""},{"$f":"入力画面!DN683&\"\"","v":""},{"$f":"入力画面!DO683&\"\"","v":""},"非公開"]
[49,null,null,"埼玉県 福祉部 地域包括ケア課",{"$f":"入力画面!B697&\"\"","v":""},{"$f":"入力画面!D697&\"\"","v":""},{"$f":"入力画面!E697&\"\"","v":""},{"$f":"入力画面!F697&\"\"","v":""},{"$f":"入力画面!G697&\"\"","v":""},{"$f":"入力画面!H697&\"\"","v":""},{"$f":"入力画面!I697&\"\"","v":""},{"$f":"入力画面!J697&\"\"","v":""},{"$f":"入力画面!K697&\"\"","v":""},{"$f":"入力画面!M697&\"\"","v":""},{"$f":"入力画面!N697&\"\"","v":""},{"$f":"入力画面!O697&\"\"","v":""},{"$f":"入力画面!P697&\"\"","v":""},{"$f":"入力画面!Q697&\"\"","v":""},{"$f":"入力画面!R697&\"\"","v":""},{"$f":"変換シート!BW53","v":""},{"$f":"変換シート!BX53","v":""},{"$f":"変換シート!BY53","v":""},{"$f":"変換シート!BZ53","v":""},{"$f":"変換シート!CA53","v":""},{"$f":"変換シート!CB53","v":""},{"$f":"変換シート!CC53","v":""},{"$f":"変換シート!CD53","v":""},{"$f":"入力画面!AY697&\"\"","v":""},{"$f":"入力画面!DI697","v":0},{"$f":"変換シート!C53","v":""},{"$f":"変換シート!D53","v":""},{"$f":"変換シート!E53","v":""},{"$f":"変換シート!F53","v":""},{"$f":"変換シート!G53","v":""},{"$f":"変換シート!H53","v":""},{"$f":"変換シート!I53","v":""},{"$f":"変換シート!J53","v":""},{"$f":"変換シート!K53","v":""},{"$f":"変換シート!L53","v":""},{"$f":"変換シート!M53","v":""},{"$f":"変換シート!N53","v":""},{"$f":"変換シート!O53","v":""},{"$f":"変換シート!P53","v":""},{"$f":"変換シート!Q53","v":""},{"$f":"変換シート!R53","v":""},{"$f":"変換シート!S53","v":""},{"$f":"変換シート!T53","v":""},{"$f":"変換シート!U53","v":""},{"$f":"変換シート!V53","v":""},{"$f":"変換シート!W53","v":""},{"$f":"変換シート!X53","v":""},{"$f":"変換シート!Y53","v":""},{"$f":"変換シート!Z53","v":""},{"$f":"変換シート!AA53","v":""},{"$f":"変換シート!AB53","v":""},{"$f":"変換シート!AC53","v":""},{"$f":"変換シート!AD53","v":""},{"$f":"変換シート!AE53","v":""},{"$f":"変換シート!AF53","v":""},{"$f":"変換シート!AG53","v":""},{"$f":"変換シート!AH53","v":""},{"$f":"変換シート!AI53","v":""},{"$f":"変換シート!AJ53","v":""},{"$f":"変換シート!AK53","v":""},{"$f":"変換シート!AL53","v":""},{"$f":"変換シート!AM53","v":""},{"$f":"変換シート!AN53","v":""},{"$f":"変換シート!AO53","v":""},{"$f":"変換シート!AP53","v":""},{"$f":"変換シート!AQ53","v":""},{"$f":"変換シート!AR53","v":""},{"$f":"変換シート!AS53","v":""},{"$f":"変換シート!AT53","v":""},{"$f":"変換シート!AU53","v":""},{"$f":"変換シート!AV53","v":""},{"$f":"変換シート!AW53","v":""},{"$f":"変換シート!AX53","v":""},{"$f":"変換シート!AY53","v":""},{"$f":"変換シート!AZ53","v":""},{"$f":"変換シート!BA53","v":""},{"$f":"変換シート!BB53","v":""},{"$f":"変換シート!BC53","v":""},{"$f":"変換シート!BD53","v":""},{"$f":"変換シート!BE53","v":""},{"$f":"変換シート!BF53","v":""},{"$f":"変換シート!BG53","v":""},{"$f":"変換シート!BH53","v":""},{"$f":"変換シート!BI53","v":""},{"$f":"変換シート!BJ53","v":""},{"$f":"変換シート!BK53","v":""},{"$f":"変換シート!BL53","v":""},{"$f":"変換シート!BM53","v":""},{"$f":"変換シート!BN53","v":""},{"$f":"変換シート!BO53","v":""},{"$f":"変換シート!BP53","v":""},{"$f":"変換シート!BQ53","v":""},{"$f":"変換シート!BR53","v":""},{"$f":"変換シート!BS53","v":""},{"$f":"変換シート!BT53","v":""},{"$f":"変換シート!BU53","v":""},{"$f":"変換シート!BV53","v":""},{"$f":"入力画面!DJ697&\"\"","v":""},{"$f":"入力画面!DK697&\"\"","v":""},{"$f":"入力画面!DL697&\"\"","v":""},{"$f":"入力画面!DM697&\"\"","v":""},{"$f":"入力画面!DN697&\"\"","v":""},{"$f":"入力画面!DO697&\"\"","v":""},"非公開"]
[50,null,null,"埼玉県 福祉部 地域包括ケア課",{"$f":"入力画面!B711&\"\"","v":""},{"$f":"入力画面!D711&\"\"","v":""},{"$f":"入力画面!E711&\"\"","v":""},{"$f":"入力画面!F711&\"\"","v":""},{"$f":"入力画面!G711&\"\"","v":""},{"$f":"入力画面!H711&\"\"","v":""},{"$f":"入力画面!I711&\"\"","v":""},{"$f":"入力画面!J711&\"\"","v":""},{"$f":"入力画面!K711&\"\"","v":""},{"$f":"入力画面!M711&\"\"","v":""},{"$f":"入力画面!N711&\"\"","v":""},{"$f":"入力画面!O711&\"\"","v":""},{"$f":"入力画面!P711&\"\"","v":""},{"$f":"入力画面!Q711&\"\"","v":""},{"$f":"入力画面!R711&\"\"","v":""},{"$f":"変換シート!BW54","v":""},{"$f":"変換シート!BX54","v":""},{"$f":"変換シート!BY54","v":""},{"$f":"変換シート!BZ54","v":""},{"$f":"変換シート!CA54","v":""},{"$f":"変換シート!CB54","v":""},{"$f":"変換シート!CC54","v":""},{"$f":"変換シート!CD54","v":""},{"$f":"入力画面!AY711&\"\"","v":""},{"$f":"入力画面!DI711","v":0},{"$f":"変換シート!C54","v":""},{"$f":"変換シート!D54","v":""},{"$f":"変換シート!E54","v":""},{"$f":"変換シート!F54","v":""},{"$f":"変換シート!G54","v":""},{"$f":"変換シート!H54","v":""},{"$f":"変換シート!I54","v":""},{"$f":"変換シート!J54","v":""},{"$f":"変換シート!K54","v":""},{"$f":"変換シート!L54","v":""},{"$f":"変換シート!M54","v":""},{"$f":"変換シート!N54","v":""},{"$f":"変換シート!O54","v":""},{"$f":"変換シート!P54","v":""},{"$f":"変換シート!Q54","v":""},{"$f":"変換シート!R54","v":""},{"$f":"変換シート!S54","v":""},{"$f":"変換シート!T54","v":""},{"$f":"変換シート!U54","v":""},{"$f":"変換シート!V54","v":""},{"$f":"変換シート!W54","v":""},{"$f":"変換シート!X54","v":""},{"$f":"変換シート!Y54","v":""},{"$f":"変換シート!Z54","v":""},{"$f":"変換シート!AA54","v":""},{"$f":"変換シート!AB54","v":""},{"$f":"変換シート!AC54","v":""},{"$f":"変換シート!AD54","v":""},{"$f":"変換シート!AE54","v":""},{"$f":"変換シート!AF54","v":""},{"$f":"変換シート!AG54","v":""},{"$f":"変換シート!AH54","v":""},{"$f":"変換シート!AI54","v":""},{"$f":"変換シート!AJ54","v":""},{"$f":"変換シート!AK54","v":""},{"$f":"変換シート!AL54","v":""},{"$f":"変換シート!AM54","v":""},{"$f":"変換シート!AN54","v":""},{"$f":"変換シート!AO54","v":""},{"$f":"変換シート!AP54","v":""},{"$f":"変換シート!AQ54","v":""},{"$f":"変換シート!AR54","v":""},{"$f":"変換シート!AS54","v":""},{"$f":"変換シート!AT54","v":""},{"$f":"変換シート!AU54","v":""},{"$f":"変換シート!AV54","v":""},{"$f":"変換シート!AW54","v":""},{"$f":"変換シート!AX54","v":""},{"$f":"変換シート!AY54","v":""},{"$f":"変換シート!AZ54","v":""},{"$f":"変換シート!BA54","v":""},{"$f":"変換シート!BB54","v":""},{"$f":"変換シート!BC54","v":""},{"$f":"変換シート!BD54","v":""},{"$f":"変換シート!BE54","v":""},{"$f":"変換シート!BF54","v":""},{"$f":"変換シート!BG54","v":""},{"$f":"変換シート!BH54","v":""},{"$f":"変換シート!BI54","v":""},{"$f":"変換シート!BJ54","v":""},{"$f":"変換シート!BK54","v":""},{"$f":"変換シート!BL54","v":""},{"$f":"変換シート!BM54","v":""},{"$f":"変換シート!BN54","v":""},{"$f":"変換シート!BO54","v":""},{"$f":"変換シート!BP54","v":""},{"$f":"変換シート!BQ54","v":""},{"$f":"変換シート!BR54","v":""},{"$f":"変換シート!BS54","v":""},{"$f":"変換シート!BT54","v":""},{"$f":"変換シート!BU54","v":""},{"$f":"変換シート!BV54","v":""},{"$f":"入力画面!DJ711&\"\"","v":""},{"$f":"入力画面!DK711&\"\"","v":""},{"$f":"入力画面!DL711&\"\"","v":""},{"$f":"入力画面!DM711&\"\"","v":""},{"$f":"入力画面!DN711&\"\"","v":""},{"$f":"入力画面!DO711&\"\"","v":""},"非公開"]

{"sheet":"Sheet1","index":4,"n_rows":5,"n_cols":1,"rows_kept":5,"cut":false,"hidden":true,"merged":[]}
[]
[]
[]
["□"]
["☑"]