{"text_format":"1","workbook":"xlsx","n_sheets":18,"sheets":["使用方法","表紙","シート一覧","データコピー","１．燃料単位換算(建物系)","２．算定報告様式(建物系)","３．自動車燃料チェック","４．燃料単位換算(工場現場)","５．算定報告様式(工場現場)","６．ＣＯ₂排出量計算結果","７．ＣＯ₂排出量実績表","８．ＣＯ₂排出量目標表","９．ＣＯ₂排出量換算 (単独)《参考》","10．他事業所等のＣＯ₂排出量","11．低炭素電力算定","２’．ｋＬ・ＣＯ₂量(建物系）《参考》","５’．ｋL・CO₂量（工事・現場）《参考》","算定報告様式②"],"not_rendered":{"charts":0,"images":3,"macros":1,"external_links":0,"defined_names":212,"comments":3,"pivot_tables":0},"unopened":[],"bounds":{"document_bytes":16777216,"sheet_cells":100000,"rows_first":2000,"rows_last":500,"rows_between":2000,"halvings":0,"cell_chars":16384,"cell_head_chars":4096},"cells_cut":0,"cells_raw":0,"read":"whole","date_system":"1900"}

{"sheet":"使用方法","index":0,"n_rows":206,"n_cols":7,"rows_kept":206,"cut":false,"hidden":true,"merged":[[0,0,0,13],[124,1,125,13],[127,1,128,13],[4,1,4,13],[33,1,33,13],[99,1,101,13],[35,1,36,13],[34,1,34,13],[39,1,40,13]]}
["\"エコアップ認証ＣＯ₂排出量補正ブック\"の使用方法について"]
[]
[]
["■このブックの使用目的"]
[null,"本Excelブックは、平成２８年度の報告から、電力のCO₂温暖化排出係数が変更されるのに伴い、これまでの旧CO₂温暖化排出係数で算出\nされた、エコアップ認証制度での基準排出量や、ＣＯ₂排出量実績を、新しいＣＯ₂温暖化排出係数で計算し直し、エコアップ認証報告の際に\n必要な基準排出量や目標値、実績値及び原単位を算出、換算するために使用します。\nまた、これまでよりエネルギーの由来を、建物系、工場・現場系、自動車燃料系とに分けたことにより、系統にふさわしい原単位指標が選べ\nることで、より細かいエネルギーの管理をできるようにしました。"]
[]
[]
[]
["■作業の流れ"]
[]
[null,null,null,null,null,null,"◇CO₂排出量について、複数の事業所別、要因別に計算する場合、\"NO\"を選択する。"]
[]
[null,null,null,null,null,null,"１．これまでの電力やガス、燃料実績を新しい係数でＣＯ₂排出量に算出し直しする。"]
[null,null,null,null,null,null,"　　\"No\"の場合、これまでの電力やガス、燃料実績を別々に細かく算出し直しする。"]
[]
[null,null,null,null,null,null,"２．新しい係数によるＣＯ₂排出量から、新しい基準排出量や原単位を算出する。"]
[]
[null,null,null,null,null,null,"３．新しい基準排出量とこれまでの基準排出量を比較し、補正率を算出する。"]
[]
[null,null,null,null,null,null,"４．これまでの削減目標に補正率を乗じて、新しい係数での目標値に補正する。"]
[null,null,null,null,null,null,"４’．.他事業所や別発生要因のCO₂排出量が必要であれば、同様に１～算出する。"]
[]
[null,null,null,null,null,null,"５．新しい基準排出量や原単位、目標値をもとに、エコアップ報告用の表を再作成する。"]
[]
[null,null,null,null,null,null,"６．求められた数値をエコアップ認証報告書に転記、引用する。"]
[]
[null,null,null,null,null,null,"※１：認証希望申出、新規認証取得の場合は、３～4の作業は不要。"]
[null,null,null,null,null,null,"※２：報告書書類をＥｘｃｅｌ様式で作成する場合、５の作業は不要。"]
[]
["■計算作業方法"]
[]
["１．これまでのエネルギー実績値再入力による換算"]
[null,"・これまでのＣＯ₂実績の元となった電力やガス、燃料実績値を「燃料単位換算」、「算定報告様式」ワークシートに入力します。"]
[null,"・エネルギーは事務所由来の「ｱ）（建物系）」と、「ｲ）（現場・工場）」、「ｳ）（自動車燃料）」との３系統で算出します。\n　これまで ｲ）は対象外であった場合や区別していなかった場合は、これまで通り、ｱ）とｳ) だけでの利用で構いません。"]
[null,"　「ｲ)(工場・現場)」について、これまで　建物系と集約して、目標や実績管理をお願いしてきましたが、今後は、建物系とは別に報告が\n　できるようになりました。３系統で算出することにより、別管理ができ、それぞれ独自の原単位指標を割り当てすることができ、エネル\n　ギー量の変化を評価するためのふさわしい原単位管理ができるようになります。\n　区分けの再設定は認証新規・更新でのタイミングから、３系統で算出することをお勧めします。認証期間の途中で、エネルギー実績の\n　区分け等を変更したい場合は予め県にご相談ください。"]
[null,"・データを入力する各ワークシートには、「（建物）系」：紺色と、「（自動車燃料）」系：水色、「(工場・現場)系」：茶色の3種類があります。　\n　間違いのないよう、注意して入力してください。"]
[]
[]
[null,"【◇複数の他事業所別、さらに発生要因別のCO₂排出量を計算する場合】"]
[null,"・作業の流れの１～４を別Ｅｘｃｅｌブックでの、各ワークシートでCO₂排出量を算出するか、別に算出した結果を《他事業所等のCO₂排出量》\n　ワークシートに数値を入力すると、《ＣＯ₂排出量（換算後）》シートで合計値が合算される。"]
[]
[]
[null,"ｱ) 建物系CO₂排出量(主に事務所やビルで使用するエネルギー由来のもの)"]
[null,"　★使用するワークシート：紺色の《燃料単位換算（建物系）》、《算定報告様式（建物系）》ワークシート"]
[]
[null,"１）電力",null,"《算定報告様式(建物系）》シートの電力欄に各年度の電力量実績(電力会社からの帳票の実績値）を記入する。"]
[null,null,null,"昼間(有効電力量）、夜間（；無効電力量＝総電力量－有効電力量）が分かる場合は、昼間、夜間にそれぞれ分けて"]
[null,null,null,"実績を記入する。わからない場合は”その他の買電”の欄に使用実績を記入する。"]
[]
[null,"２）都市ガス",null,"《燃料単位換算(建物系）》シートでの契約ガス会社からの請求帳票に表記されている”口径”を選び、使用”単位”に"]
[null,null,null,"合った数値を記入する。　使用の”単位”はセルで該当する単位を選ぶ。"]
[]
[null,"３）LPG",null,"《燃料単位換算（建物系）》シートでの契約ガス会社からの”種別”に合った行を選択し、使用”単位”に合った数値を"]
[null,null,null,"記入する。"]
[]
[null,"４）灯油・その他",null,"《算定報告様式(建物系）》シートの該当する行の、単位のセルから該当する単位を選択し選択した単位に合った実績"]
[null,null,null,"値を記入する。"]
[]
[null,"５）太陽光発電量",null,"発電し、自社で使用した電力量を記入する。売電した場合は記入はしない。"]
[null,null,null,"自社で消費した電力量を”再生可能エネルギーを自家消費した電気”の行に記入する。"]
[]
[]
[null,"ｲ) 工場・現場系CO₂排出量（工事現場や工場で使用するエネルギー由来のもの、生産や現場作業で使用する機器のエネルギー"]
[null,"　　が対象。尚、工場等で事務所系と製造・現場設備系を区別したい場合、事務所系は「ｱ)（建物系）」シートを使用してもよい）"]
[null,"　★使用するワークシート：茶色の《燃料単位換算（工場・現場）》、《算定報告様式（工場・現場）》ワークシート"]
[]
[null,"１）電力",null,"《算定報告様式（工場・現場）》シートの電力欄に各年度の電力量実績(電力会社からの帳票の実績値）を記入する。"]
[null,null,null,"昼間(有効電力量）、夜間（；無効電力量＝総電力量－有効電力量）が分かる場合は、昼間、夜間にそれぞれ分けて"]
[null,null,null,"実績を記入する。わからない場合は”その他の買電”の欄に使用実績を記入する。"]
[]
[null,"２）都市ガス",null,"《燃料単位換算(工場・現場）》シートでの契約ガス会社からの請求帳票に表記されている”口径”を選び、使用”単位”"]
[null,null,null,"に合った数値を記入する。　使用の”単位”はセルで該当する単位を選ぶ。"]
[]
[null,"３）LPG",null,"《燃料単位換算（工場・現場）》シートでの契約ガス会社からの”種別”に合った行を選択し、使用”単位”に合った数値"]
[null,null,null,"を記入する。"]
[]
[null,"４）軽油・重油等",null,"《算定報告様式(建物系）》シートの該当する行の、単位のセルから該当する単位を選択し選択した単位に合った実績"]
[null,null,null,"値を記入する。"]
[]
[null,"５）太陽光発電量",null,"発電し、自社で使用した電力量を記入する。売電した場合は記入はしない。"]
[null,null,null,"自社で消費した電力量を”再生可能エネルギーを自家消費した電気”の行に記入する。"]
[]
[null,"６）その他エネルギー",null,"該当する項目、単位を選んで購入伝票等の実績値を記入する。"]
[]
[]
[]
[null,"ｳ) 自動車燃料CO₂排出量"]
[null,"（走行距離と関連のない重機等は「ｲ)工場・現場系」シートを利用して区別してもよい。）"]
[null,"　★使用するワークシート：水色の《自動車燃料チェック》ワークシート"]
[]
[null,"１）ガソリン",null,"《自動車燃料チェック》シートの”ガソリン”燃料使用量に実績を記入する。"]
[]
[null,"２）軽油",null,"《自動車燃料チェック》シートの”軽油”燃料使用量に実績を記入する。"]
[null,null,null,"トラックやダンプなど道路を走行するものを対象とする。"]
[]
[null,"３）その他燃料類",null,"《自動車燃料チェック》シートの該当する燃料について、使用量実績を記入する。"]
[null,null,null,"トラックやダンプなど道路を走行するものを対象とする。"]
["２．新しい基準排出量、原単位の算出"]
[null,"新しい係数によるＣＯ₂排出量から、新しい基準排出量や原単位を算出します。"]
[null,"１．項の通り、データを記入すると、これまでのＣＯ₂排出量が新しい温暖化係数にて、赤色の《CO₂補正計算表》ワークシートのｱ)、ｲ)、ｳ)の\n各項目の行に新しい温暖化係数で換算されたCO₂排出量が表記されます。\n原単位を再計算するため、（２）の表に必要な原単位指標を入力すると、新しい係数で換算された原単位数値が表記されます。"]
[]
[]
[null,"　★使用するワークシート：赤色の《CO₂補正計算結果》ワークシート"]
[]
[null,"１）基準年度",null,"（１）温室効果ガス排出量（エネルギー起源CO2）表の”エコアップ基準年度”について、エコアップ認証報告書に報告"]
[null,null,null,"している基準排出量算出に使用した対象年度のセルに”○”を選択する。対処年度以外は必ず空欄とする。"]
[]
[null,"２）原単位指標",null,"これまで使用した原単位指標を《ＣＯ₂補正計算結果》シートの（２）温室効果ガス排出量原単位表に指標数値を入力"]
[null,null,null,"する。"]
[null,null,null,"１～６の原単位指標に該当する指標がない場合、７に使用原単位指標名を手入力し、そのデータ数値を入力する。"]
[null,null,null,"指標数値はこれまでのものだけでなく、参考にしたい指標も複数記入できる。"]
[null,null,null,"これまで使用していた指標の”○”にマウス等でチェックし”●”を入れると、要求する原単位数値が表示される。"]
[]
[null,"３）各排出量原単位",null,"（３）～（５）排出量原単位表にて、それぞれにふさわしい原単位指標を（２）表の１～７の番号から選択すると、"]
[null,null,null,"それぞれの原単位数値が表示され、また、選択した対処年度での平均原単位が水色のセルに表記される。"]
[null,null,null,"（５）の自動車系原単位表では、対象年度を他とは独自に設定できる。"]
[]
[null,"４）基準排出量",null,"（１）、（２）表の下の赤色のセルに新しい排出係数で算出されたa.ＣＯ₂基準排出量、ｃ．ＣＯ₂基準原単位が表記される。"]
[null,null,null,"基準年度の選択に問題がなければ”ＯＫ”と表示が出る。"]
[]
[]
[]
["３．補正率の算出"]
[null,"新しい基準排出量とこれまでの基準排出量を比較し、補正率を算出します。"]
[null,"これまでのエコアップ認証報告書で使用していた、旧ＣＯ₂温暖化係数で算出されたｂ．ＣＯ₂基準排出量や、ｄ．ＣＯ₂基準原単位数値を記入\nすることにより、補正率（修正比率）を算出します（表記されます）。"]
[]
[null,"　★使用するワークシート：赤色の《CO₂補正計算結果》ワークシート"]
[null,"【重要】　これまでの目標排出量が電力など各エネルギー内訳を把握されている場合や、新たに目標値を設定する場合は、３～４の\n　　　　　補正率を算出する方法を用いず、電力やガソリンなど、各エネルギーの目標使用量から１～２の方法で目標値を算出できる\n　　　　　場合がありますので、その場合の方法については、別途ご相談ください。"]
[]
[]
[null,"１）基準排出量",null,"《ＣＯ₂補正計算結果》シートの（１）表の”ｂ．（これまでの）エコアップ認証ＣＯ₂基準排出量”のセルに、これまで報告書"]
[null,null,null,"で使用した（旧温暖化排出係数で算出された）基準排出量数値（小数点１桁まで）を記入する。"]
[null,null,null,"正しく記入すると、赤いセルに排出量補正値が表記される。"]
[]
[null,"２）基準原単位",null,"《ＣＯ₂補正計算結果》シートの（２）表の”ｄ．（これまでの）エコアップ認証ＣＯ₂基準排出量原単位”のセルに、これまでの"]
[null,null,null,"報告書で使用した（旧温暖化排出係数で算出された）基準原単位数値（小数点４桁までを）記入する。"]
[null,null,null,"正しく記入すると、赤いセルに原単位補正値が表記される。"]
[]
[]
[]
["４．目標値などの補正"]
[null,"これまで設定していた目標値などを、３項で得た補正率を乗じて、新しいＣＯ₂温暖化係数での目標値に補正します。"]
[null,"　★使用するワークシート：赤色の《CO₂補正計算結果》ワークシート"]
[null,"　　　独自にエネルギー内訳から新たに算出する場合や、補正する場合はこの（３）表は使用しません。"]
[]
[null,"１）目標排出量の補正",null,"《ＣＯ₂補正計算結果》シートの（３）表の”e.これまでのＣＯ₂排出量目標値”の該当する年度にこれまでのCO₂排出量"]
[null,null,null,"目標値を記入する。"]
[null,null,null,"”f.補正後のCO₂排出量目標値”の段の各年度セルに補正された目標値が表記される。"]
[]
[null,"２）目標原単位の補正",null,"《ＣＯ₂補正計算結果》シートの（３）表の”g.これまでのCO₂原単位目標値”の該当する年度に、これまでのCO₂排出"]
[null,null,null,"目標原単位値を記入する。"]
[null,null,null,"”h.補正後のCO₂原単位目標値”の段の各年度セルに補正された目標原単位値が表記される。"]
["５．ＣＯ₂排出量実績表、目標の再作成"]
[null,"１～４の作業で得られた所定のCO₂排出量や原単位数値などから、エコアップ報告書に必要な表を再作成します。"]
[null,"他事業所や発生要因別に他ブックで計算した場合は、《他事業所等のCO₂排出量》ワークシートに得られた数値を入力します。"]
[null,"　★使用するワークシート：赤色の《CO₂排出量（換算後）》ワークシート、或いは、独自に目標値を算出する場合は紺色の《CO₂排出量"]
[null,"　　 換算(単独）》ワークシート"]
[null,"     新たな目標表を作成する場合は赤色の《CO₂排出量(新規・更新用）》ワークシートをご利用ください。"]
[]
[null,"１）計算方法の選択",null,"他事業所や他発生要因で別ブック等でCO₂排出量を計算し、《他事業所等のCO₂排出量》シートに数値を入力している"]
[null,null,null,"場合か否か、どちらかにチェックを入れます。"]
[null,null,null,"《他事業所等のCO₂排出量》シートを利用している場合、CO₂排出量は１～４で得られたCO₂数値との合計値が表記"]
[null,null,null,"される。他事業所等との合計値を得たくない場合は、《他事業所等のCO₂排出量》シートの各数値をクリアーしておく。"]
[]
[null,"２）年度の記入",null,"《CO₂排出量（換算後）》シートの　”ｱ) 建物系CO2排出量実績表”に最初の該当年度数値を記入すると、以降の年度"]
[null,null,null,"は自動的に表記され、《ＣＯ₂補正計算結果》シートの該当のＣＯ₂排出量数値が表記される。"]
[]
[null,"３）CO₂原単位",null,"ｱ)、ｲ)、ｳ)､ｴ）表のそれぞれに事業者の指標としてふさわしい原単位指標を選び、各年度欄にその指標値を記入する。"]
[null,null,null,"指標数値は同一指標でなく、各排出量ごとにふさわしい、独立した指標を記入してよい。"]
[]
[null,"４）基準値",null,"《CO₂補正計算結果》シート（１）（２）表の　赤色のセルに表示された”ａ．新しい基準排出量”、”ｃ．基準原単位”"]
[null,null,null,"での数値を《ＣＯ₂排出量（換算後）》シートの基準値のそれぞれのセルに転記する。"]
[]
[null,"５）目標値",null,"《ＣＯ₂補正計算結果》シート（３）表の　補正後の”ｆ．目標排出量”、 ”ｈ．目標原単位”値を参照して、数値を転記する。"]
[null,null,null,"紺色の《CO₂排出量換算(単独）》ワークシートを利用する場合、各年度の目標値や目標原単位数値を手入力する。"]
[]
[]
[]
["６．報告書への数値転記"]
[null,"１～５の作業で得られた所定のCO₂排出量や原単位数値などをエコアップ報告書に転記、引用します。"]
[null,"赤色の《CO₂排出量（換算後）》、《CO₂排出量(新規・更新用）》ワークシートでの該当の数値を報告書に転記します。、"]
[null,"　★使用するワークシート：赤色の《CO₂排出量（換算後）》、《CO₂排出量(新規・更新用）》ワークシート、もしくは、紺色の《ＣＯ₂排出量"]
[null,"　　 換算(単独）》ワークシート"]
[]
[]
["■提出必要書類"]
[]
[null,"エコアップ認証報告書提出の際は、本ブックの以下のシートも併せて提出してください。（データ記入の無いシートは提出不要です。）"]
[null," １．燃料単位換算(建物系）"]
[null," ２．算定報告様式(建物系）"]
[null," ３．自動車燃料チェック"]
[null," ４．燃料単位換算（工場・現場）・・・工場・現場の対象がない場合、提出不要"]
[null," ５．算定報告様式(工場・現場）・・・工場・現場の対象がない場合、提出不要"]
[null," ６．ＣＯ₂補正計算結果"]
[null," ７．ＣＯ₂排出量(換算後）、もしくはＣＯ₂排出量換算(単独）"]
[null," ８．CO₂排出量（新規・更新用）・・・・定期報告や目標値の変更でない場合、提出不要"]
[null," ９．他事業所等のCO₂排出量・・・・記載していない場合や、該当がない場合、提出不要"]
[null,"１０．別紙１（建物系）、別紙１（工場・現場）のそれぞれ前年実績シート"]
[]
[null,"※１、２、３、６、７は必須です。その他、該当年度外の《別紙１○○》シート及び《ＣＯ₂実績管理表(参考）》シートは提出不要です。"]
[]
[]
["■付録"]
[]
[null,"◎《ＣＯ₂実績管理表(参考）》ワークシート"]
[null,"　　ＣＯ₂排出量や原単位、各指標データの管理・分析用にご利用ください。"]

{"sheet":"表紙","index":1,"n_rows":0,"n_cols":0,"rows_kept":0,"cut":false,"hidden":false,"merged":[]}

{"sheet":"シート一覧","index":2,"n_rows":50,"n_cols":1,"rows_kept":50,"cut":false,"hidden":false,"merged":[]}
[]
[]
[]
[]
[]
[]
[]
[]
[]
[]
[]
[]
[]
[]
[]
[]
[]
[]
[]
[]
[]
[]
[]
[]
[]
[]
[]
[]
[]
[]
[]
[]
[]
[]
[]
[]
[]
[]
[]
[]
[]
[]
[]
[]
[]
[]
[]
[]
["改訂履歴"]
["28.6.20　１．燃料単位換算シート　　名前の定義：Ｈ２８換算前　の参照列Ｔ列⇒Ｕ列に訂正"]

{"sheet":"データコピー","index":3,"n_rows":39,"n_cols":19,"rows_kept":39,"cut":false,"hidden":false,"merged":[[6,1,6,12]]}
[null,"他ファイルからデーターのコピー方法",null,null,null,null,null,null,null,null,null,null,null,null,null,null,null,{"$f":"MATCH(E20,S1:S8,0)","v":5},"29(2017)"]
[null,null,null,null,null,null,null,null,null,null,null,null,null,null,null,null,null,null,"30(2018)"]
[null,null,null,null,null,null,null,null,null,null,null,null,null,null,null,null,null,null,"31/1(2019)"]
[null,"本ファイルは、下のボタンをクリックすることで、これまで作成した他の「エコアップ認証用CO₂排出量換算シート」＊",null,null,null,null,null,null,null,null,null,null,null,null,null,null,null,null,"2(2020)"]
[null,"から、データを一括でコピー貼付ができます。　",null,null,null,null,null,null,null,null,null,null,null,null,null,null,null,null,"3(2021)"]
[null,null,null,null,null,null,null,null,null,null,null,null,null,null,null,null,null,null,"4(2022)"]
[null,"　　＜ ＊････   別名：燃料等使用量の単位換算（建物系）・算定報告様式（建物系）、燃料等使用量の単位換算（工場・現場）・\n　　　　　　　　　 算定報告様式（工場・現場)、自動車燃料に関するCO2排出量（自動車燃料チェック）ファイル　　　　＞ \n",null,null,null,null,null,null,null,null,null,null,null,null,null,null,null,null,"5(2023)"]
[null,null,null,null,null,null,null,null,null,null,null,null,null,null,null,null,null,null,"6(2024)"]
[null,"《使用方法》"]
[null,"１．本ファイルを開いた後、すでにデータが入力してあるコピー元の上記対象ファイルを開きます。"]
[null,"２．データをコピーしたい最終年度を下の黄色枠セルのプルダウンから選択します。"]
[null,"３．下の色のついた対象シートのボタンをクリックすると、確認ウィンドウが現れ、”はい”をクリックすると、データのコピーが開始されます。"]
[null,"　　※コピー対象は「エコアップ認証用CO₂排出量換算シート」ファイル（Excel)の＃１～＃５シートまでの入力データとなります。"]
[null,"４．このファイルを保存する際、拡張子を.xlsmのままで保存しない場合は、次回からマクロ機能は利用できなくなります。"]
[]
[null,"【注！】 この機能を利用するには、本ファイルを開く際、《コンテンツの有効化》をクリックし、マクロを有効にしておく必要があります。"]
[null,"　　  　　本ファイルのシート名は絶対に変更しないでください。変更するとマクロの使用に支障をきたします。"]
[]
[]
[null,null,null,"コピーをする最終年度","3(2021)"]
[]
[]
[]
[]
[]
[]
[]
[]
[]
[]
[]
[]
[]
[null,"★変更履歴"]
[null,"・ver1.01","2016-04-01","CO₂排出量換算シート発布"]
[null,"・ver2.01","2019-04-01","他ファイルからのデータコピーマクロ追加。記入年度の拡大（H31⇒R6)"]
[null,"・ver2.02","2020-05-18","＃６シートでの計算式空白欄を修正"]
[null,"・ver3.01","2021-04-06","低炭素電力算定シート追加。＃７シートA実績表の入力方法及び計算式変更"]
[null,"・ver3.02","2022-07-11","＃２、＃５シートのデータコピーVBAのIF文修正。太陽光インセンティブ排出係数変更(R４年度実績から反映）"]

{"sheet":"１．燃料単位換算(建物系)","index":4,"n_rows":80,"n_cols":58,"rows_kept":80,"cut":false,"hidden":false,"merged":[[34,6,34,28],[51,6,51,28],[8,4,8,28],[4,6,4,28],[4,32,4,54],[51,32,51,54],[34,32,34,54],[24,32,24,54],[11,4,11,28],[14,4,14,28],[17,4,17,28],[20,4,20,28],[30,4,30,28],[24,6,24,28],[51,30,51,31],[37,29,37,44],[3,13,3,18],[20,30,20,31],[11,30,11,31],[8,30,8,31],[14,30,14,31],[17,30,17,31],[4,30,4,31],[36,2,38,3],[39,2,41,3],[42,2,44,3],[27,2,27,3],[9,3,10,3],[15,3,16,3],[12,3,13,3],[24,2,24,5],[26,2,26,3],[6,2,20,2],[18,3,19,3],[35,2,35,4],[4,2,4,5],[30,2,30,3],[25,2,25,3],[34,2,34,5],[29,2,29,3],[28,2,28,3],[5,2,5,4],[6,3,7,3],[40,29,40,44],[43,29,43,44],[46,29,46,44],[52,2,52,4],[53,2,56,2],[53,3,54,3],[55,3,56,3],[50,11,50,14],[51,2,51,5],[45,2,47,3]]}
[]
[null,"１．燃料等使用量の単位換算(建物系）"]
[null,"ア　都市ガスの圧力及び標準状態換算",null,null,null,null,null,null,null,null,null,null,null,null,null,null,null,null,null,null,null,null,null,null,null,null,null,null,"エコアップ認証換算用"]
[]
[null,null,null,null,null,null,"使用量（換算前）",null,null,null,null,null,null,null,null,null,null,null,null,null,null,null,null,null,null,null,null,null,null,"換算単位",null,null,"使用量（換算後）",null,null,null,null,null,null,null,null,null,null,null,null,null,null,null,null,null,null,null,null,null,null,null,null,{"$f":"データコピー!$R$1","v":5}]
[null,null,null,null,null,"単位","14年度(2002)","15年度(2003)","16年度(2004)","17年度(2005)","18年度(2006)","19年度(2007)","20年度(2008)","21年度(2009)","22年度(2010)","23年度(2011)","24年度(2012)","25年度(2013)","26年度(2014)","27年度(2015)","28年度(2016)","29年度(2017)","30年度(2018)","31/1年度(2019)","2年度(2020)","3年度(2021)","4年度(2022)","5年度(2023)","6年度(2024)","単位","圧力補正","単位補正","14年度(2002)","15年度(2003)","16年度(2004)","17年度(2005)","18年度(2006)","19年度(2007)","20年度(2008)","21年度(2009)","22年度(2010)","23年度(2011)","24年度(2012)","25年度(2013)","26年度(2014)","27年度(2015)","28年度(2016)","29年度(2017)","30年度(2018)","1年度(2019)","2年度(2020)","3年度(2021)","4年度(2022)","5年度(2023)","6年度(2024)",null,"有効数字"]
[null,null,"都市ガス","13A:45MJ/m3","低圧用","m3",null,null,null,null,null,null,null,null,null,null,null,null,null,null,null,null,null,null,null,null,null,null,null,"千Nm3",{"$f":"IF(COUNTIF(F7,\"*Nm3\")>0,1,VLOOKUP(E7,$BA$71:$BB$72,2,FALSE))","v":0.96665500000000004},{"$f":"VLOOKUP($F7,$BA$60:$BB$63,2,FALSE)/VLOOKUP($AD7,$BA$60:$BB$63,2,FALSE)","v":1000},{"$f":"ROUND(圧力補正*H14_換算前/単位補正係数,0)","v":0},{"$f":"ROUND(圧力補正*H15_換算前/単位補正係数,0)","v":0},{"$f":"ROUND(圧力補正*H16_換算前/単位補正係数,0)","v":0},{"$f":"ROUND(圧力補正*H17_換算前/単位補正係数,0)","v":0},{"$f":"ROUND(圧力補正*H18_換算前/単位補正係数,0)","v":0},{"$f":"ROUND(圧力補正*H19_換算前/単位補正係数,0)","v":0},{"$f":"ROUND(圧力補正*H20_換算前/単位補正係数,0)","v":0},{"$f":"ROUND(圧力補正*H21_換算前/単位補正係数,0)","v":0},{"$f":"ROUND(圧力補正*H22_換算前/単位補正係数,0)","v":0},{"$f":"ROUND(圧力補正*H23_換算前/単位補正係数,0)","v":0},{"$f":"ROUND(圧力補正*H24_換算前/単位補正係数,0)","v":0},{"$f":"ROUND(圧力補正*H25_換算前/単位補正係数,0)","v":0},{"$f":"ROUND(圧力補正*H26_換算前/単位補正係数,0)","v":0},{"$f":"ROUND(圧力補正*H27_換算前/単位補正係数,0)","v":0},{"$f":"ROUND(圧力補正*H28_換算前/単位補正係数,0)","v":0},{"$f":"ROUND(圧力補正*H29_換算前/単位補正係数,0)","v":0},{"$f":"ROUND(圧力補正*H30_換算前/単位補正係数,0)","v":0},{"$f":"ROUND(圧力補正*H30_換算前/単位補正係数,0)","v":0},{"$f":"ROUND(圧力補正*Y7/単位補正係数,0)","v":0},0,0,0,0]
[null,null,null,null,"中間圧以上用","Nm3",null,null,null,null,null,null,null,null,null,null,null,null,null,null,null,null,null,null,null,null,null,null,null,"千Nm3",{"$f":"IF(COUNTIF(F8,\"*Nm3\")>0,1,VLOOKUP(E8,$BA$71:$BB$72,2,FALSE))","v":1},{"$f":"VLOOKUP($F8,$BA$60:$BB$63,2,FALSE)/VLOOKUP($AD8,$BA$60:$BB$63,2,FALSE)","v":1000},{"$f":"ROUND(圧力補正*H14_換算前/単位補正係数,0)","v":0},{"$f":"ROUND(圧力補正*H15_換算前/単位補正係数,0)","v":0},{"$f":"ROUND(圧力補正*H16_換算前/単位補正係数,0)","v":0},{"$f":"ROUND(圧力補正*H17_換算前/単位補正係数,0)","v":0},{"$f":"ROUND(圧力補正*H18_換算前/単位補正係数,0)","v":0},{"$f":"ROUND(圧力補正*H19_換算前/単位補正係数,0)","v":0},{"$f":"ROUND(圧力補正*H20_換算前/単位補正係数,0)","v":0},{"$f":"ROUND(圧力補正*H21_換算前/単位補正係数,0)","v":0},{"$f":"ROUND(圧力補正*H22_換算前/単位補正係数,0)","v":0},{"$f":"ROUND(圧力補正*H23_換算前/単位補正係数,0)","v":0},{"$f":"ROUND(圧力補正*H24_換算前/単位補正係数,0)","v":0},{"$f":"ROUND(圧力補正*H25_換算前/単位補正係数,0)","v":0},{"$f":"ROUND(圧力補正*H26_換算前/単位補正係数,0)","v":0},{"$f":"ROUND(圧力補正*H27_換算前/単位補正係数,0)","v":0},{"$f":"ROUND(圧力補正*H28_換算前/単位補正係数,0)","v":0},{"$f":"ROUND(圧力補正*H29_換算前/単位補正係数,0)","v":0},{"$f":"ROUND(圧力補正*H30_換算前/単位補正係数,0)","v":0},{"$f":"ROUND(圧力補正*H31_換算前/単位補正係数,0)","v":0},0,0,0,0,0]
[null,null,null,null,null,null,null,null,null,null,null,null,null,null,null,null,null,null,null,null,null,null,null,null,null,null,null,null,null,null,null,null,{"$f":"SUM(AG7:AG8)","v":0},{"$f":"SUM(AH7:AH8)","v":0},0,0,0,0,0,0,0,{"$f":"SUM(AP7:AP8)","v":0},0,0,0,0,0,0,0,0,{"$f":"SUM(AY7:AY8)","v":0},{"$f":"SUM(AZ7:AZ8)","v":0},0,0,0]
[null,null,null,"13A:43.12MJ/m3","低圧用","Nm3",null,null,null,null,null,null,null,null,null,null,null,null,null,null,null,null,null,null,null,null,null,null,null,"千Nm3",{"$f":"IF(COUNTIF(F10,\"*Nm3\")>0,1,VLOOKUP(E10,$BA$71:$BB$72,2,FALSE))","v":1},{"$f":"VLOOKUP($F10,$BA$60:$BB$63,2,FALSE)/VLOOKUP($AD10,$BA$60:$BB$63,2,FALSE)","v":1000},{"$f":"ROUND(圧力補正*H14_換算前/単位補正係数,0)","v":0},{"$f":"ROUND(圧力補正*H15_換算前/単位補正係数,0)","v":0},{"$f":"ROUND(圧力補正*H16_換算前/単位補正係数,0)","v":0},{"$f":"ROUND(圧力補正*H17_換算前/単位補正係数,0)","v":0},{"$f":"ROUND(圧力補正*H18_換算前/単位補正係数,0)","v":0},{"$f":"ROUND(圧力補正*H19_換算前/単位補正係数,0)","v":0},{"$f":"ROUND(圧力補正*H20_換算前/単位補正係数,0)","v":0},{"$f":"ROUND(圧力補正*H21_換算前/単位補正係数,0)","v":0},{"$f":"ROUND(圧力補正*H22_換算前/単位補正係数,0)","v":0},{"$f":"ROUND(圧力補正*H23_換算前/単位補正係数,0)","v":0},{"$f":"ROUND(圧力補正*H24_換算前/単位補正係数,0)","v":0},{"$f":"ROUND(圧力補正*H25_換算前/単位補正係数,0)","v":0},{"$f":"ROUND(圧力補正*H26_換算前/単位補正係数,0)","v":0},{"$f":"ROUND(圧力補正*H27_換算前/単位補正係数,0)","v":0},{"$f":"ROUND(圧力補正*H28_換算前/単位補正係数,0)","v":0},{"$f":"ROUND(圧力補正*H29_換算前/単位補正係数,0)","v":0},{"$f":"ROUND(圧力補正*H30_換算前/単位補正係数,0)","v":0},{"$f":"ROUND(圧力補正*H31_換算前/単位補正係数,0)","v":0},{"$f":"ROUND(圧力補正*Y10/単位補正係数,0)","v":0},0,0,0,0]
[null,null,null,null,"中間圧以上用","Nm3",null,null,null,null,null,null,null,null,null,null,null,null,null,null,null,null,null,null,null,null,null,null,null,"千Nm3",{"$f":"IF(COUNTIF(F11,\"*Nm3\")>0,1,VLOOKUP(E11,$BA$71:$BB$72,2,FALSE))","v":1},{"$f":"VLOOKUP($F11,$BA$60:$BB$63,2,FALSE)/VLOOKUP($AD11,$BA$60:$BB$63,2,FALSE)","v":1000},{"$f":"ROUND(圧力補正*H14_換算前/単位補正係数,0)","v":0},{"$f":"ROUND(圧力補正*H15_換算前/単位補正係数,0)","v":0},{"$f":"ROUND(圧力補正*H16_換算前/単位補正係数,0)","v":0},{"$f":"ROUND(圧力補正*H17_換算前/単位補正係数,0)","v":0},{"$f":"ROUND(圧力補正*H18_換算前/単位補正係数,0)","v":0},{"$f":"ROUND(圧力補正*H19_換算前/単位補正係数,0)","v":0},{"$f":"ROUND(圧力補正*H20_換算前/単位補正係数,0)","v":0},{"$f":"ROUND(圧力補正*H21_換算前/単位補正係数,0)","v":0},{"$f":"ROUND(圧力補正*H22_換算前/単位補正係数,0)","v":0},{"$f":"ROUND(圧力補正*H23_換算前/単位補正係数,0)","v":0},{"$f":"ROUND(圧力補正*H24_換算前/単位補正係数,0)","v":0},{"$f":"ROUND(圧力補正*H25_換算前/単位補正係数,0)","v":0},{"$f":"ROUND(圧力補正*H26_換算前/単位補正係数,0)","v":0},{"$f":"ROUND(圧力補正*H27_換算前/単位補正係数,0)","v":0},{"$f":"ROUND(圧力補正*H28_換算前/単位補正係数,0)","v":0},{"$f":"ROUND(圧力補正*H29_換算前/単位補正係数,0)","v":0},{"$f":"ROUND(圧力補正*H30_換算前/単位補正係数,0)","v":0},{"$f":"ROUND(圧力補正*H31_換算前/単位補正係数,0)","v":0},0,0,0,0,0]
[null,null,null,null,null,null,null,null,null,null,null,null,null,null,null,null,null,null,null,null,null,null,null,null,null,null,null,null,null,null,null,null,{"$f":"SUM(AG10:AG11)","v":0},{"$f":"SUM(AH10:AH11)","v":0},0,0,0,0,0,0,{"$f":"SUM(AO10:AO11)","v":0},0,0,0,0,0,0,0,0,0,{"$f":"SUM(AY10:AY11)","v":0},{"$f":"SUM(AZ10:AZ11)","v":0},0,0,0]
[null,null,null,"13A:46.04MJ/m3","低圧用","Nm3",null,null,null,null,null,null,null,null,null,null,null,null,null,null,null,null,null,null,null,null,null,null,null,"千Nm3",{"$f":"IF(COUNTIF(F13,\"*Nm3\")>0,1,VLOOKUP(E13,$BA$71:$BB$72,2,FALSE))","v":1},{"$f":"VLOOKUP($F13,$BA$60:$BB$63,2,FALSE)/VLOOKUP($AD13,$BA$60:$BB$63,2,FALSE)","v":1000},{"$f":"ROUND(圧力補正*H14_換算前/単位補正係数,0)","v":0},{"$f":"ROUND(圧力補正*H15_換算前/単位補正係数,0)","v":0},{"$f":"ROUND(圧力補正*H16_換算前/単位補正係数,0)","v":0},{"$f":"ROUND(圧力補正*H17_換算前/単位補正係数,0)","v":0},{"$f":"ROUND(圧力補正*H18_換算前/単位補正係数,0)","v":0},{"$f":"ROUND(圧力補正*H19_換算前/単位補正係数,0)","v":0},{"$f":"ROUND(圧力補正*H20_換算前/単位補正係数,0)","v":0},{"$f":"ROUND(圧力補正*H21_換算前/単位補正係数,0)","v":0},{"$f":"ROUND(圧力補正*H22_換算前/単位補正係数,0)","v":0},{"$f":"ROUND(圧力補正*H23_換算前/単位補正係数,0)","v":0},{"$f":"ROUND(圧力補正*H24_換算前/単位補正係数,0)","v":0},{"$f":"ROUND(圧力補正*H25_換算前/単位補正係数,0)","v":0},{"$f":"ROUND(圧力補正*H26_換算前/単位補正係数,0)","v":0},{"$f":"ROUND(圧力補正*H27_換算前/単位補正係数,0)","v":0},{"$f":"ROUND(圧力補正*H28_換算前/単位補正係数,0)","v":0},{"$f":"ROUND(圧力補正*H29_換算前/単位補正係数,0)","v":0},{"$f":"ROUND(圧力補正*H30_換算前/単位補正係数,0)","v":0},{"$f":"ROUND(圧力補正*H31_換算前/単位補正係数,0)","v":0},{"$f":"ROUND(圧力補正*Y13/単位補正係数,0)","v":0},0,0,0,0]
[null,null,null,null,"中間圧以上用","Nm3",null,null,null,null,null,null,null,null,null,null,null,null,null,null,null,null,null,null,null,null,null,null,null,"千Nm3",{"$f":"IF(COUNTIF(F14,\"*Nm3\")>0,1,VLOOKUP(E14,$BA$71:$BB$72,2,FALSE))","v":1},{"$f":"VLOOKUP($F14,$BA$60:$BB$63,2,FALSE)/VLOOKUP($AD14,$BA$60:$BB$63,2,FALSE)","v":1000},{"$f":"ROUND(圧力補正*H14_換算前/単位補正係数,0)","v":0},{"$f":"ROUND(圧力補正*H15_換算前/単位補正係数,0)","v":0},{"$f":"ROUND(圧力補正*H16_換算前/単位補正係数,0)","v":0},{"$f":"ROUND(圧力補正*H17_換算前/単位補正係数,0)","v":0},{"$f":"ROUND(圧力補正*H18_換算前/単位補正係数,0)","v":0},{"$f":"ROUND(圧力補正*H19_換算前/単位補正係数,0)","v":0},{"$f":"ROUND(圧力補正*H20_換算前/単位補正係数,0)","v":0},{"$f":"ROUND(圧力補正*H21_換算前/単位補正係数,0)","v":0},{"$f":"ROUND(圧力補正*H22_換算前/単位補正係数,0)","v":0},{"$f":"ROUND(圧力補正*H23_換算前/単位補正係数,0)","v":0},{"$f":"ROUND(圧力補正*H24_換算前/単位補正係数,0)","v":0},{"$f":"ROUND(圧力補正*H25_換算前/単位補正係数,0)","v":0},{"$f":"ROUND(圧力補正*H26_換算前/単位補正係数,0)","v":0},{"$f":"ROUND(圧力補正*H27_換算前/単位補正係数,0)","v":0},{"$f":"ROUND(圧力補正*H28_換算前/単位補正係数,0)","v":0},{"$f":"ROUND(圧力補正*H29_換算前/単位補正係数,0)","v":0},{"$f":"ROUND(圧力補正*H30_換算前/単位補正係数,0)","v":0},{"$f":"ROUND(圧力補正*H31_換算前/単位補正係数,0)","v":0},0,0,0,0,0]
[null,null,null,null,null,null,null,null,null,null,null,null,null,null,null,null,null,null,null,null,null,null,null,null,null,null,null,null,null,null,null,null,{"$f":"SUM(AG13:AG14)","v":0},{"$f":"SUM(AH13:AH14)","v":0},0,0,0,0,0,0,{"$f":"SUM(AO13:AO14)","v":0},0,0,0,0,0,0,0,0,0,{"$f":"SUM(AY13:AY14)","v":0},{"$f":"SUM(AZ13:AZ14)","v":0},0,0,0]
[null,null,null,"12A:41.86MJ/m3","低圧用","Nm3",null,null,null,null,null,null,null,null,null,null,null,null,null,null,null,null,null,null,null,null,null,null,null,"千Nm3",{"$f":"IF(COUNTIF(F16,\"*Nm3\")>0,1,VLOOKUP(E16,$BA$71:$BB$72,2,FALSE))","v":1},{"$f":"VLOOKUP($F16,$BA$60:$BB$63,2,FALSE)/VLOOKUP($AD16,$BA$60:$BB$63,2,FALSE)","v":1000},{"$f":"ROUND(圧力補正*H14_換算前/単位補正係数,0)","v":0},{"$f":"ROUND(圧力補正*H15_換算前/単位補正係数,0)","v":0},{"$f":"ROUND(圧力補正*H16_換算前/単位補正係数,0)","v":0},{"$f":"ROUND(圧力補正*H17_換算前/単位補正係数,0)","v":0},{"$f":"ROUND(圧力補正*H18_換算前/単位補正係数,0)","v":0},{"$f":"ROUND(圧力補正*H19_換算前/単位補正係数,0)","v":0},{"$f":"ROUND(圧力補正*H20_換算前/単位補正係数,0)","v":0},{"$f":"ROUND(圧力補正*H21_換算前/単位補正係数,0)","v":0},{"$f":"ROUND(圧力補正*H22_換算前/単位補正係数,0)","v":0},{"$f":"ROUND(圧力補正*H23_換算前/単位補正係数,0)","v":0},{"$f":"ROUND(圧力補正*H24_換算前/単位補正係数,0)","v":0},{"$f":"ROUND(圧力補正*H25_換算前/単位補正係数,0)","v":0},{"$f":"ROUND(圧力補正*H26_換算前/単位補正係数,0)","v":0},{"$f":"ROUND(圧力補正*H27_換算前/単位補正係数,0)","v":0},{"$f":"ROUND(圧力補正*H28_換算前/単位補正係数,0)","v":0},{"$f":"ROUND(圧力補正*H29_換算前/単位補正係数,0)","v":0},{"$f":"ROUND(圧力補正*H30_換算前/単位補正係数,0)","v":0},{"$f":"ROUND(圧力補正*H31_換算前/単位補正係数,0)","v":0},{"$f":"ROUND(圧力補正*Y16/単位補正係数,0)","v":0},0,0,0,0]
[null,null,null,null,"中間圧以上用","Nm3",null,null,null,null,null,null,null,null,null,null,null,null,null,null,null,null,null,null,null,null,null,null,null,"千Nm3",{"$f":"IF(COUNTIF(F17,\"*Nm3\")>0,1,VLOOKUP(E17,$BA$71:$BB$72,2,FALSE))","v":1},{"$f":"VLOOKUP($F17,$BA$60:$BB$63,2,FALSE)/VLOOKUP($AD17,$BA$60:$BB$63,2,FALSE)","v":1000},{"$f":"ROUND(圧力補正*H14_換算前/単位補正係数,0)","v":0},{"$f":"ROUND(圧力補正*H15_換算前/単位補正係数,0)","v":0},{"$f":"ROUND(圧力補正*H16_換算前/単位補正係数,0)","v":0},{"$f":"ROUND(圧力補正*H17_換算前/単位補正係数,0)","v":0},{"$f":"ROUND(圧力補正*H18_換算前/単位補正係数,0)","v":0},{"$f":"ROUND(圧力補正*H19_換算前/単位補正係数,0)","v":0},{"$f":"ROUND(圧力補正*H20_換算前/単位補正係数,0)","v":0},{"$f":"ROUND(圧力補正*H21_換算前/単位補正係数,0)","v":0},{"$f":"ROUND(圧力補正*H22_換算前/単位補正係数,0)","v":0},{"$f":"ROUND(圧力補正*H23_換算前/単位補正係数,0)","v":0},{"$f":"ROUND(圧力補正*H24_換算前/単位補正係数,0)","v":0},{"$f":"ROUND(圧力補正*H25_換算前/単位補正係数,0)","v":0},{"$f":"ROUND(圧力補正*H26_換算前/単位補正係数,0)","v":0},{"$f":"ROUND(圧力補正*H27_換算前/単位補正係数,0)","v":0},{"$f":"ROUND(圧力補正*H28_換算前/単位補正係数,0)","v":0},{"$f":"ROUND(圧力補正*H29_換算前/単位補正係数,0)","v":0},{"$f":"ROUND(圧力補正*H30_換算前/単位補正係数,0)","v":0},{"$f":"ROUND(圧力補正*H31_換算前/単位補正係数,0)","v":0},0,0,0,0,0]
[null,null,null,null,null,null,null,null,null,null,null,null,null,null,null,null,null,null,null,null,null,null,null,null,null,null,null,null,null,null,null,null,{"$f":"SUM(AG16:AG17)","v":0},{"$f":"SUM(AH16:AH17)","v":0},0,0,0,0,0,0,{"$f":"SUM(AO16:AO17)","v":0},0,0,0,0,0,0,0,0,0,{"$f":"SUM(AY16:AY17)","v":0},{"$f":"SUM(AZ16:AZ17)","v":0},0,0,0]
[null,null,null,"6A:29.30MJ/m3","低圧用","Nm3",null,null,null,null,null,null,null,null,null,null,null,null,null,null,null,null,null,null,null,null,null,null,null,"千Nm3",{"$f":"IF(COUNTIF(F19,\"*Nm3\")>0,1,VLOOKUP(E19,$BA$71:$BB$72,2,FALSE))","v":1},{"$f":"VLOOKUP($F19,$BA$60:$BB$63,2,FALSE)/VLOOKUP($AD19,$BA$60:$BB$63,2,FALSE)","v":1000},{"$f":"ROUND(圧力補正*H14_換算前/単位補正係数,0)","v":0},{"$f":"ROUND(圧力補正*H15_換算前/単位補正係数,0)","v":0},{"$f":"ROUND(圧力補正*H16_換算前/単位補正係数,0)","v":0},{"$f":"ROUND(圧力補正*H17_換算前/単位補正係数,0)","v":0},{"$f":"ROUND(圧力補正*H18_換算前/単位補正係数,0)","v":0},{"$f":"ROUND(圧力補正*H19_換算前/単位補正係数,0)","v":0},{"$f":"ROUND(圧力補正*H20_換算前/単位補正係数,0)","v":0},{"$f":"ROUND(圧力補正*H21_換算前/単位補正係数,0)","v":0},{"$f":"ROUND(圧力補正*H22_換算前/単位補正係数,0)","v":0},{"$f":"ROUND(圧力補正*H23_換算前/単位補正係数,0)","v":0},{"$f":"ROUND(圧力補正*H24_換算前/単位補正係数,0)","v":0},{"$f":"ROUND(圧力補正*H25_換算前/単位補正係数,0)","v":0},{"$f":"ROUND(圧力補正*H26_換算前/単位補正係数,0)","v":0},{"$f":"ROUND(圧力補正*H27_換算前/単位補正係数,0)","v":0},{"$f":"ROUND(圧力補正*H28_換算前/単位補正係数,0)","v":0},{"$f":"ROUND(圧力補正*H29_換算前/単位補正係数,0)","v":0},{"$f":"ROUND(圧力補正*H30_換算前/単位補正係数,0)","v":0},{"$f":"ROUND(圧力補正*H31_換算前/単位補正係数,0)","v":0},{"$f":"ROUND(圧力補正*Y19/単位補正係数,0)","v":0},0,0,0,0]
[null,null,null,null,"中間圧以上用","Nm3",null,null,null,null,null,null,null,null,null,null,null,null,null,null,null,null,null,null,null,null,null,null,null,"千Nm3",{"$f":"IF(COUNTIF(F20,\"*Nm3\")>0,1,VLOOKUP(E20,$BA$71:$BB$72,2,FALSE))","v":1},{"$f":"VLOOKUP($F20,$BA$60:$BB$63,2,FALSE)/VLOOKUP($AD20,$BA$60:$BB$63,2,FALSE)","v":1000},{"$f":"ROUND(圧力補正*H14_換算前/単位補正係数,0)","v":0},{"$f":"ROUND(圧力補正*H15_換算前/単位補正係数,0)","v":0},{"$f":"ROUND(圧力補正*H16_換算前/単位補正係数,0)","v":0},{"$f":"ROUND(圧力補正*H17_換算前/単位補正係数,0)","v":0},{"$f":"ROUND(圧力補正*H18_換算前/単位補正係数,0)","v":0},{"$f":"ROUND(圧力補正*H19_換算前/単位補正係数,0)","v":0},{"$f":"ROUND(圧力補正*H20_換算前/単位補正係数,0)","v":0},{"$f":"ROUND(圧力補正*H21_換算前/単位補正係数,0)","v":0},{"$f":"ROUND(圧力補正*H22_換算前/単位補正係数,0)","v":0},{"$f":"ROUND(圧力補正*H23_換算前/単位補正係数,0)","v":0},{"$f":"ROUND(圧力補正*H24_換算前/単位補正係数,0)","v":0},{"$f":"ROUND(圧力補正*H25_換算前/単位補正係数,0)","v":0},{"$f":"ROUND(圧力補正*H26_換算前/単位補正係数,0)","v":0},{"$f":"ROUND(圧力補正*H27_換算前/単位補正係数,0)","v":0},{"$f":"ROUND(圧力補正*H28_換算前/単位補正係数,0)","v":0},{"$f":"ROUND(圧力補正*H29_換算前/単位補正係数,0)","v":0},{"$f":"ROUND(圧力補正*H30_換算前/単位補正係数,0)","v":0},{"$f":"ROUND(圧力補正*H31_換算前/単位補正係数,0)","v":0},0,0,0,0,0]
[null,null,null,null,null,null,null,null,null,null,null,null,null,null,null,null,null,null,null,null,null,null,null,null,null,null,null,null,null,null,null,null,{"$f":"SUM(AG19:AG20)","v":0},{"$f":"SUM(AH19:AH20)","v":0},0,0,0,0,0,0,{"$f":"SUM(AO19:AO20)","v":0},0,0,0,0,0,0,0,0,0,{"$f":"SUM(AY19:AY20)","v":0},{"$f":"SUM(AZ19:AZ20)","v":0},0,0,0]
[]
[null,"イ　液化石油ガス（ＬＰＧ）"]
[]
[null,null,null,null,null,null,"使用量（換算前）",null,null,null,null,null,null,null,null,null,null,null,null,null,null,null,null,null,null,null,null,null,null,"換算後",null,null,"使用量（換算後）"]
[null,null,"種別",null,"気化率\nm3/kg","単位","14年度(2002)","15年度(2003)","16年度(2004)","17年度(2005)","18年度(2006)","19年度(2007)","20年度(2008)","21年度(2009)","22年度(2010)","23年度(2011)","24年度(2012)","25年度(2013)","26年度(2014)","27年度(2015)","28年度(2016)","29年度(2017)","30年度(2018)","31/1年度(2019)","2年度(2020)","3年度(2021)","4年度(2022)","5年度(2023)","6年度(2024)","単位","単位換算","桁補正","14年度(2002)","15年度(2003)","16年度(2004)","17年度(2005)","18年度(2006)","19年度(2007)","20年度(2008)","21年度(2009)","22年度(2010)","23年度(2011)","24年度(2012)","25年度(2013)","26年度(2014)","27年度(2015)","28年度(2016)","29年度(2017)","30年度(2018)","31/1年度(2019)","2年度(2020)","3年度(2021)","4年度(2022)","5年度(2023)","6年度(2024)"]
[null,null,"プロパン・ブタン混合ガス\n（LPガス）",null,0.45800000000000002,"ｔ",null,null,null,null,null,null,null,null,null,null,null,null,null,null,null,null,null,null,null,null,null,null,null,"t",{"$f":"IF(OR(F27=\"kg\",F27=\"ｔ\"),1,E27)","v":1},{"$f":"VLOOKUP(F27,$BA$58:$BB$61,2,FALSE)","v":1},{"$f":"ROUND(H14_LPG使用量/単位換算/LPG単位補正,0)","v":0},{"$f":"ROUND(H15_LPG使用量/単位換算/LPG単位補正,0)","v":0},{"$f":"ROUND(H16_LPG使用量/単位換算/LPG単位補正,0)","v":0},{"$f":"ROUND(H17_LPG使用量/単位換算/LPG単位補正,0)","v":0},{"$f":"ROUND(H18_LPG使用量/単位換算/LPG単位補正,0)","v":0},{"$f":"ROUND(H19_LPG使用量/単位換算/LPG単位補正,0)","v":0},{"$f":"ROUND(H20_LPG使用量/単位換算/LPG単位補正,0)","v":0},{"$f":"ROUND(H21_LPG使用量/単位換算/LPG単位補正,0)","v":0},{"$f":"ROUND(H22_LPG使用量/単位換算/LPG単位補正,0)","v":0},{"$f":"ROUND(H23_LPG使用量/単位換算/LPG単位補正,0)","v":0},{"$f":"ROUND(H24_LPG使用量/単位換算/LPG単位補正,0)","v":0},{"$f":"ROUND(H25_LPG使用量/単位換算/LPG単位補正,0)","v":0},{"$f":"ROUND(H26_LPG使用量/単位換算/LPG単位補正,0)","v":0},{"$f":"ROUND(H27_LPG使用量/単位換算/LPG単位補正,0)","v":0},{"$f":"ROUND(H28_LPG使用量/単位換算/LPG単位補正,0)","v":0},{"$f":"ROUND(H29_LPG使用量/単位換算/LPG単位補正,0)","v":0},{"$f":"ROUND(H30_LPG使用量/単位換算/LPG単位補正,0)","v":0},{"$f":"ROUND(H31_LPG使用量/単位換算/LPG単位補正,0)","v":0},{"$f":"ROUND(Y27/単位換算/LPG単位補正,0)","v":0},0,0,0,0]
[null,null,"プロパン",null,0.502,"ｔ",null,null,null,null,null,null,null,null,null,null,null,null,null,null,null,null,null,null,null,null,null,null,null,"t",{"$f":"IF(OR(F28=\"kg\",F28=\"ｔ\"),1,E28)","v":1},{"$f":"VLOOKUP(F28,$BA$58:$BB$61,2,FALSE)","v":1},{"$f":"ROUND(H14_LPG使用量/単位換算/LPG単位補正,0)","v":0},{"$f":"ROUND(H15_LPG使用量/単位換算/LPG単位補正,0)","v":0},{"$f":"ROUND(H16_LPG使用量/単位換算/LPG単位補正,0)","v":0},{"$f":"ROUND(H17_LPG使用量/単位換算/LPG単位補正,0)","v":0},{"$f":"ROUND(H18_LPG使用量/単位換算/LPG単位補正,0)","v":0},{"$f":"ROUND(H19_LPG使用量/単位換算/LPG単位補正,0)","v":0},{"$f":"ROUND(H20_LPG使用量/単位換算/LPG単位補正,0)","v":0},{"$f":"ROUND(H21_LPG使用量/単位換算/LPG単位補正,0)","v":0},{"$f":"ROUND(H22_LPG使用量/単位換算/LPG単位補正,0)","v":0},{"$f":"ROUND(H23_LPG使用量/単位換算/LPG単位補正,0)","v":0},{"$f":"ROUND(H24_LPG使用量/単位換算/LPG単位補正,0)","v":0},{"$f":"ROUND(H25_LPG使用量/単位換算/LPG単位補正,0)","v":0},{"$f":"ROUND(H26_LPG使用量/単位換算/LPG単位補正,0)","v":0},{"$f":"ROUND(H27_LPG使用量/単位換算/LPG単位補正,0)","v":0},{"$f":"ROUND(H28_LPG使用量/単位換算/LPG単位補正,0)","v":0},{"$f":"ROUND(H29_LPG使用量/単位換算/LPG単位補正,0)","v":0},{"$f":"ROUND(H30_LPG使用量/単位換算/LPG単位補正,0)","v":0},{"$f":"ROUND(H31_LPG使用量/単位換算/LPG単位補正,0)","v":0},0,0,0,0,0]
[null,null,"ブタン",null,0.35499999999999998,"ｔ",null,null,null,null,null,null,null,null,null,null,null,null,null,null,null,null,null,null,null,null,null,null,null,"t",{"$f":"IF(OR(F29=\"kg\",F29=\"ｔ\"),1,E29)","v":1},{"$f":"VLOOKUP(F29,$BA$58:$BB$61,2,FALSE)","v":1},{"$f":"ROUND(H14_LPG使用量/単位換算/LPG単位補正,0)","v":0},{"$f":"ROUND(H15_LPG使用量/単位換算/LPG単位補正,0)","v":0},{"$f":"ROUND(H16_LPG使用量/単位換算/LPG単位補正,0)","v":0},{"$f":"ROUND(H17_LPG使用量/単位換算/LPG単位補正,0)","v":0},{"$f":"ROUND(H18_LPG使用量/単位換算/LPG単位補正,0)","v":0},{"$f":"ROUND(H19_LPG使用量/単位換算/LPG単位補正,0)","v":0},{"$f":"ROUND(H20_LPG使用量/単位換算/LPG単位補正,0)","v":0},{"$f":"ROUND(H21_LPG使用量/単位換算/LPG単位補正,0)","v":0},{"$f":"ROUND(H22_LPG使用量/単位換算/LPG単位補正,0)","v":0},{"$f":"ROUND(H23_LPG使用量/単位換算/LPG単位補正,0)","v":0},{"$f":"ROUND(H24_LPG使用量/単位換算/LPG単位補正,0)","v":0},{"$f":"ROUND(H25_LPG使用量/単位換算/LPG単位補正,0)","v":0},{"$f":"ROUND(H26_LPG使用量/単位換算/LPG単位補正,0)","v":0},{"$f":"ROUND(H27_LPG使用量/単位換算/LPG単位補正,0)","v":0},{"$f":"ROUND(H28_LPG使用量/単位換算/LPG単位補正,0)","v":0},{"$f":"ROUND(H29_LPG使用量/単位換算/LPG単位補正,0)","v":0},{"$f":"ROUND(H30_LPG使用量/単位換算/LPG単位補正,0)","v":0},{"$f":"ROUND(H31_LPG使用量/単位換算/LPG単位補正,0)","v":0},0,0,0,0,0]
[null,null,"その他",null,0.48199999999999998,"ｔ",null,null,null,null,null,null,null,null,null,null,null,null,null,null,null,null,null,null,null,null,null,null,null,"t",{"$f":"IF(OR(F30=\"kg\",F30=\"ｔ\"),1,E30)","v":1},{"$f":"VLOOKUP(F30,$BA$58:$BB$61,2,FALSE)","v":1},{"$f":"ROUND(H14_LPG使用量/単位換算/LPG単位補正,0)","v":0},{"$f":"ROUND(H15_LPG使用量/単位換算/LPG単位補正,0)","v":0},{"$f":"ROUND(H16_LPG使用量/単位換算/LPG単位補正,0)","v":0},{"$f":"ROUND(H17_LPG使用量/単位換算/LPG単位補正,0)","v":0},{"$f":"ROUND(H18_LPG使用量/単位換算/LPG単位補正,0)","v":0},{"$f":"ROUND(H19_LPG使用量/単位換算/LPG単位補正,0)","v":0},{"$f":"ROUND(H20_LPG使用量/単位換算/LPG単位補正,0)","v":0},{"$f":"ROUND(H21_LPG使用量/単位換算/LPG単位補正,0)","v":0},{"$f":"ROUND(H22_LPG使用量/単位換算/LPG単位補正,0)","v":0},{"$f":"ROUND(H23_LPG使用量/単位換算/LPG単位補正,0)","v":0},{"$f":"ROUND(H24_LPG使用量/単位換算/LPG単位補正,0)","v":0},{"$f":"ROUND(H25_LPG使用量/単位換算/LPG単位補正,0)","v":0},{"$f":"ROUND(H26_LPG使用量/単位換算/LPG単位補正,0)","v":0},{"$f":"ROUND(H27_LPG使用量/単位換算/LPG単位補正,0)","v":0},{"$f":"ROUND(H28_LPG使用量/単位換算/LPG単位補正,0)","v":0},{"$f":"ROUND(H29_LPG使用量/単位換算/LPG単位補正,0)","v":0},{"$f":"ROUND(H30_LPG使用量/単位換算/LPG単位補正,0)","v":0},{"$f":"ROUND(H31_LPG使用量/単位換算/LPG単位補正,0)","v":0},0,0,0,0,0]
[null,null,null,null,null,null,null,null,null,null,null,null,null,null,null,null,null,null,null,null,null,null,null,null,null,null,null,null,null,null,null,null,{"$f":"SUM(AG27:AG30)","v":0},0,0,0,0,0,0,0,0,0,0,0,0,0,0,0,0,0,{"$f":"SUM(AY27:AY30)","v":0},0,0,0,0]
[]
[null,"ウ　都市ガス・LPG以外の気体燃料"]
[]
[null,null,null,null,null,null,"使用量（換算前）",null,null,null,null,null,null,null,null,null,null,null,null,null,null,null,null,null,null,null,null,null,null,"換算単位",null,null,"使用量（換算後）"]
[null,null,null,null,null,"単位","14年度(2002)","15年度(2003)","16年度(2004)","17年度(2005)","18年度(2006)","19年度(2007)","20年度(2008)","21年度(2009)","22年度(2010)","23年度(2011)","24年度(2012)","25年度(2013)","26年度(2014)","27年度(2015)","28年度(2016)","29年度(2017)","30年度(2018)","31/1年度(2019)","2年度(2020)","3年度(2021)","4年度(2022)","5年度(2023)","6年度(2024)","単位",null,null,"14年度(2002)","15年度(2003)","16年度(2004)","17年度(2005)","18年度(2006)","19年度(2007)","20年度(2008)","21年度(2009)","22年度(2010)","23年度(2011)","24年度(2012)","25年度(2013)","26年度(2014)","27年度(2015)","28年度(2016)","29年度(2017)","30年度(2018)","31/1年度(2019)","2年度(2020)","3年度(2021)","4年度(2022)","5年度(2023)","6年度(2024)"]
[null,null,"その他可燃性\n天然ガス",null,"気体燃料\n圧力","kPa",null,null,null,null,null,null,null,null,null,null,null,null,null,null,null,null,null,null,null,null,null,null,null,null,"圧力補正",null,{"$f":"IF(COUNTIF(F39,\"*Nm3\")>0,1,G37/101.325*273.15/(273.15+G38))","v":0},{"$f":"IF(COUNTIF(F39,\"*Nm3\")>0,1,H37/101.325*273.15/(273.15+H38))","v":0},{"$f":"IF(COUNTIF(F39,\"*Nm3\")>0,1,I37/101.325*273.15/(273.15+I38))","v":0},{"$f":"IF(COUNTIF(F39,\"*Nm3\")>0,1,J37/101.325*273.15/(273.15+J38))","v":0},{"$f":"IF(COUNTIF(F39,\"*Nm3\")>0,1,K37/101.325*273.15/(273.15+K38))","v":0},{"$f":"IF(COUNTIF(F39,\"*Nm3\")>0,1,L37/101.325*273.15/(273.15+L38))","v":0},{"$f":"IF(COUNTIF(F39,\"*Nm3\")>0,1,M37/101.325*273.15/(273.15+M38))","v":0},{"$f":"IF(COUNTIF(F39,\"*Nm3\")>0,1,N37/101.325*273.15/(273.15+N38))","v":0},{"$f":"IF(COUNTIF(F39,\"*Nm3\")>0,1,O37/101.325*273.15/(273.15+O38))","v":0},{"$f":"IF(COUNTIF(F39,\"*Nm3\")>0,1,P37/101.325*273.15/(273.15+P38))","v":0},{"$f":"IF(COUNTIF(F39,\"*Nm3\")>0,1,Q37/101.325*273.15/(273.15+Q38))","v":0},{"$f":"IF(COUNTIF(F39,\"*Nm3\")>0,1,R37/101.325*273.15/(273.15+R38))","v":0},{"$f":"IF(COUNTIF(F39,\"*Nm3\")>0,1,S37/101.325*273.15/(273.15+S38))","v":0},0,0,0,0,0,{"$f":"IF(COUNTIF(L39,\"*Nm3\")>0,1,Y37/101.325*273.15/(273.15+Y38))","v":0},0,0,0,0]
[null,null,null,null,"気体燃料\n温度","℃"]
[null,null,null,null,"使用量","m3",null,null,null,null,null,null,null,null,null,null,null,null,null,null,null,null,null,null,null,null,null,null,null,"千Nm3","単位補正",{"$f":"VLOOKUP($F39,$BA$60:$BB$63,2,FALSE)/VLOOKUP($AD39,$BA$60:$BB$63,2,FALSE)","v":1000},{"$f":"ROUND(H14_その他ガス*$AG37/$AF39,0)","v":0},{"$f":"ROUND(H15_その他ガス*$AH37/$AF39,0)","v":0},{"$f":"ROUND(H16_その他ガス*$AI37/$AF39,0)","v":0},{"$f":"ROUND(H17_その他ガス*$AJ37/$AF39,0)","v":0},{"$f":"ROUND(H18_その他ガス*$AK37/$AF39,0)","v":0},{"$f":"ROUND(H19_その他ガス*$AL37/$AF39,0)","v":0},{"$f":"ROUND(H20_その他ガス*$AM37/$AF39,0)","v":0},{"$f":"ROUND(H21_その他ガス*$AN37/$AF39,0)","v":0},{"$f":"ROUND(H22_その他ガス*$AO37/$AF39,0)","v":0},{"$f":"ROUND(H23_その他ガス*$AP37/$AF39,0)","v":0},{"$f":"ROUND(H24_その他ガス*$AQ37/$AF39,0)","v":0},{"$f":"ROUND(H25_その他ガス*$AR37/$AF39,0)","v":0},{"$f":"ROUND(H26_その他ガス*$AS37/$AF39,0)","v":0},{"$f":"ROUND(H27_その他ガス*$AS37/$AF39,0)","v":0},{"$f":"ROUND(H28_その他ガス*$AS37/$AF39,0)","v":0},{"$f":"ROUND(H29_その他ガス*$AS37/$AF39,0)","v":0},{"$f":"ROUND(H30_その他ガス*$AS37/$AF39,0)","v":0},{"$f":"ROUND(H31_その他ガス*$AS37/$AF39,0)","v":0},{"$f":"ROUND(Y39*$AS37/$AF39,0)","v":0},{"$f":"ROUND(Z39*$AS37/$AF39,0)","v":0},0,0,0]
[null,null,"コークス炉ガス",null,"気体燃料\n圧力","kPa",null,null,null,null,null,null,null,null,null,null,null,null,null,null,null,null,null,null,null,null,null,null,null,null,"圧力補正",null,{"$f":"IF(COUNTIF(F42,\"*Nm3\")>0,1,G40/101.325*273.15/(273.15+G41))","v":0},{"$f":"IF(COUNTIF(F42,\"*Nm3\")>0,1,H40/101.325*273.15/(273.15+H41))","v":0},{"$f":"IF(COUNTIF(F42,\"*Nm3\")>0,1,I40/101.325*273.15/(273.15+I41))","v":0},{"$f":"IF(COUNTIF(F42,\"*Nm3\")>0,1,J40/101.325*273.15/(273.15+J41))","v":0},{"$f":"IF(COUNTIF(F42,\"*Nm3\")>0,1,K40/101.325*273.15/(273.15+K41))","v":0},{"$f":"IF(COUNTIF(F42,\"*Nm3\")>0,1,L40/101.325*273.15/(273.15+L41))","v":0},{"$f":"IF(COUNTIF(F42,\"*Nm3\")>0,1,M40/101.325*273.15/(273.15+M41))","v":0},{"$f":"IF(COUNTIF(F42,\"*Nm3\")>0,1,N40/101.325*273.15/(273.15+N41))","v":0},{"$f":"IF(COUNTIF(F42,\"*Nm3\")>0,1,O40/101.325*273.15/(273.15+O41))","v":0},{"$f":"IF(COUNTIF(F42,\"*Nm3\")>0,1,P40/101.325*273.15/(273.15+P41))","v":0},{"$f":"IF(COUNTIF(F42,\"*Nm3\")>0,1,Q40/101.325*273.15/(273.15+Q41))","v":0},{"$f":"IF(COUNTIF(F42,\"*Nm3\")>0,1,R40/101.325*273.15/(273.15+R41))","v":0},{"$f":"IF(COUNTIF(F42,\"*Nm3\")>0,1,S40/101.325*273.15/(273.15+S41))","v":0},0,0,0,0,0,{"$f":"IF(COUNTIF(L42,\"*Nm3\")>0,1,Y40/101.325*273.15/(273.15+Y41))","v":0},0,0,0,0]
[null,null,null,null,"気体燃料\n温度","℃"]
[null,null,null,null,"使用量","m3",null,null,null,null,null,null,null,null,null,null,null,null,null,null,null,null,null,null,null,null,null,null,null,"千Nm3","単位補正",{"$f":"VLOOKUP($F42,$BA$60:$BB$63,2,FALSE)","v":1000},{"$f":"ROUND(H14_その他ガス*$AG40/$AF42,0)","v":0},{"$f":"ROUND(H15_その他ガス*$AH40/$AF42,0)","v":0},{"$f":"ROUND(H16_その他ガス*$AI40/$AF42,0)","v":0},{"$f":"ROUND(H17_その他ガス*$AJ40/$AF42,0)","v":0},{"$f":"ROUND(H18_その他ガス*$AK40/$AF42,0)","v":0},{"$f":"ROUND(H19_その他ガス*$AL40/$AF42,0)","v":0},{"$f":"ROUND(H20_その他ガス*$AM40/$AF42,0)","v":0},{"$f":"ROUND(H21_その他ガス*$AN40/$AF42,0)","v":0},{"$f":"ROUND(H22_その他ガス*$AO40/$AF42,0)","v":0},{"$f":"ROUND(H23_その他ガス*$AP40/$AF42,0)","v":0},{"$f":"ROUND(H24_その他ガス*$AQ40/$AF42,0)","v":0},{"$f":"ROUND(H25_その他ガス*$AR40/$AF42,0)","v":0},{"$f":"ROUND(H26_その他ガス*$AS40/$AF42,0)","v":0},{"$f":"ROUND(H27_その他ガス*$AS40/$AF42,0)","v":0},{"$f":"ROUND(H28_その他ガス*$AS40/$AF42,0)","v":0},{"$f":"ROUND(H29_その他ガス*$AS40/$AF42,0)","v":0},{"$f":"ROUND(H30_その他ガス*$AS40/$AF42,0)","v":0},{"$f":"ROUND(H31_その他ガス*$AS40/$AF42,0)","v":0},{"$f":"ROUND(Y42*$AS40/$AF42,0)","v":0},{"$f":"ROUND(Z42*$AS40/$AF42,0)","v":0},0,0,0]
[null,null,"高炉ガス",null,"気体燃料\n圧力","kPa",null,null,null,null,null,null,null,null,null,null,null,null,null,null,null,null,null,null,null,null,null,null,null,null,"圧力補正",null,{"$f":"IF(COUNTIF(F45,\"*Nm3\")>0,1,G43/101.325*273.15/(273.15+G44))","v":0},{"$f":"IF(COUNTIF(F45,\"*Nm3\")>0,1,H43/101.325*273.15/(273.15+H44))","v":0},{"$f":"IF(COUNTIF(F45,\"*Nm3\")>0,1,I43/101.325*273.15/(273.15+I44))","v":0},{"$f":"IF(COUNTIF(F45,\"*Nm3\")>0,1,J43/101.325*273.15/(273.15+J44))","v":0},{"$f":"IF(COUNTIF(F45,\"*Nm3\")>0,1,K43/101.325*273.15/(273.15+K44))","v":0},{"$f":"IF(COUNTIF(F45,\"*Nm3\")>0,1,L43/101.325*273.15/(273.15+L44))","v":0},{"$f":"IF(COUNTIF(F45,\"*Nm3\")>0,1,M43/101.325*273.15/(273.15+M44))","v":0},{"$f":"IF(COUNTIF(F45,\"*Nm3\")>0,1,N43/101.325*273.15/(273.15+N44))","v":0},{"$f":"IF(COUNTIF(F45,\"*Nm3\")>0,1,O43/101.325*273.15/(273.15+O44))","v":0},{"$f":"IF(COUNTIF(F45,\"*Nm3\")>0,1,P43/101.325*273.15/(273.15+P44))","v":0},{"$f":"IF(COUNTIF(F45,\"*Nm3\")>0,1,Q43/101.325*273.15/(273.15+Q44))","v":0},{"$f":"IF(COUNTIF(F45,\"*Nm3\")>0,1,R43/101.325*273.15/(273.15+R44))","v":0},{"$f":"IF(COUNTIF(F45,\"*Nm3\")>0,1,S43/101.325*273.15/(273.15+S44))","v":0},0,0,0,0,0,{"$f":"IF(COUNTIF(L45,\"*Nm3\")>0,1,Y43/101.325*273.15/(273.15+Y44))","v":0},0,0,0,0]
[null,null,null,null,"気体燃料\n温度","℃"]
[null,null,null,null,"使用量","m3",null,null,null,null,null,null,null,null,null,null,null,null,null,null,null,null,null,null,null,null,null,null,null,"千Nm3","単位補正",{"$f":"VLOOKUP($F45,$BA$60:$BB$63,2,FALSE)","v":1000},{"$f":"ROUND(H14_その他ガス*$AG43/$AF45,0)","v":0},{"$f":"ROUND(H15_その他ガス*$AH43/$AF45,0)","v":0},{"$f":"ROUND(H16_その他ガス*$AI43/$AF45,0)","v":0},{"$f":"ROUND(H17_その他ガス*$AJ43/$AF45,0)","v":0},{"$f":"ROUND(H18_その他ガス*$AK43/$AF45,0)","v":0},{"$f":"ROUND(H19_その他ガス*$AL43/$AF45,0)","v":0},{"$f":"ROUND(H20_その他ガス*$AM43/$AF45,0)","v":0},{"$f":"ROUND(H21_その他ガス*$AN43/$AF45,0)","v":0},{"$f":"ROUND(H22_その他ガス*$AO43/$AF45,0)","v":0},{"$f":"ROUND(H23_その他ガス*$AP43/$AF45,0)","v":0},{"$f":"ROUND(H24_その他ガス*$AQ43/$AF45,0)","v":0},{"$f":"ROUND(H25_その他ガス*$AR43/$AF45,0)","v":0},{"$f":"ROUND(H26_その他ガス*$AS43/$AF45,0)","v":0},{"$f":"ROUND(H27_その他ガス*$AS43/$AF45,0)","v":0},{"$f":"ROUND(H28_その他ガス*$AS43/$AF45,0)","v":0},{"$f":"ROUND(H29_その他ガス*$AS43/$AF45,0)","v":0},{"$f":"ROUND(H30_その他ガス*$AS43/$AF45,0)","v":0},{"$f":"ROUND(H31_その他ガス*$AS43/$AF45,0)","v":0},{"$f":"ROUND(Y45*$AS43/$AF45,0)","v":0},{"$f":"ROUND(Z45*$AS43/$AF45,0)","v":0},0,0,0]
[null,null,"転炉ガス",null,"気体燃料\n圧力","kPa",null,null,null,null,null,null,null,null,null,null,null,null,null,null,null,null,null,null,null,null,null,null,null,null,"圧力補正",null,{"$f":"IF(COUNTIF(F48,\"*Nm3\")>0,1,G46/101.325*273.15/(273.15+G47))","v":0},{"$f":"IF(COUNTIF(F48,\"*Nm3\")>0,1,H46/101.325*273.15/(273.15+H47))","v":0},{"$f":"IF(COUNTIF(F48,\"*Nm3\")>0,1,I46/101.325*273.15/(273.15+I47))","v":0},{"$f":"IF(COUNTIF(F48,\"*Nm3\")>0,1,J46/101.325*273.15/(273.15+J47))","v":0},{"$f":"IF(COUNTIF(F48,\"*Nm3\")>0,1,K46/101.325*273.15/(273.15+K47))","v":0},{"$f":"IF(COUNTIF(F48,\"*Nm3\")>0,1,L46/101.325*273.15/(273.15+L47))","v":0},{"$f":"IF(COUNTIF(F48,\"*Nm3\")>0,1,M46/101.325*273.15/(273.15+M47))","v":0},{"$f":"IF(COUNTIF(F48,\"*Nm3\")>0,1,N46/101.325*273.15/(273.15+N47))","v":0},{"$f":"IF(COUNTIF(F48,\"*Nm3\")>0,1,O46/101.325*273.15/(273.15+O47))","v":0},{"$f":"IF(COUNTIF(F48,\"*Nm3\")>0,1,P46/101.325*273.15/(273.15+P47))","v":0},{"$f":"IF(COUNTIF(F48,\"*Nm3\")>0,1,Q46/101.325*273.15/(273.15+Q47))","v":0},{"$f":"IF(COUNTIF(F48,\"*Nm3\")>0,1,R46/101.325*273.15/(273.15+R47))","v":0},{"$f":"IF(COUNTIF(F48,\"*Nm3\")>0,1,S46/101.325*273.15/(273.15+S47))","v":0},0,0,0,0,0,{"$f":"IF(COUNTIF(L48,\"*Nm3\")>0,1,Y46/101.325*273.15/(273.15+Y47))","v":0},0,0,0,0]
[null,null,null,null,"気体燃料\n温度","℃"]
[null,null,null,null,"使用量","m3",null,null,null,null,null,null,null,null,null,null,null,null,null,null,null,null,null,null,null,null,null,null,null,"千Nm3","単位補正",{"$f":"VLOOKUP($F48,$BA$60:$BB$63,2,FALSE)","v":1000},{"$f":"ROUND(H14_その他ガス*$AG46/$AF48,0)","v":0},{"$f":"ROUND(H15_その他ガス*$AH46/$AF48,0)","v":0},{"$f":"ROUND(H16_その他ガス*$AI46/$AF48,0)","v":0},{"$f":"ROUND(H17_その他ガス*$AJ46/$AF48,0)","v":0},{"$f":"ROUND(H18_その他ガス*$AK46/$AF48,0)","v":0},{"$f":"ROUND(H19_その他ガス*$AL46/$AF48,0)","v":0},{"$f":"ROUND(H20_その他ガス*$AM46/$AF48,0)","v":0},{"$f":"ROUND(H21_その他ガス*$AN46/$AF48,0)","v":0},{"$f":"ROUND(H22_その他ガス*$AO46/$AF48,0)","v":0},{"$f":"ROUND(H23_その他ガス*$AP46/$AF48,0)","v":0},{"$f":"ROUND(H24_その他ガス*$AQ46/$AF48,0)","v":0},{"$f":"ROUND(H25_その他ガス*$AR46/$AF48,0)","v":0},{"$f":"ROUND(H26_その他ガス*$AS46/$AF48,0)","v":0},{"$f":"ROUND(H27_その他ガス*$AS46/$AF48,0)","v":0},{"$f":"ROUND(H28_その他ガス*$AS46/$AF48,0)","v":0},{"$f":"ROUND(H29_その他ガス*$AS46/$AF48,0)","v":0},{"$f":"ROUND(H30_その他ガス*$AS46/$AF48,0)","v":0},{"$f":"ROUND(H31_その他ガス*$AS46/$AF48,0)","v":0},{"$f":"ROUND(Y48*$AS46/$AF48,0)","v":0},{"$f":"ROUND(Z48*$AS46/$AF48,0)","v":0},0,0,0]
[]
[null,"エ　電気または熱の事業所外への供給"]
[]
[null,null,null,null,null,null,"使用量（換算前）",null,null,null,null,null,null,null,null,null,null,null,null,null,null,null,null,null,null,null,null,null,null,"換算単位",null,null,"使用量（換算後）"]
[null,null,null,null,null,"単位","14年度(2002)","15年度(2003)","16年度(2004)","17年度(2005)","18年度(2006)","19年度(2007)","20年度(2008)","21年度(2009)","22年度(2010)","23年度(2011)","24年度(2012)","25年度(2013)","26年度(2014)","27年度(2015)","28年度(2016)","29年度(2017)","30年度(2018)","31/1年度(2019)","2年度(2020)","3年度(2021)","4年度(2022)","5年度(2023)","6年度(2024)","単位",null,"単位補正","14年度(2002)","15年度(2003)","16年度(2004)","17年度(2005)","18年度(2006)","19年度(2007)","20年度(2008)","21年度(2009)","22年度(2010)","23年度(2011)","24年度(2012)","25年度(2013)","26年度(2014)","27年度(2015)","28年度(2016)","29年度(2017)","30年度(2018)","31/1年度(2019)","2年度(2020)","3年度(2021)","4年度(2022)","5年度(2023)","6年度(2024)"]
[null,null,"事業所外供給","電気","電気供給量","kWh",null,null,null,null,null,null,null,null,null,null,null,null,null,null,null,null,null,null,null,null,null,null,null,"千kWh","単位補正",{"$f":"VLOOKUP($F54,$BA$64:$BB$65,2,FALSE)/VLOOKUP($AD54,$BA$64:$BB$65,2,FALSE)","v":1000},{"$f":"ROUND(G54/$AF54,0)","v":0},0,0,0,0,0,0,0,0,0,0,0,0,0,0,0,0,0,{"$f":"ROUND(Y54/$AF54,0)","v":0},0,0,0,0]
[null,null,null,null,"排出係数","t-CO2/千kWh",null,null,null,null,null,null,null,null,null,null,null,null,null,null,null,null,null,null,null,null,null,null,null,null,"供給量",null,{"$f":"AG54*G55","v":0},0,0,0,0,0,0,0,0,0,0,0,0,0,0,0,0,0,{"$f":"AY54*Y55","v":0},0,0,0,0]
[null,null,null,"熱","熱供給量","MJ",null,null,null,null,null,null,null,null,null,null,null,null,null,null,null,null,null,null,null,null,null,null,null,"GJ","単位補正",{"$f":"VLOOKUP($F56,$BA$66:$BB$67,2,FALSE)/VLOOKUP($AD56,$BA$66:$BB$67,2,FALSE)","v":1000},{"$f":"ROUND(G56/$AF56,0)","v":0},0,0,0,0,0,0,0,0,0,0,0,0,0,0,0,0,0,{"$f":"ROUND(Y56/$AF56,0)","v":0},0,0,0,0]
[null,null,null,null,"排出係数","t-ＣＯ₂/GJ",null,null,null,null,null,null,null,null,null,null,null,null,null,null,null,null,null,null,null,null,null,null,null,null,"供給量",null,{"$f":"AG56*G57","v":0},0,0,0,0,0,0,0,0,0,0,0,0,0,0,0,0,0,{"$f":"AY56*Y57","v":0},0,0,0,0]
[null,null,null,null,null,null,null,null,null,null,null,null,null,null,null,null,null,null,null,null,null,null,null,null,null,null,null,null,null,null,null,null,null,null,null,null,null,null,null,null,null,null,null,null,null,null,null,null,null,null,null,null,"kg",1000]
[null,null,null,null,null,null,null,null,null,null,null,null,null,null,null,null,null,null,null,null,null,null,null,null,null,null,null,null,null,null,null,null,null,null,null,null,null,null,null,null,null,null,null,null,null,null,null,null,null,null,null,null,"ｔ",1]
[null,null,null,null,null,null,null,null,null,null,null,null,null,null,null,null,null,null,null,null,null,null,null,null,null,null,null,null,null,null,null,null,null,null,null,null,null,null,null,null,null,null,null,null,null,null,null,null,null,null,null,null,"m3",1000]
[null,null,null,null,null,null,null,null,null,null,null,null,null,null,null,null,null,null,null,null,null,null,null,null,null,null,null,null,null,null,null,null,null,null,null,null,null,null,null,null,null,null,null,null,null,null,null,null,null,null,null,null,"千m3",1]
[null,null,null,null,null,null,null,null,null,null,null,null,null,null,null,null,null,null,null,null,null,null,null,null,null,null,null,null,null,null,null,null,null,null,null,null,null,null,null,null,null,null,null,null,null,null,null,null,null,null,null,null,"Nm3",1000]
[null,null,null,null,null,null,null,null,null,null,null,null,null,null,null,null,null,null,null,null,null,null,null,null,null,null,null,null,null,null,null,null,null,null,null,null,null,null,null,null,null,null,null,null,null,null,null,null,null,null,null,null,"千Nm3",1]
[null,null,null,null,null,null,null,null,null,null,null,null,null,null,null,null,null,null,null,null,null,null,null,null,null,null,null,null,null,null,null,null,null,null,null,null,null,null,null,null,null,null,null,null,null,null,null,null,null,null,null,null,"kWh",1000]
[null,null,null,null,null,null,null,null,null,null,null,null,null,null,null,null,null,null,null,null,null,null,null,null,null,null,null,null,null,null,null,null,null,null,null,null,null,null,null,null,null,null,null,null,null,null,null,null,null,null,null,null,"千kWh",1]
[null,null,null,null,null,null,null,null,null,null,null,null,null,null,null,null,null,null,null,null,null,null,null,null,null,null,null,null,null,null,null,null,null,null,null,null,null,null,null,null,null,null,null,null,null,null,null,null,null,null,null,null,"MJ",1000]
[null,null,null,null,null,null,null,null,null,null,null,null,null,null,null,null,null,null,null,null,null,null,null,null,null,null,null,null,null,null,null,null,null,null,null,null,null,null,null,null,null,null,null,null,null,null,null,null,null,null,null,null,"GJ",1]
[]
[]
[null,null,null,null,null,null,null,null,null,null,null,null,null,null,null,null,null,null,null,null,null,null,null,null,null,null,null,null,null,null,null,null,null,null,null,null,null,null,null,null,null,null,null,null,null,null,null,null,null,null,null,null,"都市ガス圧力補正"]
[null,null,null,null,null,null,null,null,null,null,null,null,null,null,null,null,null,null,null,null,null,null,null,null,null,null,null,null,null,null,null,null,null,null,null,null,null,null,null,null,null,null,null,null,null,null,null,null,null,null,null,null,"低圧用",{"$f":"ROUND((101.325+2)/101.325*273.15/(273.15+15),6)","v":0.96665500000000004}]
[null,null,null,null,null,null,null,null,null,null,null,null,null,null,null,null,null,null,null,null,null,null,null,null,null,null,null,null,null,null,null,null,null,null,null,null,null,null,null,null,null,null,null,null,null,null,null,null,null,null,null,null,"中間圧以上用",{"$f":"ROUND((101.325+0.981)/101.325*273.15/(273.15+15),6)","v":0.95712200000000003}]
[]
[null,null,null,null,null,null,null,null,null,null,null,null,null,null,null,null,null,null,null,null,null,null,null,null,null,null,null,null,null,null,null,null,null,null,null,null,null,null,null,null,null,null,null,null,null,null,null,null,null,null,null,null,"種類","気化率"]
[null,null,null,null,null,null,null,null,null,null,null,null,null,null,null,null,null,null,null,null,null,null,null,null,null,null,null,null,null,null,null,null,null,null,null,null,null,null,null,null,null,null,null,null,null,null,null,null,null,null,null,null,"プロパン・ブタン混合ガス（LPガス）",0.45800000000000002]
[null,null,null,null,null,null,null,null,null,null,null,null,null,null,null,null,null,null,null,null,null,null,null,null,null,null,null,null,null,null,null,null,null,null,null,null,null,null,null,null,null,null,null,null,null,null,null,null,null,null,null,null,"プロパン",0.502]
[null,null,null,null,null,null,null,null,null,null,null,null,null,null,null,null,null,null,null,null,null,null,null,null,null,null,null,null,null,null,null,null,null,null,null,null,null,null,null,null,null,null,null,null,null,null,null,null,null,null,null,null,"ブタン",0.35499999999999998]
[null,null,null,null,null,null,null,null,null,null,null,null,null,null,null,null,null,null,null,null,null,null,null,null,null,null,null,null,null,null,null,null,null,null,null,null,null,null,null,null,null,null,null,null,null,null,null,null,null,null,null,null,"ＬＰガス",0.48199999999999998]
[null,null,null,null,null,null,null,null,null,null,null,null,null,null,null,null,null,null,null,null,null,null,null,null,null,null,null,null,null,null,null,null,null,null,null,null,null,null,null,null,null,null,null,null,null,null,null,null,null,null,null,null,"自動車用",0.45800000000000002]
[null,null,null,null,null,null,null,null,null,null,null,null,null,null,null,null,null,null,null,null,null,null,null,null,null,null,null,null,null,null,null,null,null,null,null,null,null,null,null,null,null,null,null,null,null,null,null,null,null,null,null,null,"その他"]

{"sheet":"２．算定報告様式(建物系)","index":5,"n_rows":53,"n_cols":186,"rows_kept":53,"cut":false,"hidden":false,"merged":[[15,4,15,5],[10,3,10,5],[11,3,11,5],[24,3,24,5],[14,3,14,5],[19,3,21,3],[19,4,19,5],[39,178,39,179],[47,178,47,179],[41,4,41,5],[48,178,48,179],[39,3,39,5],[42,4,42,5],[41,3,42,3],[52,3,52,5],[51,3,51,5],[45,3,45,5],[43,3,43,5],[44,3,44,5],[50,3,50,5],[51,178,51,179],[44,178,44,179],[45,178,45,179],[40,3,40,5],[46,3,46,5],[46,178,46,179],[49,178,49,179],[49,3,49,5],[50,178,50,179],[0,179,0,181],[2,6,4,6],[9,3,9,5],[2,180,4,181],[3,84,4,84],[2,7,2,98],[2,178,4,179],[7,3,7,5],[8,3,8,5],[3,155,3,177],[3,132,3,154],[3,109,3,131],[3,85,3,108],[3,7,3,33],[3,34,3,60],[3,61,3,78],[47,2,48,2],[47,3,47,5],[48,3,48,5],[17,3,18,3],[17,4,17,5],[18,4,18,5],[36,3,36,5],[20,4,20,5],[41,2,45,2],[25,3,25,5],[32,4,32,5],[33,4,33,5],[26,3,26,5],[22,3,22,5],[38,3,38,5],[34,3,34,5],[2,2,4,2],[2,3,4,5],[37,3,37,5],[27,4,31,4],[21,4,21,5],[23,3,23,5],[35,3,35,5],[12,3,12,5],[5,3,5,5],[6,3,6,5],[27,3,33,3],[16,4,16,5],[5,2,34,2],[35,2,40,2],[13,3,13,5],[15,3,16,3]]}
[null,null,"２．算定報告様式（建物系）"]
[]
[null,null,"排出活動","区分",null,null,"単位","使　　　　　　　　　　用　　　　　　　　　　量",null,null,null,null,null,null,null,null,null,null,null,null,null,null,null,null,null,null,null,null,null,null,null,null,null,null,null,null,null,null,null,null,null,null,null,null,null,null,null,null,null,null,null,null,null,null,null,null,null,null,null,null,null,null,null,null,null,null,null,null,null,null,null,null,null,null,null,null,null,null,null,null,null,null,null,null,null,null,null,null,null,null,null,null,null,null,null,null,null,null,null,null,null,null,null,null,null,null,null,null,null,null,null,null,null,null,null,null,null,null,null,null,null,null,null,null,null,null,null,null,null,null,null,null,null,null,null,null,null,null,null,null,null,null,null,null,null,null,null,null,null,null,null,null,null,null,null,null,null,null,null,null,null,null,null,null,null,null,null,null,null,null,null,null,null,null,null,null,null,null,"単位当たり発熱量",null,"排出係数"]
[null,null,null,null,null,null,null,"事業所内使用量",null,null,null,null,null,null,null,null,null,null,null,null,null,null,null,null,null,null,null,null,null,null,null,null,null,null,"算定対象外使用量",null,null,null,null,null,null,null,null,null,null,null,null,null,null,null,null,null,null,null,null,null,null,null,null,null,null,"控除後使用量",null,null,null,null,null,null,null,null,null,null,null,null,null,null,null,null,null,null,null,null,null,null,"単位補正","控除後使用量　単位補正後",null,null,null,null,null,null,null,null,null,null,null,null,null,null,null,null,null,null,null,null,null,null,null,"エネルギー発熱量（GJ)　",null,null,null,null,null,null,null,null,null,null,null,null,null,null,null,null,null,null,null,null,null,null,"原油換算使用量（ｋL)　",null,null,null,null,null,null,null,null,null,null,null,null,null,null,null,null,null,null,null,null,null,null,"CO₂換算使用量　（t-CO₂）"]
[null,null,null,null,null,null,null,"燃料等\n監視点","計量器の種類","検定等の有無","入力方法","14年度(2002)","15年度(2003)","16年度(2004)","17年度(2005)","18年度(2006)","19年度(2007)","20年度(2008)","21年度(2009)","22年度(2010)","23年度(2011)","24年度(2012)","25年度(2013)","26年度(2014)","27年度(2015)","28年度(2016)","29年度(2017)","30年度(2018)","31/1年度\n(2019)","2年度\n(2020)","3年度\n(2021)","4年度\n(2022)","5年度\n(2023)","6年度\n(2024)","燃料等\n監視点","計量器の種類","検定等の有無","入力方法","14年度(2002)","15年度(2003)","16年度(2004)","17年度(2005)","18年度(2006)","19年度(2007)","20年度(2008)","21年度(2009)","22年度(2010)","23年度(2011)","24年度(2012)","25年度(2013)","26年度(2014)","27年度(2015)","28年度(2016)","29年度(2017)","30年度(2018)","31/1年度\n(2019)","2年度\n(2020)","3年度\n(2021)","4年度\n(2022)","5年度\n(2023)","6年度\n(2024)","14年度(2002)","15年度(2003)","16年度(2004)","17年度(2005)","18年度(2006)","19年度(2007)","20年度(2008)","21年度(2009)","22年度(2010)","23年度(2011)","24年度(2012)","25年度(2013)","26年度(2014)","27年度(2015)","28年度(2016)","29年度(2017)","30年度(2018)","31/1年度\n(2019)","2年度\n(2020)","3年度\n(2021)","4年度\n(2022)","5年度\n(2023)","6年度\n(2024)",null,"単位","14年度(2002)","15年度(2003)","16年度(2004)","17年度(2005)","18年度(2006)","19年度(2007)","20年度(2008)","21年度(2009)","22年度(2010)","23年度(2011)","24年度(2012)","25年度(2013)","26年度(2014)","27年度(2015)","28年度(2016)","29年度(2017)","30年度(2018)","31/1年度\n(2019)","2年度\n(2020)","3年度\n(2021)","4年度\n(2022)","5年度\n(2023)","6年度\n(2024)","14年度(2002)","15年度(2003)","16年度(2004)","17年度(2005)","18年度(2006)","19年度(2007)","20年度(2008)","21年度(2009)","22年度(2010)","23年度(2011)","24年度(2012)","25年度(2013)","26年度(2014)","27年度(2015)","28年度(2016)","29年度(2017)","30年度(2018)","31/1年度\n(2019)","2年度\n(2020)","3年度\n(2021)","4年度\n(2022)","5年度\n(2023)","6年度\n(2024)","14年度(2002)","15年度(2003)","16年度(2004)","17年度(2005)","18年度(2006)","19年度(2007)","20年度(2008)","21年度(2009)","22年度(2010)","23年度(2011)","24年度(2012)","25年度(2013)","26年度(2014)","27年度(2015)","28年度(2016)","29年度(2017)","30年度(2018)","31/1年度\n(2019)","2年度\n(2020)","3年度\n(2021)","4年度\n(2022)","5年度\n(2023)","6年度\n(2024)","14年度(2002)","15年度(2003)","16年度(2004)","17年度(2005)","18年度(2006)","19年度(2007)","20年度(2008)","21年度(2009)","22年度(2010)","23年度(2011)","24年度(2012)","25年度(2013)","26年度(2014)","27年度(2015)","28年度(2016)","29年度(2017)","30年度(2018)","31/1年度\n(2019)","2年度\n(2020)","3年度\n(2021)","4年度\n(2022)","5年度\n(2023)","6年度\n(2024)"]
[null,null,"燃料","原油（コンデンセートを除く）",null,null,"L",null,null,null,null,null,null,null,null,null,null,null,null,null,null,null,null,null,null,null,null,null,null,null,null,null,null,null,null,null,null,null,null,null,null,null,null,null,null,null,null,null,null,null,null,null,null,null,null,null,null,null,null,null,null,{"$f":"H14_事業所内使用量-H14_算定外使用量","v":0},{"$f":"H15_事業所内使用量-H15_算定外使用量","v":0},{"$f":"H16_事業所内使用量-H16_算定外使用量","v":0},{"$f":"H17_事業所内使用量-H17_算定外使用量","v":0},{"$f":"H18_事業所内使用量-H18_算定外使用量","v":0},{"$f":"H19_事業所内使用量-H19_算定外使用量","v":0},{"$f":"H20_事業所内使用量-H20_算定外使用量","v":0},{"$f":"H21_事業所内使用量-H21_算定外使用量","v":0},{"$f":"H22_事業所内使用量-H22_算定外使用量","v":0},{"$f":"H23_事業所内使用量-H23_算定外使用量","v":0},{"$f":"H24_事業所内使用量-H24_算定外使用量","v":0},{"$f":"H25_事業所内使用量-H25_算定外使用量","v":0},{"$f":"H26_事業所内使用量-H26_算定外使用量","v":0},{"$f":"H27_事業所内使用量-H27_算定外使用量","v":0},{"$f":"H28_事業所内使用量-H28_算定外使用量","v":0},{"$f":"H29_事業所内使用量-H29_算定外使用量","v":0},{"$f":"H30_事業所内使用量-H30_算定外使用量","v":0},{"$f":"AC6-BD6","v":0},{"$f":"AD6-BE6","v":0},0,0,0,0,{"$f":"VLOOKUP($G6,$GB$6:$GC$15,2,FALSE)","v":1000},"ｋL",{"$f":"ROUND(H14_控除後使用量/単位補正２,0)","v":0},{"$f":"ROUND(H15_控除後使用量/単位補正２,0)","v":0},{"$f":"ROUND(H16_控除後使用量/単位補正２,0)","v":0},{"$f":"ROUND(H17_控除後使用量/単位補正２,0)","v":0},{"$f":"ROUND(H18_控除後使用量/単位補正２,0)","v":0},{"$f":"ROUND(H19_控除後使用量/単位補正２,0)","v":0},{"$f":"ROUND(H20_控除後使用量/単位補正２,0)","v":0},{"$f":"ROUND(H21_控除後使用量/単位補正２,0)","v":0},{"$f":"ROUND(H22_控除後使用量/単位補正２,0)","v":0},{"$f":"ROUND(H23_控除後使用量/単位補正２,0)","v":0},{"$f":"ROUND(H24_控除後使用量/単位補正２,0)","v":0},{"$f":"ROUND(H25_控除後使用量/単位補正２,0)","v":0},{"$f":"ROUND(H26_控除後使用量/単位補正２,0)","v":0},{"$f":"ROUND(H27_控除後使用量/単位補正２,0)","v":0},{"$f":"ROUND(H28_控除後使用量/単位補正２,0)","v":0},{"$f":"ROUND(H29_控除後使用量/単位補正２,0)","v":0},{"$f":"ROUND(H30_控除後使用量/単位補正２,0)","v":0},{"$f":"ROUND(CA6/単位補正２,0)","v":0},{"$f":"ROUND(CB6/単位補正２,0)","v":0},{"$f":"ROUND(CC6/単位補正２,0)","v":0},{"$f":"ROUND(CD6/単位補正２,0)","v":0},{"$f":"ROUND(CE6/単位補正２,0)","v":0},{"$f":"ROUND(CF6/単位補正２,0)","v":0},{"$f":"CI6*$FW6","v":0},{"$f":"CJ6*$FW6","v":0},{"$f":"CK6*$FW6","v":0},{"$f":"CL6*$FW6","v":0},{"$f":"CM6*$FW6","v":0},{"$f":"CN6*$FW6","v":0},{"$f":"CO6*$FW6","v":0},{"$f":"CP6*$FW6","v":0},{"$f":"CQ6*$FW6","v":0},{"$f":"CR6*$FW6","v":0},{"$f":"CS6*$FW6","v":0},{"$f":"CT6*$FW6","v":0},{"$f":"CU6*$FW6","v":0},{"$f":"CV6*$FW6","v":0},{"$f":"CW6*$FW6","v":0},{"$f":"CX6*$FW6","v":0},{"$f":"CY6*$FW6","v":0},{"$f":"CZ6*$FW6","v":0},{"$f":"DA6*$FW6","v":0},{"$f":"DB6*$FW6","v":0},{"$f":"DC6*$FW6","v":0},{"$f":"DD6*$FW6","v":0},{"$f":"DE6*$FW6","v":0},{"$f":"DF6*$GC$19","v":0},{"$f":"DG6*$GC$19","v":0},{"$f":"DH6*$GC$19","v":0},{"$f":"DI6*$GC$19","v":0},{"$f":"DJ6*$GC$19","v":0},{"$f":"DK6*$GC$19","v":0},{"$f":"DL6*$GC$19","v":0},{"$f":"DM6*$GC$19","v":0},{"$f":"DN6*$GC$19","v":0},{"$f":"DO6*$GC$19","v":0},{"$f":"DP6*$GC$19","v":0},{"$f":"DQ6*$GC$19","v":0},{"$f":"DR6*$GC$19","v":0},{"$f":"DS6*$GC$19","v":0},{"$f":"DT6*$GC$19","v":0},{"$f":"DU6*$GC$19","v":0},{"$f":"DV6*$GC$19","v":0},{"$f":"DW6*$GC$19","v":0},{"$f":"DX6*$GC$19","v":0},0,0,0,0,{"$f":"DF6*$FY6*44/12","v":0},{"$f":"DG6*$FY6*44/12","v":0},{"$f":"DH6*$FY6*44/12","v":0},{"$f":"DI6*$FY6*44/12","v":0},{"$f":"DJ6*$FY6*44/12","v":0},{"$f":"DK6*$FY6*44/12","v":0},{"$f":"DL6*$FY6*44/12","v":0},{"$f":"DM6*$FY6*44/12","v":0},{"$f":"DN6*$FY6*44/12","v":0},{"$f":"DO6*$FY6*44/12","v":0},{"$f":"DP6*$FY6*44/12","v":0},{"$f":"DQ6*$FY6*44/12","v":0},{"$f":"DR6*$FY6*44/12","v":0},{"$f":"DS6*$FY6*44/12","v":0},{"$f":"DT6*$FY6*44/12","v":0},{"$f":"DU6*$FY6*44/12","v":0},{"$f":"DV6*$FY6*44/12","v":0},{"$f":"DW6*$FY6*44/12","v":0},{"$f":"DX6*$FY6*44/12","v":0},0,0,0,0,38.200000000000003,"GJ/kL",1.8700000000000001E-2,"t-C/GJ",null,"L",1000]
[null,null,null,"原油のうちコンデンセート（ＮＧＬ）",null,null,"L",null,null,null,null,null,null,null,null,null,null,null,null,null,null,null,null,null,null,null,null,null,null,null,null,null,null,null,null,null,null,null,null,null,null,null,null,null,null,null,null,null,null,null,null,null,null,null,null,null,null,null,null,null,null,0,0,0,0,0,0,0,0,0,0,0,0,0,0,0,0,0,{"$f":"AC7-BD7","v":0},0,0,0,0,0,1000,"ｋL",0,0,0,0,0,0,0,0,0,0,0,0,0,0,0,0,0,0,0,0,0,0,0,0,0,0,0,0,0,0,0,0,0,0,0,0,0,0,0,0,0,0,0,0,0,0,0,0,0,0,0,0,0,0,0,0,0,0,0,0,0,0,0,0,0,0,0,0,0,0,0,0,0,0,0,0,0,0,0,0,0,0,0,0,0,0,0,0,0,0,0,0,35.299999999999997,"GJ/kL",1.84E-2,"t-C/GJ",null,"kL",1]
[null,null,null,"揮発油（ガソリン）",null,null,"kL",null,null,null,null,null,null,null,null,null,null,null,null,null,null,null,null,null,null,null,null,null,null,null,null,null,null,null,null,null,null,null,null,null,null,null,null,null,null,null,null,null,null,null,null,null,null,null,null,null,null,null,null,null,null,0,0,0,0,0,0,0,0,0,0,0,0,0,0,0,0,0,0,0,0,0,0,0,1,"ｋL",0,0,0,0,0,0,0,0,0,0,0,0,0,0,0,0,0,0,0,0,0,0,0,0,0,0,0,0,0,0,0,0,0,0,0,0,0,0,0,0,0,0,0,0,0,0,0,0,0,0,0,0,0,0,0,0,0,0,0,0,0,0,0,0,0,0,0,0,0,0,0,0,0,0,0,0,0,0,0,0,0,0,0,0,0,0,0,0,0,0,0,0,34.6,"GJ/kL",1.83E-2,"t-C/GJ",null,"kg",1000]
[null,null,null,"ナフサ",null,null,"L",null,null,null,null,null,null,null,null,null,null,null,null,null,null,null,null,null,null,null,null,null,null,null,null,null,null,null,null,null,null,null,null,null,null,null,null,null,null,null,null,null,null,null,null,null,null,null,null,null,null,null,null,null,null,0,0,0,0,0,0,0,0,0,0,0,0,0,0,0,0,0,0,0,0,0,0,0,1000,"ｋL",0,0,0,0,0,0,0,0,0,0,0,0,0,0,0,0,0,0,0,0,0,0,0,0,0,0,0,0,0,0,0,0,0,0,0,0,0,0,0,0,0,0,0,0,0,0,0,0,0,0,0,0,0,0,0,0,0,0,0,0,0,0,0,0,0,0,0,0,0,0,0,0,0,0,0,0,0,0,0,0,0,0,0,0,0,0,0,0,0,0,0,0,33.6,"GJ/kL",1.8200000000000001E-2,"t-C/GJ",null,"t",1]
[null,null,null,"灯油",null,null,"L",null,null,null,null,null,null,null,null,null,null,null,null,null,null,null,null,null,null,null,null,null,null,null,null,null,null,null,null,null,null,null,null,null,null,null,null,null,null,null,null,null,null,null,null,null,null,null,null,null,null,null,null,null,null,0,0,0,0,0,0,0,0,0,0,0,0,0,0,0,0,0,0,0,0,0,0,0,1000,"ｋL",0,0,0,0,0,0,0,0,0,0,0,0,0,0,0,0,0,0,0,0,0,0,0,0,0,0,0,0,0,0,0,0,0,0,0,0,0,0,0,0,0,0,0,0,0,0,0,0,0,0,0,0,0,0,0,0,0,0,0,0,0,0,0,0,0,0,0,0,0,0,0,0,0,0,0,0,0,0,0,0,0,0,0,0,0,0,0,0,0,0,0,0,36.700000000000003,"GJ/kL",1.8499999999999999E-2,"t-C/GJ",null,"Nm3",1000]
[null,null,null,"軽油",null,null,"L",null,null,null,null,null,null,null,null,null,null,null,null,null,null,null,null,null,null,null,null,null,null,null,null,null,null,null,null,null,null,null,null,null,null,null,null,null,null,null,null,null,null,null,null,null,null,null,null,null,null,null,null,null,null,0,0,0,0,0,0,0,0,0,0,0,0,0,0,0,0,0,0,0,0,0,0,0,1000,"ｋL",0,0,0,0,0,0,0,0,0,0,0,0,0,0,0,0,0,0,0,0,0,0,0,0,0,0,0,0,0,0,0,0,0,0,0,0,0,0,0,0,0,0,0,0,0,0,0,0,0,0,0,0,0,0,0,0,0,0,0,0,0,0,0,0,0,0,0,0,0,0,0,0,0,0,0,0,0,0,0,0,0,0,0,0,0,0,0,0,0,0,0,0,37.700000000000003,"GJ/kL",1.8700000000000001E-2,"t-C/GJ",null,"千Nｍ3",1]
[null,null,null,"Ａ重油",null,null,"L",null,null,null,null,null,null,null,null,null,null,null,null,null,null,null,null,null,null,null,null,null,null,null,null,null,null,null,null,null,null,null,null,null,null,null,null,null,null,null,null,null,null,null,null,null,null,null,null,null,null,null,null,null,null,0,0,0,0,0,0,0,0,0,{"$f":"H23_事業所内使用量-H23_算定外使用量","v":0},{"$f":"H24_事業所内使用量-H24_算定外使用量","v":0},{"$f":"H25_事業所内使用量-H25_算定外使用量","v":0},0,0,0,0,0,0,0,0,0,0,0,1000,"ｋL",{"$f":"ROUND(H14_控除後使用量/単位補正２,0)","v":0},{"$f":"ROUND(H15_控除後使用量/単位補正２,0)","v":0},{"$f":"ROUND(H16_控除後使用量/単位補正２,0)","v":0},{"$f":"ROUND(H17_控除後使用量/単位補正２,0)","v":0},{"$f":"ROUND(H18_控除後使用量/単位補正２,0)","v":0},{"$f":"ROUND(H19_控除後使用量/単位補正２,0)","v":0},{"$f":"ROUND(H20_控除後使用量/単位補正２,0)","v":0},{"$f":"ROUND(H21_控除後使用量/単位補正２,0)","v":0},{"$f":"ROUND(H22_控除後使用量/単位補正２,0)","v":0},{"$f":"ROUND(H23_控除後使用量/単位補正２,0)","v":0},{"$f":"ROUND(H24_控除後使用量/単位補正２,0)","v":0},{"$f":"ROUND(H25_控除後使用量/単位補正２,0)","v":0},0,0,0,0,0,0,0,0,0,0,0,0,0,0,0,0,0,0,0,0,0,0,0,0,0,0,0,0,0,0,0,0,0,0,0,0,0,0,0,0,0,0,0,0,0,0,0,0,0,0,0,0,0,0,0,0,0,0,0,0,0,0,0,0,0,0,0,0,0,0,0,0,0,0,0,0,0,0,0,0,39.1,"GJ/kL",1.89E-2,"t-C/GJ",null,"MJ",1000]
[null,null,null,"Ｂ・Ｃ重油",null,null,"L",null,null,null,null,null,null,null,null,null,null,null,null,null,null,null,null,null,null,null,null,null,null,null,null,null,null,null,null,null,null,null,null,null,null,null,null,null,null,null,null,null,null,null,null,null,null,null,null,null,null,null,null,null,null,0,0,0,0,0,0,0,0,0,0,0,0,0,0,0,0,0,0,0,0,0,0,0,1000,"ｋL",0,0,0,0,0,0,0,0,0,0,0,0,0,0,0,0,0,0,0,0,0,0,0,0,0,0,0,0,0,0,0,0,0,0,0,0,0,0,0,0,0,0,0,0,0,0,0,0,0,0,0,0,0,0,0,0,0,0,0,0,0,0,0,0,0,0,0,0,0,0,0,0,0,0,0,0,0,0,0,0,0,0,0,0,0,0,0,0,0,0,0,0,41.9,"GJ/kL",1.95E-2,"t-C/GJ",null,"GJ",1]
[null,null,null,"石油アスファルト",null,null,"kg",null,null,null,null,null,null,null,null,null,null,null,null,null,null,null,null,null,null,null,null,null,null,null,null,null,null,null,null,null,null,null,null,null,null,null,null,null,null,null,null,null,null,null,null,null,null,null,null,null,null,null,null,null,null,0,0,0,0,0,0,0,0,0,0,0,0,0,0,0,0,0,0,0,0,0,0,0,1000,"ｔ",0,0,0,0,0,0,0,0,0,0,{"$f":"ROUND(H24_控除後使用量/単位補正２,0)","v":0},0,0,0,0,0,0,0,0,0,0,0,0,0,0,0,0,0,0,0,0,0,0,0,0,0,0,0,0,0,0,0,0,0,0,0,0,0,0,0,0,0,0,0,0,0,0,0,0,0,0,0,0,0,0,0,0,0,0,0,0,0,0,0,0,0,0,0,0,0,0,0,0,0,0,0,0,0,0,0,0,0,40.9,"GJ/t",2.0799999999999999E-2,"t-C/GJ",null,"m3",1000]
[null,null,null,"石油コークス",null,null,"kg",null,null,null,null,null,null,null,null,null,null,null,null,null,null,null,null,null,null,null,null,null,null,null,null,null,null,null,null,null,null,null,null,null,null,null,null,null,null,null,null,null,null,null,null,null,null,null,null,null,null,null,null,null,null,0,0,0,0,0,0,0,0,0,0,0,0,0,0,0,0,0,0,0,0,0,0,0,1000,"ｔ",0,0,0,0,0,0,0,0,0,0,0,0,0,0,0,0,0,0,0,0,0,0,0,0,0,0,0,0,0,0,0,0,0,0,0,0,0,0,0,0,0,0,0,0,0,0,0,0,0,0,0,0,0,0,0,0,0,0,0,0,0,0,0,0,0,0,0,0,0,0,0,0,0,0,0,0,0,0,0,0,0,0,0,0,0,0,0,0,0,0,0,0,29.9,"GJ/t",2.5399999999999999E-2,"t-C/GJ",null,"千m3",1]
[null,null,null,"石油ガス","液化石油ガス（ＬＰＧ）",null,"t",null,null,null,null,{"$f":"'１．燃料単位換算(建物系)'!AG31","v":0},{"$f":"'１．燃料単位換算(建物系)'!AH31","v":0},{"$f":"'１．燃料単位換算(建物系)'!AI31","v":0},{"$f":"'１．燃料単位換算(建物系)'!AJ31","v":0},{"$f":"'１．燃料単位換算(建物系)'!AK31","v":0},{"$f":"'１．燃料単位換算(建物系)'!AL31","v":0},{"$f":"'１．燃料単位換算(建物系)'!AM31","v":0},{"$f":"'１．燃料単位換算(建物系)'!AN31","v":0},{"$f":"'１．燃料単位換算(建物系)'!AO31","v":0},{"$f":"'１．燃料単位換算(建物系)'!AP31","v":0},{"$f":"'１．燃料単位換算(建物系)'!AQ31","v":0},{"$f":"'１．燃料単位換算(建物系)'!AR31","v":0},{"$f":"'１．燃料単位換算(建物系)'!AS31","v":0},{"$f":"'１．燃料単位換算(建物系)'!AT31","v":0},{"$f":"'１．燃料単位換算(建物系)'!AU31","v":0},{"$f":"'１．燃料単位換算(建物系)'!AV31","v":0},{"$f":"'１．燃料単位換算(建物系)'!AW31","v":0},{"$f":"'１．燃料単位換算(建物系)'!AX31","v":0},{"$f":"'１．燃料単位換算(建物系)'!AY31","v":0},{"$f":"'１．燃料単位換算(建物系)'!AZ31","v":0},{"$f":"'１．燃料単位換算(建物系)'!BA31","v":0},{"$f":"'１．燃料単位換算(建物系)'!BB31","v":0},{"$f":"'１．燃料単位換算(建物系)'!BC31","v":0},null,null,null,null,null,null,null,null,null,null,null,null,null,null,null,null,null,null,null,null,null,null,null,null,null,null,null,0,0,0,0,0,0,0,0,0,0,0,0,0,0,0,0,0,0,0,0,0,0,0,1,"ｔ",0,0,0,0,0,0,0,0,0,0,0,0,0,0,0,0,0,0,0,0,0,0,0,0,0,0,0,0,0,0,0,0,0,0,0,0,0,0,0,0,0,0,0,0,0,0,0,0,0,0,0,0,0,0,0,0,0,0,0,0,0,0,0,0,0,0,0,0,0,0,0,0,0,0,0,0,0,0,0,0,0,0,0,0,0,0,0,0,0,0,0,0,50.8,"GJ/t",1.61E-2,"t-C/GJ",null,"kWh",1000]
[null,null,null,null,"石油系炭化水素ガス",null,"Nm3",null,null,null,null,null,null,null,null,null,null,null,null,null,null,null,null,null,null,null,null,null,null,null,null,null,null,null,null,null,null,null,null,null,null,null,null,null,null,null,null,null,null,null,null,null,null,null,null,null,null,null,null,null,null,0,0,0,0,0,0,0,0,0,0,0,0,0,0,0,0,0,0,0,0,0,0,0,1000,"千N㎥",0,0,0,0,{"$f":"ROUND(H18_控除後使用量/単位補正２,0)","v":0},0,0,0,0,0,0,0,0,0,0,0,0,0,0,0,0,0,0,0,0,0,0,0,0,0,0,0,0,0,0,0,0,0,0,0,0,0,0,0,0,0,0,0,0,0,0,0,0,0,0,0,0,0,0,0,0,0,0,0,0,0,0,0,0,0,0,0,0,0,0,0,0,0,0,0,0,0,0,0,0,0,0,0,0,0,0,0,44.9,"GJ\n/千Nｍ3",1.4200000000000001E-2,"t-C/GJ",null,"千kWh",1]
[null,null,null,"可燃性\n天然ガス","液化天然ガス（LNG)",null,"kg",null,null,null,null,null,null,null,null,null,null,null,null,null,null,null,null,null,null,null,null,null,null,null,null,null,null,null,null,null,null,null,null,null,null,null,null,null,null,null,null,null,null,null,null,null,null,null,null,null,null,null,null,null,null,0,0,0,0,0,0,0,0,0,0,0,0,0,0,0,0,0,0,0,0,0,0,0,1000,"ｔ",0,0,0,0,0,0,0,0,0,0,0,0,0,0,0,0,0,0,0,0,0,0,0,0,0,0,0,0,0,0,0,0,0,0,0,0,0,0,0,0,0,0,0,0,0,0,0,0,0,0,0,0,0,0,0,0,0,0,0,0,0,0,0,0,0,0,0,0,0,0,0,0,0,0,0,0,0,0,0,0,0,0,0,0,0,0,0,0,0,0,0,0,54.6,"GJ/t",1.35E-2,"t-C/GJ"]
[null,null,null,null,"その他可燃性天然ガス",null,"t",null,null,null,null,{"$f":"'１．燃料単位換算(建物系)'!AG39","v":0},{"$f":"'１．燃料単位換算(建物系)'!AH39","v":0},{"$f":"'１．燃料単位換算(建物系)'!AI39","v":0},{"$f":"'１．燃料単位換算(建物系)'!AJ39","v":0},{"$f":"'１．燃料単位換算(建物系)'!AK39","v":0},{"$f":"'１．燃料単位換算(建物系)'!AL39","v":0},{"$f":"'１．燃料単位換算(建物系)'!AM39","v":0},{"$f":"'１．燃料単位換算(建物系)'!AN39","v":0},{"$f":"'１．燃料単位換算(建物系)'!AO39","v":0},{"$f":"'１．燃料単位換算(建物系)'!AP39","v":0},{"$f":"'１．燃料単位換算(建物系)'!AQ39","v":0},{"$f":"'１．燃料単位換算(建物系)'!AR39","v":0},{"$f":"'１．燃料単位換算(建物系)'!AS39","v":0},{"$f":"'１．燃料単位換算(建物系)'!AT39","v":0},{"$f":"'１．燃料単位換算(建物系)'!AU39","v":0},{"$f":"'１．燃料単位換算(建物系)'!AV39","v":0},{"$f":"'１．燃料単位換算(建物系)'!AW39","v":0},{"$f":"'１．燃料単位換算(建物系)'!AX39","v":0},{"$f":"'１．燃料単位換算(建物系)'!AY39","v":0},{"$f":"'１．燃料単位換算(建物系)'!AZ39","v":0},{"$f":"'１．燃料単位換算(建物系)'!BA39","v":0},{"$f":"'１．燃料単位換算(建物系)'!BB39","v":0},{"$f":"'１．燃料単位換算(建物系)'!BC39","v":0},null,null,null,null,null,null,null,null,null,null,null,null,null,null,null,null,null,null,null,null,null,null,null,null,null,null,null,0,0,0,0,0,0,0,0,0,0,0,0,0,0,0,0,0,0,0,0,0,0,0,1,"千N㎥",0,0,0,0,0,0,0,0,0,0,0,0,0,0,0,0,0,0,0,0,0,0,0,0,0,0,0,0,0,0,0,0,0,0,0,0,0,0,0,0,0,0,0,0,0,0,0,0,0,0,0,0,0,0,0,0,0,0,0,0,0,0,0,0,0,0,0,0,0,0,0,0,0,0,0,0,0,0,0,0,0,0,0,0,0,0,0,0,0,0,0,0,43.5,"GJ\n/千Nｍ3",1.3899999999999999E-2,"t-C/GJ",null,null,2.58E-2,"ｋL/GJ"]
[null,null,null,"石炭","原料炭",null,"kg",null,null,null,null,null,null,null,null,null,null,null,null,null,null,null,null,null,null,null,null,null,null,null,null,null,null,null,null,null,null,null,null,null,null,null,null,null,null,null,null,null,null,null,null,null,null,null,null,null,null,null,null,null,null,0,0,0,0,0,0,0,0,0,0,0,0,0,0,0,0,0,0,0,0,0,0,0,1000,"ｔ",0,0,0,0,0,0,0,0,0,0,0,0,0,0,0,0,0,0,0,0,0,0,0,0,0,0,0,0,0,0,0,0,0,0,0,0,0,0,0,0,0,0,0,0,0,0,0,0,0,0,0,0,0,0,0,0,0,0,0,0,0,0,0,0,0,0,0,0,0,0,0,0,0,0,0,0,0,0,0,0,0,0,0,0,0,0,0,0,0,0,0,0,29,"GJ/t",2.4500000000000001E-2,"t-C/GJ"]
[null,null,null,null,"一般炭",null,"kg",null,null,null,null,null,null,null,null,null,null,null,null,null,null,null,null,null,null,null,null,null,null,null,null,null,null,null,null,null,null,null,null,null,null,null,null,null,null,null,null,null,null,null,null,null,null,null,null,null,null,null,null,null,null,0,0,0,0,0,0,0,0,0,0,0,0,0,0,0,0,0,0,0,0,0,0,0,1000,"ｔ",0,0,0,0,0,0,0,0,0,0,0,0,0,0,0,0,0,0,0,0,0,0,0,0,0,0,0,0,0,0,0,0,0,0,0,0,0,0,0,0,0,0,0,0,0,0,0,0,0,0,0,0,0,0,0,0,0,0,0,0,0,0,0,0,0,0,0,0,0,0,0,0,0,0,0,0,0,0,0,0,0,0,0,0,0,0,0,0,0,0,0,0,25.7,"GJ/t",2.47E-2,"t-C/GJ"]
[null,null,null,null,"無煙炭",null,"kg",null,null,null,null,null,null,null,null,null,null,null,null,null,null,null,null,null,null,null,null,null,null,null,null,null,null,null,null,null,null,null,null,null,null,null,null,null,null,null,null,null,null,null,null,null,null,null,null,null,null,null,null,null,null,0,0,0,0,0,0,0,0,0,0,0,0,0,0,0,0,0,0,{"$f":"AD22-BE22","v":0},{"$f":"AE22-BF22","v":0},{"$f":"AF22-BG22","v":0},{"$f":"AG22-BH22","v":0},{"$f":"AH22-BI22","v":0},1000,"ｔ",0,0,0,0,0,0,0,0,0,0,0,0,0,0,0,0,0,0,0,0,0,0,0,0,0,0,0,0,0,0,0,0,0,0,0,0,0,0,0,0,0,0,0,0,0,0,0,0,0,0,0,0,0,0,0,0,0,0,0,0,0,0,0,0,{"$f":"DX22*$GC$19","v":0},0,0,0,0,0,0,0,0,0,0,0,0,0,0,0,0,0,0,0,0,0,0,{"$f":"DX22*$FY22*44/12","v":0},0,0,0,0,26.9,"GJ/t",2.5499999999999998E-2,"t-C/GJ"]
[null,null,null,"石炭コークス",null,null,"kg",null,null,null,null,null,null,null,null,null,null,null,null,null,null,null,null,null,null,null,null,null,null,null,null,null,null,null,null,null,null,null,null,null,null,null,null,null,null,null,null,null,null,null,null,null,null,null,null,null,null,null,null,null,null,0,0,0,0,0,0,0,0,0,0,0,0,0,0,0,0,0,0,0,0,0,0,0,1000,"ｔ",0,0,0,0,0,0,0,0,0,0,0,0,0,0,0,0,0,0,0,0,0,0,0,0,0,0,0,0,0,0,0,0,0,0,0,0,0,0,0,0,0,0,0,0,0,0,0,0,0,0,0,0,0,0,0,0,0,0,0,0,0,0,0,0,0,0,0,0,0,0,0,0,0,0,0,0,0,0,0,0,0,0,0,0,0,0,0,0,0,0,0,0,29.4,"GJ/t",2.9399999999999999E-2,"t-C/GJ"]
[null,null,null,"コールタール",null,null,"kg",null,null,null,null,null,null,null,null,null,null,null,null,null,null,null,null,null,null,null,null,null,null,null,null,null,null,null,null,null,null,null,null,null,null,null,null,null,null,null,null,null,null,null,null,null,null,null,null,null,null,null,null,null,null,0,0,0,0,0,0,0,0,0,0,0,0,0,0,0,0,0,0,0,0,0,0,0,1000,"ｔ",0,0,0,0,0,0,0,0,0,0,0,0,0,0,0,0,0,0,0,0,0,0,0,0,0,0,0,0,0,0,0,0,0,0,0,0,0,0,0,0,0,0,0,0,0,0,0,0,0,0,0,0,0,0,0,0,0,0,0,0,0,0,0,0,0,0,0,0,0,0,0,0,0,0,0,0,0,0,0,0,0,0,0,0,0,0,0,0,0,0,0,0,37.299999999999997,"GJ/t",2.0899999999999998E-2,"t-C/GJ"]
[null,null,null,"コークス炉ガス",null,null,"千Nｍ3",null,null,null,null,{"$f":"'１．燃料単位換算(建物系)'!AG42","v":0},{"$f":"'１．燃料単位換算(建物系)'!AH42","v":0},{"$f":"'１．燃料単位換算(建物系)'!AI42","v":0},{"$f":"'１．燃料単位換算(建物系)'!AJ42","v":0},{"$f":"'１．燃料単位換算(建物系)'!AK42","v":0},{"$f":"'１．燃料単位換算(建物系)'!AL42","v":0},{"$f":"'１．燃料単位換算(建物系)'!AM42","v":0},{"$f":"'１．燃料単位換算(建物系)'!AN42","v":0},{"$f":"'１．燃料単位換算(建物系)'!AO42","v":0},{"$f":"'１．燃料単位換算(建物系)'!AP42","v":0},{"$f":"'１．燃料単位換算(建物系)'!AQ42","v":0},{"$f":"'１．燃料単位換算(建物系)'!AR42","v":0},{"$f":"'１．燃料単位換算(建物系)'!AS42","v":0},{"$f":"'１．燃料単位換算(建物系)'!AT42","v":0},{"$f":"'１．燃料単位換算(建物系)'!AU42","v":0},{"$f":"'１．燃料単位換算(建物系)'!AV42","v":0},{"$f":"'１．燃料単位換算(建物系)'!AW42","v":0},{"$f":"'１．燃料単位換算(建物系)'!AX42","v":0},{"$f":"'１．燃料単位換算(建物系)'!AY42","v":0},{"$f":"'１．燃料単位換算(建物系)'!AZ42","v":0},{"$f":"'１．燃料単位換算(建物系)'!BA42","v":0},{"$f":"'１．燃料単位換算(建物系)'!BB42","v":0},{"$f":"'１．燃料単位換算(建物系)'!BC42","v":0},null,null,null,null,null,null,null,null,null,null,null,null,null,null,null,null,null,null,null,null,null,null,null,null,null,null,null,0,0,0,0,0,0,0,0,0,0,0,0,0,0,0,0,0,0,0,0,0,0,0,1,"千N㎥",0,0,0,0,0,0,0,0,0,0,0,0,0,0,0,0,0,0,0,0,0,0,0,0,0,0,0,0,0,0,0,0,0,0,0,0,0,0,0,0,0,0,0,0,0,0,0,0,0,0,0,0,0,0,0,0,0,0,0,0,0,0,0,0,0,0,0,0,0,0,0,0,0,0,0,0,0,0,0,0,0,0,0,0,0,0,0,0,0,0,0,0,21.1,"GJ\n/千Nｍ3",1.0999999999999999E-2,"t-C/GJ"]
[null,null,null,"高炉ガス",null,null,"千Nｍ3",null,null,null,null,{"$f":"'１．燃料単位換算(建物系)'!AG45","v":0},{"$f":"'１．燃料単位換算(建物系)'!AH45","v":0},{"$f":"'１．燃料単位換算(建物系)'!AI45","v":0},{"$f":"'１．燃料単位換算(建物系)'!AJ45","v":0},{"$f":"'１．燃料単位換算(建物系)'!AK45","v":0},{"$f":"'１．燃料単位換算(建物系)'!AL45","v":0},{"$f":"'１．燃料単位換算(建物系)'!AM45","v":0},{"$f":"'１．燃料単位換算(建物系)'!AN45","v":0},{"$f":"'１．燃料単位換算(建物系)'!AO45","v":0},{"$f":"'１．燃料単位換算(建物系)'!AP45","v":0},{"$f":"'１．燃料単位換算(建物系)'!AQ45","v":0},{"$f":"'１．燃料単位換算(建物系)'!AR45","v":0},{"$f":"'１．燃料単位換算(建物系)'!AS45","v":0},{"$f":"'１．燃料単位換算(建物系)'!AT45","v":0},{"$f":"'１．燃料単位換算(建物系)'!AU45","v":0},{"$f":"'１．燃料単位換算(建物系)'!AV45","v":0},{"$f":"'１．燃料単位換算(建物系)'!AW45","v":0},{"$f":"'１．燃料単位換算(建物系)'!AX45","v":0},{"$f":"'１．燃料単位換算(建物系)'!AY45","v":0},{"$f":"'１．燃料単位換算(建物系)'!AZ45","v":0},{"$f":"'１．燃料単位換算(建物系)'!BA45","v":0},{"$f":"'１．燃料単位換算(建物系)'!BB45","v":0},{"$f":"'１．燃料単位換算(建物系)'!BC45","v":0},null,null,null,null,null,null,null,null,null,null,null,null,null,null,null,null,null,null,null,null,null,null,null,null,null,null,null,0,0,0,0,0,0,0,0,0,0,0,0,0,0,0,0,0,0,0,0,0,0,0,1,"千N㎥",0,0,0,0,0,0,0,0,0,0,0,0,0,0,0,0,0,0,0,0,0,0,0,0,0,0,0,0,0,0,0,0,0,0,0,0,0,0,0,0,0,0,0,0,0,0,0,0,0,0,0,0,0,0,0,0,0,0,0,0,0,0,0,0,0,0,0,0,0,0,0,0,0,0,0,0,0,0,0,0,0,0,0,0,0,0,0,0,0,0,0,0,3.41,"GJ\n/千Nｍ3",2.63E-2,"t-C/GJ"]
[null,null,null,"転炉ガス",null,null,"千Nｍ3",null,null,null,null,{"$f":"'１．燃料単位換算(建物系)'!AG48","v":0},{"$f":"'１．燃料単位換算(建物系)'!AH48","v":0},{"$f":"'１．燃料単位換算(建物系)'!AI48","v":0},{"$f":"'１．燃料単位換算(建物系)'!AJ48","v":0},{"$f":"'１．燃料単位換算(建物系)'!AK48","v":0},{"$f":"'１．燃料単位換算(建物系)'!AL48","v":0},{"$f":"'１．燃料単位換算(建物系)'!AM48","v":0},{"$f":"'１．燃料単位換算(建物系)'!AN48","v":0},{"$f":"'１．燃料単位換算(建物系)'!AO48","v":0},{"$f":"'１．燃料単位換算(建物系)'!AP48","v":0},{"$f":"'１．燃料単位換算(建物系)'!AQ48","v":0},{"$f":"'１．燃料単位換算(建物系)'!AR48","v":0},{"$f":"'１．燃料単位換算(建物系)'!AS48","v":0},{"$f":"'１．燃料単位換算(建物系)'!AT48","v":0},{"$f":"'１．燃料単位換算(建物系)'!AU48","v":0},{"$f":"'１．燃料単位換算(建物系)'!AV48","v":0},{"$f":"'１．燃料単位換算(建物系)'!AW48","v":0},{"$f":"'１．燃料単位換算(建物系)'!AX48","v":0},{"$f":"'１．燃料単位換算(建物系)'!AY48","v":0},{"$f":"'１．燃料単位換算(建物系)'!AZ48","v":0},{"$f":"'１．燃料単位換算(建物系)'!BA48","v":0},{"$f":"'１．燃料単位換算(建物系)'!BB48","v":0},{"$f":"'１．燃料単位換算(建物系)'!BC48","v":0},null,null,null,null,null,null,null,null,null,null,null,null,null,null,null,null,null,null,null,null,null,null,null,null,null,null,null,0,0,0,0,0,0,0,0,0,0,0,0,0,0,0,0,0,0,0,0,0,0,0,1,"千N㎥",0,0,0,0,0,0,0,0,0,0,0,0,0,0,0,0,0,0,0,0,0,0,0,0,0,0,0,0,0,0,0,0,0,0,0,0,0,0,0,0,0,0,0,0,0,0,0,0,0,0,0,0,0,0,0,0,0,0,0,0,0,0,0,0,0,0,0,0,0,0,0,0,0,0,0,0,0,0,0,0,0,0,0,0,0,0,0,0,0,0,0,0,8.41,"GJ\n/千Nｍ3",3.8399999999999997E-2,"t-C/GJ"]
[null,null,null,"その他燃料","都市ガス（※）","13A:45MJ/m3","千Nｍ3",null,null,null,null,null,null,null,{"$f":"'１．燃料単位換算(建物系)'!AJ9","v":0},{"$f":"'１．燃料単位換算(建物系)'!AK9","v":0},{"$f":"'１．燃料単位換算(建物系)'!AL9","v":0},{"$f":"'１．燃料単位換算(建物系)'!AM9","v":0},{"$f":"'１．燃料単位換算(建物系)'!AN9","v":0},{"$f":"'１．燃料単位換算(建物系)'!AO9","v":0},{"$f":"'１．燃料単位換算(建物系)'!AP9","v":0},{"$f":"'１．燃料単位換算(建物系)'!AQ9","v":0},{"$f":"'１．燃料単位換算(建物系)'!AR9","v":0},{"$f":"'１．燃料単位換算(建物系)'!AS9","v":0},{"$f":"'１．燃料単位換算(建物系)'!AT9","v":0},{"$f":"'１．燃料単位換算(建物系)'!AU9","v":0},{"$f":"'１．燃料単位換算(建物系)'!AV9","v":0},{"$f":"'１．燃料単位換算(建物系)'!AW9","v":0},{"$f":"'１．燃料単位換算(建物系)'!AX9","v":0},{"$f":"'１．燃料単位換算(建物系)'!AY9","v":0},{"$f":"'１．燃料単位換算(建物系)'!AZ9","v":0},{"$f":"'１．燃料単位換算(建物系)'!BA9","v":0},{"$f":"'１．燃料単位換算(建物系)'!BB9","v":0},{"$f":"'１．燃料単位換算(建物系)'!BC9","v":0},null,null,null,null,null,null,null,null,null,null,null,null,null,null,null,null,null,null,null,null,null,null,null,null,null,null,null,0,0,0,0,0,0,0,0,0,0,0,0,0,0,0,0,0,0,0,0,0,0,0,1,"千N㎥",0,0,0,0,0,0,0,0,0,0,0,0,0,0,0,0,0,0,0,0,0,0,0,0,0,0,0,0,0,0,0,0,0,0,0,0,0,0,0,0,0,0,0,0,0,0,0,0,0,0,0,0,0,0,0,0,0,0,0,0,0,0,0,0,0,0,0,0,0,0,0,0,0,0,0,0,0,0,0,0,0,0,0,0,0,0,0,0,0,0,0,0,45,"GJ\n/千Nｍ3",1.3599999999999999E-2,"t-C/GJ"]
[null,null,null,null,null,"13A:43.12MJ/m3","千Nｍ3",null,null,null,null,{"$f":"'１．燃料単位換算(建物系)'!AG12","v":0},{"$f":"'１．燃料単位換算(建物系)'!AH12","v":0},{"$f":"'１．燃料単位換算(建物系)'!AI12","v":0},{"$f":"'１．燃料単位換算(建物系)'!AJ12","v":0},{"$f":"'１．燃料単位換算(建物系)'!AK12","v":0},{"$f":"'１．燃料単位換算(建物系)'!AL12","v":0},{"$f":"'１．燃料単位換算(建物系)'!AM12","v":0},{"$f":"'１．燃料単位換算(建物系)'!AN12","v":0},{"$f":"'１．燃料単位換算(建物系)'!AO12","v":0},{"$f":"'１．燃料単位換算(建物系)'!AP12","v":0},{"$f":"'１．燃料単位換算(建物系)'!AQ12","v":0},{"$f":"'１．燃料単位換算(建物系)'!AR12","v":0},{"$f":"'１．燃料単位換算(建物系)'!AS12","v":0},{"$f":"'１．燃料単位換算(建物系)'!AT12","v":0},{"$f":"'１．燃料単位換算(建物系)'!AU12","v":0},{"$f":"'１．燃料単位換算(建物系)'!AV12","v":0},{"$f":"'１．燃料単位換算(建物系)'!AW12","v":0},{"$f":"'１．燃料単位換算(建物系)'!AX12","v":0},{"$f":"'１．燃料単位換算(建物系)'!AY12","v":0},{"$f":"'１．燃料単位換算(建物系)'!AZ12","v":0},{"$f":"'１．燃料単位換算(建物系)'!BA12","v":0},{"$f":"'１．燃料単位換算(建物系)'!BB12","v":0},{"$f":"'１．燃料単位換算(建物系)'!BC12","v":0},null,null,null,null,null,null,null,null,null,null,null,null,null,null,null,null,null,null,null,null,null,null,null,null,null,null,null,0,0,0,0,0,0,0,0,0,0,0,0,0,0,0,0,0,0,0,0,0,0,0,1,"千N㎥",0,0,0,0,0,0,0,0,0,0,0,0,0,0,0,0,0,0,0,0,0,0,0,0,0,0,0,0,0,0,0,0,0,0,0,0,0,0,0,0,0,0,0,0,0,0,0,0,0,0,0,0,0,0,0,0,0,0,0,0,0,0,0,0,0,0,0,0,0,0,0,0,0,0,0,0,0,0,0,0,0,0,0,0,0,0,0,0,0,0,0,0,43.12,"GJ\n/千Nｍ3",1.3599999999999999E-2,"t-C/GJ"]
[null,null,null,null,null,"13A:46.04MJ/m3","千Nｍ3",null,null,null,null,{"$f":"'１．燃料単位換算(建物系)'!AG15","v":0},{"$f":"'１．燃料単位換算(建物系)'!AH15","v":0},{"$f":"'１．燃料単位換算(建物系)'!AI15","v":0},{"$f":"'１．燃料単位換算(建物系)'!AJ15","v":0},{"$f":"'１．燃料単位換算(建物系)'!AK15","v":0},{"$f":"'１．燃料単位換算(建物系)'!AL15","v":0},{"$f":"'１．燃料単位換算(建物系)'!AM15","v":0},{"$f":"'１．燃料単位換算(建物系)'!AN15","v":0},{"$f":"'１．燃料単位換算(建物系)'!AO15","v":0},{"$f":"'１．燃料単位換算(建物系)'!AP15","v":0},{"$f":"'１．燃料単位換算(建物系)'!AQ15","v":0},{"$f":"'１．燃料単位換算(建物系)'!AR15","v":0},{"$f":"'１．燃料単位換算(建物系)'!AS15","v":0},{"$f":"'１．燃料単位換算(建物系)'!AT15","v":0},{"$f":"'１．燃料単位換算(建物系)'!AU15","v":0},{"$f":"'１．燃料単位換算(建物系)'!AV15","v":0},{"$f":"'１．燃料単位換算(建物系)'!AW15","v":0},{"$f":"'１．燃料単位換算(建物系)'!AX15","v":0},{"$f":"'１．燃料単位換算(建物系)'!AY15","v":0},{"$f":"'１．燃料単位換算(建物系)'!AZ15","v":0},{"$f":"'１．燃料単位換算(建物系)'!BA15","v":0},{"$f":"'１．燃料単位換算(建物系)'!BB15","v":0},{"$f":"'１．燃料単位換算(建物系)'!BC15","v":0},null,null,null,null,null,null,null,null,null,null,null,null,null,null,null,null,null,null,null,null,null,null,null,null,null,null,null,0,0,0,0,0,0,0,0,0,0,0,0,0,0,0,0,0,0,0,0,0,0,0,1,"千N㎥",0,0,0,0,0,0,0,0,0,0,0,0,0,0,0,0,0,0,0,0,0,0,0,0,0,0,0,0,0,0,0,0,0,0,0,0,0,0,0,0,0,0,0,0,0,0,0,0,0,0,0,0,0,0,0,0,0,0,0,0,0,0,0,0,0,0,0,0,0,0,0,0,0,0,0,0,0,0,0,0,0,0,0,0,0,0,0,0,0,0,0,0,46.04,"GJ\n/千Nｍ3",1.3599999999999999E-2,"t-C/GJ"]
[null,null,null,null,null,"12A:41.86MJ/m3","千Nｍ3",null,null,null,null,{"$f":"'１．燃料単位換算(建物系)'!AG18","v":0},{"$f":"'１．燃料単位換算(建物系)'!AH18","v":0},{"$f":"'１．燃料単位換算(建物系)'!AI18","v":0},{"$f":"'１．燃料単位換算(建物系)'!AJ18","v":0},{"$f":"'１．燃料単位換算(建物系)'!AK18","v":0},{"$f":"'１．燃料単位換算(建物系)'!AL18","v":0},{"$f":"'１．燃料単位換算(建物系)'!AM18","v":0},{"$f":"'１．燃料単位換算(建物系)'!AN18","v":0},{"$f":"'１．燃料単位換算(建物系)'!AO18","v":0},{"$f":"'１．燃料単位換算(建物系)'!AP18","v":0},{"$f":"'１．燃料単位換算(建物系)'!AQ18","v":0},{"$f":"'１．燃料単位換算(建物系)'!AR18","v":0},{"$f":"'１．燃料単位換算(建物系)'!AS18","v":0},{"$f":"'１．燃料単位換算(建物系)'!AT18","v":0},{"$f":"'１．燃料単位換算(建物系)'!AU18","v":0},{"$f":"'１．燃料単位換算(建物系)'!AV18","v":0},{"$f":"'１．燃料単位換算(建物系)'!AW18","v":0},{"$f":"'１．燃料単位換算(建物系)'!AX18","v":0},{"$f":"'１．燃料単位換算(建物系)'!AY18","v":0},{"$f":"'１．燃料単位換算(建物系)'!AZ18","v":0},{"$f":"'１．燃料単位換算(建物系)'!BA18","v":0},{"$f":"'１．燃料単位換算(建物系)'!BB18","v":0},{"$f":"'１．燃料単位換算(建物系)'!BC18","v":0},null,null,null,null,null,null,null,null,null,null,null,null,null,null,null,null,null,null,null,null,null,null,null,null,null,null,null,0,0,0,0,0,0,0,0,0,0,0,0,0,0,0,0,0,0,0,0,0,0,0,1,"千N㎥",0,0,0,0,0,0,0,0,0,0,0,0,0,0,0,0,0,0,0,0,0,0,0,0,0,0,0,0,0,0,0,0,0,0,0,0,0,0,0,0,0,0,0,0,0,0,0,0,0,0,0,0,0,0,0,0,0,0,0,0,0,0,0,0,0,0,0,0,0,0,0,0,0,0,0,0,0,0,0,0,0,0,0,0,0,0,0,0,0,0,0,0,41.86,"GJ\n/千Nｍ3",1.3599999999999999E-2,"t-C/GJ"]
[null,null,null,null,null,"6A:29.30MJ/m3","千Nｍ3",null,null,null,null,{"$f":"'１．燃料単位換算(建物系)'!AG21","v":0},{"$f":"'１．燃料単位換算(建物系)'!AH21","v":0},{"$f":"'１．燃料単位換算(建物系)'!AI21","v":0},{"$f":"'１．燃料単位換算(建物系)'!AJ21","v":0},{"$f":"'１．燃料単位換算(建物系)'!AK21","v":0},{"$f":"'１．燃料単位換算(建物系)'!AL21","v":0},{"$f":"'１．燃料単位換算(建物系)'!AM21","v":0},{"$f":"'１．燃料単位換算(建物系)'!AN21","v":0},{"$f":"'１．燃料単位換算(建物系)'!AO21","v":0},{"$f":"'１．燃料単位換算(建物系)'!AP21","v":0},{"$f":"'１．燃料単位換算(建物系)'!AQ21","v":0},{"$f":"'１．燃料単位換算(建物系)'!AR21","v":0},{"$f":"'１．燃料単位換算(建物系)'!AS21","v":0},{"$f":"'１．燃料単位換算(建物系)'!AT21","v":0},{"$f":"'１．燃料単位換算(建物系)'!AU21","v":0},{"$f":"'１．燃料単位換算(建物系)'!AV21","v":0},{"$f":"'１．燃料単位換算(建物系)'!AW21","v":0},{"$f":"'１．燃料単位換算(建物系)'!AX21","v":0},{"$f":"'１．燃料単位換算(建物系)'!AY21","v":0},{"$f":"'１．燃料単位換算(建物系)'!AZ21","v":0},{"$f":"'１．燃料単位換算(建物系)'!BA21","v":0},{"$f":"'１．燃料単位換算(建物系)'!BB21","v":0},{"$f":"'１．燃料単位換算(建物系)'!BC21","v":0},null,null,null,null,null,null,null,null,null,null,null,null,null,null,null,null,null,null,null,null,null,null,null,null,null,null,null,0,0,0,0,0,0,0,0,0,0,0,0,0,0,0,0,0,0,0,0,0,0,0,1,"千N㎥",0,0,0,0,0,0,0,0,0,0,0,0,0,0,0,0,0,0,0,0,0,0,0,0,0,0,0,0,0,0,0,0,0,0,0,0,0,0,0,0,0,0,0,0,0,0,0,0,0,0,0,0,0,0,0,0,0,0,0,0,0,0,0,0,0,0,0,0,0,0,0,0,0,0,0,0,0,0,0,0,0,0,0,0,0,0,0,0,0,0,0,0,29.3,"GJ\n/千Nｍ3",1.3599999999999999E-2,"t-C/GJ"]
[null,null,null,null,null,null,null,null,null,null,null,null,null,null,null,null,null,null,null,null,null,null,null,null,null,null,null,null,null,null,null,null,null,null,null,null,null,null,null,null,null,null,null,null,null,null,null,null,null,null,null,null,null,null,null,null,null,null,null,null,null,0,0,0,0,0,0,0,0,0,0,0,0,0,0,0,0,0,0,0,0,0,0,0,{"$f":"IF(G33=\"\",\"-\",VLOOKUP($G33,$GB$6:$GC$15,2,FALSE))","v":"-"},null,{"$f":"ROUND(IF($E$33=\"\",0,IF($G$33=\"\",0,H14_控除後使用量/単位補正２)),0)","v":0},{"$f":"ROUND(IF($E$33=\"\",0,IF($G$33=\"\",0,H15_控除後使用量/単位補正２)),0)","v":0},{"$f":"ROUND(IF($E$33=\"\",0,IF($G$33=\"\",0,H16_控除後使用量/単位補正２)),0)","v":0},{"$f":"ROUND(IF($E$33=\"\",0,IF($G$33=\"\",0,H17_控除後使用量/単位補正２)),0)","v":0},{"$f":"ROUND(IF($E$33=\"\",0,IF($G$33=\"\",0,H18_控除後使用量/単位補正２)),0)","v":0},{"$f":"ROUND(IF($E$33=\"\",0,IF($G$33=\"\",0,H19_控除後使用量/単位補正２)),0)","v":0},{"$f":"ROUND(IF($E$33=\"\",0,IF($G$33=\"\",0,H20_控除後使用量/単位補正２)),0)","v":0},{"$f":"ROUND(IF($E$33=\"\",0,IF($G$33=\"\",0,H21_控除後使用量/単位補正２)),0)","v":0},{"$f":"ROUND(IF($E$33=\"\",0,IF($G$33=\"\",0,H22_控除後使用量/単位補正２)),0)","v":0},{"$f":"ROUND(IF($E$33=\"\",0,IF($G$33=\"\",0,H23_控除後使用量/単位補正２)),0)","v":0},{"$f":"ROUND(IF($E$33=\"\",0,IF($G$33=\"\",0,H24_控除後使用量/単位補正２)),0)","v":0},{"$f":"ROUND(IF($E$33=\"\",0,IF($G$33=\"\",0,H25_控除後使用量/単位補正２)),0)","v":0},{"$f":"ROUND(IF($E$33=\"\",0,IF($G$33=\"\",0,H26_控除後使用量/単位補正２)),0)","v":0},{"$f":"ROUND(IF($E$33=\"\",0,IF($G$33=\"\",0,H27_控除後使用量/単位補正２)),0)","v":0},{"$f":"ROUND(IF($E$33=\"\",0,IF($G$33=\"\",0,H28_控除後使用量/単位補正２)),0)","v":0},{"$f":"ROUND(IF($E$33=\"\",0,IF($G$33=\"\",0,H29_控除後使用量/単位補正２)),0)","v":0},{"$f":"ROUND(IF($E$33=\"\",0,IF($G$33=\"\",0,H30_控除後使用量/単位補正２)),0)","v":0},{"$f":"ROUND(IF($E$33=\"\",0,IF($G$33=\"\",0,CA33/単位補正２)),0)","v":0},0,0,0,0,0,0,0,0,0,0,0,0,0,0,0,0,0,0,0,0,0,0,0,0,0,0,0,0,0,0,0,0,0,0,0,0,0,0,0,0,0,0,0,0,0,0,0,0,0,0,0,0,0,0,0,0,0,0,0,0,0,0,0,0,0,0,0,0,0,0,0,0,0,0,null,{"$f":"CONCATENATE(\"GJ/\",GB33)","v":"GJ/"},null,"t-C/GJ",null,{"$f":"IF(G33=\"\",\"\",IF(G33=$GB$6,$GB$7,IF(G33=$GB$8,$GB$9,IF(G33=$GB$10,$GB$11,IF(G33=$GB$12,$GB$13,G33)))))","v":""}]
[null,null,null,null,null,null,null,null,null,null,null,null,null,null,null,null,null,null,null,null,null,null,null,null,null,null,null,null,null,null,null,null,null,null,null,null,null,null,null,null,null,null,null,null,null,null,null,null,null,null,null,null,null,null,null,null,null,null,null,null,null,0,0,0,0,0,0,0,0,0,0,0,0,0,0,0,0,0,0,0,0,0,0,0,{"$f":"IF(G34=\"\",\"-\",VLOOKUP($G34,$GB$6:$GC$15,2,FALSE))","v":"-"},null,{"$f":"ROUND(IF($E$34=\"\",0,IF($G$34=\"\",0,H14_控除後使用量/単位補正２)),0)","v":0},{"$f":"ROUND(IF($E$34=\"\",0,IF($G$34=\"\",0,H15_控除後使用量/単位補正２)),0)","v":0},{"$f":"ROUND(IF($E$34=\"\",0,IF($G$34=\"\",0,H16_控除後使用量/単位補正２)),0)","v":0},{"$f":"ROUND(IF($E$34=\"\",0,IF($G$34=\"\",0,H17_控除後使用量/単位補正２)),0)","v":0},{"$f":"ROUND(IF($E$34=\"\",0,IF($G$34=\"\",0,H18_控除後使用量/単位補正２)),0)","v":0},{"$f":"ROUND(IF($E$34=\"\",0,IF($G$34=\"\",0,H19_控除後使用量/単位補正２)),0)","v":0},{"$f":"ROUND(IF($E$34=\"\",0,IF($G$34=\"\",0,H20_控除後使用量/単位補正２)),0)","v":0},{"$f":"ROUND(IF($E$34=\"\",0,IF($G$34=\"\",0,H21_控除後使用量/単位補正２)),0)","v":0},{"$f":"ROUND(IF($E$34=\"\",0,IF($G$34=\"\",0,H22_控除後使用量/単位補正２)),0)","v":0},{"$f":"ROUND(IF($E$34=\"\",0,IF($G$34=\"\",0,H23_控除後使用量/単位補正２)),0)","v":0},{"$f":"ROUND(IF($E$34=\"\",0,IF($G$34=\"\",0,H24_控除後使用量/単位補正２)),0)","v":0},{"$f":"ROUND(IF($E$34=\"\",0,IF($G$34=\"\",0,H25_控除後使用量/単位補正２)),0)","v":0},{"$f":"ROUND(IF($E$34=\"\",0,IF($G$34=\"\",0,H26_控除後使用量/単位補正２)),0)","v":0},{"$f":"ROUND(IF($E$33=\"\",0,IF($G$33=\"\",0,H27_控除後使用量/単位補正２)),0)","v":0},{"$f":"ROUND(IF($E$33=\"\",0,IF($G$33=\"\",0,H28_控除後使用量/単位補正２)),0)","v":0},{"$f":"ROUND(IF($E$33=\"\",0,IF($G$33=\"\",0,H29_控除後使用量/単位補正２)),0)","v":0},{"$f":"ROUND(IF($E$33=\"\",0,IF($G$33=\"\",0,H30_控除後使用量/単位補正２)),0)","v":0},0,0,0,0,0,0,0,0,0,0,0,0,0,0,0,0,0,0,0,0,0,0,0,0,0,0,0,0,0,0,0,0,0,0,0,0,0,0,0,0,0,0,0,0,0,0,0,0,0,0,0,0,0,0,0,0,0,0,0,0,0,0,0,0,0,0,0,0,0,0,0,0,0,0,0,null,{"$f":"CONCATENATE(\"GJ/\",GB34)","v":"GJ/"},null,"t-C/GJ",null,{"$f":"IF(G34=\"\",\"\",IF(G34=$GB$6,$GB$7,IF(G34=$GB$8,$GB$9,IF(G34=$GB$10,$GB$11,IF(G34=$GB$12,$GB$13,G34)))))","v":""}]
[null,null,null,"小　　計",null,null,null,null,null,null,null,null,null,null,null,null,null,null,null,null,null,null,null,null,null,null,null,null,null,null,null,null,null,null,null,null,null,null,null,null,null,null,null,null,null,null,null,null,null,null,null,null,null,null,null,null,null,null,null,null,null,null,null,null,null,null,null,null,null,null,null,null,null,null,null,null,null,null,null,null,null,null,null,null,null,null,null,null,null,null,null,null,null,null,null,null,null,null,null,null,null,null,null,null,null,null,null,null,null,{"$f":"SUBTOTAL(9,DF6:DF34)","v":0},0,0,0,0,0,0,0,0,0,0,0,0,0,0,0,0,null,null,null,null,null,null,{"$f":"SUBTOTAL(9,EC6:EC34)","v":0},0,0,0,0,0,0,0,0,0,0,0,0,0,0,0,0,null,null,null,null,null,null,{"$f":"SUBTOTAL(9,EZ6:EZ34)","v":0},{"$f":"SUBTOTAL(9,FA6:FA34)","v":0},0,0,0,0,0,0,0,0,0,0,0,0,0,0,0,0,{"$f":"SUBTOTAL(9,FR6:FR34)","v":0},0,0,0,0]
[null,null,"熱","産業用蒸気",null,null,"MJ",null,null,null,null,null,null,null,null,null,null,null,null,null,null,null,null,null,null,null,null,null,null,null,null,null,null,null,null,null,null,null,null,null,null,null,null,null,null,null,null,null,null,null,null,null,null,null,null,null,null,null,null,null,null,0,0,0,0,0,0,0,0,0,0,0,0,0,0,0,0,0,0,{"$f":"AD36-BE36","v":0},{"$f":"AE36-BF36","v":0},{"$f":"AF36-BG36","v":0},{"$f":"AG36-BH36","v":0},{"$f":"AH36-BI36","v":0},{"$f":"VLOOKUP($G36,$GB$6:$GC$15,2,FALSE)","v":1000},"GJ",{"$f":"ROUND(H14_控除後使用量/単位補正２,0)","v":0},{"$f":"ROUND(H15_控除後使用量/単位補正２,0)","v":0},{"$f":"ROUND(H16_控除後使用量/単位補正２,0)","v":0},{"$f":"ROUND(H17_控除後使用量/単位補正２,0)","v":0},{"$f":"ROUND(H18_控除後使用量/単位補正２,0)","v":0},{"$f":"ROUND(H19_控除後使用量/単位補正２,0)","v":0},{"$f":"ROUND(H20_控除後使用量/単位補正２,0)","v":0},{"$f":"ROUND(H21_控除後使用量/単位補正２,0)","v":0},{"$f":"ROUND(H22_控除後使用量/単位補正２,0)","v":0},{"$f":"ROUND(H23_控除後使用量/単位補正２,0)","v":0},{"$f":"ROUND(H24_控除後使用量/単位補正２,0)","v":0},{"$f":"ROUND(H25_控除後使用量/単位補正２,0)","v":0},{"$f":"ROUND(H26_控除後使用量/単位補正２,0)","v":0},{"$f":"ROUND(H27_控除後使用量/単位補正２,0)","v":0},{"$f":"ROUND(H28_控除後使用量/単位補正２,0)","v":0},{"$f":"ROUND(H29_控除後使用量/単位補正２,0)","v":0},{"$f":"ROUND(H30_控除後使用量/単位補正２,0)","v":0},{"$f":"ROUND(CA36/単位補正２,0)","v":0},0,0,0,0,0,{"$f":"CI36*$FW36","v":0},0,0,0,0,0,0,0,0,0,{"$f":"CS36*$FW36","v":0},0,0,0,0,0,0,0,0,0,{"$f":"DC36*$FW36","v":0},0,0,{"$f":"DF36*$GC$19","v":0},0,0,0,0,0,0,0,0,0,{"$f":"DP36*$GC$19","v":0},0,0,0,0,0,0,0,{"$f":"DX36*$GC$19","v":0},0,0,0,0,{"$f":"CI36*$FY36","v":0},0,0,0,0,0,0,0,0,0,{"$f":"CS36*$FY36","v":0},0,0,0,0,0,0,0,{"$f":"DA36*$FY36","v":0},0,0,0,0,1.02,"GJ/GJ",0.06,"t-CO2\n/GJ"]
[null,null,null,"産業用以外の蒸気",null,null,"MJ",null,null,null,null,null,null,null,null,null,null,null,null,null,null,null,null,null,null,null,null,null,null,null,null,null,null,null,null,null,null,null,null,null,null,null,null,null,null,null,null,null,null,null,null,null,null,null,null,null,null,null,null,null,null,0,0,0,0,0,0,0,0,0,0,0,0,0,0,0,0,0,0,0,0,0,0,0,{"$f":"VLOOKUP($G37,$GB$6:$GC$15,2,FALSE)","v":1000},"GJ",0,0,0,0,0,0,0,0,0,0,0,0,0,0,0,0,0,0,0,0,0,0,0,0,0,0,0,0,0,0,0,0,0,0,0,0,0,0,0,0,0,0,0,0,0,0,0,0,0,0,0,0,0,0,0,0,0,0,0,0,0,0,0,0,0,0,0,0,0,0,0,0,0,0,0,0,0,0,0,0,0,0,0,0,0,0,0,0,0,0,0,0,1.36,"GJ/GJ",5.7000000000000002E-2,"t-CO2\n/GJ"]
[null,null,null,"温水",null,null,"MJ",null,null,null,null,null,null,null,null,null,null,null,null,null,null,null,null,null,null,null,null,null,null,null,null,null,null,null,null,null,null,null,null,null,null,null,null,null,null,null,null,null,null,null,null,null,null,null,null,null,null,null,null,null,null,0,0,0,0,0,0,0,0,0,0,0,0,0,0,0,0,0,0,0,0,0,0,0,{"$f":"VLOOKUP($G38,$GB$6:$GC$15,2,FALSE)","v":1000},"GJ",0,0,0,0,0,0,0,0,0,0,0,0,0,0,0,0,0,0,0,0,0,0,0,0,0,0,0,0,0,0,0,0,0,0,0,0,0,0,0,0,0,0,0,0,0,0,0,0,0,0,0,0,0,0,0,0,0,0,0,0,0,0,0,0,0,0,0,0,0,0,0,0,0,0,0,0,0,0,0,0,0,0,0,0,0,0,0,0,0,0,0,0,1.36,"GJ/GJ",5.7000000000000002E-2,"t-CO2\n/GJ"]
[null,null,null,"冷水",null,null,"MJ",null,null,null,null,null,null,null,null,null,null,null,null,null,null,null,null,null,null,null,null,null,null,null,null,null,null,null,null,null,null,null,null,null,null,null,null,null,null,null,null,null,null,null,null,null,null,null,null,null,null,null,null,null,null,0,0,0,0,0,0,0,0,0,0,0,0,0,0,0,0,0,0,0,0,0,0,0,{"$f":"VLOOKUP($G39,$GB$6:$GC$15,2,FALSE)","v":1000},"GJ",0,0,0,0,0,0,0,0,0,0,0,0,0,0,0,0,0,0,0,0,0,0,0,0,0,0,0,0,0,0,0,0,0,0,0,0,0,0,0,0,0,0,0,0,0,0,0,0,0,0,0,0,0,0,0,0,0,0,0,0,0,0,0,0,0,0,0,0,0,0,0,0,0,0,0,0,0,0,0,0,0,0,0,0,0,0,0,0,0,0,0,0,1.36,"GJ/GJ",5.7000000000000002E-2,"t-CO2\n/GJ"]
[null,null,null,"再生可能エネルギーの環境価値を移転した熱",null,null,"MJ",null,null,null,null,null,null,null,null,null,null,null,null,null,null,null,null,null,null,null,null,null,null,null,null,null,null,null,null,null,null,null,null,null,null,null,null,null,null,null,null,null,null,null,null,null,null,null,null,null,null,null,null,null,null,0,0,0,0,0,0,0,0,0,0,0,0,0,0,0,0,0,0,0,0,0,0,0,{"$f":"VLOOKUP($G40,$GB$6:$GC$15,2,FALSE)","v":1000},"GJ",0,0,0,0,0,0,0,0,0,0,0,0,0,0,0,0,0,0,0,0,0,0,0,{"$f":"CI40","v":0},0,0,0,0,0,0,0,0,0,0,0,0,0,0,0,0,0,{"$f":"DA40","v":0},0,0,0,0,null,null,null,null,null,null,null,null,null,null,null,null,null,null,null,null,null,null,null,null,null,null,null,0,0,0,0,0,0,0,0,0,0,0,0,0,0,0,0,0,0,0,0,0,0,0,null,null,5.7000000000000002E-2,"t-CO2\n/GJ"]
[null,null,null,"小　　計",null,null,null,null,null,null,null,null,null,null,null,null,null,null,null,null,null,null,null,null,null,null,null,null,null,null,null,null,null,null,null,null,null,null,null,null,null,null,null,null,null,null,null,null,null,null,null,null,null,null,null,null,null,null,null,null,null,null,null,null,null,null,null,null,null,null,null,null,null,null,null,null,null,null,null,null,null,null,null,null,null,null,null,null,null,null,null,null,null,null,null,null,null,null,null,null,null,null,null,null,null,null,null,null,null,{"$f":"SUBTOTAL(9,DF36:DF40)","v":0},0,0,0,0,0,0,0,0,0,0,0,0,0,0,0,0,{"$f":"SUBTOTAL(9,DW36:DW40)","v":0},{"$f":"SUBTOTAL(9,DX36:DX40)","v":0},0,0,0,0,{"$f":"SUBTOTAL(9,EC36:EC40)","v":0},0,0,0,0,0,0,0,0,0,0,0,0,0,0,0,0,{"$f":"SUBTOTAL(9,ET36:ET40)","v":0},{"$f":"SUBTOTAL(9,EU36:EU40)","v":0},0,0,0,0,{"$f":"SUBTOTAL(9,EZ36:EZ40)","v":0},0,0,0,0,0,0,0,0,0,0,0,0,0,0,0,0,{"$f":"SUBTOTAL(9,FQ36:FQ40)","v":0},{"$f":"SUBTOTAL(9,FR36:FR40)","v":0},0,0,0,0]
[null,null,"電気","一般電気\n事業者","昼間（8時～22時）",null,"kWh",null,null,null,null,null,null,null,null,null,null,null,null,null,null,null,null,null,null,null,null,null,null,null,null,null,null,null,null,null,null,null,null,null,null,null,null,null,null,null,null,null,null,null,null,null,null,null,null,null,null,null,null,null,null,0,0,0,0,0,0,0,0,0,0,0,0,0,0,0,0,0,0,{"$f":"AD42-BE42","v":0},{"$f":"AE42-BF42","v":0},{"$f":"AF42-BG42","v":0},{"$f":"AG42-BH42","v":0},{"$f":"AH42-BI42","v":0},{"$f":"VLOOKUP($G42,$GB$6:$GC$17,2,FALSE)","v":1000},"千kWh",0,0,0,0,0,0,0,0,0,0,0,0,0,0,0,0,0,{"$f":"ROUND(CA42/単位補正２,0)","v":0},0,0,0,0,0,{"$f":"CI42*$FW42","v":0},0,0,0,0,0,0,0,0,0,{"$f":"CS42*$FW42","v":0},0,0,0,0,0,0,0,0,0,{"$f":"DC42*$FW42","v":0},0,0,{"$f":"DF42*$GC$19","v":0},0,0,0,0,0,0,0,0,0,{"$f":"DP42*$GC$19","v":0},0,0,0,0,0,0,0,{"$f":"DX42*$GC$19","v":0},0,0,0,0,{"$f":"CI42*$FY42","v":0},0,0,0,0,0,0,0,0,0,{"$f":"CS42*$FY42","v":0},0,0,0,0,0,0,0,{"$f":"DA42*$FY42","v":0},0,0,0,0,9.9700000000000006,"GJ\n/千kWh",0.495,"t-CO2\n/千kWh"]
[null,null,null,null,"夜間（22時～翌8時）",null,"kWh",null,null,null,null,null,null,null,null,null,null,null,null,null,null,null,null,null,null,null,null,null,null,null,null,null,null,null,null,null,null,null,null,null,null,null,null,null,null,null,null,null,null,null,null,null,null,null,null,null,null,null,null,null,null,0,0,0,0,0,0,0,0,0,0,0,0,0,0,0,0,0,0,0,0,0,0,0,{"$f":"VLOOKUP($G43,$GB$6:$GC$17,2,FALSE)","v":1000},"千kWh",0,0,0,0,0,0,0,0,0,0,0,0,0,0,0,0,0,0,0,0,0,0,0,0,0,0,0,0,0,0,0,0,0,0,0,0,0,0,0,0,0,0,0,0,0,0,0,0,0,0,0,0,0,0,0,0,0,0,0,0,0,0,0,0,0,0,0,0,0,0,0,0,0,0,0,0,0,0,0,0,0,0,0,0,0,0,0,0,0,0,0,0,9.2799999999999994,"GJ\n/千kWh",0.495,"t-CO2\n/千kWh"]
[null,null,null,"その他の買電",null,null,"kWh",null,null,null,null,null,null,null,null,null,null,null,null,null,null,null,null,null,null,null,null,null,null,null,null,null,null,null,null,null,null,null,null,null,null,null,null,null,null,null,null,null,null,null,null,null,null,null,null,null,null,null,null,null,null,0,0,0,0,0,0,0,0,0,0,0,0,0,0,0,0,0,0,0,0,0,0,0,{"$f":"VLOOKUP($G44,$GB$6:$GC$17,2,FALSE)","v":1000},"千kWh",0,0,0,0,0,0,0,0,0,0,0,0,0,0,0,0,0,0,0,0,0,0,0,0,0,0,0,0,0,0,0,0,0,0,0,0,0,0,0,0,0,0,0,0,0,0,0,0,0,0,0,0,0,0,0,0,0,0,0,0,0,0,0,0,0,0,0,0,0,0,0,0,0,0,0,0,0,0,0,0,0,0,0,0,0,0,0,0,0,0,0,0,9.76,"GJ\n/千kWh",0.495,"t-CO2\n/千kWh"]
[null,null,null,"再生可能エネルギーの環境価値を移転した電気",null,null,"kWh",null,null,null,null,null,null,null,null,null,null,null,null,null,null,null,null,null,null,null,null,null,null,null,null,null,null,null,null,null,null,null,null,null,null,null,null,null,null,null,null,null,null,null,null,null,null,null,null,null,null,null,null,null,null,0,0,0,0,0,0,0,0,0,0,0,0,0,0,0,0,0,0,0,0,0,0,0,{"$f":"VLOOKUP($G45,$GB$6:$GC$17,2,FALSE)","v":1000},"千kWh",0,0,0,0,0,0,0,0,0,0,0,0,0,0,0,0,0,0,0,0,0,0,0,null,null,null,null,null,null,null,null,null,null,null,null,null,null,null,null,null,null,null,null,null,null,null,null,null,null,null,null,null,null,null,null,null,null,null,null,null,null,null,null,null,null,null,null,null,null,0,0,0,0,0,0,0,0,0,0,0,0,0,0,0,0,0,0,0,0,0,0,0,null,null,0.495,"t-CO2\n/千kWh"]
[null,null,null,"再生可能エネルギーを自家消費した\n電気",null,null,"kWh",null,null,null,null,null,null,null,null,null,null,null,null,null,null,null,null,null,null,null,null,null,null,null,null,null,null,null,null,null,null,null,null,null,null,null,null,null,null,null,null,null,null,null,null,null,null,null,null,null,null,null,null,null,null,0,0,0,0,0,0,0,0,0,0,0,0,0,0,0,0,0,0,0,0,0,0,0,{"$f":"VLOOKUP($G46,$GB$6:$GC$17,2,FALSE)","v":1000},"千kWh",0,0,0,0,0,0,0,0,0,0,0,0,0,0,0,0,0,0,0,0,0,0,0,null,null,null,null,null,null,null,null,null,null,null,null,null,null,null,null,null,null,null,null,null,null,null,null,null,null,null,null,null,null,null,null,null,null,null,null,null,null,null,null,null,null,null,null,null,null,{"$f":"-ABS(CI46*$GA46)","v":0},0,0,0,0,0,0,0,0,0,0,0,0,0,0,0,0,0,0,0,{"$f":"-ABS(DC46*$FY46)","v":0},{"$f":"-ABS(DD46*$FY46)","v":0},0,null,null,-0.2445,"t-CO2\n/千kWh",-0.193]
[null,null,null,"小　　計",null,null,null,null,null,null,null,null,null,null,null,null,null,null,null,null,null,null,null,null,null,null,null,null,null,null,null,null,null,null,null,null,null,null,null,null,null,null,null,null,null,null,null,null,null,null,null,null,null,null,null,null,null,null,null,null,null,null,null,null,null,null,null,null,null,null,null,null,null,null,null,null,null,null,null,null,null,null,null,null,null,null,null,null,null,null,null,null,null,null,null,null,null,null,null,null,null,null,null,null,null,null,null,null,null,{"$f":"SUBTOTAL(9,DF42:DF46)","v":0},0,0,0,0,0,0,0,0,0,0,0,0,0,0,0,0,{"$f":"SUBTOTAL(9,DW42:DW46)","v":0},{"$f":"SUBTOTAL(9,DX42:DX46)","v":0},0,0,0,0,{"$f":"SUBTOTAL(9,EC42:EC46)","v":0},0,0,0,0,0,0,0,0,0,0,0,0,0,0,0,0,{"$f":"SUBTOTAL(9,ET42:ET46)","v":0},{"$f":"SUBTOTAL(9,EU42:EU46)","v":0},0,0,0,0,{"$f":"SUBTOTAL(9,EZ42:EZ46)","v":0},0,0,0,0,0,0,0,0,0,0,0,0,0,0,0,0,{"$f":"SUBTOTAL(9,FQ42:FQ46)","v":0},{"$f":"SUBTOTAL(9,FR42:FR46)","v":0},0,0,0,0]
[null,null,"外部供給","自ら生成した熱の供給",null,null,"GJ",null,null,null,null,null,null,null,null,null,null,null,null,null,null,null,null,null,null,null,null,null,null,null,null,null,null,null,null,null,null,null,{"$f":"'１．燃料単位換算(建物系)'!AG56","v":0},{"$f":"'１．燃料単位換算(建物系)'!AH56","v":0},{"$f":"'１．燃料単位換算(建物系)'!AI56","v":0},{"$f":"'１．燃料単位換算(建物系)'!AJ56","v":0},{"$f":"'１．燃料単位換算(建物系)'!AK56","v":0},{"$f":"'１．燃料単位換算(建物系)'!AL56","v":0},{"$f":"'１．燃料単位換算(建物系)'!AM56","v":0},{"$f":"'１．燃料単位換算(建物系)'!AN56","v":0},{"$f":"'１．燃料単位換算(建物系)'!AO56","v":0},{"$f":"'１．燃料単位換算(建物系)'!AP56","v":0},{"$f":"'１．燃料単位換算(建物系)'!AQ56","v":0},{"$f":"'１．燃料単位換算(建物系)'!AR56","v":0},{"$f":"'１．燃料単位換算(建物系)'!AS56","v":0},{"$f":"'１．燃料単位換算(建物系)'!AT56","v":0},{"$f":"'１．燃料単位換算(建物系)'!AU56","v":0},{"$f":"'１．燃料単位換算(建物系)'!AV56","v":0},{"$f":"'１．燃料単位換算(建物系)'!AW56","v":0},{"$f":"'１．燃料単位換算(建物系)'!AX56","v":0},{"$f":"'１．燃料単位換算(建物系)'!AY56","v":0},{"$f":"'１．燃料単位換算(建物系)'!AZ56","v":0},{"$f":"'１．燃料単位換算(建物系)'!BA56","v":0},{"$f":"'１．燃料単位換算(建物系)'!BB56","v":0},{"$f":"'１．燃料単位換算(建物系)'!BC56","v":0},{"$f":"AM48","v":0},0,0,0,0,0,0,0,0,0,{"$f":"AW48","v":0},0,0,0,0,0,0,0,{"$f":"BE48","v":0},0,0,0,0,{"$f":"VLOOKUP($G48,$GB$6:$GC$15,2,FALSE)","v":1},"GJ",0,0,0,0,0,0,0,0,0,0,0,0,0,0,0,0,0,{"$f":"ROUND(CA48/単位補正２,0)","v":0},0,0,0,0,0,{"$f":"CI48","v":0},0,0,0,0,0,0,0,0,0,0,0,0,0,0,0,0,0,{"$f":"DA48","v":0},0,0,0,0,null,null,null,null,null,null,null,null,null,null,null,null,null,null,null,null,null,null,null,null,null,null,null,{"$f":"IF(ISERROR(-ABS(CI48*$FY48)),\"\",(-ABS(CI48*$FY48)))","v":0},0,0,0,0,0,0,0,0,0,{"$f":"IF(ISERROR(-ABS(CS48*$FY48)),\"\",(-ABS(CS48*$FY48)))","v":0},0,0,0,0,0,0,0,{"$f":"IF(ISERROR(-ABS(DA48*$FY48)),\"\",(-ABS(DA48*$FY48)))","v":0},0,0,0,0]
[null,null,null,"自ら生成した電力の供給",null,null,"千kWh",null,null,null,null,null,null,null,null,null,null,null,null,null,null,null,null,null,null,null,null,null,null,null,null,null,null,null,null,null,null,null,{"$f":"'１．燃料単位換算(建物系)'!AG54","v":0},{"$f":"'１．燃料単位換算(建物系)'!AH54","v":0},{"$f":"'１．燃料単位換算(建物系)'!AI54","v":0},{"$f":"'１．燃料単位換算(建物系)'!AJ54","v":0},{"$f":"'１．燃料単位換算(建物系)'!AK54","v":0},{"$f":"'１．燃料単位換算(建物系)'!AL54","v":0},{"$f":"'１．燃料単位換算(建物系)'!AM54","v":0},{"$f":"'１．燃料単位換算(建物系)'!AN54","v":0},{"$f":"'１．燃料単位換算(建物系)'!AO54","v":0},{"$f":"'１．燃料単位換算(建物系)'!AP54","v":0},{"$f":"'１．燃料単位換算(建物系)'!AQ54","v":0},{"$f":"'１．燃料単位換算(建物系)'!AR54","v":0},{"$f":"'１．燃料単位換算(建物系)'!AS54","v":0},{"$f":"'１．燃料単位換算(建物系)'!AT54","v":0},{"$f":"'１．燃料単位換算(建物系)'!AU54","v":0},{"$f":"'１．燃料単位換算(建物系)'!AV54","v":0},{"$f":"'１．燃料単位換算(建物系)'!AW54","v":0},{"$f":"'１．燃料単位換算(建物系)'!AX54","v":0},{"$f":"'１．燃料単位換算(建物系)'!AY54","v":0},{"$f":"'１．燃料単位換算(建物系)'!AZ54","v":0},{"$f":"'１．燃料単位換算(建物系)'!BA54","v":0},{"$f":"'１．燃料単位換算(建物系)'!BB54","v":0},{"$f":"'１．燃料単位換算(建物系)'!BC54","v":0},0,0,0,0,0,0,0,0,0,0,0,0,0,0,0,0,0,0,0,0,0,0,0,{"$f":"VLOOKUP($G49,$GB$6:$GC$17,2,FALSE)","v":1},"千kWh",0,0,0,0,0,0,0,0,0,0,0,0,0,0,0,0,0,0,0,0,0,0,0,null,null,null,null,null,null,null,null,null,null,null,null,null,null,null,null,null,null,null,null,null,null,null,null,null,null,null,null,null,null,null,null,null,null,null,null,null,null,null,null,null,null,null,null,null,null,0,0,0,0,0,0,0,0,0,0,0,0,0,0,0,0,0,0,0,0,0,0,0]
[null,null,null,"小　　計",null,null,null,null,null,null,null,null,null,null,null,null,null,null,null,null,null,null,null,null,null,null,null,null,null,null,null,null,null,null,null,null,null,null,null,null,null,null,null,null,null,null,null,null,null,null,null,null,null,null,null,null,null,null,null,null,null,null,null,null,null,null,null,null,null,null,null,null,null,null,null,null,null,null,null,null,null,null,null,null,null,null,null,null,null,null,null,null,null,null,null,null,null,null,null,null,null,null,null,null,null,null,null,null,null,null,null,null,null,null,null,null,null,null,null,null,null,null,null,null,null,null,null,null,null,null,null,null,null,null,null,null,null,null,null,null,null,null,null,null,null,null,null,null,null,null,null,null,null,null,null,{"$f":"SUBTOTAL(9,EZ48:EZ49)","v":0},{"$f":"SUBTOTAL(9,FA48:FA49)","v":0},0,0,0,0,0,0,0,0,0,0,0,0,0,0,0,0,{"$f":"SUBTOTAL(9,FR48:FR49)","v":0},0,0,0,0]
[null,null,null,"コージェネレーションＣＯ₂削減量",null,null,"t-CO2",null,null,null,null,null,null,null,null,null,null,null,null,null,null,null,null,null,null,null,null,null,null,null,null,null,null,null,null,null,null,null,null,null,null,null,null,null,null,null,null,null,null,null,null,null,null,null,null,null,null,null,null,null,null,null,null,null,null,null,null,null,null,null,null,null,null,null,null,null,null,null,null,null,null,null,null,null,1,"t-CO2",{"$f":"H14_控除後使用量/単位補正２","v":0},{"$f":"H15_控除後使用量/単位補正２","v":0},{"$f":"H16_控除後使用量/単位補正２","v":0},{"$f":"H17_控除後使用量/単位補正２","v":0},{"$f":"H18_控除後使用量/単位補正２","v":0},{"$f":"H19_控除後使用量/単位補正２","v":0},{"$f":"H20_控除後使用量/単位補正２","v":0},{"$f":"H21_控除後使用量/単位補正２","v":0},{"$f":"H22_控除後使用量/単位補正２","v":0},{"$f":"H23_控除後使用量/単位補正２","v":0},{"$f":"H24_控除後使用量/単位補正２","v":0},{"$f":"H25_控除後使用量/単位補正２","v":0},{"$f":"H26_控除後使用量/単位補正２","v":0},{"$f":"H27_控除後使用量/単位補正２","v":0},{"$f":"H28_控除後使用量/単位補正２","v":0},{"$f":"H29_控除後使用量/単位補正２","v":0},{"$f":"H30_控除後使用量/単位補正２","v":0},{"$f":"ROUND(CA51/単位補正２,0)","v":0},{"$f":"ROUND(CB51/単位補正２,0)","v":0},{"$f":"ROUND(CC51/単位補正２,0)","v":0},{"$f":"ROUND(CD51/単位補正２,0)","v":0},{"$f":"ROUND(CE51/単位補正２,0)","v":0},{"$f":"ROUND(CF51/単位補正２,0)","v":0},null,null,null,null,null,null,null,null,null,null,null,null,null,null,null,null,null,null,null,null,null,null,null,null,null,null,null,null,null,null,null,null,null,null,null,null,null,null,null,null,null,null,null,null,null,null,{"$f":"-ABS(L51)","v":0},{"$f":"-ABS(M51)","v":0},{"$f":"-ABS(N51)","v":0},{"$f":"-ABS(O51)","v":0},{"$f":"-ABS(P51)","v":0},{"$f":"-ABS(Q51)","v":0},{"$f":"-ABS(R51)","v":0},{"$f":"-ABS(S51)","v":0},{"$f":"-ABS(T51)","v":0},{"$f":"-ABS(U51)","v":0},{"$f":"-ABS(V51)","v":0},{"$f":"-ABS(W51)","v":0},{"$f":"-ABS(X51)","v":0},{"$f":"-ABS(Y51)","v":0},{"$f":"-ABS(Z51)","v":0},{"$f":"-ABS(AA51)","v":0},{"$f":"-ABS(AB51)","v":0},{"$f":"-ABS(AC51)","v":0},{"$f":"-ABS(AD51)","v":0},{"$f":"-ABS(AE51)","v":0},{"$f":"-ABS(AF51)","v":0},{"$f":"-ABS(AG51)","v":0},{"$f":"-ABS(AH51)","v":0}]
[null,null,null,"低炭素電力ＣＯ₂削減量",null,null,"t-CO2",null,null,null,null,null,null,null,null,null,null,null,null,null,null,null,null,null,null,null,null,null,null,null,null,null,null,null,null,null,null,null,null,null,null,null,null,null,null,null,null,null,null,null,null,null,null,null,null,null,null,null,null,null,null,null,null,null,null,null,null,null,null,null,null,null,null,null,null,null,null,null,null,null,null,null,null,null,1,"t-CO2",{"$f":"H14_控除後使用量/単位補正２","v":0},{"$f":"H15_控除後使用量/単位補正２","v":0},{"$f":"H16_控除後使用量/単位補正２","v":0},{"$f":"H17_控除後使用量/単位補正２","v":0},{"$f":"H18_控除後使用量/単位補正２","v":0},{"$f":"H19_控除後使用量/単位補正２","v":0},{"$f":"H20_控除後使用量/単位補正２","v":0},{"$f":"H21_控除後使用量/単位補正２","v":0},{"$f":"H22_控除後使用量/単位補正２","v":0},{"$f":"H23_控除後使用量/単位補正２","v":0},{"$f":"H24_控除後使用量/単位補正２","v":0},{"$f":"H25_控除後使用量/単位補正２","v":0},{"$f":"H26_控除後使用量/単位補正２","v":0},{"$f":"H27_控除後使用量/単位補正２","v":0},{"$f":"H28_控除後使用量/単位補正２","v":0},{"$f":"H29_控除後使用量/単位補正２","v":0},{"$f":"H30_控除後使用量/単位補正２","v":0},{"$f":"ROUND(CA52/単位補正２,0)","v":0},0,0,0,0,0,null,null,null,null,null,null,null,null,null,null,null,null,null,null,null,null,null,null,null,null,null,null,null,null,null,null,null,null,null,null,null,null,null,null,null,null,null,null,null,null,null,null,null,null,null,null,{"$f":"-ABS(L52)","v":0},0,0,0,0,0,0,0,0,0,0,0,0,0,0,0,0,0,{"$f":"-ABS(AD52)","v":0},0,0,0,0]
[null,null,null,"合　　計",null,null,null,null,null,null,null,{"$f":"L35+L41+L47+L50","v":0},0,0,0,0,0,0,0,0,0,0,0,0,0,0,0,0,0,0,0,0,0,0,0,0,0,0,0,0,0,0,0,{"$f":"AR35+AR41+AR47+AR50","v":0},0,0,0,0,0,0,0,0,0,0,0,0,0,0,0,0,0,null,null,null,null,null,null,null,null,null,null,null,null,null,null,null,null,null,null,null,null,null,null,null,null,null,null,null,null,null,null,null,null,null,null,null,null,null,null,null,null,null,null,null,null,null,null,null,null,{"$f":"DF35+DF41+DF47","v":0},0,0,0,0,0,0,0,0,0,0,0,0,0,0,0,0,0,0,0,0,0,0,{"$f":"DF53*$GC$19","v":0},0,0,0,0,0,0,0,0,0,0,0,0,0,0,0,0,0,{"$f":"DX53*$GC$19","v":0},0,0,0,0,{"$f":"ROUND((IF(EZ35+EZ41+EZ47+EZ50+EZ52<0,0,EZ35+EZ41+EZ47+EZ50+EZ51+EZ52)),0)","v":0},{"$f":"ROUND((IF(FA35+FA41+FA47+FA50+FA52<0,0,FA35+FA41+FA47+FA50+FA51+FA52)),0)","v":0},0,0,0,0,0,0,0,0,0,0,0,0,0,0,0,0,0,0,0,0,0]

{"sheet":"３．自動車燃料チェック","index":6,"n_rows":61,"n_cols":58,"rows_kept":61,"cut":false,"hidden":false,"merged":[[55,48,55,49],[43,48,43,49],[44,48,44,49],[45,48,45,49],[46,48,46,49],[38,48,38,49],[39,48,39,49],[40,48,40,49],[41,48,41,49],[42,48,42,49],[33,48,33,49],[34,48,34,49],[35,48,35,49],[36,48,36,49],[37,48,37,49],[28,48,28,49],[29,48,29,49],[30,48,30,49],[31,48,31,49],[32,48,32,49],[23,48,23,49],[24,48,24,49],[25,48,25,49],[26,48,26,49],[27,48,27,49],[18,48,18,49],[19,48,19,49],[20,48,20,49],[21,48,21,49],[22,48,22,49],[13,48,13,49],[14,48,14,49],[15,48,15,49],[16,48,16,49],[17,48,17,49],[4,48,4,49],[9,48,9,49],[10,48,10,49],[11,48,11,49],[12,48,12,49],[4,31,4,47],[4,0,6,2],[4,21,4,22],[4,27,4,28],[4,3,4,20],[2,3,2,14],[7,0,7,2],[7,24,42,24],[8,0,8,2],[9,0,9,2],[10,0,10,2],[11,0,11,2],[12,0,12,2],[14,0,14,2],[15,0,15,2],[16,0,16,2],[31,0,31,2],[17,0,17,2],[18,0,19,2],[21,0,22,0],[21,1,21,2],[22,1,22,2],[23,0,25,0],[23,1,23,2],[47,0,47,2],[48,21,48,22],[49,21,49,22],[43,21,43,22],[24,1,24,2],[25,1,25,2],[26,0,26,2],[27,0,27,2],[28,0,28,2],[29,0,29,2],[30,0,30,2],[39,0,39,2],[40,0,40,2],[58,0,60,2],[13,0,13,2],[55,0,55,2],[55,21,55,22],[55,27,55,28],[53,0,53,2],[53,21,53,22],[53,27,53,28],[54,0,54,2],[54,21,54,22],[54,27,54,28],[50,0,50,2],[50,21,50,22],[50,27,50,28],[51,0,51,2],[51,21,51,22],[41,0,41,2],[42,0,42,2],[43,0,43,2],[52,0,52,2],[52,21,52,22],[43,27,43,28],[45,0,46,0],[45,24,49,24]]}
["３．自動車燃料に関するCO2排出量（自動車燃料チェックシート）",null,null,null,null,null,null,null,null,null,null,null,null,null,null,null,null,null,null,null,null,0]
["（エコアップ認証自動車履歴ＣＯ₂排出量計算用）"]
["事業所名"]
["　■　燃料実績","（２）燃料実績","（３）燃料実績"]
[null,null,null,"燃料使用量",null,null,null,null,null,null,null,null,null,null,null,null,null,null,null,null,null,"単位当たり発熱量",null,"熱量","原油換算","原油換算係数","原油換算使用量","排出係数",null,null,"二酸化炭素換算係数","二酸化炭素排出量\n(t-CO2)",null,null,null,null,null,null,null,null,null,null,null,null,null,null,null,null,"引用する排出係数等",null,null,null,null,null,null,null,null,{"$f":"データコピー!$R$1","v":5}]
[null,null,null,null,"①",null,null,null,"①",null,null,null,null,null,null,null,null,null,null,null,null,"②",null,"③=①×②","④",null,"⑤=①×②×④","⑥",null,"⑦",null,"⑦=①×②×⑥\n×44/12",null,null,null,"⑦=①×②×⑥\n×44/12"]
[null,null,null,"単位","H20","H21","H22","H23","H24","H25","H26","H27","H28","H29","H30","H31/R1","R2","R3","R4","R5","R6",null,"単位","GJ","kL/GJ",null,"kL",null,"単位",null,"t-CO2/使用量","H20","H21","H22","H23","H24","H25","H26","H27","H28","H29","H30","H31/R1","R2","R3","R4","R5","R6","換算\n係数","単位"]
["原油（コンデンセートを除く）",null,null,"kL",null,null,null,null,null,null,null,null,null,null,null,null,null,null,null,null,null,38.200000000000003,"GJ/kL",{"$f":"E8*V8","v":0},2.58E-2,{"$f":"ROUNDDOWN(V8*Y$8,5-INT(LOG(ABS(V8*Y$8))))","v":0.98555999999999999},{"$f":"E8*V8*Y$8","v":0},1.8700000000000001E-2,"t-C/GJ","44/12",{"$f":"ROUNDDOWN(V8*AB8*44/12,2-INT(LOG(ABS(V8*Y$8*AB8*44/12))))","v":2.6192000000000002},{"$f":"E8*V8*AB8*44/12","v":0},null,null,null,{"$f":"I8*Z8*AF8*44/12","v":0}]
["原油のうちコンデンセート（ＮＧＬ）",null,null,"kL",null,null,null,null,null,null,null,null,null,null,null,null,null,null,null,null,null,35.299999999999997,"GJ/kL",{"$f":"E9*V9","v":0},null,0.91073999999999999,{"$f":"E9*V9*Y$8","v":0},1.84E-2,"t-C/GJ","44/12",2.3815,{"$f":"E9*V9*AB9*44/12","v":0},null,null,null,{"$f":"I9*Z9*AF9*44/12","v":0}]
["ガソリン",null,null,"kL",null,null,null,null,null,null,null,null,null,null,null,null,null,null,null,null,null,34.6,"GJ/kL",{"$f":"E10*V10/1000","v":0},null,0.89268000000000003,{"$f":"E10*V10*Y$8/1000","v":0},1.83E-2,"t-C/GJ","44/12",2.3216000000000001,{"$f":"ROUND(E10*$V10*$AB10*44/12,2)","v":0},0,0,0,0,0,0,0,0,0,0,0,0,0,0,0,0]
["ナフサ",null,null,"kL",null,null,null,null,null,null,null,null,null,null,null,null,null,null,null,null,null,33.6,"GJ/kL",{"$f":"E11*V11","v":0},null,0.86687999999999998,{"$f":"E11*V11*Y$8","v":0},1.8200000000000001E-2,"t-C/GJ","44/12",2.2422,{"$f":"E11*$V11*$AB11*44/12/1000","v":0},0,0,0,0,0,0,0,0,0,{"$f":"O11*$V11*$AB11*44/12/1000","v":0},0,0,0,0,0,0]
["灯油",null,null,"kL",null,null,null,null,null,null,null,null,null,null,null,null,null,null,null,null,null,36.700000000000003,"GJ/kL",{"$f":"E12*V12","v":0},null,0.94686000000000003,{"$f":"E12*V12*Y$8","v":0},1.8499999999999999E-2,"t-C/GJ","44/12",2.4893999999999998,0,0,0,0,0,0,0,0,0,0,0,0,0,0,0,0,0]
["軽油",null,null,"kL",null,null,null,null,null,null,null,null,null,null,null,null,null,null,null,null,null,37.700000000000003,"GJ/kL",{"$f":"E13*V13/1000","v":0},null,0.97265999999999997,{"$f":"E13*V13*Y$8/1000","v":0},1.8700000000000001E-2,"t-C/GJ","44/12",2.5849000000000002,{"$f":"ROUND(E13*$V13*$AB13*44/12,2)","v":0},0,0,0,0,0,0,0,0,0,{"$f":"ROUND(O13*$V13*$AB13*44/12,2)","v":0},0,0,0,0,0,0]
["軽油(建機等）*",null,null,"kL",null,null,null,null,null,null,null,null,null,null,null,null,null,null,null,null,null,37.700000000000003,"GJ/kL",{"$f":"E14*V14/1000","v":0},null,{"$f":"ROUNDDOWN(V14*Y$8,5-INT(LOG(ABS(V14*Y$8))))","v":0.97265999999999997},{"$f":"E14*V14*Y$8/1000","v":0},1.8700000000000001E-2,"t-C/GJ","44/12",{"$f":"ROUNDDOWN(V14*AB14*44/12,2-INT(LOG(ABS(V14*Y$8*AB14*44/12))))","v":2.5849000000000002},0,0,0,0,0,0,0,0,0,0,0,0,0,0,0,0,0]
["Ａ重油",null,null,"kL",null,null,null,null,null,null,null,null,null,null,null,null,null,null,null,null,null,39.1,"GJ/kL",{"$f":"E15*V15","v":0},null,1.00878,{"$f":"E15*V15*Y$8","v":0},1.89E-2,"t-C/GJ","44/12",2.7096,{"$f":"E15*$V15*$AB15*44/12/1000","v":0},0,0,0,0,0,0,0,0,0,{"$f":"O15*$V15*$AB15*44/12/1000","v":0},0,0,0,0,0,0]
["Ｂ・Ｃ重油",null,null,"kL",null,null,null,null,null,null,null,null,null,null,null,null,null,null,null,null,null,41.9,"GJ/kL",{"$f":"E16*V16","v":0},null,1.0810200000000001,{"$f":"E16*V16*Y$8","v":0},1.95E-2,"t-C/GJ","44/12",2.9958,0,0,0,0,0,0,0,0,0,0,0,0,0,0,0,0,0]
["石油アスファルト",null,null,"t",null,null,null,null,null,null,null,null,null,null,null,null,null,null,null,null,null,40.9,"GJ/t",{"$f":"E17*V17","v":0},null,1.05522,{"$f":"E17*V17*Y$8","v":0},2.0799999999999999E-2,"t-C/GJ","44/12",3.1193,0,0,0,0,0,0,0,0,0,0,0,0,0,0,0,0,0]
["石油コークス",null,null,"t",null,null,null,null,null,null,null,null,null,null,null,null,null,null,null,null,null,29.9,"GJ/t",{"$f":"E18*V18","v":0},null,0.77141999999999999,{"$f":"E18*V18*Y$8","v":0},2.5399999999999999E-2,"t-C/GJ","44/12",2.7846000000000002,0,0,0,0,0,0,0,0,0,0,0,0,0,0,0,0,0]
["液化石油ガス\n（ＬＰＧ）",null,null,"千ｍ3",null,null,null,null,null,null,null,null,null,null,null,null,null,null,null,null,null,50.8,"GJ/t",{"$f":"E19*V19/1000","v":0},null,1.31064,{"$f":"E19*V19*Y$8/1000","v":0},1.61E-2,"t-C/GJ","44/12",2.9988000000000001,{"$f":"ROUND(E19*$V19*$AB19*44/12/0.458,2)","v":0},0,0,0,0,0,0,0,0,0,0,0,0,0,0,0,0]
[null,null,null,"t",null,null,null,null,null,null,null,null,null,null,null,null,null,null,null,null,null,50.8,"GJ/t",{"$f":"E20*V20/1000","v":0},null,{"$f":"ROUNDDOWN(V20*Y$8,5-INT(LOG(ABS(V20*Y$8))))","v":1.31064},{"$f":"E20*V20*Y$8/1000","v":0},1.61E-2,"t-C/GJ","44/12",{"$f":"ROUNDDOWN(V20*AB20*44/12,2-INT(LOG(ABS(V20*Y$8*AB20*44/12))))","v":2.9988000000000001},{"$f":"ROUND(E20*$V20*$AB20*44/12,2)","v":0},0,0,0,0,0,0,0,0,0,0,0,0,0,0,0,0]
[null,"石油系炭化水素ガス",null,"千Nｍ3",null,null,null,null,null,null,null,null,null,null,null,null,null,null,null,null,null,44.9,"GJ/千Nｍ3",{"$f":"E21*V21","v":0},null,1.15842,{"$f":"E21*V21*Y$8","v":0},1.4200000000000001E-2,"t-C/GJ","44/12",2.3376999999999999,{"$f":"E21*$V21*$AB21*44/12/1000","v":0},{"$f":"F21*$V21*$AB21*44/12/1000","v":0},{"$f":"G21*$V21*$AB21*44/12/1000","v":0},{"$f":"H21*$V21*$AB21*44/12/1000","v":0},{"$f":"I21*$V21*$AB21*44/12/1000","v":0},{"$f":"J21*$V21*$AB21*44/12/1000","v":0},{"$f":"K21*$V21*$AB21*44/12/1000","v":0},{"$f":"L21*$V21*$AB21*44/12/1000","v":0},{"$f":"M21*$V21*$AB21*44/12/1000","v":0},{"$f":"N21*$V21*$AB21*44/12/1000","v":0},{"$f":"O21*$V21*$AB21*44/12/1000","v":0},{"$f":"P21*$V21*$AB21*44/12/1000","v":0},{"$f":"Q21*$V21*$AB21*44/12/1000","v":0},{"$f":"R21*$V21*$AB21*44/12/1000","v":0},{"$f":"S21*$V21*$AB21*44/12/1000","v":0},{"$f":"T21*$V21*$AB21*44/12/1000","v":0},{"$f":"U21*$V21*$AB21*44/12/1000","v":0}]
["可燃性天然ガス","液化天然ガス（LNG)",null,"t",null,null,null,null,null,null,null,null,null,null,null,null,null,null,null,null,null,54.6,"GJ/t",0,null,1.4086799999999999,0,1.35E-2,"t-C/GJ","44/12",2.7027000000000001,0,0,0,0,0,0,0,0,0,0,0,0,0,0,0,0,0]
[null,"その他可燃性天然ガス",null,"千Nｍ3",null,null,null,null,null,null,null,null,null,null,null,null,null,null,null,null,null,43.5,"GJ/千Nｍ3",0,null,1.1223000000000001,0,1.3899999999999999E-2,"t-C/GJ","44/12",2.2170000000000001,0,0,0,0,0,0,0,0,0,0,0,0,0,0,0,0,0]
["石炭","原料炭",null,"t",null,null,null,null,null,null,null,null,null,null,null,null,null,null,null,null,null,29,"GJ/t",0,null,0.74819999999999998,0,2.4500000000000001E-2,"t-C/GJ","44/12",2.6051000000000002,0,0,0,0,0,0,0,0,0,0,0,0,0,0,0,0,0]
[null,"一般炭",null,"t",null,null,null,null,null,null,null,null,null,null,null,null,null,null,null,null,null,25.7,"GJ/t",0,null,0.66305999999999998,0,2.47E-2,"t-C/GJ","44/12",2.3275000000000001,0,0,0,0,0,0,0,0,0,0,0,0,0,0,0,0,0]
[null,"無煙炭",null,"t",null,null,null,null,null,null,null,null,null,null,null,null,null,null,null,null,null,26.9,"GJ/t",0,null,0.69401999999999997,0,2.5499999999999998E-2,"t-C/GJ","44/12",2.5150999999999999,0,0,0,0,0,0,0,0,0,0,0,0,0,0,0,0,0]
["石炭コークス",null,null,"t",null,null,null,null,null,null,null,null,null,null,null,null,null,null,null,null,null,29.4,"GJ/t",0,null,0.75851999999999997,0,2.9399999999999999E-2,"t-C/GJ","44/12",3.1692999999999998,0,0,0,0,0,0,0,0,0,0,0,0,0,0,0,0,0]
["コールタール",null,null,"t",null,null,null,null,null,null,null,null,null,null,null,null,null,null,null,null,null,37.299999999999997,"GJ/t",0,null,0.96233999999999997,0,2.0899999999999998E-2,"t-C/GJ","44/12",2.8584000000000001,0,0,0,0,0,0,0,0,0,0,0,0,0,0,0,0,0]
["コークス炉ガス",null,null,"千Nｍ3",null,null,null,null,null,null,null,null,null,null,null,null,null,null,null,null,null,21.1,"GJ/千Nｍ3",0,null,0.54437999999999998,0,1.0999999999999999E-2,"t-C/GJ","44/12",0.85099999999999998,0,0,0,0,0,0,0,0,0,0,0,0,0,0,0,0,0]
["高炉ガス",null,null,"千Nｍ3",null,null,null,null,null,null,null,null,null,null,null,null,null,null,null,null,null,3.41,"GJ/千Nｍ3",0,null,8.7978000000000001E-2,0,2.6599999999999999E-2,"t-C/GJ","44/12",0.33257999999999999,0,0,0,0,0,0,0,0,0,0,0,0,0,0,0,0,0]
["転炉ガス",null,null,"千Nｍ3",null,null,null,null,null,null,null,null,null,null,null,null,null,null,null,null,null,8.41,"GJ/千Nｍ3",0,null,0.216978,0,3.8399999999999997E-2,"t-C/GJ","44/12",1.1840999999999999,0,0,0,0,0,0,0,0,0,0,0,0,0,0,0,0,0]
["天然ガス",null,null,"千ｍ3",null,null,null,null,null,null,null,null,null,null,null,null,null,null,null,null,null,45,"GJ/千Nｍ3",{"$f":"E32*V32/1000","v":0},null,1.161,{"$f":"E32*V32*Y$8/1000","v":0},1.3599999999999999E-2,"t-C/GJ","44/12",2.2440000000000002,{"$f":"ROUND(E32*$V32*$AB32*44/12,2)","v":0},0,0,0,0,0,0,0,0,0,0,0,0,0,0,0,0]
[null,null,"13A:43.12MJ/m3","千Nｍ3",null,null,null,null,null,null,null,null,null,null,null,null,null,null,null,null,null,43.12,"GJ/千Nｍ3",{"$f":"E33*V33","v":0},null,1.11249,{"$f":"E33*V33*Y$8","v":0},1.3599999999999999E-2,"t-C/GJ","44/12",2.1501999999999999,{"$f":"E33*$V33*$AB33*44/12/1000","v":0},{"$f":"F33*$V33*$AB33*44/12/1000","v":0},{"$f":"G33*$V33*$AB33*44/12/1000","v":0},{"$f":"H33*$V33*$AB33*44/12/1000","v":0},{"$f":"I33*$V33*$AB33*44/12/1000","v":0},{"$f":"J33*$V33*$AB33*44/12/1000","v":0},{"$f":"K33*$V33*$AB33*44/12/1000","v":0},{"$f":"L33*$V33*$AB33*44/12/1000","v":0}]
[null,null,"13A:46.04MJ/m3","千Nｍ3",null,null,null,null,null,null,null,null,null,null,null,null,null,null,null,null,null,46.04,"GJ/千Nｍ3",{"$f":"E34*V34","v":0},null,1.1878299999999999,{"$f":"E34*V34*Y$8","v":0},1.3599999999999999E-2,"t-C/GJ","44/12",2.2957999999999998,0,0,0,0,0,0,0,0]
[null,null,"12A:41.86MJ/m3","千Nｍ3",null,null,null,null,null,null,null,null,null,null,null,null,null,null,null,null,null,41.86,"GJ/千Nｍ3",{"$f":"E35*V35","v":0},null,1.0799799999999999,{"$f":"E35*V35*Y$8","v":0},1.3599999999999999E-2,"t-C/GJ","44/12",2.0874000000000001,0,0,0,0,0,0,0,0]
[null,null,"6A:29.30MJ/m3","千Nｍ3",null,null,null,null,null,null,null,null,null,null,null,null,null,null,null,null,null,29.3,"GJ/千Nｍ3",{"$f":"E36*V36","v":0},null,0.75593999999999995,{"$f":"E36*V36*Y$8","v":0},1.3599999999999999E-2,"t-C/GJ","44/12",1.4610000000000001,0,0,0,0,0,0,0,0]
[null,null,null,null,null,null,null,null,null,null,null,null,null,null,null,null,null,null,null,null,null,0,0,{"$f":"IF(ISERROR(E37*V37),\"\",E37*V37)","v":0},null,{"$error":"#NUM!"},{"$f":"IF(ISERROR(E37*V37*Y$8),\"\",E37*V37*Y$8)","v":0},0,0,"44/12",{"$error":"#NUM!"},0,0,0,0,0,0,0,0]
[null,null,null,null,null,null,null,null,null,null,null,null,null,null,null,null,null,null,null,null,null,0,0,{"$f":"IF(ISERROR(E38*V38),\"\",E38*V38)","v":0},null,{"$error":"#NUM!"},{"$f":"IF(ISERROR(E38*V38*Y$8),\"\",E38*V38*Y$8)","v":0},0,0,"44/12",{"$error":"#NUM!"},0,0,0,0,0,0,0,0]
[null,null,null,null,null,null,null,null,null,null,null,null,null,null,null,null,null,null,null,null,null,0,0,{"$f":"IF(ISERROR(E39*V39),\"\",E39*V39)","v":0},null,{"$error":"#NUM!"},{"$f":"IF(ISERROR(E39*V39*Y$8),\"\",E39*V39*Y$8)","v":0},0,0,"44/12",{"$error":"#NUM!"},0,0,0,0,0,0,0,0]
["産業用蒸気",null,null,"GJ",null,null,null,null,null,null,null,null,null,null,null,null,null,null,null,null,null,1.02,"GJ/GJ",{"$f":"E40*V40","v":0},null,2.6315999999999999E-2,{"$f":"E40*V40*Y$8","v":0},0.06,"t-CO2/GJ","―",{"$f":"ROUNDDOWN(E40*V40*AB40,2-INT(LOG(ABS(E40*V40*AB40))))","v":{"$error":"#NUM!"}},0,0,0,0,0,0,0,0]
["産業用以外の蒸気",null,null,"GJ",null,null,null,null,null,null,null,null,null,null,null,null,null,null,null,null,null,1.36,"GJ/GJ",{"$f":"E41*V41","v":0},null,3.5088000000000001E-2,{"$f":"E41*V41*Y$8","v":0},5.7000000000000002E-2,"t-CO2/GJ","―",{"$f":"ROUNDDOWN(E41*V41*AB41,2-INT(LOG(ABS(E41*V41*AB41))))","v":{"$error":"#NUM!"}},0,0,0,0,0,0,0,0]
["温水",null,null,"GJ",null,null,null,null,null,null,null,null,null,null,null,null,null,null,null,null,null,1.36,"GJ/GJ",{"$f":"E42*V42","v":0},null,3.5088000000000001E-2,{"$f":"E42*V42*Y$8","v":0},5.7000000000000002E-2,"t-CO2/GJ","―",{"$f":"ROUNDDOWN(E42*V42*AB42,2-INT(LOG(ABS(E42*V42*AB42))))","v":{"$error":"#NUM!"}},0,0,0,0,0,0,0,0]
["冷水",null,null,"GJ",null,null,null,null,null,null,null,null,null,null,null,null,null,null,null,null,null,1.36,"GJ/GJ",{"$f":"E43*V43","v":0},null,3.5088000000000001E-2,{"$f":"E43*V43*Y$8","v":0},5.7000000000000002E-2,"t-CO2/GJ","―",{"$f":"ROUNDDOWN(E43*V43*AB43,2-INT(LOG(ABS(E43*V43*AB43))))","v":{"$error":"#NUM!"}},0,0,0,0,0,0,0,0]
["小計",null,null,null,null,null,null,null,null,null,null,null,null,null,null,null,null,null,null,null,null,null,null,{"$f":"SUM(X8:X43)","v":0},null,null,{"$f":"X44*Y8","v":0},null,null,null,null,0,0,0,0,0,0,0,0]
[null,null,null,null,null,null,null,null,null,null,null,null,null,null,null,null,null,null,null,null,null,"②",null,"③=①×②","④",null,"⑤=①×②×④","⑥",null,"⑦",null,{"$error":"#VALUE!"},{"$error":"#VALUE!"},{"$error":"#VALUE!"},{"$error":"#VALUE!"},{"$error":"#VALUE!"},{"$error":"#VALUE!"},{"$error":"#VALUE!"},{"$error":"#VALUE!"}]
["一般電気事業者","昼間（8時～22時）",null,"千kWh",null,null,null,null,null,null,null,null,null,null,null,null,null,null,null,null,null,9.9700000000000006,"GJ/千kWh",{"$f":"E46*V46","v":0},2.58E-2,{"$f":"ROUNDDOWN(V46*Y$46,5-INT(LOG(ABS(V46*Y$46))))","v":0.25722600000000001},{"$f":"E46*V46*Y$46","v":0},0.38600000000000001,"t-CO2/千kWh","―","―",0,0,0,0,0,0,0,0]
[null,"夜間（22時～翌8時）",null,"千kWh",null,null,null,null,null,null,null,null,null,null,null,null,null,null,null,null,null,9.2799999999999994,"GJ/千kWh",{"$f":"E47*V47","v":0},null,{"$f":"ROUNDDOWN(V47*Y$46,5-INT(LOG(ABS(V47*Y$46))))","v":0.239424},{"$f":"E47*V47*Y$46","v":0},0.38600000000000001,"t-CO2/千kWh","―","―",0,0,0,0,0,0,0,0]
["電気",null,null,"kWh",null,null,null,null,null,null,null,null,null,null,null,null,null,null,null,null,null,9.76,"GJ/千kWh",{"$f":"E48*V48/1000","v":0},null,{"$f":"ROUNDDOWN(V48*Y$46,5-INT(LOG(ABS(V48*Y$46))))","v":0.25180799999999998},{"$f":"E48*V48*Y$46/1000","v":0},{"$f":"AW48","v":0},"t-CO2/千kWh",null,null,{"$f":"ROUND(E48*$AB48*0.001,2)","v":0},0,0,0,0,0,0,0,0,0,0,0,0,0,0,0,0,null,"t-CO2/千kWh"]
[null,null,null,null,null,null,null,null,null,null,null,null,null,null,null,null,null,null,null,null,null,null,null,null,null,null,null,null,null,null,null,{"$f":"ROUND(E49*$AW49*0.001,2)","v":0},{"$f":"ROUND(F49*$AW49*0.001,2)","v":0},{"$f":"ROUND(G49*$AW49,2)","v":0},{"$f":"ROUND(H49*$AW49,2)","v":0},0,0,0,0,0,0,0,0,0,0,0,0,0,null,{"$f":"IF(D49=\"\",\"\",\"ｔ-ＣＯ₂/\"&D49)","v":""}]
[null,null,null,null,null,null,null,null,null,null,null,null,null,null,null,null,null,null,null,null,null,null,null,null,null,null,null,null,null,null,null,{"$f":"ROUND(E50*$AW50*0.001,2)","v":0},0,{"$f":"ROUND(G50*$AW50,2)","v":0},0,0,0,0,0,0,0,0,0,0,0,0,0,0,null,{"$f":"IF(D50=\"\",\"\",\"ｔ-ＣＯ₂/\"&D50)","v":""}]
["小計",null,null,null,null,null,null,null,null,null,null,null,null,null,null,null,null,null,null,null,null,null,null,{"$f":"SUM(X46:X48)","v":0},null,null,{"$f":"X51*Y46","v":0},null,null,null,null,{"$f":"SUM(AF46:AF48)","v":0},0,0,0,0,0,0,0,{"$f":"SUM(AN46:AN48)","v":0},0,0,0,{"$f":"SUM(AR46:AR48)","v":0},0,0,0,0]
["自ら生成した熱の供給",null,null,"GJ",null,null,null,null,null,null,null,null,null,null,null,null,null,null,null,null,null,null,null,null,null,null,null,0,"t-CO2\n/GJ",null,{"$f":"ROUNDDOWN(V52*AB52*44/12,2-INT(LOG(ABS(V52*Y$8*AB52*44/12))))","v":{"$error":"#NUM!"}},{"$f":"IF(ISERROR(-ABS(E52*AB52)),\"\",-ABS(E52*AB52))","v":0},"",0,"",0,"",0,"",0,"",{"$f":"IF(ISERROR(-ABS(O52*AL52)),\"\",-ABS(O52*AL52))","v":0},"",0,"",0,"",0]
["自ら生成した電力の供給",null,null,"千kWh",null,null,null,null,null,null,null,null,null,null,null,null,null,null,null,null,null,null,null,null,null,null,null,0,"t-CO2\n/千kWh",null,{"$f":"ROUNDDOWN(V53*AB53*44/12,2-INT(LOG(ABS(V53*Y$8*AB53*44/12))))","v":{"$error":"#NUM!"}},0,"",0,"",0,"",0,"",0,"",0,"",0,"",0,"",0]
["小計",null,null,null,null,null,null,null,null,null,null,null,null,null,null,null,null,null,null,null,null,null,null,null,null,null,null,null,null,null,null,{"$f":"SUM(AF52:AF53)","v":0},0,0,0,0,0,0,0,{"$f":"SUM(AN52:AN53)","v":0},0,0,0,{"$f":"SUM(AR52:AR53)","v":0},0,0,0,0]
[]
["合計",null,null,null,null,null,null,null,null,null,null,null,null,null,null,null,null,null,null,null,null,null,null,{"$f":"SUM(X44,X48)","v":0},2.58E-2,null,{"$f":"X56*Y56","v":0},null,null,null,null,{"$f":"AF10+AF14+AF13+AF19+AF32+AF48+AF49+AF50","v":0},{"$f":"AG10+AG14+AG13+AG19+AG32+AG48+AG49+AG50","v":0},0,0,0,0,0,0,0,0,0,0,0,0,0,0,0]
[null,null,null,"*軽油を種類別で計算したい場合に使用ください。",null,null,null,null,null,null,null,null,null,null,null,null,null,null,null,null,null,null,null,null,null,null,"日本工業規格Ａ列４番"]
["（２）車両台数内訳・・・・上記の発生源となる車両台数を記入する。"]
["ガソリン",null,null,"普通"]
[null,null,null,"軽"]
[null,null,null,"エコ"]

{"sheet":"４．燃料単位換算(工場現場)","index":7,"n_rows":80,"n_cols":58,"rows_kept":80,"cut":false,"hidden":false,"merged":[[52,2,52,4],[53,2,56,2],[53,3,54,3],[55,3,56,3],[42,2,44,3],[43,29,43,44],[45,2,47,3],[46,29,46,44],[50,11,50,14],[51,2,51,5],[51,6,51,28],[51,30,51,31],[51,32,51,54],[34,32,34,54],[35,2,35,4],[36,2,38,3],[37,29,37,44],[39,2,41,3],[40,29,40,44],[28,2,28,3],[29,2,29,3],[30,2,30,3],[30,4,30,28],[34,2,34,5],[34,6,34,28],[24,2,24,5],[24,6,24,28],[24,32,24,54],[25,2,25,3],[26,2,26,3],[27,2,27,3],[15,3,16,3],[17,4,17,28],[17,30,17,31],[18,3,19,3],[20,4,20,28],[20,30,20,31],[6,2,20,2],[6,3,7,3],[8,4,8,28],[8,30,8,31],[9,3,10,3],[11,4,11,28],[11,30,11,31],[12,3,13,3],[14,4,14,28],[4,32,4,54],[5,2,5,4],[14,30,14,31],[3,13,3,18],[4,2,4,5],[4,6,4,28],[4,30,4,31]]}
[]
[null,"４．燃料等使用量の単位換算（工場・現場）"]
[null,"ア　都市ガスの圧力及び標準状態換算",null,null,null,null,null,null,null,null,null,null,null,null,null,null,null,null,null,null,null,null,null,null,null,null,null,null,"エコアップ認証換算用"]
[]
[null,null,null,null,null,null,"使用量（換算前）",null,null,null,null,null,null,null,null,null,null,null,null,null,null,null,null,null,null,null,null,null,null,"換算単位",null,null,"使用量（換算後）",null,null,null,null,null,null,null,null,null,null,null,null,null,null,null,null,null,null,null,null,null,null,null,null,{"$f":"データコピー!$R$1","v":5}]
[null,null,null,null,null,"単位","14年度(2002)","15年度(2003)","16年度(2004)","17年度(2005)","18年度(2006)","19年度(2007)","20年度(2008)","21年度(2009)","22年度(2010)","23年度(2011)","24年度(2012)","25年度(2013)","26年度(2014)","27年度(2015)","28年度(2016)","29年度(2017)","30年度(2018)","31/1年度(2019)","2年度(2020)","3年度(2021)","4年度(2022)","5年度(2023)","6年度(2024)","単位","圧力補正","単位補正","14年度(2002)","15年度(2003)","16年度(2004)","17年度(2005)","18年度(2006)","19年度(2007)","20年度(2008)","21年度(2009)","22年度(2010)","23年度(2011)","24年度(2012)","25年度(2013)","26年度(2014)","27年度(2015)","28年度(2016)","29年度(2017)","30年度(2018)","1年度(2019)","2年度(2020)","3年度(2021)","4年度(2022)","5年度(2023)","6年度(2024)",null,"有効数字"]
[null,null,"都市ガス","13A:45MJ/m3","低圧用","m3",null,null,null,null,null,null,null,null,null,null,null,null,null,null,null,null,null,null,null,null,null,null,null,"千Nm3",{"$f":"IF(COUNTIF(F7,\"*Nm3\")>0,1,VLOOKUP(E7,$BA$71:$BB$72,2,FALSE))","v":0.96665500000000004},{"$f":"VLOOKUP($F7,$BA$60:$BB$63,2,FALSE)/VLOOKUP($AD7,$BA$60:$BB$63,2,FALSE)","v":1000},{"$f":"ROUND($AE7*G7/$AF7,0)","v":0},{"$f":"ROUND($AE7*H7/$AF7,0)","v":0},0,0,0,0,0,0,0,0,0,0,0,0,0,0,0,0,0,0,0,0,0]
[null,null,null,null,"中間圧以上用","m3",null,null,null,null,null,null,null,null,null,null,null,null,null,null,null,null,null,null,null,null,null,null,null,"千Nm3",{"$f":"IF(COUNTIF(F8,\"*Nm3\")>0,1,VLOOKUP(E8,$BA$71:$BB$72,2,FALSE))","v":0.95712200000000003},{"$f":"VLOOKUP($F8,$BA$60:$BB$63,2,FALSE)/VLOOKUP($AD8,$BA$60:$BB$63,2,FALSE)","v":1000},{"$f":"ROUND($AE8*G8/$AF8,0)","v":0},0,0,0,0,0,0,0,0,0,0,0,0,0,0,0,0,0,0,0,0,0,0]
[null,null,null,null,null,null,null,null,null,null,null,null,null,null,null,null,null,null,null,null,null,null,null,null,null,null,null,null,null,null,null,null,{"$f":"SUM(AG7:AG8)","v":0},{"$f":"SUM(AH7:AH8)","v":0},0,0,0,0,0,0,0,0,0,0,0,0,0,0,0,0,0,0,0,0,0]
[null,null,null,"13A:43.12MJ/m3","低圧用","m3",null,null,null,null,null,null,null,null,null,null,null,null,null,null,null,null,null,null,null,null,null,null,null,"千Nm3",{"$f":"IF(COUNTIF(F10,\"*Nm3\")>0,1,VLOOKUP(E10,$BA$71:$BB$72,2,FALSE))","v":0.96665500000000004},{"$f":"VLOOKUP($F10,$BA$60:$BB$63,2,FALSE)/VLOOKUP($AD10,$BA$60:$BB$63,2,FALSE)","v":1000},{"$f":"ROUND($AE10*G10/$AF10,0)","v":0},{"$f":"ROUND($AE10*H10/$AF10,0)","v":0},{"$f":"ROUND($AE10*I10/$AF10,0)","v":0},{"$f":"ROUND($AE10*J10/$AF10,0)","v":0},{"$f":"ROUND($AE10*K10/$AF10,0)","v":0},{"$f":"ROUND($AE10*L10/$AF10,0)","v":0},{"$f":"ROUND($AE10*M10/$AF10,0)","v":0},{"$f":"ROUND($AE10*N10/$AF10,0)","v":0},{"$f":"ROUND($AE10*O10/$AF10,0)","v":0},{"$f":"ROUND($AE10*P10/$AF10,0)","v":0},{"$f":"ROUND($AE10*Q10/$AF10,0)","v":0},{"$f":"ROUND($AE10*R10/$AF10,0)","v":0},{"$f":"ROUND($AE10*S10/$AF10,0)","v":0},{"$f":"ROUND($AE10*T10/$AF10,0)","v":0},{"$f":"ROUND($AE10*U10/$AF10,0)","v":0},{"$f":"ROUND($AE10*V10/$AF10,0)","v":0},{"$f":"ROUND($AE10*W10/$AF10,0)","v":0},{"$f":"ROUND($AE10*X10/$AF10,0)","v":0},{"$f":"ROUND($AE10*Y10/$AF10,0)","v":0},{"$f":"ROUND($AE10*Z10/$AF10,0)","v":0},{"$f":"ROUND($AE10*AA10/$AF10,0)","v":0},{"$f":"ROUND($AE10*AB10/$AF10,0)","v":0},{"$f":"ROUND($AE10*AC10/$AF10,0)","v":0}]
[null,null,null,null,"中間圧以上用","m3",null,null,null,null,null,null,null,null,null,null,null,null,null,null,null,null,null,null,null,null,null,null,null,"千Nm3",{"$f":"IF(COUNTIF(F11,\"*Nm3\")>0,1,VLOOKUP(E11,$BA$71:$BB$72,2,FALSE))","v":0.95712200000000003},{"$f":"VLOOKUP($F11,$BA$60:$BB$63,2,FALSE)/VLOOKUP($AD11,$BA$60:$BB$63,2,FALSE)","v":1000},{"$f":"ROUND($AE11*G11/$AF11,0)","v":0},0,0,0,0,0,0,0,0,0,0,0,0,0,0,0,0,0,0,0,0,0,0]
[null,null,null,null,null,null,null,null,null,null,null,null,null,null,null,null,null,null,null,null,null,null,null,null,null,null,null,null,null,null,null,null,{"$f":"SUM(AG10:AG11)","v":0},{"$f":"SUM(AH10:AH11)","v":0},0,0,0,0,0,0,0,0,0,0,0,0,0,0,0,0,0,0,0,0,0]
[null,null,null,"13A:46.04MJ/m3","低圧用","m3",null,null,null,null,null,null,null,null,null,null,null,null,null,null,null,null,null,null,null,null,null,null,null,"千Nm3",{"$f":"IF(COUNTIF(F13,\"*Nm3\")>0,1,VLOOKUP(E13,$BA$71:$BB$72,2,FALSE))","v":0.96665500000000004},{"$f":"VLOOKUP($F13,$BA$60:$BB$63,2,FALSE)/VLOOKUP($AD13,$BA$60:$BB$63,2,FALSE)","v":1000},{"$f":"ROUND($AE13*G13/$AF13,0)","v":0},{"$f":"ROUND($AE13*H13/$AF13,0)","v":0},{"$f":"ROUND($AE13*I13/$AF13,0)","v":0},{"$f":"ROUND($AE13*J13/$AF13,0)","v":0},{"$f":"ROUND($AE13*K13/$AF13,0)","v":0},{"$f":"ROUND($AE13*L13/$AF13,0)","v":0},{"$f":"ROUND($AE13*M13/$AF13,0)","v":0},{"$f":"ROUND($AE13*N13/$AF13,0)","v":0},{"$f":"ROUND($AE13*O13/$AF13,0)","v":0},{"$f":"ROUND($AE13*P13/$AF13,0)","v":0},{"$f":"ROUND($AE13*Q13/$AF13,0)","v":0},{"$f":"ROUND($AE13*R13/$AF13,0)","v":0},{"$f":"ROUND($AE13*S13/$AF13,0)","v":0},{"$f":"ROUND($AE13*T13/$AF13,0)","v":0},{"$f":"ROUND($AE13*U13/$AF13,0)","v":0},{"$f":"ROUND($AE13*V13/$AF13,0)","v":0},{"$f":"ROUND($AE13*W13/$AF13,0)","v":0},{"$f":"ROUND($AE13*X13/$AF13,0)","v":0},{"$f":"ROUND($AE13*Y13/$AF13,0)","v":0},{"$f":"ROUND($AE13*Z13/$AF13,0)","v":0},{"$f":"ROUND($AE13*AA13/$AF13,0)","v":0},{"$f":"ROUND($AE13*AB13/$AF13,0)","v":0},{"$f":"ROUND($AE13*AC13/$AF13,0)","v":0}]
[null,null,null,null,"中間圧以上用","m3",null,null,null,null,null,null,null,null,null,null,null,null,null,null,null,null,null,null,null,null,null,null,null,"千Nm3",{"$f":"IF(COUNTIF(F14,\"*Nm3\")>0,1,VLOOKUP(E14,$BA$71:$BB$72,2,FALSE))","v":0.95712200000000003},{"$f":"VLOOKUP($F14,$BA$60:$BB$63,2,FALSE)/VLOOKUP($AD14,$BA$60:$BB$63,2,FALSE)","v":1000},{"$f":"ROUND($AE14*G14/$AF14,0)","v":0},0,0,0,0,0,0,0,0,0,0,0,0,0,0,0,0,0,0,0,0,0,0]
[null,null,null,null,null,null,null,null,null,null,null,null,null,null,null,null,null,null,null,null,null,null,null,null,null,null,null,null,null,null,null,null,{"$f":"SUM(AG13:AG14)","v":0},{"$f":"SUM(AH13:AH14)","v":0},0,0,0,0,0,0,0,0,0,0,0,0,0,0,0,0,0,0,0,0,0]
[null,null,null,"12A:41.86MJ/m3","低圧用","m3",null,null,null,null,null,null,null,null,null,null,null,null,null,null,null,null,null,null,null,null,null,null,null,"千Nm3",{"$f":"IF(COUNTIF(F16,\"*Nm3\")>0,1,VLOOKUP(E16,$BA$71:$BB$72,2,FALSE))","v":0.96665500000000004},{"$f":"VLOOKUP($F16,$BA$60:$BB$63,2,FALSE)/VLOOKUP($AD16,$BA$60:$BB$63,2,FALSE)","v":1000},{"$f":"ROUND($AE16*G16/$AF16,0)","v":0},{"$f":"ROUND($AE16*H16/$AF16,0)","v":0},{"$f":"ROUND($AE16*I16/$AF16,0)","v":0},{"$f":"ROUND($AE16*J16/$AF16,0)","v":0},{"$f":"ROUND($AE16*K16/$AF16,0)","v":0},{"$f":"ROUND($AE16*L16/$AF16,0)","v":0},{"$f":"ROUND($AE16*M16/$AF16,0)","v":0},{"$f":"ROUND($AE16*N16/$AF16,0)","v":0},{"$f":"ROUND($AE16*O16/$AF16,0)","v":0},{"$f":"ROUND($AE16*P16/$AF16,0)","v":0},{"$f":"ROUND($AE16*Q16/$AF16,0)","v":0},{"$f":"ROUND($AE16*R16/$AF16,0)","v":0},{"$f":"ROUND($AE16*S16/$AF16,0)","v":0},{"$f":"ROUND($AE16*T16/$AF16,0)","v":0},{"$f":"ROUND($AE16*U16/$AF16,0)","v":0},{"$f":"ROUND($AE16*V16/$AF16,0)","v":0},{"$f":"ROUND($AE16*W16/$AF16,0)","v":0},{"$f":"ROUND($AE16*X16/$AF16,0)","v":0},{"$f":"ROUND($AE16*Y16/$AF16,0)","v":0},{"$f":"ROUND($AE16*Z16/$AF16,0)","v":0},{"$f":"ROUND($AE16*AA16/$AF16,0)","v":0},{"$f":"ROUND($AE16*AB16/$AF16,0)","v":0},{"$f":"ROUND($AE16*AC16/$AF16,0)","v":0}]
[null,null,null,null,"中間圧以上用","m3",null,null,null,null,null,null,null,null,null,null,null,null,null,null,null,null,null,null,null,null,null,null,null,"千Nm3",{"$f":"IF(COUNTIF(F17,\"*Nm3\")>0,1,VLOOKUP(E17,$BA$71:$BB$72,2,FALSE))","v":0.95712200000000003},{"$f":"VLOOKUP($F17,$BA$60:$BB$63,2,FALSE)/VLOOKUP($AD17,$BA$60:$BB$63,2,FALSE)","v":1000},{"$f":"ROUND($AE17*G17/$AF17,0)","v":0},0,0,0,0,0,0,0,0,0,0,0,0,0,0,0,0,0,0,0,0,0,0]
[null,null,null,null,null,null,null,null,null,null,null,null,null,null,null,null,null,null,null,null,null,null,null,null,null,null,null,null,null,null,null,null,{"$f":"SUM(AG16:AG17)","v":0},{"$f":"SUM(AH16:AH17)","v":0},0,0,0,0,0,0,0,0,0,0,0,0,0,0,0,0,0,0,0,0,0]
[null,null,null,"6A:29.30MJ/m3","低圧用","m3",null,null,null,null,null,null,null,null,null,null,null,null,null,null,null,null,null,null,null,null,null,null,null,"千Nm3",{"$f":"IF(COUNTIF(F19,\"*Nm3\")>0,1,VLOOKUP(E19,$BA$71:$BB$72,2,FALSE))","v":0.96665500000000004},{"$f":"VLOOKUP($F19,$BA$60:$BB$63,2,FALSE)/VLOOKUP($AD19,$BA$60:$BB$63,2,FALSE)","v":1000},{"$f":"ROUND($AE19*G19/$AF19,0)","v":0},{"$f":"ROUND($AE19*H19/$AF19,0)","v":0},{"$f":"ROUND($AE19*I19/$AF19,0)","v":0},{"$f":"ROUND($AE19*J19/$AF19,0)","v":0},{"$f":"ROUND($AE19*K19/$AF19,0)","v":0},{"$f":"ROUND($AE19*L19/$AF19,0)","v":0},{"$f":"ROUND($AE19*M19/$AF19,0)","v":0},{"$f":"ROUND($AE19*N19/$AF19,0)","v":0},{"$f":"ROUND($AE19*O19/$AF19,0)","v":0},{"$f":"ROUND($AE19*P19/$AF19,0)","v":0},{"$f":"ROUND($AE19*Q19/$AF19,0)","v":0},{"$f":"ROUND($AE19*R19/$AF19,0)","v":0},{"$f":"ROUND($AE19*S19/$AF19,0)","v":0},{"$f":"ROUND($AE19*T19/$AF19,0)","v":0},{"$f":"ROUND($AE19*U19/$AF19,0)","v":0},{"$f":"ROUND($AE19*V19/$AF19,0)","v":0},{"$f":"ROUND($AE19*W19/$AF19,0)","v":0},{"$f":"ROUND($AE19*X19/$AF19,0)","v":0},{"$f":"ROUND($AE19*Y19/$AF19,0)","v":0},{"$f":"ROUND($AE19*Z19/$AF19,0)","v":0},{"$f":"ROUND($AE19*AA19/$AF19,0)","v":0},{"$f":"ROUND($AE19*AB19/$AF19,0)","v":0},{"$f":"ROUND($AE19*AC19/$AF19,0)","v":0}]
[null,null,null,null,"中間圧以上用","m3",null,null,null,null,null,null,null,null,null,null,null,null,null,null,null,null,null,null,null,null,null,null,null,"千Nm3",{"$f":"IF(COUNTIF(F20,\"*Nm3\")>0,1,VLOOKUP(E20,$BA$71:$BB$72,2,FALSE))","v":0.95712200000000003},{"$f":"VLOOKUP($F20,$BA$60:$BB$63,2,FALSE)/VLOOKUP($AD20,$BA$60:$BB$63,2,FALSE)","v":1000},{"$f":"ROUND($AE20*G20/$AF20,0)","v":0},0,0,0,0,0,0,0,0,0,0,0,0,0,0,0,0,0,0,0,0,0,0]
[null,null,null,null,null,null,null,null,null,null,null,null,null,null,null,null,null,null,null,null,null,null,null,null,null,null,null,null,null,null,null,null,{"$f":"SUM(AG19:AG20)","v":0},{"$f":"SUM(AH19:AH20)","v":0},0,0,0,0,0,0,0,0,0,0,0,0,0,0,0,0,0,0,0,0,0]
[]
[null,"イ　液化石油ガス（ＬＰＧ）"]
[]
[null,null,null,null,null,null,"使用量（換算前）",null,null,null,null,null,null,null,null,null,null,null,null,null,null,null,null,null,null,null,null,null,null,"換算後",null,null,"使用量（換算後）"]
[null,null,"種別",null,"気化率\nm3/kg","単位","14年度(2002)","15年度(2003)","16年度(2004)","17年度(2005)","18年度(2006)","19年度(2007)","20年度(2008)","21年度(2009)","22年度(2010)","23年度(2011)","24年度(2012)","25年度(2013)","26年度(2014)","27年度(2015)","28年度(2016)","29年度(2017)","30年度(2018)","31/1年度(2019)","2年度(2020)","3年度(2021)","4年度(2022)","5年度(2023)","6年度(2024)","単位","単位換算","桁補正","14年度(2002)","15年度(2003)","16年度(2004)","17年度(2005)","18年度(2006)","19年度(2007)","20年度(2008)","21年度(2009)","22年度(2010)","23年度(2011)","24年度(2012)","25年度(2013)","26年度(2014)","27年度(2015)","28年度(2016)","29年度(2017)","30年度(2018)","31/1年度(2019)","2年度(2020)","3年度(2021)","4年度(2022)","5年度(2023)","6年度(2024)"]
[null,null,"プロパン・ブタン混合ガス\n（LPガス）",null,0.45800000000000002,"kg",null,null,null,null,null,null,null,null,null,null,null,null,null,null,null,null,null,null,null,null,null,null,null,"t",{"$f":"IF(OR(F27=\"kg\",F27=\"ｔ\"),1,E27)","v":1},{"$f":"VLOOKUP(F27,$BA$58:$BB$61,2,FALSE)","v":1000},{"$f":"ROUND(G27/$AE27/$AF27,0)","v":0},0,0,0,0,0,0,0,{"$f":"ROUND(O27/$AE27/$AF27,0)","v":0},{"$f":"ROUND(P27/$AE27/$AF27,0)","v":0},0,0,0,0,0,0,0,0,0,0,0,0,0]
[null,null,"プロパン",null,0.502,"kg",null,null,null,null,null,null,null,null,null,null,null,null,null,null,null,null,null,null,null,null,null,null,null,"t",{"$f":"IF(OR(F28=\"kg\",F28=\"ｔ\"),1,E28)","v":1},{"$f":"VLOOKUP(F28,$BA$58:$BB$61,2,FALSE)","v":1000},0,0,0,0,0,0,0,0,{"$f":"ROUND(O28/$AE28/$AF28,0)","v":0},0,0,0,0,0,0,0,0,0,0,0,0,0,0]
[null,null,"ブタン",null,0.35499999999999998,"kg",null,null,null,null,null,null,null,null,null,null,null,null,null,null,null,null,null,null,null,null,null,null,null,"t",{"$f":"IF(OR(F29=\"kg\",F29=\"ｔ\"),1,E29)","v":1},{"$f":"VLOOKUP(F29,$BA$58:$BB$61,2,FALSE)","v":1000},0,0,0,0,0,0,0,0,0,0,0,0,0,0,0,0,0,0,0,0,0,0,0]
[null,null,"その他",null,0.48199999999999998,"kg",null,null,null,null,null,null,null,null,null,null,null,null,null,null,null,null,null,null,null,null,null,null,null,"t",{"$f":"IF(OR(F30=\"kg\",F30=\"ｔ\"),1,E30)","v":1},{"$f":"VLOOKUP(F30,$BA$58:$BB$61,2,FALSE)","v":1000},0,0,0,0,0,0,0,0,0,0,0,0,0,0,0,0,0,0,0,0,0,0,0]
[null,null,null,null,null,null,null,null,null,null,null,null,null,null,null,null,null,null,null,null,null,null,null,null,null,null,null,null,null,null,null,null,{"$f":"SUM(AG27:AG30)","v":0},0,0,0,0,0,0,0,0,0,0,0,0,0,0,0,0,0,{"$f":"SUM(AY27:AY30)","v":0},0,0,0,0]
[]
[null,"ウ　都市ガス・LPG以外の気体燃料"]
[]
[null,null,null,null,null,null,"使用量（換算前）",null,null,null,null,null,null,null,null,null,null,null,null,null,null,null,null,null,null,null,null,null,null,"換算単位",null,null,"使用量（換算後）"]
[null,null,null,null,null,"単位","14年度(2002)","15年度(2003)","16年度(2004)","17年度(2005)","18年度(2006)","19年度(2007)","20年度(2008)","21年度(2009)","22年度(2010)","23年度(2011)","24年度(2012)","25年度(2013)","26年度(2014)","27年度(2015)","28年度(2016)","29年度(2017)","30年度(2018)","31/1年度(2019)","2年度(2020)","3年度(2021)","4年度(2022)","5年度(2023)","6年度(2024)","単位",null,null,"14年度(2002)","15年度(2003)","16年度(2004)","17年度(2005)","18年度(2006)","19年度(2007)","20年度(2008)","21年度(2009)","22年度(2010)","23年度(2011)","24年度(2012)","25年度(2013)","26年度(2014)","27年度(2015)","28年度(2016)","29年度(2017)","30年度(2018)","31/1年度(2019)","2年度(2020)","3年度(2021)","4年度(2022)","5年度(2023)","6年度(2024)"]
[null,null,"その他可燃性\n天然ガス",null,"気体燃料\n圧力","kPa",null,null,null,null,null,null,null,null,null,null,null,null,null,null,null,null,null,null,null,null,null,null,null,null,"圧力補正",null,{"$f":"IF(COUNTIF(F39,\"*Nm3\")>0,1,G37/101.325*273.15/(273.15+G38))","v":0},{"$f":"IF(COUNTIF(F39,\"*Nm3\")>0,1,H37/101.325*273.15/(273.15+H38))","v":0},{"$f":"IF(COUNTIF(F39,\"*Nm3\")>0,1,I37/101.325*273.15/(273.15+I38))","v":0},{"$f":"IF(COUNTIF(F39,\"*Nm3\")>0,1,J37/101.325*273.15/(273.15+J38))","v":0},{"$f":"IF(COUNTIF(F39,\"*Nm3\")>0,1,K37/101.325*273.15/(273.15+K38))","v":0},{"$f":"IF(COUNTIF(F39,\"*Nm3\")>0,1,L37/101.325*273.15/(273.15+L38))","v":0},{"$f":"IF(COUNTIF(F39,\"*Nm3\")>0,1,M37/101.325*273.15/(273.15+M38))","v":0},{"$f":"IF(COUNTIF(F39,\"*Nm3\")>0,1,N37/101.325*273.15/(273.15+N38))","v":0},{"$f":"IF(COUNTIF(F39,\"*Nm3\")>0,1,O37/101.325*273.15/(273.15+O38))","v":0},{"$f":"IF(COUNTIF(F39,\"*Nm3\")>0,1,P37/101.325*273.15/(273.15+P38))","v":0},{"$f":"IF(COUNTIF(F39,\"*Nm3\")>0,1,Q37/101.325*273.15/(273.15+Q38))","v":0},{"$f":"IF(COUNTIF(F39,\"*Nm3\")>0,1,R37/101.325*273.15/(273.15+R38))","v":0},{"$f":"IF(COUNTIF(F39,\"*Nm3\")>0,1,S37/101.325*273.15/(273.15+S38))","v":0},0,0,0,0,0,0,0,0,0,0]
[null,null,null,null,"気体燃料\n温度","℃"]
[null,null,null,null,"使用量","m3",null,null,null,null,null,null,null,null,null,null,null,null,null,null,null,null,null,null,null,null,null,null,null,"千Nm3","単位補正",{"$f":"VLOOKUP($F39,$BA$60:$BB$63,2,FALSE)/VLOOKUP($AD39,$BA$60:$BB$63,2,FALSE)","v":1000},{"$f":"ROUND(H14_その他ガス*$AG37/$AF39,0)","v":0},{"$f":"ROUND(H15_その他ガス*$AH37/$AF39,0)","v":0},{"$f":"ROUND(H16_その他ガス*$AI37/$AF39,0)","v":0},{"$f":"ROUND(H17_その他ガス*$AJ37/$AF39,0)","v":0},{"$f":"ROUND(H18_その他ガス*$AK37/$AF39,0)","v":0},{"$f":"ROUND(H19_その他ガス*$AL37/$AF39,0)","v":0},{"$f":"ROUND(H20_その他ガス*$AM37/$AF39,0)","v":0},{"$f":"ROUND(H21_その他ガス*$AN37/$AF39,0)","v":0},{"$f":"ROUND(H22_その他ガス*$AO37/$AF39,0)","v":0},{"$f":"ROUND(H23_その他ガス*$AP37/$AF39,0)","v":0},{"$f":"ROUND(H24_その他ガス*$AQ37/$AF39,0)","v":0},{"$f":"ROUND(H25_その他ガス*$AR37/$AF39,0)","v":0},{"$f":"ROUND(H26_その他ガス*$AS37/$AF39,0)","v":0},{"$f":"ROUND(H27_その他ガス*$AS37/$AF39,0)","v":0},{"$f":"ROUND(H28_その他ガス*$AS37/$AF39,0)","v":0},{"$f":"ROUND(H29_その他ガス*$AS37/$AF39,0)","v":0},{"$f":"ROUND(H30_その他ガス*$AS37/$AF39,0)","v":0},{"$f":"ROUND(H31_その他ガス*$AS37/$AF39,0)","v":0},{"$f":"ROUND(Y39*$AS37/$AF39,0)","v":0},{"$f":"ROUND(Z39*$AS37/$AF39,0)","v":0},0,0,0]
[null,null,"コークス炉ガス",null,"気体燃料\n圧力","kPa",null,null,null,null,null,null,null,null,null,null,null,null,null,null,null,null,null,null,null,null,null,null,null,null,"圧力補正",null,{"$f":"IF(COUNTIF(F42,\"*Nm3\")>0,1,G40/101.325*273.15/(273.15+G41))","v":0},{"$f":"IF(COUNTIF(F42,\"*Nm3\")>0,1,H40/101.325*273.15/(273.15+H41))","v":0},{"$f":"IF(COUNTIF(F42,\"*Nm3\")>0,1,I40/101.325*273.15/(273.15+I41))","v":0},{"$f":"IF(COUNTIF(F42,\"*Nm3\")>0,1,J40/101.325*273.15/(273.15+J41))","v":0},{"$f":"IF(COUNTIF(F42,\"*Nm3\")>0,1,K40/101.325*273.15/(273.15+K41))","v":0},{"$f":"IF(COUNTIF(F42,\"*Nm3\")>0,1,L40/101.325*273.15/(273.15+L41))","v":0},{"$f":"IF(COUNTIF(F42,\"*Nm3\")>0,1,M40/101.325*273.15/(273.15+M41))","v":0},{"$f":"IF(COUNTIF(F42,\"*Nm3\")>0,1,N40/101.325*273.15/(273.15+N41))","v":0},{"$f":"IF(COUNTIF(F42,\"*Nm3\")>0,1,O40/101.325*273.15/(273.15+O41))","v":0},{"$f":"IF(COUNTIF(F42,\"*Nm3\")>0,1,P40/101.325*273.15/(273.15+P41))","v":0},{"$f":"IF(COUNTIF(F42,\"*Nm3\")>0,1,Q40/101.325*273.15/(273.15+Q41))","v":0},{"$f":"IF(COUNTIF(F42,\"*Nm3\")>0,1,R40/101.325*273.15/(273.15+R41))","v":0},{"$f":"IF(COUNTIF(F42,\"*Nm3\")>0,1,S40/101.325*273.15/(273.15+S41))","v":0},0,0,0,0,0,0,0,0,0,0]
[null,null,null,null,"気体燃料\n温度","℃"]
[null,null,null,null,"使用量","m3",null,null,null,null,null,null,null,null,null,null,null,null,null,null,null,null,null,null,null,null,null,null,null,"千Nm3","単位補正",{"$f":"VLOOKUP($F42,$BA$60:$BB$63,2,FALSE)","v":1000},{"$f":"ROUND(H14_その他ガス*$AG40/$AF42,0)","v":0},{"$f":"ROUND(H15_その他ガス*$AH40/$AF42,0)","v":0},{"$f":"ROUND(H16_その他ガス*$AI40/$AF42,0)","v":0},{"$f":"ROUND(H17_その他ガス*$AJ40/$AF42,0)","v":0},{"$f":"ROUND(H18_その他ガス*$AK40/$AF42,0)","v":0},{"$f":"ROUND(H19_その他ガス*$AL40/$AF42,0)","v":0},{"$f":"ROUND(H20_その他ガス*$AM40/$AF42,0)","v":0},{"$f":"ROUND(H21_その他ガス*$AN40/$AF42,0)","v":0},{"$f":"ROUND(H22_その他ガス*$AO40/$AF42,0)","v":0},{"$f":"ROUND(H23_その他ガス*$AP40/$AF42,0)","v":0},{"$f":"ROUND(H24_その他ガス*$AQ40/$AF42,0)","v":0},{"$f":"ROUND(H25_その他ガス*$AR40/$AF42,0)","v":0},{"$f":"ROUND(H26_その他ガス*$AS40/$AF42,0)","v":0},{"$f":"ROUND(H27_その他ガス*$AS40/$AF42,0)","v":0},{"$f":"ROUND(H28_その他ガス*$AS40/$AF42,0)","v":0},{"$f":"ROUND(H29_その他ガス*$AS40/$AF42,0)","v":0},{"$f":"ROUND(H30_その他ガス*$AS40/$AF42,0)","v":0},{"$f":"ROUND(H31_その他ガス*$AS40/$AF42,0)","v":0},{"$f":"ROUND(Y42*$AS40/$AF42,0)","v":0},{"$f":"ROUND(Z42*$AS40/$AF42,0)","v":0},0,0,0]
[null,null,"高炉ガス",null,"気体燃料\n圧力","kPa",null,null,null,null,null,null,null,null,null,null,null,null,null,null,null,null,null,null,null,null,null,null,null,null,"圧力補正",null,{"$f":"IF(COUNTIF(F45,\"*Nm3\")>0,1,G43/101.325*273.15/(273.15+G44))","v":0},{"$f":"IF(COUNTIF(F45,\"*Nm3\")>0,1,H43/101.325*273.15/(273.15+H44))","v":0},{"$f":"IF(COUNTIF(F45,\"*Nm3\")>0,1,I43/101.325*273.15/(273.15+I44))","v":0},{"$f":"IF(COUNTIF(F45,\"*Nm3\")>0,1,J43/101.325*273.15/(273.15+J44))","v":0},{"$f":"IF(COUNTIF(F45,\"*Nm3\")>0,1,K43/101.325*273.15/(273.15+K44))","v":0},{"$f":"IF(COUNTIF(F45,\"*Nm3\")>0,1,L43/101.325*273.15/(273.15+L44))","v":0},{"$f":"IF(COUNTIF(F45,\"*Nm3\")>0,1,M43/101.325*273.15/(273.15+M44))","v":0},{"$f":"IF(COUNTIF(F45,\"*Nm3\")>0,1,N43/101.325*273.15/(273.15+N44))","v":0},{"$f":"IF(COUNTIF(F45,\"*Nm3\")>0,1,O43/101.325*273.15/(273.15+O44))","v":0},{"$f":"IF(COUNTIF(F45,\"*Nm3\")>0,1,P43/101.325*273.15/(273.15+P44))","v":0},{"$f":"IF(COUNTIF(F45,\"*Nm3\")>0,1,Q43/101.325*273.15/(273.15+Q44))","v":0},{"$f":"IF(COUNTIF(F45,\"*Nm3\")>0,1,R43/101.325*273.15/(273.15+R44))","v":0},{"$f":"IF(COUNTIF(F45,\"*Nm3\")>0,1,S43/101.325*273.15/(273.15+S44))","v":0},0,0,0,0,0,0,0,0,0,0]
[null,null,null,null,"気体燃料\n温度","℃"]
[null,null,null,null,"使用量","m3",null,null,null,null,null,null,null,null,null,null,null,null,null,null,null,null,null,null,null,null,null,null,null,"千Nm3","単位補正",{"$f":"VLOOKUP($F45,$BA$60:$BB$63,2,FALSE)","v":1000},{"$f":"ROUND(H14_その他ガス*$AG43/$AF45,0)","v":0},{"$f":"ROUND(H15_その他ガス*$AH43/$AF45,0)","v":0},{"$f":"ROUND(H16_その他ガス*$AI43/$AF45,0)","v":0},{"$f":"ROUND(H17_その他ガス*$AJ43/$AF45,0)","v":0},{"$f":"ROUND(H18_その他ガス*$AK43/$AF45,0)","v":0},{"$f":"ROUND(H19_その他ガス*$AL43/$AF45,0)","v":0},{"$f":"ROUND(H20_その他ガス*$AM43/$AF45,0)","v":0},{"$f":"ROUND(H21_その他ガス*$AN43/$AF45,0)","v":0},{"$f":"ROUND(H22_その他ガス*$AO43/$AF45,0)","v":0},{"$f":"ROUND(H23_その他ガス*$AP43/$AF45,0)","v":0},{"$f":"ROUND(H24_その他ガス*$AQ43/$AF45,0)","v":0},{"$f":"ROUND(H25_その他ガス*$AR43/$AF45,0)","v":0},{"$f":"ROUND(H26_その他ガス*$AS43/$AF45,0)","v":0},{"$f":"ROUND(H27_その他ガス*$AS43/$AF45,0)","v":0},{"$f":"ROUND(H28_その他ガス*$AS43/$AF45,0)","v":0},{"$f":"ROUND(H29_その他ガス*$AS43/$AF45,0)","v":0},{"$f":"ROUND(H30_その他ガス*$AS43/$AF45,0)","v":0},{"$f":"ROUND(H31_その他ガス*$AS43/$AF45,0)","v":0},{"$f":"ROUND(Y45*$AS43/$AF45,0)","v":0},{"$f":"ROUND(Z45*$AS43/$AF45,0)","v":0},0,0,0]
[null,null,"転炉ガス",null,"気体燃料\n圧力","kPa",null,null,null,null,null,null,null,null,null,null,null,null,null,null,null,null,null,null,null,null,null,null,null,null,"圧力補正",null,{"$f":"IF(COUNTIF(F48,\"*Nm3\")>0,1,G46/101.325*273.15/(273.15+G47))","v":0},{"$f":"IF(COUNTIF(F48,\"*Nm3\")>0,1,H46/101.325*273.15/(273.15+H47))","v":0},{"$f":"IF(COUNTIF(F48,\"*Nm3\")>0,1,I46/101.325*273.15/(273.15+I47))","v":0},{"$f":"IF(COUNTIF(F48,\"*Nm3\")>0,1,J46/101.325*273.15/(273.15+J47))","v":0},{"$f":"IF(COUNTIF(F48,\"*Nm3\")>0,1,K46/101.325*273.15/(273.15+K47))","v":0},{"$f":"IF(COUNTIF(F48,\"*Nm3\")>0,1,L46/101.325*273.15/(273.15+L47))","v":0},{"$f":"IF(COUNTIF(F48,\"*Nm3\")>0,1,M46/101.325*273.15/(273.15+M47))","v":0},{"$f":"IF(COUNTIF(F48,\"*Nm3\")>0,1,N46/101.325*273.15/(273.15+N47))","v":0},{"$f":"IF(COUNTIF(F48,\"*Nm3\")>0,1,O46/101.325*273.15/(273.15+O47))","v":0},{"$f":"IF(COUNTIF(F48,\"*Nm3\")>0,1,P46/101.325*273.15/(273.15+P47))","v":0},{"$f":"IF(COUNTIF(F48,\"*Nm3\")>0,1,Q46/101.325*273.15/(273.15+Q47))","v":0},{"$f":"IF(COUNTIF(F48,\"*Nm3\")>0,1,R46/101.325*273.15/(273.15+R47))","v":0},{"$f":"IF(COUNTIF(F48,\"*Nm3\")>0,1,S46/101.325*273.15/(273.15+S47))","v":0},0,0,0,0,0,0,0,0,0,0]
[null,null,null,null,"気体燃料\n温度","℃"]
[null,null,null,null,"使用量","m3",null,null,null,null,null,null,null,null,null,null,null,null,null,null,null,null,null,null,null,null,null,null,null,"千Nm3","単位補正",{"$f":"VLOOKUP($F48,$BA$60:$BB$63,2,FALSE)","v":1000},{"$f":"ROUND(H14_その他ガス*$AG46/$AF48,0)","v":0},{"$f":"ROUND(H15_その他ガス*$AH46/$AF48,0)","v":0},{"$f":"ROUND(H16_その他ガス*$AI46/$AF48,0)","v":0},{"$f":"ROUND(H17_その他ガス*$AJ46/$AF48,0)","v":0},{"$f":"ROUND(H18_その他ガス*$AK46/$AF48,0)","v":0},{"$f":"ROUND(H19_その他ガス*$AL46/$AF48,0)","v":0},{"$f":"ROUND(H20_その他ガス*$AM46/$AF48,0)","v":0},{"$f":"ROUND(H21_その他ガス*$AN46/$AF48,0)","v":0},{"$f":"ROUND(H22_その他ガス*$AO46/$AF48,0)","v":0},{"$f":"ROUND(H23_その他ガス*$AP46/$AF48,0)","v":0},{"$f":"ROUND(H24_その他ガス*$AQ46/$AF48,0)","v":0},{"$f":"ROUND(H25_その他ガス*$AR46/$AF48,0)","v":0},{"$f":"ROUND(H26_その他ガス*$AS46/$AF48,0)","v":0},{"$f":"ROUND(H27_その他ガス*$AS46/$AF48,0)","v":0},{"$f":"ROUND(H28_その他ガス*$AS46/$AF48,0)","v":0},{"$f":"ROUND(H29_その他ガス*$AS46/$AF48,0)","v":0},{"$f":"ROUND(H30_その他ガス*$AS46/$AF48,0)","v":0},{"$f":"ROUND(H31_その他ガス*$AS46/$AF48,0)","v":0},{"$f":"ROUND(Y48*$AS46/$AF48,0)","v":0},{"$f":"ROUND(Z48*$AS46/$AF48,0)","v":0},0,0,0]
[]
[null,"エ　電気または熱の事業所外への供給"]
[]
[null,null,null,null,null,null,"使用量（換算前）",null,null,null,null,null,null,null,null,null,null,null,null,null,null,null,null,null,null,null,null,null,null,"換算単位",null,null,"使用量（換算後）"]
[null,null,null,null,null,"単位","14年度(2002)","15年度(2003)","16年度(2004)","17年度(2005)","18年度(2006)","19年度(2007)","20年度(2008)","21年度(2009)","22年度(2010)","23年度(2011)","24年度(2012)","25年度(2013)","26年度(2014)","27年度(2015)","28年度(2016)","29年度(2017)","30年度(2018)","31/1年度(2019)","2年度(2020)","3年度(2021)","4年度(2022)","5年度(2023)","6年度(2024)","単位",null,"単位補正","14年度(2002)","15年度(2003)","16年度(2004)","17年度(2005)","18年度(2006)","19年度(2007)","20年度(2008)","21年度(2009)","22年度(2010)","23年度(2011)","24年度(2012)","25年度(2013)","26年度(2014)","27年度(2015)","28年度(2016)","29年度(2017)","30年度(2018)","31/1年度(2019)","2年度(2020)","3年度(2021)","4年度(2022)","5年度(2023)","6年度(2024)"]
[null,null,"事業所外供給","電気","電気供給量","kWh",null,null,null,null,null,null,null,null,null,null,null,null,null,null,null,null,null,null,null,null,null,null,null,"千kWh","単位補正",{"$f":"VLOOKUP($F54,$BA$64:$BB$65,2,FALSE)/VLOOKUP($AD54,$BA$64:$BB$65,2,FALSE)","v":1000},{"$f":"ROUND(G54/$AF54,0)","v":0},0,0,0,0,0,0,0,0,0,0,0,0,0,0,0,0,0,0,0,0,0,0]
[null,null,null,null,"排出係数","t-CO2/千kWh",null,null,null,null,null,null,null,null,null,null,null,null,null,null,null,null,null,null,null,null,null,null,null,null,"供給量",null,{"$f":"AG54*G55","v":0},0,0,0,0,0,0,0,0,0,0,0,0,0,0,0,0,0,0,0,0,0,0]
[null,null,null,"熱","熱供給量","MJ",null,null,null,null,null,null,null,null,null,null,null,null,null,null,null,null,null,null,null,null,null,null,null,"GJ","単位補正",{"$f":"VLOOKUP($F56,$BA$66:$BB$67,2,FALSE)/VLOOKUP($AD56,$BA$66:$BB$67,2,FALSE)","v":1000},{"$f":"ROUND(G56/$AF56,0)","v":0},0,0,0,0,0,0,0,0,0,0,0,0,0,0,0,0,0,0,0,0,0,0]
[null,null,null,null,"排出係数","t-ＣＯ₂/GJ",null,null,null,null,null,null,null,null,null,null,null,null,null,null,null,null,null,null,null,null,null,null,null,null,"供給量",null,{"$f":"AG56*G57","v":0},0,0,0,0,0,0,0,0,0,0,0,0,0,0,0,0,0,0,0,0,0,0]
[null,null,null,null,null,null,null,null,null,null,null,null,null,null,null,null,null,null,null,null,null,null,null,null,null,null,null,null,null,null,null,null,null,null,null,null,null,null,null,null,null,null,null,null,null,null,null,null,null,null,null,null,"kg",1000]
[null,null,null,null,null,null,null,null,null,null,null,null,null,null,null,null,null,null,null,null,null,null,null,null,null,null,null,null,null,null,null,null,null,null,null,null,null,null,null,null,null,null,null,null,null,null,null,null,null,null,null,null,"ｔ",1]
[null,null,null,null,null,null,null,null,null,null,null,null,null,null,null,null,null,null,null,null,null,null,null,null,null,null,null,null,null,null,null,null,null,null,null,null,null,null,null,null,null,null,null,null,null,null,null,null,null,null,null,null,"m3",1000]
[null,null,null,null,null,null,null,null,null,null,null,null,null,null,null,null,null,null,null,null,null,null,null,null,null,null,null,null,null,null,null,null,null,null,null,null,null,null,null,null,null,null,null,null,null,null,null,null,null,null,null,null,"千m3",1]
[null,null,null,null,null,null,null,null,null,null,null,null,null,null,null,null,null,null,null,null,null,null,null,null,null,null,null,null,null,null,null,null,null,null,null,null,null,null,null,null,null,null,null,null,null,null,null,null,null,null,null,null,"Nm3",1000]
[null,null,null,null,null,null,null,null,null,null,null,null,null,null,null,null,null,null,null,null,null,null,null,null,null,null,null,null,null,null,null,null,null,null,null,null,null,null,null,null,null,null,null,null,null,null,null,null,null,null,null,null,"千Nm3",1]
[null,null,null,null,null,null,null,null,null,null,null,null,null,null,null,null,null,null,null,null,null,null,null,null,null,null,null,null,null,null,null,null,null,null,null,null,null,null,null,null,null,null,null,null,null,null,null,null,null,null,null,null,"kWh",1000]
[null,null,null,null,null,null,null,null,null,null,null,null,null,null,null,null,null,null,null,null,null,null,null,null,null,null,null,null,null,null,null,null,null,null,null,null,null,null,null,null,null,null,null,null,null,null,null,null,null,null,null,null,"千kWh",1]
[null,null,null,null,null,null,null,null,null,null,null,null,null,null,null,null,null,null,null,null,null,null,null,null,null,null,null,null,null,null,null,null,null,null,null,null,null,null,null,null,null,null,null,null,null,null,null,null,null,null,null,null,"MJ",1000]
[null,null,null,null,null,null,null,null,null,null,null,null,null,null,null,null,null,null,null,null,null,null,null,null,null,null,null,null,null,null,null,null,null,null,null,null,null,null,null,null,null,null,null,null,null,null,null,null,null,null,null,null,"GJ",1]
[]
[]
[null,null,null,null,null,null,null,null,null,null,null,null,null,null,null,null,null,null,null,null,null,null,null,null,null,null,null,null,null,null,null,null,null,null,null,null,null,null,null,null,null,null,null,null,null,null,null,null,null,null,null,null,"都市ガス圧力補正"]
[null,null,null,null,null,null,null,null,null,null,null,null,null,null,null,null,null,null,null,null,null,null,null,null,null,null,null,null,null,null,null,null,null,null,null,null,null,null,null,null,null,null,null,null,null,null,null,null,null,null,null,null,"低圧用",{"$f":"ROUND((101.325+2)/101.325*273.15/(273.15+15),6)","v":0.96665500000000004}]
[null,null,null,null,null,null,null,null,null,null,null,null,null,null,null,null,null,null,null,null,null,null,null,null,null,null,null,null,null,null,null,null,null,null,null,null,null,null,null,null,null,null,null,null,null,null,null,null,null,null,null,null,"中間圧以上用",{"$f":"ROUND((101.325+0.981)/101.325*273.15/(273.15+15),6)","v":0.95712200000000003}]
[]
[null,null,null,null,null,null,null,null,null,null,null,null,null,null,null,null,null,null,null,null,null,null,null,null,null,null,null,null,null,null,null,null,null,null,null,null,null,null,null,null,null,null,null,null,null,null,null,null,null,null,null,null,"種類","気化率"]
[null,null,null,null,null,null,null,null,null,null,null,null,null,null,null,null,null,null,null,null,null,null,null,null,null,null,null,null,null,null,null,null,null,null,null,null,null,null,null,null,null,null,null,null,null,null,null,null,null,null,null,null,"プロパン・ブタン混合ガス（LPガス）",0.45800000000000002]
[null,null,null,null,null,null,null,null,null,null,null,null,null,null,null,null,null,null,null,null,null,null,null,null,null,null,null,null,null,null,null,null,null,null,null,null,null,null,null,null,null,null,null,null,null,null,null,null,null,null,null,null,"プロパン",0.502]
[null,null,null,null,null,null,null,null,null,null,null,null,null,null,null,null,null,null,null,null,null,null,null,null,null,null,null,null,null,null,null,null,null,null,null,null,null,null,null,null,null,null,null,null,null,null,null,null,null,null,null,null,"ブタン",0.35499999999999998]
[null,null,null,null,null,null,null,null,null,null,null,null,null,null,null,null,null,null,null,null,null,null,null,null,null,null,null,null,null,null,null,null,null,null,null,null,null,null,null,null,null,null,null,null,null,null,null,null,null,null,null,null,"ＬＰガス",0.48199999999999998]
[null,null,null,null,null,null,null,null,null,null,null,null,null,null,null,null,null,null,null,null,null,null,null,null,null,null,null,null,null,null,null,null,null,null,null,null,null,null,null,null,null,null,null,null,null,null,null,null,null,null,null,null,"自動車用",0.45800000000000002]
[null,null,null,null,null,null,null,null,null,null,null,null,null,null,null,null,null,null,null,null,null,null,null,null,null,null,null,null,null,null,null,null,null,null,null,null,null,null,null,null,null,null,null,null,null,null,null,null,null,null,null,null,"その他"]

{"sheet":"５．算定報告様式(工場現場)","index":8,"n_rows":53,"n_cols":186,"rows_kept":53,"cut":false,"hidden":false,"merged":[[49,3,49,5],[49,178,49,179],[51,3,51,5],[51,178,51,179],[52,3,52,5],[50,3,50,5],[50,178,50,179],[46,3,46,5],[46,178,46,179],[47,2,48,2],[47,3,47,5],[47,178,47,179],[48,3,48,5],[48,178,48,179],[39,178,39,179],[40,3,40,5],[41,2,45,2],[41,3,42,3],[41,4,41,5],[42,4,42,5],[43,3,43,5],[44,3,44,5],[44,178,44,179],[45,3,45,5],[45,178,45,179],[34,3,34,5],[35,2,40,2],[35,3,35,5],[36,3,36,5],[37,3,37,5],[38,3,38,5],[39,3,39,5],[5,2,34,2],[5,3,5,5],[6,3,6,5],[7,3,7,5],[8,3,8,5],[14,3,14,5],[9,3,9,5],[10,3,10,5],[11,3,11,5],[24,3,24,5],[25,3,25,5],[26,3,26,5],[27,3,33,3],[27,4,31,4],[32,4,32,5],[33,4,33,5],[12,3,12,5],[13,3,13,5],[23,3,23,5],[15,3,16,3],[15,4,15,5],[16,4,16,5],[17,3,18,3],[17,4,17,5],[18,4,18,5],[19,3,21,3],[19,4,19,5],[20,4,20,5],[21,4,21,5],[22,3,22,5],[0,179,0,181],[2,2,4,2],[2,3,4,5],[2,6,4,6],[2,7,2,98],[2,178,4,179],[2,180,4,181],[3,7,3,33],[3,34,3,60],[3,61,3,78],[3,155,3,177],[3,84,4,84],[3,85,3,108],[3,109,3,131],[3,132,3,154]]}
[null,null,"５．算定報告様式（工場・現場）"]
[]
[null,null,"排出活動","区分",null,null,"単位","使　　　　　　　　　　用　　　　　　　　　　量",null,null,null,null,null,null,null,null,null,null,null,null,null,null,null,null,null,null,null,null,null,null,null,null,null,null,null,null,null,null,null,null,null,null,null,null,null,null,null,null,null,null,null,null,null,null,null,null,null,null,null,null,null,null,null,null,null,null,null,null,null,null,null,null,null,null,null,null,null,null,null,null,null,null,null,null,null,null,null,null,null,null,null,null,null,null,null,null,null,null,null,null,null,null,null,null,null,null,null,null,null,null,null,null,null,null,null,null,null,null,null,null,null,null,null,null,null,null,null,null,null,null,null,null,null,null,null,null,null,null,null,null,null,null,null,null,null,null,null,null,null,null,null,null,null,null,null,null,null,null,null,null,null,null,null,null,null,null,null,null,null,null,null,null,null,null,null,null,null,null,"単位当たり発熱量",null,"排出係数"]
[null,null,null,null,null,null,null,"事業所内使用量",null,null,null,null,null,null,null,null,null,null,null,null,null,null,null,null,null,null,null,null,null,null,null,null,null,null,"算定対象外使用量",null,null,null,null,null,null,null,null,null,null,null,null,null,null,null,null,null,null,null,null,null,null,null,null,null,null,"控除後使用量",null,null,null,null,null,null,null,null,null,null,null,null,null,null,null,null,null,null,null,null,null,null,"単位補正","控除後使用量　単位補正後",null,null,null,null,null,null,null,null,null,null,null,null,null,null,null,null,null,null,null,null,null,null,null,"エネルギー発熱量（GJ)　",null,null,null,null,null,null,null,null,null,null,null,null,null,null,null,null,null,null,null,null,null,null,"原油換算使用量（ｋL)　",null,null,null,null,null,null,null,null,null,null,null,null,null,null,null,null,null,null,null,null,null,null,"CO₂換算使用量　（t-CO₂）"]
[null,null,null,null,null,null,null,"燃料等\n監視点","計量器の種類","検定等の有無","入力方法","14年度(2002)","15年度(2003)","16年度(2004)","17年度(2005)","18年度(2006)","19年度(2007)","20年度(2008)","21年度(2009)","22年度(2010)","23年度(2011)","24年度(2012)","25年度(2013)","26年度(2014)","27年度(2015)","28年度(2016)","29年度(2017)","30年度(2018)","31/1年度\n(2019)","2年度\n(2020)","3年度\n(2021)","4年度\n(2022)","5年度\n(2023)","6年度\n(2024)","燃料等\n監視点","計量器の種類","検定等の有無","入力方法","14年度(2002)","15年度(2003)","16年度(2004)","17年度(2005)","18年度(2006)","19年度(2007)","20年度(2008)","21年度(2009)","22年度(2010)","23年度(2011)","24年度(2012)","25年度(2013)","26年度(2014)","27年度(2015)","28年度(2016)","29年度(2017)","30年度(2018)","31/1年度\n(2019)","2年度\n(2020)","3年度\n(2021)","4年度\n(2022)","5年度\n(2023)","6年度\n(2024)","14年度(2002)","15年度(2003)","16年度(2004)","17年度(2005)","18年度(2006)","19年度(2007)","20年度(2008)","21年度(2009)","22年度(2010)","23年度(2011)","24年度(2012)","25年度(2013)","26年度(2014)","27年度(2015)","28年度(2016)","29年度(2017)","30年度(2018)","31/1年度\n(2019)","2年度\n(2020)","3年度\n(2021)","4年度\n(2022)","5年度\n(2023)","6年度\n(2024)",null,"単位","14年度(2002)","15年度(2003)","16年度(2004)","17年度(2005)","18年度(2006)","19年度(2007)","20年度(2008)","21年度(2009)","22年度(2010)","23年度(2011)","24年度(2012)","25年度(2013)","26年度(2014)","27年度(2015)","28年度(2016)","29年度(2017)","30年度(2018)","31/1年度\n(2019)","2年度\n(2020)","3年度\n(2021)","4年度\n(2022)","5年度\n(2023)","6年度\n(2024)","14年度(2002)","15年度(2003)","16年度(2004)","17年度(2005)","18年度(2006)","19年度(2007)","20年度(2008)","21年度(2009)","22年度(2010)","23年度(2011)","24年度(2012)","25年度(2013)","26年度(2014)","27年度(2015)","28年度(2016)","29年度(2017)","30年度(2018)","31/1年度\n(2019)","2年度\n(2020)","3年度\n(2021)","4年度\n(2022)","5年度\n(2023)","6年度\n(2024)","14年度(2002)","15年度(2003)","16年度(2004)","17年度(2005)","18年度(2006)","19年度(2007)","20年度(2008)","21年度(2009)","22年度(2010)","23年度(2011)","24年度(2012)","25年度(2013)","26年度(2014)","27年度(2015)","28年度(2016)","29年度(2017)","30年度(2018)","31/1年度\n(2019)","2年度\n(2020)","3年度\n(2021)","4年度\n(2022)","5年度\n(2023)","6年度\n(2024)","14年度(2002)","15年度(2003)","16年度(2004)","17年度(2005)","18年度(2006)","19年度(2007)","20年度(2008)","21年度(2009)","22年度(2010)","23年度(2011)","24年度(2012)","25年度(2013)","26年度(2014)","27年度(2015)","28年度(2016)","29年度(2017)","30年度(2018)","31/1年度\n(2019)","2年度\n(2020)","3年度\n(2021)","4年度\n(2022)","5年度\n(2023)","6年度\n(2024)"]
[null,null,"燃料","原油（コンデンセートを除く）",null,null,"L",null,null,null,null,null,null,null,null,null,null,null,null,null,null,null,null,null,null,null,null,null,null,null,null,null,null,null,null,null,null,null,null,null,null,null,null,null,null,null,null,null,null,null,null,null,null,null,null,null,null,null,null,null,null,{"$f":"L6-AM6","v":0},{"$f":"M6-AN6","v":0},{"$f":"N6-AO6","v":0},{"$f":"O6-AP6","v":0},{"$f":"P6-AQ6","v":0},{"$f":"Q6-AR6","v":0},{"$f":"R6-AS6","v":0},{"$f":"S6-AT6","v":0},{"$f":"T6-AU6","v":0},{"$f":"U6-AV6","v":0},{"$f":"V6-AW6","v":0},{"$f":"W6-AX6","v":0},{"$f":"X6-AY6","v":0},{"$f":"Y6-AZ6","v":0},{"$f":"Z6-BA6","v":0},{"$f":"AA6-BB6","v":0},{"$f":"AB6-BC6","v":0},{"$f":"AC6-BD6","v":0},{"$f":"AD6-BE6","v":0},{"$f":"AE6-BF6","v":0},{"$f":"AF6-BG6","v":0},{"$f":"AG6-BH6","v":0},{"$f":"AH6-BI6","v":0},{"$f":"VLOOKUP($G6,$GB$6:$GC$15,2,FALSE)","v":1000},"ｋL",{"$f":"ROUND(BJ6/$CG6,0)","v":0},{"$f":"ROUND(BK6/$CG6,0)","v":0},0,0,0,0,0,0,0,0,0,0,0,0,0,0,0,0,0,0,0,0,0,{"$f":"CI6*$FW6","v":0},0,0,0,0,0,0,0,0,0,0,0,0,0,0,0,{"$f":"CY6*$FW6","v":0},0,0,0,0,0,0,{"$f":"DF6*$GC$19","v":0},0,0,0,0,0,0,0,0,0,0,0,0,0,0,0,{"$f":"DV6*$GC$19","v":0},0,0,0,0,0,0,{"$f":"DF6*$FY6*44/12","v":0},0,0,0,0,0,0,0,0,0,0,0,0,0,0,0,{"$f":"DV6*$FY6*44/12","v":0},0,0,0,0,0,0,38.200000000000003,"GJ/kL",1.8700000000000001E-2,"t-C/GJ",null,"L",1000]
[null,null,null,"原油のうちコンデンセート（ＮＧＬ）",null,null,"L",null,null,null,null,null,null,null,null,null,null,null,null,null,null,null,null,null,null,null,null,null,null,null,null,null,null,null,null,null,null,null,null,null,null,null,null,null,null,null,null,null,null,null,null,null,null,null,null,null,null,null,null,null,null,0,0,0,0,0,0,0,0,0,0,0,0,0,0,0,0,0,0,0,0,0,0,0,1000,"ｋL",{"$f":"ROUND(BJ7/$CG7,0)","v":0},0,0,0,0,0,0,0,0,0,0,0,0,0,0,0,0,0,0,0,0,0,0,0,0,0,0,0,0,0,0,0,0,0,0,0,0,0,0,0,0,0,0,0,0,0,0,0,0,0,0,0,0,0,0,0,0,0,0,0,0,0,0,0,0,0,0,0,0,0,0,0,0,0,0,0,0,0,0,0,0,0,0,0,0,0,0,0,0,0,0,0,35.299999999999997,"GJ/kL",1.84E-2,"t-C/GJ",null,"kL",1]
[null,null,null,"揮発油（ガソリン）",null,null,"kL",null,null,null,null,null,null,null,null,null,null,null,null,null,null,null,null,null,null,null,null,null,null,null,null,null,null,null,null,null,null,null,null,null,null,null,null,null,null,null,null,null,null,null,null,null,null,null,null,null,null,null,null,null,null,0,0,0,0,0,0,0,0,0,0,0,0,0,0,0,0,0,0,0,0,0,0,0,1,"ｋL",0,0,0,0,0,0,0,0,0,0,0,0,0,0,0,0,0,0,0,0,0,0,0,0,0,0,0,0,0,0,0,0,0,0,0,0,0,0,0,0,0,0,0,0,0,0,0,0,0,0,0,0,0,0,0,0,0,0,0,0,0,0,0,0,0,0,0,0,0,0,0,0,0,0,0,0,0,0,0,0,0,0,0,0,0,0,0,0,0,0,0,0,34.6,"GJ/kL",1.83E-2,"t-C/GJ",null,"kg",1000]
[null,null,null,"ナフサ",null,null,"L",null,null,null,null,null,null,null,null,null,null,null,null,null,null,null,null,null,null,null,null,null,null,null,null,null,null,null,null,null,null,null,null,null,null,null,null,null,null,null,null,null,null,null,null,null,null,null,null,null,null,null,null,null,null,0,0,0,0,0,0,0,0,0,0,0,0,0,0,0,0,0,0,0,0,0,0,0,1000,"ｋL",0,0,0,0,0,0,0,0,0,0,0,0,0,0,0,0,0,0,0,0,0,0,0,0,0,0,0,0,0,0,0,0,0,0,0,0,0,0,0,0,0,0,0,0,0,0,0,0,0,0,0,0,0,0,0,0,0,0,0,0,0,0,0,0,0,0,0,0,0,0,0,0,0,0,0,0,0,0,0,0,0,0,0,0,0,0,0,0,0,0,0,0,33.6,"GJ/kL",1.8200000000000001E-2,"t-C/GJ",null,"t",1]
[null,null,null,"灯油",null,null,"L",null,null,null,null,null,null,null,null,null,null,null,null,null,null,null,null,null,null,null,null,null,null,null,null,null,null,null,null,null,null,null,null,null,null,null,null,null,null,null,null,null,null,null,null,null,null,null,null,null,null,null,null,null,null,0,0,0,0,0,0,0,0,0,0,0,0,0,0,0,0,0,0,0,0,0,0,0,1000,"ｋL",0,0,0,0,0,0,0,0,0,0,0,0,0,0,0,0,0,0,0,0,0,0,0,0,0,0,0,0,0,0,0,0,0,0,0,0,0,0,0,0,0,0,0,0,0,0,0,0,0,0,0,0,0,0,0,0,0,0,0,0,0,0,0,0,0,0,0,0,0,0,0,0,0,0,0,0,0,0,0,0,0,0,0,0,0,0,0,0,0,0,0,0,36.700000000000003,"GJ/kL",1.8499999999999999E-2,"t-C/GJ",null,"Nm3",1000]
[null,null,null,"軽油",null,null,"L",null,null,null,null,null,null,null,null,null,null,null,null,null,null,null,null,null,null,null,null,null,null,null,null,null,null,null,null,null,null,null,null,null,null,null,null,null,null,null,null,null,null,null,null,null,null,null,null,null,null,null,null,null,null,0,0,0,0,0,0,0,0,0,0,0,0,0,0,0,0,0,0,0,0,0,0,0,1000,"ｋL",0,0,0,0,0,0,0,0,0,0,0,0,0,0,0,0,0,0,0,0,0,0,0,0,0,0,0,0,0,0,0,0,0,0,0,0,0,0,0,0,0,0,0,0,0,0,0,0,0,0,0,0,0,0,0,0,0,0,0,0,0,0,0,0,0,0,0,0,0,0,0,0,0,0,0,0,0,0,0,0,0,0,0,0,0,0,0,0,0,0,0,0,37.700000000000003,"GJ/kL",1.8700000000000001E-2,"t-C/GJ",null,"千Nｍ3",1]
[null,null,null,"Ａ重油",null,null,"L",null,null,null,null,null,null,null,null,null,null,null,null,null,null,null,null,null,null,null,null,null,null,null,null,null,null,null,null,null,null,null,null,null,null,null,null,null,null,null,null,null,null,null,null,null,null,null,null,null,null,null,null,null,null,0,0,0,0,0,0,0,0,0,0,0,0,0,0,0,0,0,0,0,0,0,0,0,1000,"ｋL",0,0,0,0,0,0,0,0,0,0,0,0,0,0,0,0,0,0,0,0,0,0,0,0,0,0,0,0,0,0,0,0,0,0,0,0,0,0,0,0,0,0,0,0,0,0,0,0,0,0,0,0,0,0,0,0,0,0,0,0,0,0,0,0,0,0,0,0,0,0,0,0,0,0,0,0,0,0,0,0,0,0,0,0,0,0,0,0,0,0,0,0,39.1,"GJ/kL",1.89E-2,"t-C/GJ",null,"MJ",1000]
[null,null,null,"Ｂ・Ｃ重油",null,null,"L",null,null,null,null,null,null,null,null,null,null,null,null,null,null,null,null,null,null,null,null,null,null,null,null,null,null,null,null,null,null,null,null,null,null,null,null,null,null,null,null,null,null,null,null,null,null,null,null,null,null,null,null,null,null,0,0,0,0,0,0,0,0,0,0,0,0,0,0,0,0,0,0,0,0,0,0,0,1000,"ｋL",0,0,0,0,0,0,0,0,0,0,0,0,0,0,0,0,0,0,0,0,0,0,0,0,0,0,0,0,0,0,0,0,0,0,0,0,0,0,0,0,0,0,0,0,0,0,0,0,0,0,0,0,0,0,0,0,0,0,0,0,0,0,0,0,0,0,0,0,0,0,0,0,0,0,0,0,0,0,0,0,0,0,0,0,0,0,0,0,0,0,0,0,41.9,"GJ/kL",1.95E-2,"t-C/GJ",null,"GJ",1]
[null,null,null,"石油アスファルト",null,null,"kg",null,null,null,null,null,null,null,null,null,null,null,null,null,null,null,null,null,null,null,null,null,null,null,null,null,null,null,null,null,null,null,null,null,null,null,null,null,null,null,null,null,null,null,null,null,null,null,null,null,null,null,null,null,null,0,0,0,0,0,0,0,0,0,0,0,0,0,0,0,0,0,0,0,0,0,0,0,1000,"ｔ",0,0,0,0,0,0,0,0,0,0,0,0,0,0,0,0,0,0,0,0,0,0,0,0,0,0,0,0,0,0,0,0,0,0,0,0,0,0,0,0,0,0,0,0,0,0,0,0,0,0,0,0,0,0,0,0,0,0,0,0,0,0,0,0,0,0,0,0,0,0,0,0,0,0,0,0,0,0,0,0,0,0,0,0,0,0,0,0,0,0,0,0,40.9,"GJ/t",2.0799999999999999E-2,"t-C/GJ",null,"m3",1000]
[null,null,null,"石油コークス",null,null,"kg",null,null,null,null,null,null,null,null,null,null,null,null,null,null,null,null,null,null,null,null,null,null,null,null,null,null,null,null,null,null,null,null,null,null,null,null,null,null,null,null,null,null,null,null,null,null,null,null,null,null,null,null,null,null,0,0,0,0,0,0,0,0,0,0,0,0,0,0,0,0,0,0,0,0,0,0,0,1000,"ｔ",0,0,0,0,0,0,0,0,0,0,0,0,0,0,0,0,0,0,0,0,0,0,0,0,0,0,0,0,0,0,0,0,0,0,0,0,0,0,0,0,0,0,0,0,0,0,0,0,0,0,0,0,0,0,0,0,0,0,0,0,0,0,0,0,0,0,0,0,0,0,0,0,0,0,0,0,0,0,0,0,0,0,0,0,0,0,0,0,0,0,0,0,29.9,"GJ/t",2.5399999999999999E-2,"t-C/GJ",null,"千m3",1]
[null,null,null,"石油ガス","液化石油ガス（ＬＰＧ）",null,"t",null,null,null,null,{"$f":"'４．燃料単位換算(工場現場)'!AG31","v":0},{"$f":"'４．燃料単位換算(工場現場)'!AH31","v":0},{"$f":"'４．燃料単位換算(工場現場)'!AI31","v":0},{"$f":"'４．燃料単位換算(工場現場)'!AJ31","v":0},{"$f":"'４．燃料単位換算(工場現場)'!AK31","v":0},{"$f":"'４．燃料単位換算(工場現場)'!AL31","v":0},{"$f":"'４．燃料単位換算(工場現場)'!AM31","v":0},{"$f":"'４．燃料単位換算(工場現場)'!AN31","v":0},{"$f":"'４．燃料単位換算(工場現場)'!AO31","v":0},{"$f":"'４．燃料単位換算(工場現場)'!AP31","v":0},{"$f":"'４．燃料単位換算(工場現場)'!AQ31","v":0},{"$f":"'４．燃料単位換算(工場現場)'!AR31","v":0},{"$f":"'４．燃料単位換算(工場現場)'!AS31","v":0},{"$f":"'４．燃料単位換算(工場現場)'!AT31","v":0},{"$f":"'４．燃料単位換算(工場現場)'!AU31","v":0},{"$f":"'４．燃料単位換算(工場現場)'!AV31","v":0},{"$f":"'４．燃料単位換算(工場現場)'!AW31","v":0},{"$f":"'４．燃料単位換算(工場現場)'!AX31","v":0},{"$f":"'４．燃料単位換算(工場現場)'!AY31","v":0},{"$f":"'４．燃料単位換算(工場現場)'!AZ31","v":0},{"$f":"'４．燃料単位換算(工場現場)'!BA31","v":0},{"$f":"'４．燃料単位換算(工場現場)'!BB31","v":0},{"$f":"'４．燃料単位換算(工場現場)'!BC31","v":0},null,null,null,null,null,null,null,null,null,null,null,null,null,null,null,null,null,null,null,null,null,null,null,null,null,null,null,0,0,0,0,0,0,0,0,0,0,0,0,0,0,0,0,0,0,0,0,0,0,0,1,"ｔ",0,0,0,0,0,0,0,0,0,0,0,0,0,0,0,0,0,0,0,0,0,0,0,0,0,0,0,0,0,0,0,0,0,0,0,0,0,0,0,0,0,0,0,0,0,0,0,0,0,0,0,0,0,0,0,0,0,0,0,0,0,0,0,0,0,0,0,0,0,0,0,0,0,0,0,0,0,0,0,0,0,0,0,0,0,0,0,0,0,0,0,0,50.8,"GJ/t",1.61E-2,"t-C/GJ",null,"kWh",1000]
[null,null,null,null,"石油系炭化水素ガス",null,"Nm3",null,null,null,null,null,null,null,null,null,null,null,null,null,null,null,null,null,null,null,null,null,null,null,null,null,null,null,null,null,null,null,null,null,null,null,null,null,null,null,null,null,null,null,null,null,null,null,null,null,null,null,null,null,null,0,0,0,0,0,0,0,0,0,0,0,0,0,0,0,0,0,0,0,0,0,0,0,1000,"千N㎥",0,0,0,0,0,0,0,0,0,0,0,0,0,0,{"$f":"ROUND(BX17/$CG17,0)","v":0},{"$f":"ROUND(BY17/$CG17,0)","v":0},{"$f":"ROUND(BZ17/$CG17,0)","v":0},{"$f":"ROUND(CA17/$CG17,0)","v":0},{"$f":"ROUND(CB17/$CG17,0)","v":0},{"$f":"ROUND(CC17/$CG17,0)","v":0},{"$f":"ROUND(CD17/$CG17,0)","v":0},{"$f":"ROUND(CE17/$CG17,0)","v":0},{"$f":"ROUND(CF17/$CG17,0)","v":0},0,0,0,0,0,0,0,0,0,0,0,0,0,0,0,0,0,0,0,0,0,0,0,0,0,0,0,0,0,0,0,0,0,0,0,0,0,0,0,0,0,0,0,0,0,0,0,0,0,0,0,0,0,0,0,0,0,0,0,0,0,0,0,0,0,0,0,0,0,44.9,"GJ\n/千Nｍ3",1.4200000000000001E-2,"t-C/GJ",null,"千kWh",1]
[null,null,null,"可燃性\n天然ガス","液化天然ガス（LNG)",null,"kg",null,null,null,null,null,null,null,null,null,null,null,null,null,null,null,null,null,null,null,null,null,null,null,null,null,null,null,null,null,null,null,null,null,null,null,null,null,null,null,null,null,null,null,null,null,null,null,null,null,null,null,null,null,null,0,0,0,0,0,0,0,0,0,0,0,0,0,0,0,0,0,0,0,0,0,0,0,1000,"ｔ",0,{"$f":"ROUND(BK18/$CG18,0)","v":0},{"$f":"ROUND(BL18/$CG18,0)","v":0},{"$f":"ROUND(BM18/$CG18,0)","v":0},{"$f":"ROUND(BN18/$CG18,0)","v":0},{"$f":"ROUND(BO18/$CG18,0)","v":0},{"$f":"ROUND(BP18/$CG18,0)","v":0},{"$f":"ROUND(BQ18/$CG18,0)","v":0},{"$f":"ROUND(BR18/$CG18,0)","v":0},{"$f":"ROUND(BS18/$CG18,0)","v":0},{"$f":"ROUND(BT18/$CG18,0)","v":0},{"$f":"ROUND(BU18/$CG18,0)","v":0},{"$f":"ROUND(BV18/$CG18,0)","v":0},{"$f":"ROUND(BW18/$CG18,0)","v":0},0,0,0,0,0,0,0,0,0,0,0,0,0,0,0,0,0,0,0,0,0,0,0,0,0,0,0,0,0,0,0,0,0,0,0,0,0,0,0,0,0,0,0,0,0,0,0,0,0,0,0,0,0,0,0,0,0,0,0,0,0,0,0,0,0,0,0,0,0,0,0,0,0,0,0,0,0,0,54.6,"GJ/t",1.35E-2,"t-C/GJ"]
[null,null,null,null,"その他可燃性天然ガス",null,"t",null,null,null,null,{"$f":"'４．燃料単位換算(工場現場)'!AG39","v":0},{"$f":"'４．燃料単位換算(工場現場)'!AH39","v":0},{"$f":"'４．燃料単位換算(工場現場)'!AI39","v":0},{"$f":"'４．燃料単位換算(工場現場)'!AJ39","v":0},{"$f":"'４．燃料単位換算(工場現場)'!AK39","v":0},{"$f":"'４．燃料単位換算(工場現場)'!AL39","v":0},{"$f":"'４．燃料単位換算(工場現場)'!AM39","v":0},{"$f":"'４．燃料単位換算(工場現場)'!AN39","v":0},{"$f":"'４．燃料単位換算(工場現場)'!AO39","v":0},{"$f":"'４．燃料単位換算(工場現場)'!AP39","v":0},{"$f":"'４．燃料単位換算(工場現場)'!AQ39","v":0},{"$f":"'４．燃料単位換算(工場現場)'!AR39","v":0},{"$f":"'４．燃料単位換算(工場現場)'!AS39","v":0},{"$f":"'４．燃料単位換算(工場現場)'!AT39","v":0},{"$f":"'４．燃料単位換算(工場現場)'!AU39","v":0},{"$f":"'４．燃料単位換算(工場現場)'!AV39","v":0},{"$f":"'４．燃料単位換算(工場現場)'!AW39","v":0},{"$f":"'４．燃料単位換算(工場現場)'!AX39","v":0},{"$f":"'４．燃料単位換算(工場現場)'!AY39","v":0},{"$f":"'４．燃料単位換算(工場現場)'!AZ39","v":0},{"$f":"'４．燃料単位換算(工場現場)'!BA39","v":0},{"$f":"'４．燃料単位換算(工場現場)'!BB39","v":0},{"$f":"'４．燃料単位換算(工場現場)'!BC39","v":0},null,null,null,null,null,null,null,null,null,null,null,null,null,null,null,null,null,null,null,null,null,null,null,null,null,null,null,0,0,0,0,0,0,0,0,0,0,0,0,0,0,0,0,0,0,0,0,0,0,0,1,"千N㎥",0,0,0,0,0,0,0,0,0,0,0,0,0,0,0,0,0,0,0,0,0,0,0,0,0,0,0,0,0,0,0,0,0,0,0,0,0,0,0,0,0,0,0,0,0,0,0,0,0,0,0,0,0,0,0,0,0,0,0,0,0,0,0,0,0,0,0,0,0,0,0,0,0,0,0,0,0,0,0,0,0,0,0,0,0,0,0,0,0,0,0,0,43.5,"GJ\n/千Nｍ3",1.3899999999999999E-2,"t-C/GJ",null,null,2.58E-2,"ｋL/GJ"]
[null,null,null,"石炭","原料炭",null,"kg",null,null,null,null,null,null,null,null,null,null,null,null,null,null,null,null,null,null,null,null,null,null,null,null,null,null,null,null,null,null,null,null,null,null,null,null,null,null,null,null,null,null,null,null,null,null,null,null,null,null,null,null,null,null,0,0,0,0,0,0,0,0,0,0,0,0,0,0,0,0,0,0,0,0,0,0,0,1000,"ｔ",0,0,0,0,0,0,0,0,0,0,0,0,0,0,0,0,0,0,0,0,0,0,0,0,0,0,0,0,0,0,0,0,0,0,0,0,0,0,0,0,0,0,0,0,0,0,0,0,0,0,0,0,0,0,0,0,0,0,0,0,0,0,0,0,0,0,0,0,0,0,0,0,0,0,0,0,0,0,0,0,0,0,0,0,0,0,0,0,0,0,0,0,29,"GJ/t",2.4500000000000001E-2,"t-C/GJ"]
[null,null,null,null,"一般炭",null,"kg",null,null,null,null,null,null,null,null,null,null,null,null,null,null,null,null,null,null,null,null,null,null,null,null,null,null,null,null,null,null,null,null,null,null,null,null,null,null,null,null,null,null,null,null,null,null,null,null,null,null,null,null,null,null,0,0,0,0,0,0,0,0,0,0,0,0,0,0,0,0,0,0,0,0,0,0,0,1000,"ｔ",0,0,0,0,0,0,0,0,0,0,0,0,0,0,0,0,0,0,0,0,0,0,0,0,0,0,0,0,0,0,0,0,0,0,0,0,0,0,{"$f":"CX21*$FW21","v":0},0,0,0,0,0,0,0,0,0,0,0,0,0,0,0,0,0,0,0,0,0,0,{"$f":"DU21*$GC$19","v":0},0,0,0,0,0,0,0,0,0,0,0,0,0,0,0,0,0,0,0,0,0,0,{"$f":"DU21*$FY21*44/12","v":0},0,0,0,0,0,0,0,25.7,"GJ/t",2.47E-2,"t-C/GJ"]
[null,null,null,null,"無煙炭",null,"kg",null,null,null,null,null,null,null,null,null,null,null,null,null,null,null,null,null,null,null,null,null,null,null,null,null,null,null,null,null,null,null,null,null,null,null,null,null,null,null,null,null,null,null,null,null,null,null,null,null,null,null,null,null,null,0,0,0,0,0,0,0,0,0,0,0,0,0,0,0,0,0,0,0,0,0,0,0,1000,"ｔ",0,0,0,0,0,0,0,0,0,0,0,0,0,0,0,0,0,0,0,0,0,0,0,{"$f":"CI22*$FW22","v":0},0,0,0,0,0,0,0,0,0,0,0,0,0,0,0,0,0,0,0,0,0,0,{"$f":"DF22*$GC$19","v":0},0,0,0,0,0,0,0,0,0,0,0,0,0,0,0,0,0,0,0,0,0,0,{"$f":"DF22*$FY22*44/12","v":0},0,0,0,0,0,0,0,0,0,0,0,0,0,0,0,0,0,0,0,0,0,0,26.9,"GJ/t",2.5499999999999998E-2,"t-C/GJ"]
[null,null,null,"石炭コークス",null,null,"kg",null,null,null,null,null,null,null,null,null,null,null,null,null,null,null,null,null,null,null,null,null,null,null,null,null,null,null,null,null,null,null,null,null,null,null,null,null,null,null,null,null,null,null,null,null,null,null,null,null,null,null,null,null,null,0,0,0,0,0,0,0,0,0,0,0,0,0,0,0,0,0,0,0,0,0,0,0,1000,"ｔ",0,0,0,0,0,0,0,0,0,0,0,0,0,0,0,0,0,0,0,0,0,0,0,0,0,0,0,0,0,0,0,0,0,0,0,0,0,0,0,0,0,0,0,0,0,0,0,0,0,0,0,0,0,0,0,0,0,0,0,0,0,0,0,0,0,0,0,0,0,0,0,0,0,0,0,0,0,0,0,0,0,0,0,0,0,0,0,0,0,0,0,0,29.4,"GJ/t",2.9399999999999999E-2,"t-C/GJ"]
[null,null,null,"コールタール",null,null,"kg",null,null,null,null,null,null,null,null,null,null,null,null,null,null,null,null,null,null,null,null,null,null,null,null,null,null,null,null,null,null,null,null,null,null,null,null,null,null,null,null,null,null,null,null,null,null,null,null,null,null,null,null,null,null,0,0,0,0,0,0,0,0,0,0,0,0,0,0,0,0,0,0,0,0,0,0,0,1000,"ｔ",0,0,0,0,0,0,0,0,0,0,0,0,0,0,0,0,0,0,0,0,0,0,0,0,0,0,0,0,0,0,0,0,0,0,0,0,0,0,0,0,0,0,0,0,0,0,0,0,0,0,0,0,0,0,0,0,0,0,0,0,0,0,0,0,0,0,0,0,0,0,0,0,0,0,0,0,0,0,0,0,0,0,0,0,0,0,0,0,0,0,0,0,37.299999999999997,"GJ/t",2.0899999999999998E-2,"t-C/GJ"]
[null,null,null,"コークス炉ガス",null,null,"千Nｍ3",null,null,null,null,{"$f":"'４．燃料単位換算(工場現場)'!AG42","v":0},{"$f":"'４．燃料単位換算(工場現場)'!AH42","v":0},{"$f":"'４．燃料単位換算(工場現場)'!AI42","v":0},{"$f":"'４．燃料単位換算(工場現場)'!AJ42","v":0},{"$f":"'４．燃料単位換算(工場現場)'!AK42","v":0},{"$f":"'４．燃料単位換算(工場現場)'!AL42","v":0},{"$f":"'４．燃料単位換算(工場現場)'!AM42","v":0},{"$f":"'４．燃料単位換算(工場現場)'!AN42","v":0},{"$f":"'４．燃料単位換算(工場現場)'!AO42","v":0},{"$f":"'４．燃料単位換算(工場現場)'!AP42","v":0},{"$f":"'４．燃料単位換算(工場現場)'!AQ42","v":0},{"$f":"'４．燃料単位換算(工場現場)'!AR42","v":0},{"$f":"'４．燃料単位換算(工場現場)'!AS42","v":0},{"$f":"'４．燃料単位換算(工場現場)'!AT42","v":0},{"$f":"'４．燃料単位換算(工場現場)'!AU42","v":0},{"$f":"'４．燃料単位換算(工場現場)'!AV42","v":0},{"$f":"'４．燃料単位換算(工場現場)'!AW42","v":0},{"$f":"'４．燃料単位換算(工場現場)'!AX42","v":0},{"$f":"'４．燃料単位換算(工場現場)'!AY42","v":0},{"$f":"'４．燃料単位換算(工場現場)'!AZ42","v":0},{"$f":"'４．燃料単位換算(工場現場)'!BA42","v":0},{"$f":"'４．燃料単位換算(工場現場)'!BB42","v":0},{"$f":"'４．燃料単位換算(工場現場)'!BC42","v":0},null,null,null,null,null,null,null,null,null,null,null,null,null,null,null,null,null,null,null,null,null,null,null,null,null,null,null,0,0,0,0,0,0,0,0,0,0,0,0,0,0,0,0,0,0,0,0,0,0,0,1,"千N㎥",0,0,0,0,0,0,0,0,0,0,0,0,0,0,0,0,0,0,0,0,0,0,0,0,0,0,0,0,0,0,0,0,0,0,0,0,0,0,0,0,0,0,0,0,0,0,0,0,0,0,0,0,0,0,0,0,0,0,0,0,0,0,0,0,0,0,0,0,0,0,0,0,0,0,0,0,0,0,0,0,0,0,0,0,0,0,0,0,0,0,0,0,21.1,"GJ\n/千Nｍ3",1.0999999999999999E-2,"t-C/GJ"]
[null,null,null,"高炉ガス",null,null,"千Nｍ3",null,null,null,null,{"$f":"'４．燃料単位換算(工場現場)'!AG45","v":0},{"$f":"'４．燃料単位換算(工場現場)'!AH45","v":0},{"$f":"'４．燃料単位換算(工場現場)'!AI45","v":0},{"$f":"'４．燃料単位換算(工場現場)'!AJ45","v":0},{"$f":"'４．燃料単位換算(工場現場)'!AK45","v":0},{"$f":"'４．燃料単位換算(工場現場)'!AL45","v":0},{"$f":"'４．燃料単位換算(工場現場)'!AM45","v":0},{"$f":"'４．燃料単位換算(工場現場)'!AN45","v":0},{"$f":"'４．燃料単位換算(工場現場)'!AO45","v":0},{"$f":"'４．燃料単位換算(工場現場)'!AP45","v":0},{"$f":"'４．燃料単位換算(工場現場)'!AQ45","v":0},{"$f":"'４．燃料単位換算(工場現場)'!AR45","v":0},{"$f":"'４．燃料単位換算(工場現場)'!AS45","v":0},{"$f":"'４．燃料単位換算(工場現場)'!AT45","v":0},{"$f":"'４．燃料単位換算(工場現場)'!AU45","v":0},{"$f":"'４．燃料単位換算(工場現場)'!AV45","v":0},{"$f":"'４．燃料単位換算(工場現場)'!AW45","v":0},{"$f":"'４．燃料単位換算(工場現場)'!AX45","v":0},{"$f":"'４．燃料単位換算(工場現場)'!AY45","v":0},{"$f":"'４．燃料単位換算(工場現場)'!AZ45","v":0},{"$f":"'４．燃料単位換算(工場現場)'!BA45","v":0},{"$f":"'４．燃料単位換算(工場現場)'!BB45","v":0},{"$f":"'４．燃料単位換算(工場現場)'!BC45","v":0},null,null,null,null,null,null,null,null,null,null,null,null,null,null,null,null,null,null,null,null,null,null,null,null,null,null,null,0,0,0,0,0,0,0,0,0,0,0,0,0,0,0,0,0,0,0,0,0,0,0,1,"千N㎥",0,0,0,0,0,0,0,0,0,0,0,0,0,0,0,0,0,0,0,0,0,0,0,0,0,0,0,0,0,0,0,0,0,0,0,0,0,0,0,0,0,0,0,0,0,0,0,0,0,0,0,0,0,0,0,0,0,0,0,0,0,0,0,0,0,0,0,0,0,0,0,0,0,0,0,0,0,0,0,0,0,0,0,0,0,0,0,0,0,0,0,0,3.41,"GJ\n/千Nｍ3",2.63E-2,"t-C/GJ"]
[null,null,null,"転炉ガス",null,null,"千Nｍ3",null,null,null,null,{"$f":"'４．燃料単位換算(工場現場)'!AG48","v":0},{"$f":"'４．燃料単位換算(工場現場)'!AH48","v":0},{"$f":"'４．燃料単位換算(工場現場)'!AI48","v":0},{"$f":"'４．燃料単位換算(工場現場)'!AJ48","v":0},{"$f":"'４．燃料単位換算(工場現場)'!AK48","v":0},{"$f":"'４．燃料単位換算(工場現場)'!AL48","v":0},{"$f":"'４．燃料単位換算(工場現場)'!AM48","v":0},{"$f":"'４．燃料単位換算(工場現場)'!AN48","v":0},{"$f":"'４．燃料単位換算(工場現場)'!AO48","v":0},{"$f":"'４．燃料単位換算(工場現場)'!AP48","v":0},{"$f":"'４．燃料単位換算(工場現場)'!AQ48","v":0},{"$f":"'４．燃料単位換算(工場現場)'!AR48","v":0},{"$f":"'４．燃料単位換算(工場現場)'!AS48","v":0},{"$f":"'４．燃料単位換算(工場現場)'!AT48","v":0},{"$f":"'４．燃料単位換算(工場現場)'!AU48","v":0},{"$f":"'４．燃料単位換算(工場現場)'!AV48","v":0},{"$f":"'４．燃料単位換算(工場現場)'!AW48","v":0},{"$f":"'４．燃料単位換算(工場現場)'!AX48","v":0},{"$f":"'４．燃料単位換算(工場現場)'!AY48","v":0},{"$f":"'４．燃料単位換算(工場現場)'!AZ48","v":0},{"$f":"'４．燃料単位換算(工場現場)'!BA48","v":0},{"$f":"'４．燃料単位換算(工場現場)'!BB48","v":0},{"$f":"'４．燃料単位換算(工場現場)'!BC48","v":0},null,null,null,null,null,null,null,null,null,null,null,null,null,null,null,null,null,null,null,null,null,null,null,null,null,null,null,0,0,0,0,0,0,0,0,0,0,0,0,0,0,0,0,0,0,0,0,0,0,0,1,"千N㎥",0,0,0,0,0,0,0,0,0,0,0,0,0,0,0,0,0,0,0,0,0,0,0,0,0,0,0,0,0,0,0,0,0,0,0,0,0,0,0,0,0,0,0,0,0,0,0,0,0,0,0,0,0,0,0,0,0,0,0,0,0,0,0,0,0,0,0,0,0,0,0,0,0,0,0,0,0,0,0,0,0,0,0,0,0,0,0,0,0,0,0,0,8.41,"GJ\n/千Nｍ3",3.8399999999999997E-2,"t-C/GJ"]
[null,null,null,"その他燃料","都市ガス（※）","13A:45MJ/m3","千Nｍ3",null,null,null,null,null,null,null,{"$f":"'４．燃料単位換算(工場現場)'!AJ9","v":0},{"$f":"'４．燃料単位換算(工場現場)'!AK9","v":0},{"$f":"'４．燃料単位換算(工場現場)'!AL9","v":0},{"$f":"'４．燃料単位換算(工場現場)'!AM9","v":0},{"$f":"'４．燃料単位換算(工場現場)'!AN9","v":0},{"$f":"'４．燃料単位換算(工場現場)'!AO9","v":0},{"$f":"'４．燃料単位換算(工場現場)'!AP9","v":0},{"$f":"'４．燃料単位換算(工場現場)'!AQ9","v":0},{"$f":"'４．燃料単位換算(工場現場)'!AR9","v":0},{"$f":"'４．燃料単位換算(工場現場)'!AS9","v":0},{"$f":"'４．燃料単位換算(工場現場)'!AT9","v":0},{"$f":"'４．燃料単位換算(工場現場)'!AU9","v":0},{"$f":"'４．燃料単位換算(工場現場)'!AV9","v":0},{"$f":"'４．燃料単位換算(工場現場)'!AW9","v":0},{"$f":"'４．燃料単位換算(工場現場)'!AX9","v":0},{"$f":"'４．燃料単位換算(工場現場)'!AY9","v":0},{"$f":"'４．燃料単位換算(工場現場)'!AZ9","v":0},{"$f":"'４．燃料単位換算(工場現場)'!BA9","v":0},{"$f":"'４．燃料単位換算(工場現場)'!BB9","v":0},{"$f":"'４．燃料単位換算(工場現場)'!BC9","v":0},null,null,null,null,null,null,null,null,null,null,null,null,null,null,null,null,null,null,null,null,null,null,null,null,null,null,null,0,0,0,0,0,0,0,0,0,0,0,0,0,0,0,0,0,0,0,0,0,0,0,1,"千N㎥",0,0,0,0,0,0,0,0,0,0,0,0,0,0,0,0,0,0,0,0,0,0,0,0,0,0,0,0,0,0,0,0,0,0,0,0,0,0,0,0,0,0,0,0,0,0,0,0,0,0,0,0,0,0,0,0,0,0,0,0,0,0,0,0,0,0,0,0,0,0,0,0,0,0,0,0,0,0,0,0,0,0,0,0,0,0,0,0,0,0,0,0,45,"GJ\n/千Nｍ3",1.3599999999999999E-2,"t-C/GJ"]
[null,null,null,null,null,"13A:43.12MJ/m3","千Nｍ3",null,null,null,null,{"$f":"'４．燃料単位換算(工場現場)'!AG12","v":0},{"$f":"'４．燃料単位換算(工場現場)'!AH12","v":0},{"$f":"'４．燃料単位換算(工場現場)'!AI12","v":0},{"$f":"'４．燃料単位換算(工場現場)'!AJ12","v":0},{"$f":"'４．燃料単位換算(工場現場)'!AK12","v":0},{"$f":"'４．燃料単位換算(工場現場)'!AL12","v":0},{"$f":"'４．燃料単位換算(工場現場)'!AM12","v":0},{"$f":"'４．燃料単位換算(工場現場)'!AN12","v":0},{"$f":"'４．燃料単位換算(工場現場)'!AO12","v":0},{"$f":"'４．燃料単位換算(工場現場)'!AP12","v":0},{"$f":"'４．燃料単位換算(工場現場)'!AQ12","v":0},{"$f":"'４．燃料単位換算(工場現場)'!AR12","v":0},{"$f":"'４．燃料単位換算(工場現場)'!AS12","v":0},{"$f":"'４．燃料単位換算(工場現場)'!AT12","v":0},{"$f":"'４．燃料単位換算(工場現場)'!AU12","v":0},{"$f":"'４．燃料単位換算(工場現場)'!AV12","v":0},{"$f":"'４．燃料単位換算(工場現場)'!AW12","v":0},{"$f":"'４．燃料単位換算(工場現場)'!AX12","v":0},{"$f":"'４．燃料単位換算(工場現場)'!AY12","v":0},{"$f":"'４．燃料単位換算(工場現場)'!AZ12","v":0},{"$f":"'４．燃料単位換算(工場現場)'!BA12","v":0},{"$f":"'４．燃料単位換算(工場現場)'!BB12","v":0},{"$f":"'４．燃料単位換算(工場現場)'!BC12","v":0},null,null,null,null,null,null,null,null,null,null,null,null,null,null,null,null,null,null,null,null,null,null,null,null,null,null,null,0,0,0,0,0,0,0,0,0,0,0,0,0,0,0,0,0,0,0,0,0,0,0,1,"千N㎥",0,0,0,0,0,0,0,0,0,0,0,0,0,0,0,0,0,0,0,0,0,0,0,0,0,0,0,0,0,0,0,0,0,0,0,0,0,0,0,0,0,0,0,0,0,0,0,0,0,0,0,0,0,0,0,0,0,0,0,0,0,0,0,0,0,0,0,0,0,0,0,0,0,0,0,0,0,0,0,0,0,0,0,0,0,0,0,0,0,0,0,0,43.12,"GJ\n/千Nｍ3",1.3599999999999999E-2,"t-C/GJ"]
[null,null,null,null,null,"13A:46.04MJ/m3","千Nｍ3",null,null,null,null,{"$f":"'４．燃料単位換算(工場現場)'!AG15","v":0},{"$f":"'４．燃料単位換算(工場現場)'!AH15","v":0},{"$f":"'４．燃料単位換算(工場現場)'!AI15","v":0},{"$f":"'４．燃料単位換算(工場現場)'!AJ15","v":0},{"$f":"'４．燃料単位換算(工場現場)'!AK15","v":0},{"$f":"'４．燃料単位換算(工場現場)'!AL15","v":0},{"$f":"'４．燃料単位換算(工場現場)'!AM15","v":0},{"$f":"'４．燃料単位換算(工場現場)'!AN15","v":0},{"$f":"'４．燃料単位換算(工場現場)'!AO15","v":0},{"$f":"'４．燃料単位換算(工場現場)'!AP15","v":0},{"$f":"'４．燃料単位換算(工場現場)'!AQ15","v":0},{"$f":"'４．燃料単位換算(工場現場)'!AR15","v":0},{"$f":"'４．燃料単位換算(工場現場)'!AS15","v":0},{"$f":"'４．燃料単位換算(工場現場)'!AT15","v":0},{"$f":"'４．燃料単位換算(工場現場)'!AU15","v":0},{"$f":"'４．燃料単位換算(工場現場)'!AV15","v":0},{"$f":"'４．燃料単位換算(工場現場)'!AW15","v":0},{"$f":"'４．燃料単位換算(工場現場)'!AX15","v":0},{"$f":"'４．燃料単位換算(工場現場)'!AY15","v":0},{"$f":"'４．燃料単位換算(工場現場)'!AZ15","v":0},{"$f":"'４．燃料単位換算(工場現場)'!BA15","v":0},{"$f":"'４．燃料単位換算(工場現場)'!BB15","v":0},{"$f":"'４．燃料単位換算(工場現場)'!BC15","v":0},null,null,null,null,null,null,null,null,null,null,null,null,null,null,null,null,null,null,null,null,null,null,null,null,null,null,null,0,0,0,0,0,0,0,0,0,0,0,0,0,0,0,0,0,0,0,0,0,0,0,1,"千N㎥",0,0,0,0,0,0,0,0,0,0,0,0,0,0,0,0,0,0,0,0,0,0,0,0,0,0,0,0,0,0,0,0,0,0,0,0,0,0,0,0,0,0,0,0,0,0,0,0,0,0,0,0,0,0,0,0,0,0,0,0,0,0,0,0,0,0,0,0,0,0,0,0,0,0,0,0,0,0,0,0,0,0,0,0,0,0,0,0,0,0,0,0,46.04,"GJ\n/千Nｍ3",1.3599999999999999E-2,"t-C/GJ"]
[null,null,null,null,null,"12A:41.86MJ/m3","千Nｍ3",null,null,null,null,{"$f":"'４．燃料単位換算(工場現場)'!AG18","v":0},{"$f":"'４．燃料単位換算(工場現場)'!AH18","v":0},{"$f":"'４．燃料単位換算(工場現場)'!AI18","v":0},{"$f":"'４．燃料単位換算(工場現場)'!AJ18","v":0},{"$f":"'４．燃料単位換算(工場現場)'!AK18","v":0},{"$f":"'４．燃料単位換算(工場現場)'!AL18","v":0},{"$f":"'４．燃料単位換算(工場現場)'!AM18","v":0},{"$f":"'４．燃料単位換算(工場現場)'!AN18","v":0},{"$f":"'４．燃料単位換算(工場現場)'!AO18","v":0},{"$f":"'４．燃料単位換算(工場現場)'!AP18","v":0},{"$f":"'４．燃料単位換算(工場現場)'!AQ18","v":0},{"$f":"'４．燃料単位換算(工場現場)'!AR18","v":0},{"$f":"'４．燃料単位換算(工場現場)'!AS18","v":0},{"$f":"'４．燃料単位換算(工場現場)'!AT18","v":0},{"$f":"'４．燃料単位換算(工場現場)'!AU18","v":0},{"$f":"'４．燃料単位換算(工場現場)'!AV18","v":0},{"$f":"'４．燃料単位換算(工場現場)'!AW18","v":0},{"$f":"'４．燃料単位換算(工場現場)'!AX18","v":0},{"$f":"'４．燃料単位換算(工場現場)'!AY18","v":0},{"$f":"'４．燃料単位換算(工場現場)'!AZ18","v":0},{"$f":"'４．燃料単位換算(工場現場)'!BA18","v":0},{"$f":"'４．燃料単位換算(工場現場)'!BB18","v":0},{"$f":"'４．燃料単位換算(工場現場)'!BC18","v":0},null,null,null,null,null,null,null,null,null,null,null,null,null,null,null,null,null,null,null,null,null,null,null,null,null,null,null,0,0,0,0,0,0,0,0,0,0,0,0,0,0,0,0,0,0,0,0,0,0,0,1,"千N㎥",0,0,0,0,0,0,0,0,0,0,0,0,0,0,0,0,0,0,0,0,0,0,0,0,0,0,0,0,0,0,0,0,0,0,0,0,0,0,0,0,0,0,0,0,0,0,0,0,0,0,0,0,0,0,0,0,0,0,0,0,0,0,0,0,0,0,0,0,0,0,0,0,0,0,0,0,0,0,0,0,0,0,0,0,0,0,0,0,0,0,0,0,41.86,"GJ\n/千Nｍ3",1.3599999999999999E-2,"t-C/GJ"]
[null,null,null,null,null,"6A:29.30MJ/m3","千Nｍ3",null,null,null,null,{"$f":"'４．燃料単位換算(工場現場)'!AG21","v":0},{"$f":"'４．燃料単位換算(工場現場)'!AH21","v":0},{"$f":"'４．燃料単位換算(工場現場)'!AI21","v":0},{"$f":"'４．燃料単位換算(工場現場)'!AJ21","v":0},{"$f":"'４．燃料単位換算(工場現場)'!AK21","v":0},{"$f":"'４．燃料単位換算(工場現場)'!AL21","v":0},{"$f":"'４．燃料単位換算(工場現場)'!AM21","v":0},{"$f":"'４．燃料単位換算(工場現場)'!AN21","v":0},{"$f":"'４．燃料単位換算(工場現場)'!AO21","v":0},{"$f":"'４．燃料単位換算(工場現場)'!AP21","v":0},{"$f":"'４．燃料単位換算(工場現場)'!AQ21","v":0},{"$f":"'４．燃料単位換算(工場現場)'!AR21","v":0},{"$f":"'４．燃料単位換算(工場現場)'!AS21","v":0},{"$f":"'４．燃料単位換算(工場現場)'!AT21","v":0},{"$f":"'４．燃料単位換算(工場現場)'!AU21","v":0},{"$f":"'４．燃料単位換算(工場現場)'!AV21","v":0},{"$f":"'４．燃料単位換算(工場現場)'!AW21","v":0},{"$f":"'４．燃料単位換算(工場現場)'!AX21","v":0},{"$f":"'４．燃料単位換算(工場現場)'!AY21","v":0},{"$f":"'４．燃料単位換算(工場現場)'!AZ21","v":0},{"$f":"'４．燃料単位換算(工場現場)'!BA21","v":0},{"$f":"'４．燃料単位換算(工場現場)'!BB21","v":0},{"$f":"'４．燃料単位換算(工場現場)'!BC21","v":0},null,null,null,null,null,null,null,null,null,null,null,null,null,null,null,null,null,null,null,null,null,null,null,null,null,null,null,0,0,0,0,0,0,0,0,0,0,0,0,0,0,0,0,0,0,0,0,0,0,0,1,"千N㎥",0,0,0,0,0,0,0,0,0,0,0,0,0,0,0,0,0,0,0,0,0,0,0,0,0,0,0,0,0,0,0,0,0,0,0,0,0,0,0,0,0,0,0,0,0,0,0,0,0,0,0,0,0,0,0,0,0,0,0,0,0,0,0,0,0,0,0,0,0,0,0,0,0,0,0,0,0,0,0,0,0,0,0,0,0,0,0,0,0,0,0,0,29.3,"GJ\n/千Nｍ3",1.3599999999999999E-2,"t-C/GJ"]
[null,null,null,null,null,null,null,null,null,null,null,null,null,null,null,null,null,null,null,null,null,null,null,null,null,null,null,null,null,null,null,null,null,null,null,null,null,null,null,null,null,null,null,null,null,null,null,null,null,null,null,null,null,null,null,null,null,null,null,null,null,0,0,0,0,0,0,0,0,0,0,0,0,0,0,0,0,0,0,0,0,0,0,0,{"$f":"IF(G33=\"\",\"-\",VLOOKUP($G33,$GB$6:$GC$15,2,FALSE))","v":"-"},null,{"$f":"ROUND(IF($E$33=\"\",0,IF($G$33=\"\",0,BJ33/単位補正５)),0)","v":0},0,0,0,0,0,0,0,0,0,{"$f":"ROUND(IF($E$33=\"\",0,IF($G$33=\"\",0,BT33/単位補正５)),0)","v":0},0,0,0,0,0,0,0,0,0,{"$f":"ROUND(IF($E$33=\"\",0,IF($G$33=\"\",0,CD33/単位補正５)),0)","v":0},0,0,0,0,0,0,0,0,0,0,0,0,0,0,0,0,0,0,0,0,0,0,0,0,0,0,0,0,0,0,0,0,0,0,0,0,0,0,0,0,0,0,0,0,0,0,0,0,0,0,0,0,0,0,0,0,0,0,0,0,0,0,0,0,0,0,0,0,0,0,0,null,{"$f":"CONCATENATE(\"GJ/\",GB33)","v":"GJ/"},null,"t-C/GJ",null,{"$f":"IF(G33=\"\",\"\",IF(G33=$GB$6,$GB$7,IF(G33=$GB$8,$GB$9,IF(G33=$GB$10,$GB$11,IF(G33=$GB$12,$GB$13,G33)))))","v":""}]
[null,null,null,null,null,null,null,null,null,null,null,null,null,null,null,null,null,null,null,null,null,null,null,null,null,null,null,null,null,null,null,null,null,null,null,null,null,null,null,null,null,null,null,null,null,null,null,null,null,null,null,null,null,null,null,null,null,null,null,null,null,0,0,0,0,0,0,0,0,0,0,0,0,0,0,0,0,0,0,0,0,0,0,0,{"$f":"IF(G34=\"\",\"-\",VLOOKUP($G34,$GB$6:$GC$15,2,FALSE))","v":"-"},null,0,0,0,0,0,0,0,0,0,0,0,0,0,0,0,0,0,0,0,0,0,0,0,0,0,0,0,0,0,0,0,0,0,0,0,0,0,0,0,0,0,0,0,0,0,0,0,0,0,0,0,0,0,0,0,0,0,0,0,0,0,0,0,0,0,0,0,0,0,0,0,0,0,0,0,0,0,0,0,0,0,0,0,0,0,0,0,0,0,0,0,0,null,{"$f":"CONCATENATE(\"GJ/\",GB34)","v":"GJ/"},null,"t-C/GJ",null,{"$f":"IF(G34=\"\",\"\",IF(G34=$GB$6,$GB$7,IF(G34=$GB$8,$GB$9,IF(G34=$GB$10,$GB$11,IF(G34=$GB$12,$GB$13,G34)))))","v":""}]
[null,null,null,"小　　計",null,null,null,null,null,null,null,null,null,null,null,null,null,null,null,null,null,null,null,null,null,null,null,null,null,null,null,null,null,null,null,null,null,null,null,null,null,null,null,null,null,null,null,null,null,null,null,null,null,null,null,null,null,null,null,null,null,null,null,null,null,null,null,null,null,null,null,null,null,null,null,null,null,null,null,null,null,null,null,null,null,null,null,null,null,null,null,null,null,null,null,null,null,null,null,null,null,null,null,null,null,null,null,null,null,{"$f":"SUBTOTAL(9,DF6:DF34)","v":0},0,0,0,0,0,0,0,0,0,0,0,0,0,0,0,0,0,0,0,0,0,0,{"$f":"SUBTOTAL(9,EC6:EC34)","v":0},0,0,0,0,0,0,0,0,0,0,0,0,0,0,0,0,null,null,null,null,null,null,{"$f":"SUBTOTAL(9,EZ6:EZ34)","v":0},{"$f":"SUBTOTAL(9,FA6:FA34)","v":0},0,0,0,0,0,0,0,0,0,0,0,0,0,0,0,0,0,0,0,0,0]
[null,null,"熱","産業用蒸気",null,null,"MJ",null,null,null,null,null,null,null,null,null,null,null,null,null,null,null,null,null,null,null,null,null,null,null,null,null,null,null,null,null,null,null,null,null,null,null,null,null,null,null,null,null,null,null,null,null,null,null,null,null,null,null,null,null,null,0,0,0,0,0,0,0,0,0,0,0,0,0,0,0,0,0,0,0,0,0,0,0,{"$f":"VLOOKUP($G36,$GB$6:$GC$15,2,FALSE)","v":1000},"GJ",{"$f":"ROUND(BJ36/$CG36,0)","v":0},{"$f":"ROUND(BK36/$CG36,0)","v":0},{"$f":"ROUND(BL36/$CG36,0)","v":0},{"$f":"ROUND(BM36/$CG36,0)","v":0},{"$f":"ROUND(BN36/$CG36,0)","v":0},{"$f":"ROUND(BO36/$CG36,0)","v":0},{"$f":"ROUND(BP36/$CG36,0)","v":0},{"$f":"ROUND(BQ36/$CG36,0)","v":0},{"$f":"ROUND(BR36/$CG36,0)","v":0},{"$f":"ROUND(BS36/$CG36,0)","v":0},{"$f":"ROUND(BT36/$CG36,0)","v":0},{"$f":"ROUND(BU36/$CG36,0)","v":0},{"$f":"ROUND(BV36/$CG36,0)","v":0},{"$f":"ROUND(BW36/$CG36,0)","v":0},{"$f":"ROUND(BX36/$CG36,0)","v":0},{"$f":"ROUND(BY36/$CG36,0)","v":0},{"$f":"ROUND(BZ36/$CG36,0)","v":0},{"$f":"ROUND(CA36/$CG36,0)","v":0},{"$f":"ROUND(CB36/$CG36,0)","v":0},{"$f":"ROUND(CC36/$CG36,0)","v":0},{"$f":"ROUND(CD36/$CG36,0)","v":0},{"$f":"ROUND(CE36/$CG36,0)","v":0},{"$f":"ROUND(CF36/$CG36,0)","v":0},{"$f":"CI36*$FW36","v":0},0,0,0,0,0,0,0,0,0,0,0,0,0,0,0,{"$f":"CY36*$FW36","v":0},0,0,0,0,0,0,{"$f":"DF36*$GC$19","v":0},0,0,0,0,0,0,0,0,0,0,0,0,0,0,0,{"$f":"DV36*$GC$19","v":0},0,0,0,0,0,0,{"$f":"CI36*$FY36","v":0},0,0,0,0,0,0,0,0,0,0,0,0,0,0,0,{"$f":"CY36*$FY36","v":0},0,0,0,0,0,0,1.02,"GJ/GJ",0.06,"t-CO2\n/GJ"]
[null,null,null,"産業用以外の蒸気",null,null,"MJ",null,null,null,null,null,null,null,null,null,null,null,null,null,null,null,null,null,null,null,null,null,null,null,null,null,null,null,null,null,null,null,null,null,null,null,null,null,null,null,null,null,null,null,null,null,null,null,null,null,null,null,null,null,null,0,0,0,0,0,0,0,0,0,0,0,0,0,0,0,0,0,0,0,0,0,0,0,{"$f":"VLOOKUP($G37,$GB$6:$GC$15,2,FALSE)","v":1000},"GJ",0,0,0,0,0,0,0,0,0,0,0,0,0,0,0,0,0,0,0,0,0,0,0,0,0,0,0,0,0,0,0,0,0,0,0,0,0,0,0,0,0,0,0,0,0,0,0,0,0,0,0,0,0,0,0,0,0,0,0,0,0,0,0,0,0,0,0,0,0,0,0,0,0,0,0,0,0,0,0,0,0,0,0,0,0,0,0,0,0,0,0,0,1.36,"GJ/GJ",5.7000000000000002E-2,"t-CO2\n/GJ"]
[null,null,null,"温水",null,null,"MJ",null,null,null,null,null,null,null,null,null,null,null,null,null,null,null,null,null,null,null,null,null,null,null,null,null,null,null,null,null,null,null,null,null,null,null,null,null,null,null,null,null,null,null,null,null,null,null,null,null,null,null,null,null,null,0,0,0,0,0,0,0,0,0,0,0,0,0,0,0,0,0,0,0,0,0,0,0,{"$f":"VLOOKUP($G38,$GB$6:$GC$15,2,FALSE)","v":1000},"GJ",0,0,0,0,0,0,0,0,0,0,0,0,0,0,0,0,0,0,0,0,0,0,0,0,0,0,0,0,0,0,0,0,0,0,0,0,0,0,0,0,0,0,0,0,0,0,0,0,0,0,0,0,0,0,0,0,0,0,0,0,0,0,0,0,0,0,0,0,0,0,0,0,0,0,0,0,0,0,0,0,0,0,0,0,0,0,0,0,0,0,0,0,1.36,"GJ/GJ",5.7000000000000002E-2,"t-CO2\n/GJ"]
[null,null,null,"冷水",null,null,"MJ",null,null,null,null,null,null,null,null,null,null,null,null,null,null,null,null,null,null,null,null,null,null,null,null,null,null,null,null,null,null,null,null,null,null,null,null,null,null,null,null,null,null,null,null,null,null,null,null,null,null,null,null,null,null,0,0,0,0,0,0,0,0,0,0,0,0,0,0,0,0,0,0,0,0,0,0,0,{"$f":"VLOOKUP($G39,$GB$6:$GC$15,2,FALSE)","v":1000},"GJ",0,0,0,0,0,0,0,0,0,0,0,0,0,0,0,0,0,0,0,0,0,0,0,0,0,0,0,0,0,0,0,0,0,0,0,0,0,0,0,0,0,0,0,0,0,0,0,0,0,0,0,0,0,0,0,0,0,0,0,0,0,0,0,0,0,0,0,0,0,0,0,0,0,0,0,0,0,0,0,0,0,0,0,0,0,0,0,0,0,0,0,0,1.36,"GJ/GJ",5.7000000000000002E-2,"t-CO2\n/GJ"]
[null,null,null,"再生可能エネルギーの環境価値を移転した熱",null,null,"MJ",null,null,null,null,null,null,null,null,null,null,null,null,null,null,null,null,null,null,null,null,null,null,null,null,null,null,null,null,null,null,null,null,null,null,null,null,null,null,null,null,null,null,null,null,null,null,null,null,null,null,null,null,null,null,0,0,0,0,0,0,0,0,0,0,0,0,0,0,0,0,0,0,0,0,0,0,0,{"$f":"VLOOKUP($G40,$GB$6:$GC$15,2,FALSE)","v":1000},"GJ",0,0,0,0,0,0,0,0,0,0,0,0,0,0,0,0,0,0,0,0,0,0,0,{"$f":"CI40","v":0},0,0,0,0,0,0,0,0,0,0,0,0,0,0,0,0,0,0,0,0,0,0,null,null,null,null,null,null,null,null,null,null,null,null,null,null,null,null,null,null,null,null,null,null,null,0,0,0,0,0,0,0,0,0,0,0,0,0,0,0,0,0,0,0,0,0,0,0,null,null,5.7000000000000002E-2,"t-CO2\n/GJ"]
[null,null,null,"小　　計",null,null,null,null,null,null,null,null,null,null,null,null,null,null,null,null,null,null,null,null,null,null,null,null,null,null,null,null,null,null,null,null,null,null,null,null,null,null,null,null,null,null,null,null,null,null,null,null,null,null,null,null,null,null,null,null,null,null,null,null,null,null,null,null,null,null,null,null,null,null,null,null,null,null,null,null,null,null,null,null,null,null,null,null,null,null,null,null,null,null,null,null,null,null,null,null,null,null,null,null,null,null,null,null,null,{"$f":"SUBTOTAL(9,DF36:DF40)","v":0},0,0,0,0,0,0,0,0,0,0,0,0,0,0,0,0,{"$f":"SUBTOTAL(9,DW36:DW40)","v":0},{"$f":"SUBTOTAL(9,DX36:DX40)","v":0},0,0,0,0,0,0,0,0,0,0,0,0,0,0,0,0,0,0,0,0,0,{"$f":"SUBTOTAL(9,ET36:ET40)","v":0},{"$f":"SUBTOTAL(9,EU36:EU40)","v":0},0,0,0,0,0,0,0,0,0,0,0,0,0,0,0,0,0,0,0,0,0,{"$f":"SUBTOTAL(9,FQ36:FQ40)","v":0},{"$f":"SUBTOTAL(9,FR36:FR40)","v":0},0,0,0,0]
[null,null,"電気","一般電気\n事業者","昼間（8時～22時）",null,"kWh",null,null,null,null,null,null,null,null,null,null,null,null,null,null,null,null,null,null,null,null,null,null,null,null,null,null,null,null,null,null,null,null,null,null,null,null,null,null,null,null,null,null,null,null,null,null,null,null,null,null,null,null,null,null,0,0,0,0,0,0,0,0,0,0,0,0,0,0,0,0,0,0,0,0,0,0,0,{"$f":"VLOOKUP($G42,$GB$6:$GC$17,2,FALSE)","v":1000},"千kWh",0,{"$f":"ROUND(BK42/$CG42,0)","v":0},{"$f":"ROUND(BL42/$CG42,0)","v":0},{"$f":"ROUND(BM42/$CG42,0)","v":0},{"$f":"ROUND(BN42/$CG42,0)","v":0},{"$f":"ROUND(BO42/$CG42,0)","v":0},{"$f":"ROUND(BP42/$CG42,0)","v":0},{"$f":"ROUND(BQ42/$CG42,0)","v":0},{"$f":"ROUND(BR42/$CG42,0)","v":0},{"$f":"ROUND(BS42/$CG42,0)","v":0},{"$f":"ROUND(BT42/$CG42,0)","v":0},{"$f":"ROUND(BU42/$CG42,0)","v":0},{"$f":"ROUND(BV42/$CG42,0)","v":0},{"$f":"ROUND(BW42/$CG42,0)","v":0},{"$f":"ROUND(BX42/$CG42,0)","v":0},{"$f":"ROUND(BY42/$CG42,0)","v":0},{"$f":"ROUND(BZ42/$CG42,0)","v":0},{"$f":"ROUND(CA42/$CG42,0)","v":0},{"$f":"ROUND(CB42/$CG42,0)","v":0},{"$f":"ROUND(CC42/$CG42,0)","v":0},{"$f":"ROUND(CD42/$CG42,0)","v":0},{"$f":"ROUND(CE42/$CG42,0)","v":0},{"$f":"ROUND(CF42/$CG42,0)","v":0},{"$f":"CI42*$FW42","v":0},0,0,0,0,0,0,0,0,0,0,0,0,0,0,0,{"$f":"CY42*$FW42","v":0},0,0,0,0,0,0,{"$f":"DF42*$GC$19","v":0},0,0,0,0,0,0,0,0,0,0,0,0,0,0,0,{"$f":"DV42*$GC$19","v":0},0,0,0,0,0,0,{"$f":"CI42*$FY42","v":0},0,0,0,0,0,0,0,0,0,0,0,0,0,0,0,{"$f":"CY42*$FY42","v":0},0,0,0,0,0,0,9.9700000000000006,"GJ\n/千kWh",0.495,"t-CO2\n/千kWh"]
[null,null,null,null,"夜間（22時～翌8時）",null,"kWh",null,null,null,null,null,null,null,null,null,null,null,null,null,null,null,null,null,null,null,null,null,null,null,null,null,null,null,null,null,null,null,null,null,null,null,null,null,null,null,null,null,null,null,null,null,null,null,null,null,null,null,null,null,null,0,0,0,0,0,0,0,0,0,0,0,0,0,0,0,0,0,0,0,0,0,0,0,{"$f":"VLOOKUP($G43,$GB$6:$GC$17,2,FALSE)","v":1000},"千kWh",0,0,0,0,0,0,0,0,0,0,0,0,0,0,0,0,0,0,0,0,0,0,0,0,0,0,0,0,0,0,0,0,0,0,0,0,0,0,0,0,0,0,0,0,0,0,0,0,0,0,0,0,0,0,0,0,0,0,0,0,0,0,0,0,0,0,0,0,0,0,0,0,0,0,0,0,0,0,0,0,0,0,0,0,0,0,0,0,0,0,0,0,9.2799999999999994,"GJ\n/千kWh",0.495,"t-CO2\n/千kWh"]
[null,null,null,"その他の買電",null,null,"kWh",null,null,null,null,null,null,null,null,null,null,null,null,null,null,null,null,null,null,null,null,null,null,null,null,null,null,null,null,null,null,null,null,null,null,null,null,null,null,null,null,null,null,null,null,null,null,null,null,null,null,null,null,null,null,0,0,0,0,0,0,0,0,0,0,0,0,0,0,0,0,0,0,0,0,0,0,0,{"$f":"VLOOKUP($G44,$GB$6:$GC$17,2,FALSE)","v":1000},"千kWh",0,0,0,0,0,0,0,0,0,0,0,0,0,0,0,0,0,0,0,0,0,0,0,0,0,0,0,0,0,0,0,0,0,0,0,0,0,0,0,0,0,0,0,0,0,0,0,0,0,0,0,0,0,0,0,0,0,0,0,0,0,0,0,0,0,0,0,0,0,0,0,0,0,0,0,0,0,0,0,0,0,0,0,0,0,0,0,0,0,0,0,0,9.76,"GJ\n/千kWh",0.495,"t-CO2\n/千kWh"]
[null,null,null,"再生可能エネルギーの環境価値を移転した電気",null,null,"kWh",null,null,null,null,null,null,null,null,null,null,null,null,null,null,null,null,null,null,null,null,null,null,null,null,null,null,null,null,null,null,null,null,null,null,null,null,null,null,null,null,null,null,null,null,null,null,null,null,null,null,null,null,null,null,0,0,0,0,0,0,0,0,0,0,0,0,0,0,0,0,0,0,0,0,0,0,0,{"$f":"VLOOKUP($G45,$GB$6:$GC$17,2,FALSE)","v":1000},"千kWh",0,0,0,0,0,0,0,0,0,0,0,0,0,0,0,0,0,0,0,0,0,0,0,null,null,null,null,null,null,null,null,null,null,null,null,null,null,null,null,null,null,null,null,null,null,null,null,null,null,null,null,null,null,null,null,null,null,null,null,null,null,null,null,null,null,null,null,null,null,0,0,0,0,0,0,0,0,0,0,0,0,0,0,0,0,0,0,0,0,0,0,0,null,null,0.495,"t-CO2\n/千kWh"]
[null,null,null,"再生可能エネルギーを自家消費した\n電気",null,null,"kWh",null,null,null,null,null,null,null,null,null,null,null,null,null,null,null,null,null,null,null,null,null,null,null,null,null,null,null,null,null,null,null,null,null,null,null,null,null,null,null,null,null,null,null,null,null,null,null,null,null,null,null,null,null,null,0,0,0,0,0,0,0,0,0,0,0,0,0,0,0,0,0,0,0,0,0,0,0,{"$f":"VLOOKUP($G46,$GB$6:$GC$17,2,FALSE)","v":1000},"千kWh",0,0,0,0,0,0,0,0,0,0,0,0,0,0,0,0,0,0,0,0,0,0,0,null,null,null,null,null,null,null,null,null,null,null,null,null,null,null,null,null,null,null,null,null,null,null,null,null,null,null,null,null,null,null,null,null,null,null,null,null,null,null,null,null,null,null,null,null,null,{"$f":"-ABS(CI46*$GA46)","v":0},0,0,0,0,0,0,0,0,0,0,0,0,0,0,0,0,0,0,0,{"$f":"-ABS(DC46*$FY46)","v":0},{"$f":"-ABS(DD46*$FY46)","v":0},0,null,null,-0.2445,"t-CO2\n/千kWh",-0.193]
[null,null,null,"小　　計",null,null,null,null,null,null,null,null,null,null,null,null,null,null,null,null,null,null,null,null,null,null,null,null,null,null,null,null,null,null,null,null,null,null,null,null,null,null,null,null,null,null,null,null,null,null,null,null,null,null,null,null,null,null,null,null,null,null,null,null,null,null,null,null,null,null,null,null,null,null,null,null,null,null,null,null,null,null,null,null,null,null,null,null,null,null,null,null,null,null,null,null,null,null,null,null,null,null,null,null,null,null,null,null,null,{"$f":"SUBTOTAL(9,DF42:DF46)","v":0},0,0,0,0,0,0,0,0,0,0,0,0,0,0,0,0,{"$f":"SUBTOTAL(9,DW42:DW46)","v":0},{"$f":"SUBTOTAL(9,DX42:DX46)","v":0},0,0,0,0,0,0,0,0,0,0,0,0,0,0,0,0,0,0,0,0,0,{"$f":"SUBTOTAL(9,ET42:ET46)","v":0},{"$f":"SUBTOTAL(9,EU42:EU46)","v":0},0,0,0,0,0,0,0,0,0,0,0,0,0,0,0,0,0,0,0,0,0,{"$f":"SUBTOTAL(9,FQ42:FQ46)","v":0},{"$f":"SUBTOTAL(9,FR42:FR46)","v":0},0,0,0,0]
[null,null,"外部供給","自ら生成した熱の供給",null,null,"GJ",null,null,null,null,null,null,null,null,null,null,null,null,null,null,null,null,null,null,null,null,null,null,null,null,null,null,null,null,null,null,null,{"$f":"'４．燃料単位換算(工場現場)'!AG56","v":0},{"$f":"'４．燃料単位換算(工場現場)'!AH56","v":0},{"$f":"'４．燃料単位換算(工場現場)'!AI56","v":0},{"$f":"'４．燃料単位換算(工場現場)'!AJ56","v":0},{"$f":"'４．燃料単位換算(工場現場)'!AK56","v":0},{"$f":"'４．燃料単位換算(工場現場)'!AL56","v":0},{"$f":"'４．燃料単位換算(工場現場)'!AM56","v":0},{"$f":"'４．燃料単位換算(工場現場)'!AN56","v":0},{"$f":"'４．燃料単位換算(工場現場)'!AO56","v":0},{"$f":"'４．燃料単位換算(工場現場)'!AP56","v":0},{"$f":"'４．燃料単位換算(工場現場)'!AQ56","v":0},{"$f":"'４．燃料単位換算(工場現場)'!AR56","v":0},{"$f":"'４．燃料単位換算(工場現場)'!AS56","v":0},{"$f":"'４．燃料単位換算(工場現場)'!AT56","v":0},{"$f":"'４．燃料単位換算(工場現場)'!AU56","v":0},{"$f":"'４．燃料単位換算(工場現場)'!AV56","v":0},{"$f":"'４．燃料単位換算(工場現場)'!AW56","v":0},{"$f":"'４．燃料単位換算(工場現場)'!AX56","v":0},{"$f":"'４．燃料単位換算(工場現場)'!AY56","v":0},{"$f":"'４．燃料単位換算(工場現場)'!AZ56","v":0},{"$f":"'４．燃料単位換算(工場現場)'!BA56","v":0},{"$f":"'４．燃料単位換算(工場現場)'!BB56","v":0},{"$f":"'４．燃料単位換算(工場現場)'!BC56","v":0},{"$f":"AM48","v":0},0,0,0,0,0,0,0,0,0,0,0,0,0,0,0,{"$f":"BC48","v":0},0,0,0,0,0,0,{"$f":"VLOOKUP($G48,$GB$6:$GC$15,2,FALSE)","v":1},"GJ",0,{"$f":"ROUND(BK48/$CG48,0)","v":0},{"$f":"ROUND(BL48/$CG48,0)","v":0},{"$f":"ROUND(BM48/$CG48,0)","v":0},{"$f":"ROUND(BN48/$CG48,0)","v":0},{"$f":"ROUND(BO48/$CG48,0)","v":0},{"$f":"ROUND(BP48/$CG48,0)","v":0},{"$f":"ROUND(BQ48/$CG48,0)","v":0},{"$f":"ROUND(BR48/$CG48,0)","v":0},{"$f":"ROUND(BS48/$CG48,0)","v":0},{"$f":"ROUND(BT48/$CG48,0)","v":0},{"$f":"ROUND(BU48/$CG48,0)","v":0},{"$f":"ROUND(BV48/$CG48,0)","v":0},{"$f":"ROUND(BW48/$CG48,0)","v":0},{"$f":"ROUND(BX48/$CG48,0)","v":0},{"$f":"ROUND(BY48/$CG48,0)","v":0},{"$f":"ROUND(BZ48/$CG48,0)","v":0},{"$f":"ROUND(CA48/$CG48,0)","v":0},{"$f":"ROUND(CB48/$CG48,0)","v":0},{"$f":"ROUND(CC48/$CG48,0)","v":0},{"$f":"ROUND(CD48/$CG48,0)","v":0},{"$f":"ROUND(CE48/$CG48,0)","v":0},{"$f":"ROUND(CF48/$CG48,0)","v":0},{"$f":"CI48","v":0},0,0,0,0,0,0,0,0,0,0,0,0,0,0,0,0,0,0,0,0,0,0,null,null,null,null,null,null,null,null,null,null,null,null,null,null,null,null,null,null,null,null,null,null,null,{"$f":"IF(ISERROR(-ABS(CI48*$FY48)),\"\",(-ABS(CI48*$FY48)))","v":0},0,0,0,0,0,0,0,0,0,0,0,0,0,0,0,{"$f":"IF(ISERROR(-ABS(CY48*$FY48)),\"\",(-ABS(CY48*$FY48)))","v":0},0,0,0,0,0,0]
[null,null,null,"自ら生成した電力の供給",null,null,"千kWh",null,null,null,null,null,null,null,null,null,null,null,null,null,null,null,null,null,null,null,null,null,null,null,null,null,null,null,null,null,null,null,{"$f":"'４．燃料単位換算(工場現場)'!AG54","v":0},{"$f":"'４．燃料単位換算(工場現場)'!AH54","v":0},{"$f":"'４．燃料単位換算(工場現場)'!AI54","v":0},{"$f":"'４．燃料単位換算(工場現場)'!AJ54","v":0},{"$f":"'４．燃料単位換算(工場現場)'!AK54","v":0},{"$f":"'４．燃料単位換算(工場現場)'!AL54","v":0},{"$f":"'４．燃料単位換算(工場現場)'!AM54","v":0},{"$f":"'４．燃料単位換算(工場現場)'!AN54","v":0},{"$f":"'４．燃料単位換算(工場現場)'!AO54","v":0},{"$f":"'４．燃料単位換算(工場現場)'!AP54","v":0},{"$f":"'４．燃料単位換算(工場現場)'!AQ54","v":0},{"$f":"'４．燃料単位換算(工場現場)'!AR54","v":0},{"$f":"'４．燃料単位換算(工場現場)'!AS54","v":0},{"$f":"'４．燃料単位換算(工場現場)'!AT54","v":0},{"$f":"'４．燃料単位換算(工場現場)'!AU54","v":0},{"$f":"'４．燃料単位換算(工場現場)'!AV54","v":0},{"$f":"'４．燃料単位換算(工場現場)'!AW54","v":0},{"$f":"'４．燃料単位換算(工場現場)'!AX54","v":0},{"$f":"'４．燃料単位換算(工場現場)'!AY54","v":0},{"$f":"'４．燃料単位換算(工場現場)'!AZ54","v":0},{"$f":"'４．燃料単位換算(工場現場)'!BA54","v":0},{"$f":"'４．燃料単位換算(工場現場)'!BB54","v":0},{"$f":"'４．燃料単位換算(工場現場)'!BC54","v":0},0,0,0,0,0,0,0,0,0,0,0,0,0,0,0,0,0,0,0,0,0,0,0,{"$f":"VLOOKUP($G49,$GB$6:$GC$17,2,FALSE)","v":1},"千kWh",0,0,0,0,0,0,0,0,0,0,0,0,0,0,0,0,0,0,0,0,0,0,0,null,null,null,null,null,null,null,null,null,null,null,null,null,null,null,null,null,null,null,null,null,null,null,null,null,null,null,null,null,null,null,null,null,null,null,null,null,null,null,null,null,null,null,null,null,null,0,0,0,0,0,0,0,0,0,0,0,0,0,0,0,0,0,0,0,0,0,0,0]
[null,null,null,"小　　計",null,null,null,null,null,null,null,null,null,null,null,null,null,null,null,null,null,null,null,null,null,null,null,null,null,null,null,null,null,null,null,null,null,null,null,null,null,null,null,null,null,null,null,null,null,null,null,null,null,null,null,null,null,null,null,null,null,null,null,null,null,null,null,null,null,null,null,null,null,null,null,null,null,null,null,null,null,null,null,null,null,null,null,null,null,null,null,null,null,null,null,null,null,null,null,null,null,null,null,null,null,null,null,null,null,null,null,null,null,null,null,null,null,null,null,null,null,null,null,null,null,null,null,null,null,null,null,null,null,null,null,null,null,null,null,null,null,null,null,null,null,null,null,null,null,null,null,null,null,null,null,{"$f":"SUBTOTAL(9,EZ48:EZ49)","v":0},{"$f":"SUBTOTAL(9,FA48:FA49)","v":0},0,0,0,0,0,0,0,0,0,0,0,0,0,0,0,0,0,0,0,0,0]
[null,null,null,"コージェネレーションＣＯ₂削減量",null,null,"t-CO2",null,null,null,null,null,null,null,null,null,null,null,null,null,null,null,null,null,null,null,null,null,null,null,null,null,null,null,null,null,null,null,null,null,null,null,null,null,null,null,null,null,null,null,null,null,null,null,null,null,null,null,null,null,null,null,null,null,null,null,null,null,null,null,null,null,null,null,null,null,null,null,null,null,null,null,null,null,1,"t-CO2",{"$f":"ROUND(BJ51/$CG51,0)","v":0},{"$f":"ROUND(BK51/$CG51,0)","v":0},{"$f":"ROUND(BL51/$CG51,0)","v":0},{"$f":"ROUND(BM51/$CG51,0)","v":0},{"$f":"ROUND(BN51/$CG51,0)","v":0},{"$f":"ROUND(BO51/$CG51,0)","v":0},{"$f":"ROUND(BP51/$CG51,0)","v":0},{"$f":"ROUND(BQ51/$CG51,0)","v":0},{"$f":"ROUND(BR51/$CG51,0)","v":0},{"$f":"ROUND(BS51/$CG51,0)","v":0},{"$f":"ROUND(BT51/$CG51,0)","v":0},{"$f":"ROUND(BU51/$CG51,0)","v":0},{"$f":"ROUND(BV51/$CG51,0)","v":0},{"$f":"ROUND(BW51/$CG51,0)","v":0},{"$f":"ROUND(BX51/$CG51,0)","v":0},{"$f":"ROUND(BY51/$CG51,0)","v":0},{"$f":"ROUND(BZ51/$CG51,0)","v":0},{"$f":"ROUND(CA51/$CG51,0)","v":0},{"$f":"ROUND(CB51/$CG51,0)","v":0},{"$f":"ROUND(CC51/$CG51,0)","v":0},{"$f":"ROUND(CD51/$CG51,0)","v":0},{"$f":"ROUND(CE51/$CG51,0)","v":0},{"$f":"ROUND(CF51/$CG51,0)","v":0},null,null,null,null,null,null,null,null,null,null,null,null,null,null,null,null,null,null,null,null,null,null,null,null,null,null,null,null,null,null,null,null,null,null,null,null,null,null,null,null,null,null,null,null,null,null,{"$f":"-ABS(L51)","v":0},{"$f":"-ABS(M51)","v":0},{"$f":"-ABS(N51)","v":0},{"$f":"-ABS(O51)","v":0},{"$f":"-ABS(P51)","v":0},{"$f":"-ABS(Q51)","v":0},{"$f":"-ABS(R51)","v":0},{"$f":"-ABS(S51)","v":0},{"$f":"-ABS(T51)","v":0},{"$f":"-ABS(U51)","v":0},{"$f":"-ABS(V51)","v":0},{"$f":"-ABS(W51)","v":0},{"$f":"-ABS(X51)","v":0},{"$f":"-ABS(Y51)","v":0},{"$f":"-ABS(Z51)","v":0},{"$f":"-ABS(AA51)","v":0},{"$f":"-ABS(AB51)","v":0},{"$f":"-ABS(AC51)","v":0},{"$f":"-ABS(AD51)","v":0},{"$f":"-ABS(AE51)","v":0},{"$f":"-ABS(AF51)","v":0},{"$f":"-ABS(AG51)","v":0},{"$f":"-ABS(AH51)","v":0}]
[null,null,null,"低炭素電力ＣＯ₂削減量",null,null,"t-CO2",null,null,null,null,null,null,null,null,null,null,null,null,null,null,null,null,null,null,null,null,null,null,null,null,null,null,null,null,null,null,null,null,null,null,null,null,null,null,null,null,null,null,null,null,null,null,null,null,null,null,null,null,null,null,null,null,null,null,null,null,null,null,null,null,null,null,null,null,null,null,null,null,null,null,null,null,null,1,"t-CO2",0,{"$f":"ROUND(BK52/$CG52,0)","v":0},{"$f":"ROUND(BL52/$CG52,0)","v":0},{"$f":"ROUND(BM52/$CG52,0)","v":0},{"$f":"ROUND(BN52/$CG52,0)","v":0},{"$f":"ROUND(BO52/$CG52,0)","v":0},{"$f":"ROUND(BP52/$CG52,0)","v":0},{"$f":"ROUND(BQ52/$CG52,0)","v":0},{"$f":"ROUND(BR52/$CG52,0)","v":0},{"$f":"ROUND(BS52/$CG52,0)","v":0},{"$f":"ROUND(BT52/$CG52,0)","v":0},{"$f":"ROUND(BU52/$CG52,0)","v":0},{"$f":"ROUND(BV52/$CG52,0)","v":0},{"$f":"ROUND(BW52/$CG52,0)","v":0},{"$f":"ROUND(BX52/$CG52,0)","v":0},{"$f":"ROUND(BY52/$CG52,0)","v":0},{"$f":"ROUND(BZ52/$CG52,0)","v":0},{"$f":"ROUND(CA52/$CG52,0)","v":0},{"$f":"ROUND(CB52/$CG52,0)","v":0},{"$f":"ROUND(CC52/$CG52,0)","v":0},{"$f":"ROUND(CD52/$CG52,0)","v":0},{"$f":"ROUND(CE52/$CG52,0)","v":0},{"$f":"ROUND(CF52/$CG52,0)","v":0},null,null,null,null,null,null,null,null,null,null,null,null,null,null,null,null,null,null,null,null,null,null,null,null,null,null,null,null,null,null,null,null,null,null,null,null,null,null,null,null,null,null,null,null,null,null,{"$f":"-ABS(L52)","v":0},0,0,0,0,0,0,0,0,0,0,0,0,0,0,0,0,0,0,0,0,0,0]
[null,null,null,"合　　計",null,null,null,null,null,null,null,{"$f":"L35+L41+L47+L50","v":0},{"$f":"M35+M41+M47+M50","v":0},0,0,0,0,0,0,0,0,0,0,0,0,0,0,0,0,0,0,0,0,0,0,0,0,0,0,0,0,0,0,0,0,0,0,0,0,0,0,0,0,0,0,0,0,0,0,0,0,null,null,null,null,null,null,null,null,null,null,null,null,null,null,null,null,null,null,null,null,null,null,null,null,null,null,null,null,null,null,null,null,null,null,null,null,null,null,null,null,null,null,null,null,null,null,null,null,{"$f":"DF35+DF41+DF47","v":0},{"$f":"DG35+DG41+DG47","v":0},0,0,0,0,0,0,0,0,0,0,0,0,0,0,0,0,0,0,0,0,0,{"$f":"DF53*$GC$19","v":0},0,0,0,0,0,0,0,0,0,0,0,0,0,0,0,0,0,0,0,0,0,0,{"$f":"ROUND((IF(EZ35+EZ41+EZ47+EZ50+EZ52<0,0,EZ35+EZ41+EZ47+EZ50+EZ52)),0)","v":0},{"$f":"ROUND((IF(FA35+FA41+FA47+FA50+FA52<0,0,FA35+FA41+FA47+FA50+FA52)),0)","v":0},0,0,0,0,0,0,{"$f":"ROUND((IF(FH35+FH41+FH47+FH50+FH52<0,0,FH35+FH41+FH47+FH50+FH51+FH52)),0)","v":0},{"$f":"ROUND((IF(FI35+FI41+FI47+FI50+FI52<0,0,FI35+FI41+FI47+FI50+FI51+FI52)),0)","v":0},0,0,0,0,0,0,0,0,0,0,0,0,0]

{"sheet":"６．ＣＯ₂排出量計算結果","index":9,"n_rows":61,"n_cols":28,"rows_kept":61,"cut":false,"hidden":false,"merged":[[40,2,40,7],[36,2,36,7],[13,11,13,12],[28,14,28,15],[29,11,29,12],[30,11,30,12],[37,2,37,7],[39,2,39,7],[38,2,38,7],[25,6,25,7],[26,6,26,7],[27,6,27,7],[36,8,36,9],[38,8,38,9],[37,8,37,9],[40,8,40,9],[21,2,27,2],[21,6,21,7],[12,2,12,9],[13,2,13,9],[12,11,12,12],[23,6,23,7],[24,6,24,7],[22,6,22,7],[18,2,18,9],[39,8,39,9],[0,21,0,22],[3,17,3,21],[6,2,6,8],[8,2,8,8],[20,2,20,8],[19,2,19,8],[9,2,9,8],[10,2,10,8],[7,2,7,8],[5,2,5,9],[11,2,11,9],[11,14,11,15],[30,2,30,9],[28,2,28,9],[29,2,29,9]]}
[]
[null,null,"６．エコアップ認証CO₂排出量計算結果"]
[]
[null,null,"（１）ＣＯ₂排出量"]
[null,null,null,null,null,null,null,null,null,null,null,null,null,null,null,null,null,null,null,null,null,null,null,null,null,null,null,"CO2換算（ｔ-CO2）"]
[null,null,null,null,null,null,null,null,null,null,null,"20年度\n(2008)","21年度\n(2009)","22年度\n(2010)","23年度\n(2011)","24年度\n(2012)","25年度\n(2013)","26年度\n(2014)","27年度\n(2015)","28年度\n(2016)","29年度\n(2017)","30年度\n(2018)","31/1年度\n(2019)","2年度\n(2020)","3年度\n(2021)","4年度\n(2022)","5年度\n(2023)","6年度\n(2024)"]
[null,null,"エコアップ基準年度"]
[null,null,"ｱ)建物系エネルギーCO2",null,null,null,null,null,null,null,{"$f":"#REF!","v":{"$error":"#REF!"}},{"$f":"ROUND('２．算定報告様式(建物系)'!FF53,1)","v":0},{"$f":"ROUND('２．算定報告様式(建物系)'!FG53,1)","v":0},{"$f":"ROUND('２．算定報告様式(建物系)'!FH53,1)","v":0},{"$f":"ROUND('２．算定報告様式(建物系)'!FI53,1)","v":0},{"$f":"ROUND('２．算定報告様式(建物系)'!FJ53,1)","v":0},{"$f":"ROUND('２．算定報告様式(建物系)'!FK53,1)","v":0},{"$f":"ROUND('２．算定報告様式(建物系)'!FL53,1)","v":0},{"$f":"ROUND('２．算定報告様式(建物系)'!FM53,1)","v":0},{"$f":"ROUND('２．算定報告様式(建物系)'!FN53,1)","v":0},{"$f":"ROUND('２．算定報告様式(建物系)'!FO53,1)","v":0},{"$f":"ROUND('２．算定報告様式(建物系)'!FP53,1)","v":0},{"$f":"ROUND('２．算定報告様式(建物系)'!FQ53,1)","v":0},{"$f":"ROUND('２．算定報告様式(建物系)'!FR53,1)","v":0},{"$f":"ROUND('２．算定報告様式(建物系)'!FS53,1)","v":0},{"$f":"ROUND('２．算定報告様式(建物系)'!FT53,1)","v":0},{"$f":"ROUND('２．算定報告様式(建物系)'!FU53,1)","v":0},{"$f":"ROUND('２．算定報告様式(建物系)'!FV53,1)","v":0}]
[null,null,"ｲ)工場・現場系エネルギーCO2",null,null,null,null,null,null,null,{"$f":"#REF!","v":{"$error":"#REF!"}},{"$f":"ROUND('５．算定報告様式(工場現場)'!FF53,1)","v":0},{"$f":"ROUND('５．算定報告様式(工場現場)'!FG53,1)","v":0},{"$f":"ROUND('５．算定報告様式(工場現場)'!FH53,1)","v":0},{"$f":"ROUND('５．算定報告様式(工場現場)'!FI53,1)","v":0},{"$f":"ROUND('５．算定報告様式(工場現場)'!FJ53,1)","v":0},{"$f":"ROUND('５．算定報告様式(工場現場)'!FK53,1)","v":0},{"$f":"ROUND('５．算定報告様式(工場現場)'!FL53,1)","v":0},{"$f":"ROUND('５．算定報告様式(工場現場)'!FM53,1)","v":0},{"$f":"ROUND('５．算定報告様式(工場現場)'!FN53,1)","v":0},{"$f":"ROUND('５．算定報告様式(工場現場)'!FO53,1)","v":0},{"$f":"ROUND('５．算定報告様式(工場現場)'!FP53,1)","v":0},{"$f":"ROUND('５．算定報告様式(工場現場)'!FQ53,1)","v":0},{"$f":"ROUND('５．算定報告様式(工場現場)'!FR53,1)","v":0},{"$f":"ROUND('５．算定報告様式(工場現場)'!FS53,1)","v":0},{"$f":"ROUND('５．算定報告様式(工場現場)'!FT53,1)","v":0},{"$f":"ROUND('５．算定報告様式(工場現場)'!FU53,1)","v":0},{"$f":"ROUND('５．算定報告様式(工場現場)'!FV53,1)","v":0}]
[null,null,"ｳ ) 自動車燃料系ＣＯ₂　　　　　　　",null,null,null,null,null,null,null,{"$f":"'３．自動車燃料チェック'!AF56","v":0},{"$f":"ROUND('３．自動車燃料チェック'!AF56,1)","v":0},{"$f":"ROUND('３．自動車燃料チェック'!AG56,1)","v":0},{"$f":"ROUND('３．自動車燃料チェック'!AH56,1)","v":0},{"$f":"ROUND('３．自動車燃料チェック'!AI56,1)","v":0},{"$f":"ROUND('３．自動車燃料チェック'!AJ56,1)","v":0},{"$f":"ROUND('３．自動車燃料チェック'!AK56,1)","v":0},{"$f":"ROUND('３．自動車燃料チェック'!AL56,1)","v":0},{"$f":"ROUND('３．自動車燃料チェック'!AM56,1)","v":0},{"$f":"ROUND('３．自動車燃料チェック'!AN56,1)","v":0},{"$f":"ROUND('３．自動車燃料チェック'!AO56,1)","v":0},{"$f":"ROUND('３．自動車燃料チェック'!AP56,1)","v":0},{"$f":"ROUND('３．自動車燃料チェック'!AQ56,1)","v":0},{"$f":"ROUND('３．自動車燃料チェック'!AR56,1)","v":0},{"$f":"ROUND('３．自動車燃料チェック'!AS56,1)","v":0},{"$f":"ROUND('３．自動車燃料チェック'!AT56,1)","v":0},{"$f":"ROUND('３．自動車燃料チェック'!AU56,1)","v":0},{"$f":"ROUND('３．自動車燃料チェック'!AV56,1)","v":0}]
[null,null,"ＣＯ₂排出量合計(ｱ+ｲ+ｳ)",null,null,null,null,null,null,null,{"$f":"K8+K9+K10","v":{"$error":"#REF!"}},{"$f":"L8+L9+L10","v":0},0,0,0,0,0,0,{"$f":"S8+S9+S10","v":0},{"$f":"T8+T9+T10","v":0},{"$f":"U8+U9+U10","v":0},{"$f":"V8+V9+V10","v":0},{"$f":"W8+W9+W10","v":0},{"$f":"X8+X9+X10","v":0},0,0,0,0]
[null,null,"a.エコアップ認証ＣＯ₂基準排出量",null,null,null,null,null,null,null,null,null,null,null,{"$f":"J53","v":""},null,"t-CO₂",{"$f":"IF(J53=\"\",\"\",IF(J54=3,\"OK\",\"\"))","v":""}]
[null,null,"ｂ．（旧来の）エコアップ認証ＣＯ₂基準排出量",null,null,null,null,null,null,null,null,null,null,"t-CO₂"]
[null,null,"基準排出量補正率（ａ÷ｂ）",null,null,null,null,null,null,null,null,{"$f":"IFERROR(O12/+L13,\"\")","v":""}]
[]
[]
[null,null,"（２）ＣＯ₂排出量原単位"]
[null,null,null,null,null,null,null,null,null,null,null,null,null,null,null,null,null,null,null,null,null,null,null,null,null,null,null,"CO2換算（ｔ-CO2／指標）"]
[null,null,null,null,null,null,null,null,null,null,null,"20年度\n(2008)","21年度\n(2009)","22年度\n(2010)","23年度\n(2011)","24年度\n(2012)","25年度\n(2013)","26年度\n(2014)","27年度\n(2015)","28年度\n(2016)","29年度\n(2017)","30年度\n(2018)","31/1年度\n(2019)","2年度\n(2020)","3年度\n(2021)","4年度\n(2022)","5年度\n(2023)","6年度\n(2024)"]
[null,null,"エコアップ基準年度",null,null,null,null,null,null,{"$f":"IF(J7=\"\",\"\",J7)","v":""},"","","","","","","","","","","","","",{"$f":"IF(X7=\"\",\"\",X7)","v":""},"","","",""]
[null,null,"（選択した）CO2排出量原単位",null,null,null,null,null,null,{"$f":"Q29","v":"t-CO₂/台"},{"$f":"IF(ISERROR(K11/INDEX(K22:K28,$F$22)),\"\",K11/INDEX(K22:K28,$F$22))","v":""},{"$f":"IF(ISERROR(ROUND(L11/INDEX(L22:L28,$F$22),4)),\"\",ROUND(L11/INDEX(L22:L28,$F$22),4))","v":""},{"$f":"IF(ISERROR(ROUND(M11/INDEX(M22:M28,$F$22),4)),\"\",ROUND(M11/INDEX(M22:M28,$F$22),4))","v":""},"","","","","","","","","","",{"$f":"IF(ISERROR(ROUND(X11/INDEX(X22:X28,$F$22),4)),\"\",ROUND(X11/INDEX(X22:X28,$F$22),4))","v":""},"","","",""]
[null,null,"活動規模の指標",1,null,5,"生産量\n（単位）",null,"t"]
[null,null,null,2,null,null,"売上額\n（単位）",null,"億円"]
[null,null,null,3,null,null,"従業員数\n（単位）",null,"人"]
[null,null,null,4,null,null,"床面積\n（単位）",null,"㎡"]
[null,null,null,5,null,null,"台数\n（単位）",null,"台"]
[null,null,null,6,null,null,"時間\n（単位）",null,"Ｈ"]
[null,null,null,7]
[null,null,"ｃ．ＣＯ₂基準原単位",null,null,null,null,null,null,null,null,null,null,null,{"$f":"J59","v":""},null,{"$f":"\"t-CO₂\"&\"/\"&F53","v":"t-CO₂/台"},{"$f":"IF(J59=\"\",\"\",IF(J60=3,\"OK\",\"\"))","v":""}]
[null,null,"ｄ．（旧来の）エコアップ認証ＣＯ₂基準原単位",null,null,null,null,null,null,null,null,null,null,"t-CO₂／"]
[null,null,"基準原単位補正率（ｃ÷ｄ）",null,null,null,null,null,null,null,null,{"$f":"IFERROR(O29/+L30,\"\")","v":""}]
[]
[]
[]
[null,null,"（３）CO₂排出量、原単位目標値の補正"]
[]
[null,null,null,null,null,null,null,null,"基準排出量\n基準原単位",null,null,null,"21年度\n(2009)","22年度\n(2010)","23年度\n(2011)","24年度\n(2012)","25年度\n(2013)","26年度\n(2014)","27年度\n(2015)","28年度\n(2016)","29年度\n(2017)","30年度\n(2018)","31年度\n(2019)","31年度\n(2020)","31年度\n(2021)","31年度\n(2022)","31年度\n(2023)","31年度\n(2024)"]
[null,null,"e.これまでのＣＯ₂排出量目標値",null,null,null,null,null,{"$f":"IF(L13=\"\",\"\",L13)","v":""}]
[null,null,"f.補正後のCO₂排出量目標値",null,null,null,null,null,{"$f":"IF(O12=\"\",\"\",O12)","v":""},null,null,null,{"$f":"IFERROR(M38*$L$14,\"\")","v":""},{"$f":"IFERROR(N38*$L$14,\"\")","v":""},"","","","","","","","","",{"$f":"IFERROR(X38*$L$14,\"\")","v":""},"","","",""]
[null,null,"g.これまでのCO₂原単位目標値",null,null,null,null,null,{"$f":"IF(L30=\"\",\"\",L30)","v":""}]
[null,null,"h.補正後のCO₂原単位目標値",null,null,null,null,null,{"$f":"IF(O29=\"\",\"\",O29)","v":""},null,null,null,{"$f":"IFERROR(M40*$L$31,\"\")","v":""},{"$f":"IFERROR(N40*$L$31,\"\")","v":""},"","","","","","","","","",{"$f":"IFERROR(X40*$L$31,\"\")","v":""},"","","",""]
[]
[]
[]
[null,null,null,null,null,null,null,null,null,null,null,null,null,null,null,null,null,null,null,null,null,null,null,null,null,null,null,"日本工業規格Ａ列４番"]
[]
[]
[]
[]
[]
[null,null,null,null,null,null,null,null,null,null,null,null,null,{"$f":"IF(N7=\"○\",1,0)","v":0},{"$f":"IF(O7=\"○\",1,0)","v":0},0,0,0,0,0,0,0,0,0,0,0,0,0]
[null,null,null,null,null,null,null,null,null,{"$f":"SUM(N52:AA52)","v":0},null,null,null,{"$f":"N51*O51","v":0},{"$f":"O51*P51","v":0},{"$f":"P51*Q51","v":0},{"$f":"Q51*R51","v":0},{"$f":"R51*S51","v":0},{"$f":"S51*T51","v":0},{"$f":"T51*U51","v":0},{"$f":"U51*V51","v":0},{"$f":"V51*W51","v":0},{"$f":"W51*X51","v":0},{"$f":"X51*Y51","v":0},{"$f":"Y51*Z51","v":0},{"$f":"Z51*AA51","v":0},{"$f":"AA51*AB51","v":0},{"$f":"AB51*AC51","v":0}]
[null,null,null,null,null,{"$f":"INDEX(I22:I28,$F$22)","v":"台"},null,null,"基準排出量試算対象",{"$f":"IFERROR(ROUND(IF(SUM(N53:AB53)=0,\"\",AVERAGE(N53:AB53)),1),\"\")","v":""},null,{"$f":"IF(H7=\"○\",L11,\"\")","v":""},{"$f":"IF(I7=\"○\",M11,\"\")","v":""},{"$f":"IF(N7=\"○\",N11,\"\")","v":""},{"$f":"IF(O7=\"○\",O11,\"\")","v":""},"","","","","","","","","","","","",""]
[null,null,null,null,null,null,null,null,null,{"$f":"COUNTA(L7:AB7)","v":0}]
[null,null,null,null,null,null,null,null,null,{"$f":"IF(SUM(N53:AB53)=0,\"データ無\",AVERAGE(N53:AB53))","v":"データ無"}]
[]
[null,null,null,null,null,null,null,null,null,null,null,null,null,{"$f":"IF(N20=\"○\",1,0)","v":0},{"$f":"IF(O20=\"○\",1,0)","v":0},0,0,0,0,0,0,0,0,0,0,0,0,0]
[null,null,null,null,null,null,null,null,null,{"$f":"SUM(N58:AA58)","v":0},null,null,null,{"$f":"N57*O57","v":0},{"$f":"O57*P57","v":0},{"$f":"P57*Q57","v":0},{"$f":"Q57*R57","v":0},{"$f":"R57*S57","v":0},{"$f":"S57*T57","v":0},{"$f":"T57*U57","v":0},{"$f":"U57*V57","v":0},{"$f":"V57*W57","v":0},{"$f":"W57*X57","v":0},{"$f":"X57*Y57","v":0},{"$f":"Y57*Z57","v":0},{"$f":"Z57*AA57","v":0},{"$f":"AA57*AB57","v":0},{"$f":"AB57*AC57","v":0}]
[null,null,null,null,null,null,null,null,"基準原単位試算対象",{"$f":"IFERROR(ROUND(IF(SUM(N59:AB59)=0,\"\",AVERAGE(N59:AB59)),4),\"\")","v":""},null,{"$f":"IF(H7=\"○\",L21,\"\")","v":""},"",{"$f":"IF(N7=\"○\",N21,\"\")","v":""},{"$f":"IF(O7=\"○\",O21,\"\")","v":""},"","","","","","","","","","","","",""]
[null,null,null,null,null,null,null,null,null,{"$f":"COUNTIF(L20:AB20,\"○\")","v":0}]
[null,null,null,null,null,null,null,null,null,{"$f":"IF(SUM(N59:AB59)=0,\"データ無\",AVERAGE(N59:AB59))","v":"データ無"}]

{"sheet":"７．ＣＯ₂排出量実績表","index":10,"n_rows":52,"n_cols":35,"rows_kept":52,"cut":false,"hidden":false,"merged":[[2,0,3,1],[45,6,46,6],[45,9,46,9],[5,3,6,4],[5,1,6,2],[34,9,35,9],[34,6,35,6],[12,1,13,2],[19,1,20,2],[47,3,47,4],[45,5,46,5],[7,3,7,4],[14,3,14,4],[21,3,21,4],[12,3,13,4],[19,3,20,4],[37,3,37,4],[34,5,35,5],[36,3,36,4],[34,3,35,4],[50,3,50,4],[51,1,51,2],[51,3,51,4],[26,1,27,2],[26,3,27,4],[48,3,48,4],[49,3,49,4],[36,1,36,2],[40,1,40,2],[33,3,33,4],[44,3,44,4],[45,3,46,4],[38,3,38,4],[39,3,39,4],[40,3,40,4],[28,3,28,4]]}
["７．ＣＯ₂排出量実績表"]
[null,"★報告値、或いは申請書等作成の際、排出量実績表作成に利用する"]
["（どちらかにチェッ\nクを入れる）⇒",null,null,null,null,null,null,null,null,null,null,null,null,null,null,2]
[null,null,null,null,null,null,null,null,null,null,null,null,null,null,null,null,null,"ＣＯ₂排出量補正結果"]
[null,"ア）建物系ＣＯ₂排出量実績",null,null,null,null,null,null,null,null,null,null,null,null,null,null,null,"年度",20,21,22,23,24,25,26,27,28,29,30,"31/1",2,3,4,5,6]
[null,"項　　　目",null,"単位指標等",null,null,{"$f":"IF($F6=\"\",\"\",INDEX($S$5:$AI$5,1,$P$6+1))","v":""},{"$f":"IF(F6=\"\",\"\",INDEX($S$5:$AI$5,1,$P$6+2))","v":""},{"$f":"IF(F6=\"\",\"\",INDEX($S$5:$AI$5,1,$P$6+3))","v":""},null,null,null,null,null,null,{"$f":"MATCH(F6,S5:AI5,0)","v":{"$error":"#N/A"}},null,"建物系",{"$f":"IF($P$3=1,S12+S18,S12)","v":0},{"$f":"IF($P$3=1,T12+T18,T12)","v":0},0,0,0,0,0,0,0,0,0,0,{"$f":"IF($P$3=1,AE12+AE18,AE12)","v":0},0,0,0,0]
[null,null,null,null,null,"年度","年度","年度","年度",null,null,null,null,null,null,null,null,"工場・現場系",{"$f":"IF($P$3=1,S13+S19,S13)","v":0},{"$f":"IF($P$3=1,T13+T19,T13)","v":0},0,0,0,0,0,0,0,0,0,0,{"$f":"IF($P$3=1,AE13+AE19,AE13)","v":0},0,0,0,0]
[null,"ＣＯ₂排出量",null,"ｔ-ＣＯ₂／年",null,{"$f":"IFERROR(HLOOKUP(F6,$S$5:$AI$8,2,FALSE),\"\")","v":""},{"$f":"IFERROR(HLOOKUP(G6,$S$5:$AI$8,2,FALSE),\"\")","v":""},{"$f":"IFERROR(HLOOKUP(H6,$S$5:$AI$8,2,FALSE),\"\")","v":""},{"$f":"IFERROR(HLOOKUP(I6,$S$5:$AI$8,2,FALSE),\"\")","v":""},null,null,null,null,null,null,null,null,"自動車系",{"$f":"IF($P$3=1,S14+S20,S14)","v":0},{"$f":"IF($P$3=1,T14+T20,T14)","v":0},0,0,0,0,0,0,0,0,0,0,{"$f":"IF($P$3=1,AE14+AE20,AE14)","v":0},0,0,0,0]
[null,"原単位当たり",null,"ｔ-ＣＯ₂／",{"$f":"IFERROR(E10,\"\")","v":""},{"$f":"IFERROR(ROUND(F8/F10,4),\"\")","v":""},{"$f":"IFERROR(ROUND(G8/G10,4),\"\")","v":""},"","",null,null,{"$f":"MATCH(D10,$N$12:$N$21,0)","v":{"$error":"#N/A"}}]
[null,"原単位の指標",null,null,{"$f":"IFERROR(INDEX($O$12:$O$21,L9),\"\")","v":""},null,null,null,null,null,null,null,null,"●原単位指標表",null,null,null,"ＣＯ₂排出量補正結果"]
[null,null,null,null,null,null,null,null,null,null,null,null,null,"当たり",null,null,null,"年度",20,21,22,23,24,25,26,27,28,29,30,"31/1",2,3,4,5,6]
[null,"イ）工場・現場系ＣＯ₂排出量実績",null,null,null,null,null,null,null,null,null,null,null,"（床面積）","㎡",null,null,"建物系",{"$f":"'６．ＣＯ₂排出量計算結果'!L8","v":0},{"$f":"'６．ＣＯ₂排出量計算結果'!M8","v":0},{"$f":"'６．ＣＯ₂排出量計算結果'!N8","v":0},{"$f":"'６．ＣＯ₂排出量計算結果'!O8","v":0},{"$f":"'６．ＣＯ₂排出量計算結果'!P8","v":0},{"$f":"'６．ＣＯ₂排出量計算結果'!Q8","v":0},{"$f":"'６．ＣＯ₂排出量計算結果'!R8","v":0},{"$f":"'６．ＣＯ₂排出量計算結果'!S8","v":0},{"$f":"'６．ＣＯ₂排出量計算結果'!T8","v":0},{"$f":"'６．ＣＯ₂排出量計算結果'!U8","v":0},{"$f":"'６．ＣＯ₂排出量計算結果'!V8","v":0},{"$f":"'６．ＣＯ₂排出量計算結果'!W8","v":0},{"$f":"'６．ＣＯ₂排出量計算結果'!X8","v":0},{"$f":"'６．ＣＯ₂排出量計算結果'!Y8","v":0},{"$f":"'６．ＣＯ₂排出量計算結果'!Z8","v":0},{"$f":"'６．ＣＯ₂排出量計算結果'!AA8","v":0},{"$f":"'６．ＣＯ₂排出量計算結果'!AB8","v":0}]
[null,"項　　　目",null,"単位指標等",null,{"$f":"IF(F6=\"\",\"\",F6)","v":""},{"$f":"G6","v":""},"","",null,null,null,null,"（敷地面積）","㎡",null,null,"工場・現場系",{"$f":"'６．ＣＯ₂排出量計算結果'!L9","v":0},{"$f":"'６．ＣＯ₂排出量計算結果'!M9","v":0},{"$f":"'６．ＣＯ₂排出量計算結果'!N9","v":0},{"$f":"'６．ＣＯ₂排出量計算結果'!O9","v":0},{"$f":"'６．ＣＯ₂排出量計算結果'!P9","v":0},{"$f":"'６．ＣＯ₂排出量計算結果'!Q9","v":0},{"$f":"'６．ＣＯ₂排出量計算結果'!R9","v":0},{"$f":"'６．ＣＯ₂排出量計算結果'!S9","v":0},{"$f":"'６．ＣＯ₂排出量計算結果'!T9","v":0},{"$f":"'６．ＣＯ₂排出量計算結果'!U9","v":0},{"$f":"'６．ＣＯ₂排出量計算結果'!V9","v":0},{"$f":"'６．ＣＯ₂排出量計算結果'!W9","v":0},{"$f":"'６．ＣＯ₂排出量計算結果'!X9","v":0},{"$f":"'６．ＣＯ₂排出量計算結果'!Y9","v":0},{"$f":"'６．ＣＯ₂排出量計算結果'!Z9","v":0},{"$f":"'６．ＣＯ₂排出量計算結果'!AA9","v":0},{"$f":"'６．ＣＯ₂排出量計算結果'!AB9","v":0}]
[null,null,null,null,null,"年度","年度","年度","年度",null,null,null,null,"（売上額）","億円",null,null,"自動車系",{"$f":"'６．ＣＯ₂排出量計算結果'!L10","v":0},{"$f":"'６．ＣＯ₂排出量計算結果'!M10","v":0},{"$f":"'６．ＣＯ₂排出量計算結果'!N10","v":0},{"$f":"'６．ＣＯ₂排出量計算結果'!O10","v":0},{"$f":"'６．ＣＯ₂排出量計算結果'!P10","v":0},{"$f":"'６．ＣＯ₂排出量計算結果'!Q10","v":0},{"$f":"'６．ＣＯ₂排出量計算結果'!R10","v":0},{"$f":"'６．ＣＯ₂排出量計算結果'!S10","v":0},{"$f":"'６．ＣＯ₂排出量計算結果'!T10","v":0},{"$f":"'６．ＣＯ₂排出量計算結果'!U10","v":0},{"$f":"'６．ＣＯ₂排出量計算結果'!V10","v":0},{"$f":"'６．ＣＯ₂排出量計算結果'!W10","v":0},{"$f":"'６．ＣＯ₂排出量計算結果'!X10","v":0},{"$f":"'６．ＣＯ₂排出量計算結果'!Y10","v":0},{"$f":"'６．ＣＯ₂排出量計算結果'!Z10","v":0},{"$f":"'６．ＣＯ₂排出量計算結果'!AA10","v":0},{"$f":"'６．ＣＯ₂排出量計算結果'!AB10","v":0}]
[null,"ＣＯ₂排出量",null,"ｔ-ＣＯ₂／年",null,{"$f":"IFERROR(HLOOKUP(F13,$S$5:$AI$8,3,FALSE),\"\")","v":""},{"$f":"IFERROR(HLOOKUP(G13,$S$5:$AI$8,3,FALSE),\"\")","v":""},{"$f":"IFERROR(HLOOKUP(H13,$S$5:$AI$8,3,FALSE),\"\")","v":""},{"$f":"IFERROR(HLOOKUP(I13,$S$5:$AI$8,3,FALSE),\"\")","v":""},null,null,null,null,"（受注額）","億円"]
[null,"原単位当たり",null,"ｔ-ＣＯ₂／",{"$f":"IFERROR(E17,\"\")","v":""},{"$f":"IFERROR(ROUND(F15/F17,4),\"\")","v":""},{"$f":"IFERROR(ROUND(G15/G17,4),\"\")","v":""},{"$f":"IFERROR(ROUND(H15/H17,4),\"\")","v":""},{"$f":"IFERROR(ROUND(I15/I17,4),\"\")","v":""},null,null,{"$f":"MATCH(D17,$N$12:$N$21,0)","v":{"$error":"#N/A"}},null,"（従業員数）","人",null,null,"その他のＣＯ₂排出量"]
[null,"原単位の指標",null,null,{"$f":"IFERROR(INDEX($O$12:$O$21,L16),\"\")","v":""},null,null,null,null,null,null,null,null,"（台数）","台",null,null,"年度",20,21,22,23,24,25,26,27,28,29,30,"31/1",2,3,4,5,6]
[null,null,null,null,null,null,null,null,null,null,null,null,null,"（走行距離）","km",null,null,"建物系",{"$f":"'10．他事業所等のＣＯ₂排出量'!L10","v":0},{"$f":"'10．他事業所等のＣＯ₂排出量'!M10","v":0},{"$f":"'10．他事業所等のＣＯ₂排出量'!N10","v":0},{"$f":"'10．他事業所等のＣＯ₂排出量'!O10","v":0},{"$f":"'10．他事業所等のＣＯ₂排出量'!P10","v":0},{"$f":"'10．他事業所等のＣＯ₂排出量'!Q10","v":0},{"$f":"'10．他事業所等のＣＯ₂排出量'!R10","v":0},{"$f":"'10．他事業所等のＣＯ₂排出量'!S10","v":0},{"$f":"'10．他事業所等のＣＯ₂排出量'!T10","v":0},{"$f":"'10．他事業所等のＣＯ₂排出量'!U10","v":0},{"$f":"'10．他事業所等のＣＯ₂排出量'!V10","v":0},{"$f":"'10．他事業所等のＣＯ₂排出量'!W10","v":0},{"$f":"'10．他事業所等のＣＯ₂排出量'!X10","v":0},{"$f":"'10．他事業所等のＣＯ₂排出量'!Y10","v":0},{"$f":"'10．他事業所等のＣＯ₂排出量'!Z10","v":0},{"$f":"'10．他事業所等のＣＯ₂排出量'!AA10","v":0},{"$f":"'10．他事業所等のＣＯ₂排出量'!AB10","v":0}]
[null,"ウ）自動車系ＣＯ₂排出量実績",null,null,null,null,null,null,null,null,null,null,null,"（生産量）","ﾄﾝ",null,null,"工場・現場系",{"$f":"'10．他事業所等のＣＯ₂排出量'!L11","v":0},{"$f":"'10．他事業所等のＣＯ₂排出量'!M11","v":0},{"$f":"'10．他事業所等のＣＯ₂排出量'!N11","v":0},{"$f":"'10．他事業所等のＣＯ₂排出量'!O11","v":0},{"$f":"'10．他事業所等のＣＯ₂排出量'!P11","v":0},{"$f":"'10．他事業所等のＣＯ₂排出量'!Q11","v":0},{"$f":"'10．他事業所等のＣＯ₂排出量'!R11","v":0},{"$f":"'10．他事業所等のＣＯ₂排出量'!S11","v":0},{"$f":"'10．他事業所等のＣＯ₂排出量'!T11","v":0},{"$f":"'10．他事業所等のＣＯ₂排出量'!U11","v":0},{"$f":"'10．他事業所等のＣＯ₂排出量'!V11","v":0},{"$f":"'10．他事業所等のＣＯ₂排出量'!W11","v":0},{"$f":"'10．他事業所等のＣＯ₂排出量'!X11","v":0},{"$f":"'10．他事業所等のＣＯ₂排出量'!Y11","v":0},{"$f":"'10．他事業所等のＣＯ₂排出量'!Z11","v":0},{"$f":"'10．他事業所等のＣＯ₂排出量'!AA11","v":0},{"$f":"'10．他事業所等のＣＯ₂排出量'!AB11","v":0}]
[null,"項　　　目",null,"単位指標等",null,{"$f":"IF(F13=\"\",\"\",F13)","v":""},{"$f":"G13","v":""},"","",null,null,null,null,null,null,null,null,"自動車系",{"$f":"'10．他事業所等のＣＯ₂排出量'!L12","v":0},{"$f":"'10．他事業所等のＣＯ₂排出量'!M12","v":0},{"$f":"'10．他事業所等のＣＯ₂排出量'!N12","v":0},{"$f":"'10．他事業所等のＣＯ₂排出量'!O12","v":0},{"$f":"'10．他事業所等のＣＯ₂排出量'!P12","v":0},{"$f":"'10．他事業所等のＣＯ₂排出量'!Q12","v":0},{"$f":"'10．他事業所等のＣＯ₂排出量'!R12","v":0},{"$f":"'10．他事業所等のＣＯ₂排出量'!S12","v":0},{"$f":"'10．他事業所等のＣＯ₂排出量'!T12","v":0},{"$f":"'10．他事業所等のＣＯ₂排出量'!U12","v":0},{"$f":"'10．他事業所等のＣＯ₂排出量'!V12","v":0},{"$f":"'10．他事業所等のＣＯ₂排出量'!W12","v":0},{"$f":"'10．他事業所等のＣＯ₂排出量'!X12","v":0},{"$f":"'10．他事業所等のＣＯ₂排出量'!Y12","v":0},{"$f":"'10．他事業所等のＣＯ₂排出量'!Z12","v":0},{"$f":"'10．他事業所等のＣＯ₂排出量'!AA12","v":0},{"$f":"'10．他事業所等のＣＯ₂排出量'!AB12","v":0}]
[null,null,null,null,null,"年度","年度","年度","年度"]
[null,"ＣＯ₂排出量",null,"ｔ-ＣＯ₂／年",null,{"$f":"IFERROR(HLOOKUP(F20,$S$5:$AI$8,4,FALSE),\"\")","v":""},{"$f":"IFERROR(HLOOKUP(G20,$S$5:$AI$8,4,FALSE),\"\")","v":""},{"$f":"IFERROR(HLOOKUP(H20,$S$5:$AI$8,4,FALSE),\"\")","v":""},{"$f":"IFERROR(HLOOKUP(I20,$S$5:$AI$8,4,FALSE),\"\")","v":""}]
[null,"原単位当たり",null,"ｔ-ＣＯ₂／",{"$f":"IFERROR(E24,\"\")","v":""},{"$f":"IFERROR(ROUND(F22/F24,4),\"\")","v":""},{"$f":"IFERROR(ROUND(G22/G24,4),\"\")","v":""},{"$f":"IFERROR(ROUND(H22/H24,4),\"\")","v":""},{"$f":"IFERROR(ROUND(I22/I24,4),\"\")","v":""},null,null,{"$f":"MATCH(D24,$N$12:$N$21,0)","v":{"$error":"#N/A"}}]
[null,"原単位の指標",null,null,{"$f":"IFERROR(INDEX($O$12:$O$21,L23),\"\")","v":""}]
[]
[null,"エ）（ア＋イ＋ウ）合計"]
[null,"項　　　目",null,"単位指標等",null,{"$f":"IF(F20=\"\",\"\",F20)","v":""},{"$f":"G20","v":""},"","",null,null,null,null,null,null,"（","）"]
[null,null,null,null,null,"年度","年度","年度","年度"]
[null,"ＣＯ₂排出量",null,"ｔ-ＣＯ₂／年",null,{"$f":"IFERROR(F8+F15+F22,\"\")","v":""},{"$f":"IFERROR(G8+G15+G22,\"\")","v":""},"",""]
[null,"原単位当たり",null,"ｔ-ＣＯ₂／",{"$f":"IFERROR(E31,\"\")","v":""},{"$f":"IFERROR(ROUND(F29/F31,4),\"\")","v":""},{"$f":"IFERROR(ROUND(G29/G31,4),\"\")","v":""},{"$f":"IFERROR(ROUND(H29/H31,4),\"\")","v":""},{"$f":"IFERROR(ROUND(I29/I31,4),\"\")","v":""},null,null,{"$f":"MATCH(D31,$N$12:$N$21,0)","v":{"$error":"#N/A"}}]
[null,"原単位の指標",null,null,{"$f":"IFERROR(INDEX($O$12:$O$21,L30),\"\")","v":""}]
[]
[null,"A.ＣＯ₂削減実績表",null,null,null,null,null,null,null,null,null,null,null,null,null,null,"基準値"]
[null,"年　　度",null,"ＣＯ₂排出量",null,"削減量","削減率","ＣＯ₂原単位","削減量","削減率",null,null,null,null,null,null,"２１年度"]
[null,null,null,"（ｔ-ＣＯ₂）",null,"（ｔ-ＣＯ₂）","（％）",{"$f":"D31&N11","v":"当たり"},{"$f":"D31&N11","v":"当たり"},"（％）",null,null,null,null,null,null,"２２年度"]
[null,null,null,null,null,null,null,{"$f":"P27&D30&E30&Q27","v":"（ｔ-ＣＯ₂／）"},{"$f":"P27&D30&E30&Q27","v":"（ｔ-ＣＯ₂／）"},null,null,null,null,null,null,null,"２３年度"]
[null,"基準値",null,null,null,null,null,null,null,null,null,null,null,null,null,null,"２４年度"]
[null,null,"年度",{"$f":"IFERROR((HLOOKUP(B38,F$27:I$31,3,FALSE)),\"\")","v":""},null,{"$f":"IF(D38=\"\",\"\",D38-D$37)","v":""},{"$f":"IF(F38=\"\",\"\",F38/D$37*100)","v":""},{"$f":"IFERROR((HLOOKUP(B38,F$27:K$31,4,FALSE)),\"\")","v":""},{"$f":"IF(H38=\"\",\"\",H38-H$37)","v":""},{"$f":"IF(I38=\"\",\"\",I38/H$37*100)","v":""},null,null,null,null,null,{"$f":"MATCH(B38,S5:AI5,0)","v":{"$error":"#N/A"}},"２５年度"]
[null,{"$f":"IF(B38=\"\",\"\",INDEX($S$5:$AI$5,1,$P$38+1))","v":""},"年度",{"$f":"IFERROR((HLOOKUP(B39,F$27:I$31,3,FALSE)),\"\")","v":""},null,{"$f":"IF(D39=\"\",\"\",D39-D$37)","v":""},{"$f":"IF(F39=\"\",\"\",F39/D$37*100)","v":""},{"$f":"IFERROR((HLOOKUP(B39,F$27:K$31,4,FALSE)),\"\")","v":""},{"$f":"IF(H39=\"\",\"\",H39-H$37)","v":""},{"$f":"IF(I39=\"\",\"\",I39/H$37*100)","v":""},null,null,null,null,null,null,"２６年度"]
[null,{"$f":"IF(B38=\"\",\"\",INDEX($S$5:$AI$5,1,$P$38+2))","v":""},"年度","",null,{"$f":"IF(D40=\"\",\"\",D40-D$37)","v":""},{"$f":"IF(F40=\"\",\"\",F40/D$37*100)","v":""},{"$f":"IFERROR((HLOOKUP(B40,F$27:K$31,4,FALSE)),\"\")","v":""},{"$f":"IF(H40=\"\",\"\",H40-H$37)","v":""},{"$f":"IF(I40=\"\",\"\",I40/H$37*100)","v":""},null,null,null,null,null,null,"２７年度"]
[null,"平均削減率",null,null,null,null,{"$f":"IF(G38=\"\",\"\",AVERAGE(G38:G40))","v":""},null,null,{"$f":"IF(J38=\"\",\"\",AVERAGE(J38:J40))","v":""},null,null,null,null,null,null,"２８年度"]
[]
[null,"★新規希望申出、新規認証申請の場合はこちらを利用"]
[null,"B.ＣＯ₂削減実績表"]
[null,"年　　度",null,"ＣＯ₂排出量",null,"削減量","削減率","ＣＯ₂原単位","削減量","削減率"]
[null,null,null,"（ｔ-ＣＯ₂）",null,"（ｔ-ＣＯ₂）","（％）",{"$f":"D31&N11","v":"当たり"},{"$f":"D31&N11","v":"当たり"},"（％）",null,null,null,null,null,null,null,"★６．ＣＯ₂補正計算結果シートより",null,null,20,21,22,23,24,25,26,27,28,29,30,31]
[null,null,null,null,null,null,null,{"$f":"P27&D30&E30&Q27","v":"（ｔ-ＣＯ₂／）"},{"$f":"P27&D30&E30&Q27","v":"（ｔ-ＣＯ₂／）"},null,null,null,null,null,null,null,null,null,null,"f.補正後のCO₂排出量",{"$f":"'６．ＣＯ₂排出量計算結果'!L11","v":0},{"$f":"'６．ＣＯ₂排出量計算結果'!M11","v":0},{"$f":"'６．ＣＯ₂排出量計算結果'!N11","v":0},{"$f":"'６．ＣＯ₂排出量計算結果'!O11","v":0},{"$f":"'６．ＣＯ₂排出量計算結果'!P11","v":0},{"$f":"'６．ＣＯ₂排出量計算結果'!Q11","v":0},{"$f":"'６．ＣＯ₂排出量計算結果'!R11","v":0},{"$f":"'６．ＣＯ₂排出量計算結果'!S11","v":0},{"$f":"'６．ＣＯ₂排出量計算結果'!T11","v":0},{"$f":"'６．ＣＯ₂排出量計算結果'!U11","v":0},{"$f":"'６．ＣＯ₂排出量計算結果'!V11","v":0},{"$f":"'６．ＣＯ₂排出量計算結果'!W11","v":0}]
[null,{"$f":"F27","v":""},"年度",{"$f":"IFERROR(F29,\"\")","v":""},null,null,null,{"$f":"IFERROR(F30,\"\")","v":""},null,null,null,null,null,null,null,null,null,null,null,"h.補正後のCO₂原単位",{"$f":"'６．ＣＯ₂排出量計算結果'!L21","v":""},{"$f":"'６．ＣＯ₂排出量計算結果'!M21","v":""},{"$f":"'６．ＣＯ₂排出量計算結果'!N21","v":""},{"$f":"'６．ＣＯ₂排出量計算結果'!O21","v":""},{"$f":"'６．ＣＯ₂排出量計算結果'!P21","v":""},{"$f":"'６．ＣＯ₂排出量計算結果'!Q21","v":""},{"$f":"'６．ＣＯ₂排出量計算結果'!R21","v":""},{"$f":"'６．ＣＯ₂排出量計算結果'!S21","v":""},{"$f":"'６．ＣＯ₂排出量計算結果'!T21","v":""},{"$f":"'６．ＣＯ₂排出量計算結果'!U21","v":""},{"$f":"'６．ＣＯ₂排出量計算結果'!V21","v":""},{"$f":"'６．ＣＯ₂排出量計算結果'!W21","v":""}]
[null,{"$f":"G27","v":""},"年度",{"$f":"IFERROR(G29,\"\")","v":""},null,{"$f":"IF(D49=\"\",\"\",D49-D48)","v":""},{"$f":"IF(F49=\"\",\"\",F49/D48*100)","v":""},{"$f":"IFERROR(G30,\"\")","v":""},{"$f":"IF(H49=\"\",\"\",H49-H48)","v":""},{"$f":"IF(I49=\"\",\"\",I49/H48*100)","v":""}]
[null,{"$f":"H27","v":""},"年度",{"$f":"IFERROR(H29,\"\")","v":""},null,{"$f":"IF(D50=\"\",\"\",D50-D49)","v":""},{"$f":"IF(F50=\"\",\"\",F50/D49*100)","v":""},{"$f":"IFERROR(H30,\"\")","v":""},{"$f":"IF(H50=\"\",\"\",H50-H49)","v":""},{"$f":"IF(I50=\"\",\"\",I50/H49*100)","v":""}]
[null,{"$f":"I27","v":""},"年度",{"$f":"IFERROR(I29,\"\")","v":""},null,"","",{"$f":"IFERROR(I30,\"\")","v":""},"",""]
[null,"平均削減率",null,null,null,null,{"$f":"IF(G49=\"\",\"\",AVERAGE(G49:G51))","v":""},null,null,{"$f":"IF(J49=\"\",\"\",AVERAGE(J49:J51))","v":""}]

{"sheet":"８．ＣＯ₂排出量目標表","index":11,"n_rows":26,"n_cols":38,"rows_kept":26,"cut":false,"hidden":false,"merged":[[10,3,10,4],[11,3,11,4],[12,1,12,2],[12,3,12,4],[6,8,7,8],[6,9,7,9],[8,1,8,2],[8,3,8,4],[9,3,9,4],[5,3,5,4],[6,3,7,4],[6,5,7,5],[6,6,7,6],[6,7,7,7],[18,3,18,4],[19,3,20,4],[19,5,20,5],[19,6,20,6],[19,7,20,7],[25,1,25,2],[25,3,25,4],[19,9,20,9],[21,1,21,2],[21,3,21,4],[22,3,22,4],[23,3,23,4],[24,3,24,4],[19,8,20,8]]}
["８．ＣＯ₂排出量目標表　（新規・更新）"]
[]
[]
[null,"★認証時での目標表を補正する際に利用する。"]
[null,"Ｃ.ＣＯ₂削減目標計画表"]
[null,"年　　度",null,"目標排出量",null,"削減量","削減率","目標原単位","削減量","削減率"]
[null,null,null,"（ｔ-ＣＯ₂）",null,"（ｔ-ＣＯ₂）","（％）",null,null,"（％）",null,null,null,null,null,null,null,null,30,31]
[null,null,null,null,null,null,null,null,null,null,null,null,null,null,null,null,null,null,{"$f":"'６．ＣＯ₂排出量計算結果'!V39","v":""},{"$f":"'６．ＣＯ₂排出量計算結果'!W39","v":""}]
[null,"基準値",null,null,null,null,null,null,null,null,null,null,null,null,null,null,null,null,{"$f":"'６．ＣＯ₂排出量計算結果'!V41","v":""},{"$f":"'６．ＣＯ₂排出量計算結果'!W41","v":""}]
[null,null,"年度",{"$f":"IF(B10=\"\",\"\",HLOOKUP(B10,$S$7:$T$9,2,FALSE))","v":""},null,{"$f":"IF(D10=\"\",\"\",D10-D$9)","v":""},{"$f":"IF(F10=\"\",\"\",F10/D$9*100)","v":""},{"$f":"IF(B10=\"\",\"\",HLOOKUP(B10,$S$7:$T$9,3,FALSE))","v":""},{"$f":"IF(H10=\"\",\"\",H10-H$9)","v":""},{"$f":"IF(I10=\"\",\"\",I10/H$9*100)","v":""}]
[null,{"$f":"IF(B10=\"\",\"\",B10+1)","v":""},"年度",{"$f":"IF(B11=\"\",\"\",HLOOKUP(B11,$S$7:$T$9,2,FALSE))","v":""},null,{"$f":"IF(D11=\"\",\"\",D11-D$9)","v":""},{"$f":"IF(F11=\"\",\"\",F11/D$9*100)","v":""},{"$f":"IF(B11=\"\",\"\",HLOOKUP(B11,$S$7:$T$9,3,FALSE))","v":""},{"$f":"IF(H11=\"\",\"\",H11-H$9)","v":""},{"$f":"IF(I11=\"\",\"\",I11/H$9*100)","v":""}]
[null,{"$f":"IF(B11=\"\",\"\",B11+1)","v":""},"年度",{"$f":"IF(B12=\"\",\"\",HLOOKUP(B12,$S$7:$T$9,2,FALSE))","v":""},null,"",{"$f":"IF(F12=\"\",\"\",F12/D$9*100)","v":""},{"$f":"IF(B12=\"\",\"\",HLOOKUP(B12,$S$7:$T$9,3,FALSE))","v":""},"",{"$f":"IF(I12=\"\",\"\",I12/H$9*100)","v":""}]
[null,"平均削減率",null,null,null,null,{"$f":"IF(G10=\"\",\"\",AVERAGE(G10:G12))","v":""},null,null,{"$f":"IF(J10=\"\",\"\",AVERAGE(J10:J12))","v":""}]
[]
[]
[]
[null,"★新規の目標表を作成、あるいはこれまでの目標値を変更する場合に利用する。"]
[null,"Ｄ.新たなＣＯ₂削減目標計画表"]
[null,"年　　度",null,"目標排出量",null,"削減量","削減率","目標原単位","削減量","削減率"]
[null,null,null,"（ｔ-ＣＯ₂）",null,"（ｔ-ＣＯ₂）","（％）",null,null,"（％）"]
[]
[null,"基準値"]
[null,2,"年度",null,null,{"$f":"IF(D23=\"\",\"\",D23-D$22)","v":""},{"$f":"IF(F23=\"\",\"\",F23/D$22*100)","v":""},null,{"$f":"IF(H23=\"\",\"\",H23-H$22)","v":""},{"$f":"IF(I23=\"\",\"\",I23/H$22*100)","v":""},null,null,null,null,null,null,null,{"$f":"MATCH(B23,S23:AL23,0)","v":2},"31/1",2,3,4,5,6,7,8,9,10,11,12,13,14,15,16,17,18,19,20]
[null,{"$f":"INDEX(S23:AL23,1,R23+1)","v":3},"年度",null,null,{"$f":"IF(D24=\"\",\"\",D24-D$22)","v":""},{"$f":"IF(F24=\"\",\"\",F24/D$22*100)","v":""},null,{"$f":"IF(H24=\"\",\"\",H24-H$22)","v":""},{"$f":"IF(I24=\"\",\"\",I24/H$22*100)","v":""}]
[null,{"$f":"INDEX(S23:AL23,1,R23+2)","v":4},"年度",null,null,"","",null,"",""]
[null,"平均削減率",null,null,null,null,{"$f":"IF(G23=\"\",\"\",AVERAGE(G23:G25))","v":""},null,null,{"$f":"IF(J23=\"\",\"\",AVERAGE(J23:J25))","v":""}]

{"sheet":"９．ＣＯ₂排出量換算 (単独)《参考》","index":12,"n_rows":51,"n_cols":35,"rows_kept":51,"cut":false,"hidden":false,"merged":[[44,9,45,9],[37,3,37,4],[38,3,38,4],[39,3,39,4],[50,1,50,2],[50,3,50,4],[44,3,45,4],[44,5,45,5],[44,6,45,6],[46,1,46,2],[46,3,46,4],[47,3,47,4],[48,3,48,4],[49,3,49,4],[40,1,40,2],[40,3,40,4],[43,3,43,4],[33,3,33,4],[34,3,35,4],[34,5,35,5],[34,6,35,6],[34,9,35,9],[36,1,36,2],[36,3,36,4],[28,3,28,4],[5,1,6,2],[5,3,6,4],[7,3,7,4],[12,1,13,2],[12,3,13,4],[14,3,14,4],[19,1,20,2],[19,3,20,4],[21,3,21,4],[26,1,27,2],[26,3,27,4]]}
["９．ＣＯ₂排出量換算結果表（単独）　《参考》"]
[null,"★独自に事業所別実績や原単位、目標値を検討する場合などに利用する。"]
[null,"　"]
[]
[null,"ア）建物系ＣＯ₂排出量実績"]
[null,"項　　　目",null,"単位指標等",null,null,null,null,null,null,null,null,null,null,null,{"$f":"MATCH(F6,S6:AI6,0)","v":{"$error":"#N/A"}},null,"年度",20,21,22,23,24,25,26,27,28,29,30,"31/1",2,3,4,5,6]
[null,null,null,null,null,"年度","年度","年度","年度",null,null,null,null,null,null,null,null,"建物系",{"$f":"'６．ＣＯ₂排出量計算結果'!L8","v":0},{"$f":"'６．ＣＯ₂排出量計算結果'!M8","v":0},{"$f":"'６．ＣＯ₂排出量計算結果'!N8","v":0},{"$f":"'６．ＣＯ₂排出量計算結果'!O8","v":0},{"$f":"'６．ＣＯ₂排出量計算結果'!P8","v":0},{"$f":"'６．ＣＯ₂排出量計算結果'!Q8","v":0},{"$f":"'６．ＣＯ₂排出量計算結果'!R8","v":0},{"$f":"'６．ＣＯ₂排出量計算結果'!S8","v":0},{"$f":"'６．ＣＯ₂排出量計算結果'!T8","v":0},{"$f":"'６．ＣＯ₂排出量計算結果'!U8","v":0},{"$f":"'６．ＣＯ₂排出量計算結果'!V8","v":0},{"$f":"'６．ＣＯ₂排出量計算結果'!W8","v":0},{"$f":"'６．ＣＯ₂排出量計算結果'!X8","v":0},{"$f":"'６．ＣＯ₂排出量計算結果'!Y8","v":0},{"$f":"'６．ＣＯ₂排出量計算結果'!Z8","v":0},{"$f":"'６．ＣＯ₂排出量計算結果'!AA8","v":0},{"$f":"'６．ＣＯ₂排出量計算結果'!AB8","v":0}]
[null,"ＣＯ₂排出量",null,"ｔ-ＣＯ₂／年",null,null,null,null,null,null,null,null,null,null,null,null,null,"工場・現場系",{"$f":"'６．ＣＯ₂排出量計算結果'!L9","v":0},{"$f":"'６．ＣＯ₂排出量計算結果'!M9","v":0},{"$f":"'６．ＣＯ₂排出量計算結果'!N9","v":0},{"$f":"'６．ＣＯ₂排出量計算結果'!O9","v":0},{"$f":"'６．ＣＯ₂排出量計算結果'!P9","v":0},{"$f":"'６．ＣＯ₂排出量計算結果'!Q9","v":0},{"$f":"'６．ＣＯ₂排出量計算結果'!R9","v":0},{"$f":"'６．ＣＯ₂排出量計算結果'!S9","v":0},{"$f":"'６．ＣＯ₂排出量計算結果'!T9","v":0},{"$f":"'６．ＣＯ₂排出量計算結果'!U9","v":0},{"$f":"'６．ＣＯ₂排出量計算結果'!V9","v":0},{"$f":"'６．ＣＯ₂排出量計算結果'!W9","v":0},{"$f":"'６．ＣＯ₂排出量計算結果'!X9","v":0},{"$f":"'６．ＣＯ₂排出量計算結果'!Y9","v":0},{"$f":"'６．ＣＯ₂排出量計算結果'!Z9","v":0},{"$f":"'６．ＣＯ₂排出量計算結果'!AA9","v":0},{"$f":"'６．ＣＯ₂排出量計算結果'!AB9","v":0}]
[null,"原単位当たり",null,"ｔ-ＣＯ₂／",{"$f":"IFERROR(E10,\"\")","v":""},{"$f":"IFERROR(ROUND(F8/F10,4),\"\")","v":""},{"$f":"IFERROR(ROUND(G8/G10,4),\"\")","v":""},"","",null,null,null,null,null,null,null,null,"自動車系",{"$f":"'６．ＣＯ₂排出量計算結果'!L10","v":0},{"$f":"'６．ＣＯ₂排出量計算結果'!M10","v":0},{"$f":"'６．ＣＯ₂排出量計算結果'!N10","v":0},{"$f":"'６．ＣＯ₂排出量計算結果'!O10","v":0},{"$f":"'６．ＣＯ₂排出量計算結果'!P10","v":0},{"$f":"'６．ＣＯ₂排出量計算結果'!Q10","v":0},{"$f":"'６．ＣＯ₂排出量計算結果'!R10","v":0},{"$f":"'６．ＣＯ₂排出量計算結果'!S10","v":0},{"$f":"'６．ＣＯ₂排出量計算結果'!T10","v":0},{"$f":"'６．ＣＯ₂排出量計算結果'!U10","v":0},{"$f":"'６．ＣＯ₂排出量計算結果'!V10","v":0},{"$f":"'６．ＣＯ₂排出量計算結果'!W10","v":0},{"$f":"'６．ＣＯ₂排出量計算結果'!X10","v":0},{"$f":"'６．ＣＯ₂排出量計算結果'!Y10","v":0},{"$f":"'６．ＣＯ₂排出量計算結果'!Z10","v":0},{"$f":"'６．ＣＯ₂排出量計算結果'!AA10","v":0},{"$f":"'６．ＣＯ₂排出量計算結果'!AB10","v":0}]
[null,"原単位の指標",null,null,{"$f":"IFERROR(INDEX($O$13:$O$22,L10),\"\")","v":""},null,null,null,null,null,null,{"$f":"MATCH(D10,$N$13:$N$22,0)","v":{"$error":"#N/A"}}]
[null,null,null,null,null,null,null,null,null,null,null,null,null,"●原単位指標表"]
[null,"イ）工場・現場系ＣＯ₂排出量実績",null,null,null,null,null,null,null,null,null,null,null,"当たり"]
[null,"項　　　目",null,"単位指標等",null,{"$f":"IF(F6=\"\",\"\",F6)","v":""},{"$f":"G6","v":0},0,0,null,null,null,null,"（床面積）","㎡"]
[null,null,null,null,null,"年度","年度","年度","年度",null,null,null,null,"（敷地面積）","㎡"]
[null,"ＣＯ₂排出量",null,"ｔ-ＣＯ₂／年",null,null,null,null,null,null,null,null,null,"（売上額）","億円"]
[null,"原単位当たり",null,"ｔ-ＣＯ₂／",{"$f":"IFERROR(E17,\"\")","v":""},{"$f":"IFERROR(ROUND(F15/F17,4),\"\")","v":""},{"$f":"IFERROR(ROUND(G15/G17,4),\"\")","v":""},{"$f":"IFERROR(ROUND(H15/H17,4),\"\")","v":""},{"$f":"IFERROR(ROUND(I15/I17,4),\"\")","v":""},null,null,null,null,"（受注額）","億円"]
[null,"原単位の指標",null,null,{"$f":"IFERROR(INDEX($O$13:$O$22,L17),\"\")","v":""},null,null,null,null,null,null,{"$f":"MATCH(D17,$N$13:$N$22,0)","v":{"$error":"#N/A"}},null,"（従業員数）","人"]
[null,null,null,null,null,null,null,null,null,null,null,null,null,"（台数）","台"]
[null,"ウ）自動車系ＣＯ₂排出量実績",null,null,null,null,null,null,null,null,null,null,null,"（走行距離）","km"]
[null,"項　　　目",null,"単位指標等",null,{"$f":"F13","v":""},{"$f":"G13","v":0},0,0,null,null,null,null,"（生産量）","ﾄﾝ"]
[null,null,null,null,null,"年度","年度","年度","年度"]
[null,"ＣＯ₂排出量",null,"ｔ-ＣＯ₂／年"]
[null,"原単位当たり",null,"ｔ-ＣＯ₂／",{"$f":"IFERROR(E24,\"\")","v":""},{"$f":"IFERROR(ROUND(F22/F24,4),\"\")","v":""},{"$f":"IFERROR(ROUND(G22/G24,4),\"\")","v":""},{"$f":"IFERROR(ROUND(H22/H24,4),\"\")","v":""},{"$f":"IFERROR(ROUND(I22/I24,4),\"\")","v":""}]
[null,"原単位の指標",null,null,{"$f":"IFERROR(INDEX($O$13:$O$22,L24),\"\")","v":""},null,null,null,null,null,null,{"$f":"MATCH(D24,$N$13:$N$22,0)","v":{"$error":"#N/A"}}]
[]
[null,"エ）（ア＋イ＋ウ）合計"]
[null,"項　　　目",null,"単位指標等",null,{"$f":"F20","v":""},{"$f":"G20","v":0},0,0]
[null,null,null,null,null,"年度","年度","年度","年度",null,null,null,null,null,null,"（","）"]
[null,"ＣＯ₂排出量",null,"ｔ-ＣＯ₂／年",null,{"$f":"IF(F8+F15+F22=0,\"\",F8+F15+F22)","v":""},{"$f":"IF(G8+G15+G22=0,\"\",G8+G15+G22)","v":""},"",""]
[null,"原単位当たり",null,"ｔ-ＣＯ₂／",{"$f":"IFERROR(E31,\"\")","v":""},{"$f":"IFERROR(ROUND(F29/F31,4),\"\")","v":""},{"$f":"IFERROR(ROUND(G29/G31,4),\"\")","v":""},{"$f":"IFERROR(ROUND(H29/H31,4),\"\")","v":""},{"$f":"IFERROR(ROUND(I29/I31,4),\"\")","v":""}]
[null,"原単位の指標",null,null,{"$f":"IFERROR(INDEX($O$13:$O$22,L31),\"\")","v":""},null,null,null,null,null,null,{"$f":"MATCH(D31,$N$13:$N$22,0)","v":{"$error":"#N/A"}}]
[]
[null,"A.ＣＯ₂削減実績表",null,null,null,null,null,null,null,null,null,null,null,null,null,null,"基準値"]
[null,"年　　度",null,"ＣＯ₂排出量",null,"削減量","削減率","目標原単位","削減量","削減率",null,null,null,null,null,null,"２１年度"]
[null,null,null,"（ｔ-ＣＯ₂）",null,"（ｔ-ＣＯ₂）","（％）",{"$f":"D31&N12","v":"当たり"},{"$f":"D31&N12","v":"当たり"},"（％）",null,null,null,null,null,null,"２２年度"]
[null,null,null,null,null,null,null,{"$f":"P28&D30&E30&Q28","v":"（ｔ-ＣＯ₂／）"},{"$f":"P28&D30&E30&Q28","v":"（ｔ-ＣＯ₂／）"},null,null,null,null,null,null,null,"２３年度"]
[null,"基準値",null,null,null,null,null,null,null,null,null,null,null,null,null,null,"２４年度"]
[null,null,"年度",{"$f":"IF(G29=\"\",\"\",G29)","v":""},null,{"$f":"IF(D38=\"\",\"\",D38-D$37)","v":""},{"$f":"IF(F38=\"\",\"\",F38/D$37*100)","v":""},{"$f":"IF(G30=\"\",\"\",G30)","v":""},{"$f":"IF(H38=\"\",\"\",H38-H$37)","v":""},{"$f":"IF(I38=\"\",\"\",I38/H$37*100)","v":""},null,null,null,null,null,{"$f":"MATCH(B38,S6:AI6,0)","v":{"$error":"#N/A"}},"２５年度"]
[null,{"$f":"IF(B38=\"\",\"\",INDEX($S$5:$AI$5,1,$P$38+1))","v":""},"年度",{"$f":"IF(H29=\"\",\"\",H29)","v":""},null,{"$f":"IF(D39=\"\",\"\",D39-D$37)","v":""},{"$f":"IF(F39=\"\",\"\",F39/D$37*100)","v":""},{"$f":"IF(H30=\"\",\"\",H30)","v":""},{"$f":"IF(H39=\"\",\"\",H39-H$37)","v":""},{"$f":"IF(I39=\"\",\"\",I39/H$37*100)","v":""},null,null,null,null,null,null,"２６年度"]
[null,{"$f":"IF(B38=\"\",\"\",INDEX($S$5:$AI$5,1,$P$38+2))","v":""},"年度",{"$f":"IF(I29=\"\",\"\",I29)","v":""},null,{"$f":"IF(D40=\"\",\"\",D40-D$37)","v":""},{"$f":"IF(F40=\"\",\"\",F40/D$37*100)","v":""},{"$f":"IF(I30=\"\",\"\",I30)","v":""},{"$f":"IF(H40=\"\",\"\",H40-H$37)","v":""},{"$f":"IF(I40=\"\",\"\",I40/H$37*100)","v":""},null,null,null,null,null,null,"２７年度"]
[null,"平均削減率",null,null,null,null,{"$f":"IF(G38=\"\",\"\",AVERAGE(G38:G40))","v":""},null,null,{"$f":"IF(J38=\"\",\"\",AVERAGE(J38:J40))","v":""},null,null,null,null,null,null,"２８年度"]
[]
[null,"★新規希望申出、新規認証申請の場合はこちらを利用"]
[null,"B.ＣＯ₂削減実績表",null,"目標排出量",null,"削減量","削減率","目標原単位","削減量","削減率"]
[null,"年　　度",null,"（ｔ-ＣＯ₂）",null,"（ｔ-ＣＯ₂）","（％）",null,null,"（％）"]
[null,null,null,null,null,null,null,null,null,null,null,null,null,null,null,null,null,null,null,null,21,22,23,24,25,26,27,28,29,30,31]
[null,null,null,null,null,null,null,null,null,null,null,null,null,null,null,null,null,null,null,"f.補正後のCO₂排出量目標値",{"$f":"'６．ＣＯ₂排出量計算結果'!M39","v":""},{"$f":"'６．ＣＯ₂排出量計算結果'!N39","v":""},{"$f":"'６．ＣＯ₂排出量計算結果'!O39","v":""},{"$f":"'６．ＣＯ₂排出量計算結果'!P39","v":""},{"$f":"'６．ＣＯ₂排出量計算結果'!Q39","v":""},{"$f":"'６．ＣＯ₂排出量計算結果'!R39","v":""},{"$f":"'６．ＣＯ₂排出量計算結果'!S39","v":""},{"$f":"'６．ＣＯ₂排出量計算結果'!T39","v":""},{"$f":"'６．ＣＯ₂排出量計算結果'!U39","v":""},{"$f":"'６．ＣＯ₂排出量計算結果'!V39","v":""},{"$f":"'６．ＣＯ₂排出量計算結果'!W39","v":""}]
[null,{"$f":"F27","v":""},"年度",null,null,{"$f":"IF(D48=\"\",\"\",D48-D$47)","v":""},{"$f":"IF(F48=\"\",\"\",F48/D$47*100)","v":""},null,{"$f":"IF(H48=\"\",\"\",H48-H$47)","v":""},{"$f":"IF(I48=\"\",\"\",I48/H$47*100)","v":""},null,null,null,null,null,null,null,null,null,"h.補正後のCO₂原単位目標値",{"$f":"'６．ＣＯ₂排出量計算結果'!M41","v":""},{"$f":"'６．ＣＯ₂排出量計算結果'!N41","v":""},{"$f":"'６．ＣＯ₂排出量計算結果'!O41","v":""},{"$f":"'６．ＣＯ₂排出量計算結果'!P41","v":""},{"$f":"'６．ＣＯ₂排出量計算結果'!Q41","v":""},{"$f":"'６．ＣＯ₂排出量計算結果'!R41","v":""},{"$f":"'６．ＣＯ₂排出量計算結果'!S41","v":""},{"$f":"'６．ＣＯ₂排出量計算結果'!T41","v":""},{"$f":"'６．ＣＯ₂排出量計算結果'!U41","v":""},{"$f":"'６．ＣＯ₂排出量計算結果'!V41","v":""},{"$f":"'６．ＣＯ₂排出量計算結果'!W41","v":""}]
[null,{"$f":"G27","v":0},"年度",null,null,{"$f":"IF(D49=\"\",\"\",D49-D$47)","v":""},{"$f":"IF(F49=\"\",\"\",F49/D$47*100)","v":""},null,{"$f":"IF(H49=\"\",\"\",H49-H$47)","v":""},{"$f":"IF(I49=\"\",\"\",I49/H$47*100)","v":""}]
[null,{"$f":"H27","v":0},"年度",null,null,"","",null,"",{"$f":"IF(I50=\"\",\"\",I50/H$47*100)","v":""}]
[null,{"$f":"I27","v":0},"年度",null,null,null,{"$f":"IF(G48=\"\",\"\",AVERAGE(G48:G50))","v":""},null,null,{"$f":"IF(J48=\"\",\"\",AVERAGE(J48:J50))","v":""}]

{"sheet":"10．他事業所等のＣＯ₂排出量","index":13,"n_rows":65,"n_cols":28,"rows_kept":65,"cut":false,"hidden":false,"merged":[[14,2,14,9],[0,23,0,24],[14,11,14,12],[0,21,0,22],[5,17,5,21],[7,2,7,9],[8,2,8,8],[9,2,9,8],[10,2,10,8],[11,2,11,8],[12,2,12,8],[13,2,13,9],[13,13,13,14],[35,11,35,12],[41,2,41,7],[41,8,41,9],[42,2,42,7],[42,8,42,9],[44,2,44,7],[44,8,44,9],[45,2,45,7],[45,8,45,9],[35,2,35,9],[43,2,43,7],[43,8,43,9],[15,2,15,9],[15,11,15,12],[20,2,20,9],[21,2,21,8],[25,2,25,8],[22,2,22,8],[23,2,23,8],[24,2,24,8],[33,13,33,14],[27,6,27,7],[28,6,28,7],[34,2,34,9],[34,11,34,12],[26,2,32,2],[26,6,26,7],[30,6,30,7],[31,6,31,7],[32,6,32,7],[33,2,33,9],[29,6,29,7]]}
[]
[null,null,"１０．他事業所等のCO₂排出量計算　"]
[null,null,null,"★建物系や、工場・現場、自動車など、シート計算したものとは別な対象がある場合に利用します。"]
[null,null,null,"入力した数値は自動的に《７．ＣＯ₂排出量換算結果》シートのＣＯ₂実績に加算されます。"]
[]
[null,null,"（１）ＣＯ₂排出量"]
[null,null,null,null,null,null,null,null,null,null,null,null,null,null,null,null,null,null,null,null,null,null,null,null,null,null,null,"CO2換算（ｔ-CO7）"]
[null,null,null,null,null,null,null,null,null,null,null,"20年度\n(2008)","21年度\n(2009)","22年度\n(2010)","23年度\n(2011)","24年度\n(2012)","25年度\n(2013)","26年度\n(2014)","27年度\n(2015)","28年度\n(2016)","29年度\n(2017)","30年度\n(2018)","31/1年度\n(2019)","2年度(2020)","3年度(2021)","4年度(2022)","5年度(2023)","6年度(2024)"]
[null,null,"エコアップ基準年度"]
[null,null,"ｱ)建物系エネルギーCO2",null,null,null,null,null,null,null,{"$f":"#REF!","v":{"$error":"#REF!"}}]
[null,null,"ｲ)工場・現場系エネルギーCO2",null,null,null,null,null,null,null,{"$f":"#REF!","v":{"$error":"#REF!"}}]
[null,null,"ｳ ) 自動車燃料系ＣＯ₂　　　　　　　",null,null,null,null,null,null,null,{"$f":"'３．自動車燃料チェック'!AF56","v":0}]
[null,null,"ＣＯ₂排出量合計(ｱ+ｲ+ｳ)",null,null,null,null,null,null,null,{"$f":"K10+K11+K12","v":{"$error":"#REF!"}},{"$f":"L10+L11+L12","v":0},{"$f":"M10+M11+M12","v":0},0,0,0,0,0,0,0,0,0,0,{"$f":"X10+X11+X12","v":0},0,0,0,0]
[null,null,"a.エコアップ認証ＣＯ₂基準排出量",null,null,null,null,null,null,null,null,null,null,{"$f":"M56","v":""},null,"t-CO₂",{"$f":"IF(M59=12,\"\",IF(M55=2,\"ＯＫ\",\"\"))","v":""}]
[null,null,"ｂ．（旧来の）エコアップ認証ＣＯ₂基準排出量",null,null,null,null,null,null,null,null,null,null,"t-CO₂"]
[null,null,"基準排出量補正率（ａ÷ｂ）",null,null,null,null,null,null,null,null,{"$f":"IFERROR(N14/+L15,\"\")","v":""}]
[]
[]
[null,null,"（２）ＣＯ₂排出量原単位"]
[null,null,null,null,null,null,null,null,null,null,null,null,null,null,null,null,null,null,null,null,null,null,null,null,null,null,null,"CO2換算（ｔ-CO7／指標）"]
[null,null,null,null,null,null,null,null,null,null,null,"20年度\n(2008)","21年度\n(2009)","22年度\n(2010)","23年度\n(2011)","24年度\n(2012)","25年度\n(2013)","26年度\n(2014)","27年度\n(2015)","28年度\n(2016)","29年度\n(2017)","30年度\n(2018)","31/1年度\n(2019)","2年度(2020)","3年度(2021)","4年度(2022)","5年度(2023)","6年度(2024)"]
[null,null,"エコアップ基準年度",null,null,null,null,null,null,{"$f":"IF(J9=\"\",\"\",J9)","v":""},"","",{"$f":"IF(M9=\"\",\"\",M9)","v":""},"","","","","","","","","","",{"$f":"IF(X9=\"\",\"\",X9)","v":""},"","","",""]
[null,null,"建物系エネルギー原単位",null,null,null,null,null,null,null,null,{"$f":"IF(ISERROR(ROUND(L10/INDEX(L27:L33,$J23),4)),\"\",ROUND(L10/INDEX(L27:L33,$J23),4))","v":""},{"$f":"IF(ISERROR(ROUND(M10/INDEX(M27:M33,$J23),4)),\"\",ROUND(M10/INDEX(M27:M33,$J23),4))","v":""},"","","","","","","","","","",{"$f":"IF(ISERROR(ROUND(X10/INDEX(X27:X33,$J23),4)),\"\",ROUND(X10/INDEX(X27:X33,$J23),4))","v":""},"","","",""]
[null,null,"工場・現場系エネルギー原単位",null,null,null,null,null,null,null,null,{"$f":"IF(ISERROR(ROUND(L11/INDEX(L27:L33,$J24),4)),\"\",ROUND(L11/INDEX(L27:L33,$J24),4))","v":""},{"$f":"IF(ISERROR(ROUND(M11/INDEX(M27:M33,$J24),4)),\"\",ROUND(M11/INDEX(M27:M33,$J24),4))","v":""},"","","","","","","","","","",{"$f":"IF(ISERROR(ROUND(X11/INDEX(X27:X33,$J24),4)),\"\",ROUND(X11/INDEX(X27:X33,$J24),4))","v":""},"","","",""]
[null,null,"自動車燃料系原単位　　　　　　　",null,null,null,null,null,null,null,null,{"$f":"IF(ISERROR(ROUND(L12/INDEX(L27:L33,$J25),4)),\"\",ROUND(L12/INDEX(L27:L33,J25),4))","v":""},{"$f":"IF(ISERROR(ROUND(M12/INDEX(M27:M33,$J25),4)),\"\",ROUND(M12/INDEX(M27:M33,K25),4))","v":""},"","","","","","","","","","",{"$f":"IF(ISERROR(ROUND(X12/INDEX(X27:X33,$J25),4)),\"\",ROUND(X12/INDEX(X27:X33,V25),4))","v":""},{"$f":"IF(ISERROR(ROUND(Y12/INDEX(Y27:Y33,$J25),4)),\"\",ROUND(Y12/INDEX(Y27:Y33,W25),4))","v":""},{"$f":"IF(ISERROR(ROUND(Z12/INDEX(Z27:Z33,$J25),4)),\"\",ROUND(Z12/INDEX(Z27:Z33,X25),4))","v":""},{"$f":"IF(ISERROR(ROUND(AA12/INDEX(AA27:AA33,$J25),4)),\"\",ROUND(AA12/INDEX(AA27:AA33,Y25),4))","v":""},{"$f":"IF(ISERROR(ROUND(AB12/INDEX(AB27:AB33,$J25),4)),\"\",ROUND(AB12/INDEX(AB27:AB33,Z25),4))","v":""}]
[null,null,"ＣＯ₂排出量合計原単位",null,null,null,null,null,null,{"$f":"P34&Q34","v":"t-CO₂／人"},{"$f":"IF(ISERROR(K13/INDEX(K27:K33,$F$27)),\"\",K13/INDEX(K27:K33,$F$27))","v":""},{"$f":"IF(ISERROR(ROUND(L13/INDEX(L27:L33,$F$27),4)),\"\",ROUND(L13/INDEX(L27:L33,$F$27),4))","v":""},{"$f":"IF(ISERROR(ROUND(M13/INDEX(M27:M33,$F$27),4)),\"\",ROUND(M13/INDEX(M27:M33,$F$27),4))","v":""},"","","","","","","","","","",{"$f":"IF(ISERROR(ROUND(X13/INDEX(X27:X33,$F$27),4)),\"\",ROUND(X13/INDEX(X27:X33,$F$27),4))","v":""},"","","",""]
[null,null,"活動規模の指標",1,null,3,"生産量\n（単位）",null,"t"]
[null,null,null,2,null,null,"売上額\n（単位）",null,"億円"]
[null,null,null,3,null,null,"従業員数\n（単位）",null,"人"]
[null,null,null,4,null,null,"床面積\n（単位）",null,"㎡"]
[null,null,null,5,null,null,"台数\n（単位）",null,"台"]
[null,null,null,6,null,null,"時間\n（単位）",null,"Ｈ"]
[null,null,null,7]
[null,null,"ｃ．ＣＯ₂基準原単位",null,null,null,null,null,null,null,null,null,null,{"$f":"M62","v":""},null,"t-CO₂／",{"$f":"IF(I56=0,\"\",I56)","v":"人"},{"$f":"IF(M59=12,\"\",IF(M61=2,\"ＯＫ\",\"\"))","v":""}]
[null,null,"ｄ．（旧来の）エコアップ認証ＣＯ₂基準原単位",null,null,null,null,null,null,null,null,null,null,"t-CO₂／"]
[null,null,"基準原単位補正率（ｃ÷ｄ）",null,null,null,null,null,null,null,null,{"$f":"IFERROR(N34/+L35,\"\")","v":""}]
[]
[]
[]
[null,null,"（３）CO₂排出量、原単位目標値の補正"]
[]
[null,null,null,null,null,null,null,null,"基準排出量\n基準原単位",null,null,null,"21年度\n(2009)","22年度\n(2010)","23年度\n(2011)","24年度\n(2012)","25年度\n(2013)","26年度\n(2014)","27年度\n(2015)","28年度\n(2016)","29年度\n(2017)","30年度\n(2018)","31年度\n(2019)","31年度\n(2020)","31年度\n(2021)","31年度\n(2022)","31年度\n(2023)","31年度\n(2024)"]
[null,null,"e.これまでのＣＯ₂排出量目標値",null,null,null,null,null,{"$f":"IF(L15=\"\",\"\",L15)","v":""}]
[null,null,"f.補正後のCO₂排出量目標値",null,null,null,null,null,{"$f":"IF(N14=\"\",\"\",N14)","v":""},null,null,null,{"$f":"IFERROR(M43*$L$16,\"\")","v":""},{"$f":"IFERROR(N43*$L$16,\"\")","v":""},"","","","","","","","","",{"$f":"IFERROR(X43*$L$16,\"\")","v":""},"","","",""]
[null,null,"g.これまでのCO₂原単位目標値",null,null,null,null,null,{"$f":"IF(L35=\"\",\"\",L35)","v":""}]
[null,null,"h.補正後のCO₂原単位目標値",null,null,null,null,null,{"$f":"IF(N34=\"\",\"\",N34)","v":""},null,null,null,{"$f":"IFERROR(M45*$L$36,\"\")","v":""},{"$f":"IFERROR(N45*$L$36,\"\")","v":""},"","","","","","","","","",{"$f":"IFERROR(X45*$L$36,\"\")","v":""},"","","",""]
[]
[null,null,null,null,null,null,null,null,null,null,null,null,null,null,null,null,null,null,null,null,null,"日本工業規格Ａ列４番"]
[]
[]
[]
[]
[]
[null,null,null,null,null,null,null,null,null,null,null,null,null,{"$f":"IF(J9=\"○\",1,0)","v":0},0,0,0,0,0,0,0,0,0,{"$f":"IF(T9=\"○\",1,0)","v":0},{"$f":"IF(U9=\"○\",1,0)","v":0},{"$f":"IF(V9=\"○\",1,0)","v":0},{"$f":"IF(W9=\"○\",1,0)","v":0},0]
[null,null,null,null,null,null,null,null,null,null,null,null,{"$f":"SUM(N55:AA55)","v":0},{"$f":"N54*O54","v":0},0,0,0,0,0,0,{"$f":"U54*V54","v":0},{"$f":"V54*W54","v":0},{"$f":"W54*X54","v":0},{"$f":"X54*Y54","v":0},{"$f":"Y54*Z54","v":0},{"$f":"Z54*AA54","v":0},{"$f":"AA54*AB54","v":0},{"$f":"AB54*AC54","v":0}]
[null,null,null,null,null,null,null,null,{"$f":"INDEX(I27:I33,$F$27)","v":"人"},null,null,"基準排出量試算対象",{"$f":"IF(M59=12,\"\",ROUND(SUM(N56:AA56)/M57,1))","v":""},{"$f":"IF(J9=\"○\",J13,\"\")","v":""},"","","","","","","","","",{"$f":"IF(T9=\"○\",T13,\"\")","v":""},{"$f":"IF(U9=\"○\",U13,\"\")","v":""},{"$f":"IF(V9=\"○\",V13,\"\")","v":""},{"$f":"IF(W9=\"○\",W13,\"\")","v":""},""]
[null,null,null,null,null,null,null,null,null,null,null,null,{"$f":"COUNTA(L9:W9)","v":0}]
[null,null,null,null,null,null,null,null,null,null,null,null,{"$f":"IF(SUM(N56:AA56)=0,\"データ無\",AVERAGE(N56:AA56))","v":"データ無"}]
[null,null,null,null,null,null,null,null,null,null,null,null,{"$f":"COUNTBLANK(L9:W9)","v":12}]
[null,null,null,null,null,null,null,null,null,null,null,null,null,{"$f":"IF(J22=\"○\",1,0)","v":0},0,0,0,0,0,0,0,0,0,{"$f":"IF(T22=\"○\",1,0)","v":0},{"$f":"IF(U22=\"○\",1,0)","v":0},{"$f":"IF(V22=\"○\",1,0)","v":0},{"$f":"IF(W22=\"○\",1,0)","v":0}]
[null,null,null,null,null,null,null,null,null,null,null,null,{"$f":"SUM(N61:AA61)","v":0},{"$f":"N60*O60","v":0},0,0,0,0,0,0,0]
[null,null,null,null,null,null,null,null,null,null,null,"基準原単位試算対象",{"$f":"IF(M65=12,\"\",ROUND(SUM(N62:AA62)/M63,4))","v":""},{"$f":"IF(J9=\"○\",J26,\"\")","v":""},"","","","","","","","","",{"$f":"IF(T9=\"○\",T26,\"\")","v":""},{"$f":"IF(U9=\"○\",U26,\"\")","v":""},{"$f":"IF(V9=\"○\",V26,\"\")","v":""},{"$f":"IF(W9=\"○\",W26,\"\")","v":""},""]
[null,null,null,null,null,null,null,null,null,null,null,null,{"$f":"COUNTIF(L22:W22,\"○\")","v":0}]
[null,null,null,null,null,null,null,null,null,null,null,null,{"$f":"IF(SUM(N62:V62)=0,\"データ無\",AVERAGE(N62:V62))","v":"データ無"}]
[null,null,null,null,null,null,null,null,null,null,null,null,{"$f":"COUNTBLANK(L22:W22)","v":12}]

{"sheet":"11．低炭素電力算定","index":14,"n_rows":662,"n_cols":20,"rows_kept":662,"cut":false,"hidden":false,"merged":[[37,7,37,10],[37,11,37,13],[38,11,38,13],[9,1,9,2],[9,3,9,7],[11,9,11,14],[12,1,12,2],[12,3,12,7],[12,9,12,10],[12,11,12,12],[0,15,0,16],[4,2,4,3],[4,6,4,11],[8,1,8,2],[8,3,8,7],[8,9,8,10],[8,11,8,12],[2,13,2,14],[0,1,1,4],[0,5,1,5],[0,6,1,6],[0,7,1,8]]}
[null,"低炭素電力受入量計算資料",null,null,null,"令和",null,"年度受入分",null,null,null,null,null,null,null,"Rev.2021.3.21"]
[]
[null,null,null,null,null,null,null,null,null,null,null,null,"作成日"]
[]
[]
[]
[]
[null,{"$f":"IF($D$9=\"\",$T$10,\"\")","v":"※低炭素電力事業者をプルダウンから選択又は直接入力してください。"},null,null,null,null,null,null,null,{"$f":"IF($L$9=\"\",$T$11,\"\")","v":"※調整後排出係数を直接入力して下さい。0.370以下です。"}]
[null,"低炭素電力事業者",null,null,null,null,null,null,null,"調整後排出係数",null,null,null,"t-CO2/千kWh",null,null,null,null,null,"未入力の場合のコメントリスト"]
[null,"登録番号",null,{"$f":"IFERROR(INDEX(S54:S662,MATCH(D9,$T$54:$T$662,0),1),\"\")","v":""},null,null,null,null,null,null,null,null,null,null,null,null,"月別",null,null,"※低炭素電力事業者をプルダウンから選択又は直接入力してください。"]
[null,null,null,null,null,null,null,null,null,null,null,null,null,null,null,null,"年間",null,null,"※調整後排出係数を直接入力して下さい。0.370以下です。"]
[null,"※（電力メニューでない場合は不要）電力事業者から供給された料金メニューの名称等を入力してください。",null,null,null,null,null,null,null,"※（電力メニューでない場合は不要）国が告示したメニューのうち左記に記載した電力メニューに対応するものを入力してください。",null,null,null,null,null,null,null,null,null,"※購買伝票等から、低炭素電力の受入量を転記してください。"]
[null,"供給された電力\nメニューの名称等",null,null,null,null,null,null,"\n","国が告示した\nメニューの名称",null,null,null,null,null,null,null,null,null,"※購買伝票等から、算定対象より除く又は除くことができる電力の使用量を転記してください。"]
[]
[null,"電力受入量"]
[null,"記入方法",null,"受入量",{"$f":"IF(R25=0,$T$12,\"\")","v":"※購買伝票等から、低炭素電力の受入量を転記してください。"},null,null,null,null,null,null,null,null,{"$f":"IF(C16=\"月別\",\"単位: kWh\",\"\")","v":""},{"$f":"IF(C16=\"年間\",\"kWh\",\"\")","v":""}]
[null,"Ｎｏ．","４月","５月","６月","７月","８月","９月","１０月","１１月","１２月","１月","２月","３月","年間合計",null,"(月別入力計)"]
[null,null,null,null,null,null,null,null,null,null,null,null,null,null,null,null,{"$f":"IF(SUM(C18:N18)=0,\"\",SUM(C18:N18))","v":""}]
[null,null,null,null,null,null,null,null,null,null,null,null,null,null,null,null,{"$f":"IF(SUM(C19:N19)=0,\"\",SUM(C19:N19))","v":""}]
[null,null,null,null,null,null,null,null,null,null,null,null,null,null,null,null,""]
[null,null,null,null,null,null,null,null,null,null,null,null,null,null,null,null,""]
[null,null,null,null,null,null,null,null,null,null,null,null,null,null,null,null,""]
[null,null,null,null,null,null,null,null,null,null,null,null,null,null,null,null,""]
[null,null,null,null,null,null,null,null,null,null,null,null,null,null,null,null,"","合計"]
[null,null,null,null,null,null,null,null,null,null,null,null,null,null,null,null,"",{"$f":"IF($C$16=\"月別\",SUM($Q$18:$Q$25),IF($C$16=\"年間\",SUM($O$18:$O$25),0))","v":0},"kWh"]
[]
[]
[null,"算定から除外する電力受入量、他事業所等への電力の直接供給量"]
[null,"記入方法",null,"除外量",{"$f":"IF(R34=0,$T$13,\"\")","v":"※購買伝票等から、算定対象より除く又は除くことができる電力の使用量を転記してください。"},null,null,null,null,null,null,null,null,{"$f":"IF(C29=\"月別\",\"kWh\",\"\")","v":""},{"$f":"IF(C29=\"年間\",\"単位: kWh\",\"\")","v":""}]
[null,"Ｎｏ．","４月","５月","６月","７月","８月","９月","１０月","１１月","１２月","１月","２月","３月","年間合計",null,"(月別入力計)"]
[null,null,null,null,null,null,null,null,null,null,null,null,null,null,null,100000,{"$f":"IF(SUM(C31:N31)=0,\"\",SUM(C31:N31))","v":""}]
[null,null,null,null,null,null,null,null,null,null,null,null,null,null,null,null,{"$f":"IF(SUM(C32:N32)=0,\"\",SUM(C32:N32))","v":""}]
[null,null,null,null,null,null,null,null,null,null,null,null,null,null,null,null,{"$f":"IF(SUM(C33:N33)=0,\"\",SUM(C33:N33))","v":""},"合計"]
[null,null,null,null,null,null,null,null,null,null,null,null,null,null,null,null,{"$f":"IF(SUM(C34:N34)=0,\"\",SUM(C34:N34))","v":""},{"$f":"IF($C$29=\"月別\",SUM($Q$31:$Q$34),IF($C$29=\"年間\",SUM($O$31:$O$34),0))","v":0},"kWh"]
[]
[null,null,null,null,null,null,null,null,null,null,null,null,null,null,"（小数点以下を四捨五入して整数にしています）"]
[]
[null,null,null,null,null,null,null,"低炭素電力受入量",null,null,null,{"$f":"IF($R$25-$R$34=0,0,IF($R$25>$R$34,($R$25-$R$34),\"\"))","v":0},null,null,"kWh"]
[null,null,null,null,null,null,null,null,null,null,"低炭素電力によるＣＯ₂削減量⇒",{"$f":"IF(L9=\"\",\"\",ROUND(L38*(0.495-L9)/1000,1))","v":""},null,null,"t-CO₂"]
[null,null,null,null,null,null,null,null,null,null,null,{"$f":"IFERROR(IF($R$25-$R$34<0,\"↑ 使用量より直接供給量が大きくなっています。見直してください。\",\"\"),\"\")","v":""}]
[null,null,null,null,null,null,null,null,null,null,null,null,null,null,{"$f":"INDIRECT(\"11．低炭素電力算定!$B$5３\")","v":"Rev.3.0"}]
[]
[]
[]
[]
[]
[]
[]
[]
[null,null,null,null,null,null,null,null,null,null,null,null,null,null,null,null,null,null,"https://www.enecho.meti.go.jp/category/electricity_and_gas/electric/summary/retailers_list"]
[null,null,null,null,null,null,null,null,null,null,null,null,null,null,null,null,null,null,"更新日","2021-03-27"]
[null,"改版履歴","最新Rvision番号はB53セルに記入し、古い記述は下にシフトして記録を残していくこと。B53セルはO41セルにINDIRECTで表示している。",null,null,null,null,null,null,null,null,null,null,null,null,null,null,null,"登録番号","氏名又は名称"]
[null,"Rev.3.0",null,"R3.4.1","第３計画期間用First Revision",null,null,null,null,null,null,null,null,null,null,null,null,null,"A0001","株式会社F-Power\r"]
[null,null,null,null,null,null,null,null,null,null,null,null,null,null,null,null,null,null,"A0002","イーレックス株式会社\r"]
[null,null,null,null,null,null,null,null,null,null,null,null,null,null,null,null,null,null,"A0003","リエスパワー株式会社\r"]
[null,null,null,null,null,null,null,null,null,null,null,null,null,null,null,null,null,null,"A0004","イーレックス・スパーク・マーケティング株式会社\r"]
[null,null,null,null,null,null,null,null,null,null,null,null,null,null,null,null,null,null,"A0006","イーレックス販売3号株式会社\r"]
[null,null,null,null,null,null,null,null,null,null,null,null,null,null,null,null,null,null,"A0007","株式会社SEウイングズ\r"]
[null,null,null,null,null,null,null,null,null,null,null,null,null,null,null,null,null,null,"A0008","株式会社イーセル\r"]
[null,null,null,null,null,null,null,null,null,null,null,null,null,null,null,null,null,null,"A0009","株式会社エネット\r"]
[null,null,null,null,null,null,null,null,null,null,null,null,null,null,null,null,null,null,"A0011","須賀川瓦斯株式会社\r"]
[null,null,null,null,null,null,null,null,null,null,null,null,null,null,null,null,null,null,"A0012","(株)横須賀アーバンウッドパワー"]
[null,null,null,null,null,null,null,null,null,null,null,null,null,null,null,null,null,null,"A0013","株式会社ケイ・オプティコム\r"]
[null,null,null,null,null,null,null,null,null,null,null,null,null,null,null,null,null,null,"A0014","エネサーブ株式会社\r"]
[null,null,null,null,null,null,null,null,null,null,null,null,null,null,null,null,null,null,"A0015","株式会社サイサン\r"]
[null,null,null,null,null,null,null,null,null,null,null,null,null,null,null,null,null,null,"A0016","ミツウロコグリーンエネルギー株式会社\r"]
[null,null,null,null,null,null,null,null,null,null,null,null,null,null,null,null,null,null,"A0017","株式会社Shared Energy\r"]
[null,null,null,null,null,null,null,null,null,null,null,null,null,null,null,null,null,null,"A0018","ネクストパワーやまと株式会社\r"]
[null,null,null,null,null,null,null,null,null,null,null,null,null,null,null,null,null,null,"A0019","日本テクノ株式会社\r"]
[null,null,null,null,null,null,null,null,null,null,null,null,null,null,null,null,null,null,"A0020","中央電力エナジー株式会社\r"]
[null,null,null,null,null,null,null,null,null,null,null,null,null,null,null,null,null,null,"A0021","株式会社Looop\r"]
[null,null,null,null,null,null,null,null,null,null,null,null,null,null,null,null,null,null,"A0023","株式会社ナンワエナジー\r"]
[null,null,null,null,null,null,null,null,null,null,null,null,null,null,null,null,null,null,"A0024","静岡ガス＆パワー株式会社\r"]
[null,null,null,null,null,null,null,null,null,null,null,null,null,null,null,null,null,null,"A0025","荏原環境プラント株式会社\r"]
[null,null,null,null,null,null,null,null,null,null,null,null,null,null,null,null,null,null,"A0026","東京エコサービス株式会社\r"]
[null,null,null,null,null,null,null,null,null,null,null,null,null,null,null,null,null,null,"A0027","ダイヤモンドパワー株式会社\r"]
[null,null,null,null,null,null,null,null,null,null,null,null,null,null,null,null,null,null,"A0028","出光グリーンパワー株式会社\r"]
[null,null,null,null,null,null,null,null,null,null,null,null,null,null,null,null,null,null,"A0029","プレミアムグリーンパワー株式会社\r"]
[null,null,null,null,null,null,null,null,null,null,null,null,null,null,null,null,null,null,"A0031","株式会社新出光\r"]
[null,null,null,null,null,null,null,null,null,null,null,null,null,null,null,null,null,null,"A0032","中央セントラルガス株式会社\r"]
[null,null,null,null,null,null,null,null,null,null,null,null,null,null,null,null,null,null,"A0033","にちほクラウド電力株式会社\r"]
[null,null,null,null,null,null,null,null,null,null,null,null,null,null,null,null,null,null,"A0034","一般財団法人泉佐野電力\r"]
[null,null,null,null,null,null,null,null,null,null,null,null,null,null,null,null,null,null,"A0035","総合エネルギー株式会社\r"]
[null,null,null,null,null,null,null,null,null,null,null,null,null,null,null,null,null,null,"A0036","株式会社グリーンサークル\r"]
[null,null,null,null,null,null,null,null,null,null,null,null,null,null,null,null,null,null,"A0037","株式会社ウエスト電力\r"]
[null,null,null,null,null,null,null,null,null,null,null,null,null,null,null,null,null,null,"A0039","北海道瓦斯株式会社\r"]
[null,null,null,null,null,null,null,null,null,null,null,null,null,null,null,null,null,null,"A0040","一般財団法人神奈川県太陽光発電協会\r"]
[null,null,null,null,null,null,null,null,null,null,null,null,null,null,null,null,null,null,"A0041","株式会社日本エナジーバンク\r"]
[null,null,null,null,null,null,null,null,null,null,null,null,null,null,null,null,null,null,"A0042","新エネルギー開発株式会社\r"]
[null,null,null,null,null,null,null,null,null,null,null,null,null,null,null,null,null,null,"A0043","伊藤忠エネクス株式会社\r"]
[null,null,null,null,null,null,null,null,null,null,null,null,null,null,null,null,null,null,"A0045","株式会社V-Power\r"]
[null,null,null,null,null,null,null,null,null,null,null,null,null,null,null,null,null,null,"A0046","大和エネルギー株式会社\r"]
[null,null,null,null,null,null,null,null,null,null,null,null,null,null,null,null,null,null,"A0048","大阪瓦斯株式会社\r"]
[null,null,null,null,null,null,null,null,null,null,null,null,null,null,null,null,null,null,"A0049","エフビットコミュニケーションズ株式会社\r"]
[null,null,null,null,null,null,null,null,null,null,null,null,null,null,null,null,null,null,"A0050","ＪＸＴＧエネルギー株式会社\r"]
[null,null,null,null,null,null,null,null,null,null,null,null,null,null,null,null,null,null,"A0051","真庭バイオエネルギー株式会社\r"]
[null,null,null,null,null,null,null,null,null,null,null,null,null,null,null,null,null,null,"A0052","三井物産株式会社\r"]
[null,null,null,null,null,null,null,null,null,null,null,null,null,null,null,null,null,null,"A0053","オリックス株式会社\r"]
[null,null,null,null,null,null,null,null,null,null,null,null,null,null,null,null,null,null,"A0054","株式会社エネサンス関東\r"]
[null,null,null,null,null,null,null,null,null,null,null,null,null,null,null,null,null,null,"A0055","みんな電力株式会社\r"]
[null,null,null,null,null,null,null,null,null,null,null,null,null,null,null,null,null,null,"A0056","シン・エナジー株式会社\r"]
[null,null,null,null,null,null,null,null,null,null,null,null,null,null,null,null,null,null,"A0057","株式会社サニックス\r"]
[null,null,null,null,null,null,null,null,null,null,null,null,null,null,null,null,null,null,"A0058","株式会社コンシェルジュ\r"]
[null,null,null,null,null,null,null,null,null,null,null,null,null,null,null,null,null,null,"A0060","株式会社アイ・グリッド・ソリューションズ\r"]
[null,null,null,null,null,null,null,null,null,null,null,null,null,null,null,null,null,null,"A0061","サミットエナジー株式会社\r"]
[null,null,null,null,null,null,null,null,null,null,null,null,null,null,null,null,null,null,"A0062","リコージャパン株式会社\r"]
[null,null,null,null,null,null,null,null,null,null,null,null,null,null,null,null,null,null,"A0063","株式会社エネルギア・ソリューション・アンド・サービス\r"]
[null,null,null,null,null,null,null,null,null,null,null,null,null,null,null,null,null,null,"A0064","東京ガス株式会社\r"]
[null,null,null,null,null,null,null,null,null,null,null,null,null,null,null,null,null,null,"A0065","テス・エンジニアリング株式会社\r"]
[null,null,null,null,null,null,null,null,null,null,null,null,null,null,null,null,null,null,"A0066","青梅ガス株式会社\r"]
[null,null,null,null,null,null,null,null,null,null,null,null,null,null,null,null,null,null,"A0067","株式会社イーネットワークシステムズ\r"]
[null,null,null,null,null,null,null,null,null,null,null,null,null,null,null,null,null,null,"A0068","株式会社エネアーク関東\r"]
[null,null,null,null,null,null,null,null,null,null,null,null,null,null,null,null,null,null,"A0069","株式会社東急パワーサプライ\r"]
[null,null,null,null,null,null,null,null,null,null,null,null,null,null,null,null,null,null,"A0070","王子・伊藤忠エネクス電力販売株式会社\r"]
[null,null,null,null,null,null,null,null,null,null,null,null,null,null,null,null,null,null,"A0071","伊藤忠商事株式会社\r"]
[null,null,null,null,null,null,null,null,null,null,null,null,null,null,null,null,null,null,"A0072","株式会社エコスタイル\r"]
[null,null,null,null,null,null,null,null,null,null,null,null,null,null,null,null,null,null,"A0073","入間ガス株式会社\r"]
[null,null,null,null,null,null,null,null,null,null,null,null,null,null,null,null,null,null,"A0074","テプコカスタマーサービス株式会社\r"]
[null,null,null,null,null,null,null,null,null,null,null,null,null,null,null,null,null,null,"A0075","株式会社とんでんホールディングス\r"]
[null,null,null,null,null,null,null,null,null,null,null,null,null,null,null,null,null,null,"A0076","新日鉄住金エンジニアリング株式会社\r"]
[null,null,null,null,null,null,null,null,null,null,null,null,null,null,null,null,null,null,"A0077","KDDI株式会社\r"]
[null,null,null,null,null,null,null,null,null,null,null,null,null,null,null,null,null,null,"A0079","イワタニ関東株式会社\r"]
[null,null,null,null,null,null,null,null,null,null,null,null,null,null,null,null,null,null,"A0080","イワタニ首都圏株式会社\r"]
[null,null,null,null,null,null,null,null,null,null,null,null,null,null,null,null,null,null,"A0081","サーラeエナジー株式会社\r"]
[null,null,null,null,null,null,null,null,null,null,null,null,null,null,null,null,null,null,"A0082","株式会社地球クラブ\r"]
[null,null,null,null,null,null,null,null,null,null,null,null,null,null,null,null,null,null,"A0083","株式会社エコア\r"]
[null,null,null,null,null,null,null,null,null,null,null,null,null,null,null,null,null,null,"A0084","西部瓦斯株式会社\r"]
[null,null,null,null,null,null,null,null,null,null,null,null,null,null,null,null,null,null,"A0085","東邦ガス株式会社\r"]
[null,null,null,null,null,null,null,null,null,null,null,null,null,null,null,null,null,null,"A0086","シナネン株式会社\r"]
[null,null,null,null,null,null,null,null,null,null,null,null,null,null,null,null,null,null,"A0087","株式会社シナジアパワー\r"]
[null,null,null,null,null,null,null,null,null,null,null,null,null,null,null,null,null,null,"A0088","川重商事株式会社\r"]
[null,null,null,null,null,null,null,null,null,null,null,null,null,null,null,null,null,null,"A0089","大一ガス株式会社\r"]
[null,null,null,null,null,null,null,null,null,null,null,null,null,null,null,null,null,null,"A0090","株式会社リミックスポイント\r"]
[null,null,null,null,null,null,null,null,null,null,null,null,null,null,null,null,null,null,"A0091","大阪いずみ市民生活協同組合\r"]
[null,null,null,null,null,null,null,null,null,null,null,null,null,null,null,null,null,null,"A0092","株式会社中海テレビ放送\r"]
[null,null,null,null,null,null,null,null,null,null,null,null,null,null,null,null,null,null,"A0093","パシフィックパワー株式会社\r"]
[null,null,null,null,null,null,null,null,null,null,null,null,null,null,null,null,null,null,"A0094","株式会社いちたかガスワン\r"]
[null,null,null,null,null,null,null,null,null,null,null,null,null,null,null,null,null,null,"A0095","株式会社ジェイコム足立\r"]
[null,null,null,null,null,null,null,null,null,null,null,null,null,null,null,null,null,null,"A0096","株式会社ジェイコムイースト\r"]
[null,null,null,null,null,null,null,null,null,null,null,null,null,null,null,null,null,null,"A0097","株式会社ジェイコム市川\r"]
[null,null,null,null,null,null,null,null,null,null,null,null,null,null,null,null,null,null,"A0098","株式会社ジェイコムウエスト\r"]
[null,null,null,null,null,null,null,null,null,null,null,null,null,null,null,null,null,null,"A0099","株式会社ジェイコム大田\r"]
[null,null,null,null,null,null,null,null,null,null,null,null,null,null,null,null,null,null,"A0101","株式会社ジェイコム川口戸田\r"]
[null,null,null,null,null,null,null,null,null,null,null,null,null,null,null,null,null,null,"A0102","株式会社ジェイコム北関東\r"]
[null,null,null,null,null,null,null,null,null,null,null,null,null,null,null,null,null,null,"A0103","株式会社ジェイコムさいたま\r"]
[null,null,null,null,null,null,null,null,null,null,null,null,null,null,null,null,null,null,"A0104","株式会社ジェイコム札幌\r"]
[null,null,null,null,null,null,null,null,null,null,null,null,null,null,null,null,null,null,"A0105","株式会社ジェイコム湘南\r"]
[null,null,null,null,null,null,null,null,null,null,null,null,null,null,null,null,null,null,"A0106","株式会社ジェイコム多摩\r"]
[null,null,null,null,null,null,null,null,null,null,null,null,null,null,null,null,null,null,"A0107","株式会社ジェイコム千葉\r"]
[null,null,null,null,null,null,null,null,null,null,null,null,null,null,null,null,null,null,"A0108","株式会社ジェイコム千葉セントラル\r"]
[null,null,null,null,null,null,null,null,null,null,null,null,null,null,null,null,null,null,"A0109","株式会社ジェイコム東葛葛飾\r"]
[null,null,null,null,null,null,null,null,null,null,null,null,null,null,null,null,null,null,"A0110","株式会社ジェイコム東京\r"]
[null,null,null,null,null,null,null,null,null,null,null,null,null,null,null,null,null,null,"A0112","株式会社ジェイコム中野\r"]
[null,null,null,null,null,null,null,null,null,null,null,null,null,null,null,null,null,null,"A0113","株式会社ジェイコム八王子\r"]
[null,null,null,null,null,null,null,null,null,null,null,null,null,null,null,null,null,null,"A0114","株式会社ジェイコム日野\r"]
[null,null,null,null,null,null,null,null,null,null,null,null,null,null,null,null,null,null,"A0117","株式会社ジェイコム南横浜\r"]
[null,null,null,null,null,null,null,null,null,null,null,null,null,null,null,null,null,null,"A0118","株式会社ジェイコム武蔵野三鷹\r"]
[null,null,null,null,null,null,null,null,null,null,null,null,null,null,null,null,null,null,"A0119","土浦ケーブルテレビ株式会社\r"]
[null,null,null,null,null,null,null,null,null,null,null,null,null,null,null,null,null,null,"A0120","鹿児島電力株式会社\r"]
[null,null,null,null,null,null,null,null,null,null,null,null,null,null,null,null,null,null,"A0121","太陽ガス株式会社\r"]
[null,null,null,null,null,null,null,null,null,null,null,null,null,null,null,null,null,null,"A0122","アーバンエナジー株式会社\r"]
[null,null,null,null,null,null,null,null,null,null,null,null,null,null,null,null,null,null,"A0123","パワーシェアリング株式会社\r"]
[null,null,null,null,null,null,null,null,null,null,null,null,null,null,null,null,null,null,"A0124","合同会社北上新電力\r"]
[null,null,null,null,null,null,null,null,null,null,null,null,null,null,null,null,null,null,"A0125","パーパススマートパワー株式会社\r"]
[null,null,null,null,null,null,null,null,null,null,null,null,null,null,null,null,null,null,"A0126","株式会社タクマエナジー\r"]
[null,null,null,null,null,null,null,null,null,null,null,null,null,null,null,null,null,null,"A0127","株式会社スマートテック\r"]
[null,null,null,null,null,null,null,null,null,null,null,null,null,null,null,null,null,null,"A0128","水戸電力株式会社\r"]
[null,null,null,null,null,null,null,null,null,null,null,null,null,null,null,null,null,null,"A0130","丸紅新電力株式会社\r"]
[null,null,null,null,null,null,null,null,null,null,null,null,null,null,null,null,null,null,"A0131","株式会社エックスパワー\r"]
[null,null,null,null,null,null,null,null,null,null,null,null,null,null,null,null,null,null,"A0132","ダイネン株式会社\r"]
[null,null,null,null,null,null,null,null,null,null,null,null,null,null,null,null,null,null,"A0133","奈良電力株式会社\r"]
[null,null,null,null,null,null,null,null,null,null,null,null,null,null,null,null,null,null,"A0134","日立造船株式会社\r"]
[null,null,null,null,null,null,null,null,null,null,null,null,null,null,null,null,null,null,"A0135","大東ガス株式会社\r"]
[null,null,null,null,null,null,null,null,null,null,null,null,null,null,null,null,null,null,"A0136","パナソニック株式会社\r"]
[null,null,null,null,null,null,null,null,null,null,null,null,null,null,null,null,null,null,"A0137","アストモスエネルギー株式会社\r"]
[null,null,null,null,null,null,null,null,null,null,null,null,null,null,null,null,null,null,"A0138","株式会社関電エネルギーソリューション\r"]
[null,null,null,null,null,null,null,null,null,null,null,null,null,null,null,null,null,null,"A0139","株式会社エプコ\r"]
[null,null,null,null,null,null,null,null,null,null,null,null,null,null,null,null,null,null,"A0140","ＭＣリテールエナジー株式会社\r"]
[null,null,null,null,null,null,null,null,null,null,null,null,null,null,null,null,null,null,"A0141","株式会社北九州パワー\r"]
[null,null,null,null,null,null,null,null,null,null,null,null,null,null,null,null,null,null,"A0142","武州瓦斯株式会社\r"]
[null,null,null,null,null,null,null,null,null,null,null,null,null,null,null,null,null,null,"A0143","株式会社みらい電力\r"]
[null,null,null,null,null,null,null,null,null,null,null,null,null,null,null,null,null,null,"A0144","大垣ガス株式会社\r"]
[null,null,null,null,null,null,null,null,null,null,null,null,null,null,null,null,null,null,"A0145","株式会社藤田商店\r"]
[null,null,null,null,null,null,null,null,null,null,null,null,null,null,null,null,null,null,"A0146","株式会社ケーブルネット下関\r"]
[null,null,null,null,null,null,null,null,null,null,null,null,null,null,null,null,null,null,"A0147","株式会社ジェイコム九州\r"]
[null,null,null,null,null,null,null,null,null,null,null,null,null,null,null,null,null,null,"A0149","株式会社グローバルエンジニアリング\r"]
[null,null,null,null,null,null,null,null,null,null,null,null,null,null,null,null,null,null,"A0150","九州エナジー株式会社\r"]
[null,null,null,null,null,null,null,null,null,null,null,null,null,null,null,null,null,null,"A0151","株式会社トヨタエナジーソリューションズ\r"]
[null,null,null,null,null,null,null,null,null,null,null,null,null,null,null,null,null,null,"A0153","株式会社エナリス・パワー・マーケティング\r"]
[null,null,null,null,null,null,null,null,null,null,null,null,null,null,null,null,null,null,"A0154","株式会社エヌパワー南九州\r"]
[null,null,null,null,null,null,null,null,null,null,null,null,null,null,null,null,null,null,"A0155","みやまスマートエネルギー株式会社\r"]
[null,null,null,null,null,null,null,null,null,null,null,null,null,null,null,null,null,null,"A0156","エフィシエント株式会社\r"]
[null,null,null,null,null,null,null,null,null,null,null,null,null,null,null,null,null,null,"A0157","株式会社生活クラブエナジー\r"]
[null,null,null,null,null,null,null,null,null,null,null,null,null,null,null,null,null,null,"A0158","生活協同組合コープこうべ\r"]
[null,null,null,null,null,null,null,null,null,null,null,null,null,null,null,null,null,null,"A0159","株式会社シーエナジー\r"]
[null,null,null,null,null,null,null,null,null,null,null,null,null,null,null,null,null,null,"A0160","角栄ガス株式会社\r"]
[null,null,null,null,null,null,null,null,null,null,null,null,null,null,null,null,null,null,"A0161","京葉瓦斯株式会社\r"]
[null,null,null,null,null,null,null,null,null,null,null,null,null,null,null,null,null,null,"A0162","凸版印刷株式会社\r"]
[null,null,null,null,null,null,null,null,null,null,null,null,null,null,null,null,null,null,"A0163","伊勢崎ガス株式会社\r"]
[null,null,null,null,null,null,null,null,null,null,null,null,null,null,null,null,null,null,"A0164","キヤノンマーケティングジャパン株式会社\r"]
[null,null,null,null,null,null,null,null,null,null,null,null,null,null,null,null,null,null,"A0165","株式会社とっとり市民電力\r"]
[null,null,null,null,null,null,null,null,null,null,null,null,null,null,null,null,null,null,"A0166","株式会社イーエムアイ\r"]
[null,null,null,null,null,null,null,null,null,null,null,null,null,null,null,null,null,null,"A0167","佐野瓦斯株式会社\r"]
[null,null,null,null,null,null,null,null,null,null,null,null,null,null,null,null,null,null,"A0168","桐生瓦斯株式会社\r"]
[null,null,null,null,null,null,null,null,null,null,null,null,null,null,null,null,null,null,"A0169","森の電力株式会社\r"]
[null,null,null,null,null,null,null,null,null,null,null,null,null,null,null,null,null,null,"A0170","大和ハウス工業株式会社\r"]
[null,null,null,null,null,null,null,null,null,null,null,null,null,null,null,null,null,null,"A0171","株式会社早稲田環境研究所\r"]
[null,null,null,null,null,null,null,null,null,null,null,null,null,null,null,null,null,null,"A0172","ＨＴＢエナジー株式会社\r"]
[null,null,null,null,null,null,null,null,null,null,null,null,null,null,null,null,null,null,"A0173","株式会社アシストワンエナジー\r"]
[null,null,null,null,null,null,null,null,null,null,null,null,null,null,null,null,null,null,"A0174","株式会社サン・ビーム\r"]
[null,null,null,null,null,null,null,null,null,null,null,null,null,null,null,null,null,null,"A0175","株式会社フソウ・エナジー\r"]
[null,null,null,null,null,null,null,null,null,null,null,null,null,null,null,null,null,null,"A0176","株式会社日本エコシステム\r"]
[null,null,null,null,null,null,null,null,null,null,null,null,null,null,null,null,null,null,"A0177","湘南電力株式会社\r"]
[null,null,null,null,null,null,null,null,null,null,null,null,null,null,null,null,null,null,"A0178","大東エナジー株式会社\r"]
[null,null,null,null,null,null,null,null,null,null,null,null,null,null,null,null,null,null,"A0179","アンフィニ株式会社\r"]
[null,null,null,null,null,null,null,null,null,null,null,null,null,null,null,null,null,null,"A0180","株式会社J-POWERサプライアンドトレーディング\r"]
[null,null,null,null,null,null,null,null,null,null,null,null,null,null,null,null,null,null,"A0181","鈴与商事株式会社\r"]
[null,null,null,null,null,null,null,null,null,null,null,null,null,null,null,null,null,null,"A0183","株式会社バランスハーツ\r"]
[null,null,null,null,null,null,null,null,null,null,null,null,null,null,null,null,null,null,"A0184","ワタミファーム＆エナジー株式会社\r"]
[null,null,null,null,null,null,null,null,null,null,null,null,null,null,null,null,null,null,"A0185","株式会社パルシステム電力\r"]
[null,null,null,null,null,null,null,null,null,null,null,null,null,null,null,null,null,null,"A0186","SBパワー株式会社\r"]
[null,null,null,null,null,null,null,null,null,null,null,null,null,null,null,null,null,null,"A0187","NFパワーサービス株式会社\r"]
[null,null,null,null,null,null,null,null,null,null,null,null,null,null,null,null,null,null,"A0188","ひおき地域エネルギー株式会社\r"]
[null,null,null,null,null,null,null,null,null,null,null,null,null,null,null,null,null,null,"A0189","和歌山電力株式会社\r"]
[null,null,null,null,null,null,null,null,null,null,null,null,null,null,null,null,null,null,"A0190","株式会社エナジードリーム\r"]
[null,null,null,null,null,null,null,null,null,null,null,null,null,null,null,null,null,null,"A0191","株式会社トドック電力\r"]
[null,null,null,null,null,null,null,null,null,null,null,null,null,null,null,null,null,null,"A0192","MBエナジー株式会社\r"]
[null,null,null,null,null,null,null,null,null,null,null,null,null,null,null,null,null,null,"A0193","九電みらいエナジー株式会社\r"]
[null,null,null,null,null,null,null,null,null,null,null,null,null,null,null,null,null,null,"A0194","株式会社ミツウロコヴェッセル\r"]
[null,null,null,null,null,null,null,null,null,null,null,null,null,null,null,null,null,null,"A0195","株式会社フォレストパワー\r"]
[null,null,null,null,null,null,null,null,null,null,null,null,null,null,null,null,null,null,"A0196","日高都市ガス株式会社\r"]
[null,null,null,null,null,null,null,null,null,null,null,null,null,null,null,null,null,null,"A0197","株式会社アドバンテック\r"]
[null,null,null,null,null,null,null,null,null,null,null,null,null,null,null,null,null,null,"A0198","ＺＥパワー株式会社\r"]
[null,null,null,null,null,null,null,null,null,null,null,null,null,null,null,null,null,null,"A0199","ローカルエナジー株式会社\r"]
[null,null,null,null,null,null,null,null,null,null,null,null,null,null,null,null,null,null,"A0200","エネックス株式会社\r"]
[null,null,null,null,null,null,null,null,null,null,null,null,null,null,null,null,null,null,"A0201","デジタルエナジーソリューションズ株式会社\r"]
[null,null,null,null,null,null,null,null,null,null,null,null,null,null,null,null,null,null,"A0202","株式会社Ｇ－Ｐｏｗｅｒ\r"]
[null,null,null,null,null,null,null,null,null,null,null,null,null,null,null,null,null,null,"A0203","株式会社地域電力\r"]
[null,null,null,null,null,null,null,null,null,null,null,null,null,null,null,null,null,null,"A0204","なでしこ電力株式会社\r"]
[null,null,null,null,null,null,null,null,null,null,null,null,null,null,null,null,null,null,"A0205","ＮＥＣファシリティーズ株式会社\r"]
[null,null,null,null,null,null,null,null,null,null,null,null,null,null,null,null,null,null,"A0206","日田グリーン電力株式会社\r"]
[null,null,null,null,null,null,null,null,null,null,null,null,null,null,null,null,null,null,"A0207","株式会社津軽あっぷるパワー\r"]
[null,null,null,null,null,null,null,null,null,null,null,null,null,null,null,null,null,null,"A0208","株式会社花巻銀河パワー\r"]
[null,null,null,null,null,null,null,null,null,null,null,null,null,null,null,null,null,null,"A0209","埼玉ガス株式会社\r"]
[null,null,null,null,null,null,null,null,null,null,null,null,null,null,null,null,null,null,"A0210","宮崎パワーライン株式会社\r"]
[null,null,null,null,null,null,null,null,null,null,null,null,null,null,null,null,null,null,"A0211","株式会社パワー・オプティマイザー\r"]
[null,null,null,null,null,null,null,null,null,null,null,null,null,null,null,null,null,null,"A0212","株式会社エネルギー・オプティマイザー\r"]
[null,null,null,null,null,null,null,null,null,null,null,null,null,null,null,null,null,null,"A0213","株式会社USEN NETWORKS\r"]
[null,null,null,null,null,null,null,null,null,null,null,null,null,null,null,null,null,null,"A0214","株式会社ＴＴＳパワー\r"]
[null,null,null,null,null,null,null,null,null,null,null,null,null,null,null,null,null,null,"A0215","株式会社パネイル\r"]
[null,null,null,null,null,null,null,null,null,null,null,null,null,null,null,null,null,null,"A0216","株式会社岩手ウッドパワー\r"]
[null,null,null,null,null,null,null,null,null,null,null,null,null,null,null,null,null,null,"A0217","里山パワーワークス株式会社\r"]
[null,null,null,null,null,null,null,null,null,null,null,null,null,null,null,null,null,null,"A0218","株式会社中之条パワー\r"]
[null,null,null,null,null,null,null,null,null,null,null,null,null,null,null,null,null,null,"A0219","株式会社TOSMO\r"]
[null,null,null,null,null,null,null,null,null,null,null,null,null,null,null,null,null,null,"A0220","日産トレーデイング株式会社\r"]
[null,null,null,null,null,null,null,null,null,null,null,null,null,null,null,null,null,null,"A0221","JAG国際エナジー株式会社\r"]
[null,null,null,null,null,null,null,null,null,null,null,null,null,null,null,null,null,null,"A0222","Next Power株式会社\r"]
[null,null,null,null,null,null,null,null,null,null,null,null,null,null,null,null,null,null,"A0223","伊藤忠エネクスホームライフ西日本株式会社\r"]
[null,null,null,null,null,null,null,null,null,null,null,null,null,null,null,null,null,null,"A0224","株式会社エネコープ\r"]
[null,null,null,null,null,null,null,null,null,null,null,null,null,null,null,null,null,null,"A0225","東芝エネルギーシステムズ株式会社\r"]
[null,null,null,null,null,null,null,null,null,null,null,null,null,null,null,null,null,null,"A0226","ネクストエナジー・アンド・リソース株式会社\r"]
[null,null,null,null,null,null,null,null,null,null,null,null,null,null,null,null,null,null,"A0227","はりま電力株式会社\r"]
[null,null,null,null,null,null,null,null,null,null,null,null,null,null,null,null,null,null,"A0228","株式会社浜松新電力\r"]
[null,null,null,null,null,null,null,null,null,null,null,null,null,null,null,null,null,null,"A0229","ゼロワットパワー株式会社\r"]
[null,null,null,null,null,null,null,null,null,null,null,null,null,null,null,null,null,null,"A0230","アストマックス・トレーディング株式会社\r"]
[null,null,null,null,null,null,null,null,null,null,null,null,null,null,null,null,null,null,"A0231","株式会社やまがた新電力\r"]
[null,null,null,null,null,null,null,null,null,null,null,null,null,null,null,null,null,null,"A0232","一般社団法人東松島みらいとし機構\r"]
[null,null,null,null,null,null,null,null,null,null,null,null,null,null,null,null,null,null,"A0234","株式会社グリーンパワー大東\r"]
[null,null,null,null,null,null,null,null,null,null,null,null,null,null,null,null,null,null,"A0235","株式会社Kenesエネルギーサービス\r"]
[null,null,null,null,null,null,null,null,null,null,null,null,null,null,null,null,null,null,"A0236","愛知電力株式会社\r"]
[null,null,null,null,null,null,null,null,null,null,null,null,null,null,null,null,null,null,"A0237","御所野縄文電力株式会社\r"]
[null,null,null,null,null,null,null,null,null,null,null,null,null,null,null,null,null,null,"A0238","御所野縄文パワー株式会社\r"]
[null,null,null,null,null,null,null,null,null,null,null,null,null,null,null,null,null,null,"A0239","宮古新電力株式会社\r"]
[null,null,null,null,null,null,null,null,null,null,null,null,null,null,null,null,null,null,"A0240","長崎地域電力株式会社\r"]
[null,null,null,null,null,null,null,null,null,null,null,null,null,null,null,null,null,null,"A0241","株式会社エネアーク関西\r"]
[null,null,null,null,null,null,null,null,null,null,null,null,null,null,null,null,null,null,"A0242","株式会社ＮＴＴファシリティーズ\r"]
[null,null,null,null,null,null,null,null,null,null,null,null,null,null,null,null,null,null,"A0243","近畿電力株式会社\r"]
[null,null,null,null,null,null,null,null,null,null,null,null,null,null,null,null,null,null,"A0244","株式会社日本新電力総合研究所\r"]
[null,null,null,null,null,null,null,null,null,null,null,null,null,null,null,null,null,null,"A0245","新電力おおいた株式会社\r"]
[null,null,null,null,null,null,null,null,null,null,null,null,null,null,null,null,null,null,"A0246","株式会社日本セレモニー\r"]
[null,null,null,null,null,null,null,null,null,null,null,null,null,null,null,null,null,null,"A0247","株式会社リレボ\r"]
[null,null,null,null,null,null,null,null,null,null,null,null,null,null,null,null,null,null,"A0248","株式会社池見石油店\r"]
[null,null,null,null,null,null,null,null,null,null,null,null,null,null,null,null,null,null,"A0249","滋賀電力株式会社\r"]
[null,null,null,null,null,null,null,null,null,null,null,null,null,null,null,null,null,null,"A0250","芝浦電力株式会社\r"]
[null,null,null,null,null,null,null,null,null,null,null,null,null,null,null,null,null,null,"A0251","本田技研工業株式会社\r"]
[null,null,null,null,null,null,null,null,null,null,null,null,null,null,null,null,null,null,"A0252","エコエンジニアリング株式会社\r"]
[null,null,null,null,null,null,null,null,null,null,null,null,null,null,null,null,null,null,"A0253","いこま電力株式会社\r"]
[null,null,null,null,null,null,null,null,null,null,null,null,null,null,null,null,null,null,"A0254","スズカ電工株式会社\r"]
[null,null,null,null,null,null,null,null,null,null,null,null,null,null,null,null,null,null,"A0255","さくら電力合同会社\r"]
[null,null,null,null,null,null,null,null,null,null,null,null,null,null,null,null,null,null,"A0256","株式会社エーコープサービス\r"]
[null,null,null,null,null,null,null,null,null,null,null,null,null,null,null,null,null,null,"A0257","サンリン株式会社\r"]
[null,null,null,null,null,null,null,null,null,null,null,null,null,null,null,null,null,null,"A0258","株式会社宮崎ガスリビング\r"]
[null,null,null,null,null,null,null,null,null,null,null,null,null,null,null,null,null,null,"A0259","山陰エレキ・アライアンス株式会社\r"]
[null,null,null,null,null,null,null,null,null,null,null,null,null,null,null,null,null,null,"A0260","昭和商事株式会社\r"]
[null,null,null,null,null,null,null,null,null,null,null,null,null,null,null,null,null,null,"A0261","ミライフ東日本株式会社\r"]
[null,null,null,null,null,null,null,null,null,null,null,null,null,null,null,null,null,null,"A0262","豊通エネルギー株式会社\r"]
[null,null,null,null,null,null,null,null,null,null,null,null,null,null,null,null,null,null,"A0263","株式会社ウッドエナジー\r"]
[null,null,null,null,null,null,null,null,null,null,null,null,null,null,null,null,null,null,"A0264","山陰酸素工業株式会社\r"]
[null,null,null,null,null,null,null,null,null,null,null,null,null,null,null,null,null,null,"A0265","武陽ガス株式会社\r"]
[null,null,null,null,null,null,null,null,null,null,null,null,null,null,null,null,null,null,"A0266","ツネイシＣバリューズ株式会社\r"]
[null,null,null,null,null,null,null,null,null,null,null,null,null,null,null,null,null,null,"A0267","北海道電力株式会社\r"]
[null,null,null,null,null,null,null,null,null,null,null,null,null,null,null,null,null,null,"A0268","東北電力株式会社\r"]
[null,null,null,null,null,null,null,null,null,null,null,null,null,null,null,null,null,null,"A0269","東京電力エナジーパートナー株式会社\r"]
[null,null,null,null,null,null,null,null,null,null,null,null,null,null,null,null,null,null,"A0270","中部電力株式会社\r"]
[null,null,null,null,null,null,null,null,null,null,null,null,null,null,null,null,null,null,"A0271","北陸電力株式会社\r"]
[null,null,null,null,null,null,null,null,null,null,null,null,null,null,null,null,null,null,"A0272","関西電力株式会社\r"]
[null,null,null,null,null,null,null,null,null,null,null,null,null,null,null,null,null,null,"A0273","中国電力株式会社\r"]
[null,null,null,null,null,null,null,null,null,null,null,null,null,null,null,null,null,null,"A0274","四国電力株式会社\r"]
[null,null,null,null,null,null,null,null,null,null,null,null,null,null,null,null,null,null,"A0275","九州電力株式会社\r"]
[null,null,null,null,null,null,null,null,null,null,null,null,null,null,null,null,null,null,"A0276","沖縄電力株式会社\r"]
[null,null,null,null,null,null,null,null,null,null,null,null,null,null,null,null,null,null,"A0277","北日本石油株式会社\r"]
[null,null,null,null,null,null,null,null,null,null,null,null,null,null,null,null,null,null,"A0278","千葉電力株式会社\r"]
[null,null,null,null,null,null,null,null,null,null,null,null,null,null,null,null,null,null,"A0279","株式会社坊っちゃん電力\r"]
[null,null,null,null,null,null,null,null,null,null,null,null,null,null,null,null,null,null,"A0280","やめエネルギー株式会社\r"]
[null,null,null,null,null,null,null,null,null,null,null,null,null,null,null,null,null,null,"A0281","株式会社アースインフィニティ　※平成29年6月1日株式会社ネオインターナショナルより社名変更\r"]
[null,null,null,null,null,null,null,null,null,null,null,null,null,null,null,null,null,null,"A0283","足利ガス株式会社\r"]
[null,null,null,null,null,null,null,null,null,null,null,null,null,null,null,null,null,null,"A0284","株式会社Ｍｉｓｕｍｉ\r"]
[null,null,null,null,null,null,null,null,null,null,null,null,null,null,null,null,null,null,"A0285","米子瓦斯株式会社\r"]
[null,null,null,null,null,null,null,null,null,null,null,null,null,null,null,null,null,null,"A0286","株式会社エルピオ\r"]
[null,null,null,null,null,null,null,null,null,null,null,null,null,null,null,null,null,null,"A0287","浜田ガス株式会社\r"]
[null,null,null,null,null,null,null,null,null,null,null,null,null,null,null,null,null,null,"A0288","株式会社アメニティ電力\r"]
[null,null,null,null,null,null,null,null,null,null,null,null,null,null,null,null,null,null,"A0289","新電力フロンティア株式会社\r"]
[null,null,null,null,null,null,null,null,null,null,null,null,null,null,null,null,null,null,"A0290","ふくのしま電力株式会社\r"]
[null,null,null,null,null,null,null,null,null,null,null,null,null,null,null,null,null,null,"A0291","ＧＰＳＳホールディングス株式会社\r"]
[null,null,null,null,null,null,null,null,null,null,null,null,null,null,null,null,null,null,"A0292","岡田建設株式会社\r"]
[null,null,null,null,null,null,null,null,null,null,null,null,null,null,null,null,null,null,"A0293","出雲ガス株式会社\r"]
[null,null,null,null,null,null,null,null,null,null,null,null,null,null,null,null,null,null,"A0294","富山電力株式会社\r"]
[null,null,null,null,null,null,null,null,null,null,null,null,null,null,null,null,null,null,"A0295","一般社団法人グリーン・市民電力\r"]
[null,null,null,null,null,null,null,null,null,null,null,null,null,null,null,null,null,null,"A0296","公益財団法人東京都環境公社\r"]
[null,null,null,null,null,null,null,null,null,null,null,null,null,null,null,null,null,null,"A0297","三井物産プラントシステム株式会社\r"]
[null,null,null,null,null,null,null,null,null,null,null,null,null,null,null,null,null,null,"A0298","イオンディライト株式会社\r"]
[null,null,null,null,null,null,null,null,null,null,null,null,null,null,null,null,null,null,"A0299","ＮＥＣフィールディング株式会社\r"]
[null,null,null,null,null,null,null,null,null,null,null,null,null,null,null,null,null,null,"A0300","株式会社ファミリーネット・ジャパン\r"]
[null,null,null,null,null,null,null,null,null,null,null,null,null,null,null,null,null,null,"A0302","株式会社アドバリュー\r"]
[null,null,null,null,null,null,null,null,null,null,null,null,null,null,null,null,null,null,"A0303","MKステーションズ株式会社　※平成30年1月22日マンション高圧化ステーションズ株式会社より社名変更\r"]
[null,null,null,null,null,null,null,null,null,null,null,null,null,null,null,null,null,null,"A0304","日本製紙木材株式会社\r"]
[null,null,null,null,null,null,null,null,null,null,null,null,null,null,null,null,null,null,"A0305","フラワー電力株式会社\r"]
[null,null,null,null,null,null,null,null,null,null,null,null,null,null,null,null,null,null,"A0306","株式会社ＪＴＢコミュニケーションデザイン\r"]
[null,null,null,null,null,null,null,null,null,null,null,null,null,null,null,null,null,null,"A0307","奈良総合リサイクルセンター株式会社\r"]
[null,null,null,null,null,null,null,null,null,null,null,null,null,null,null,null,null,null,"A0308","積水化学工業株式会社\r"]
[null,null,null,null,null,null,null,null,null,null,null,null,null,null,null,null,null,null,"A0309","株式会社ユーミーエナジー\r"]
[null,null,null,null,null,null,null,null,null,null,null,null,null,null,null,null,null,null,"A0310","全農エネルギー株式会社\r"]
[null,null,null,null,null,null,null,null,null,null,null,null,null,null,null,null,null,null,"A0311","株式会社ハルエネ\r"]
[null,null,null,null,null,null,null,null,null,null,null,null,null,null,null,null,null,null,"A0312","三愛石油株式会社\r"]
[null,null,null,null,null,null,null,null,null,null,null,null,null,null,null,null,null,null,"A0313","株式会社リケン工業\r"]
[null,null,null,null,null,null,null,null,null,null,null,null,null,null,null,null,null,null,"A0314","株式会社ビビット\r"]
[null,null,null,null,null,null,null,null,null,null,null,null,null,null,null,null,null,null,"A0315","株式会社おおた電力\r"]
[null,null,null,null,null,null,null,null,null,null,null,null,null,null,null,null,null,null,"A0316","センチュリー・エナジー株式会社\r"]
[null,null,null,null,null,null,null,null,null,null,null,null,null,null,null,null,null,null,"A0317","伊藤忠プランテック株式会社\r"]
[null,null,null,null,null,null,null,null,null,null,null,null,null,null,null,null,null,null,"A0318","株式会社オカモト\r"]
[null,null,null,null,null,null,null,null,null,null,null,null,null,null,null,null,null,null,"A0319","アジアエネルギーバンク株式会社 \r"]
[null,null,null,null,null,null,null,null,null,null,null,null,null,null,null,null,null,null,"A0320","熊本電力株式会社\r"]
[null,null,null,null,null,null,null,null,null,null,null,null,null,null,null,null,null,null,"A0321","ニューエナジー合同会社\r"]
[null,null,null,null,null,null,null,null,null,null,null,null,null,null,null,null,null,null,"A0323","キタコー株式会社\r"]
[null,null,null,null,null,null,null,null,null,null,null,null,null,null,null,null,null,null,"A0324","生活協同組合コープしが\r"]
[null,null,null,null,null,null,null,null,null,null,null,null,null,null,null,null,null,null,"A0325","RYOKI ENERGY株式会社\r"]
[null,null,null,null,null,null,null,null,null,null,null,null,null,null,null,null,null,null,"A0326","株式会社大林クリーンエナジー\r"]
[null,null,null,null,null,null,null,null,null,null,null,null,null,null,null,null,null,null,"A0327","東海電力株式会社\r"]
[null,null,null,null,null,null,null,null,null,null,null,null,null,null,null,null,null,null,"A0328","西日本電力株式会社\r"]
[null,null,null,null,null,null,null,null,null,null,null,null,null,null,null,null,null,null,"A0329","福岡電力株式会社\r"]
[null,null,null,null,null,null,null,null,null,null,null,null,null,null,null,null,null,null,"A0330","香川電力株式会社\r"]
[null,null,null,null,null,null,null,null,null,null,null,null,null,null,null,null,null,null,"A0331","札幌電力株式会社　\r"]
[null,null,null,null,null,null,null,null,null,null,null,null,null,null,null,null,null,null,"A0332","株式会社PinT\r"]
[null,null,null,null,null,null,null,null,null,null,null,null,null,null,null,null,null,null,"A0333","東日本電力株式会社\r"]
[null,null,null,null,null,null,null,null,null,null,null,null,null,null,null,null,null,null,"A0334","広島電力株式会社\r"]
[null,null,null,null,null,null,null,null,null,null,null,null,null,null,null,null,null,null,"A0335","宮城電力株式会社\r"]
[null,null,null,null,null,null,null,null,null,null,null,null,null,null,null,null,null,null,"A0336","株式会社沖縄ガスニューパワー\r"]
[null,null,null,null,null,null,null,null,null,null,null,null,null,null,null,null,null,null,"A0337","諏訪瓦斯株式会社\r"]
[null,null,null,null,null,null,null,null,null,null,null,null,null,null,null,null,null,null,"A0338","株式会社アイキューフォーメーション\r"]
[null,null,null,null,null,null,null,null,null,null,null,null,null,null,null,null,null,null,"A0339","株式会社ナカシマ\r"]
[null,null,null,null,null,null,null,null,null,null,null,null,null,null,null,null,null,null,"A0340","株式会社エージーピー\r"]
[null,null,null,null,null,null,null,null,null,null,null,null,null,null,null,null,null,null,"A0341","神栖パワープラントセールス合同会社\r"]
[null,null,null,null,null,null,null,null,null,null,null,null,null,null,null,null,null,null,"A0342","株式会社いちき串木野電力\r"]
[null,null,null,null,null,null,null,null,null,null,null,null,null,null,null,null,null,null,"A0343","四つ葉電力株式会社\r"]
[null,null,null,null,null,null,null,null,null,null,null,null,null,null,null,null,null,null,"A0344","西武ガス株式会社\r"]
[null,null,null,null,null,null,null,null,null,null,null,null,null,null,null,null,null,null,"A0345","松本ガス株式会社\r"]
[null,null,null,null,null,null,null,null,null,null,null,null,null,null,null,null,null,null,"A0346","株式会社日本省電\r"]
[null,null,null,null,null,null,null,null,null,null,null,null,null,null,null,null,null,null,"A0347","ＦＴエナジー株式会社\r"]
[null,null,null,null,null,null,null,null,null,null,null,null,null,null,null,null,null,null,"A0348","南部だんだんエナジー株式会社\r"]
[null,null,null,null,null,null,null,null,null,null,null,null,null,null,null,null,null,null,"A0349","株式会社エフエネ\r"]
[null,null,null,null,null,null,null,null,null,null,null,null,null,null,null,null,null,null,"A0350","こなんウルトラパワー株式会社\r"]
[null,null,null,null,null,null,null,null,null,null,null,null,null,null,null,null,null,null,"A0351","株式会社ＣＨＩＢＡむつざわエナジー\r"]
[null,null,null,null,null,null,null,null,null,null,null,null,null,null,null,null,null,null,"A0352","株式会社関西空調\r"]
[null,null,null,null,null,null,null,null,null,null,null,null,null,null,null,null,null,null,"A0353","奥出雲電力株式会社\r"]
[null,null,null,null,null,null,null,null,null,null,null,null,null,null,null,null,null,null,"A0354","清水建設株式会社\r"]
[null,null,null,null,null,null,null,null,null,null,null,null,null,null,null,null,null,null,"A0355","中央電力株式会社\r"]
[null,null,null,null,null,null,null,null,null,null,null,null,null,null,null,null,null,null,"A0356","株式会社成田香取エネルギー\r"]
[null,null,null,null,null,null,null,null,null,null,null,null,null,null,null,null,null,null,"A0357","レジェンド電力株式会社\r"]
[null,null,null,null,null,null,null,null,null,null,null,null,null,null,null,null,null,null,"A0358","三光株式会社\r"]
[null,null,null,null,null,null,null,null,null,null,null,null,null,null,null,null,null,null,"A0359","東罐商事株式会社\r"]
[null,null,null,null,null,null,null,null,null,null,null,null,null,null,null,null,null,null,"A0360","グローバルソリューションサービス株式会社\r"]
[null,null,null,null,null,null,null,null,null,null,null,null,null,null,null,null,null,null,"A0361","藤井産業株式会社\r"]
[null,null,null,null,null,null,null,null,null,null,null,null,null,null,null,null,null,null,"A0362","株式会社ＣＷＳ\r"]
[null,null,null,null,null,null,null,null,null,null,null,null,null,null,null,null,null,null,"A0363","株式会社インボイス\r"]
[null,null,null,null,null,null,null,null,null,null,null,null,null,null,null,null,null,null,"A0364","ふくしま新電力株式会社\r"]
[null,null,null,null,null,null,null,null,null,null,null,null,null,null,null,null,null,null,"A0365","ズームエナジージャパン合同会社\r"]
[null,null,null,null,null,null,null,null,null,null,null,null,null,null,null,null,null,null,"A0366","株式会社エネクスライフサービス\r"]
[null,null,null,null,null,null,null,null,null,null,null,null,null,null,null,null,null,null,"A0367","ネイチャーエナジー小国株式会社\r"]
[null,null,null,null,null,null,null,null,null,null,null,null,null,null,null,null,null,null,"A0368","リエスパワーネクスト株式会社\r"]
[null,null,null,null,null,null,null,null,null,null,null,null,null,null,null,null,null,null,"A0369","京都生活協同組合\r"]
[null,null,null,null,null,null,null,null,null,null,null,null,null,null,null,null,null,null,"A0370","山本商事株式会社\r"]
[null,null,null,null,null,null,null,null,null,null,null,null,null,null,null,null,null,null,"A0371","関西エネルギーパワー株式会社\r"]
[null,null,null,null,null,null,null,null,null,null,null,null,null,null,null,null,null,null,"A0372","株式会社グリムスパワー\r"]
[null,null,null,null,null,null,null,null,null,null,null,null,null,null,null,null,null,null,"A0373","日本ファシリティ・ソリューション株式会社\r"]
[null,null,null,null,null,null,null,null,null,null,null,null,null,null,null,null,null,null,"A0374","株式会社登米電力\r"]
[null,null,null,null,null,null,null,null,null,null,null,null,null,null,null,null,null,null,"A0375","情報ハイウェイ協同組合\r"]
[null,null,null,null,null,null,null,null,null,null,null,null,null,null,null,null,null,null,"A0376","自然電力株式会社\r"]
[null,null,null,null,null,null,null,null,null,null,null,null,null,null,null,null,null,null,"A0377","株式会社オノプロックス\r"]
[null,null,null,null,null,null,null,null,null,null,null,null,null,null,null,null,null,null,"A0378","本庄ガス株式会社\r"]
[null,null,null,null,null,null,null,null,null,null,null,null,null,null,null,null,null,null,"A0379","株式会社フィット\r"]
[null,null,null,null,null,null,null,null,null,null,null,null,null,null,null,null,null,null,"A0380","青森県民エナジー株式会社\r"]
[null,null,null,null,null,null,null,null,null,null,null,null,null,null,null,null,null,null,"A0381","国際航業株式会社\r"]
[null,null,null,null,null,null,null,null,null,null,null,null,null,null,null,null,null,null,"A0382","ローカルでんき株式会社\r"]
[null,null,null,null,null,null,null,null,null,null,null,null,null,null,null,null,null,null,"A0383","株式会社明治産業\r"]
[null,null,null,null,null,null,null,null,null,null,null,null,null,null,null,null,null,null,"A0385","岡山電力株式会社\r"]
[null,null,null,null,null,null,null,null,null,null,null,null,null,null,null,null,null,null,"A0386","ミライフ株式会社\r"]
[null,null,null,null,null,null,null,null,null,null,null,null,null,null,null,null,null,null,"A0387","株式会社翠光トップライン\r"]
[null,null,null,null,null,null,null,null,null,null,null,null,null,null,null,null,null,null,"A0388","楽天株式会社\r"]
[null,null,null,null,null,null,null,null,null,null,null,null,null,null,null,null,null,null,"A0389","うすきエネルギー株式会社\r"]
[null,null,null,null,null,null,null,null,null,null,null,null,null,null,null,null,null,null,"A0390","株式会社Ｔｏｙｏ　Ｅｌｅｃｔｒｉｃ　Ｐｏｗｅｒ\r"]
[null,null,null,null,null,null,null,null,null,null,null,null,null,null,null,null,null,null,"A0391","森のエネルギー株式会社\r"]
[null,null,null,null,null,null,null,null,null,null,null,null,null,null,null,null,null,null,"A0392","岐阜電力株式会社\r"]
[null,null,null,null,null,null,null,null,null,null,null,null,null,null,null,null,null,null,"A0393","格安電力株式会社\r"]
[null,null,null,null,null,null,null,null,null,null,null,null,null,null,null,null,null,null,"A0394","株式会社ゼック\r"]
[null,null,null,null,null,null,null,null,null,null,null,null,null,null,null,null,null,null,"A0395","テクノエフアンドシー株式会社\r"]
[null,null,null,null,null,null,null,null,null,null,null,null,null,null,null,null,null,null,"A0396","株式会社エスケーエナジー\r"]
[null,null,null,null,null,null,null,null,null,null,null,null,null,null,null,null,null,null,"A0397","名南共同エネルギー株式会社\r"]
[null,null,null,null,null,null,null,null,null,null,null,null,null,null,null,null,null,null,"A0398","Apaman Energy株式会社\r"]
[null,null,null,null,null,null,null,null,null,null,null,null,null,null,null,null,null,null,"A0399","ファミリーエナジー合同会社\r"]
[null,null,null,null,null,null,null,null,null,null,null,null,null,null,null,null,null,null,"A0400","AG Energy株式会社\r"]
[null,null,null,null,null,null,null,null,null,null,null,null,null,null,null,null,null,null,"A0401","アンビット・エナジー・ジャパン合同会社\r"]
[null,null,null,null,null,null,null,null,null,null,null,null,null,null,null,null,null,null,"A0402","株式会社TOKYO油電力\r"]
[null,null,null,null,null,null,null,null,null,null,null,null,null,null,null,null,null,null,"A0403","大分ケーブルテレコム株式会社\r"]
[null,null,null,null,null,null,null,null,null,null,null,null,null,null,null,null,null,null,"A0404","ジスコ不動産株式会社\r"]
[null,null,null,null,null,null,null,null,null,null,null,null,null,null,null,null,null,null,"A0405","Just Energy Japan合同会社\r"]
[null,null,null,null,null,null,null,null,null,null,null,null,null,null,null,null,null,null,"A0406","生活協同組合コープみらい\r"]
[null,null,null,null,null,null,null,null,null,null,null,null,null,null,null,null,null,null,"A0407","寝屋川電力株式会社\r"]
[null,null,null,null,null,null,null,null,null,null,null,null,null,null,null,null,null,null,"A0408","株式会社広島一電力\r"]
[null,null,null,null,null,null,null,null,null,null,null,null,null,null,null,null,null,null,"A0409","大阪府民電力株式会社\r"]
[null,null,null,null,null,null,null,null,null,null,null,null,null,null,null,null,null,null,"A0410","石川電力株式会社\r"]
[null,null,null,null,null,null,null,null,null,null,null,null,null,null,null,null,null,null,"A0411","福井電力株式会社\r"]
[null,null,null,null,null,null,null,null,null,null,null,null,null,null,null,null,null,null,"A0412","岩手中央エネルギー株式会社\r"]
[null,null,null,null,null,null,null,null,null,null,null,null,null,null,null,null,null,null,"A0413","株式会社MKエネルギー\r"]
[null,null,null,null,null,null,null,null,null,null,null,null,null,null,null,null,null,null,"A0414","株式会社Optimized Energy\r"]
[null,null,null,null,null,null,null,null,null,null,null,null,null,null,null,null,null,null,"A0415","エネラボ株式会社\r"]
[null,null,null,null,null,null,null,null,null,null,null,null,null,null,null,null,null,null,"A0416","株式会社ネクシィーズ・ゼロ\r"]
[null,null,null,null,null,null,null,null,null,null,null,null,null,null,null,null,null,null,"A0417","地元電力株式会社\r"]
[null,null,null,null,null,null,null,null,null,null,null,null,null,null,null,null,null,null,"A0418","横浜ウォーター株式会社\r"]
[null,null,null,null,null,null,null,null,null,null,null,null,null,null,null,null,null,null,"A0419","スマートエナジー磐田株式会社\r"]
[null,null,null,null,null,null,null,null,null,null,null,null,null,null,null,null,null,null,"A0420","そうまIグリッド合同会社\r"]
[null,null,null,null,null,null,null,null,null,null,null,null,null,null,null,null,null,null,"A0421","第一日本電力株式会社\r"]
[null,null,null,null,null,null,null,null,null,null,null,null,null,null,null,null,null,null,"A0422","ESC株式会社\r"]
[null,null,null,null,null,null,null,null,null,null,null,null,null,null,null,null,null,null,"A0423","岐阜電力株式会社\r"]
[null,null,null,null,null,null,null,null,null,null,null,null,null,null,null,null,null,null,"A0424","新潟県民電力株式会社\r"]
[null,null,null,null,null,null,null,null,null,null,null,null,null,null,null,null,null,null,"A0425","エネトレード株式会社\r"]
[null,null,null,null,null,null,null,null,null,null,null,null,null,null,null,null,null,null,"A0426","株式会社Payment Technology\r"]
[null,null,null,null,null,null,null,null,null,null,null,null,null,null,null,null,null,null,"A0427","Myシティ電力株式会社\r"]
[null,null,null,null,null,null,null,null,null,null,null,null,null,null,null,null,null,null,"A0428","株式会社トーセキ\r"]
[null,null,null,null,null,null,null,null,null,null,null,null,null,null,null,null,null,null,"A0429","ニシムラ株式会社\r"]
[null,null,null,null,null,null,null,null,null,null,null,null,null,null,null,null,null,null,"A0430","株式会社さくら新電力\r"]
[null,null,null,null,null,null,null,null,null,null,null,null,null,null,null,null,null,null,"A0431","株式会社グローアップ\r"]
[null,null,null,null,null,null,null,null,null,null,null,null,null,null,null,null,null,null,"A0432","佐賀電力株式会社\r"]
[null,null,null,null,null,null,null,null,null,null,null,null,null,null,null,null,null,null,"A0433","あくびコミュニケーションズ株式会社\r"]
[null,null,null,null,null,null,null,null,null,null,null,null,null,null,null,null,null,null,"A0434","大分県民電力株式会社\r"]
[null,null,null,null,null,null,null,null,null,null,null,null,null,null,null,null,null,null,"A0435","いこま市民パワー株式会社\r"]
[null,null,null,null,null,null,null,null,null,null,null,null,null,null,null,null,null,null,"A0436","株式会社コープでんき東北\r"]
[null,null,null,null,null,null,null,null,null,null,null,null,null,null,null,null,null,null,"A0437","おもてなし山形株式会社\r"]
[null,null,null,null,null,null,null,null,null,null,null,null,null,null,null,null,null,null,"A0438","長野都市ガス株式会社\r"]
[null,null,null,null,null,null,null,null,null,null,null,null,null,null,null,null,null,null,"A0439","上田ガス株式会社\r"]
[null,null,null,null,null,null,null,null,null,null,null,null,null,null,null,null,null,null,"A0440","日本瓦斯株式会社\r"]
[null,null,null,null,null,null,null,null,null,null,null,null,null,null,null,null,null,null,"A0441","株式会社内藤工業所\r"]
[null,null,null,null,null,null,null,null,null,null,null,null,null,null,null,null,null,null,"A0442","株式会社シグナストラスト\r"]
[null,null,null,null,null,null,null,null,null,null,null,null,null,null,null,null,null,null,"A0443","ゲーテハウス株式会社\r"]
[null,null,null,null,null,null,null,null,null,null,null,null,null,null,null,null,null,null,"A0444","おまかせ電力株式会社\r"]
[null,null,null,null,null,null,null,null,null,null,null,null,null,null,null,null,null,null,"A0445","岩手電力株式会社\r"]
[null,null,null,null,null,null,null,null,null,null,null,null,null,null,null,null,null,null,"A0446","JPエネルギー株式会社\r"]
[null,null,null,null,null,null,null,null,null,null,null,null,null,null,null,null,null,null,"A0447","兵庫電力株式会社\r"]
[null,null,null,null,null,null,null,null,null,null,null,null,null,null,null,null,null,null,"A0448","大和ライフエナジア株式会社\r"]
[null,null,null,null,null,null,null,null,null,null,null,null,null,null,null,null,null,null,"A0449","京都新電力株式会社\r"]
[null,null,null,null,null,null,null,null,null,null,null,null,null,null,null,null,null,null,"A0450","株式会社エースタイル\r"]
[null,null,null,null,null,null,null,null,null,null,null,null,null,null,null,null,null,null,"A0451","Cocoテラスたがわ株式会社\r"]
[null,null,null,null,null,null,null,null,null,null,null,null,null,null,null,null,null,null,"A0452","東北電力エナジートレーディング株式会社\r"]
[null,null,null,null,null,null,null,null,null,null,null,null,null,null,null,null,null,null,"A0453","株式会社横浜環境デザイン\r"]
[null,null,null,null,null,null,null,null,null,null,null,null,null,null,null,null,null,null,"A0454","株式会社まち未来製作所\r"]
[null,null,null,null,null,null,null,null,null,null,null,null,null,null,null,null,null,null,"A0455","TRENDE株式会社\r"]
[null,null,null,null,null,null,null,null,null,null,null,null,null,null,null,null,null,null,"A0456","株式会社どさんこパワー\r"]
[null,null,null,null,null,null,null,null,null,null,null,null,null,null,null,null,null,null,"A0457","株式会社アースカラー\r"]
[null,null,null,null,null,null,null,null,null,null,null,null,null,null,null,null,null,null,"A0458","株式会社地方創生テクノロジーラボ\r"]
[null,null,null,null,null,null,null,null,null,null,null,null,null,null,null,null,null,null,"A0459","みなとみらい電力株式会社\r"]
[null,null,null,null,null,null,null,null,null,null,null,null,null,null,null,null,null,null,"A0460","日本電灯電力販売株式会社\r"]
[null,null,null,null,null,null,null,null,null,null,null,null,null,null,null,null,null,null,"A0461","株式会社LIXIL TEPCO スマートパートナーズ\r"]
[null,null,null,null,null,null,null,null,null,null,null,null,null,null,null,null,null,null,"A0462","株式会社メディアクラウド\r"]
[null,null,null,null,null,null,null,null,null,null,null,null,null,null,null,null,null,null,"A0463","株式会社NEXT ONE\r"]
[null,null,null,null,null,null,null,null,null,null,null,null,null,null,null,null,null,null,"A0464","三菱瓦斯化学株式会社\r"]
[null,null,null,null,null,null,null,null,null,null,null,null,null,null,null,null,null,null,"A0465","株式会社ユビニティー\r"]
[null,null,null,null,null,null,null,null,null,null,null,null,null,null,null,null,null,null,"A0466","株式会社宮交シティ\r"]
[null,null,null,null,null,null,null,null,null,null,null,null,null,null,null,null,null,null,"A0467","株式会社アルファライズ\r"]
[null,null,null,null,null,null,null,null,null,null,null,null,null,null,null,null,null,null,"A0468","おおすみ半島スマートエネルギー株式会社\r"]
[null,null,null,null,null,null,null,null,null,null,null,null,null,null,null,null,null,null,"A0469","有限会社Com-Allegro\r"]
[null,null,null,null,null,null,null,null,null,null,null,null,null,null,null,null,null,null,"A0470","おきなわコープエナジー株式会社\r"]
[null,null,null,null,null,null,null,null,null,null,null,null,null,null,null,null,null,null,"A0471","久慈地域エネルギー株式会社\r"]
[null,null,null,null,null,null,null,null,null,null,null,null,null,null,null,null,null,null,"A0472","弘前ガス株式会社\r"]
[null,null,null,null,null,null,null,null,null,null,null,null,null,null,null,null,null,null,"A0473","株式会社フォーバルテレコム\r"]
[null,null,null,null,null,null,null,null,null,null,null,null,null,null,null,null,null,null,"A0474","株式会社LDH JAPAN\r"]
[null,null,null,null,null,null,null,null,null,null,null,null,null,null,null,null,null,null,"A0475","信州電力株式会社\r"]
[null,null,null,null,null,null,null,null,null,null,null,null,null,null,null,null,null,null,"A0476","株式会社ひまわりでんき\r"]
[null,null,null,null,null,null,null,null,null,null,null,null,null,null,null,null,null,null,"A0477","くるめエネルギー株式会社\r"]
[null,null,null,null,null,null,null,null,null,null,null,null,null,null,null,null,null,null,"A0478","株式会社はまエネ\r"]
[null,null,null,null,null,null,null,null,null,null,null,null,null,null,null,null,null,null,"A0479","株式会社ホープ\r"]
[null,null,null,null,null,null,null,null,null,null,null,null,null,null,null,null,null,null,"A0480","松阪新電力株式会社\r"]
[null,null,null,null,null,null,null,null,null,null,null,null,null,null,null,null,null,null,"A0481","ヒューリックプロパティソリューション株式会社\r"]
[null,null,null,null,null,null,null,null,null,null,null,null,null,null,null,null,null,null,"A0482","宮崎電力株式会社\r"]
[null,null,null,null,null,null,null,null,null,null,null,null,null,null,null,null,null,null,"A0483","みの市民エネルギー株式会社\r"]
[null,null,null,null,null,null,null,null,null,null,null,null,null,null,null,null,null,null,"A0484","三友エンテック株式会社\r"]
[null,null,null,null,null,null,null,null,null,null,null,null,null,null,null,null,null,null,"A0485","東京電力ホールディングス株式会社\r"]
[null,null,null,null,null,null,null,null,null,null,null,null,null,null,null,null,null,null,"A0486","府中・調布まちなかエナジー株式会社\r"]
[null,null,null,null,null,null,null,null,null,null,null,null,null,null,null,null,null,null,"A0487","伊勢志摩電力株式会社\r"]
[null,null,null,null,null,null,null,null,null,null,null,null,null,null,null,null,null,null,"A0488","一般社団法人塩尻市森林公社\r"]
[null,null,null,null,null,null,null,null,null,null,null,null,null,null,null,null,null,null,"A0489","九州スポーツ電力株式会社\r"]
[null,null,null,null,null,null,null,null,null,null,null,null,null,null,null,null,null,null,"A0490","株式会社CDエナジーダイレクト\r"]
[null,null,null,null,null,null,null,null,null,null,null,null,null,null,null,null,null,null,"A0491","ジニーエナジー合同会社\r"]
[null,null,null,null,null,null,null,null,null,null,null,null,null,null,null,null,null,null,"A0492","株式会社エナジーパートナー\r"]
[null,null,null,null,null,null,null,null,null,null,null,null,null,null,null,null,null,null,"A0493","株式会社ぶんごおおのエナジー\r"]
[null,null,null,null,null,null,null,null,null,null,null,null,null,null,null,null,null,null,"A0494","ヴィジョナリーパワー株式会社\r"]
[null,null,null,null,null,null,null,null,null,null,null,null,null,null,null,null,null,null,"A0495","有明エナジー株式会社\r"]
[null,null,null,null,null,null,null,null,null,null,null,null,null,null,null,null,null,null,"A0496","エレトス合同会社\r"]
[null,null,null,null,null,null,null,null,null,null,null,null,null,null,null,null,null,null,"A0497","みちのくエコランドマネジメント株式会社\r"]
[null,null,null,null,null,null,null,null,null,null,null,null,null,null,null,null,null,null,"A0498","Ethos合同会社\r"]
[null,null,null,null,null,null,null,null,null,null,null,null,null,null,null,null,null,null,"A0499","厚木瓦斯株式会社\r"]
[null,null,null,null,null,null,null,null,null,null,null,null,null,null,null,null,null,null,"A0500","株式会社エネ・ビジョン\r"]
[null,null,null,null,null,null,null,null,null,null,null,null,null,null,null,null,null,null,"A0501","イワタニ三重株式会社\r"]
[null,null,null,null,null,null,null,null,null,null,null,null,null,null,null,null,null,null,"A0502","株式会社マルヰ\r"]
[null,null,null,null,null,null,null,null,null,null,null,null,null,null,null,null,null,null,"A0503","大多喜ガス株式会社\r"]
[null,null,null,null,null,null,null,null,null,null,null,null,null,null,null,null,null,null,"A0504","ベスト・ウイング株式会社\r"]
[null,null,null,null,null,null,null,null,null,null,null,null,null,null,null,null,null,null,"A0505","郡上エネルギー株式会社\r"]
[null,null,null,null,null,null,null,null,null,null,null,null,null,null,null,null,null,null,"A0506","鈴与電力株式会社\r"]
[null,null,null,null,null,null,null,null,null,null,null,null,null,null,null,null,null,null,"A0507","コープ電力株式会社\r"]
[null,null,null,null,null,null,null,null,null,null,null,null,null,null,null,null,null,null,"A0508","生活協同組合コープぐんま\r"]
[null,null,null,null,null,null,null,null,null,null,null,null,null,null,null,null,null,null,"A0509","とちぎコープ生活協同組合\r"]
[null,null,null,null,null,null,null,null,null,null,null,null,null,null,null,null,null,null,"A0510","いばらきコープ生活協同組合\r"]
[null,null,null,null,null,null,null,null,null,null,null,null,null,null,null,null,null,null,"A0511","亀岡ふるさとエナジー株式会社\r"]
[null,null,null,null,null,null,null,null,null,null,null,null,null,null,null,null,null,null,"A0512","ISエナジー株式会社\r"]
[null,null,null,null,null,null,null,null,null,null,null,null,null,null,null,null,null,null,"A0513","株式会社織戸組\r"]
[null,null,null,null,null,null,null,null,null,null,null,null,null,null,null,null,null,null,"A0514","ふかやeパワー株式会社\r"]
[null,null,null,null,null,null,null,null,null,null,null,null,null,null,null,null,null,null,"A0515","株式会社Link Life\r"]
[null,null,null,null,null,null,null,null,null,null,null,null,null,null,null,null,null,null,"A0516","淡路島電力株式会社\r"]
[null,null,null,null,null,null,null,null,null,null,null,null,null,null,null,null,null,null,"A0517","株式会社AIサポート\r"]
[null,null,null,null,null,null,null,null,null,null,null,null,null,null,null,null,null,null,"A0518","株式会社グローバルキャスト\r"]
[null,null,null,null,null,null,null,null,null,null,null,null,null,null,null,null,null,null,"A0519","日本エネルギー総合システム株式会社\r"]
[null,null,null,null,null,null,null,null,null,null,null,null,null,null,null,null,null,null,"A0520","イワタニ東海株式会社\r"]
[null,null,null,null,null,null,null,null,null,null,null,null,null,null,null,null,null,null,"A0521","三重電力株式会社\r"]
[null,null,null,null,null,null,null,null,null,null,null,null,null,null,null,null,null,null,"A0522","株式会社デライトアップ\r"]
[null,null,null,null,null,null,null,null,null,null,null,null,null,null,null,null,null,null,"A0523","イーゲート株式会社\r"]
[null,null,null,null,null,null,null,null,null,null,null,null,null,null,null,null,null,null,"A0524","株式会社オンテックス\r"]
[null,null,null,null,null,null,null,null,null,null,null,null,null,null,null,null,null,null,"A0525","株式会社ところざわ未来電力\r"]
[null,null,null,null,null,null,null,null,null,null,null,null,null,null,null,null,null,null,"A0526","朝日ガスエナジー株式会社\r"]
[null,null,null,null,null,null,null,null,null,null,null,null,null,null,null,null,null,null,"A0527","めぐるでんき株式会社\r"]
[null,null,null,null,null,null,null,null,null,null,null,null,null,null,null,null,null,null,"A0528","株式会社エネファント\r"]
[null,null,null,null,null,null,null,null,null,null,null,null,null,null,null,null,null,null,"A0529","株式会社シトラス\r"]
[null,null,null,null,null,null,null,null,null,null,null,null,null,null,null,null,null,null,"A0530","ゼロテレコム株式会社\r"]
[null,null,null,null,null,null,null,null,null,null,null,null,null,null,null,null,null,null,"A0531","エレソル株式会社\r"]
[null,null,null,null,null,null,null,null,null,null,null,null,null,null,null,null,null,null,"A0532","株式会社グラシアス\r"]
[null,null,null,null,null,null,null,null,null,null,null,null,null,null,null,null,null,null,"A0533","秩父新電力株式会社\r"]
[null,null,null,null,null,null,null,null,null,null,null,null,null,null,null,null,null,null,"A0534","みよしエナジー株式会社\r"]
[null,null,null,null,null,null,null,null,null,null,null,null,null,null,null,null,null,null,"A0535","株式会社ブロードエンタープライズ\r"]
[null,null,null,null,null,null,null,null,null,null,null,null,null,null,null,null,null,null,"A0536","東日本ガス株式会社\r"]
[null,null,null,null,null,null,null,null,null,null,null,null,null,null,null,null,null,null,"A0537","東彩ガス株式会社\r"]
[null,null,null,null,null,null,null,null,null,null,null,null,null,null,null,null,null,null,"A0538","綿半パートナーズ株式会社\r"]
[null,null,null,null,null,null,null,null,null,null,null,null,null,null,null,null,null,null,"A0539","株式会社karch\r"]
[null,null,null,null,null,null,null,null,null,null,null,null,null,null,null,null,null,null,"A0540","株式会社くきつ\r"]
[null,null,null,null,null,null,null,null,null,null,null,null,null,null,null,null,null,null,"A0541","株式会社フィリッジ\r"]
[null,null,null,null,null,null,null,null,null,null,null,null,null,null,null,null,null,null,"A0542","森の灯り株式会社\r"]
[null,null,null,null,null,null,null,null,null,null,null,null,null,null,null,null,null,null,"A0543","株式会社かみでん里山公社\r"]
[null,null,null,null,null,null,null,null,null,null,null,null,null,null,null,null,null,null,"A0544","レックスイノベーション株式会社\r"]
[null,null,null,null,null,null,null,null,null,null,null,null,null,null,null,null,null,null,"A0545","ワイズテレコム株式会社\r"]
[null,null,null,null,null,null,null,null,null,null,null,null,null,null,null,null,null,null,"A0546","株式会社三郷ひまわりエナジー\r"]
[null,null,null,null,null,null,null,null,null,null,null,null,null,null,null,null,null,null,"A0547","株式会社球磨村森電力\r"]
[null,null,null,null,null,null,null,null,null,null,null,null,null,null,null,null,null,null,"A0548","北日本ガス株式会社\r"]
[null,null,null,null,null,null,null,null,null,null,null,null,null,null,null,null,null,null,"A0549","オンブレナジー株式会社\r"]
[null,null,null,null,null,null,null,null,null,null,null,null,null,null,null,null,null,null,"A0550","株式会社グリーンでんき\r"]
[null,null,null,null,null,null,null,null,null,null,null,null,null,null,null,null,null,null,"A0551","飯田まちづくり電力株式会社\r"]
[null,null,null,null,null,null,null,null,null,null,null,null,null,null,null,null,null,null,"A0552","イワタニ長野株式会社\r"]
[null,null,null,null,null,null,null,null,null,null,null,null,null,null,null,null,null,null,"A0553","シェルジャパン株式会社\r"]
[null,null,null,null,null,null,null,null,null,null,null,null,null,null,null,null,null,null,"A0554","株式会社クボタ\r"]
[null,null,null,null,null,null,null,null,null,null,null,null,null,null,null,null,null,null,"A0555","石油資源開発株式会社\r"]
[null,null,null,null,null,null,null,null,null,null,null,null,null,null,null,null,null,null,"A0556","越後天然ガス株式会社\r"]
[null,null,null,null,null,null,null,null,null,null,null,null,null,null,null,null,null,null,"A0557","株式会社大仙こまちパワー\r"]
[null,null,null,null,null,null,null,null,null,null,null,null,null,null,null,null,null,null,"A0558","坂戸ガス株式会社\r"]
[null,null,null,null,null,null,null,null,null,null,null,null,null,null,null,null,null,null,"A0559","１号発電所株式会社\r"]
[null,null,null,null,null,null,null,null,null,null,null,null,null,null,null,null,null,null,"A0560","株式会社テレ・マーカー\r"]
[null,null,null,null,null,null,null,null,null,null,null,null,null,null,null,null,null,null,"A0561","銚子新電力株式会社\r"]
[null,null,null,null,null,null,null,null,null,null,null,null,null,null,null,null,null,null,"A0562","MGCエネルギー株式会社\r"]
[null,null,null,null,null,null,null,null,null,null,null,null,null,null,null,null,null,null,"A0563","合同会社ブライト\r"]
[null,null,null,null,null,null,null,null,null,null,null,null,null,null,null,null,null,null,"A0564","新日本瓦斯株式会社\r"]
[null,null,null,null,null,null,null,null,null,null,null,null,null,null,null,null,null,null,"A0565","福島フェニックス電力株式会社\r"]
[null,null,null,null,null,null,null,null,null,null,null,null,null,null,null,null,null,null,"A0566","あんしん電力合同会社\r"]
[null,null,null,null,null,null,null,null,null,null,null,null,null,null,null,null,null,null,"A0567","株式会社美作国電力\r"]
[null,null,null,null,null,null,null,null,null,null,null,null,null,null,null,null,null,null,"A0568","エア・ウォーター株式会社\r"]
[null,null,null,null,null,null,null,null,null,null,null,null,null,null,null,null,null,null,"A0569","株式会社サンジュニア\r"]
[null,null,null,null,null,null,null,null,null,null,null,null,null,null,null,null,null,null,"A0570","八幡商事株式会社\r"]
[null,null,null,null,null,null,null,null,null,null,null,null,null,null,null,null,null,null,"A0571","おいでんエネルギー株式会社\r"]
[null,null,null,null,null,null,null,null,null,null,null,null,null,null,null,null,null,null,"A0572","株式会社イシオ\r"]
[null,null,null,null,null,null,null,null,null,null,null,null,null,null,null,null,null,null,"A0573","北陸電力ビズ・エナジーソリューション株式会社\r"]
[null,null,null,null,null,null,null,null,null,null,null,null,null,null,null,null,null,null,"A0574","リニューアブルトレード株式会社\r"]
[null,null,null,null,null,null,null,null,null,null,null,null,null,null,null,null,null,null,"A0575","加賀市総合サービス株式会社\r"]
[null,null,null,null,null,null,null,null,null,null,null,null,null,null,null,null,null,null,"A0576","全日本電力株式会社\r"]
[null,null,null,null,null,null,null,null,null,null,null,null,null,null,null,null,null,null,"A0577","丸紅伊那みらいでんき株式会社\r"]
[null,null,null,null,null,null,null,null,null,null,null,null,null,null,null,null,null,null,"A0578","富士山エナジー株式会社\r"]
[null,null,null,null,null,null,null,null,null,null,null,null,null,null,null,null,null,null,"A0579","株式会社OKUTA\r"]
[null,null,null,null,null,null,null,null,null,null,null,null,null,null,null,null,null,null,"A0580","株式会社エナネス\r"]
[null,null,null,null,null,null,null,null,null,null,null,null,null,null,null,null,null,null,"A0581","WSエナジー株式会社\r"]
[null,null,null,null,null,null,null,null,null,null,null,null,null,null,null,null,null,null,"A0582","TERA Energy株式会社\r"]
[null,null,null,null,null,null,null,null,null,null,null,null,null,null,null,null,null,null,"A0583","株式会社ルーア\r"]
[null,null,null,null,null,null,null,null,null,null,null,null,null,null,null,null,null,null,"A0584","MCPD合同会社\r"]
[null,null,null,null,null,null,null,null,null,null,null,null,null,null,null,null,null,null,"A0585","テラスライト株式会社\r"]
[null,null,null,null,null,null,null,null,null,null,null,null,null,null,null,null,null,null,"A0586","グリーンシティこばやし株式会社\r"]
[null,null,null,null,null,null,null,null,null,null,null,null,null,null,null,null,null,null,"A0587","株式会社吉田石油店\r"]
[null,null,null,null,null,null,null,null,null,null,null,null,null,null,null,null,null,null,"A0588","株式会社メディオテック\r"]
[null,null,null,null,null,null,null,null,null,null,null,null,null,null,null,null,null,null,"A0589","スマートエナジー熊本株式会社\r"]
[null,null,null,null,null,null,null,null,null,null,null,null,null,null,null,null,null,null,"A0590","福山未来エナジー株式会社\r"]
[null,null,null,null,null,null,null,null,null,null,null,null,null,null,null,null,null,null,"A0591","株式会社Kエナジー\r"]
[null,null,null,null,null,null,null,null,null,null,null,null,null,null,null,null,null,null,"A0592","株式会社ダイレクトパワー\r"]
[null,null,null,null,null,null,null,null,null,null,null,null,null,null,null,null,null,null,"A0593","株式会社サンコーテレコム\r"]
[null,null,null,null,null,null,null,null,null,null,null,null,null,null,null,null,null,null,"A0594","ネクストワンインターナショナル株式会社\r"]
[null,null,null,null,null,null,null,null,null,null,null,null,null,null,null,null,null,null,"A0595","AOIエネルギーソリューション株式会社\r"]
[null,null,null,null,null,null,null,null,null,null,null,null,null,null,null,null,null,null,"A0596","五島市民電力株式会社\r"]
[null,null,null,null,null,null,null,null,null,null,null,null,null,null,null,null,null,null,"A0597","電力保全サービス株式会社\r"]
[null,null,null,null,null,null,null,null,null,null,null,null,null,null,null,null,null,null,"A0598","リストプロパティーズ株式会社\r"]
[null,null,null,null,null,null,null,null,null,null,null,null,null,null,null,null,null,null,"A0599","ENECHANGE株式会社\r"]
[null,null,null,null,null,null,null,null,null,null,null,null,null,null,null,null,null,null,"A0600","株式会社インフォシステム\r"]
[null,null,null,null,null,null,null,null,null,null,null,null,null,null,null,null,null,null,"A0601","株式会社ナサホーム\r"]
[null,null,null,null,null,null,null,null,null,null,null,null,null,null,null,null,null,null,"A0602","株式会社ジットセレモニー\r"]
[null,null,null,null,null,null,null,null,null,null,null,null,null,null,null,null,null,null,"A0603","バンプーパワートレーディング合同会社\r"]
[null,null,null,null,null,null,null,null,null,null,null,null,null,null,null,null,null,null,"A0604","株式会社エイチティーピー\r"]
[null,null,null,null,null,null,null,null,null,null,null,null,null,null,null,null,null,null,"A0605","株式会社センカク\r"]
[null,null,null,null,null,null,null,null,null,null,null,null,null,null,null,null,null,null,"A0606","新電力いばらき(株)"]
[null,null,null,null,null,null,null,null,null,null,null,null,null,null,null,null,null,null,"A0607","緑屋電気(株)"]
[null,null,null,null,null,null,null,null,null,null,null,null,null,null,null,null,null,null,"A0609","(株)ミナサポ"]
[null,null,null,null,null,null,null,null,null,null,null,null,null,null,null,null,null,null,"A0611","RE100電力(株)"]
[null,null,null,null,null,null,null,null,null,null,null,null,null,null,null,null,null,null,"A0613","一般社団法人フライングエステート"]
[null,null,null,null,null,null,null,null,null,null,null,null,null,null,null,null,null,null,"A0615","(株)イーネットワーク"]
[null,null,null,null,null,null,null,null,null,null,null,null,null,null,null,null,null,null,"A0617","スマートエコエナジー(株)"]
[null,null,null,null,null,null,null,null,null,null,null,null,null,null,null,null,null,null,"A0619","ジャパンベストレスキューシステム(株)"]
[null,null,null,null,null,null,null,null,null,null,null,null,null,null,null,null,null,null,"A0622","アイ・エス・ガステム(株)"]
[null,null,null,null,null,null,null,null,null,null,null,null,null,null,null,null,null,null,"A0624","堀川産業(株)"]
[null,null,null,null,null,null,null,null,null,null,null,null,null,null,null,null,null,null,"A0627","フィンテックラボ協同組合"]
[null,null,null,null,null,null,null,null,null,null,null,null,null,null,null,null,null,null,"A0629","新電力新潟(株)"]
[null,null,null,null,null,null,null,null,null,null,null,null,null,null,null,null,null,null,"A0630","(株)横須賀アーバンウッドパワー"]
[null,null,null,null,null,null,null,null,null,null,null,null,null,null,null,null,null,null,"A0631","気仙沼グリーンエナジー(株)"]
[null,null,null,null,null,null,null,null,null,null,null,null,null,null,null,null,null,null,"A0632","(株)ユーラスグリーンエナジー"]
[null,null,null,null,null,null,null,null,null,null,null,null,null,null,null,null,null,null,"A0636","生活協同組合コープながの"]
[null,null,null,null,null,null,null,null,null,null,null,null,null,null,null,null,null,null,"A0637","京セラ関電エナジー合同会社"]
[null,null,null,null,null,null,null,null,null,null,null,null,null,null,null,null,null,null,"A0639","酒田天然瓦斯(株)"]
[null,null,null,null,null,null,null,null,null,null,null,null,null,null,null,null,null,null,"A0641","(株)三河の山里コミュニティパワー"]
[null,null,null,null,null,null,null,null,null,null,null,null,null,null,null,null,null,null,"A0642","新潟スワンエナジー(株)"]
[null,null,null,null,null,null,null,null,null,null,null,null,null,null,null,null,null,null,"A0644","グリーンピープルズパワー(株)"]
[null,null,null,null,null,null,null,null,null,null,null,null,null,null,null,null,null,null,"A0649","(株)デンケン"]
[null,null,null,null,null,null,null,null,null,null,null,null,null,null,null,null,null,null,"A0650","(株)東名"]
[null,null,null,null,null,null,null,null,null,null,null,null,null,null,null,null,null,null,"A0652","北海道電力コクリエーション(株)"]
[null,null,null,null,null,null,null,null,null,null,null,null,null,null,null,null,null,null,"A0655","(株)唐津パワーホールディングス"]
[null,null,null,null,null,null,null,null,null,null,null,null,null,null,null,null,null,null,"A0667","たんたんエナジー(株)"]
[null,null,null,null,null,null,null,null,null,null,null,null,null,null,null,null,null,null,"A0679","TEPCOライフサービス(株)"]

{"sheet":"２’．ｋＬ・ＣＯ₂量(建物系）《参考》","index":15,"n_rows":52,"n_cols":186,"rows_kept":52,"cut":false,"hidden":true,"merged":[[49,3,49,5],[49,178,49,179],[50,3,50,5],[50,178,50,179],[51,3,51,5],[46,3,46,5],[46,178,46,179],[47,2,48,2],[47,3,47,5],[47,178,47,179],[48,3,48,5],[48,178,48,179],[39,178,39,179],[40,3,40,5],[41,2,45,2],[41,3,42,3],[41,4,41,5],[42,4,42,5],[43,3,43,5],[44,3,44,5],[44,178,44,179],[45,3,45,5],[45,178,45,179],[34,3,34,5],[35,2,40,2],[35,3,35,5],[36,3,36,5],[37,3,37,5],[38,3,38,5],[39,3,39,5],[5,2,34,2],[5,3,5,5],[6,3,6,5],[7,3,7,5],[8,3,8,5],[14,3,14,5],[9,3,9,5],[10,3,10,5],[11,3,11,5],[24,3,24,5],[25,3,25,5],[26,3,26,5],[27,3,33,3],[27,4,31,4],[32,4,32,5],[33,4,33,5],[12,3,12,5],[13,3,13,5],[23,3,23,5],[15,3,16,3],[15,4,15,5],[16,4,16,5],[17,3,18,3],[17,4,17,5],[18,4,18,5],[19,3,21,3],[19,4,19,5],[20,4,20,5],[21,4,21,5],[22,3,22,5],[0,179,0,181],[2,2,4,2],[2,3,4,5],[2,6,4,6],[2,7,2,98],[2,178,4,179],[2,180,4,181],[3,7,3,33],[3,34,3,60],[3,61,3,78],[3,155,3,177],[3,84,4,84],[3,85,3,108],[3,109,3,131],[3,132,3,154]]}
[null,null,"２’．ｋＬ・ＣＯ₂量（建物系）《参考》"]
[null,null,null,null,null,null,null,null,null,null,null,null,null,null,null,null,null,null,null,null,null,null,null,null,null,null,null,null,null,null,null,null,null,null,null,null,null,null,null,null,null,null,null,null,null,null,null,null,null,null,null,null,null,null,null,null,null,null,null,null,null,null,null,null,null,null,null,null,null,null,null,null,null,null,null,null,null,null,null,null,null,null,null,null,null,null,null,null,null,null,null,null,null,null,null,null,null,null,null,null,null,null,null,null,null,null,null,null,null,null,null,null,null,null,null,null,null,null,null,null,null,null,null,null,null,null,null,null,null,null,null,null,null,null,null,null,null,null,null,null,null,null,null,null,null,null,null,null,null,null,null,null,null,null,null,null,null,null,null,null,null,null,null,null,null,null,null,null,null,null,null,null,null,null,null,null,null,null,"原油換算：",2.58E-2,"ｋL/GJ"]
[null,null,"排出活動","区分",null,null,"単位","使　　　　　　　　　　用　　　　　　　　　　量",null,null,null,null,null,null,null,null,null,null,null,null,null,null,null,null,null,null,null,null,null,null,null,null,null,null,null,null,null,null,null,null,null,null,null,null,null,null,null,null,null,null,null,null,null,null,null,null,null,null,null,null,null,null,null,null,null,null,null,null,null,null,null,null,null,null,null,null,null,null,null,null,null,null,null,null,null,null,null,null,null,null,null,null,null,null,null,null,null,null,null,null,null,null,null,null,null,null,null,null,null,null,null,null,null,null,null,null,null,null,null,null,null,null,null,null,null,null,null,null,null,null,null,null,null,null,null,null,null,null,null,null,null,null,null,null,null,null,null,null,null,null,null,null,null,null,null,null,null,null,null,null,null,null,null,null,null,null,null,null,null,null,null,null,null,null,null,null,null,null,"単位当たり発熱量",null,"排出係数"]
[null,null,null,null,null,null,null,"事業所内使用量",null,null,null,null,null,null,null,null,null,null,null,null,null,null,null,null,null,null,null,null,null,null,null,null,null,null,"算定対象外使用量",null,null,null,null,null,null,null,null,null,null,null,null,null,null,null,null,null,null,null,null,null,null,null,null,null,null,"控除後使用量",null,null,null,null,null,null,null,null,null,null,null,null,null,null,null,null,null,null,null,null,null,null,"単位補正","控除後使用量　単位補正後",null,null,null,null,null,null,null,null,null,null,null,null,null,null,null,null,null,null,null,null,null,null,null,"エネルギー発熱量（GJ)　",null,null,null,null,null,null,null,null,null,null,null,null,null,null,null,null,null,null,null,null,null,null,"原油換算使用量（ｋL)　",null,null,null,null,null,null,null,null,null,null,null,null,null,null,null,null,null,null,null,null,null,null,"CO₂換算使用量　（t-CO₂）"]
[null,null,null,null,null,null,null,"燃料等\n監視点","計量器の種類","検定等の有無","入力方法","14年度(2002)","15年度(2003)","16年度(2004)","17年度(2005)","18年度(2006)","19年度(2007)","20年度(2008)","21年度(2009)","22年度(2010)","23年度(2011)","24年度(2012)","25年度(2013)","26年度(2014)","27年度(2015)","28年度(2016)","29年度(2017)","30年度(2018)","31/1年度\n(2019)","2年度\n(2020)","3年度\n(2021)","4年度\n(2022)","5年度\n(2023)","6年度\n(2024)","燃料等\n監視点","計量器の種類","検定等の有無","入力方法","14年度(2002)","15年度(2003)","16年度(2004)","17年度(2005)","18年度(2006)","19年度(2007)","20年度(2008)","21年度(2009)","22年度(2010)","23年度(2011)","24年度(2012)","25年度(2013)","26年度(2014)","27年度(2015)","28年度(2016)","29年度(2017)","30年度(2018)","31/1年度\n(2019)","2年度\n(2020)","3年度\n(2021)","4年度\n(2022)","5年度\n(2023)","6年度\n(2024)","14年度(2002)","15年度(2003)","16年度(2004)","17年度(2005)","18年度(2006)","19年度(2007)","20年度(2008)","21年度(2009)","22年度(2010)","23年度(2011)","24年度(2012)","25年度(2013)","26年度(2014)","27年度(2015)","28年度(2016)","29年度(2017)","30年度(2018)","31/1年度\n(2019)","2年度\n(2020)","3年度\n(2021)","4年度\n(2022)","5年度\n(2023)","6年度\n(2024)",null,"単位","14年度(2002)","15年度(2003)","16年度(2004)","17年度(2005)","18年度(2006)","19年度(2007)","20年度(2008)","21年度(2009)","22年度(2010)","23年度(2011)","24年度(2012)","25年度(2013)","26年度(2014)","27年度(2015)","28年度(2016)","29年度(2017)","30年度(2018)","31/1年度\n(2019)","2年度\n(2020)","3年度\n(2021)","4年度\n(2022)","5年度\n(2023)","6年度\n(2024)","14年度(2002)","15年度(2003)","16年度(2004)","17年度(2005)","18年度(2006)","19年度(2007)","20年度(2008)","21年度(2009)","22年度(2010)","23年度(2011)","24年度(2012)","25年度(2013)","26年度(2014)","27年度(2015)","28年度(2016)","29年度(2017)","30年度(2018)","31/1年度\n(2019)","2年度\n(2020)","3年度\n(2021)","4年度\n(2022)","5年度\n(2023)","6年度\n(2024)","14年度(2002)","15年度(2003)","16年度(2004)","17年度(2005)","18年度(2006)","19年度(2007)","20年度(2008)","21年度(2009)","22年度(2010)","23年度(2011)","24年度(2012)","25年度(2013)","26年度(2014)","27年度(2015)","28年度(2016)","29年度(2017)","30年度(2018)","31/1年度\n(2019)","2年度\n(2020)","3年度\n(2021)","4年度\n(2022)","5年度\n(2023)","6年度\n(2024)","14年度(2002)","15年度(2003)","16年度(2004)","17年度(2005)","18年度(2006)","19年度(2007)","20年度(2008)","21年度(2009)","22年度(2010)","23年度(2011)","24年度(2012)","25年度(2013)","26年度(2014)","27年度(2015)","28年度(2016)","29年度(2017)","30年度(2018)","31/1年度\n(2019)","2年度\n(2020)","3年度\n(2021)","4年度\n(2022)","5年度\n(2023)","6年度\n(2024)"]
[null,null,"燃料","原油（コンデンセートを除く）",null,null,{"$f":"'２．算定報告様式(建物系)'!G6","v":"L"},{"$f":"'２．算定報告様式(建物系)'!H6","v":0},{"$f":"'２．算定報告様式(建物系)'!I6","v":0},{"$f":"'２．算定報告様式(建物系)'!J6","v":0},{"$f":"'２．算定報告様式(建物系)'!K6","v":0},{"$f":"'２．算定報告様式(建物系)'!L6","v":0},{"$f":"'２．算定報告様式(建物系)'!M6","v":0},{"$f":"'２．算定報告様式(建物系)'!N6","v":0},{"$f":"'２．算定報告様式(建物系)'!O6","v":0},{"$f":"'２．算定報告様式(建物系)'!P6","v":0},{"$f":"'２．算定報告様式(建物系)'!Q6","v":0},{"$f":"'２．算定報告様式(建物系)'!R6","v":0},{"$f":"'２．算定報告様式(建物系)'!S6","v":0},{"$f":"'２．算定報告様式(建物系)'!T6","v":0},{"$f":"'２．算定報告様式(建物系)'!U6","v":0},{"$f":"'２．算定報告様式(建物系)'!V6","v":0},{"$f":"'２．算定報告様式(建物系)'!W6","v":0},{"$f":"'２．算定報告様式(建物系)'!X6","v":0},{"$f":"'２．算定報告様式(建物系)'!Y6","v":0},{"$f":"'２．算定報告様式(建物系)'!Z6","v":0},{"$f":"'２．算定報告様式(建物系)'!AA6","v":0},{"$f":"'２．算定報告様式(建物系)'!AB6","v":0},{"$f":"'２．算定報告様式(建物系)'!AC6","v":0},{"$f":"'２．算定報告様式(建物系)'!AD6","v":0},{"$f":"'２．算定報告様式(建物系)'!AE6","v":0},{"$f":"'２．算定報告様式(建物系)'!AF6","v":0},{"$f":"'２．算定報告様式(建物系)'!AG6","v":0},{"$f":"'２．算定報告様式(建物系)'!AH6","v":0},null,null,null,null,null,null,null,null,null,null,null,null,null,null,null,null,null,null,null,null,null,null,null,null,null,null,null,{"$f":"H14_事業所内使用量-H14_算定外使用量","v":0},{"$f":"H15_事業所内使用量-H15_算定外使用量","v":0},{"$f":"H16_事業所内使用量-H16_算定外使用量","v":0},{"$f":"H17_事業所内使用量-H17_算定外使用量","v":0},{"$f":"H18_事業所内使用量-H18_算定外使用量","v":0},{"$f":"H19_事業所内使用量-H19_算定外使用量","v":0},{"$f":"H20_事業所内使用量-H20_算定外使用量","v":0},{"$f":"H21_事業所内使用量-H21_算定外使用量","v":0},{"$f":"H22_事業所内使用量-H22_算定外使用量","v":0},{"$f":"H23_事業所内使用量-H23_算定外使用量","v":0},{"$f":"H24_事業所内使用量-H24_算定外使用量","v":0},{"$f":"H25_事業所内使用量-H25_算定外使用量","v":0},{"$f":"H26_事業所内使用量-H26_算定外使用量","v":0},{"$f":"H27_事業所内使用量-H27_算定外使用量","v":0},{"$f":"H28_事業所内使用量-H28_算定外使用量","v":0},{"$f":"H29_事業所内使用量-H29_算定外使用量","v":0},{"$f":"H30_事業所内使用量-H30_算定外使用量","v":0},{"$f":"AC6-BD6","v":0},{"$f":"AD6-BE6","v":0},0,0,0,0,{"$f":"VLOOKUP($G6,$GB$6:$GC$15,2,FALSE)","v":1000},"ｋL",{"$f":"ROUND(H14_控除後使用量/単位補正,0)","v":0},{"$f":"ROUND(H15_控除後使用量/単位補正,0)","v":0},{"$f":"ROUND(H16_控除後使用量/単位補正,0)","v":0},{"$f":"ROUND(H17_控除後使用量/単位補正,0)","v":0},{"$f":"ROUND(H18_控除後使用量/単位補正,0)","v":0},{"$f":"ROUND(H19_控除後使用量/単位補正,0)","v":0},{"$f":"ROUND(H20_控除後使用量/単位補正,0)","v":0},{"$f":"ROUND(H21_控除後使用量/単位補正,0)","v":0},{"$f":"ROUND(H22_控除後使用量/単位補正,0)","v":0},{"$f":"ROUND(H23_控除後使用量/単位補正,0)","v":0},{"$f":"ROUND(H24_控除後使用量/単位補正,0)","v":0},{"$f":"ROUND(H25_控除後使用量/単位補正,0)","v":0},{"$f":"ROUND(H26_控除後使用量/単位補正,0)","v":0},{"$f":"ROUND(H27_控除後使用量/単位補正,0)","v":0},{"$f":"ROUND(H28_控除後使用量/単位補正,0)","v":0},{"$f":"ROUND(H29_控除後使用量/単位補正,0)","v":0},{"$f":"ROUND(H30_控除後使用量/単位補正,0)","v":0},{"$f":"ROUND(CA6/単位補正,0)","v":0},{"$f":"ROUND(CB6/単位補正,0)","v":0},{"$f":"ROUND(CC6/単位補正,0)","v":0},{"$f":"ROUND(CD6/単位補正,0)","v":0},{"$f":"ROUND(CE6/単位補正,0)","v":0},{"$f":"ROUND(CF6/単位補正,0)","v":0},{"$f":"CI6*$FW6","v":0},0,0,0,0,0,0,0,0,0,0,0,0,0,0,0,{"$f":"CY6*$FW6","v":0},0,0,0,0,0,0,{"$f":"DF6*$GC$19","v":0},0,0,0,0,0,0,0,0,0,0,0,0,0,0,0,{"$f":"DV6*$GC$19","v":0},0,0,0,0,0,0,{"$f":"DF6*$FY6*44/12","v":0},0,0,0,0,0,0,0,0,0,0,0,0,0,0,0,{"$f":"DV6*$FY6*44/12","v":0},0,0,0,0,0,0,38.200000000000003,"GJ/kL",1.8700000000000001E-2,"t-C/GJ",null,"L",1000]
[null,null,null,"原油のうちコンデンセート（ＮＧＬ）",null,null,{"$f":"'２．算定報告様式(建物系)'!G7","v":"L"},{"$f":"'２．算定報告様式(建物系)'!H7","v":0},{"$f":"'２．算定報告様式(建物系)'!I7","v":0},{"$f":"'２．算定報告様式(建物系)'!J7","v":0},{"$f":"'２．算定報告様式(建物系)'!K7","v":0},{"$f":"'２．算定報告様式(建物系)'!L7","v":0},{"$f":"'２．算定報告様式(建物系)'!M7","v":0},{"$f":"'２．算定報告様式(建物系)'!N7","v":0},{"$f":"'２．算定報告様式(建物系)'!O7","v":0},{"$f":"'２．算定報告様式(建物系)'!P7","v":0},{"$f":"'２．算定報告様式(建物系)'!Q7","v":0},{"$f":"'２．算定報告様式(建物系)'!R7","v":0},{"$f":"'２．算定報告様式(建物系)'!S7","v":0},{"$f":"'２．算定報告様式(建物系)'!T7","v":0},{"$f":"'２．算定報告様式(建物系)'!U7","v":0},{"$f":"'２．算定報告様式(建物系)'!V7","v":0},{"$f":"'２．算定報告様式(建物系)'!W7","v":0},{"$f":"'２．算定報告様式(建物系)'!X7","v":0},{"$f":"'２．算定報告様式(建物系)'!Y7","v":0},{"$f":"'２．算定報告様式(建物系)'!Z7","v":0},{"$f":"'２．算定報告様式(建物系)'!AA7","v":0},{"$f":"'２．算定報告様式(建物系)'!AB7","v":0},{"$f":"'２．算定報告様式(建物系)'!AC7","v":0},{"$f":"'２．算定報告様式(建物系)'!AD7","v":0},{"$f":"'２．算定報告様式(建物系)'!AE7","v":0},{"$f":"'２．算定報告様式(建物系)'!AF7","v":0},{"$f":"'２．算定報告様式(建物系)'!AG7","v":0},{"$f":"'２．算定報告様式(建物系)'!AH7","v":0},null,null,null,null,null,null,null,null,null,null,null,null,null,null,null,null,null,null,null,null,null,null,null,null,null,null,null,0,0,0,0,0,0,0,0,0,0,0,0,0,0,0,0,0,{"$f":"AC7-BD7","v":0},0,0,0,0,0,1000,"ｋL",0,0,0,0,0,0,0,0,0,0,0,0,0,0,0,0,0,0,0,0,0,0,0,0,0,0,0,0,0,0,0,0,0,0,0,0,0,0,0,0,0,0,0,0,0,0,0,0,0,0,0,0,0,0,0,0,0,0,0,0,0,0,0,0,0,0,0,0,0,0,0,0,0,0,0,0,0,0,0,0,0,0,0,0,0,0,0,0,0,0,0,0,35.299999999999997,"GJ/kL",1.84E-2,"t-C/GJ",null,"kL",1]
[null,null,null,"揮発油（ガソリン）",null,null,{"$f":"'２．算定報告様式(建物系)'!G8","v":"kL"},{"$f":"'２．算定報告様式(建物系)'!H8","v":0},{"$f":"'２．算定報告様式(建物系)'!I8","v":0},{"$f":"'２．算定報告様式(建物系)'!J8","v":0},{"$f":"'２．算定報告様式(建物系)'!K8","v":0},{"$f":"'２．算定報告様式(建物系)'!L8","v":0},{"$f":"'２．算定報告様式(建物系)'!M8","v":0},{"$f":"'２．算定報告様式(建物系)'!N8","v":0},{"$f":"'２．算定報告様式(建物系)'!O8","v":0},{"$f":"'２．算定報告様式(建物系)'!P8","v":0},{"$f":"'２．算定報告様式(建物系)'!Q8","v":0},{"$f":"'２．算定報告様式(建物系)'!R8","v":0},{"$f":"'２．算定報告様式(建物系)'!S8","v":0},{"$f":"'２．算定報告様式(建物系)'!T8","v":0},{"$f":"'２．算定報告様式(建物系)'!U8","v":0},{"$f":"'２．算定報告様式(建物系)'!V8","v":0},{"$f":"'２．算定報告様式(建物系)'!W8","v":0},{"$f":"'２．算定報告様式(建物系)'!X8","v":0},{"$f":"'２．算定報告様式(建物系)'!Y8","v":0},{"$f":"'２．算定報告様式(建物系)'!Z8","v":0},{"$f":"'２．算定報告様式(建物系)'!AA8","v":0},{"$f":"'２．算定報告様式(建物系)'!AB8","v":0},{"$f":"'２．算定報告様式(建物系)'!AC8","v":0},{"$f":"'２．算定報告様式(建物系)'!AD8","v":0},{"$f":"'２．算定報告様式(建物系)'!AE8","v":0},{"$f":"'２．算定報告様式(建物系)'!AF8","v":0},{"$f":"'２．算定報告様式(建物系)'!AG8","v":0},{"$f":"'２．算定報告様式(建物系)'!AH8","v":0},null,null,null,null,null,null,null,null,null,null,null,null,null,null,null,null,null,null,null,null,null,null,null,null,null,null,null,0,0,0,0,0,0,0,0,0,0,0,0,0,0,0,0,0,0,0,0,0,0,0,1,"ｋL",0,0,0,0,0,0,0,0,0,0,0,0,0,0,0,0,0,0,0,0,0,0,0,0,0,0,0,0,0,0,0,0,0,0,0,0,0,0,0,0,0,0,0,0,0,0,0,0,0,0,0,0,0,0,0,0,0,0,0,0,0,0,0,0,0,0,0,0,0,0,0,0,0,0,0,0,0,0,0,0,0,0,0,0,0,0,0,0,0,0,0,0,34.6,"GJ/kL",1.83E-2,"t-C/GJ",null,"kg",1000]
[null,null,null,"ナフサ",null,null,{"$f":"'２．算定報告様式(建物系)'!G9","v":"L"},{"$f":"'２．算定報告様式(建物系)'!H9","v":0},{"$f":"'２．算定報告様式(建物系)'!I9","v":0},{"$f":"'２．算定報告様式(建物系)'!J9","v":0},{"$f":"'２．算定報告様式(建物系)'!K9","v":0},{"$f":"'２．算定報告様式(建物系)'!L9","v":0},{"$f":"'２．算定報告様式(建物系)'!M9","v":0},{"$f":"'２．算定報告様式(建物系)'!N9","v":0},{"$f":"'２．算定報告様式(建物系)'!O9","v":0},{"$f":"'２．算定報告様式(建物系)'!P9","v":0},{"$f":"'２．算定報告様式(建物系)'!Q9","v":0},{"$f":"'２．算定報告様式(建物系)'!R9","v":0},{"$f":"'２．算定報告様式(建物系)'!S9","v":0},{"$f":"'２．算定報告様式(建物系)'!T9","v":0},{"$f":"'２．算定報告様式(建物系)'!U9","v":0},{"$f":"'２．算定報告様式(建物系)'!V9","v":0},{"$f":"'２．算定報告様式(建物系)'!W9","v":0},{"$f":"'２．算定報告様式(建物系)'!X9","v":0},{"$f":"'２．算定報告様式(建物系)'!Y9","v":0},{"$f":"'２．算定報告様式(建物系)'!Z9","v":0},{"$f":"'２．算定報告様式(建物系)'!AA9","v":0},{"$f":"'２．算定報告様式(建物系)'!AB9","v":0},{"$f":"'２．算定報告様式(建物系)'!AC9","v":0},{"$f":"'２．算定報告様式(建物系)'!AD9","v":0},{"$f":"'２．算定報告様式(建物系)'!AE9","v":0},{"$f":"'２．算定報告様式(建物系)'!AF9","v":0},{"$f":"'２．算定報告様式(建物系)'!AG9","v":0},{"$f":"'２．算定報告様式(建物系)'!AH9","v":0},null,null,null,null,null,null,null,null,null,null,null,null,null,null,null,null,null,null,null,null,null,null,null,null,null,null,null,0,0,0,0,0,0,0,0,0,0,0,0,0,0,0,0,0,0,0,0,0,0,0,1000,"ｋL",0,0,0,0,0,0,0,0,0,0,0,0,0,0,0,0,0,0,0,0,0,0,0,0,0,0,0,0,0,0,0,0,0,0,0,0,0,0,0,0,0,0,0,0,0,0,0,0,0,0,0,0,0,0,0,0,0,0,0,0,0,0,0,0,0,0,0,0,0,0,0,0,0,0,0,0,0,0,0,0,0,0,0,0,0,0,0,0,0,0,0,0,33.6,"GJ/kL",1.8200000000000001E-2,"t-C/GJ",null,"t",1]
[null,null,null,"灯油",null,null,{"$f":"'２．算定報告様式(建物系)'!G10","v":"L"},{"$f":"'２．算定報告様式(建物系)'!H10","v":0},{"$f":"'２．算定報告様式(建物系)'!I10","v":0},{"$f":"'２．算定報告様式(建物系)'!J10","v":0},{"$f":"'２．算定報告様式(建物系)'!K10","v":0},{"$f":"'２．算定報告様式(建物系)'!L10","v":0},{"$f":"'２．算定報告様式(建物系)'!M10","v":0},{"$f":"'２．算定報告様式(建物系)'!N10","v":0},{"$f":"'２．算定報告様式(建物系)'!O10","v":0},{"$f":"'２．算定報告様式(建物系)'!P10","v":0},{"$f":"'２．算定報告様式(建物系)'!Q10","v":0},{"$f":"'２．算定報告様式(建物系)'!R10","v":0},{"$f":"'２．算定報告様式(建物系)'!S10","v":0},{"$f":"'２．算定報告様式(建物系)'!T10","v":0},{"$f":"'２．算定報告様式(建物系)'!U10","v":0},{"$f":"'２．算定報告様式(建物系)'!V10","v":0},{"$f":"'２．算定報告様式(建物系)'!W10","v":0},{"$f":"'２．算定報告様式(建物系)'!X10","v":0},{"$f":"'２．算定報告様式(建物系)'!Y10","v":0},{"$f":"'２．算定報告様式(建物系)'!Z10","v":0},{"$f":"'２．算定報告様式(建物系)'!AA10","v":0},{"$f":"'２．算定報告様式(建物系)'!AB10","v":0},{"$f":"'２．算定報告様式(建物系)'!AC10","v":0},{"$f":"'２．算定報告様式(建物系)'!AD10","v":0},{"$f":"'２．算定報告様式(建物系)'!AE10","v":0},{"$f":"'２．算定報告様式(建物系)'!AF10","v":0},{"$f":"'２．算定報告様式(建物系)'!AG10","v":0},{"$f":"'２．算定報告様式(建物系)'!AH10","v":0},null,null,null,null,null,null,null,null,null,null,null,null,null,null,null,null,null,null,null,null,null,null,null,null,null,null,null,0,0,0,0,0,0,0,0,0,0,0,0,0,0,0,0,0,0,0,0,0,0,0,1000,"ｋL",0,0,0,0,0,0,0,0,0,0,0,0,0,0,0,0,0,0,0,0,0,0,0,0,0,0,0,0,0,0,0,0,0,0,0,0,0,0,0,0,0,0,0,0,0,0,0,0,0,0,0,0,0,0,0,0,0,0,0,0,0,0,0,0,0,0,0,0,0,0,0,0,0,0,0,0,0,0,0,0,0,0,0,0,0,0,0,0,0,0,0,0,36.700000000000003,"GJ/kL",1.8499999999999999E-2,"t-C/GJ",null,"Nm3",1000]
[null,null,null,"軽油",null,null,{"$f":"'２．算定報告様式(建物系)'!G11","v":"L"},{"$f":"'２．算定報告様式(建物系)'!H11","v":0},{"$f":"'２．算定報告様式(建物系)'!I11","v":0},{"$f":"'２．算定報告様式(建物系)'!J11","v":0},{"$f":"'２．算定報告様式(建物系)'!K11","v":0},{"$f":"'２．算定報告様式(建物系)'!L11","v":0},{"$f":"'２．算定報告様式(建物系)'!M11","v":0},{"$f":"'２．算定報告様式(建物系)'!N11","v":0},{"$f":"'２．算定報告様式(建物系)'!O11","v":0},{"$f":"'２．算定報告様式(建物系)'!P11","v":0},{"$f":"'２．算定報告様式(建物系)'!Q11","v":0},{"$f":"'２．算定報告様式(建物系)'!R11","v":0},{"$f":"'２．算定報告様式(建物系)'!S11","v":0},{"$f":"'２．算定報告様式(建物系)'!T11","v":0},{"$f":"'２．算定報告様式(建物系)'!U11","v":0},{"$f":"'２．算定報告様式(建物系)'!V11","v":0},{"$f":"'２．算定報告様式(建物系)'!W11","v":0},{"$f":"'２．算定報告様式(建物系)'!X11","v":0},{"$f":"'２．算定報告様式(建物系)'!Y11","v":0},{"$f":"'２．算定報告様式(建物系)'!Z11","v":0},{"$f":"'２．算定報告様式(建物系)'!AA11","v":0},{"$f":"'２．算定報告様式(建物系)'!AB11","v":0},{"$f":"'２．算定報告様式(建物系)'!AC11","v":0},{"$f":"'２．算定報告様式(建物系)'!AD11","v":0},{"$f":"'２．算定報告様式(建物系)'!AE11","v":0},{"$f":"'２．算定報告様式(建物系)'!AF11","v":0},{"$f":"'２．算定報告様式(建物系)'!AG11","v":0},{"$f":"'２．算定報告様式(建物系)'!AH11","v":0},null,null,null,null,null,null,null,null,null,null,null,null,null,null,null,null,null,null,null,null,null,null,null,null,null,null,null,0,0,0,0,0,0,0,0,0,0,0,0,0,0,0,0,0,0,0,0,0,0,0,1000,"ｋL",0,0,0,0,0,0,0,0,0,0,0,0,0,0,0,0,0,0,0,0,0,0,0,0,0,0,0,0,0,0,0,0,0,0,0,0,0,0,0,0,0,0,0,0,0,0,0,0,0,0,0,0,0,0,0,0,0,0,0,0,0,0,0,0,0,0,0,0,0,0,0,0,0,0,0,0,0,0,0,0,0,0,0,0,0,0,0,0,0,0,0,0,37.700000000000003,"GJ/kL",1.8700000000000001E-2,"t-C/GJ",null,"千Nｍ3",1]
[null,null,null,"Ａ重油",null,null,{"$f":"'２．算定報告様式(建物系)'!G12","v":"L"},{"$f":"'２．算定報告様式(建物系)'!H12","v":0},{"$f":"'２．算定報告様式(建物系)'!I12","v":0},{"$f":"'２．算定報告様式(建物系)'!J12","v":0},{"$f":"'２．算定報告様式(建物系)'!K12","v":0},{"$f":"'２．算定報告様式(建物系)'!L12","v":0},{"$f":"'２．算定報告様式(建物系)'!M12","v":0},{"$f":"'２．算定報告様式(建物系)'!N12","v":0},{"$f":"'２．算定報告様式(建物系)'!O12","v":0},{"$f":"'２．算定報告様式(建物系)'!P12","v":0},{"$f":"'２．算定報告様式(建物系)'!Q12","v":0},{"$f":"'２．算定報告様式(建物系)'!R12","v":0},{"$f":"'２．算定報告様式(建物系)'!S12","v":0},{"$f":"'２．算定報告様式(建物系)'!T12","v":0},{"$f":"'２．算定報告様式(建物系)'!U12","v":0},{"$f":"'２．算定報告様式(建物系)'!V12","v":0},{"$f":"'２．算定報告様式(建物系)'!W12","v":0},{"$f":"'２．算定報告様式(建物系)'!X12","v":0},{"$f":"'２．算定報告様式(建物系)'!Y12","v":0},{"$f":"'２．算定報告様式(建物系)'!Z12","v":0},{"$f":"'２．算定報告様式(建物系)'!AA12","v":0},{"$f":"'２．算定報告様式(建物系)'!AB12","v":0},{"$f":"'２．算定報告様式(建物系)'!AC12","v":0},{"$f":"'２．算定報告様式(建物系)'!AD12","v":0},{"$f":"'２．算定報告様式(建物系)'!AE12","v":0},{"$f":"'２．算定報告様式(建物系)'!AF12","v":0},{"$f":"'２．算定報告様式(建物系)'!AG12","v":0},{"$f":"'２．算定報告様式(建物系)'!AH12","v":0},null,null,null,null,null,null,null,null,null,null,null,null,null,null,null,null,null,null,null,null,null,null,null,null,null,null,null,0,0,0,0,0,0,0,0,0,{"$f":"H23_事業所内使用量-H23_算定外使用量","v":0},{"$f":"H24_事業所内使用量-H24_算定外使用量","v":0},{"$f":"H25_事業所内使用量-H25_算定外使用量","v":0},0,0,0,0,0,0,0,0,0,0,0,1000,"ｋL",{"$f":"ROUND(H14_控除後使用量/単位補正,0)","v":0},{"$f":"ROUND(H15_控除後使用量/単位補正,0)","v":0},{"$f":"ROUND(H16_控除後使用量/単位補正,0)","v":0},{"$f":"ROUND(H17_控除後使用量/単位補正,0)","v":0},{"$f":"ROUND(H18_控除後使用量/単位補正,0)","v":0},{"$f":"ROUND(H19_控除後使用量/単位補正,0)","v":0},{"$f":"ROUND(H20_控除後使用量/単位補正,0)","v":0},{"$f":"ROUND(H21_控除後使用量/単位補正,0)","v":0},{"$f":"ROUND(H22_控除後使用量/単位補正,0)","v":0},{"$f":"ROUND(H23_控除後使用量/単位補正,0)","v":0},{"$f":"ROUND(H24_控除後使用量/単位補正,0)","v":0},{"$f":"ROUND(H25_控除後使用量/単位補正,0)","v":0},0,0,0,0,0,0,0,0,0,0,0,0,0,0,0,0,0,0,0,0,0,0,0,0,0,0,0,0,0,0,0,0,0,0,0,0,0,0,0,0,0,0,0,0,0,0,0,0,0,0,0,0,0,0,0,0,0,0,0,0,0,0,0,0,0,0,0,0,0,0,0,0,0,0,0,0,0,0,0,0,39.1,"GJ/kL",1.89E-2,"t-C/GJ",null,"MJ",1000]
[null,null,null,"Ｂ・Ｃ重油",null,null,{"$f":"'２．算定報告様式(建物系)'!G13","v":"L"},{"$f":"'２．算定報告様式(建物系)'!H13","v":0},{"$f":"'２．算定報告様式(建物系)'!I13","v":0},{"$f":"'２．算定報告様式(建物系)'!J13","v":0},{"$f":"'２．算定報告様式(建物系)'!K13","v":0},{"$f":"'２．算定報告様式(建物系)'!L13","v":0},{"$f":"'２．算定報告様式(建物系)'!M13","v":0},{"$f":"'２．算定報告様式(建物系)'!N13","v":0},{"$f":"'２．算定報告様式(建物系)'!O13","v":0},{"$f":"'２．算定報告様式(建物系)'!P13","v":0},{"$f":"'２．算定報告様式(建物系)'!Q13","v":0},{"$f":"'２．算定報告様式(建物系)'!R13","v":0},{"$f":"'２．算定報告様式(建物系)'!S13","v":0},{"$f":"'２．算定報告様式(建物系)'!T13","v":0},{"$f":"'２．算定報告様式(建物系)'!U13","v":0},{"$f":"'２．算定報告様式(建物系)'!V13","v":0},{"$f":"'２．算定報告様式(建物系)'!W13","v":0},{"$f":"'２．算定報告様式(建物系)'!X13","v":0},{"$f":"'２．算定報告様式(建物系)'!Y13","v":0},{"$f":"'２．算定報告様式(建物系)'!Z13","v":0},{"$f":"'２．算定報告様式(建物系)'!AA13","v":0},{"$f":"'２．算定報告様式(建物系)'!AB13","v":0},{"$f":"'２．算定報告様式(建物系)'!AC13","v":0},{"$f":"'２．算定報告様式(建物系)'!AD13","v":0},{"$f":"'２．算定報告様式(建物系)'!AE13","v":0},{"$f":"'２．算定報告様式(建物系)'!AF13","v":0},{"$f":"'２．算定報告様式(建物系)'!AG13","v":0},{"$f":"'２．算定報告様式(建物系)'!AH13","v":0},null,null,null,null,null,null,null,null,null,null,null,null,null,null,null,null,null,null,null,null,null,null,null,null,null,null,null,0,0,0,0,0,0,0,0,0,0,0,0,0,0,0,0,0,0,0,0,0,0,0,1000,"ｋL",0,0,0,0,0,0,0,0,0,0,0,0,0,0,0,0,0,0,0,0,0,0,0,0,0,0,0,0,0,0,0,0,0,0,0,0,0,0,0,0,0,0,0,0,0,0,0,0,0,0,0,0,0,0,0,0,0,0,0,0,0,0,0,0,0,0,0,0,0,0,0,0,0,0,0,0,0,0,0,0,0,0,0,0,0,0,0,0,0,0,0,0,41.9,"GJ/kL",1.95E-2,"t-C/GJ",null,"GJ",1]
[null,null,null,"石油アスファルト",null,null,{"$f":"'２．算定報告様式(建物系)'!G14","v":"kg"},{"$f":"'２．算定報告様式(建物系)'!H14","v":0},{"$f":"'２．算定報告様式(建物系)'!I14","v":0},{"$f":"'２．算定報告様式(建物系)'!J14","v":0},{"$f":"'２．算定報告様式(建物系)'!K14","v":0},{"$f":"'２．算定報告様式(建物系)'!L14","v":0},{"$f":"'２．算定報告様式(建物系)'!M14","v":0},{"$f":"'２．算定報告様式(建物系)'!N14","v":0},{"$f":"'２．算定報告様式(建物系)'!O14","v":0},{"$f":"'２．算定報告様式(建物系)'!P14","v":0},{"$f":"'２．算定報告様式(建物系)'!Q14","v":0},{"$f":"'２．算定報告様式(建物系)'!R14","v":0},{"$f":"'２．算定報告様式(建物系)'!S14","v":0},{"$f":"'２．算定報告様式(建物系)'!T14","v":0},{"$f":"'２．算定報告様式(建物系)'!U14","v":0},{"$f":"'２．算定報告様式(建物系)'!V14","v":0},{"$f":"'２．算定報告様式(建物系)'!W14","v":0},{"$f":"'２．算定報告様式(建物系)'!X14","v":0},{"$f":"'２．算定報告様式(建物系)'!Y14","v":0},{"$f":"'２．算定報告様式(建物系)'!Z14","v":0},{"$f":"'２．算定報告様式(建物系)'!AA14","v":0},{"$f":"'２．算定報告様式(建物系)'!AB14","v":0},{"$f":"'２．算定報告様式(建物系)'!AC14","v":0},{"$f":"'２．算定報告様式(建物系)'!AD14","v":0},{"$f":"'２．算定報告様式(建物系)'!AE14","v":0},{"$f":"'２．算定報告様式(建物系)'!AF14","v":0},{"$f":"'２．算定報告様式(建物系)'!AG14","v":0},{"$f":"'２．算定報告様式(建物系)'!AH14","v":0},null,null,null,null,null,null,null,null,null,null,null,null,null,null,null,null,null,null,null,null,null,null,null,null,null,null,null,0,0,0,0,0,0,0,0,0,0,0,0,0,0,0,0,0,0,0,0,0,0,0,1000,"ｔ",0,0,0,0,0,0,0,0,0,0,{"$f":"ROUND(H24_控除後使用量/単位補正,0)","v":0},0,0,0,0,0,0,0,0,0,0,0,0,0,0,0,0,0,0,0,0,0,0,0,0,0,0,0,0,0,0,0,0,0,0,0,0,0,0,0,0,0,0,0,0,0,0,0,0,0,0,0,0,0,0,0,0,0,0,0,0,0,0,0,0,0,0,0,0,0,0,0,0,0,0,0,0,0,0,0,0,0,40.9,"GJ/t",2.0799999999999999E-2,"t-C/GJ",null,"m3",1000]
[null,null,null,"石油コークス",null,null,{"$f":"'２．算定報告様式(建物系)'!G15","v":"kg"},{"$f":"'２．算定報告様式(建物系)'!H15","v":0},{"$f":"'２．算定報告様式(建物系)'!I15","v":0},{"$f":"'２．算定報告様式(建物系)'!J15","v":0},{"$f":"'２．算定報告様式(建物系)'!K15","v":0},{"$f":"'２．算定報告様式(建物系)'!L15","v":0},{"$f":"'２．算定報告様式(建物系)'!M15","v":0},{"$f":"'２．算定報告様式(建物系)'!N15","v":0},{"$f":"'２．算定報告様式(建物系)'!O15","v":0},{"$f":"'２．算定報告様式(建物系)'!P15","v":0},{"$f":"'２．算定報告様式(建物系)'!Q15","v":0},{"$f":"'２．算定報告様式(建物系)'!R15","v":0},{"$f":"'２．算定報告様式(建物系)'!S15","v":0},{"$f":"'２．算定報告様式(建物系)'!T15","v":0},{"$f":"'２．算定報告様式(建物系)'!U15","v":0},{"$f":"'２．算定報告様式(建物系)'!V15","v":0},{"$f":"'２．算定報告様式(建物系)'!W15","v":0},{"$f":"'２．算定報告様式(建物系)'!X15","v":0},{"$f":"'２．算定報告様式(建物系)'!Y15","v":0},{"$f":"'２．算定報告様式(建物系)'!Z15","v":0},{"$f":"'２．算定報告様式(建物系)'!AA15","v":0},{"$f":"'２．算定報告様式(建物系)'!AB15","v":0},{"$f":"'２．算定報告様式(建物系)'!AC15","v":0},{"$f":"'２．算定報告様式(建物系)'!AD15","v":0},{"$f":"'２．算定報告様式(建物系)'!AE15","v":0},{"$f":"'２．算定報告様式(建物系)'!AF15","v":0},{"$f":"'２．算定報告様式(建物系)'!AG15","v":0},{"$f":"'２．算定報告様式(建物系)'!AH15","v":0},null,null,null,null,null,null,null,null,null,null,null,null,null,null,null,null,null,null,null,null,null,null,null,null,null,null,null,0,0,0,0,0,0,0,0,0,0,0,0,0,0,0,0,0,0,0,0,0,0,0,1000,"ｔ",0,0,0,0,0,0,0,0,0,0,0,0,0,0,0,0,0,0,0,0,0,0,0,0,0,0,0,0,0,0,0,0,0,0,0,0,0,0,0,0,0,0,0,0,0,0,0,0,0,0,0,0,0,0,0,0,0,0,0,0,0,0,0,0,0,0,0,0,0,0,0,0,0,0,0,0,0,0,0,0,0,0,0,0,0,0,0,0,0,0,0,0,29.9,"GJ/t",2.5399999999999999E-2,"t-C/GJ",null,"千m3",1]
[null,null,null,"石油ガス","液化石油ガス（ＬＰＧ）",null,{"$f":"'２．算定報告様式(建物系)'!G16","v":"t"},{"$f":"'２．算定報告様式(建物系)'!H16","v":0},{"$f":"'２．算定報告様式(建物系)'!I16","v":0},{"$f":"'２．算定報告様式(建物系)'!J16","v":0},{"$f":"'２．算定報告様式(建物系)'!K16","v":0},{"$f":"'２．算定報告様式(建物系)'!L16","v":0},{"$f":"'２．算定報告様式(建物系)'!M16","v":0},{"$f":"'２．算定報告様式(建物系)'!N16","v":0},{"$f":"'２．算定報告様式(建物系)'!O16","v":0},{"$f":"'２．算定報告様式(建物系)'!P16","v":0},{"$f":"'２．算定報告様式(建物系)'!Q16","v":0},{"$f":"'２．算定報告様式(建物系)'!R16","v":0},{"$f":"'２．算定報告様式(建物系)'!S16","v":0},{"$f":"'２．算定報告様式(建物系)'!T16","v":0},{"$f":"'２．算定報告様式(建物系)'!U16","v":0},{"$f":"'２．算定報告様式(建物系)'!V16","v":0},{"$f":"'２．算定報告様式(建物系)'!W16","v":0},{"$f":"'２．算定報告様式(建物系)'!X16","v":0},{"$f":"'２．算定報告様式(建物系)'!Y16","v":0},{"$f":"'２．算定報告様式(建物系)'!Z16","v":0},{"$f":"'２．算定報告様式(建物系)'!AA16","v":0},{"$f":"'２．算定報告様式(建物系)'!AB16","v":0},{"$f":"'２．算定報告様式(建物系)'!AC16","v":0},{"$f":"'２．算定報告様式(建物系)'!AD16","v":0},{"$f":"'２．算定報告様式(建物系)'!AE16","v":0},{"$f":"'２．算定報告様式(建物系)'!AF16","v":0},{"$f":"'２．算定報告様式(建物系)'!AG16","v":0},{"$f":"'２．算定報告様式(建物系)'!AH16","v":0},null,null,null,null,null,null,null,null,null,null,null,null,null,null,null,null,null,null,null,null,null,null,null,null,null,null,null,0,0,0,0,0,0,0,0,0,0,0,0,0,0,0,0,0,0,0,0,0,0,0,1,"ｔ",0,0,0,0,0,0,0,0,0,0,0,0,0,0,0,0,0,0,0,0,0,0,0,0,0,0,0,0,0,0,0,0,0,0,0,0,0,0,0,0,0,0,0,0,0,0,0,0,0,0,0,0,0,0,0,0,0,0,0,0,0,0,0,0,0,0,0,0,0,0,0,0,0,0,0,0,0,0,0,0,0,0,0,0,0,0,0,0,0,0,0,0,50.8,"GJ/t",1.61E-2,"t-C/GJ",null,"kWh",1000]
[null,null,null,null,"石油系炭化水素ガス",null,{"$f":"'２．算定報告様式(建物系)'!G17","v":"Nm3"},{"$f":"'２．算定報告様式(建物系)'!H17","v":0},{"$f":"'２．算定報告様式(建物系)'!I17","v":0},{"$f":"'２．算定報告様式(建物系)'!J17","v":0},{"$f":"'２．算定報告様式(建物系)'!K17","v":0},{"$f":"'２．算定報告様式(建物系)'!L17","v":0},{"$f":"'２．算定報告様式(建物系)'!M17","v":0},{"$f":"'２．算定報告様式(建物系)'!N17","v":0},{"$f":"'２．算定報告様式(建物系)'!O17","v":0},{"$f":"'２．算定報告様式(建物系)'!P17","v":0},{"$f":"'２．算定報告様式(建物系)'!Q17","v":0},{"$f":"'２．算定報告様式(建物系)'!R17","v":0},{"$f":"'２．算定報告様式(建物系)'!S17","v":0},{"$f":"'２．算定報告様式(建物系)'!T17","v":0},{"$f":"'２．算定報告様式(建物系)'!U17","v":0},{"$f":"'２．算定報告様式(建物系)'!V17","v":0},{"$f":"'２．算定報告様式(建物系)'!W17","v":0},{"$f":"'２．算定報告様式(建物系)'!X17","v":0},{"$f":"'２．算定報告様式(建物系)'!Y17","v":0},{"$f":"'２．算定報告様式(建物系)'!Z17","v":0},{"$f":"'２．算定報告様式(建物系)'!AA17","v":0},{"$f":"'２．算定報告様式(建物系)'!AB17","v":0},{"$f":"'２．算定報告様式(建物系)'!AC17","v":0},{"$f":"'２．算定報告様式(建物系)'!AD17","v":0},{"$f":"'２．算定報告様式(建物系)'!AE17","v":0},{"$f":"'２．算定報告様式(建物系)'!AF17","v":0},{"$f":"'２．算定報告様式(建物系)'!AG17","v":0},{"$f":"'２．算定報告様式(建物系)'!AH17","v":0},null,null,null,null,null,null,null,null,null,null,null,null,null,null,null,null,null,null,null,null,null,null,null,null,null,null,null,0,0,0,0,0,0,0,0,0,0,0,0,0,0,0,0,0,0,0,0,0,0,0,1000,"千N㎥",0,0,0,0,{"$f":"ROUND(H18_控除後使用量/単位補正,0)","v":0},0,0,0,0,0,0,0,0,0,0,0,0,0,0,0,0,0,0,0,0,0,0,0,0,0,0,0,0,0,0,0,0,0,0,0,0,0,0,0,0,0,0,0,0,0,0,0,0,0,0,0,0,0,0,0,0,0,0,0,0,0,0,0,0,0,0,0,0,0,0,0,0,0,0,0,0,0,0,0,0,0,0,0,0,0,0,0,44.9,"GJ\n/千Nｍ3",1.4200000000000001E-2,"t-C/GJ",null,"千kWh",1]
[null,null,null,"可燃性\n天然ガス","液化天然ガス（LNG)",null,{"$f":"'２．算定報告様式(建物系)'!G18","v":"kg"},{"$f":"'２．算定報告様式(建物系)'!H18","v":0},{"$f":"'２．算定報告様式(建物系)'!I18","v":0},{"$f":"'２．算定報告様式(建物系)'!J18","v":0},{"$f":"'２．算定報告様式(建物系)'!K18","v":0},{"$f":"'２．算定報告様式(建物系)'!L18","v":0},{"$f":"'２．算定報告様式(建物系)'!M18","v":0},{"$f":"'２．算定報告様式(建物系)'!N18","v":0},{"$f":"'２．算定報告様式(建物系)'!O18","v":0},{"$f":"'２．算定報告様式(建物系)'!P18","v":0},{"$f":"'２．算定報告様式(建物系)'!Q18","v":0},{"$f":"'２．算定報告様式(建物系)'!R18","v":0},{"$f":"'２．算定報告様式(建物系)'!S18","v":0},{"$f":"'２．算定報告様式(建物系)'!T18","v":0},{"$f":"'２．算定報告様式(建物系)'!U18","v":0},{"$f":"'２．算定報告様式(建物系)'!V18","v":0},{"$f":"'２．算定報告様式(建物系)'!W18","v":0},{"$f":"'２．算定報告様式(建物系)'!X18","v":0},{"$f":"'２．算定報告様式(建物系)'!Y18","v":0},{"$f":"'２．算定報告様式(建物系)'!Z18","v":0},{"$f":"'２．算定報告様式(建物系)'!AA18","v":0},{"$f":"'２．算定報告様式(建物系)'!AB18","v":0},{"$f":"'２．算定報告様式(建物系)'!AC18","v":0},{"$f":"'２．算定報告様式(建物系)'!AD18","v":0},{"$f":"'２．算定報告様式(建物系)'!AE18","v":0},{"$f":"'２．算定報告様式(建物系)'!AF18","v":0},{"$f":"'２．算定報告様式(建物系)'!AG18","v":0},{"$f":"'２．算定報告様式(建物系)'!AH18","v":0},null,null,null,null,null,null,null,null,null,null,null,null,null,null,null,null,null,null,null,null,null,null,null,null,null,null,null,0,0,0,0,0,0,0,0,0,0,0,0,0,0,0,0,0,0,0,0,0,0,0,1000,"ｔ",0,0,0,0,0,0,0,0,0,0,0,0,0,0,0,0,0,0,0,0,0,0,0,0,0,0,0,0,0,0,0,0,0,0,0,0,0,0,0,0,0,0,0,0,0,0,0,0,0,0,0,0,0,0,0,0,0,0,0,0,0,0,0,0,0,0,0,0,0,0,0,0,0,0,0,0,0,0,0,0,0,0,0,0,0,0,0,0,0,0,0,0,54.6,"GJ/t",1.35E-2,"t-C/GJ"]
[null,null,null,null,"その他可燃性天然ガス",null,{"$f":"'２．算定報告様式(建物系)'!G19","v":"t"},{"$f":"'２．算定報告様式(建物系)'!H19","v":0},{"$f":"'２．算定報告様式(建物系)'!I19","v":0},{"$f":"'２．算定報告様式(建物系)'!J19","v":0},{"$f":"'２．算定報告様式(建物系)'!K19","v":0},{"$f":"'２．算定報告様式(建物系)'!L19","v":0},{"$f":"'２．算定報告様式(建物系)'!M19","v":0},{"$f":"'２．算定報告様式(建物系)'!N19","v":0},{"$f":"'２．算定報告様式(建物系)'!O19","v":0},{"$f":"'２．算定報告様式(建物系)'!P19","v":0},{"$f":"'２．算定報告様式(建物系)'!Q19","v":0},{"$f":"'２．算定報告様式(建物系)'!R19","v":0},{"$f":"'２．算定報告様式(建物系)'!S19","v":0},{"$f":"'２．算定報告様式(建物系)'!T19","v":0},{"$f":"'２．算定報告様式(建物系)'!U19","v":0},{"$f":"'２．算定報告様式(建物系)'!V19","v":0},{"$f":"'２．算定報告様式(建物系)'!W19","v":0},{"$f":"'２．算定報告様式(建物系)'!X19","v":0},{"$f":"'２．算定報告様式(建物系)'!Y19","v":0},{"$f":"'２．算定報告様式(建物系)'!Z19","v":0},{"$f":"'２．算定報告様式(建物系)'!AA19","v":0},{"$f":"'２．算定報告様式(建物系)'!AB19","v":0},{"$f":"'２．算定報告様式(建物系)'!AC19","v":0},{"$f":"'２．算定報告様式(建物系)'!AD19","v":0},{"$f":"'２．算定報告様式(建物系)'!AE19","v":0},{"$f":"'２．算定報告様式(建物系)'!AF19","v":0},{"$f":"'２．算定報告様式(建物系)'!AG19","v":0},{"$f":"'２．算定報告様式(建物系)'!AH19","v":0},null,null,null,null,null,null,null,null,null,null,null,null,null,null,null,null,null,null,null,null,null,null,null,null,null,null,null,0,0,0,0,0,0,0,0,0,0,0,0,0,0,0,0,0,0,0,0,0,0,0,1,"千N㎥",0,0,0,0,0,0,0,0,0,0,0,0,0,0,0,0,0,0,0,0,0,0,0,0,0,0,0,0,0,0,0,0,0,0,0,0,0,0,0,0,0,0,0,0,0,0,0,0,0,0,0,0,0,0,0,0,0,0,0,0,0,0,0,0,0,0,0,0,0,0,0,0,0,0,0,0,0,0,0,0,0,0,0,0,0,0,0,0,0,0,0,0,43.5,"GJ\n/千Nｍ3",1.3899999999999999E-2,"t-C/GJ",null,null,2.58E-2,"ｋL/GJ"]
[null,null,null,"石炭","原料炭",null,{"$f":"'２．算定報告様式(建物系)'!G20","v":"kg"},{"$f":"'２．算定報告様式(建物系)'!H20","v":0},{"$f":"'２．算定報告様式(建物系)'!I20","v":0},{"$f":"'２．算定報告様式(建物系)'!J20","v":0},{"$f":"'２．算定報告様式(建物系)'!K20","v":0},{"$f":"'２．算定報告様式(建物系)'!L20","v":0},{"$f":"'２．算定報告様式(建物系)'!M20","v":0},{"$f":"'２．算定報告様式(建物系)'!N20","v":0},{"$f":"'２．算定報告様式(建物系)'!O20","v":0},{"$f":"'２．算定報告様式(建物系)'!P20","v":0},{"$f":"'２．算定報告様式(建物系)'!Q20","v":0},{"$f":"'２．算定報告様式(建物系)'!R20","v":0},{"$f":"'２．算定報告様式(建物系)'!S20","v":0},{"$f":"'２．算定報告様式(建物系)'!T20","v":0},{"$f":"'２．算定報告様式(建物系)'!U20","v":0},{"$f":"'２．算定報告様式(建物系)'!V20","v":0},{"$f":"'２．算定報告様式(建物系)'!W20","v":0},{"$f":"'２．算定報告様式(建物系)'!X20","v":0},{"$f":"'２．算定報告様式(建物系)'!Y20","v":0},{"$f":"'２．算定報告様式(建物系)'!Z20","v":0},{"$f":"'２．算定報告様式(建物系)'!AA20","v":0},{"$f":"'２．算定報告様式(建物系)'!AB20","v":0},{"$f":"'２．算定報告様式(建物系)'!AC20","v":0},{"$f":"'２．算定報告様式(建物系)'!AD20","v":0},{"$f":"'２．算定報告様式(建物系)'!AE20","v":0},{"$f":"'２．算定報告様式(建物系)'!AF20","v":0},{"$f":"'２．算定報告様式(建物系)'!AG20","v":0},{"$f":"'２．算定報告様式(建物系)'!AH20","v":0},null,null,null,null,null,null,null,null,null,null,null,null,null,null,null,null,null,null,null,null,null,null,null,null,null,null,null,0,0,0,0,0,0,0,0,0,0,0,0,0,0,0,0,0,0,0,0,0,0,0,1000,"ｔ",0,0,0,0,0,0,0,0,0,0,0,0,0,0,0,0,0,0,0,0,0,0,0,0,0,0,0,0,0,0,0,0,0,0,0,0,0,0,0,0,0,0,0,0,0,0,0,0,0,0,0,0,0,0,0,0,0,0,0,0,0,0,0,0,0,0,0,0,0,0,0,0,0,0,0,0,0,0,0,0,0,0,0,0,0,0,0,0,0,0,0,0,29,"GJ/t",2.4500000000000001E-2,"t-C/GJ"]
[null,null,null,null,"一般炭",null,{"$f":"'２．算定報告様式(建物系)'!G21","v":"kg"},{"$f":"'２．算定報告様式(建物系)'!H21","v":0},{"$f":"'２．算定報告様式(建物系)'!I21","v":0},{"$f":"'２．算定報告様式(建物系)'!J21","v":0},{"$f":"'２．算定報告様式(建物系)'!K21","v":0},{"$f":"'２．算定報告様式(建物系)'!L21","v":0},{"$f":"'２．算定報告様式(建物系)'!M21","v":0},{"$f":"'２．算定報告様式(建物系)'!N21","v":0},{"$f":"'２．算定報告様式(建物系)'!O21","v":0},{"$f":"'２．算定報告様式(建物系)'!P21","v":0},{"$f":"'２．算定報告様式(建物系)'!Q21","v":0},{"$f":"'２．算定報告様式(建物系)'!R21","v":0},{"$f":"'２．算定報告様式(建物系)'!S21","v":0},{"$f":"'２．算定報告様式(建物系)'!T21","v":0},{"$f":"'２．算定報告様式(建物系)'!U21","v":0},{"$f":"'２．算定報告様式(建物系)'!V21","v":0},{"$f":"'２．算定報告様式(建物系)'!W21","v":0},{"$f":"'２．算定報告様式(建物系)'!X21","v":0},{"$f":"'２．算定報告様式(建物系)'!Y21","v":0},{"$f":"'２．算定報告様式(建物系)'!Z21","v":0},{"$f":"'２．算定報告様式(建物系)'!AA21","v":0},{"$f":"'２．算定報告様式(建物系)'!AB21","v":0},{"$f":"'２．算定報告様式(建物系)'!AC21","v":0},{"$f":"'２．算定報告様式(建物系)'!AD21","v":0},{"$f":"'２．算定報告様式(建物系)'!AE21","v":0},{"$f":"'２．算定報告様式(建物系)'!AF21","v":0},{"$f":"'２．算定報告様式(建物系)'!AG21","v":0},{"$f":"'２．算定報告様式(建物系)'!AH21","v":0},null,null,null,null,null,null,null,null,null,null,null,null,null,null,null,null,null,null,null,null,null,null,null,null,null,null,null,0,0,0,0,0,0,0,0,0,0,0,0,0,0,0,0,0,0,0,0,0,0,0,1000,"ｔ",0,0,0,0,0,0,0,0,0,0,0,0,0,0,0,0,0,0,0,0,0,0,0,0,0,0,0,0,0,0,0,0,0,0,0,0,0,0,{"$f":"CX21*$FW21","v":0},0,0,0,0,0,0,0,0,0,0,0,0,0,0,0,0,0,0,0,0,0,0,{"$f":"DU21*$GC$19","v":0},0,0,0,0,0,0,0,0,0,0,0,0,0,0,0,0,0,0,0,0,0,0,{"$f":"DU21*$FY21*44/12","v":0},0,0,0,0,0,0,0,25.7,"GJ/t",2.47E-2,"t-C/GJ"]
[null,null,null,null,"無煙炭",null,{"$f":"'２．算定報告様式(建物系)'!G22","v":"kg"},{"$f":"'２．算定報告様式(建物系)'!H22","v":0},{"$f":"'２．算定報告様式(建物系)'!I22","v":0},{"$f":"'２．算定報告様式(建物系)'!J22","v":0},{"$f":"'２．算定報告様式(建物系)'!K22","v":0},{"$f":"'２．算定報告様式(建物系)'!L22","v":0},{"$f":"'２．算定報告様式(建物系)'!M22","v":0},{"$f":"'２．算定報告様式(建物系)'!N22","v":0},{"$f":"'２．算定報告様式(建物系)'!O22","v":0},{"$f":"'２．算定報告様式(建物系)'!P22","v":0},{"$f":"'２．算定報告様式(建物系)'!Q22","v":0},{"$f":"'２．算定報告様式(建物系)'!R22","v":0},{"$f":"'２．算定報告様式(建物系)'!S22","v":0},{"$f":"'２．算定報告様式(建物系)'!T22","v":0},{"$f":"'２．算定報告様式(建物系)'!U22","v":0},{"$f":"'２．算定報告様式(建物系)'!V22","v":0},{"$f":"'２．算定報告様式(建物系)'!W22","v":0},{"$f":"'２．算定報告様式(建物系)'!X22","v":0},{"$f":"'２．算定報告様式(建物系)'!Y22","v":0},{"$f":"'２．算定報告様式(建物系)'!Z22","v":0},{"$f":"'２．算定報告様式(建物系)'!AA22","v":0},{"$f":"'２．算定報告様式(建物系)'!AB22","v":0},{"$f":"'２．算定報告様式(建物系)'!AC22","v":0},{"$f":"'２．算定報告様式(建物系)'!AD22","v":0},{"$f":"'２．算定報告様式(建物系)'!AE22","v":0},{"$f":"'２．算定報告様式(建物系)'!AF22","v":0},{"$f":"'２．算定報告様式(建物系)'!AG22","v":0},{"$f":"'２．算定報告様式(建物系)'!AH22","v":0},null,null,null,null,null,null,null,null,null,null,null,null,null,null,null,null,null,null,null,null,null,null,null,null,null,null,null,0,0,0,0,0,0,0,0,0,0,0,0,0,0,0,0,0,0,0,0,0,0,0,1000,"ｔ",0,0,0,0,0,0,0,0,0,0,0,0,0,0,0,0,0,0,0,0,0,0,0,{"$f":"CI22*$FW22","v":0},0,0,0,0,0,0,0,0,0,0,0,0,0,0,0,0,0,0,0,0,0,0,{"$f":"DF22*$GC$19","v":0},0,0,0,0,0,0,0,0,0,0,0,0,0,0,0,0,0,0,0,0,0,0,{"$f":"DF22*$FY22*44/12","v":0},0,0,0,0,0,0,0,0,0,0,0,0,0,0,0,0,0,0,0,0,0,0,26.9,"GJ/t",2.5499999999999998E-2,"t-C/GJ"]
[null,null,null,"石炭コークス",null,null,{"$f":"'２．算定報告様式(建物系)'!G23","v":"kg"},{"$f":"'２．算定報告様式(建物系)'!H23","v":0},{"$f":"'２．算定報告様式(建物系)'!I23","v":0},{"$f":"'２．算定報告様式(建物系)'!J23","v":0},{"$f":"'２．算定報告様式(建物系)'!K23","v":0},{"$f":"'２．算定報告様式(建物系)'!L23","v":0},{"$f":"'２．算定報告様式(建物系)'!M23","v":0},{"$f":"'２．算定報告様式(建物系)'!N23","v":0},{"$f":"'２．算定報告様式(建物系)'!O23","v":0},{"$f":"'２．算定報告様式(建物系)'!P23","v":0},{"$f":"'２．算定報告様式(建物系)'!Q23","v":0},{"$f":"'２．算定報告様式(建物系)'!R23","v":0},{"$f":"'２．算定報告様式(建物系)'!S23","v":0},{"$f":"'２．算定報告様式(建物系)'!T23","v":0},{"$f":"'２．算定報告様式(建物系)'!U23","v":0},{"$f":"'２．算定報告様式(建物系)'!V23","v":0},{"$f":"'２．算定報告様式(建物系)'!W23","v":0},{"$f":"'２．算定報告様式(建物系)'!X23","v":0},{"$f":"'２．算定報告様式(建物系)'!Y23","v":0},{"$f":"'２．算定報告様式(建物系)'!Z23","v":0},{"$f":"'２．算定報告様式(建物系)'!AA23","v":0},{"$f":"'２．算定報告様式(建物系)'!AB23","v":0},{"$f":"'２．算定報告様式(建物系)'!AC23","v":0},{"$f":"'２．算定報告様式(建物系)'!AD23","v":0},{"$f":"'２．算定報告様式(建物系)'!AE23","v":0},{"$f":"'２．算定報告様式(建物系)'!AF23","v":0},{"$f":"'２．算定報告様式(建物系)'!AG23","v":0},{"$f":"'２．算定報告様式(建物系)'!AH23","v":0},null,null,null,null,null,null,null,null,null,null,null,null,null,null,null,null,null,null,null,null,null,null,null,null,null,null,null,0,0,0,0,0,0,0,0,0,0,0,0,0,0,0,0,0,0,0,0,0,0,0,1000,"ｔ",0,0,0,0,0,0,0,0,0,0,0,0,0,0,0,0,0,0,0,0,0,0,0,0,0,0,0,0,0,0,0,0,0,0,0,0,0,0,0,0,0,0,0,0,0,0,0,0,0,0,0,0,0,0,0,0,0,0,0,0,0,0,0,0,0,0,0,0,0,0,0,0,0,0,0,0,0,0,0,0,0,0,0,0,0,0,0,0,0,0,0,0,29.4,"GJ/t",2.9399999999999999E-2,"t-C/GJ"]
[null,null,null,"コールタール",null,null,{"$f":"'２．算定報告様式(建物系)'!G24","v":"kg"},{"$f":"'２．算定報告様式(建物系)'!H24","v":0},{"$f":"'２．算定報告様式(建物系)'!I24","v":0},{"$f":"'２．算定報告様式(建物系)'!J24","v":0},{"$f":"'２．算定報告様式(建物系)'!K24","v":0},{"$f":"'２．算定報告様式(建物系)'!L24","v":0},{"$f":"'２．算定報告様式(建物系)'!M24","v":0},{"$f":"'２．算定報告様式(建物系)'!N24","v":0},{"$f":"'２．算定報告様式(建物系)'!O24","v":0},{"$f":"'２．算定報告様式(建物系)'!P24","v":0},{"$f":"'２．算定報告様式(建物系)'!Q24","v":0},{"$f":"'２．算定報告様式(建物系)'!R24","v":0},{"$f":"'２．算定報告様式(建物系)'!S24","v":0},{"$f":"'２．算定報告様式(建物系)'!T24","v":0},{"$f":"'２．算定報告様式(建物系)'!U24","v":0},{"$f":"'２．算定報告様式(建物系)'!V24","v":0},{"$f":"'２．算定報告様式(建物系)'!W24","v":0},{"$f":"'２．算定報告様式(建物系)'!X24","v":0},{"$f":"'２．算定報告様式(建物系)'!Y24","v":0},{"$f":"'２．算定報告様式(建物系)'!Z24","v":0},{"$f":"'２．算定報告様式(建物系)'!AA24","v":0},{"$f":"'２．算定報告様式(建物系)'!AB24","v":0},{"$f":"'２．算定報告様式(建物系)'!AC24","v":0},{"$f":"'２．算定報告様式(建物系)'!AD24","v":0},{"$f":"'２．算定報告様式(建物系)'!AE24","v":0},{"$f":"'２．算定報告様式(建物系)'!AF24","v":0},{"$f":"'２．算定報告様式(建物系)'!AG24","v":0},{"$f":"'２．算定報告様式(建物系)'!AH24","v":0},null,null,null,null,null,null,null,null,null,null,null,null,null,null,null,null,null,null,null,null,null,null,null,null,null,null,null,0,0,0,0,0,0,0,0,0,0,0,0,0,0,0,0,0,0,0,0,0,0,0,1000,"ｔ",0,0,0,0,0,0,0,0,0,0,0,0,0,0,0,0,0,0,0,0,0,0,0,0,0,0,0,0,0,0,0,0,0,0,0,0,0,0,0,0,0,0,0,0,0,0,0,0,0,0,0,0,0,0,0,0,0,0,0,0,0,0,0,0,0,0,0,0,0,0,0,0,0,0,0,0,0,0,0,0,0,0,0,0,0,0,0,0,0,0,0,0,37.299999999999997,"GJ/t",2.0899999999999998E-2,"t-C/GJ"]
[null,null,null,"コークス炉ガス",null,null,{"$f":"'２．算定報告様式(建物系)'!G25","v":"千Nｍ3"},{"$f":"'２．算定報告様式(建物系)'!H25","v":0},{"$f":"'２．算定報告様式(建物系)'!I25","v":0},{"$f":"'２．算定報告様式(建物系)'!J25","v":0},{"$f":"'２．算定報告様式(建物系)'!K25","v":0},{"$f":"'２．算定報告様式(建物系)'!L25","v":0},{"$f":"'２．算定報告様式(建物系)'!M25","v":0},{"$f":"'２．算定報告様式(建物系)'!N25","v":0},{"$f":"'２．算定報告様式(建物系)'!O25","v":0},{"$f":"'２．算定報告様式(建物系)'!P25","v":0},{"$f":"'２．算定報告様式(建物系)'!Q25","v":0},{"$f":"'２．算定報告様式(建物系)'!R25","v":0},{"$f":"'２．算定報告様式(建物系)'!S25","v":0},{"$f":"'２．算定報告様式(建物系)'!T25","v":0},{"$f":"'２．算定報告様式(建物系)'!U25","v":0},{"$f":"'２．算定報告様式(建物系)'!V25","v":0},{"$f":"'２．算定報告様式(建物系)'!W25","v":0},{"$f":"'２．算定報告様式(建物系)'!X25","v":0},{"$f":"'２．算定報告様式(建物系)'!Y25","v":0},{"$f":"'２．算定報告様式(建物系)'!Z25","v":0},{"$f":"'２．算定報告様式(建物系)'!AA25","v":0},{"$f":"'２．算定報告様式(建物系)'!AB25","v":0},{"$f":"'２．算定報告様式(建物系)'!AC25","v":0},{"$f":"'２．算定報告様式(建物系)'!AD25","v":0},{"$f":"'２．算定報告様式(建物系)'!AE25","v":0},{"$f":"'２．算定報告様式(建物系)'!AF25","v":0},{"$f":"'２．算定報告様式(建物系)'!AG25","v":0},{"$f":"'２．算定報告様式(建物系)'!AH25","v":0},null,null,null,null,null,null,null,null,null,null,null,null,null,null,null,null,null,null,null,null,null,null,null,null,null,null,null,0,0,0,0,0,0,0,0,0,0,0,0,0,0,0,0,0,0,0,0,0,0,0,1,"千N㎥",0,0,0,0,0,0,0,0,0,0,0,0,0,0,0,0,0,0,0,0,0,0,0,0,0,0,0,0,0,0,0,0,0,0,0,0,0,0,0,0,0,0,0,0,0,0,0,0,0,0,0,0,0,0,0,0,0,0,0,0,0,0,0,0,0,0,0,0,0,0,0,0,0,0,0,0,0,0,0,0,0,0,0,0,0,0,0,0,0,0,0,0,21.1,"GJ\n/千Nｍ3",1.0999999999999999E-2,"t-C/GJ"]
[null,null,null,"高炉ガス",null,null,{"$f":"'２．算定報告様式(建物系)'!G26","v":"千Nｍ3"},{"$f":"'２．算定報告様式(建物系)'!H26","v":0},{"$f":"'２．算定報告様式(建物系)'!I26","v":0},{"$f":"'２．算定報告様式(建物系)'!J26","v":0},{"$f":"'２．算定報告様式(建物系)'!K26","v":0},{"$f":"'２．算定報告様式(建物系)'!L26","v":0},{"$f":"'２．算定報告様式(建物系)'!M26","v":0},{"$f":"'２．算定報告様式(建物系)'!N26","v":0},{"$f":"'２．算定報告様式(建物系)'!O26","v":0},{"$f":"'２．算定報告様式(建物系)'!P26","v":0},{"$f":"'２．算定報告様式(建物系)'!Q26","v":0},{"$f":"'２．算定報告様式(建物系)'!R26","v":0},{"$f":"'２．算定報告様式(建物系)'!S26","v":0},{"$f":"'２．算定報告様式(建物系)'!T26","v":0},{"$f":"'２．算定報告様式(建物系)'!U26","v":0},{"$f":"'２．算定報告様式(建物系)'!V26","v":0},{"$f":"'２．算定報告様式(建物系)'!W26","v":0},{"$f":"'２．算定報告様式(建物系)'!X26","v":0},{"$f":"'２．算定報告様式(建物系)'!Y26","v":0},{"$f":"'２．算定報告様式(建物系)'!Z26","v":0},{"$f":"'２．算定報告様式(建物系)'!AA26","v":0},{"$f":"'２．算定報告様式(建物系)'!AB26","v":0},{"$f":"'２．算定報告様式(建物系)'!AC26","v":0},{"$f":"'２．算定報告様式(建物系)'!AD26","v":0},{"$f":"'２．算定報告様式(建物系)'!AE26","v":0},{"$f":"'２．算定報告様式(建物系)'!AF26","v":0},{"$f":"'２．算定報告様式(建物系)'!AG26","v":0},{"$f":"'２．算定報告様式(建物系)'!AH26","v":0},null,null,null,null,null,null,null,null,null,null,null,null,null,null,null,null,null,null,null,null,null,null,null,null,null,null,null,0,0,0,0,0,0,0,0,0,0,0,0,0,0,0,0,0,0,0,0,0,0,0,1,"千N㎥",0,0,0,0,0,0,0,0,0,0,0,0,0,0,0,0,0,0,0,0,0,0,0,0,0,0,0,0,0,0,0,0,0,0,0,0,0,0,0,0,0,0,0,0,0,0,0,0,0,0,0,0,0,0,0,0,0,0,0,0,0,0,0,0,0,0,0,0,0,0,0,0,0,0,0,0,0,0,0,0,0,0,0,0,0,0,0,0,0,0,0,0,3.41,"GJ\n/千Nｍ3",2.63E-2,"t-C/GJ"]
[null,null,null,"転炉ガス",null,null,{"$f":"'２．算定報告様式(建物系)'!G27","v":"千Nｍ3"},{"$f":"'２．算定報告様式(建物系)'!H27","v":0},{"$f":"'２．算定報告様式(建物系)'!I27","v":0},{"$f":"'２．算定報告様式(建物系)'!J27","v":0},{"$f":"'２．算定報告様式(建物系)'!K27","v":0},{"$f":"'２．算定報告様式(建物系)'!L27","v":0},{"$f":"'２．算定報告様式(建物系)'!M27","v":0},{"$f":"'２．算定報告様式(建物系)'!N27","v":0},{"$f":"'２．算定報告様式(建物系)'!O27","v":0},{"$f":"'２．算定報告様式(建物系)'!P27","v":0},{"$f":"'２．算定報告様式(建物系)'!Q27","v":0},{"$f":"'２．算定報告様式(建物系)'!R27","v":0},{"$f":"'２．算定報告様式(建物系)'!S27","v":0},{"$f":"'２．算定報告様式(建物系)'!T27","v":0},{"$f":"'２．算定報告様式(建物系)'!U27","v":0},{"$f":"'２．算定報告様式(建物系)'!V27","v":0},{"$f":"'２．算定報告様式(建物系)'!W27","v":0},{"$f":"'２．算定報告様式(建物系)'!X27","v":0},{"$f":"'２．算定報告様式(建物系)'!Y27","v":0},{"$f":"'２．算定報告様式(建物系)'!Z27","v":0},{"$f":"'２．算定報告様式(建物系)'!AA27","v":0},{"$f":"'２．算定報告様式(建物系)'!AB27","v":0},{"$f":"'２．算定報告様式(建物系)'!AC27","v":0},{"$f":"'２．算定報告様式(建物系)'!AD27","v":0},{"$f":"'２．算定報告様式(建物系)'!AE27","v":0},{"$f":"'２．算定報告様式(建物系)'!AF27","v":0},{"$f":"'２．算定報告様式(建物系)'!AG27","v":0},{"$f":"'２．算定報告様式(建物系)'!AH27","v":0},null,null,null,null,null,null,null,null,null,null,null,null,null,null,null,null,null,null,null,null,null,null,null,null,null,null,null,0,0,0,0,0,0,0,0,0,0,0,0,0,0,0,0,0,0,0,0,0,0,0,1,"千N㎥",0,0,0,0,0,0,0,0,0,0,0,0,0,0,0,0,0,0,0,0,0,0,0,0,0,0,0,0,0,0,0,0,0,0,0,0,0,0,0,0,0,0,0,0,0,0,0,0,0,0,0,0,0,0,0,0,0,0,0,0,0,0,0,0,0,0,0,0,0,0,0,0,0,0,0,0,0,0,0,0,0,0,0,0,0,0,0,0,0,0,0,0,8.41,"GJ\n/千Nｍ3",3.8399999999999997E-2,"t-C/GJ"]
[null,null,null,"その他燃料","都市ガス（※）","13A:45MJ/m3",{"$f":"'２．算定報告様式(建物系)'!G28","v":"千Nｍ3"},{"$f":"'２．算定報告様式(建物系)'!H28","v":0},{"$f":"'２．算定報告様式(建物系)'!I28","v":0},{"$f":"'２．算定報告様式(建物系)'!J28","v":0},{"$f":"'２．算定報告様式(建物系)'!K28","v":0},{"$f":"'２．算定報告様式(建物系)'!L28","v":0},{"$f":"'２．算定報告様式(建物系)'!M28","v":0},{"$f":"'２．算定報告様式(建物系)'!N28","v":0},{"$f":"'２．算定報告様式(建物系)'!O28","v":0},{"$f":"'２．算定報告様式(建物系)'!P28","v":0},{"$f":"'２．算定報告様式(建物系)'!Q28","v":0},{"$f":"'２．算定報告様式(建物系)'!R28","v":0},{"$f":"'２．算定報告様式(建物系)'!S28","v":0},{"$f":"'２．算定報告様式(建物系)'!T28","v":0},{"$f":"'２．算定報告様式(建物系)'!U28","v":0},{"$f":"'２．算定報告様式(建物系)'!V28","v":0},{"$f":"'２．算定報告様式(建物系)'!W28","v":0},{"$f":"'２．算定報告様式(建物系)'!X28","v":0},{"$f":"'２．算定報告様式(建物系)'!Y28","v":0},{"$f":"'２．算定報告様式(建物系)'!Z28","v":0},{"$f":"'２．算定報告様式(建物系)'!AA28","v":0},{"$f":"'２．算定報告様式(建物系)'!AB28","v":0},{"$f":"'２．算定報告様式(建物系)'!AC28","v":0},{"$f":"'２．算定報告様式(建物系)'!AD28","v":0},{"$f":"'２．算定報告様式(建物系)'!AE28","v":0},{"$f":"'２．算定報告様式(建物系)'!AF28","v":0},{"$f":"'２．算定報告様式(建物系)'!AG28","v":0},{"$f":"'２．算定報告様式(建物系)'!AH28","v":0},null,null,null,null,null,null,null,null,null,null,null,null,null,null,null,null,null,null,null,null,null,null,null,null,null,null,null,0,0,0,0,0,0,0,0,0,0,0,0,0,0,0,0,0,0,0,0,0,0,0,1,"千N㎥",0,0,0,0,0,0,0,0,0,0,0,0,0,0,0,0,0,0,0,0,0,0,0,0,0,0,0,0,0,0,0,0,0,0,0,0,0,0,0,0,0,0,0,0,0,0,0,0,0,0,0,0,0,0,0,0,0,0,0,0,0,0,0,0,0,0,0,0,0,0,0,0,0,0,0,0,0,0,0,0,0,0,0,0,0,0,0,0,0,0,0,0,45,"GJ\n/千Nｍ3",1.3599999999999999E-2,"t-C/GJ"]
[null,null,null,null,null,"13A:43.12MJ/m3",{"$f":"'２．算定報告様式(建物系)'!G29","v":"千Nｍ3"},{"$f":"'２．算定報告様式(建物系)'!H29","v":0},{"$f":"'２．算定報告様式(建物系)'!I29","v":0},{"$f":"'２．算定報告様式(建物系)'!J29","v":0},{"$f":"'２．算定報告様式(建物系)'!K29","v":0},{"$f":"'２．算定報告様式(建物系)'!L29","v":0},{"$f":"'２．算定報告様式(建物系)'!M29","v":0},{"$f":"'２．算定報告様式(建物系)'!N29","v":0},{"$f":"'２．算定報告様式(建物系)'!O29","v":0},{"$f":"'２．算定報告様式(建物系)'!P29","v":0},{"$f":"'２．算定報告様式(建物系)'!Q29","v":0},{"$f":"'２．算定報告様式(建物系)'!R29","v":0},{"$f":"'２．算定報告様式(建物系)'!S29","v":0},{"$f":"'２．算定報告様式(建物系)'!T29","v":0},{"$f":"'２．算定報告様式(建物系)'!U29","v":0},{"$f":"'２．算定報告様式(建物系)'!V29","v":0},{"$f":"'２．算定報告様式(建物系)'!W29","v":0},{"$f":"'２．算定報告様式(建物系)'!X29","v":0},{"$f":"'２．算定報告様式(建物系)'!Y29","v":0},{"$f":"'２．算定報告様式(建物系)'!Z29","v":0},{"$f":"'２．算定報告様式(建物系)'!AA29","v":0},{"$f":"'２．算定報告様式(建物系)'!AB29","v":0},{"$f":"'２．算定報告様式(建物系)'!AC29","v":0},{"$f":"'２．算定報告様式(建物系)'!AD29","v":0},{"$f":"'２．算定報告様式(建物系)'!AE29","v":0},{"$f":"'２．算定報告様式(建物系)'!AF29","v":0},{"$f":"'２．算定報告様式(建物系)'!AG29","v":0},{"$f":"'２．算定報告様式(建物系)'!AH29","v":0},null,null,null,null,null,null,null,null,null,null,null,null,null,null,null,null,null,null,null,null,null,null,null,null,null,null,null,0,0,0,0,0,0,0,0,0,0,0,0,0,0,0,0,0,0,0,0,0,0,0,1,"千N㎥",0,0,0,0,0,0,0,0,0,0,0,0,0,0,0,0,0,0,0,0,0,0,0,0,0,0,0,0,0,0,0,0,0,0,0,0,0,0,0,0,0,0,0,0,0,0,0,0,0,0,0,0,0,0,0,0,0,0,0,0,0,0,0,0,0,0,0,0,0,0,0,0,0,0,0,0,0,0,0,0,0,0,0,0,0,0,0,0,0,0,0,0,43.12,"GJ\n/千Nｍ3",1.3599999999999999E-2,"t-C/GJ"]
[null,null,null,null,null,"13A:46.04MJ/m3",{"$f":"'２．算定報告様式(建物系)'!G30","v":"千Nｍ3"},{"$f":"'２．算定報告様式(建物系)'!H30","v":0},{"$f":"'２．算定報告様式(建物系)'!I30","v":0},{"$f":"'２．算定報告様式(建物系)'!J30","v":0},{"$f":"'２．算定報告様式(建物系)'!K30","v":0},{"$f":"'２．算定報告様式(建物系)'!L30","v":0},{"$f":"'２．算定報告様式(建物系)'!M30","v":0},{"$f":"'２．算定報告様式(建物系)'!N30","v":0},{"$f":"'２．算定報告様式(建物系)'!O30","v":0},{"$f":"'２．算定報告様式(建物系)'!P30","v":0},{"$f":"'２．算定報告様式(建物系)'!Q30","v":0},{"$f":"'２．算定報告様式(建物系)'!R30","v":0},{"$f":"'２．算定報告様式(建物系)'!S30","v":0},{"$f":"'２．算定報告様式(建物系)'!T30","v":0},{"$f":"'２．算定報告様式(建物系)'!U30","v":0},{"$f":"'２．算定報告様式(建物系)'!V30","v":0},{"$f":"'２．算定報告様式(建物系)'!W30","v":0},{"$f":"'２．算定報告様式(建物系)'!X30","v":0},{"$f":"'２．算定報告様式(建物系)'!Y30","v":0},{"$f":"'２．算定報告様式(建物系)'!Z30","v":0},{"$f":"'２．算定報告様式(建物系)'!AA30","v":0},{"$f":"'２．算定報告様式(建物系)'!AB30","v":0},{"$f":"'２．算定報告様式(建物系)'!AC30","v":0},{"$f":"'２．算定報告様式(建物系)'!AD30","v":0},{"$f":"'２．算定報告様式(建物系)'!AE30","v":0},{"$f":"'２．算定報告様式(建物系)'!AF30","v":0},{"$f":"'２．算定報告様式(建物系)'!AG30","v":0},{"$f":"'２．算定報告様式(建物系)'!AH30","v":0},null,null,null,null,null,null,null,null,null,null,null,null,null,null,null,null,null,null,null,null,null,null,null,null,null,null,null,0,0,0,0,0,0,0,0,0,0,0,0,0,0,0,0,0,0,0,0,0,0,0,1,"千N㎥",0,0,0,0,0,0,0,0,0,0,0,0,0,0,0,0,0,0,0,0,0,0,0,0,0,0,0,0,0,0,0,0,0,0,0,0,0,0,0,0,0,0,0,0,0,0,0,0,0,0,0,0,0,0,0,0,0,0,0,0,0,0,0,0,0,0,0,0,0,0,0,0,0,0,0,0,0,0,0,0,0,0,0,0,0,0,0,0,0,0,0,0,46.04,"GJ\n/千Nｍ3",1.3599999999999999E-2,"t-C/GJ"]
[null,null,null,null,null,"12A:41.86MJ/m3",{"$f":"'２．算定報告様式(建物系)'!G31","v":"千Nｍ3"},{"$f":"'２．算定報告様式(建物系)'!H31","v":0},{"$f":"'２．算定報告様式(建物系)'!I31","v":0},{"$f":"'２．算定報告様式(建物系)'!J31","v":0},{"$f":"'２．算定報告様式(建物系)'!K31","v":0},{"$f":"'２．算定報告様式(建物系)'!L31","v":0},{"$f":"'２．算定報告様式(建物系)'!M31","v":0},{"$f":"'２．算定報告様式(建物系)'!N31","v":0},{"$f":"'２．算定報告様式(建物系)'!O31","v":0},{"$f":"'２．算定報告様式(建物系)'!P31","v":0},{"$f":"'２．算定報告様式(建物系)'!Q31","v":0},{"$f":"'２．算定報告様式(建物系)'!R31","v":0},{"$f":"'２．算定報告様式(建物系)'!S31","v":0},{"$f":"'２．算定報告様式(建物系)'!T31","v":0},{"$f":"'２．算定報告様式(建物系)'!U31","v":0},{"$f":"'２．算定報告様式(建物系)'!V31","v":0},{"$f":"'２．算定報告様式(建物系)'!W31","v":0},{"$f":"'２．算定報告様式(建物系)'!X31","v":0},{"$f":"'２．算定報告様式(建物系)'!Y31","v":0},{"$f":"'２．算定報告様式(建物系)'!Z31","v":0},{"$f":"'２．算定報告様式(建物系)'!AA31","v":0},{"$f":"'２．算定報告様式(建物系)'!AB31","v":0},{"$f":"'２．算定報告様式(建物系)'!AC31","v":0},{"$f":"'２．算定報告様式(建物系)'!AD31","v":0},{"$f":"'２．算定報告様式(建物系)'!AE31","v":0},{"$f":"'２．算定報告様式(建物系)'!AF31","v":0},{"$f":"'２．算定報告様式(建物系)'!AG31","v":0},{"$f":"'２．算定報告様式(建物系)'!AH31","v":0},null,null,null,null,null,null,null,null,null,null,null,null,null,null,null,null,null,null,null,null,null,null,null,null,null,null,null,0,0,0,0,0,0,0,0,0,0,0,0,0,0,0,0,0,0,0,0,0,0,0,1,"千N㎥",0,0,0,0,0,0,0,0,0,0,0,0,0,0,0,0,0,0,0,0,0,0,0,0,0,0,0,0,0,0,0,0,0,0,0,0,0,0,0,0,0,0,0,0,0,0,0,0,0,0,0,0,0,0,0,0,0,0,0,0,0,0,0,0,0,0,0,0,0,0,0,0,0,0,0,0,0,0,0,0,0,0,0,0,0,0,0,0,0,0,0,0,41.86,"GJ\n/千Nｍ3",1.3599999999999999E-2,"t-C/GJ"]
[null,null,null,null,null,"6A:29.30MJ/m3",{"$f":"'２．算定報告様式(建物系)'!G32","v":"千Nｍ3"},{"$f":"'２．算定報告様式(建物系)'!H32","v":0},{"$f":"'２．算定報告様式(建物系)'!I32","v":0},{"$f":"'２．算定報告様式(建物系)'!J32","v":0},{"$f":"'２．算定報告様式(建物系)'!K32","v":0},{"$f":"'２．算定報告様式(建物系)'!L32","v":0},{"$f":"'２．算定報告様式(建物系)'!M32","v":0},{"$f":"'２．算定報告様式(建物系)'!N32","v":0},{"$f":"'２．算定報告様式(建物系)'!O32","v":0},{"$f":"'２．算定報告様式(建物系)'!P32","v":0},{"$f":"'２．算定報告様式(建物系)'!Q32","v":0},{"$f":"'２．算定報告様式(建物系)'!R32","v":0},{"$f":"'２．算定報告様式(建物系)'!S32","v":0},{"$f":"'２．算定報告様式(建物系)'!T32","v":0},{"$f":"'２．算定報告様式(建物系)'!U32","v":0},{"$f":"'２．算定報告様式(建物系)'!V32","v":0},{"$f":"'２．算定報告様式(建物系)'!W32","v":0},{"$f":"'２．算定報告様式(建物系)'!X32","v":0},{"$f":"'２．算定報告様式(建物系)'!Y32","v":0},{"$f":"'２．算定報告様式(建物系)'!Z32","v":0},{"$f":"'２．算定報告様式(建物系)'!AA32","v":0},{"$f":"'２．算定報告様式(建物系)'!AB32","v":0},{"$f":"'２．算定報告様式(建物系)'!AC32","v":0},{"$f":"'２．算定報告様式(建物系)'!AD32","v":0},{"$f":"'２．算定報告様式(建物系)'!AE32","v":0},{"$f":"'２．算定報告様式(建物系)'!AF32","v":0},{"$f":"'２．算定報告様式(建物系)'!AG32","v":0},{"$f":"'２．算定報告様式(建物系)'!AH32","v":0},null,null,null,null,null,null,null,null,null,null,null,null,null,null,null,null,null,null,null,null,null,null,null,null,null,null,null,0,0,0,0,0,0,0,0,0,0,0,0,0,0,0,0,0,0,0,0,0,0,0,1,"千N㎥",0,0,0,0,0,0,0,0,0,0,0,0,0,0,0,0,0,0,0,0,0,0,0,0,0,0,0,0,0,0,0,0,0,0,0,0,0,0,0,0,0,0,0,0,0,0,0,0,0,0,0,0,0,0,0,0,0,0,0,0,0,0,0,0,0,0,0,0,0,0,0,0,0,0,0,0,0,0,0,0,0,0,0,0,0,0,0,0,0,0,0,0,29.3,"GJ\n/千Nｍ3",1.3599999999999999E-2,"t-C/GJ"]
[null,null,null,null,null,null,{"$f":"'２．算定報告様式(建物系)'!G33","v":0},{"$f":"'２．算定報告様式(建物系)'!H33","v":0},{"$f":"'２．算定報告様式(建物系)'!I33","v":0},{"$f":"'２．算定報告様式(建物系)'!J33","v":0},{"$f":"'２．算定報告様式(建物系)'!K33","v":0},{"$f":"'２．算定報告様式(建物系)'!L33","v":0},{"$f":"'２．算定報告様式(建物系)'!M33","v":0},{"$f":"'２．算定報告様式(建物系)'!N33","v":0},{"$f":"'２．算定報告様式(建物系)'!O33","v":0},{"$f":"'２．算定報告様式(建物系)'!P33","v":0},{"$f":"'２．算定報告様式(建物系)'!Q33","v":0},{"$f":"'２．算定報告様式(建物系)'!R33","v":0},{"$f":"'２．算定報告様式(建物系)'!S33","v":0},{"$f":"'２．算定報告様式(建物系)'!T33","v":0},{"$f":"'２．算定報告様式(建物系)'!U33","v":0},{"$f":"'２．算定報告様式(建物系)'!V33","v":0},{"$f":"'２．算定報告様式(建物系)'!W33","v":0},{"$f":"'２．算定報告様式(建物系)'!X33","v":0},{"$f":"'２．算定報告様式(建物系)'!Y33","v":0},{"$f":"'２．算定報告様式(建物系)'!Z33","v":0},{"$f":"'２．算定報告様式(建物系)'!AA33","v":0},{"$f":"'２．算定報告様式(建物系)'!AB33","v":0},{"$f":"'２．算定報告様式(建物系)'!AC33","v":0},{"$f":"'２．算定報告様式(建物系)'!AD33","v":0},{"$f":"'２．算定報告様式(建物系)'!AE33","v":0},{"$f":"'２．算定報告様式(建物系)'!AF33","v":0},{"$f":"'２．算定報告様式(建物系)'!AG33","v":0},{"$f":"'２．算定報告様式(建物系)'!AH33","v":0},null,null,null,null,null,null,null,null,null,null,null,null,null,null,null,null,null,null,null,null,null,null,null,null,null,null,null,0,0,0,0,0,0,0,0,0,0,0,0,0,0,0,0,0,0,0,0,0,0,0,{"$f":"IF(G33=\"\",\"-\",VLOOKUP($G33,$GB$6:$GC$15,2,FALSE))","v":{"$error":"#N/A"}},null,{"$f":"ROUND(IF($E$33=\"\",0,IF($G$33=\"\",0,H14_控除後使用量/単位補正)),0)","v":0},{"$f":"ROUND(IF($E$33=\"\",0,IF($G$33=\"\",0,H15_控除後使用量/単位補正)),0)","v":0},{"$f":"ROUND(IF($E$33=\"\",0,IF($G$33=\"\",0,H16_控除後使用量/単位補正)),0)","v":0},{"$f":"ROUND(IF($E$33=\"\",0,IF($G$33=\"\",0,H17_控除後使用量/単位補正)),0)","v":0},{"$f":"ROUND(IF($E$33=\"\",0,IF($G$33=\"\",0,H18_控除後使用量/単位補正)),0)","v":0},{"$f":"ROUND(IF($E$33=\"\",0,IF($G$33=\"\",0,H19_控除後使用量/単位補正)),0)","v":0},{"$f":"ROUND(IF($E$33=\"\",0,IF($G$33=\"\",0,H20_控除後使用量/単位補正)),0)","v":0},{"$f":"ROUND(IF($E$33=\"\",0,IF($G$33=\"\",0,H21_控除後使用量/単位補正)),0)","v":0},{"$f":"ROUND(IF($E$33=\"\",0,IF($G$33=\"\",0,H22_控除後使用量/単位補正)),0)","v":0},{"$f":"ROUND(IF($E$33=\"\",0,IF($G$33=\"\",0,H23_控除後使用量/単位補正)),0)","v":0},{"$f":"ROUND(IF($E$33=\"\",0,IF($G$33=\"\",0,H24_控除後使用量/単位補正)),0)","v":0},{"$f":"ROUND(IF($E$33=\"\",0,IF($G$33=\"\",0,H25_控除後使用量/単位補正)),0)","v":0},{"$f":"ROUND(IF($E$33=\"\",0,IF($G$33=\"\",0,H26_控除後使用量/単位補正)),0)","v":0},{"$f":"ROUND(IF($E$33=\"\",0,IF($G$33=\"\",0,H27_控除後使用量/単位補正)),0)","v":0},{"$f":"ROUND(IF($E$33=\"\",0,IF($G$33=\"\",0,H28_控除後使用量/単位補正)),0)","v":0},{"$f":"ROUND(IF($E$33=\"\",0,IF($G$33=\"\",0,H29_控除後使用量/単位補正)),0)","v":0},{"$f":"ROUND(IF($E$33=\"\",0,IF($G$33=\"\",0,H30_控除後使用量/単位補正)),0)","v":0},{"$f":"ROUND(IF($E$33=\"\",0,IF($G$33=\"\",0,CA33/単位補正)),0)","v":0},0,0,0,0,0,0,0,0,0,0,0,0,0,0,0,0,0,0,0,0,0,0,0,0,0,0,0,0,0,0,0,0,0,0,0,0,0,0,0,0,0,0,0,0,0,0,0,0,0,0,0,0,0,0,0,0,0,0,0,0,0,0,0,0,0,0,0,0,0,0,0,0,0,0,null,{"$f":"CONCATENATE(\"GJ/\",GB33)","v":"GJ/0"},null,"t-C/GJ",null,{"$f":"IF(G33=\"\",\"\",IF(G33=$GB$6,$GB$7,IF(G33=$GB$8,$GB$9,IF(G33=$GB$10,$GB$11,IF(G33=$GB$12,$GB$13,G33)))))","v":0}]
[null,null,null,null,null,null,{"$f":"'２．算定報告様式(建物系)'!G34","v":0},{"$f":"'２．算定報告様式(建物系)'!H34","v":0},{"$f":"'２．算定報告様式(建物系)'!I34","v":0},{"$f":"'２．算定報告様式(建物系)'!J34","v":0},{"$f":"'２．算定報告様式(建物系)'!K34","v":0},{"$f":"'２．算定報告様式(建物系)'!L34","v":0},{"$f":"'２．算定報告様式(建物系)'!M34","v":0},{"$f":"'２．算定報告様式(建物系)'!N34","v":0},{"$f":"'２．算定報告様式(建物系)'!O34","v":0},{"$f":"'２．算定報告様式(建物系)'!P34","v":0},{"$f":"'２．算定報告様式(建物系)'!Q34","v":0},{"$f":"'２．算定報告様式(建物系)'!R34","v":0},{"$f":"'２．算定報告様式(建物系)'!S34","v":0},{"$f":"'２．算定報告様式(建物系)'!T34","v":0},{"$f":"'２．算定報告様式(建物系)'!U34","v":0},{"$f":"'２．算定報告様式(建物系)'!V34","v":0},{"$f":"'２．算定報告様式(建物系)'!W34","v":0},{"$f":"'２．算定報告様式(建物系)'!X34","v":0},{"$f":"'２．算定報告様式(建物系)'!Y34","v":0},{"$f":"'２．算定報告様式(建物系)'!Z34","v":0},{"$f":"'２．算定報告様式(建物系)'!AA34","v":0},{"$f":"'２．算定報告様式(建物系)'!AB34","v":0},{"$f":"'２．算定報告様式(建物系)'!AC34","v":0},{"$f":"'２．算定報告様式(建物系)'!AD34","v":0},{"$f":"'２．算定報告様式(建物系)'!AE34","v":0},{"$f":"'２．算定報告様式(建物系)'!AF34","v":0},{"$f":"'２．算定報告様式(建物系)'!AG34","v":0},{"$f":"'２．算定報告様式(建物系)'!AH34","v":0},null,null,null,null,null,null,null,null,null,null,null,null,null,null,null,null,null,null,null,null,null,null,null,null,null,null,null,0,0,0,0,0,0,0,0,0,0,0,0,0,0,0,0,0,0,0,0,0,0,0,{"$f":"IF(G34=\"\",\"-\",VLOOKUP($G34,$GB$6:$GC$15,2,FALSE))","v":{"$error":"#N/A"}},null,{"$f":"ROUND(IF($E$34=\"\",0,IF($G$34=\"\",0,H14_控除後使用量/単位補正)),0)","v":0},{"$f":"ROUND(IF($E$34=\"\",0,IF($G$34=\"\",0,H15_控除後使用量/単位補正)),0)","v":0},{"$f":"ROUND(IF($E$34=\"\",0,IF($G$34=\"\",0,H16_控除後使用量/単位補正)),0)","v":0},{"$f":"ROUND(IF($E$34=\"\",0,IF($G$34=\"\",0,H17_控除後使用量/単位補正)),0)","v":0},{"$f":"ROUND(IF($E$34=\"\",0,IF($G$34=\"\",0,H18_控除後使用量/単位補正)),0)","v":0},{"$f":"ROUND(IF($E$34=\"\",0,IF($G$34=\"\",0,H19_控除後使用量/単位補正)),0)","v":0},{"$f":"ROUND(IF($E$34=\"\",0,IF($G$34=\"\",0,H20_控除後使用量/単位補正)),0)","v":0},{"$f":"ROUND(IF($E$34=\"\",0,IF($G$34=\"\",0,H21_控除後使用量/単位補正)),0)","v":0},{"$f":"ROUND(IF($E$34=\"\",0,IF($G$34=\"\",0,H22_控除後使用量/単位補正)),0)","v":0},{"$f":"ROUND(IF($E$34=\"\",0,IF($G$34=\"\",0,H23_控除後使用量/単位補正)),0)","v":0},{"$f":"ROUND(IF($E$34=\"\",0,IF($G$34=\"\",0,H24_控除後使用量/単位補正)),0)","v":0},{"$f":"ROUND(IF($E$34=\"\",0,IF($G$34=\"\",0,H25_控除後使用量/単位補正)),0)","v":0},{"$f":"ROUND(IF($E$34=\"\",0,IF($G$34=\"\",0,H26_控除後使用量/単位補正)),0)","v":0},{"$f":"ROUND(IF($E$33=\"\",0,IF($G$33=\"\",0,H27_控除後使用量/単位補正)),0)","v":0},{"$f":"ROUND(IF($E$33=\"\",0,IF($G$33=\"\",0,H28_控除後使用量/単位補正)),0)","v":0},{"$f":"ROUND(IF($E$33=\"\",0,IF($G$33=\"\",0,H29_控除後使用量/単位補正)),0)","v":0},{"$f":"ROUND(IF($E$33=\"\",0,IF($G$33=\"\",0,H30_控除後使用量/単位補正)),0)","v":0},0,0,0,0,0,0,0,0,0,0,0,0,0,0,0,0,0,0,0,0,0,0,0,0,0,0,0,0,0,0,0,0,0,0,0,0,0,0,0,0,0,0,0,0,0,0,0,0,0,0,0,0,0,0,0,0,0,0,0,0,0,0,0,0,0,0,0,0,0,0,0,0,0,0,0,null,{"$f":"CONCATENATE(\"GJ/\",GB34)","v":"GJ/0"},null,"t-C/GJ",null,{"$f":"IF(G34=\"\",\"\",IF(G34=$GB$6,$GB$7,IF(G34=$GB$8,$GB$9,IF(G34=$GB$10,$GB$11,IF(G34=$GB$12,$GB$13,G34)))))","v":0}]
[null,null,null,"小　　計",null,null,{"$f":"'２．算定報告様式(建物系)'!G35","v":0},{"$f":"'２．算定報告様式(建物系)'!H35","v":0},{"$f":"'２．算定報告様式(建物系)'!I35","v":0},{"$f":"'２．算定報告様式(建物系)'!J35","v":0},{"$f":"'２．算定報告様式(建物系)'!K35","v":0},{"$f":"'２．算定報告様式(建物系)'!L35","v":0},{"$f":"'２．算定報告様式(建物系)'!M35","v":0},{"$f":"'２．算定報告様式(建物系)'!N35","v":0},{"$f":"'２．算定報告様式(建物系)'!O35","v":0},{"$f":"'２．算定報告様式(建物系)'!P35","v":0},{"$f":"'２．算定報告様式(建物系)'!Q35","v":0},{"$f":"'２．算定報告様式(建物系)'!R35","v":0},{"$f":"'２．算定報告様式(建物系)'!S35","v":0},{"$f":"'２．算定報告様式(建物系)'!T35","v":0},{"$f":"'２．算定報告様式(建物系)'!U35","v":0},{"$f":"'２．算定報告様式(建物系)'!V35","v":0},{"$f":"'２．算定報告様式(建物系)'!W35","v":0},{"$f":"'２．算定報告様式(建物系)'!X35","v":0},{"$f":"'２．算定報告様式(建物系)'!Y35","v":0},{"$f":"'２．算定報告様式(建物系)'!Z35","v":0},{"$f":"'２．算定報告様式(建物系)'!AA35","v":0},{"$f":"'２．算定報告様式(建物系)'!AB35","v":0},{"$f":"'２．算定報告様式(建物系)'!AC35","v":0},{"$f":"'２．算定報告様式(建物系)'!AD35","v":0},{"$f":"'２．算定報告様式(建物系)'!AE35","v":0},{"$f":"'２．算定報告様式(建物系)'!AF35","v":0},{"$f":"'２．算定報告様式(建物系)'!AG35","v":0},{"$f":"'２．算定報告様式(建物系)'!AH35","v":0},null,null,null,null,null,null,null,null,null,null,null,null,null,null,null,null,null,null,null,null,null,null,null,null,null,null,null,null,null,null,null,null,null,null,null,null,null,null,null,null,null,null,null,null,null,null,null,null,null,null,null,null,null,null,null,null,null,null,null,null,null,null,null,null,null,null,null,null,null,null,null,null,null,null,null,{"$f":"SUBTOTAL(9,DF6:DF34)","v":0},0,0,0,0,0,0,0,0,0,0,0,0,0,0,0,0,null,null,null,null,null,null,{"$f":"SUBTOTAL(9,EC6:EC34)","v":0},0,0,0,0,0,0,0,0,0,0,0,0,0,0,0,0,null,null,null,null,null,null,{"$f":"SUBTOTAL(9,EZ6:EZ34)","v":0},{"$f":"SUBTOTAL(9,FA6:FA34)","v":0},0,0,0,0,0,0,0,0,0,0,0,0,0,0,0,0,0,0,0,0,0]
[null,null,"熱","産業用蒸気",null,null,{"$f":"'２．算定報告様式(建物系)'!G36","v":"MJ"},{"$f":"'２．算定報告様式(建物系)'!H36","v":0},{"$f":"'２．算定報告様式(建物系)'!I36","v":0},{"$f":"'２．算定報告様式(建物系)'!J36","v":0},{"$f":"'２．算定報告様式(建物系)'!K36","v":0},{"$f":"'２．算定報告様式(建物系)'!L36","v":0},{"$f":"'２．算定報告様式(建物系)'!M36","v":0},{"$f":"'２．算定報告様式(建物系)'!N36","v":0},{"$f":"'２．算定報告様式(建物系)'!O36","v":0},{"$f":"'２．算定報告様式(建物系)'!P36","v":0},{"$f":"'２．算定報告様式(建物系)'!Q36","v":0},{"$f":"'２．算定報告様式(建物系)'!R36","v":0},{"$f":"'２．算定報告様式(建物系)'!S36","v":0},{"$f":"'２．算定報告様式(建物系)'!T36","v":0},{"$f":"'２．算定報告様式(建物系)'!U36","v":0},{"$f":"'２．算定報告様式(建物系)'!V36","v":0},{"$f":"'２．算定報告様式(建物系)'!W36","v":0},{"$f":"'２．算定報告様式(建物系)'!X36","v":0},{"$f":"'２．算定報告様式(建物系)'!Y36","v":0},{"$f":"'２．算定報告様式(建物系)'!Z36","v":0},{"$f":"'２．算定報告様式(建物系)'!AA36","v":0},{"$f":"'２．算定報告様式(建物系)'!AB36","v":0},{"$f":"'２．算定報告様式(建物系)'!AC36","v":0},{"$f":"'２．算定報告様式(建物系)'!AD36","v":0},{"$f":"'２．算定報告様式(建物系)'!AE36","v":0},{"$f":"'２．算定報告様式(建物系)'!AF36","v":0},{"$f":"'２．算定報告様式(建物系)'!AG36","v":0},{"$f":"'２．算定報告様式(建物系)'!AH36","v":0},null,null,null,null,null,null,null,null,null,null,null,null,null,null,null,null,null,null,null,null,null,null,null,null,null,null,null,0,0,0,0,0,0,0,0,0,0,0,0,0,0,0,0,0,0,0,0,0,0,0,{"$f":"VLOOKUP($G36,$GB$6:$GC$15,2,FALSE)","v":1000},"GJ",{"$f":"ROUND(H14_控除後使用量/単位補正,0)","v":0},{"$f":"ROUND(H15_控除後使用量/単位補正,0)","v":0},{"$f":"ROUND(H16_控除後使用量/単位補正,0)","v":0},{"$f":"ROUND(H17_控除後使用量/単位補正,0)","v":0},{"$f":"ROUND(H18_控除後使用量/単位補正,0)","v":0},{"$f":"ROUND(H19_控除後使用量/単位補正,0)","v":0},{"$f":"ROUND(H20_控除後使用量/単位補正,0)","v":0},{"$f":"ROUND(H21_控除後使用量/単位補正,0)","v":0},{"$f":"ROUND(H22_控除後使用量/単位補正,0)","v":0},{"$f":"ROUND(H23_控除後使用量/単位補正,0)","v":0},{"$f":"ROUND(H24_控除後使用量/単位補正,0)","v":0},{"$f":"ROUND(H25_控除後使用量/単位補正,0)","v":0},{"$f":"ROUND(H26_控除後使用量/単位補正,0)","v":0},{"$f":"ROUND(H27_控除後使用量/単位補正,0)","v":0},{"$f":"ROUND(H28_控除後使用量/単位補正,0)","v":0},{"$f":"ROUND(H29_控除後使用量/単位補正,0)","v":0},{"$f":"ROUND(H30_控除後使用量/単位補正,0)","v":0},{"$f":"ROUND(CA36/単位補正,0)","v":0},0,0,0,0,0,{"$f":"CI36*$FW36","v":0},0,0,0,0,0,0,0,0,0,0,0,0,0,0,0,{"$f":"CY36*$FW36","v":0},0,0,0,0,0,0,{"$f":"DF36*$GC$19","v":0},0,0,0,0,0,0,0,0,0,0,0,0,0,0,0,{"$f":"DV36*$GC$19","v":0},0,0,0,0,0,0,{"$f":"CI36*$FY36","v":0},0,0,0,0,0,0,0,0,0,0,0,0,0,0,0,{"$f":"CY36*$FY36","v":0},0,0,0,0,0,0,1.02,"GJ/GJ",0.06,"t-CO2\n/GJ"]
[null,null,null,"産業用以外の蒸気",null,null,{"$f":"'２．算定報告様式(建物系)'!G37","v":"MJ"},{"$f":"'２．算定報告様式(建物系)'!H37","v":0},{"$f":"'２．算定報告様式(建物系)'!I37","v":0},{"$f":"'２．算定報告様式(建物系)'!J37","v":0},{"$f":"'２．算定報告様式(建物系)'!K37","v":0},{"$f":"'２．算定報告様式(建物系)'!L37","v":0},{"$f":"'２．算定報告様式(建物系)'!M37","v":0},{"$f":"'２．算定報告様式(建物系)'!N37","v":0},{"$f":"'２．算定報告様式(建物系)'!O37","v":0},{"$f":"'２．算定報告様式(建物系)'!P37","v":0},{"$f":"'２．算定報告様式(建物系)'!Q37","v":0},{"$f":"'２．算定報告様式(建物系)'!R37","v":0},{"$f":"'２．算定報告様式(建物系)'!S37","v":0},{"$f":"'２．算定報告様式(建物系)'!T37","v":0},{"$f":"'２．算定報告様式(建物系)'!U37","v":0},{"$f":"'２．算定報告様式(建物系)'!V37","v":0},{"$f":"'２．算定報告様式(建物系)'!W37","v":0},{"$f":"'２．算定報告様式(建物系)'!X37","v":0},{"$f":"'２．算定報告様式(建物系)'!Y37","v":0},{"$f":"'２．算定報告様式(建物系)'!Z37","v":0},{"$f":"'２．算定報告様式(建物系)'!AA37","v":0},{"$f":"'２．算定報告様式(建物系)'!AB37","v":0},{"$f":"'２．算定報告様式(建物系)'!AC37","v":0},{"$f":"'２．算定報告様式(建物系)'!AD37","v":0},{"$f":"'２．算定報告様式(建物系)'!AE37","v":0},{"$f":"'２．算定報告様式(建物系)'!AF37","v":0},{"$f":"'２．算定報告様式(建物系)'!AG37","v":0},{"$f":"'２．算定報告様式(建物系)'!AH37","v":0},null,null,null,null,null,null,null,null,null,null,null,null,null,null,null,null,null,null,null,null,null,null,null,null,null,null,null,0,0,0,0,0,0,0,0,0,0,0,0,0,0,0,0,0,0,0,0,0,0,0,{"$f":"VLOOKUP($G37,$GB$6:$GC$15,2,FALSE)","v":1000},"GJ",0,0,0,0,0,0,0,0,0,0,0,0,0,0,0,0,0,0,0,0,0,0,0,0,0,0,0,0,0,0,0,0,0,0,0,0,0,0,0,0,0,0,0,0,0,0,0,0,0,0,0,0,0,0,0,0,0,0,0,0,0,0,0,0,0,0,0,0,0,0,0,0,0,0,0,0,0,0,0,0,0,0,0,0,0,0,0,0,0,0,0,0,1.36,"GJ/GJ",5.7000000000000002E-2,"t-CO2\n/GJ"]
[null,null,null,"温水",null,null,{"$f":"'２．算定報告様式(建物系)'!G38","v":"MJ"},{"$f":"'２．算定報告様式(建物系)'!H38","v":0},{"$f":"'２．算定報告様式(建物系)'!I38","v":0},{"$f":"'２．算定報告様式(建物系)'!J38","v":0},{"$f":"'２．算定報告様式(建物系)'!K38","v":0},{"$f":"'２．算定報告様式(建物系)'!L38","v":0},{"$f":"'２．算定報告様式(建物系)'!M38","v":0},{"$f":"'２．算定報告様式(建物系)'!N38","v":0},{"$f":"'２．算定報告様式(建物系)'!O38","v":0},{"$f":"'２．算定報告様式(建物系)'!P38","v":0},{"$f":"'２．算定報告様式(建物系)'!Q38","v":0},{"$f":"'２．算定報告様式(建物系)'!R38","v":0},{"$f":"'２．算定報告様式(建物系)'!S38","v":0},{"$f":"'２．算定報告様式(建物系)'!T38","v":0},{"$f":"'２．算定報告様式(建物系)'!U38","v":0},{"$f":"'２．算定報告様式(建物系)'!V38","v":0},{"$f":"'２．算定報告様式(建物系)'!W38","v":0},{"$f":"'２．算定報告様式(建物系)'!X38","v":0},{"$f":"'２．算定報告様式(建物系)'!Y38","v":0},{"$f":"'２．算定報告様式(建物系)'!Z38","v":0},{"$f":"'２．算定報告様式(建物系)'!AA38","v":0},{"$f":"'２．算定報告様式(建物系)'!AB38","v":0},{"$f":"'２．算定報告様式(建物系)'!AC38","v":0},{"$f":"'２．算定報告様式(建物系)'!AD38","v":0},{"$f":"'２．算定報告様式(建物系)'!AE38","v":0},{"$f":"'２．算定報告様式(建物系)'!AF38","v":0},{"$f":"'２．算定報告様式(建物系)'!AG38","v":0},{"$f":"'２．算定報告様式(建物系)'!AH38","v":0},null,null,null,null,null,null,null,null,null,null,null,null,null,null,null,null,null,null,null,null,null,null,null,null,null,null,null,0,0,0,0,0,0,0,0,0,0,0,0,0,0,0,0,0,0,0,0,0,0,0,{"$f":"VLOOKUP($G38,$GB$6:$GC$15,2,FALSE)","v":1000},"GJ",0,0,0,0,0,0,0,0,0,0,0,0,0,0,0,0,0,0,0,0,0,0,0,0,0,0,0,0,0,0,0,0,0,0,0,0,0,0,0,0,0,0,0,0,0,0,0,0,0,0,0,0,0,0,0,0,0,0,0,0,0,0,0,0,0,0,0,0,0,0,0,0,0,0,0,0,0,0,0,0,0,0,0,0,0,0,0,0,0,0,0,0,1.36,"GJ/GJ",5.7000000000000002E-2,"t-CO2\n/GJ"]
[null,null,null,"冷水",null,null,{"$f":"'２．算定報告様式(建物系)'!G39","v":"MJ"},{"$f":"'２．算定報告様式(建物系)'!H39","v":0},{"$f":"'２．算定報告様式(建物系)'!I39","v":0},{"$f":"'２．算定報告様式(建物系)'!J39","v":0},{"$f":"'２．算定報告様式(建物系)'!K39","v":0},{"$f":"'２．算定報告様式(建物系)'!L39","v":0},{"$f":"'２．算定報告様式(建物系)'!M39","v":0},{"$f":"'２．算定報告様式(建物系)'!N39","v":0},{"$f":"'２．算定報告様式(建物系)'!O39","v":0},{"$f":"'２．算定報告様式(建物系)'!P39","v":0},{"$f":"'２．算定報告様式(建物系)'!Q39","v":0},{"$f":"'２．算定報告様式(建物系)'!R39","v":0},{"$f":"'２．算定報告様式(建物系)'!S39","v":0},{"$f":"'２．算定報告様式(建物系)'!T39","v":0},{"$f":"'２．算定報告様式(建物系)'!U39","v":0},{"$f":"'２．算定報告様式(建物系)'!V39","v":0},{"$f":"'２．算定報告様式(建物系)'!W39","v":0},{"$f":"'２．算定報告様式(建物系)'!X39","v":0},{"$f":"'２．算定報告様式(建物系)'!Y39","v":0},{"$f":"'２．算定報告様式(建物系)'!Z39","v":0},{"$f":"'２．算定報告様式(建物系)'!AA39","v":0},{"$f":"'２．算定報告様式(建物系)'!AB39","v":0},{"$f":"'２．算定報告様式(建物系)'!AC39","v":0},{"$f":"'２．算定報告様式(建物系)'!AD39","v":0},{"$f":"'２．算定報告様式(建物系)'!AE39","v":0},{"$f":"'２．算定報告様式(建物系)'!AF39","v":0},{"$f":"'２．算定報告様式(建物系)'!AG39","v":0},{"$f":"'２．算定報告様式(建物系)'!AH39","v":0},null,null,null,null,null,null,null,null,null,null,null,null,null,null,null,null,null,null,null,null,null,null,null,null,null,null,null,0,0,0,0,0,0,0,0,0,0,0,0,0,0,0,0,0,0,0,0,0,0,0,{"$f":"VLOOKUP($G39,$GB$6:$GC$15,2,FALSE)","v":1000},"GJ",0,0,0,0,0,0,0,0,0,0,0,0,0,0,0,0,0,0,0,0,0,0,0,0,0,0,0,0,0,0,0,0,0,0,0,0,0,0,0,0,0,0,0,0,0,0,0,0,0,0,0,0,0,0,0,0,0,0,0,0,0,0,0,0,0,0,0,0,0,0,0,0,0,0,0,0,0,0,0,0,0,0,0,0,0,0,0,0,0,0,0,0,1.36,"GJ/GJ",5.7000000000000002E-2,"t-CO2\n/GJ"]
[null,null,null,"再生可能エネルギーの環境価値を移転した熱",null,null,{"$f":"'２．算定報告様式(建物系)'!G40","v":"MJ"},{"$f":"'２．算定報告様式(建物系)'!H40","v":0},{"$f":"'２．算定報告様式(建物系)'!I40","v":0},{"$f":"'２．算定報告様式(建物系)'!J40","v":0},{"$f":"'２．算定報告様式(建物系)'!K40","v":0},{"$f":"'２．算定報告様式(建物系)'!L40","v":0},{"$f":"'２．算定報告様式(建物系)'!M40","v":0},{"$f":"'２．算定報告様式(建物系)'!N40","v":0},{"$f":"'２．算定報告様式(建物系)'!O40","v":0},{"$f":"'２．算定報告様式(建物系)'!P40","v":0},{"$f":"'２．算定報告様式(建物系)'!Q40","v":0},{"$f":"'２．算定報告様式(建物系)'!R40","v":0},{"$f":"'２．算定報告様式(建物系)'!S40","v":0},{"$f":"'２．算定報告様式(建物系)'!T40","v":0},{"$f":"'２．算定報告様式(建物系)'!U40","v":0},{"$f":"'２．算定報告様式(建物系)'!V40","v":0},{"$f":"'２．算定報告様式(建物系)'!W40","v":0},{"$f":"'２．算定報告様式(建物系)'!X40","v":0},{"$f":"'２．算定報告様式(建物系)'!Y40","v":0},{"$f":"'２．算定報告様式(建物系)'!Z40","v":0},{"$f":"'２．算定報告様式(建物系)'!AA40","v":0},{"$f":"'２．算定報告様式(建物系)'!AB40","v":0},{"$f":"'２．算定報告様式(建物系)'!AC40","v":0},{"$f":"'２．算定報告様式(建物系)'!AD40","v":0},{"$f":"'２．算定報告様式(建物系)'!AE40","v":0},{"$f":"'２．算定報告様式(建物系)'!AF40","v":0},{"$f":"'２．算定報告様式(建物系)'!AG40","v":0},{"$f":"'２．算定報告様式(建物系)'!AH40","v":0},null,null,null,null,null,null,null,null,null,null,null,null,null,null,null,null,null,null,null,null,null,null,null,null,null,null,null,0,0,0,0,0,0,0,0,0,0,0,0,0,0,0,0,0,0,0,0,0,0,0,{"$f":"VLOOKUP($G40,$GB$6:$GC$15,2,FALSE)","v":1000},"GJ",0,0,0,0,0,0,0,0,0,0,0,0,0,0,0,0,0,0,0,0,0,0,0,{"$f":"CI40","v":0},0,0,0,0,0,0,0,0,0,0,0,0,0,0,0,0,0,0,0,0,0,0,null,null,null,null,null,null,null,null,null,null,null,null,null,null,null,null,null,null,null,null,null,null,null,0,0,0,0,0,0,0,0,0,0,0,0,0,0,0,0,0,0,0,0,0,0,0,null,null,5.7000000000000002E-2,"t-CO2\n/GJ"]
[null,null,null,"小　　計",null,null,{"$f":"'２．算定報告様式(建物系)'!G41","v":0},{"$f":"'２．算定報告様式(建物系)'!H41","v":0},{"$f":"'２．算定報告様式(建物系)'!I41","v":0},{"$f":"'２．算定報告様式(建物系)'!J41","v":0},{"$f":"'２．算定報告様式(建物系)'!K41","v":0},{"$f":"'２．算定報告様式(建物系)'!L41","v":0},{"$f":"'２．算定報告様式(建物系)'!M41","v":0},{"$f":"'２．算定報告様式(建物系)'!N41","v":0},{"$f":"'２．算定報告様式(建物系)'!O41","v":0},{"$f":"'２．算定報告様式(建物系)'!P41","v":0},{"$f":"'２．算定報告様式(建物系)'!Q41","v":0},{"$f":"'２．算定報告様式(建物系)'!R41","v":0},{"$f":"'２．算定報告様式(建物系)'!S41","v":0},{"$f":"'２．算定報告様式(建物系)'!T41","v":0},{"$f":"'２．算定報告様式(建物系)'!U41","v":0},{"$f":"'２．算定報告様式(建物系)'!V41","v":0},{"$f":"'２．算定報告様式(建物系)'!W41","v":0},{"$f":"'２．算定報告様式(建物系)'!X41","v":0},{"$f":"'２．算定報告様式(建物系)'!Y41","v":0},{"$f":"'２．算定報告様式(建物系)'!Z41","v":0},{"$f":"'２．算定報告様式(建物系)'!AA41","v":0},{"$f":"'２．算定報告様式(建物系)'!AB41","v":0},{"$f":"'２．算定報告様式(建物系)'!AC41","v":0},{"$f":"'２．算定報告様式(建物系)'!AD41","v":0},{"$f":"'２．算定報告様式(建物系)'!AE41","v":0},{"$f":"'２．算定報告様式(建物系)'!AF41","v":0},{"$f":"'２．算定報告様式(建物系)'!AG41","v":0},{"$f":"'２．算定報告様式(建物系)'!AH41","v":0},null,null,null,null,null,null,null,null,null,null,null,null,null,null,null,null,null,null,null,null,null,null,null,null,null,null,null,null,null,null,null,null,null,null,null,null,null,null,null,null,null,null,null,null,null,null,null,null,null,null,null,null,null,null,null,null,null,null,null,null,null,null,null,null,null,null,null,null,null,null,null,null,null,null,null,{"$f":"SUBTOTAL(9,DF36:DF40)","v":0},0,0,0,0,0,0,0,0,0,0,0,0,0,0,0,0,{"$f":"SUBTOTAL(9,DW36:DW40)","v":0},{"$f":"SUBTOTAL(9,DX36:DX40)","v":0},0,0,0,0,0,0,0,0,0,0,0,0,0,0,0,0,0,0,0,0,0,{"$f":"SUBTOTAL(9,ET36:ET40)","v":0},{"$f":"SUBTOTAL(9,EU36:EU40)","v":0},0,0,0,0,0,0,0,0,0,0,0,0,0,0,0,0,0,0,0,0,0,{"$f":"SUBTOTAL(9,FQ36:FQ40)","v":0},{"$f":"SUBTOTAL(9,FR36:FR40)","v":0},0,0,0,0]
[null,null,"電気","一般電気\n事業者","昼間（8時～22時）",null,{"$f":"'２．算定報告様式(建物系)'!G42","v":"kWh"},{"$f":"'２．算定報告様式(建物系)'!H42","v":0},{"$f":"'２．算定報告様式(建物系)'!I42","v":0},{"$f":"'２．算定報告様式(建物系)'!J42","v":0},{"$f":"'２．算定報告様式(建物系)'!K42","v":0},{"$f":"'２．算定報告様式(建物系)'!L42","v":0},{"$f":"'２．算定報告様式(建物系)'!M42","v":0},{"$f":"'２．算定報告様式(建物系)'!N42","v":0},{"$f":"'２．算定報告様式(建物系)'!O42","v":0},{"$f":"'２．算定報告様式(建物系)'!P42","v":0},{"$f":"'２．算定報告様式(建物系)'!Q42","v":0},{"$f":"'２．算定報告様式(建物系)'!R42","v":0},{"$f":"'２．算定報告様式(建物系)'!S42","v":0},{"$f":"'２．算定報告様式(建物系)'!T42","v":0},{"$f":"'２．算定報告様式(建物系)'!U42","v":0},{"$f":"'２．算定報告様式(建物系)'!V42","v":0},{"$f":"'２．算定報告様式(建物系)'!W42","v":0},{"$f":"'２．算定報告様式(建物系)'!X42","v":0},{"$f":"'２．算定報告様式(建物系)'!Y42","v":0},{"$f":"'２．算定報告様式(建物系)'!Z42","v":0},{"$f":"'２．算定報告様式(建物系)'!AA42","v":0},{"$f":"'２．算定報告様式(建物系)'!AB42","v":0},{"$f":"'２．算定報告様式(建物系)'!AC42","v":0},{"$f":"'２．算定報告様式(建物系)'!AD42","v":0},{"$f":"'２．算定報告様式(建物系)'!AE42","v":0},{"$f":"'２．算定報告様式(建物系)'!AF42","v":0},{"$f":"'２．算定報告様式(建物系)'!AG42","v":0},{"$f":"'２．算定報告様式(建物系)'!AH42","v":0},null,null,null,null,null,null,null,null,null,null,null,null,null,null,null,null,null,null,null,null,null,null,null,null,null,null,null,0,0,0,0,0,0,0,0,0,0,0,0,0,0,0,0,0,0,0,0,0,0,0,{"$f":"VLOOKUP($G42,$GB$6:$GC$17,2,FALSE)","v":1000},"千kWh",0,0,0,0,0,0,0,0,0,0,0,0,0,0,0,0,0,{"$f":"ROUND(CA42/単位補正,0)","v":0},0,0,0,0,0,{"$f":"CI42*$FW42","v":0},0,0,0,0,0,0,0,0,0,0,0,0,0,0,0,{"$f":"CY42*$FW42","v":0},0,0,0,0,0,0,{"$f":"DF42*$GC$19","v":0},0,0,0,0,0,0,0,0,0,0,0,0,0,0,0,{"$f":"DV42*$GC$19","v":0},0,0,0,0,0,0,{"$f":"CI42*$FY42","v":0},0,0,0,0,0,0,0,0,0,0,0,0,0,0,0,{"$f":"CY42*$FY42","v":0},0,0,0,0,0,0,9.9700000000000006,"GJ\n/千kWh",0.495,"t-CO2\n/千kWh"]
[null,null,null,null,"夜間（22時～翌8時）",null,{"$f":"'２．算定報告様式(建物系)'!G43","v":"kWh"},{"$f":"'２．算定報告様式(建物系)'!H43","v":0},{"$f":"'２．算定報告様式(建物系)'!I43","v":0},{"$f":"'２．算定報告様式(建物系)'!J43","v":0},{"$f":"'２．算定報告様式(建物系)'!K43","v":0},{"$f":"'２．算定報告様式(建物系)'!L43","v":0},{"$f":"'２．算定報告様式(建物系)'!M43","v":0},{"$f":"'２．算定報告様式(建物系)'!N43","v":0},{"$f":"'２．算定報告様式(建物系)'!O43","v":0},{"$f":"'２．算定報告様式(建物系)'!P43","v":0},{"$f":"'２．算定報告様式(建物系)'!Q43","v":0},{"$f":"'２．算定報告様式(建物系)'!R43","v":0},{"$f":"'２．算定報告様式(建物系)'!S43","v":0},{"$f":"'２．算定報告様式(建物系)'!T43","v":0},{"$f":"'２．算定報告様式(建物系)'!U43","v":0},{"$f":"'２．算定報告様式(建物系)'!V43","v":0},{"$f":"'２．算定報告様式(建物系)'!W43","v":0},{"$f":"'２．算定報告様式(建物系)'!X43","v":0},{"$f":"'２．算定報告様式(建物系)'!Y43","v":0},{"$f":"'２．算定報告様式(建物系)'!Z43","v":0},{"$f":"'２．算定報告様式(建物系)'!AA43","v":0},{"$f":"'２．算定報告様式(建物系)'!AB43","v":0},{"$f":"'２．算定報告様式(建物系)'!AC43","v":0},{"$f":"'２．算定報告様式(建物系)'!AD43","v":0},{"$f":"'２．算定報告様式(建物系)'!AE43","v":0},{"$f":"'２．算定報告様式(建物系)'!AF43","v":0},{"$f":"'２．算定報告様式(建物系)'!AG43","v":0},{"$f":"'２．算定報告様式(建物系)'!AH43","v":0},null,null,null,null,null,null,null,null,null,null,null,null,null,null,null,null,null,null,null,null,null,null,null,null,null,null,null,0,0,0,0,0,0,0,0,0,0,0,0,0,0,0,0,0,0,0,0,0,0,0,{"$f":"VLOOKUP($G43,$GB$6:$GC$17,2,FALSE)","v":1000},"千kWh",0,0,0,0,0,0,0,0,0,0,0,0,0,0,0,0,0,0,0,0,0,0,0,0,0,0,0,0,0,0,0,0,0,0,0,0,0,0,0,0,0,0,0,0,0,0,0,0,0,0,0,0,0,0,0,0,0,0,0,0,0,0,0,0,0,0,0,0,0,0,0,0,0,0,0,0,0,0,0,0,0,0,0,0,0,0,0,0,0,0,0,0,9.2799999999999994,"GJ\n/千kWh",0.495,"t-CO2\n/千kWh"]
[null,null,null,"その他の買電",null,null,{"$f":"'２．算定報告様式(建物系)'!G44","v":"kWh"},{"$f":"'２．算定報告様式(建物系)'!H44","v":0},{"$f":"'２．算定報告様式(建物系)'!I44","v":0},{"$f":"'２．算定報告様式(建物系)'!J44","v":0},{"$f":"'２．算定報告様式(建物系)'!K44","v":0},{"$f":"'２．算定報告様式(建物系)'!L44","v":0},{"$f":"'２．算定報告様式(建物系)'!M44","v":0},{"$f":"'２．算定報告様式(建物系)'!N44","v":0},{"$f":"'２．算定報告様式(建物系)'!O44","v":0},{"$f":"'２．算定報告様式(建物系)'!P44","v":0},{"$f":"'２．算定報告様式(建物系)'!Q44","v":0},{"$f":"'２．算定報告様式(建物系)'!R44","v":0},{"$f":"'２．算定報告様式(建物系)'!S44","v":0},{"$f":"'２．算定報告様式(建物系)'!T44","v":0},{"$f":"'２．算定報告様式(建物系)'!U44","v":0},{"$f":"'２．算定報告様式(建物系)'!V44","v":0},{"$f":"'２．算定報告様式(建物系)'!W44","v":0},{"$f":"'２．算定報告様式(建物系)'!X44","v":0},{"$f":"'２．算定報告様式(建物系)'!Y44","v":0},{"$f":"'２．算定報告様式(建物系)'!Z44","v":0},{"$f":"'２．算定報告様式(建物系)'!AA44","v":0},{"$f":"'２．算定報告様式(建物系)'!AB44","v":0},{"$f":"'２．算定報告様式(建物系)'!AC44","v":0},{"$f":"'２．算定報告様式(建物系)'!AD44","v":0},{"$f":"'２．算定報告様式(建物系)'!AE44","v":0},{"$f":"'２．算定報告様式(建物系)'!AF44","v":0},{"$f":"'２．算定報告様式(建物系)'!AG44","v":0},{"$f":"'２．算定報告様式(建物系)'!AH44","v":0},null,null,null,null,null,null,null,null,null,null,null,null,null,null,null,null,null,null,null,null,null,null,null,null,null,null,null,0,0,0,0,0,0,0,0,0,0,0,0,0,0,0,0,0,0,0,0,0,0,0,{"$f":"VLOOKUP($G44,$GB$6:$GC$17,2,FALSE)","v":1000},"千kWh",0,0,0,0,0,0,0,0,0,0,0,0,0,0,0,0,0,0,0,0,0,0,0,0,0,0,0,0,0,0,0,0,0,0,0,0,0,0,0,0,0,0,0,0,0,0,0,0,0,0,0,0,0,0,0,0,0,0,0,0,0,0,0,0,0,0,0,0,0,0,0,0,0,0,0,0,0,0,0,0,0,0,0,0,0,0,0,0,0,0,0,0,9.76,"GJ\n/千kWh",0.495,"t-CO2\n/千kWh"]
[null,null,null,"再生可能エネルギーの環境価値を移転した電気",null,null,{"$f":"'２．算定報告様式(建物系)'!G45","v":"kWh"},{"$f":"'２．算定報告様式(建物系)'!H45","v":0},{"$f":"'２．算定報告様式(建物系)'!I45","v":0},{"$f":"'２．算定報告様式(建物系)'!J45","v":0},{"$f":"'２．算定報告様式(建物系)'!K45","v":0},{"$f":"'２．算定報告様式(建物系)'!L45","v":0},{"$f":"'２．算定報告様式(建物系)'!M45","v":0},{"$f":"'２．算定報告様式(建物系)'!N45","v":0},{"$f":"'２．算定報告様式(建物系)'!O45","v":0},{"$f":"'２．算定報告様式(建物系)'!P45","v":0},{"$f":"'２．算定報告様式(建物系)'!Q45","v":0},{"$f":"'２．算定報告様式(建物系)'!R45","v":0},{"$f":"'２．算定報告様式(建物系)'!S45","v":0},{"$f":"'２．算定報告様式(建物系)'!T45","v":0},{"$f":"'２．算定報告様式(建物系)'!U45","v":0},{"$f":"'２．算定報告様式(建物系)'!V45","v":0},{"$f":"'２．算定報告様式(建物系)'!W45","v":0},{"$f":"'２．算定報告様式(建物系)'!X45","v":0},{"$f":"'２．算定報告様式(建物系)'!Y45","v":0},{"$f":"'２．算定報告様式(建物系)'!Z45","v":0},{"$f":"'２．算定報告様式(建物系)'!AA45","v":0},{"$f":"'２．算定報告様式(建物系)'!AB45","v":0},{"$f":"'２．算定報告様式(建物系)'!AC45","v":0},{"$f":"'２．算定報告様式(建物系)'!AD45","v":0},{"$f":"'２．算定報告様式(建物系)'!AE45","v":0},{"$f":"'２．算定報告様式(建物系)'!AF45","v":0},{"$f":"'２．算定報告様式(建物系)'!AG45","v":0},{"$f":"'２．算定報告様式(建物系)'!AH45","v":0},null,null,null,null,null,null,null,null,null,null,null,null,null,null,null,null,null,null,null,null,null,null,null,null,null,null,null,0,0,0,0,0,0,0,0,0,0,0,0,0,0,0,0,0,0,0,0,0,0,0,{"$f":"VLOOKUP($G45,$GB$6:$GC$17,2,FALSE)","v":1000},"千kWh",0,0,0,0,0,0,0,0,0,0,0,0,0,0,0,0,0,0,0,0,0,0,0,null,null,null,null,null,null,null,null,null,null,null,null,null,null,null,null,null,null,null,null,null,null,null,null,null,null,null,null,null,null,null,null,null,null,null,null,null,null,null,null,null,null,null,null,null,null,0,0,0,0,0,0,0,0,0,0,0,0,0,0,0,0,0,0,0,0,0,0,0,null,null,0.495,"t-CO2\n/千kWh"]
[null,null,null,"再生可能エネルギーを自家消費した\n電気",null,null,{"$f":"'２．算定報告様式(建物系)'!G46","v":"kWh"},{"$f":"'２．算定報告様式(建物系)'!H46","v":0},{"$f":"'２．算定報告様式(建物系)'!I46","v":0},{"$f":"'２．算定報告様式(建物系)'!J46","v":0},{"$f":"'２．算定報告様式(建物系)'!K46","v":0},{"$f":"'２．算定報告様式(建物系)'!L46","v":0},{"$f":"'２．算定報告様式(建物系)'!M46","v":0},{"$f":"'２．算定報告様式(建物系)'!N46","v":0},{"$f":"'２．算定報告様式(建物系)'!O46","v":0},{"$f":"'２．算定報告様式(建物系)'!P46","v":0},{"$f":"'２．算定報告様式(建物系)'!Q46","v":0},{"$f":"'２．算定報告様式(建物系)'!R46","v":0},{"$f":"'２．算定報告様式(建物系)'!S46","v":0},{"$f":"'２．算定報告様式(建物系)'!T46","v":0},{"$f":"'２．算定報告様式(建物系)'!U46","v":0},{"$f":"'２．算定報告様式(建物系)'!V46","v":0},{"$f":"'２．算定報告様式(建物系)'!W46","v":0},{"$f":"'２．算定報告様式(建物系)'!X46","v":0},{"$f":"'２．算定報告様式(建物系)'!Y46","v":0},{"$f":"'２．算定報告様式(建物系)'!Z46","v":0},{"$f":"'２．算定報告様式(建物系)'!AA46","v":0},{"$f":"'２．算定報告様式(建物系)'!AB46","v":0},{"$f":"'２．算定報告様式(建物系)'!AC46","v":0},{"$f":"'２．算定報告様式(建物系)'!AD46","v":0},{"$f":"'２．算定報告様式(建物系)'!AE46","v":0},{"$f":"'２．算定報告様式(建物系)'!AF46","v":0},{"$f":"'２．算定報告様式(建物系)'!AG46","v":0},{"$f":"'２．算定報告様式(建物系)'!AH46","v":0},null,null,null,null,null,null,null,null,null,null,null,null,null,null,null,null,null,null,null,null,null,null,null,null,null,null,null,0,0,0,0,0,0,0,0,0,0,0,0,0,0,0,0,0,0,0,0,0,0,0,{"$f":"VLOOKUP($G46,$GB$6:$GC$17,2,FALSE)","v":1000},"千kWh",0,0,0,0,0,0,0,0,0,0,0,0,0,0,0,0,0,0,0,0,0,0,0,null,null,null,null,null,null,null,null,null,null,null,null,null,null,null,null,null,null,null,null,null,null,null,null,null,null,null,null,null,null,null,null,null,null,null,null,null,null,null,null,null,null,null,null,null,null,{"$f":"-ABS(CI46*$FY46)","v":0},0,0,0,0,0,0,0,0,0,0,0,0,0,0,0,0,0,0,0,0,0,0,null,null,-0.193,"t-CO2\n/千kWh"]
[null,null,null,"小　　計",null,null,{"$f":"'２．算定報告様式(建物系)'!G47","v":0},{"$f":"'２．算定報告様式(建物系)'!H47","v":0},{"$f":"'２．算定報告様式(建物系)'!I47","v":0},{"$f":"'２．算定報告様式(建物系)'!J47","v":0},{"$f":"'２．算定報告様式(建物系)'!K47","v":0},{"$f":"'２．算定報告様式(建物系)'!L47","v":0},{"$f":"'２．算定報告様式(建物系)'!M47","v":0},{"$f":"'２．算定報告様式(建物系)'!N47","v":0},{"$f":"'２．算定報告様式(建物系)'!O47","v":0},{"$f":"'２．算定報告様式(建物系)'!P47","v":0},{"$f":"'２．算定報告様式(建物系)'!Q47","v":0},{"$f":"'２．算定報告様式(建物系)'!R47","v":0},{"$f":"'２．算定報告様式(建物系)'!S47","v":0},{"$f":"'２．算定報告様式(建物系)'!T47","v":0},{"$f":"'２．算定報告様式(建物系)'!U47","v":0},{"$f":"'２．算定報告様式(建物系)'!V47","v":0},{"$f":"'２．算定報告様式(建物系)'!W47","v":0},{"$f":"'２．算定報告様式(建物系)'!X47","v":0},{"$f":"'２．算定報告様式(建物系)'!Y47","v":0},{"$f":"'２．算定報告様式(建物系)'!Z47","v":0},{"$f":"'２．算定報告様式(建物系)'!AA47","v":0},{"$f":"'２．算定報告様式(建物系)'!AB47","v":0},{"$f":"'２．算定報告様式(建物系)'!AC47","v":0},{"$f":"'２．算定報告様式(建物系)'!AD47","v":0},{"$f":"'２．算定報告様式(建物系)'!AE47","v":0},{"$f":"'２．算定報告様式(建物系)'!AF47","v":0},{"$f":"'２．算定報告様式(建物系)'!AG47","v":0},{"$f":"'２．算定報告様式(建物系)'!AH47","v":0},null,null,null,null,null,null,null,null,null,null,null,null,null,null,null,null,null,null,null,null,null,null,null,null,null,null,null,null,null,null,null,null,null,null,null,null,null,null,null,null,null,null,null,null,null,null,null,null,null,null,null,null,null,null,null,null,null,null,null,null,null,null,null,null,null,null,null,null,null,null,null,null,null,null,null,{"$f":"SUBTOTAL(9,DF42:DF46)","v":0},0,0,0,0,0,0,0,0,0,0,0,0,0,0,0,0,{"$f":"SUBTOTAL(9,DW42:DW46)","v":0},{"$f":"SUBTOTAL(9,DX42:DX46)","v":0},0,0,0,0,0,0,0,0,0,0,0,0,0,0,0,0,0,0,0,0,0,{"$f":"SUBTOTAL(9,ET42:ET46)","v":0},{"$f":"SUBTOTAL(9,EU42:EU46)","v":0},0,0,0,0,0,0,0,0,0,0,0,0,0,0,0,0,0,0,0,0,0,{"$f":"SUBTOTAL(9,FQ42:FQ46)","v":0},{"$f":"SUBTOTAL(9,FR42:FR46)","v":0},0,0,0,0]
[null,null,"外部供給","自ら生成した熱の供給",null,null,{"$f":"'２．算定報告様式(建物系)'!G48","v":"GJ"},{"$f":"'２．算定報告様式(建物系)'!H48","v":0},{"$f":"'２．算定報告様式(建物系)'!I48","v":0},{"$f":"'２．算定報告様式(建物系)'!J48","v":0},{"$f":"'２．算定報告様式(建物系)'!K48","v":0},{"$f":"'２．算定報告様式(建物系)'!L48","v":0},{"$f":"'２．算定報告様式(建物系)'!M48","v":0},{"$f":"'２．算定報告様式(建物系)'!N48","v":0},{"$f":"'２．算定報告様式(建物系)'!O48","v":0},{"$f":"'２．算定報告様式(建物系)'!P48","v":0},{"$f":"'２．算定報告様式(建物系)'!Q48","v":0},{"$f":"'２．算定報告様式(建物系)'!R48","v":0},{"$f":"'２．算定報告様式(建物系)'!S48","v":0},{"$f":"'２．算定報告様式(建物系)'!T48","v":0},{"$f":"'２．算定報告様式(建物系)'!U48","v":0},{"$f":"'２．算定報告様式(建物系)'!V48","v":0},{"$f":"'２．算定報告様式(建物系)'!W48","v":0},{"$f":"'２．算定報告様式(建物系)'!X48","v":0},{"$f":"'２．算定報告様式(建物系)'!Y48","v":0},{"$f":"'２．算定報告様式(建物系)'!Z48","v":0},{"$f":"'２．算定報告様式(建物系)'!AA48","v":0},{"$f":"'２．算定報告様式(建物系)'!AB48","v":0},{"$f":"'２．算定報告様式(建物系)'!AC48","v":0},{"$f":"'２．算定報告様式(建物系)'!AD48","v":0},{"$f":"'２．算定報告様式(建物系)'!AE48","v":0},{"$f":"'２．算定報告様式(建物系)'!AF48","v":0},{"$f":"'２．算定報告様式(建物系)'!AG48","v":0},{"$f":"'２．算定報告様式(建物系)'!AH48","v":0},null,null,null,null,{"$f":"'１．燃料単位換算(建物系)'!AG56","v":0},{"$f":"'１．燃料単位換算(建物系)'!AH56","v":0},{"$f":"'１．燃料単位換算(建物系)'!AI56","v":0},{"$f":"'１．燃料単位換算(建物系)'!AJ56","v":0},{"$f":"'１．燃料単位換算(建物系)'!AK56","v":0},{"$f":"'１．燃料単位換算(建物系)'!AL56","v":0},{"$f":"'１．燃料単位換算(建物系)'!AM56","v":0},{"$f":"'１．燃料単位換算(建物系)'!AN56","v":0},{"$f":"'１．燃料単位換算(建物系)'!AO56","v":0},{"$f":"'１．燃料単位換算(建物系)'!AP56","v":0},{"$f":"'１．燃料単位換算(建物系)'!AQ56","v":0},{"$f":"'１．燃料単位換算(建物系)'!AR56","v":0},{"$f":"'１．燃料単位換算(建物系)'!AS56","v":0},{"$f":"'１．燃料単位換算(建物系)'!AT56","v":0},{"$f":"'１．燃料単位換算(建物系)'!AU56","v":0},{"$f":"'１．燃料単位換算(建物系)'!AV56","v":0},{"$f":"'１．燃料単位換算(建物系)'!AW56","v":0},{"$f":"'１．燃料単位換算(建物系)'!AX56","v":0},{"$f":"'１．燃料単位換算(建物系)'!AY56","v":0},{"$f":"'１．燃料単位換算(建物系)'!AZ56","v":0},{"$f":"'１．燃料単位換算(建物系)'!BA56","v":0},{"$f":"'１．燃料単位換算(建物系)'!BB56","v":0},{"$f":"'１．燃料単位換算(建物系)'!BC56","v":0},{"$f":"AM48","v":0},0,0,0,0,0,0,0,0,0,0,0,0,0,0,0,{"$f":"BC48","v":0},0,0,0,0,0,0,{"$f":"VLOOKUP($G48,$GB$6:$GC$15,2,FALSE)","v":1},"GJ",0,0,0,0,0,0,0,0,0,0,0,0,0,0,0,0,0,{"$f":"ROUND(CA48/単位補正,0)","v":0},0,0,0,0,0,{"$f":"CI48","v":0},0,0,0,0,0,0,0,0,0,0,0,0,0,0,0,0,0,0,0,0,0,0,null,null,null,null,null,null,null,null,null,null,null,null,null,null,null,null,null,null,null,null,null,null,null,{"$f":"IF(ISERROR(-ABS(CI48*$FY48)),\"\",(-ABS(CI48*$FY48)))","v":0},0,0,0,0,0,0,0,0,0,0,0,0,0,0,0,{"$f":"IF(ISERROR(-ABS(CY48*$FY48)),\"\",(-ABS(CY48*$FY48)))","v":0},0,0,0,0,0,0]
[null,null,null,"自ら生成した電力の供給",null,null,{"$f":"'２．算定報告様式(建物系)'!G49","v":"千kWh"},{"$f":"'２．算定報告様式(建物系)'!H49","v":0},{"$f":"'２．算定報告様式(建物系)'!I49","v":0},{"$f":"'２．算定報告様式(建物系)'!J49","v":0},{"$f":"'２．算定報告様式(建物系)'!K49","v":0},{"$f":"'２．算定報告様式(建物系)'!L49","v":0},{"$f":"'２．算定報告様式(建物系)'!M49","v":0},{"$f":"'２．算定報告様式(建物系)'!N49","v":0},{"$f":"'２．算定報告様式(建物系)'!O49","v":0},{"$f":"'２．算定報告様式(建物系)'!P49","v":0},{"$f":"'２．算定報告様式(建物系)'!Q49","v":0},{"$f":"'２．算定報告様式(建物系)'!R49","v":0},{"$f":"'２．算定報告様式(建物系)'!S49","v":0},{"$f":"'２．算定報告様式(建物系)'!T49","v":0},{"$f":"'２．算定報告様式(建物系)'!U49","v":0},{"$f":"'２．算定報告様式(建物系)'!V49","v":0},{"$f":"'２．算定報告様式(建物系)'!W49","v":0},{"$f":"'２．算定報告様式(建物系)'!X49","v":0},{"$f":"'２．算定報告様式(建物系)'!Y49","v":0},{"$f":"'２．算定報告様式(建物系)'!Z49","v":0},{"$f":"'２．算定報告様式(建物系)'!AA49","v":0},{"$f":"'２．算定報告様式(建物系)'!AB49","v":0},{"$f":"'２．算定報告様式(建物系)'!AC49","v":0},{"$f":"'２．算定報告様式(建物系)'!AD49","v":0},{"$f":"'２．算定報告様式(建物系)'!AE49","v":0},{"$f":"'２．算定報告様式(建物系)'!AF49","v":0},{"$f":"'２．算定報告様式(建物系)'!AG49","v":0},{"$f":"'２．算定報告様式(建物系)'!AH49","v":0},null,null,null,null,{"$f":"'１．燃料単位換算(建物系)'!AG54","v":0},{"$f":"'１．燃料単位換算(建物系)'!AH54","v":0},{"$f":"'１．燃料単位換算(建物系)'!AI54","v":0},{"$f":"'１．燃料単位換算(建物系)'!AJ54","v":0},{"$f":"'１．燃料単位換算(建物系)'!AK54","v":0},{"$f":"'１．燃料単位換算(建物系)'!AL54","v":0},{"$f":"'１．燃料単位換算(建物系)'!AM54","v":0},{"$f":"'１．燃料単位換算(建物系)'!AN54","v":0},{"$f":"'１．燃料単位換算(建物系)'!AO54","v":0},{"$f":"'１．燃料単位換算(建物系)'!AP54","v":0},{"$f":"'１．燃料単位換算(建物系)'!AQ54","v":0},{"$f":"'１．燃料単位換算(建物系)'!AR54","v":0},{"$f":"'１．燃料単位換算(建物系)'!AS54","v":0},{"$f":"'１．燃料単位換算(建物系)'!AT54","v":0},{"$f":"'１．燃料単位換算(建物系)'!AU54","v":0},{"$f":"'１．燃料単位換算(建物系)'!AV54","v":0},{"$f":"'１．燃料単位換算(建物系)'!AW54","v":0},{"$f":"'１．燃料単位換算(建物系)'!AX54","v":0},{"$f":"'１．燃料単位換算(建物系)'!AY54","v":0},{"$f":"'１．燃料単位換算(建物系)'!AZ54","v":0},{"$f":"'１．燃料単位換算(建物系)'!BA54","v":0},{"$f":"'１．燃料単位換算(建物系)'!BB54","v":0},{"$f":"'１．燃料単位換算(建物系)'!BC54","v":0},0,0,0,0,0,0,0,0,0,0,0,0,0,0,0,0,0,0,0,0,0,0,0,{"$f":"VLOOKUP($G49,$GB$6:$GC$17,2,FALSE)","v":1},"千kWh",0,0,0,0,0,0,0,0,0,0,0,0,0,0,0,0,0,0,0,0,0,0,0,null,null,null,null,null,null,null,null,null,null,null,null,null,null,null,null,null,null,null,null,null,null,null,null,null,null,null,null,null,null,null,null,null,null,null,null,null,null,null,null,null,null,null,null,null,null,0,0,0,0,0,0,0,0,0,0,0,0,0,0,0,0,0,0,0,0,0,0,0]
[null,null,null,"小　　計",null,null,{"$f":"'２．算定報告様式(建物系)'!G50","v":0},{"$f":"'２．算定報告様式(建物系)'!H50","v":0},{"$f":"'２．算定報告様式(建物系)'!I50","v":0},{"$f":"'２．算定報告様式(建物系)'!J50","v":0},{"$f":"'２．算定報告様式(建物系)'!K50","v":0},{"$f":"'２．算定報告様式(建物系)'!L50","v":0},{"$f":"'２．算定報告様式(建物系)'!M50","v":0},{"$f":"'２．算定報告様式(建物系)'!N50","v":0},{"$f":"'２．算定報告様式(建物系)'!O50","v":0},{"$f":"'２．算定報告様式(建物系)'!P50","v":0},{"$f":"'２．算定報告様式(建物系)'!Q50","v":0},{"$f":"'２．算定報告様式(建物系)'!R50","v":0},{"$f":"'２．算定報告様式(建物系)'!S50","v":0},{"$f":"'２．算定報告様式(建物系)'!T50","v":0},{"$f":"'２．算定報告様式(建物系)'!U50","v":0},{"$f":"'２．算定報告様式(建物系)'!V50","v":0},{"$f":"'２．算定報告様式(建物系)'!W50","v":0},{"$f":"'２．算定報告様式(建物系)'!X50","v":0},{"$f":"'２．算定報告様式(建物系)'!Y50","v":0},{"$f":"'２．算定報告様式(建物系)'!Z50","v":0},{"$f":"'２．算定報告様式(建物系)'!AA50","v":0},{"$f":"'２．算定報告様式(建物系)'!AB50","v":0},{"$f":"'２．算定報告様式(建物系)'!AC50","v":0},{"$f":"'２．算定報告様式(建物系)'!AD50","v":0},{"$f":"'２．算定報告様式(建物系)'!AE50","v":0},{"$f":"'２．算定報告様式(建物系)'!AF50","v":0},{"$f":"'２．算定報告様式(建物系)'!AG50","v":0},{"$f":"'２．算定報告様式(建物系)'!AH50","v":0},null,null,null,null,null,null,null,null,null,null,null,null,null,null,null,null,null,null,null,null,null,null,null,null,null,null,null,null,null,null,null,null,null,null,null,null,null,null,null,null,null,null,null,null,null,null,null,null,null,null,null,null,null,null,null,null,null,null,null,null,null,null,null,null,null,null,null,null,null,null,null,null,null,null,null,null,null,null,null,null,null,null,null,null,null,null,null,null,null,null,null,null,null,null,null,null,null,null,null,null,null,null,null,null,null,null,null,null,null,null,null,null,null,null,null,null,null,null,null,null,null,{"$f":"SUBTOTAL(9,EZ48:EZ49)","v":0},{"$f":"SUBTOTAL(9,FA48:FA49)","v":0},0,0,0,0,0,0,0,0,0,0,0,0,0,0,0,0,0,0,0,0,0]
[null,null,null,"コージェネレーションＣＯ₂削減量",null,null,{"$f":"'２．算定報告様式(建物系)'!G52","v":"t-CO2"},{"$f":"'２．算定報告様式(建物系)'!H52","v":0},{"$f":"'２．算定報告様式(建物系)'!I52","v":0},{"$f":"'２．算定報告様式(建物系)'!J52","v":0},{"$f":"'２．算定報告様式(建物系)'!K52","v":0},{"$f":"'２．算定報告様式(建物系)'!L52","v":0},{"$f":"'２．算定報告様式(建物系)'!M52","v":0},{"$f":"'２．算定報告様式(建物系)'!N52","v":0},{"$f":"'２．算定報告様式(建物系)'!O52","v":0},{"$f":"'２．算定報告様式(建物系)'!P52","v":0},{"$f":"'２．算定報告様式(建物系)'!Q52","v":0},{"$f":"'２．算定報告様式(建物系)'!R52","v":0},{"$f":"'２．算定報告様式(建物系)'!S52","v":0},{"$f":"'２．算定報告様式(建物系)'!T52","v":0},{"$f":"'２．算定報告様式(建物系)'!U52","v":0},{"$f":"'２．算定報告様式(建物系)'!V52","v":0},{"$f":"'２．算定報告様式(建物系)'!W52","v":0},{"$f":"'２．算定報告様式(建物系)'!X52","v":0},{"$f":"'２．算定報告様式(建物系)'!Y52","v":0},{"$f":"'２．算定報告様式(建物系)'!Z52","v":0},{"$f":"'２．算定報告様式(建物系)'!AA52","v":0},{"$f":"'２．算定報告様式(建物系)'!AB52","v":0},{"$f":"'２．算定報告様式(建物系)'!AC52","v":0},{"$f":"'２．算定報告様式(建物系)'!AD52","v":0},{"$f":"'２．算定報告様式(建物系)'!AE52","v":0},{"$f":"'２．算定報告様式(建物系)'!AF52","v":0},{"$f":"'２．算定報告様式(建物系)'!AG52","v":0},{"$f":"'２．算定報告様式(建物系)'!AH52","v":0},null,null,null,null,null,null,null,null,null,null,null,null,null,null,null,null,null,null,null,null,null,null,null,null,null,null,null,null,null,null,null,null,null,null,null,null,null,null,null,null,null,null,null,null,null,null,null,null,null,null,1,"t-CO2",{"$f":"H14_控除後使用量/単位補正","v":0},{"$f":"H15_控除後使用量/単位補正","v":0},{"$f":"H16_控除後使用量/単位補正","v":0},{"$f":"H17_控除後使用量/単位補正","v":0},{"$f":"H18_控除後使用量/単位補正","v":0},{"$f":"H19_控除後使用量/単位補正","v":0},{"$f":"H20_控除後使用量/単位補正","v":0},{"$f":"H21_控除後使用量/単位補正","v":0},{"$f":"H22_控除後使用量/単位補正","v":0},{"$f":"H23_控除後使用量/単位補正","v":0},{"$f":"H24_控除後使用量/単位補正","v":0},{"$f":"H25_控除後使用量/単位補正","v":0},{"$f":"H26_控除後使用量/単位補正","v":0},{"$f":"H27_控除後使用量/単位補正","v":0},{"$f":"H28_控除後使用量/単位補正","v":0},{"$f":"H29_控除後使用量/単位補正","v":0},{"$f":"H30_控除後使用量/単位補正","v":0},{"$f":"ROUND(CA51/単位補正,0)","v":0},0,0,0,0,0,null,null,null,null,null,null,null,null,null,null,null,null,null,null,null,null,null,null,null,null,null,null,null,null,null,null,null,null,null,null,null,null,null,null,null,null,null,null,null,null,null,null,null,null,null,null,{"$f":"-ABS(L51)","v":0},0,0,0,0,0,0,0,0,0,0,0,0,0,0,0,0,0,0,0,0,0,0]
[null,null,null,"合　　計",null,null,null,null,null,null,null,{"$f":"L35+L41+L47+L50","v":0},{"$f":"M35+M41+M47+M50","v":0},0,0,0,0,0,0,0,0,0,0,0,0,0,0,0,0,0,0,0,0,0,0,0,0,0,0,0,0,0,0,0,0,0,0,0,0,0,0,0,0,0,0,0,0,0,0,0,0,null,null,null,null,null,null,null,null,null,null,null,null,null,null,null,null,null,null,null,null,null,null,null,null,null,null,null,null,null,null,null,null,null,null,null,null,null,null,null,null,null,null,null,null,null,null,null,null,{"$f":"DF35+DF41+DF47","v":0},{"$f":"DG35+DG41+DG47","v":0},0,0,0,0,0,0,0,0,0,0,0,0,0,0,0,0,0,0,0,0,0,{"$f":"DF52*$GC$19","v":0},0,0,0,0,0,0,0,0,0,0,0,0,0,0,0,0,0,0,0,0,0,0,{"$f":"ROUND((IF(EZ35+EZ41+EZ47+EZ50+EZ51<0,0,EZ35+EZ41+EZ47+EZ50+EZ51)),0)","v":0},{"$f":"ROUND((IF(FA35+FA41+FA47+FA50+FA51<0,0,FA35+FA41+FA47+FA50+FA51)),0)","v":0},0,0,0,0,0,0,0,0,0,0,0,0,0,0,0,0,0,0,0,0,0]

{"sheet":"５’．ｋL・CO₂量（工事・現場）《参考》","index":16,"n_rows":52,"n_cols":186,"rows_kept":52,"cut":false,"hidden":true,"merged":[[0,179,0,181],[2,2,4,2],[2,3,4,5],[2,6,4,6],[2,7,2,98],[2,178,4,179],[2,180,4,181],[3,7,3,33],[3,34,3,60],[3,61,3,78],[3,155,3,177],[3,84,4,84],[3,85,3,108],[3,109,3,131],[3,132,3,154],[12,3,12,5],[13,3,13,5],[23,3,23,5],[15,3,16,3],[15,4,15,5],[16,4,16,5],[17,3,18,3],[17,4,17,5],[18,4,18,5],[19,3,21,3],[19,4,19,5],[20,4,20,5],[21,4,21,5],[22,3,22,5],[24,3,24,5],[25,3,25,5],[26,3,26,5],[27,3,33,3],[27,4,31,4],[32,4,32,5],[33,4,33,5],[34,3,34,5],[35,2,40,2],[35,3,35,5],[36,3,36,5],[37,3,37,5],[38,3,38,5],[39,3,39,5],[5,2,34,2],[5,3,5,5],[6,3,6,5],[7,3,7,5],[8,3,8,5],[14,3,14,5],[9,3,9,5],[10,3,10,5],[11,3,11,5],[39,178,39,179],[40,3,40,5],[41,2,45,2],[41,3,42,3],[41,4,41,5],[42,4,42,5],[43,3,43,5],[44,3,44,5],[44,178,44,179],[45,3,45,5],[45,178,45,179],[46,3,46,5],[46,178,46,179],[47,2,48,2],[47,3,47,5],[47,178,47,179],[48,3,48,5],[48,178,48,179],[49,3,49,5],[49,178,49,179],[50,3,50,5],[50,178,50,179],[51,3,51,5]]}
[null,null,"５’．ｋL・CO₂量（工場・現場）《参考》"]
[null,null,null,null,null,null,null,null,null,null,null,null,null,null,null,null,null,null,null,null,null,null,null,null,null,null,null,null,null,null,null,null,null,null,null,null,null,null,null,null,null,null,null,null,null,null,null,null,null,null,null,null,null,null,null,null,null,null,null,null,null,null,null,null,null,null,null,null,null,null,null,null,null,null,null,null,null,null,null,null,null,null,null,null,null,null,null,null,null,null,null,null,null,null,null,null,null,null,null,null,null,null,null,null,null,null,null,null,null,null,null,null,null,null,null,null,null,null,null,null,null,null,null,null,null,null,null,null,null,null,null,null,null,null,null,null,null,null,null,null,null,null,null,null,null,null,null,null,null,null,null,null,null,null,null,null,null,null,null,null,null,null,null,null,null,null,null,null,null,null,null,null,null,null,null,null,null,null,"原油換算：",2.58E-2,"ｋL/GJ"]
[null,null,"排出活動","区分",null,null,"単位","使　　　　　　　　　　用　　　　　　　　　　量",null,null,null,null,null,null,null,null,null,null,null,null,null,null,null,null,null,null,null,null,null,null,null,null,null,null,null,null,null,null,null,null,null,null,null,null,null,null,null,null,null,null,null,null,null,null,null,null,null,null,null,null,null,null,null,null,null,null,null,null,null,null,null,null,null,null,null,null,null,null,null,null,null,null,null,null,null,null,null,null,null,null,null,null,null,null,null,null,null,null,null,null,null,null,null,null,null,null,null,null,null,null,null,null,null,null,null,null,null,null,null,null,null,null,null,null,null,null,null,null,null,null,null,null,null,null,null,null,null,null,null,null,null,null,null,null,null,null,null,null,null,null,null,null,null,null,null,null,null,null,null,null,null,null,null,null,null,null,null,null,null,null,null,null,null,null,null,null,null,null,"単位当たり発熱量",null,"排出係数"]
[null,null,null,null,null,null,null,"事業所内使用量",null,null,null,null,null,null,null,null,null,null,null,null,null,null,null,null,null,null,null,null,null,null,null,null,null,null,"算定対象外使用量",null,null,null,null,null,null,null,null,null,null,null,null,null,null,null,null,null,null,null,null,null,null,null,null,null,null,"控除後使用量",null,null,null,null,null,null,null,null,null,null,null,null,null,null,null,null,null,null,null,null,null,null,"単位補正","控除後使用量　単位補正後",null,null,null,null,null,null,null,null,null,null,null,null,null,null,null,null,null,null,null,null,null,null,null,"エネルギー発熱量（GJ)　",null,null,null,null,null,null,null,null,null,null,null,null,null,null,null,null,null,null,null,null,null,null,"原油換算使用量（ｋL)　",null,null,null,null,null,null,null,null,null,null,null,null,null,null,null,null,null,null,null,null,null,null,"CO₂換算使用量　（t-CO₂）"]
[null,null,null,null,null,null,null,"燃料等\n監視点","計量器の種類","検定等の有無","入力方法","14年度(2002)","15年度(2003)","16年度(2004)","17年度(2005)","18年度(2006)","19年度(2007)","20年度(2008)","21年度(2009)","22年度(2010)","23年度(2011)","24年度(2012)","25年度(2013)","26年度(2014)","27年度(2015)","28年度(2016)","29年度(2017)","30年度(2018)","31/1年度\n(2019)","2年度\n(2020)","3年度\n(2021)","4年度\n(2022)","5年度\n(2023)","6年度\n(2024)","燃料等\n監視点","計量器の種類","検定等の有無","入力方法","14年度(2002)","15年度(2003)","16年度(2004)","17年度(2005)","18年度(2006)","19年度(2007)","20年度(2008)","21年度(2009)","22年度(2010)","23年度(2011)","24年度(2012)","25年度(2013)","26年度(2014)","27年度(2015)","28年度(2016)","29年度(2017)","30年度(2018)","31/1年度\n(2019)","2年度\n(2020)","3年度\n(2021)","4年度\n(2022)","5年度\n(2023)","6年度\n(2024)","14年度(2002)","15年度(2003)","16年度(2004)","17年度(2005)","18年度(2006)","19年度(2007)","20年度(2008)","21年度(2009)","22年度(2010)","23年度(2011)","24年度(2012)","25年度(2013)","26年度(2014)","27年度(2015)","28年度(2016)","29年度(2017)","30年度(2018)","31/1年度\n(2019)","2年度\n(2020)","3年度\n(2021)","4年度\n(2022)","5年度\n(2023)","6年度\n(2024)",null,"単位","14年度(2002)","15年度(2003)","16年度(2004)","17年度(2005)","18年度(2006)","19年度(2007)","20年度(2008)","21年度(2009)","22年度(2010)","23年度(2011)","24年度(2012)","25年度(2013)","26年度(2014)","27年度(2015)","28年度(2016)","29年度(2017)","30年度(2018)","31/1年度\n(2019)","2年度\n(2020)","3年度\n(2021)","4年度\n(2022)","5年度\n(2023)","6年度\n(2024)","14年度(2002)","15年度(2003)","16年度(2004)","17年度(2005)","18年度(2006)","19年度(2007)","20年度(2008)","21年度(2009)","22年度(2010)","23年度(2011)","24年度(2012)","25年度(2013)","26年度(2014)","27年度(2015)","28年度(2016)","29年度(2017)","30年度(2018)","31/1年度\n(2019)","2年度\n(2020)","3年度\n(2021)","4年度\n(2022)","5年度\n(2023)","6年度\n(2024)","14年度(2002)","15年度(2003)","16年度(2004)","17年度(2005)","18年度(2006)","19年度(2007)","20年度(2008)","21年度(2009)","22年度(2010)","23年度(2011)","24年度(2012)","25年度(2013)","26年度(2014)","27年度(2015)","28年度(2016)","29年度(2017)","30年度(2018)","31/1年度\n(2019)","2年度\n(2020)","3年度\n(2021)","4年度\n(2022)","5年度\n(2023)","6年度\n(2024)","14年度(2002)","15年度(2003)","16年度(2004)","17年度(2005)","18年度(2006)","19年度(2007)","20年度(2008)","21年度(2009)","22年度(2010)","23年度(2011)","24年度(2012)","25年度(2013)","26年度(2014)","27年度(2015)","28年度(2016)","29年度(2017)","30年度(2018)","31/1年度\n(2019)","2年度\n(2020)","3年度\n(2021)","4年度\n(2022)","5年度\n(2023)","6年度\n(2024)"]
[null,null,"燃料","原油（コンデンセートを除く）",null,null,{"$f":"'５．算定報告様式(工場現場)'!G6","v":"L"},{"$f":"'５．算定報告様式(工場現場)'!H6","v":0},{"$f":"'５．算定報告様式(工場現場)'!I6","v":0},{"$f":"'５．算定報告様式(工場現場)'!J6","v":0},{"$f":"'５．算定報告様式(工場現場)'!K6","v":0},{"$f":"'５．算定報告様式(工場現場)'!L6","v":0},{"$f":"'５．算定報告様式(工場現場)'!M6","v":0},{"$f":"'５．算定報告様式(工場現場)'!N6","v":0},{"$f":"'５．算定報告様式(工場現場)'!O6","v":0},{"$f":"'５．算定報告様式(工場現場)'!P6","v":0},{"$f":"'５．算定報告様式(工場現場)'!Q6","v":0},{"$f":"'５．算定報告様式(工場現場)'!R6","v":0},{"$f":"'５．算定報告様式(工場現場)'!S6","v":0},{"$f":"'５．算定報告様式(工場現場)'!T6","v":0},{"$f":"'５．算定報告様式(工場現場)'!U6","v":0},{"$f":"'５．算定報告様式(工場現場)'!V6","v":0},{"$f":"'５．算定報告様式(工場現場)'!W6","v":0},{"$f":"'５．算定報告様式(工場現場)'!X6","v":0},{"$f":"'５．算定報告様式(工場現場)'!Y6","v":0},{"$f":"'５．算定報告様式(工場現場)'!Z6","v":0},{"$f":"'５．算定報告様式(工場現場)'!AA6","v":0},{"$f":"'５．算定報告様式(工場現場)'!AB6","v":0},{"$f":"'５．算定報告様式(工場現場)'!AC6","v":0},{"$f":"'５．算定報告様式(工場現場)'!AD6","v":0},{"$f":"'５．算定報告様式(工場現場)'!AE6","v":0},{"$f":"'５．算定報告様式(工場現場)'!AF6","v":0},{"$f":"'５．算定報告様式(工場現場)'!AG6","v":0},{"$f":"'５．算定報告様式(工場現場)'!AH6","v":0},null,null,null,null,null,null,null,null,null,null,null,null,null,null,null,null,null,null,null,null,null,null,null,null,null,null,null,{"$f":"L6-AM6","v":0},0,0,0,0,0,0,0,0,0,0,0,0,0,0,0,{"$f":"AB6-BC6","v":0},0,0,0,0,0,0,{"$f":"VLOOKUP($G6,$GB$6:$GC$15,2,FALSE)","v":1000},"ｋL",{"$f":"ROUND(BJ6/$CG6,0)","v":0},{"$f":"ROUND(BK6/$CG6,0)","v":0},0,0,0,0,0,0,0,0,0,0,0,0,0,0,0,{"$f":"ROUND(CA6/$CG6,0)","v":0},0,0,0,0,0,{"$f":"CI6*$FW6","v":0},0,0,0,0,0,0,0,0,0,0,0,0,0,0,0,{"$f":"CY6*$FW6","v":0},0,0,0,0,0,0,{"$f":"DF6*$GC$19","v":0},0,0,0,0,0,0,0,0,0,0,0,0,0,0,0,{"$f":"DV6*$GC$19","v":0},0,0,0,0,0,0,{"$f":"DF6*$FY6*44/12","v":0},0,0,0,0,0,0,0,0,0,0,0,0,0,0,0,{"$f":"DV6*$FY6*44/12","v":0},0,0,0,0,0,0,38.200000000000003,"GJ/kL",1.8700000000000001E-2,"t-C/GJ",null,"L",1000]
[null,null,null,"原油のうちコンデンセート（ＮＧＬ）",null,null,{"$f":"'５．算定報告様式(工場現場)'!G7","v":"L"},{"$f":"'５．算定報告様式(工場現場)'!H7","v":0},{"$f":"'５．算定報告様式(工場現場)'!I7","v":0},{"$f":"'５．算定報告様式(工場現場)'!J7","v":0},{"$f":"'５．算定報告様式(工場現場)'!K7","v":0},{"$f":"'５．算定報告様式(工場現場)'!L7","v":0},{"$f":"'５．算定報告様式(工場現場)'!M7","v":0},{"$f":"'５．算定報告様式(工場現場)'!N7","v":0},{"$f":"'５．算定報告様式(工場現場)'!O7","v":0},{"$f":"'５．算定報告様式(工場現場)'!P7","v":0},{"$f":"'５．算定報告様式(工場現場)'!Q7","v":0},{"$f":"'５．算定報告様式(工場現場)'!R7","v":0},{"$f":"'５．算定報告様式(工場現場)'!S7","v":0},{"$f":"'５．算定報告様式(工場現場)'!T7","v":0},{"$f":"'５．算定報告様式(工場現場)'!U7","v":0},{"$f":"'５．算定報告様式(工場現場)'!V7","v":0},{"$f":"'５．算定報告様式(工場現場)'!W7","v":0},{"$f":"'５．算定報告様式(工場現場)'!X7","v":0},{"$f":"'５．算定報告様式(工場現場)'!Y7","v":0},{"$f":"'５．算定報告様式(工場現場)'!Z7","v":0},{"$f":"'５．算定報告様式(工場現場)'!AA7","v":0},{"$f":"'５．算定報告様式(工場現場)'!AB7","v":0},{"$f":"'５．算定報告様式(工場現場)'!AC7","v":0},{"$f":"'５．算定報告様式(工場現場)'!AD7","v":0},{"$f":"'５．算定報告様式(工場現場)'!AE7","v":0},{"$f":"'５．算定報告様式(工場現場)'!AF7","v":0},{"$f":"'５．算定報告様式(工場現場)'!AG7","v":0},{"$f":"'５．算定報告様式(工場現場)'!AH7","v":0},null,null,null,null,null,null,null,null,null,null,null,null,null,null,null,null,null,null,null,null,null,null,null,null,null,null,null,0,0,0,0,0,0,0,0,0,0,0,0,0,0,0,0,0,0,0,0,0,0,0,1000,"ｋL",{"$f":"ROUND(BJ7/$CG7,0)","v":0},0,0,0,0,0,0,0,0,0,0,0,0,0,0,0,0,0,0,0,0,0,0,0,0,0,0,0,0,0,0,0,0,0,0,0,0,0,0,0,0,0,0,0,0,0,0,0,0,0,0,0,0,0,0,0,0,0,0,0,0,0,0,0,0,0,0,0,0,0,0,0,0,0,0,0,0,0,0,0,0,0,0,0,0,0,0,0,0,0,0,0,35.299999999999997,"GJ/kL",1.84E-2,"t-C/GJ",null,"kL",1]
[null,null,null,"揮発油（ガソリン）",null,null,{"$f":"'５．算定報告様式(工場現場)'!G8","v":"kL"},{"$f":"'５．算定報告様式(工場現場)'!H8","v":0},{"$f":"'５．算定報告様式(工場現場)'!I8","v":0},{"$f":"'５．算定報告様式(工場現場)'!J8","v":0},{"$f":"'５．算定報告様式(工場現場)'!K8","v":0},{"$f":"'５．算定報告様式(工場現場)'!L8","v":0},{"$f":"'５．算定報告様式(工場現場)'!M8","v":0},{"$f":"'５．算定報告様式(工場現場)'!N8","v":0},{"$f":"'５．算定報告様式(工場現場)'!O8","v":0},{"$f":"'５．算定報告様式(工場現場)'!P8","v":0},{"$f":"'５．算定報告様式(工場現場)'!Q8","v":0},{"$f":"'５．算定報告様式(工場現場)'!R8","v":0},{"$f":"'５．算定報告様式(工場現場)'!S8","v":0},{"$f":"'５．算定報告様式(工場現場)'!T8","v":0},{"$f":"'５．算定報告様式(工場現場)'!U8","v":0},{"$f":"'５．算定報告様式(工場現場)'!V8","v":0},{"$f":"'５．算定報告様式(工場現場)'!W8","v":0},{"$f":"'５．算定報告様式(工場現場)'!X8","v":0},{"$f":"'５．算定報告様式(工場現場)'!Y8","v":0},{"$f":"'５．算定報告様式(工場現場)'!Z8","v":0},{"$f":"'５．算定報告様式(工場現場)'!AA8","v":0},{"$f":"'５．算定報告様式(工場現場)'!AB8","v":0},{"$f":"'５．算定報告様式(工場現場)'!AC8","v":0},{"$f":"'５．算定報告様式(工場現場)'!AD8","v":0},{"$f":"'５．算定報告様式(工場現場)'!AE8","v":0},{"$f":"'５．算定報告様式(工場現場)'!AF8","v":0},{"$f":"'５．算定報告様式(工場現場)'!AG8","v":0},{"$f":"'５．算定報告様式(工場現場)'!AH8","v":0},null,null,null,null,null,null,null,null,null,null,null,null,null,null,null,null,null,null,null,null,null,null,null,null,null,null,null,0,0,0,0,0,0,0,0,0,0,0,0,0,0,0,0,0,0,0,0,0,0,0,1,"ｋL",0,0,0,0,0,0,0,0,0,0,0,0,0,0,0,0,0,0,0,0,0,0,0,0,0,0,0,0,0,0,0,0,0,0,0,0,0,0,0,0,0,0,0,0,0,0,0,0,0,0,0,0,0,0,0,0,0,0,0,0,0,0,0,0,0,0,0,0,0,0,0,0,0,0,0,0,0,0,0,0,0,0,0,0,0,0,0,0,0,0,0,0,34.6,"GJ/kL",1.83E-2,"t-C/GJ",null,"kg",1000]
[null,null,null,"ナフサ",null,null,{"$f":"'５．算定報告様式(工場現場)'!G9","v":"L"},{"$f":"'５．算定報告様式(工場現場)'!H9","v":0},{"$f":"'５．算定報告様式(工場現場)'!I9","v":0},{"$f":"'５．算定報告様式(工場現場)'!J9","v":0},{"$f":"'５．算定報告様式(工場現場)'!K9","v":0},{"$f":"'５．算定報告様式(工場現場)'!L9","v":0},{"$f":"'５．算定報告様式(工場現場)'!M9","v":0},{"$f":"'５．算定報告様式(工場現場)'!N9","v":0},{"$f":"'５．算定報告様式(工場現場)'!O9","v":0},{"$f":"'５．算定報告様式(工場現場)'!P9","v":0},{"$f":"'５．算定報告様式(工場現場)'!Q9","v":0},{"$f":"'５．算定報告様式(工場現場)'!R9","v":0},{"$f":"'５．算定報告様式(工場現場)'!S9","v":0},{"$f":"'５．算定報告様式(工場現場)'!T9","v":0},{"$f":"'５．算定報告様式(工場現場)'!U9","v":0},{"$f":"'５．算定報告様式(工場現場)'!V9","v":0},{"$f":"'５．算定報告様式(工場現場)'!W9","v":0},{"$f":"'５．算定報告様式(工場現場)'!X9","v":0},{"$f":"'５．算定報告様式(工場現場)'!Y9","v":0},{"$f":"'５．算定報告様式(工場現場)'!Z9","v":0},{"$f":"'５．算定報告様式(工場現場)'!AA9","v":0},{"$f":"'５．算定報告様式(工場現場)'!AB9","v":0},{"$f":"'５．算定報告様式(工場現場)'!AC9","v":0},{"$f":"'５．算定報告様式(工場現場)'!AD9","v":0},{"$f":"'５．算定報告様式(工場現場)'!AE9","v":0},{"$f":"'５．算定報告様式(工場現場)'!AF9","v":0},{"$f":"'５．算定報告様式(工場現場)'!AG9","v":0},{"$f":"'５．算定報告様式(工場現場)'!AH9","v":0},null,null,null,null,null,null,null,null,null,null,null,null,null,null,null,null,null,null,null,null,null,null,null,null,null,null,null,0,0,0,0,0,0,0,0,0,0,0,0,0,0,0,0,0,0,0,0,0,0,0,1000,"ｋL",0,0,0,0,0,0,0,0,0,0,0,0,0,0,0,0,0,0,0,0,0,0,0,0,0,0,0,0,0,0,0,0,0,0,0,0,0,0,0,0,0,0,0,0,0,0,0,0,0,0,0,0,0,0,0,0,0,0,0,0,0,0,0,0,0,0,0,0,0,0,0,0,0,0,0,0,0,0,0,0,0,0,0,0,0,0,0,0,0,0,0,0,33.6,"GJ/kL",1.8200000000000001E-2,"t-C/GJ",null,"t",1]
[null,null,null,"灯油",null,null,{"$f":"'５．算定報告様式(工場現場)'!G10","v":"L"},{"$f":"'５．算定報告様式(工場現場)'!H10","v":0},{"$f":"'５．算定報告様式(工場現場)'!I10","v":0},{"$f":"'５．算定報告様式(工場現場)'!J10","v":0},{"$f":"'５．算定報告様式(工場現場)'!K10","v":0},{"$f":"'５．算定報告様式(工場現場)'!L10","v":0},{"$f":"'５．算定報告様式(工場現場)'!M10","v":0},{"$f":"'５．算定報告様式(工場現場)'!N10","v":0},{"$f":"'５．算定報告様式(工場現場)'!O10","v":0},{"$f":"'５．算定報告様式(工場現場)'!P10","v":0},{"$f":"'５．算定報告様式(工場現場)'!Q10","v":0},{"$f":"'５．算定報告様式(工場現場)'!R10","v":0},{"$f":"'５．算定報告様式(工場現場)'!S10","v":0},{"$f":"'５．算定報告様式(工場現場)'!T10","v":0},{"$f":"'５．算定報告様式(工場現場)'!U10","v":0},{"$f":"'５．算定報告様式(工場現場)'!V10","v":0},{"$f":"'５．算定報告様式(工場現場)'!W10","v":0},{"$f":"'５．算定報告様式(工場現場)'!X10","v":0},{"$f":"'５．算定報告様式(工場現場)'!Y10","v":0},{"$f":"'５．算定報告様式(工場現場)'!Z10","v":0},{"$f":"'５．算定報告様式(工場現場)'!AA10","v":0},{"$f":"'５．算定報告様式(工場現場)'!AB10","v":0},{"$f":"'５．算定報告様式(工場現場)'!AC10","v":0},{"$f":"'５．算定報告様式(工場現場)'!AD10","v":0},{"$f":"'５．算定報告様式(工場現場)'!AE10","v":0},{"$f":"'５．算定報告様式(工場現場)'!AF10","v":0},{"$f":"'５．算定報告様式(工場現場)'!AG10","v":0},{"$f":"'５．算定報告様式(工場現場)'!AH10","v":0},null,null,null,null,null,null,null,null,null,null,null,null,null,null,null,null,null,null,null,null,null,null,null,null,null,null,null,0,0,0,0,0,0,0,0,0,0,0,0,0,0,0,0,0,0,0,0,0,0,0,1000,"ｋL",0,0,0,0,0,0,0,0,0,0,0,0,0,0,0,0,0,0,0,0,0,0,0,0,0,0,0,0,0,0,0,0,0,0,0,0,0,0,0,0,0,0,0,0,0,0,0,0,0,0,0,0,0,0,0,0,0,0,0,0,0,0,0,0,0,0,0,0,0,0,0,0,0,0,0,0,0,0,0,0,0,0,0,0,0,0,0,0,0,0,0,0,36.700000000000003,"GJ/kL",1.8499999999999999E-2,"t-C/GJ",null,"Nm3",1000]
[null,null,null,"軽油",null,null,{"$f":"'５．算定報告様式(工場現場)'!G11","v":"L"},{"$f":"'５．算定報告様式(工場現場)'!H11","v":0},{"$f":"'５．算定報告様式(工場現場)'!I11","v":0},{"$f":"'５．算定報告様式(工場現場)'!J11","v":0},{"$f":"'５．算定報告様式(工場現場)'!K11","v":0},{"$f":"'５．算定報告様式(工場現場)'!L11","v":0},{"$f":"'５．算定報告様式(工場現場)'!M11","v":0},{"$f":"'５．算定報告様式(工場現場)'!N11","v":0},{"$f":"'５．算定報告様式(工場現場)'!O11","v":0},{"$f":"'５．算定報告様式(工場現場)'!P11","v":0},{"$f":"'５．算定報告様式(工場現場)'!Q11","v":0},{"$f":"'５．算定報告様式(工場現場)'!R11","v":0},{"$f":"'５．算定報告様式(工場現場)'!S11","v":0},{"$f":"'５．算定報告様式(工場現場)'!T11","v":0},{"$f":"'５．算定報告様式(工場現場)'!U11","v":0},{"$f":"'５．算定報告様式(工場現場)'!V11","v":0},{"$f":"'５．算定報告様式(工場現場)'!W11","v":0},{"$f":"'５．算定報告様式(工場現場)'!X11","v":0},{"$f":"'５．算定報告様式(工場現場)'!Y11","v":0},{"$f":"'５．算定報告様式(工場現場)'!Z11","v":0},{"$f":"'５．算定報告様式(工場現場)'!AA11","v":0},{"$f":"'５．算定報告様式(工場現場)'!AB11","v":0},{"$f":"'５．算定報告様式(工場現場)'!AC11","v":0},{"$f":"'５．算定報告様式(工場現場)'!AD11","v":0},{"$f":"'５．算定報告様式(工場現場)'!AE11","v":0},{"$f":"'５．算定報告様式(工場現場)'!AF11","v":0},{"$f":"'５．算定報告様式(工場現場)'!AG11","v":0},{"$f":"'５．算定報告様式(工場現場)'!AH11","v":0},null,null,null,null,null,null,null,null,null,null,null,null,null,null,null,null,null,null,null,null,null,null,null,null,null,null,null,0,0,0,0,0,0,0,0,0,0,0,0,0,0,0,0,0,0,0,0,0,0,0,1000,"ｋL",0,0,0,0,0,0,0,0,0,0,0,0,0,0,0,0,0,0,0,0,0,0,0,0,0,0,0,0,0,0,0,0,0,0,0,0,0,0,0,0,0,0,0,0,0,0,0,0,0,0,0,0,0,0,0,0,0,0,0,0,0,0,0,0,0,0,0,0,0,0,0,0,0,0,0,0,0,0,0,0,0,0,0,0,0,0,0,0,0,0,0,0,37.700000000000003,"GJ/kL",1.8700000000000001E-2,"t-C/GJ",null,"千Nｍ3",1]
[null,null,null,"Ａ重油",null,null,{"$f":"'５．算定報告様式(工場現場)'!G12","v":"L"},{"$f":"'５．算定報告様式(工場現場)'!H12","v":0},{"$f":"'５．算定報告様式(工場現場)'!I12","v":0},{"$f":"'５．算定報告様式(工場現場)'!J12","v":0},{"$f":"'５．算定報告様式(工場現場)'!K12","v":0},{"$f":"'５．算定報告様式(工場現場)'!L12","v":0},{"$f":"'５．算定報告様式(工場現場)'!M12","v":0},{"$f":"'５．算定報告様式(工場現場)'!N12","v":0},{"$f":"'５．算定報告様式(工場現場)'!O12","v":0},{"$f":"'５．算定報告様式(工場現場)'!P12","v":0},{"$f":"'５．算定報告様式(工場現場)'!Q12","v":0},{"$f":"'５．算定報告様式(工場現場)'!R12","v":0},{"$f":"'５．算定報告様式(工場現場)'!S12","v":0},{"$f":"'５．算定報告様式(工場現場)'!T12","v":0},{"$f":"'５．算定報告様式(工場現場)'!U12","v":0},{"$f":"'５．算定報告様式(工場現場)'!V12","v":0},{"$f":"'５．算定報告様式(工場現場)'!W12","v":0},{"$f":"'５．算定報告様式(工場現場)'!X12","v":0},{"$f":"'５．算定報告様式(工場現場)'!Y12","v":0},{"$f":"'５．算定報告様式(工場現場)'!Z12","v":0},{"$f":"'５．算定報告様式(工場現場)'!AA12","v":0},{"$f":"'５．算定報告様式(工場現場)'!AB12","v":0},{"$f":"'５．算定報告様式(工場現場)'!AC12","v":0},{"$f":"'５．算定報告様式(工場現場)'!AD12","v":0},{"$f":"'５．算定報告様式(工場現場)'!AE12","v":0},{"$f":"'５．算定報告様式(工場現場)'!AF12","v":0},{"$f":"'５．算定報告様式(工場現場)'!AG12","v":0},{"$f":"'５．算定報告様式(工場現場)'!AH12","v":0},null,null,null,null,null,null,null,null,null,null,null,null,null,null,null,null,null,null,null,null,null,null,null,null,null,null,null,0,0,0,0,0,0,0,0,0,0,0,0,0,0,0,0,0,0,0,0,0,0,0,1000,"ｋL",0,0,0,0,0,0,0,0,0,0,0,0,0,0,0,0,0,0,0,0,0,0,0,0,0,0,0,0,0,0,0,0,0,0,0,0,0,0,0,0,0,0,0,0,0,0,0,0,0,0,0,0,0,0,0,0,0,0,0,0,0,0,0,0,0,0,0,0,0,0,0,0,0,0,0,0,0,0,0,0,0,0,0,0,0,0,0,0,0,0,0,0,39.1,"GJ/kL",1.89E-2,"t-C/GJ",null,"MJ",1000]
[null,null,null,"Ｂ・Ｃ重油",null,null,{"$f":"'５．算定報告様式(工場現場)'!G13","v":"L"},{"$f":"'５．算定報告様式(工場現場)'!H13","v":0},{"$f":"'５．算定報告様式(工場現場)'!I13","v":0},{"$f":"'５．算定報告様式(工場現場)'!J13","v":0},{"$f":"'５．算定報告様式(工場現場)'!K13","v":0},{"$f":"'５．算定報告様式(工場現場)'!L13","v":0},{"$f":"'５．算定報告様式(工場現場)'!M13","v":0},{"$f":"'５．算定報告様式(工場現場)'!N13","v":0},{"$f":"'５．算定報告様式(工場現場)'!O13","v":0},{"$f":"'５．算定報告様式(工場現場)'!P13","v":0},{"$f":"'５．算定報告様式(工場現場)'!Q13","v":0},{"$f":"'５．算定報告様式(工場現場)'!R13","v":0},{"$f":"'５．算定報告様式(工場現場)'!S13","v":0},{"$f":"'５．算定報告様式(工場現場)'!T13","v":0},{"$f":"'５．算定報告様式(工場現場)'!U13","v":0},{"$f":"'５．算定報告様式(工場現場)'!V13","v":0},{"$f":"'５．算定報告様式(工場現場)'!W13","v":0},{"$f":"'５．算定報告様式(工場現場)'!X13","v":0},{"$f":"'５．算定報告様式(工場現場)'!Y13","v":0},{"$f":"'５．算定報告様式(工場現場)'!Z13","v":0},{"$f":"'５．算定報告様式(工場現場)'!AA13","v":0},{"$f":"'５．算定報告様式(工場現場)'!AB13","v":0},{"$f":"'５．算定報告様式(工場現場)'!AC13","v":0},{"$f":"'５．算定報告様式(工場現場)'!AD13","v":0},{"$f":"'５．算定報告様式(工場現場)'!AE13","v":0},{"$f":"'５．算定報告様式(工場現場)'!AF13","v":0},{"$f":"'５．算定報告様式(工場現場)'!AG13","v":0},{"$f":"'５．算定報告様式(工場現場)'!AH13","v":0},null,null,null,null,null,null,null,null,null,null,null,null,null,null,null,null,null,null,null,null,null,null,null,null,null,null,null,0,0,0,0,0,0,0,0,0,0,0,0,0,0,0,0,0,0,0,0,0,0,0,1000,"ｋL",0,0,0,0,0,0,0,0,0,0,0,0,0,0,0,0,0,0,0,0,0,0,0,0,0,0,0,0,0,0,0,0,0,0,0,0,0,0,0,0,0,0,0,0,0,0,0,0,0,0,0,0,0,0,0,0,0,0,0,0,0,0,0,0,0,0,0,0,0,0,0,0,0,0,0,0,0,0,0,0,0,0,0,0,0,0,0,0,0,0,0,0,41.9,"GJ/kL",1.95E-2,"t-C/GJ",null,"GJ",1]
[null,null,null,"石油アスファルト",null,null,{"$f":"'５．算定報告様式(工場現場)'!G14","v":"kg"},{"$f":"'５．算定報告様式(工場現場)'!H14","v":0},{"$f":"'５．算定報告様式(工場現場)'!I14","v":0},{"$f":"'５．算定報告様式(工場現場)'!J14","v":0},{"$f":"'５．算定報告様式(工場現場)'!K14","v":0},{"$f":"'５．算定報告様式(工場現場)'!L14","v":0},{"$f":"'５．算定報告様式(工場現場)'!M14","v":0},{"$f":"'５．算定報告様式(工場現場)'!N14","v":0},{"$f":"'５．算定報告様式(工場現場)'!O14","v":0},{"$f":"'５．算定報告様式(工場現場)'!P14","v":0},{"$f":"'５．算定報告様式(工場現場)'!Q14","v":0},{"$f":"'５．算定報告様式(工場現場)'!R14","v":0},{"$f":"'５．算定報告様式(工場現場)'!S14","v":0},{"$f":"'５．算定報告様式(工場現場)'!T14","v":0},{"$f":"'５．算定報告様式(工場現場)'!U14","v":0},{"$f":"'５．算定報告様式(工場現場)'!V14","v":0},{"$f":"'５．算定報告様式(工場現場)'!W14","v":0},{"$f":"'５．算定報告様式(工場現場)'!X14","v":0},{"$f":"'５．算定報告様式(工場現場)'!Y14","v":0},{"$f":"'５．算定報告様式(工場現場)'!Z14","v":0},{"$f":"'５．算定報告様式(工場現場)'!AA14","v":0},{"$f":"'５．算定報告様式(工場現場)'!AB14","v":0},{"$f":"'５．算定報告様式(工場現場)'!AC14","v":0},{"$f":"'５．算定報告様式(工場現場)'!AD14","v":0},{"$f":"'５．算定報告様式(工場現場)'!AE14","v":0},{"$f":"'５．算定報告様式(工場現場)'!AF14","v":0},{"$f":"'５．算定報告様式(工場現場)'!AG14","v":0},{"$f":"'５．算定報告様式(工場現場)'!AH14","v":0},null,null,null,null,null,null,null,null,null,null,null,null,null,null,null,null,null,null,null,null,null,null,null,null,null,null,null,0,0,0,0,0,0,0,0,0,0,0,0,0,0,0,0,0,0,0,0,0,0,0,1000,"ｔ",0,0,0,0,0,0,0,0,0,0,0,0,0,0,0,0,0,0,0,0,0,0,0,0,0,0,0,0,0,0,0,0,0,0,0,0,0,0,0,0,0,0,0,0,0,0,0,0,0,0,0,0,0,0,0,0,0,0,0,0,0,0,0,0,0,0,0,0,0,0,0,0,0,0,0,0,0,0,0,0,0,0,0,0,0,0,0,0,0,0,0,0,40.9,"GJ/t",2.0799999999999999E-2,"t-C/GJ",null,"m3",1000]
[null,null,null,"石油コークス",null,null,{"$f":"'５．算定報告様式(工場現場)'!G15","v":"kg"},{"$f":"'５．算定報告様式(工場現場)'!H15","v":0},{"$f":"'５．算定報告様式(工場現場)'!I15","v":0},{"$f":"'５．算定報告様式(工場現場)'!J15","v":0},{"$f":"'５．算定報告様式(工場現場)'!K15","v":0},{"$f":"'５．算定報告様式(工場現場)'!L15","v":0},{"$f":"'５．算定報告様式(工場現場)'!M15","v":0},{"$f":"'５．算定報告様式(工場現場)'!N15","v":0},{"$f":"'５．算定報告様式(工場現場)'!O15","v":0},{"$f":"'５．算定報告様式(工場現場)'!P15","v":0},{"$f":"'５．算定報告様式(工場現場)'!Q15","v":0},{"$f":"'５．算定報告様式(工場現場)'!R15","v":0},{"$f":"'５．算定報告様式(工場現場)'!S15","v":0},{"$f":"'５．算定報告様式(工場現場)'!T15","v":0},{"$f":"'５．算定報告様式(工場現場)'!U15","v":0},{"$f":"'５．算定報告様式(工場現場)'!V15","v":0},{"$f":"'５．算定報告様式(工場現場)'!W15","v":0},{"$f":"'５．算定報告様式(工場現場)'!X15","v":0},{"$f":"'５．算定報告様式(工場現場)'!Y15","v":0},{"$f":"'５．算定報告様式(工場現場)'!Z15","v":0},{"$f":"'５．算定報告様式(工場現場)'!AA15","v":0},{"$f":"'５．算定報告様式(工場現場)'!AB15","v":0},{"$f":"'５．算定報告様式(工場現場)'!AC15","v":0},{"$f":"'５．算定報告様式(工場現場)'!AD15","v":0},{"$f":"'５．算定報告様式(工場現場)'!AE15","v":0},{"$f":"'５．算定報告様式(工場現場)'!AF15","v":0},{"$f":"'５．算定報告様式(工場現場)'!AG15","v":0},{"$f":"'５．算定報告様式(工場現場)'!AH15","v":0},null,null,null,null,null,null,null,null,null,null,null,null,null,null,null,null,null,null,null,null,null,null,null,null,null,null,null,0,0,0,0,0,0,0,0,0,0,0,0,0,0,0,0,0,0,0,0,0,0,0,1000,"ｔ",0,0,0,0,0,0,0,0,0,0,0,0,0,0,0,0,0,0,0,0,0,0,0,0,0,0,0,0,0,0,0,0,0,0,0,0,0,0,0,0,0,0,0,0,0,0,0,0,0,0,0,0,0,0,0,0,0,0,0,0,0,0,0,0,0,0,0,0,0,0,0,0,0,0,0,0,0,0,0,0,0,0,0,0,0,0,0,0,0,0,0,0,29.9,"GJ/t",2.5399999999999999E-2,"t-C/GJ",null,"千m3",1]
[null,null,null,"石油ガス","液化石油ガス（ＬＰＧ）",null,{"$f":"'５．算定報告様式(工場現場)'!G16","v":"t"},{"$f":"'５．算定報告様式(工場現場)'!H16","v":0},{"$f":"'５．算定報告様式(工場現場)'!I16","v":0},{"$f":"'５．算定報告様式(工場現場)'!J16","v":0},{"$f":"'５．算定報告様式(工場現場)'!K16","v":0},{"$f":"'５．算定報告様式(工場現場)'!L16","v":0},{"$f":"'５．算定報告様式(工場現場)'!M16","v":0},{"$f":"'５．算定報告様式(工場現場)'!N16","v":0},{"$f":"'５．算定報告様式(工場現場)'!O16","v":0},{"$f":"'５．算定報告様式(工場現場)'!P16","v":0},{"$f":"'５．算定報告様式(工場現場)'!Q16","v":0},{"$f":"'５．算定報告様式(工場現場)'!R16","v":0},{"$f":"'５．算定報告様式(工場現場)'!S16","v":0},{"$f":"'５．算定報告様式(工場現場)'!T16","v":0},{"$f":"'５．算定報告様式(工場現場)'!U16","v":0},{"$f":"'５．算定報告様式(工場現場)'!V16","v":0},{"$f":"'５．算定報告様式(工場現場)'!W16","v":0},{"$f":"'５．算定報告様式(工場現場)'!X16","v":0},{"$f":"'５．算定報告様式(工場現場)'!Y16","v":0},{"$f":"'５．算定報告様式(工場現場)'!Z16","v":0},{"$f":"'５．算定報告様式(工場現場)'!AA16","v":0},{"$f":"'５．算定報告様式(工場現場)'!AB16","v":0},{"$f":"'５．算定報告様式(工場現場)'!AC16","v":0},{"$f":"'５．算定報告様式(工場現場)'!AD16","v":0},{"$f":"'５．算定報告様式(工場現場)'!AE16","v":0},{"$f":"'５．算定報告様式(工場現場)'!AF16","v":0},{"$f":"'５．算定報告様式(工場現場)'!AG16","v":0},{"$f":"'５．算定報告様式(工場現場)'!AH16","v":0},null,null,null,null,null,null,null,null,null,null,null,null,null,null,null,null,null,null,null,null,null,null,null,null,null,null,null,0,0,0,0,0,0,0,0,0,0,0,0,0,0,0,0,0,0,0,0,0,0,0,1,"ｔ",0,0,0,0,0,0,0,0,0,0,0,0,0,0,0,0,0,0,0,0,0,0,0,0,0,0,0,0,0,0,0,0,0,0,0,0,0,0,0,0,0,0,0,0,0,0,0,0,0,0,0,0,0,0,0,0,0,0,0,0,0,0,0,0,0,0,0,0,0,0,0,0,0,0,0,0,0,0,0,0,0,0,0,0,0,0,0,0,0,0,0,0,50.8,"GJ/t",1.61E-2,"t-C/GJ",null,"kWh",1000]
[null,null,null,null,"石油系炭化水素ガス",null,{"$f":"'５．算定報告様式(工場現場)'!G17","v":"Nm3"},{"$f":"'５．算定報告様式(工場現場)'!H17","v":0},{"$f":"'５．算定報告様式(工場現場)'!I17","v":0},{"$f":"'５．算定報告様式(工場現場)'!J17","v":0},{"$f":"'５．算定報告様式(工場現場)'!K17","v":0},{"$f":"'５．算定報告様式(工場現場)'!L17","v":0},{"$f":"'５．算定報告様式(工場現場)'!M17","v":0},{"$f":"'５．算定報告様式(工場現場)'!N17","v":0},{"$f":"'５．算定報告様式(工場現場)'!O17","v":0},{"$f":"'５．算定報告様式(工場現場)'!P17","v":0},{"$f":"'５．算定報告様式(工場現場)'!Q17","v":0},{"$f":"'５．算定報告様式(工場現場)'!R17","v":0},{"$f":"'５．算定報告様式(工場現場)'!S17","v":0},{"$f":"'５．算定報告様式(工場現場)'!T17","v":0},{"$f":"'５．算定報告様式(工場現場)'!U17","v":0},{"$f":"'５．算定報告様式(工場現場)'!V17","v":0},{"$f":"'５．算定報告様式(工場現場)'!W17","v":0},{"$f":"'５．算定報告様式(工場現場)'!X17","v":0},{"$f":"'５．算定報告様式(工場現場)'!Y17","v":0},{"$f":"'５．算定報告様式(工場現場)'!Z17","v":0},{"$f":"'５．算定報告様式(工場現場)'!AA17","v":0},{"$f":"'５．算定報告様式(工場現場)'!AB17","v":0},{"$f":"'５．算定報告様式(工場現場)'!AC17","v":0},{"$f":"'５．算定報告様式(工場現場)'!AD17","v":0},{"$f":"'５．算定報告様式(工場現場)'!AE17","v":0},{"$f":"'５．算定報告様式(工場現場)'!AF17","v":0},{"$f":"'５．算定報告様式(工場現場)'!AG17","v":0},{"$f":"'５．算定報告様式(工場現場)'!AH17","v":0},null,null,null,null,null,null,null,null,null,null,null,null,null,null,null,null,null,null,null,null,null,null,null,null,null,null,null,0,0,0,0,0,0,0,0,0,0,0,0,0,0,0,0,0,0,0,0,0,0,0,1000,"千N㎥",0,0,0,0,0,0,0,0,0,0,0,0,0,0,0,0,0,0,0,0,0,0,0,0,0,0,0,0,0,0,0,0,0,0,0,0,0,0,0,0,0,0,0,0,0,0,0,0,0,0,0,0,0,0,0,0,0,0,0,0,0,0,0,0,0,0,0,0,0,0,0,0,0,0,0,0,0,0,0,0,0,0,0,0,0,0,0,0,0,0,0,0,44.9,"GJ\n/千Nｍ3",1.4200000000000001E-2,"t-C/GJ",null,"千kWh",1]
[null,null,null,"可燃性\n天然ガス","液化天然ガス（LNG)",null,{"$f":"'５．算定報告様式(工場現場)'!G18","v":"kg"},{"$f":"'５．算定報告様式(工場現場)'!H18","v":0},{"$f":"'５．算定報告様式(工場現場)'!I18","v":0},{"$f":"'５．算定報告様式(工場現場)'!J18","v":0},{"$f":"'５．算定報告様式(工場現場)'!K18","v":0},{"$f":"'５．算定報告様式(工場現場)'!L18","v":0},{"$f":"'５．算定報告様式(工場現場)'!M18","v":0},{"$f":"'５．算定報告様式(工場現場)'!N18","v":0},{"$f":"'５．算定報告様式(工場現場)'!O18","v":0},{"$f":"'５．算定報告様式(工場現場)'!P18","v":0},{"$f":"'５．算定報告様式(工場現場)'!Q18","v":0},{"$f":"'５．算定報告様式(工場現場)'!R18","v":0},{"$f":"'５．算定報告様式(工場現場)'!S18","v":0},{"$f":"'５．算定報告様式(工場現場)'!T18","v":0},{"$f":"'５．算定報告様式(工場現場)'!U18","v":0},{"$f":"'５．算定報告様式(工場現場)'!V18","v":0},{"$f":"'５．算定報告様式(工場現場)'!W18","v":0},{"$f":"'５．算定報告様式(工場現場)'!X18","v":0},{"$f":"'５．算定報告様式(工場現場)'!Y18","v":0},{"$f":"'５．算定報告様式(工場現場)'!Z18","v":0},{"$f":"'５．算定報告様式(工場現場)'!AA18","v":0},{"$f":"'５．算定報告様式(工場現場)'!AB18","v":0},{"$f":"'５．算定報告様式(工場現場)'!AC18","v":0},{"$f":"'５．算定報告様式(工場現場)'!AD18","v":0},{"$f":"'５．算定報告様式(工場現場)'!AE18","v":0},{"$f":"'５．算定報告様式(工場現場)'!AF18","v":0},{"$f":"'５．算定報告様式(工場現場)'!AG18","v":0},{"$f":"'５．算定報告様式(工場現場)'!AH18","v":0},null,null,null,null,null,null,null,null,null,null,null,null,null,null,null,null,null,null,null,null,null,null,null,null,null,null,null,0,0,0,0,0,0,0,0,0,0,0,0,0,0,0,0,0,0,0,0,0,0,0,1000,"ｔ",0,0,0,0,0,0,0,0,0,0,0,0,0,0,0,0,0,0,0,0,0,0,0,0,0,0,0,0,0,0,0,0,0,0,0,0,0,0,0,0,0,0,0,0,0,0,0,0,0,0,0,0,0,0,0,0,0,0,0,0,0,0,0,0,0,0,0,0,0,0,0,0,0,0,0,0,0,0,0,0,0,0,0,0,0,0,0,0,0,0,0,0,54.6,"GJ/t",1.35E-2,"t-C/GJ"]
[null,null,null,null,"その他可燃性天然ガス",null,{"$f":"'５．算定報告様式(工場現場)'!G19","v":"t"},{"$f":"'５．算定報告様式(工場現場)'!H19","v":0},{"$f":"'５．算定報告様式(工場現場)'!I19","v":0},{"$f":"'５．算定報告様式(工場現場)'!J19","v":0},{"$f":"'５．算定報告様式(工場現場)'!K19","v":0},{"$f":"'５．算定報告様式(工場現場)'!L19","v":0},{"$f":"'５．算定報告様式(工場現場)'!M19","v":0},{"$f":"'５．算定報告様式(工場現場)'!N19","v":0},{"$f":"'５．算定報告様式(工場現場)'!O19","v":0},{"$f":"'５．算定報告様式(工場現場)'!P19","v":0},{"$f":"'５．算定報告様式(工場現場)'!Q19","v":0},{"$f":"'５．算定報告様式(工場現場)'!R19","v":0},{"$f":"'５．算定報告様式(工場現場)'!S19","v":0},{"$f":"'５．算定報告様式(工場現場)'!T19","v":0},{"$f":"'５．算定報告様式(工場現場)'!U19","v":0},{"$f":"'５．算定報告様式(工場現場)'!V19","v":0},{"$f":"'５．算定報告様式(工場現場)'!W19","v":0},{"$f":"'５．算定報告様式(工場現場)'!X19","v":0},{"$f":"'５．算定報告様式(工場現場)'!Y19","v":0},{"$f":"'５．算定報告様式(工場現場)'!Z19","v":0},{"$f":"'５．算定報告様式(工場現場)'!AA19","v":0},{"$f":"'５．算定報告様式(工場現場)'!AB19","v":0},{"$f":"'５．算定報告様式(工場現場)'!AC19","v":0},{"$f":"'５．算定報告様式(工場現場)'!AD19","v":0},{"$f":"'５．算定報告様式(工場現場)'!AE19","v":0},{"$f":"'５．算定報告様式(工場現場)'!AF19","v":0},{"$f":"'５．算定報告様式(工場現場)'!AG19","v":0},{"$f":"'５．算定報告様式(工場現場)'!AH19","v":0},null,null,null,null,null,null,null,null,null,null,null,null,null,null,null,null,null,null,null,null,null,null,null,null,null,null,null,0,0,0,0,0,0,0,0,0,0,0,0,0,0,0,0,0,0,0,0,0,0,0,1,"千N㎥",0,0,0,0,0,0,0,0,0,0,0,0,0,0,0,0,0,0,0,0,0,0,0,0,0,0,0,0,0,0,0,0,0,0,0,0,0,0,0,0,0,0,0,0,0,0,0,0,0,0,0,0,0,0,0,0,0,0,0,0,0,0,0,0,0,0,0,0,0,0,0,0,0,0,0,0,0,0,0,0,0,0,0,0,0,0,0,0,0,0,0,0,43.5,"GJ\n/千Nｍ3",1.3899999999999999E-2,"t-C/GJ",null,null,2.58E-2,"ｋL/GJ"]
[null,null,null,"石炭","原料炭",null,{"$f":"'５．算定報告様式(工場現場)'!G20","v":"kg"},{"$f":"'５．算定報告様式(工場現場)'!H20","v":0},{"$f":"'５．算定報告様式(工場現場)'!I20","v":0},{"$f":"'５．算定報告様式(工場現場)'!J20","v":0},{"$f":"'５．算定報告様式(工場現場)'!K20","v":0},{"$f":"'５．算定報告様式(工場現場)'!L20","v":0},{"$f":"'５．算定報告様式(工場現場)'!M20","v":0},{"$f":"'５．算定報告様式(工場現場)'!N20","v":0},{"$f":"'５．算定報告様式(工場現場)'!O20","v":0},{"$f":"'５．算定報告様式(工場現場)'!P20","v":0},{"$f":"'５．算定報告様式(工場現場)'!Q20","v":0},{"$f":"'５．算定報告様式(工場現場)'!R20","v":0},{"$f":"'５．算定報告様式(工場現場)'!S20","v":0},{"$f":"'５．算定報告様式(工場現場)'!T20","v":0},{"$f":"'５．算定報告様式(工場現場)'!U20","v":0},{"$f":"'５．算定報告様式(工場現場)'!V20","v":0},{"$f":"'５．算定報告様式(工場現場)'!W20","v":0},{"$f":"'５．算定報告様式(工場現場)'!X20","v":0},{"$f":"'５．算定報告様式(工場現場)'!Y20","v":0},{"$f":"'５．算定報告様式(工場現場)'!Z20","v":0},{"$f":"'５．算定報告様式(工場現場)'!AA20","v":0},{"$f":"'５．算定報告様式(工場現場)'!AB20","v":0},{"$f":"'５．算定報告様式(工場現場)'!AC20","v":0},{"$f":"'５．算定報告様式(工場現場)'!AD20","v":0},{"$f":"'５．算定報告様式(工場現場)'!AE20","v":0},{"$f":"'５．算定報告様式(工場現場)'!AF20","v":0},{"$f":"'５．算定報告様式(工場現場)'!AG20","v":0},{"$f":"'５．算定報告様式(工場現場)'!AH20","v":0},null,null,null,null,null,null,null,null,null,null,null,null,null,null,null,null,null,null,null,null,null,null,null,null,null,null,null,0,0,0,0,0,0,0,0,0,0,0,0,0,0,0,0,0,0,0,0,0,0,0,1000,"ｔ",0,0,0,0,0,0,0,0,0,0,0,0,0,0,0,0,0,0,0,0,0,0,0,0,0,0,0,0,0,0,0,0,0,0,0,0,0,0,0,0,0,0,0,0,0,0,0,0,0,0,0,0,0,0,0,0,0,0,0,0,0,0,0,0,0,0,0,0,0,0,0,0,0,0,0,0,0,0,0,0,0,0,0,0,0,0,0,0,0,0,0,0,29,"GJ/t",2.4500000000000001E-2,"t-C/GJ"]
[null,null,null,null,"一般炭",null,{"$f":"'５．算定報告様式(工場現場)'!G21","v":"kg"},{"$f":"'５．算定報告様式(工場現場)'!H21","v":0},{"$f":"'５．算定報告様式(工場現場)'!I21","v":0},{"$f":"'５．算定報告様式(工場現場)'!J21","v":0},{"$f":"'５．算定報告様式(工場現場)'!K21","v":0},{"$f":"'５．算定報告様式(工場現場)'!L21","v":0},{"$f":"'５．算定報告様式(工場現場)'!M21","v":0},{"$f":"'５．算定報告様式(工場現場)'!N21","v":0},{"$f":"'５．算定報告様式(工場現場)'!O21","v":0},{"$f":"'５．算定報告様式(工場現場)'!P21","v":0},{"$f":"'５．算定報告様式(工場現場)'!Q21","v":0},{"$f":"'５．算定報告様式(工場現場)'!R21","v":0},{"$f":"'５．算定報告様式(工場現場)'!S21","v":0},{"$f":"'５．算定報告様式(工場現場)'!T21","v":0},{"$f":"'５．算定報告様式(工場現場)'!U21","v":0},{"$f":"'５．算定報告様式(工場現場)'!V21","v":0},{"$f":"'５．算定報告様式(工場現場)'!W21","v":0},{"$f":"'５．算定報告様式(工場現場)'!X21","v":0},{"$f":"'５．算定報告様式(工場現場)'!Y21","v":0},{"$f":"'５．算定報告様式(工場現場)'!Z21","v":0},{"$f":"'５．算定報告様式(工場現場)'!AA21","v":0},{"$f":"'５．算定報告様式(工場現場)'!AB21","v":0},{"$f":"'５．算定報告様式(工場現場)'!AC21","v":0},{"$f":"'５．算定報告様式(工場現場)'!AD21","v":0},{"$f":"'５．算定報告様式(工場現場)'!AE21","v":0},{"$f":"'５．算定報告様式(工場現場)'!AF21","v":0},{"$f":"'５．算定報告様式(工場現場)'!AG21","v":0},{"$f":"'５．算定報告様式(工場現場)'!AH21","v":0},null,null,null,null,null,null,null,null,null,null,null,null,null,null,null,null,null,null,null,null,null,null,null,null,null,null,null,0,0,0,0,0,0,0,0,0,0,0,0,0,0,0,{"$f":"AA21-BB21","v":0},0,0,0,0,0,0,0,1000,"ｔ",0,0,0,0,0,0,0,0,0,0,0,0,0,0,0,0,{"$f":"ROUND(BZ21/$CG21,0)","v":0},0,0,0,0,0,0,0,0,0,0,0,0,0,0,0,0,0,0,0,0,0,{"$f":"CX21*$FW21","v":0},0,0,0,0,0,0,0,0,0,0,0,0,0,0,0,0,0,0,0,0,0,0,{"$f":"DU21*$GC$19","v":0},0,0,0,0,0,0,0,0,0,0,0,0,0,0,0,0,0,0,0,0,0,0,{"$f":"DU21*$FY21*44/12","v":0},0,0,0,0,0,0,0,25.7,"GJ/t",2.47E-2,"t-C/GJ"]
[null,null,null,null,"無煙炭",null,{"$f":"'５．算定報告様式(工場現場)'!G22","v":"kg"},{"$f":"'５．算定報告様式(工場現場)'!H22","v":0},{"$f":"'５．算定報告様式(工場現場)'!I22","v":0},{"$f":"'５．算定報告様式(工場現場)'!J22","v":0},{"$f":"'５．算定報告様式(工場現場)'!K22","v":0},{"$f":"'５．算定報告様式(工場現場)'!L22","v":0},{"$f":"'５．算定報告様式(工場現場)'!M22","v":0},{"$f":"'５．算定報告様式(工場現場)'!N22","v":0},{"$f":"'５．算定報告様式(工場現場)'!O22","v":0},{"$f":"'５．算定報告様式(工場現場)'!P22","v":0},{"$f":"'５．算定報告様式(工場現場)'!Q22","v":0},{"$f":"'５．算定報告様式(工場現場)'!R22","v":0},{"$f":"'５．算定報告様式(工場現場)'!S22","v":0},{"$f":"'５．算定報告様式(工場現場)'!T22","v":0},{"$f":"'５．算定報告様式(工場現場)'!U22","v":0},{"$f":"'５．算定報告様式(工場現場)'!V22","v":0},{"$f":"'５．算定報告様式(工場現場)'!W22","v":0},{"$f":"'５．算定報告様式(工場現場)'!X22","v":0},{"$f":"'５．算定報告様式(工場現場)'!Y22","v":0},{"$f":"'５．算定報告様式(工場現場)'!Z22","v":0},{"$f":"'５．算定報告様式(工場現場)'!AA22","v":0},{"$f":"'５．算定報告様式(工場現場)'!AB22","v":0},{"$f":"'５．算定報告様式(工場現場)'!AC22","v":0},{"$f":"'５．算定報告様式(工場現場)'!AD22","v":0},{"$f":"'５．算定報告様式(工場現場)'!AE22","v":0},{"$f":"'５．算定報告様式(工場現場)'!AF22","v":0},{"$f":"'５．算定報告様式(工場現場)'!AG22","v":0},{"$f":"'５．算定報告様式(工場現場)'!AH22","v":0},null,null,null,null,null,null,null,null,null,null,null,null,null,null,null,null,null,null,null,null,null,null,null,null,null,null,null,{"$f":"L22-AM22","v":0},0,0,0,0,0,0,0,0,0,0,0,0,0,0,0,0,0,0,0,0,0,0,1000,"ｔ",0,0,0,0,0,0,0,0,0,0,0,0,0,0,0,0,0,0,0,0,0,0,0,{"$f":"CI22*$FW22","v":0},0,0,0,0,0,0,0,0,0,0,0,0,0,0,0,0,0,0,0,0,0,0,{"$f":"DF22*$GC$19","v":0},0,0,0,0,0,0,0,0,0,0,0,0,0,0,0,0,0,0,0,0,0,0,{"$f":"DF22*$FY22*44/12","v":0},0,0,0,0,0,0,0,0,0,0,0,0,0,0,0,0,0,0,0,0,0,0,26.9,"GJ/t",2.5499999999999998E-2,"t-C/GJ"]
[null,null,null,"石炭コークス",null,null,{"$f":"'５．算定報告様式(工場現場)'!G23","v":"kg"},{"$f":"'５．算定報告様式(工場現場)'!H23","v":0},{"$f":"'５．算定報告様式(工場現場)'!I23","v":0},{"$f":"'５．算定報告様式(工場現場)'!J23","v":0},{"$f":"'５．算定報告様式(工場現場)'!K23","v":0},{"$f":"'５．算定報告様式(工場現場)'!L23","v":0},{"$f":"'５．算定報告様式(工場現場)'!M23","v":0},{"$f":"'５．算定報告様式(工場現場)'!N23","v":0},{"$f":"'５．算定報告様式(工場現場)'!O23","v":0},{"$f":"'５．算定報告様式(工場現場)'!P23","v":0},{"$f":"'５．算定報告様式(工場現場)'!Q23","v":0},{"$f":"'５．算定報告様式(工場現場)'!R23","v":0},{"$f":"'５．算定報告様式(工場現場)'!S23","v":0},{"$f":"'５．算定報告様式(工場現場)'!T23","v":0},{"$f":"'５．算定報告様式(工場現場)'!U23","v":0},{"$f":"'５．算定報告様式(工場現場)'!V23","v":0},{"$f":"'５．算定報告様式(工場現場)'!W23","v":0},{"$f":"'５．算定報告様式(工場現場)'!X23","v":0},{"$f":"'５．算定報告様式(工場現場)'!Y23","v":0},{"$f":"'５．算定報告様式(工場現場)'!Z23","v":0},{"$f":"'５．算定報告様式(工場現場)'!AA23","v":0},{"$f":"'５．算定報告様式(工場現場)'!AB23","v":0},{"$f":"'５．算定報告様式(工場現場)'!AC23","v":0},{"$f":"'５．算定報告様式(工場現場)'!AD23","v":0},{"$f":"'５．算定報告様式(工場現場)'!AE23","v":0},{"$f":"'５．算定報告様式(工場現場)'!AF23","v":0},{"$f":"'５．算定報告様式(工場現場)'!AG23","v":0},{"$f":"'５．算定報告様式(工場現場)'!AH23","v":0},null,null,null,null,null,null,null,null,null,null,null,null,null,null,null,null,null,null,null,null,null,null,null,null,null,null,null,0,0,0,0,0,0,0,0,0,0,0,0,0,0,0,0,0,0,0,0,0,0,0,1000,"ｔ",0,0,0,0,0,0,0,0,0,0,0,0,0,0,0,0,0,0,0,0,0,0,0,0,0,0,0,0,0,0,0,0,0,0,0,0,0,0,0,0,0,0,0,0,0,0,0,0,0,0,0,0,0,0,0,0,0,0,0,0,0,0,0,0,0,0,0,0,0,0,0,0,0,0,0,0,0,0,0,0,0,0,0,0,0,0,0,0,0,0,0,0,29.4,"GJ/t",2.9399999999999999E-2,"t-C/GJ"]
[null,null,null,"コールタール",null,null,{"$f":"'５．算定報告様式(工場現場)'!G24","v":"kg"},{"$f":"'５．算定報告様式(工場現場)'!H24","v":0},{"$f":"'５．算定報告様式(工場現場)'!I24","v":0},{"$f":"'５．算定報告様式(工場現場)'!J24","v":0},{"$f":"'５．算定報告様式(工場現場)'!K24","v":0},{"$f":"'５．算定報告様式(工場現場)'!L24","v":0},{"$f":"'５．算定報告様式(工場現場)'!M24","v":0},{"$f":"'５．算定報告様式(工場現場)'!N24","v":0},{"$f":"'５．算定報告様式(工場現場)'!O24","v":0},{"$f":"'５．算定報告様式(工場現場)'!P24","v":0},{"$f":"'５．算定報告様式(工場現場)'!Q24","v":0},{"$f":"'５．算定報告様式(工場現場)'!R24","v":0},{"$f":"'５．算定報告様式(工場現場)'!S24","v":0},{"$f":"'５．算定報告様式(工場現場)'!T24","v":0},{"$f":"'５．算定報告様式(工場現場)'!U24","v":0},{"$f":"'５．算定報告様式(工場現場)'!V24","v":0},{"$f":"'５．算定報告様式(工場現場)'!W24","v":0},{"$f":"'５．算定報告様式(工場現場)'!X24","v":0},{"$f":"'５．算定報告様式(工場現場)'!Y24","v":0},{"$f":"'５．算定報告様式(工場現場)'!Z24","v":0},{"$f":"'５．算定報告様式(工場現場)'!AA24","v":0},{"$f":"'５．算定報告様式(工場現場)'!AB24","v":0},{"$f":"'５．算定報告様式(工場現場)'!AC24","v":0},{"$f":"'５．算定報告様式(工場現場)'!AD24","v":0},{"$f":"'５．算定報告様式(工場現場)'!AE24","v":0},{"$f":"'５．算定報告様式(工場現場)'!AF24","v":0},{"$f":"'５．算定報告様式(工場現場)'!AG24","v":0},{"$f":"'５．算定報告様式(工場現場)'!AH24","v":0},null,null,null,null,null,null,null,null,null,null,null,null,null,null,null,null,null,null,null,null,null,null,null,null,null,null,null,0,0,0,0,0,0,0,0,0,0,0,0,0,0,0,0,0,0,0,0,0,0,0,1000,"ｔ",0,0,0,0,0,0,0,0,0,0,0,0,0,0,0,0,0,0,0,0,0,0,0,0,0,0,0,0,0,0,0,0,0,0,0,0,0,0,0,0,0,0,0,0,0,0,0,0,0,0,0,0,0,0,0,0,0,0,0,0,0,0,0,0,0,0,0,0,0,0,0,0,0,0,0,0,0,0,0,0,0,0,0,0,0,0,0,0,0,0,0,0,37.299999999999997,"GJ/t",2.0899999999999998E-2,"t-C/GJ"]
[null,null,null,"コークス炉ガス",null,null,{"$f":"'５．算定報告様式(工場現場)'!G25","v":"千Nｍ3"},{"$f":"'５．算定報告様式(工場現場)'!H25","v":0},{"$f":"'５．算定報告様式(工場現場)'!I25","v":0},{"$f":"'５．算定報告様式(工場現場)'!J25","v":0},{"$f":"'５．算定報告様式(工場現場)'!K25","v":0},{"$f":"'５．算定報告様式(工場現場)'!L25","v":0},{"$f":"'５．算定報告様式(工場現場)'!M25","v":0},{"$f":"'５．算定報告様式(工場現場)'!N25","v":0},{"$f":"'５．算定報告様式(工場現場)'!O25","v":0},{"$f":"'５．算定報告様式(工場現場)'!P25","v":0},{"$f":"'５．算定報告様式(工場現場)'!Q25","v":0},{"$f":"'５．算定報告様式(工場現場)'!R25","v":0},{"$f":"'５．算定報告様式(工場現場)'!S25","v":0},{"$f":"'５．算定報告様式(工場現場)'!T25","v":0},{"$f":"'５．算定報告様式(工場現場)'!U25","v":0},{"$f":"'５．算定報告様式(工場現場)'!V25","v":0},{"$f":"'５．算定報告様式(工場現場)'!W25","v":0},{"$f":"'５．算定報告様式(工場現場)'!X25","v":0},{"$f":"'５．算定報告様式(工場現場)'!Y25","v":0},{"$f":"'５．算定報告様式(工場現場)'!Z25","v":0},{"$f":"'５．算定報告様式(工場現場)'!AA25","v":0},{"$f":"'５．算定報告様式(工場現場)'!AB25","v":0},{"$f":"'５．算定報告様式(工場現場)'!AC25","v":0},{"$f":"'５．算定報告様式(工場現場)'!AD25","v":0},{"$f":"'５．算定報告様式(工場現場)'!AE25","v":0},{"$f":"'５．算定報告様式(工場現場)'!AF25","v":0},{"$f":"'５．算定報告様式(工場現場)'!AG25","v":0},{"$f":"'５．算定報告様式(工場現場)'!AH25","v":0},null,null,null,null,null,null,null,null,null,null,null,null,null,null,null,null,null,null,null,null,null,null,null,null,null,null,null,0,0,0,0,0,0,0,0,0,0,0,0,0,0,0,0,0,0,0,0,0,0,0,1,"千N㎥",0,0,0,0,0,0,0,0,0,0,0,0,0,0,0,0,0,0,0,0,0,0,0,0,0,0,0,0,0,0,0,0,0,0,0,0,0,0,0,0,0,0,0,0,0,0,0,0,0,0,0,0,0,0,0,0,0,0,0,0,0,0,0,0,0,0,0,0,0,0,0,0,0,0,0,0,0,0,0,0,0,0,0,0,0,0,0,0,0,0,0,0,21.1,"GJ\n/千Nｍ3",1.0999999999999999E-2,"t-C/GJ"]
[null,null,null,"高炉ガス",null,null,{"$f":"'５．算定報告様式(工場現場)'!G26","v":"千Nｍ3"},{"$f":"'５．算定報告様式(工場現場)'!H26","v":0},{"$f":"'５．算定報告様式(工場現場)'!I26","v":0},{"$f":"'５．算定報告様式(工場現場)'!J26","v":0},{"$f":"'５．算定報告様式(工場現場)'!K26","v":0},{"$f":"'５．算定報告様式(工場現場)'!L26","v":0},{"$f":"'５．算定報告様式(工場現場)'!M26","v":0},{"$f":"'５．算定報告様式(工場現場)'!N26","v":0},{"$f":"'５．算定報告様式(工場現場)'!O26","v":0},{"$f":"'５．算定報告様式(工場現場)'!P26","v":0},{"$f":"'５．算定報告様式(工場現場)'!Q26","v":0},{"$f":"'５．算定報告様式(工場現場)'!R26","v":0},{"$f":"'５．算定報告様式(工場現場)'!S26","v":0},{"$f":"'５．算定報告様式(工場現場)'!T26","v":0},{"$f":"'５．算定報告様式(工場現場)'!U26","v":0},{"$f":"'５．算定報告様式(工場現場)'!V26","v":0},{"$f":"'５．算定報告様式(工場現場)'!W26","v":0},{"$f":"'５．算定報告様式(工場現場)'!X26","v":0},{"$f":"'５．算定報告様式(工場現場)'!Y26","v":0},{"$f":"'５．算定報告様式(工場現場)'!Z26","v":0},{"$f":"'５．算定報告様式(工場現場)'!AA26","v":0},{"$f":"'５．算定報告様式(工場現場)'!AB26","v":0},{"$f":"'５．算定報告様式(工場現場)'!AC26","v":0},{"$f":"'５．算定報告様式(工場現場)'!AD26","v":0},{"$f":"'５．算定報告様式(工場現場)'!AE26","v":0},{"$f":"'５．算定報告様式(工場現場)'!AF26","v":0},{"$f":"'５．算定報告様式(工場現場)'!AG26","v":0},{"$f":"'５．算定報告様式(工場現場)'!AH26","v":0},null,null,null,null,null,null,null,null,null,null,null,null,null,null,null,null,null,null,null,null,null,null,null,null,null,null,null,0,0,0,0,0,0,0,0,0,0,0,0,0,0,0,0,0,0,0,0,0,0,0,1,"千N㎥",0,0,0,0,0,0,0,0,0,0,0,0,0,0,0,0,0,0,0,0,0,0,0,0,0,0,0,0,0,0,0,0,0,0,0,0,0,0,0,0,0,0,0,0,0,0,0,0,0,0,0,0,0,0,0,0,0,0,0,0,0,0,0,0,0,0,0,0,0,0,0,0,0,0,0,0,0,0,0,0,0,0,0,0,0,0,0,0,0,0,0,0,3.41,"GJ\n/千Nｍ3",2.63E-2,"t-C/GJ"]
[null,null,null,"転炉ガス",null,null,{"$f":"'５．算定報告様式(工場現場)'!G27","v":"千Nｍ3"},{"$f":"'５．算定報告様式(工場現場)'!H27","v":0},{"$f":"'５．算定報告様式(工場現場)'!I27","v":0},{"$f":"'５．算定報告様式(工場現場)'!J27","v":0},{"$f":"'５．算定報告様式(工場現場)'!K27","v":0},{"$f":"'５．算定報告様式(工場現場)'!L27","v":0},{"$f":"'５．算定報告様式(工場現場)'!M27","v":0},{"$f":"'５．算定報告様式(工場現場)'!N27","v":0},{"$f":"'５．算定報告様式(工場現場)'!O27","v":0},{"$f":"'５．算定報告様式(工場現場)'!P27","v":0},{"$f":"'５．算定報告様式(工場現場)'!Q27","v":0},{"$f":"'５．算定報告様式(工場現場)'!R27","v":0},{"$f":"'５．算定報告様式(工場現場)'!S27","v":0},{"$f":"'５．算定報告様式(工場現場)'!T27","v":0},{"$f":"'５．算定報告様式(工場現場)'!U27","v":0},{"$f":"'５．算定報告様式(工場現場)'!V27","v":0},{"$f":"'５．算定報告様式(工場現場)'!W27","v":0},{"$f":"'５．算定報告様式(工場現場)'!X27","v":0},{"$f":"'５．算定報告様式(工場現場)'!Y27","v":0},{"$f":"'５．算定報告様式(工場現場)'!Z27","v":0},{"$f":"'５．算定報告様式(工場現場)'!AA27","v":0},{"$f":"'５．算定報告様式(工場現場)'!AB27","v":0},{"$f":"'５．算定報告様式(工場現場)'!AC27","v":0},{"$f":"'５．算定報告様式(工場現場)'!AD27","v":0},{"$f":"'５．算定報告様式(工場現場)'!AE27","v":0},{"$f":"'５．算定報告様式(工場現場)'!AF27","v":0},{"$f":"'５．算定報告様式(工場現場)'!AG27","v":0},{"$f":"'５．算定報告様式(工場現場)'!AH27","v":0},null,null,null,null,null,null,null,null,null,null,null,null,null,null,null,null,null,null,null,null,null,null,null,null,null,null,null,0,0,0,0,0,0,0,0,0,0,0,0,0,0,0,0,0,0,0,0,0,0,0,1,"千N㎥",0,0,0,0,0,0,0,0,0,0,0,0,0,0,0,0,0,0,0,0,0,0,0,0,0,0,0,0,0,0,0,0,0,0,0,0,0,0,0,0,0,0,0,0,0,0,0,0,0,0,0,0,0,0,0,0,0,0,0,0,0,0,0,0,0,0,0,0,0,0,0,0,0,0,0,0,0,0,0,0,0,0,0,0,0,0,0,0,0,0,0,0,8.41,"GJ\n/千Nｍ3",3.8399999999999997E-2,"t-C/GJ"]
[null,null,null,"その他燃料","都市ガス（※）","13A:45MJ/m3",{"$f":"'５．算定報告様式(工場現場)'!G28","v":"千Nｍ3"},{"$f":"'５．算定報告様式(工場現場)'!H28","v":0},{"$f":"'５．算定報告様式(工場現場)'!I28","v":0},{"$f":"'５．算定報告様式(工場現場)'!J28","v":0},{"$f":"'５．算定報告様式(工場現場)'!K28","v":0},{"$f":"'５．算定報告様式(工場現場)'!L28","v":0},{"$f":"'５．算定報告様式(工場現場)'!M28","v":0},{"$f":"'５．算定報告様式(工場現場)'!N28","v":0},{"$f":"'５．算定報告様式(工場現場)'!O28","v":0},{"$f":"'５．算定報告様式(工場現場)'!P28","v":0},{"$f":"'５．算定報告様式(工場現場)'!Q28","v":0},{"$f":"'５．算定報告様式(工場現場)'!R28","v":0},{"$f":"'５．算定報告様式(工場現場)'!S28","v":0},{"$f":"'５．算定報告様式(工場現場)'!T28","v":0},{"$f":"'５．算定報告様式(工場現場)'!U28","v":0},{"$f":"'５．算定報告様式(工場現場)'!V28","v":0},{"$f":"'５．算定報告様式(工場現場)'!W28","v":0},{"$f":"'５．算定報告様式(工場現場)'!X28","v":0},{"$f":"'５．算定報告様式(工場現場)'!Y28","v":0},{"$f":"'５．算定報告様式(工場現場)'!Z28","v":0},{"$f":"'５．算定報告様式(工場現場)'!AA28","v":0},{"$f":"'５．算定報告様式(工場現場)'!AB28","v":0},{"$f":"'５．算定報告様式(工場現場)'!AC28","v":0},{"$f":"'５．算定報告様式(工場現場)'!AD28","v":0},{"$f":"'５．算定報告様式(工場現場)'!AE28","v":0},{"$f":"'５．算定報告様式(工場現場)'!AF28","v":0},{"$f":"'５．算定報告様式(工場現場)'!AG28","v":0},{"$f":"'５．算定報告様式(工場現場)'!AH28","v":0},null,null,null,null,null,null,null,null,null,null,null,null,null,null,null,null,null,null,null,null,null,null,null,null,null,null,null,0,0,0,0,0,0,0,0,0,0,0,0,0,0,0,0,0,0,0,0,0,0,0,1,"千N㎥",0,0,0,0,0,0,0,0,0,0,0,0,0,0,0,0,0,0,0,0,0,0,0,0,0,0,0,0,0,0,0,0,0,0,0,0,0,0,0,0,0,0,0,0,0,0,0,0,0,0,0,0,0,0,0,0,0,0,0,0,0,0,0,0,0,0,0,0,0,0,0,0,0,0,0,0,0,0,0,0,0,0,0,0,0,0,0,0,0,0,0,0,45,"GJ\n/千Nｍ3",1.3599999999999999E-2,"t-C/GJ"]
[null,null,null,null,null,"13A:43.12MJ/m3",{"$f":"'５．算定報告様式(工場現場)'!G29","v":"千Nｍ3"},{"$f":"'５．算定報告様式(工場現場)'!H29","v":0},{"$f":"'５．算定報告様式(工場現場)'!I29","v":0},{"$f":"'５．算定報告様式(工場現場)'!J29","v":0},{"$f":"'５．算定報告様式(工場現場)'!K29","v":0},{"$f":"'５．算定報告様式(工場現場)'!L29","v":0},{"$f":"'５．算定報告様式(工場現場)'!M29","v":0},{"$f":"'５．算定報告様式(工場現場)'!N29","v":0},{"$f":"'５．算定報告様式(工場現場)'!O29","v":0},{"$f":"'５．算定報告様式(工場現場)'!P29","v":0},{"$f":"'５．算定報告様式(工場現場)'!Q29","v":0},{"$f":"'５．算定報告様式(工場現場)'!R29","v":0},{"$f":"'５．算定報告様式(工場現場)'!S29","v":0},{"$f":"'５．算定報告様式(工場現場)'!T29","v":0},{"$f":"'５．算定報告様式(工場現場)'!U29","v":0},{"$f":"'５．算定報告様式(工場現場)'!V29","v":0},{"$f":"'５．算定報告様式(工場現場)'!W29","v":0},{"$f":"'５．算定報告様式(工場現場)'!X29","v":0},{"$f":"'５．算定報告様式(工場現場)'!Y29","v":0},{"$f":"'５．算定報告様式(工場現場)'!Z29","v":0},{"$f":"'５．算定報告様式(工場現場)'!AA29","v":0},{"$f":"'５．算定報告様式(工場現場)'!AB29","v":0},{"$f":"'５．算定報告様式(工場現場)'!AC29","v":0},{"$f":"'５．算定報告様式(工場現場)'!AD29","v":0},{"$f":"'５．算定報告様式(工場現場)'!AE29","v":0},{"$f":"'５．算定報告様式(工場現場)'!AF29","v":0},{"$f":"'５．算定報告様式(工場現場)'!AG29","v":0},{"$f":"'５．算定報告様式(工場現場)'!AH29","v":0},null,null,null,null,null,null,null,null,null,null,null,null,null,null,null,null,null,null,null,null,null,null,null,null,null,null,null,0,0,0,0,0,0,0,0,0,0,0,0,0,0,0,0,0,0,0,0,0,0,0,1,"千N㎥",0,0,0,0,0,0,0,0,0,0,0,0,0,0,0,0,0,0,0,0,0,0,0,0,0,0,0,0,0,0,0,0,0,0,0,0,0,0,0,0,0,0,0,0,0,0,0,0,0,0,0,0,0,0,0,0,0,0,0,0,0,0,0,0,0,0,0,0,0,0,0,0,0,0,0,0,0,0,0,0,0,0,0,0,0,0,0,0,0,0,0,0,43.12,"GJ\n/千Nｍ3",1.3599999999999999E-2,"t-C/GJ"]
[null,null,null,null,null,"13A:46.04MJ/m3",{"$f":"'５．算定報告様式(工場現場)'!G30","v":"千Nｍ3"},{"$f":"'５．算定報告様式(工場現場)'!H30","v":0},{"$f":"'５．算定報告様式(工場現場)'!I30","v":0},{"$f":"'５．算定報告様式(工場現場)'!J30","v":0},{"$f":"'５．算定報告様式(工場現場)'!K30","v":0},{"$f":"'５．算定報告様式(工場現場)'!L30","v":0},{"$f":"'５．算定報告様式(工場現場)'!M30","v":0},{"$f":"'５．算定報告様式(工場現場)'!N30","v":0},{"$f":"'５．算定報告様式(工場現場)'!O30","v":0},{"$f":"'５．算定報告様式(工場現場)'!P30","v":0},{"$f":"'５．算定報告様式(工場現場)'!Q30","v":0},{"$f":"'５．算定報告様式(工場現場)'!R30","v":0},{"$f":"'５．算定報告様式(工場現場)'!S30","v":0},{"$f":"'５．算定報告様式(工場現場)'!T30","v":0},{"$f":"'５．算定報告様式(工場現場)'!U30","v":0},{"$f":"'５．算定報告様式(工場現場)'!V30","v":0},{"$f":"'５．算定報告様式(工場現場)'!W30","v":0},{"$f":"'５．算定報告様式(工場現場)'!X30","v":0},{"$f":"'５．算定報告様式(工場現場)'!Y30","v":0},{"$f":"'５．算定報告様式(工場現場)'!Z30","v":0},{"$f":"'５．算定報告様式(工場現場)'!AA30","v":0},{"$f":"'５．算定報告様式(工場現場)'!AB30","v":0},{"$f":"'５．算定報告様式(工場現場)'!AC30","v":0},{"$f":"'５．算定報告様式(工場現場)'!AD30","v":0},{"$f":"'５．算定報告様式(工場現場)'!AE30","v":0},{"$f":"'５．算定報告様式(工場現場)'!AF30","v":0},{"$f":"'５．算定報告様式(工場現場)'!AG30","v":0},{"$f":"'５．算定報告様式(工場現場)'!AH30","v":0},null,null,null,null,null,null,null,null,null,null,null,null,null,null,null,null,null,null,null,null,null,null,null,null,null,null,null,0,0,0,0,0,0,0,0,0,0,0,0,0,0,0,0,0,0,0,0,0,0,0,1,"千N㎥",0,0,0,0,0,0,0,0,0,0,0,0,0,0,0,0,0,0,0,0,0,0,0,0,0,0,0,0,0,0,0,0,0,0,0,0,0,0,0,0,0,0,0,0,0,0,0,0,0,0,0,0,0,0,0,0,0,0,0,0,0,0,0,0,0,0,0,0,0,0,0,0,0,0,0,0,0,0,0,0,0,0,0,0,0,0,0,0,0,0,0,0,46.04,"GJ\n/千Nｍ3",1.3599999999999999E-2,"t-C/GJ"]
[null,null,null,null,null,"12A:41.86MJ/m3",{"$f":"'５．算定報告様式(工場現場)'!G31","v":"千Nｍ3"},{"$f":"'５．算定報告様式(工場現場)'!H31","v":0},{"$f":"'５．算定報告様式(工場現場)'!I31","v":0},{"$f":"'５．算定報告様式(工場現場)'!J31","v":0},{"$f":"'５．算定報告様式(工場現場)'!K31","v":0},{"$f":"'５．算定報告様式(工場現場)'!L31","v":0},{"$f":"'５．算定報告様式(工場現場)'!M31","v":0},{"$f":"'５．算定報告様式(工場現場)'!N31","v":0},{"$f":"'５．算定報告様式(工場現場)'!O31","v":0},{"$f":"'５．算定報告様式(工場現場)'!P31","v":0},{"$f":"'５．算定報告様式(工場現場)'!Q31","v":0},{"$f":"'５．算定報告様式(工場現場)'!R31","v":0},{"$f":"'５．算定報告様式(工場現場)'!S31","v":0},{"$f":"'５．算定報告様式(工場現場)'!T31","v":0},{"$f":"'５．算定報告様式(工場現場)'!U31","v":0},{"$f":"'５．算定報告様式(工場現場)'!V31","v":0},{"$f":"'５．算定報告様式(工場現場)'!W31","v":0},{"$f":"'５．算定報告様式(工場現場)'!X31","v":0},{"$f":"'５．算定報告様式(工場現場)'!Y31","v":0},{"$f":"'５．算定報告様式(工場現場)'!Z31","v":0},{"$f":"'５．算定報告様式(工場現場)'!AA31","v":0},{"$f":"'５．算定報告様式(工場現場)'!AB31","v":0},{"$f":"'５．算定報告様式(工場現場)'!AC31","v":0},{"$f":"'５．算定報告様式(工場現場)'!AD31","v":0},{"$f":"'５．算定報告様式(工場現場)'!AE31","v":0},{"$f":"'５．算定報告様式(工場現場)'!AF31","v":0},{"$f":"'５．算定報告様式(工場現場)'!AG31","v":0},{"$f":"'５．算定報告様式(工場現場)'!AH31","v":0},null,null,null,null,null,null,null,null,null,null,null,null,null,null,null,null,null,null,null,null,null,null,null,null,null,null,null,0,0,0,0,0,0,0,0,0,0,0,0,0,0,0,0,0,0,0,0,0,0,0,1,"千N㎥",0,0,0,0,0,0,0,0,0,0,0,0,0,0,0,0,0,0,0,0,0,0,0,0,0,0,0,0,0,0,0,0,0,0,0,0,0,0,0,0,0,0,0,0,0,0,0,0,0,0,0,0,0,0,0,0,0,0,0,0,0,0,0,0,0,0,0,0,0,0,0,0,0,0,0,0,0,0,0,0,0,0,0,0,0,0,0,0,0,0,0,0,41.86,"GJ\n/千Nｍ3",1.3599999999999999E-2,"t-C/GJ"]
[null,null,null,null,null,"6A:29.30MJ/m3",{"$f":"'５．算定報告様式(工場現場)'!G32","v":"千Nｍ3"},{"$f":"'５．算定報告様式(工場現場)'!H32","v":0},{"$f":"'５．算定報告様式(工場現場)'!I32","v":0},{"$f":"'５．算定報告様式(工場現場)'!J32","v":0},{"$f":"'５．算定報告様式(工場現場)'!K32","v":0},{"$f":"'５．算定報告様式(工場現場)'!L32","v":0},{"$f":"'５．算定報告様式(工場現場)'!M32","v":0},{"$f":"'５．算定報告様式(工場現場)'!N32","v":0},{"$f":"'５．算定報告様式(工場現場)'!O32","v":0},{"$f":"'５．算定報告様式(工場現場)'!P32","v":0},{"$f":"'５．算定報告様式(工場現場)'!Q32","v":0},{"$f":"'５．算定報告様式(工場現場)'!R32","v":0},{"$f":"'５．算定報告様式(工場現場)'!S32","v":0},{"$f":"'５．算定報告様式(工場現場)'!T32","v":0},{"$f":"'５．算定報告様式(工場現場)'!U32","v":0},{"$f":"'５．算定報告様式(工場現場)'!V32","v":0},{"$f":"'５．算定報告様式(工場現場)'!W32","v":0},{"$f":"'５．算定報告様式(工場現場)'!X32","v":0},{"$f":"'５．算定報告様式(工場現場)'!Y32","v":0},{"$f":"'５．算定報告様式(工場現場)'!Z32","v":0},{"$f":"'５．算定報告様式(工場現場)'!AA32","v":0},{"$f":"'５．算定報告様式(工場現場)'!AB32","v":0},{"$f":"'５．算定報告様式(工場現場)'!AC32","v":0},{"$f":"'５．算定報告様式(工場現場)'!AD32","v":0},{"$f":"'５．算定報告様式(工場現場)'!AE32","v":0},{"$f":"'５．算定報告様式(工場現場)'!AF32","v":0},{"$f":"'５．算定報告様式(工場現場)'!AG32","v":0},{"$f":"'５．算定報告様式(工場現場)'!AH32","v":0},null,null,null,null,null,null,null,null,null,null,null,null,null,null,null,null,null,null,null,null,null,null,null,null,null,null,null,0,0,0,0,0,0,0,0,0,0,0,0,0,0,0,0,0,0,0,0,0,0,0,1,"千N㎥",0,0,0,0,0,0,0,0,0,0,0,0,0,0,0,0,0,0,0,0,0,0,0,0,0,0,0,0,0,0,0,0,0,0,0,0,0,0,0,0,0,0,0,0,0,0,0,0,0,0,0,0,0,0,0,0,0,0,0,0,0,0,0,0,0,0,0,0,0,0,0,0,0,0,0,0,0,0,0,0,0,0,0,0,0,0,0,0,0,0,0,0,29.3,"GJ\n/千Nｍ3",1.3599999999999999E-2,"t-C/GJ"]
[null,null,null,null,null,null,{"$f":"'５．算定報告様式(工場現場)'!G33","v":0},{"$f":"'５．算定報告様式(工場現場)'!H33","v":0},{"$f":"'５．算定報告様式(工場現場)'!I33","v":0},{"$f":"'５．算定報告様式(工場現場)'!J33","v":0},{"$f":"'５．算定報告様式(工場現場)'!K33","v":0},{"$f":"'５．算定報告様式(工場現場)'!L33","v":0},{"$f":"'５．算定報告様式(工場現場)'!M33","v":0},{"$f":"'５．算定報告様式(工場現場)'!N33","v":0},{"$f":"'５．算定報告様式(工場現場)'!O33","v":0},{"$f":"'５．算定報告様式(工場現場)'!P33","v":0},{"$f":"'５．算定報告様式(工場現場)'!Q33","v":0},{"$f":"'５．算定報告様式(工場現場)'!R33","v":0},{"$f":"'５．算定報告様式(工場現場)'!S33","v":0},{"$f":"'５．算定報告様式(工場現場)'!T33","v":0},{"$f":"'５．算定報告様式(工場現場)'!U33","v":0},{"$f":"'５．算定報告様式(工場現場)'!V33","v":0},{"$f":"'５．算定報告様式(工場現場)'!W33","v":0},{"$f":"'５．算定報告様式(工場現場)'!X33","v":0},{"$f":"'５．算定報告様式(工場現場)'!Y33","v":0},{"$f":"'５．算定報告様式(工場現場)'!Z33","v":0},{"$f":"'５．算定報告様式(工場現場)'!AA33","v":0},{"$f":"'５．算定報告様式(工場現場)'!AB33","v":0},{"$f":"'５．算定報告様式(工場現場)'!AC33","v":0},{"$f":"'５．算定報告様式(工場現場)'!AD33","v":0},{"$f":"'５．算定報告様式(工場現場)'!AE33","v":0},{"$f":"'５．算定報告様式(工場現場)'!AF33","v":0},{"$f":"'５．算定報告様式(工場現場)'!AG33","v":0},{"$f":"'５．算定報告様式(工場現場)'!AH33","v":0},null,null,null,null,null,null,null,null,null,null,null,null,null,null,null,null,null,null,null,null,null,null,null,null,null,null,null,0,0,0,0,0,0,0,0,0,0,0,0,0,0,0,0,0,0,0,0,0,0,0,{"$f":"IF(G33=\"\",\"-\",VLOOKUP($G33,$GB$6:$GC$15,2,FALSE))","v":{"$error":"#N/A"}},null,{"$f":"ROUND(IF($E$33=\"\",0,IF($G$33=\"\",0,BJ33/単位補正５)),0)","v":0},0,0,0,0,0,0,0,0,0,{"$f":"ROUND(IF($E$33=\"\",0,IF($G$33=\"\",0,BT33/単位補正５)),0)","v":0},0,0,0,0,0,0,0,0,0,{"$f":"ROUND(IF($E$33=\"\",0,IF($G$33=\"\",0,CD33/単位補正５)),0)","v":0},0,0,0,0,0,0,0,0,0,0,0,0,0,0,0,0,0,0,0,0,0,0,0,0,0,0,0,0,0,0,0,0,0,0,0,0,0,0,0,0,0,0,0,0,0,0,0,0,0,0,0,0,0,0,0,0,0,0,0,0,0,0,0,0,0,0,0,0,0,0,0,null,{"$f":"CONCATENATE(\"GJ/\",GB33)","v":"GJ/0"},null,"t-C/GJ",null,{"$f":"IF(G33=\"\",\"\",IF(G33=$GB$6,$GB$7,IF(G33=$GB$8,$GB$9,IF(G33=$GB$10,$GB$11,IF(G33=$GB$12,$GB$13,G33)))))","v":0}]
[null,null,null,null,null,null,{"$f":"'５．算定報告様式(工場現場)'!G34","v":0},{"$f":"'５．算定報告様式(工場現場)'!H34","v":0},{"$f":"'５．算定報告様式(工場現場)'!I34","v":0},{"$f":"'５．算定報告様式(工場現場)'!J34","v":0},{"$f":"'５．算定報告様式(工場現場)'!K34","v":0},{"$f":"'５．算定報告様式(工場現場)'!L34","v":0},{"$f":"'５．算定報告様式(工場現場)'!M34","v":0},{"$f":"'５．算定報告様式(工場現場)'!N34","v":0},{"$f":"'５．算定報告様式(工場現場)'!O34","v":0},{"$f":"'５．算定報告様式(工場現場)'!P34","v":0},{"$f":"'５．算定報告様式(工場現場)'!Q34","v":0},{"$f":"'５．算定報告様式(工場現場)'!R34","v":0},{"$f":"'５．算定報告様式(工場現場)'!S34","v":0},{"$f":"'５．算定報告様式(工場現場)'!T34","v":0},{"$f":"'５．算定報告様式(工場現場)'!U34","v":0},{"$f":"'５．算定報告様式(工場現場)'!V34","v":0},{"$f":"'５．算定報告様式(工場現場)'!W34","v":0},{"$f":"'５．算定報告様式(工場現場)'!X34","v":0},{"$f":"'５．算定報告様式(工場現場)'!Y34","v":0},{"$f":"'５．算定報告様式(工場現場)'!Z34","v":0},{"$f":"'５．算定報告様式(工場現場)'!AA34","v":0},{"$f":"'５．算定報告様式(工場現場)'!AB34","v":0},{"$f":"'５．算定報告様式(工場現場)'!AC34","v":0},{"$f":"'５．算定報告様式(工場現場)'!AD34","v":0},{"$f":"'５．算定報告様式(工場現場)'!AE34","v":0},{"$f":"'５．算定報告様式(工場現場)'!AF34","v":0},{"$f":"'５．算定報告様式(工場現場)'!AG34","v":0},{"$f":"'５．算定報告様式(工場現場)'!AH34","v":0},null,null,null,null,null,null,null,null,null,null,null,null,null,null,null,null,null,null,null,null,null,null,null,null,null,null,null,0,0,0,0,0,0,0,0,0,0,0,0,0,0,0,0,0,0,0,0,0,0,0,{"$f":"IF(G34=\"\",\"-\",VLOOKUP($G34,$GB$6:$GC$15,2,FALSE))","v":{"$error":"#N/A"}},null,0,0,0,0,0,0,0,0,0,0,0,0,0,0,0,0,0,0,0,0,0,0,0,0,0,0,0,0,0,0,0,0,0,0,0,0,0,0,0,0,0,0,0,0,0,0,0,0,0,0,0,0,0,0,0,0,0,0,0,0,0,0,0,0,0,0,0,0,0,0,0,0,0,0,0,0,0,0,0,0,0,0,0,0,0,0,0,0,0,0,0,0,null,{"$f":"CONCATENATE(\"GJ/\",GB34)","v":"GJ/0"},null,"t-C/GJ",null,{"$f":"IF(G34=\"\",\"\",IF(G34=$GB$6,$GB$7,IF(G34=$GB$8,$GB$9,IF(G34=$GB$10,$GB$11,IF(G34=$GB$12,$GB$13,G34)))))","v":0}]
[null,null,null,"小　　計",null,null,{"$f":"'５．算定報告様式(工場現場)'!G35","v":0},{"$f":"'５．算定報告様式(工場現場)'!H35","v":0},{"$f":"'５．算定報告様式(工場現場)'!I35","v":0},{"$f":"'５．算定報告様式(工場現場)'!J35","v":0},{"$f":"'５．算定報告様式(工場現場)'!K35","v":0},{"$f":"'５．算定報告様式(工場現場)'!L35","v":0},{"$f":"'５．算定報告様式(工場現場)'!M35","v":0},{"$f":"'５．算定報告様式(工場現場)'!N35","v":0},{"$f":"'５．算定報告様式(工場現場)'!O35","v":0},{"$f":"'５．算定報告様式(工場現場)'!P35","v":0},{"$f":"'５．算定報告様式(工場現場)'!Q35","v":0},{"$f":"'５．算定報告様式(工場現場)'!R35","v":0},{"$f":"'５．算定報告様式(工場現場)'!S35","v":0},{"$f":"'５．算定報告様式(工場現場)'!T35","v":0},{"$f":"'５．算定報告様式(工場現場)'!U35","v":0},{"$f":"'５．算定報告様式(工場現場)'!V35","v":0},{"$f":"'５．算定報告様式(工場現場)'!W35","v":0},{"$f":"'５．算定報告様式(工場現場)'!X35","v":0},{"$f":"'５．算定報告様式(工場現場)'!Y35","v":0},{"$f":"'５．算定報告様式(工場現場)'!Z35","v":0},{"$f":"'５．算定報告様式(工場現場)'!AA35","v":0},{"$f":"'５．算定報告様式(工場現場)'!AB35","v":0},{"$f":"'５．算定報告様式(工場現場)'!AC35","v":0},{"$f":"'５．算定報告様式(工場現場)'!AD35","v":0},{"$f":"'５．算定報告様式(工場現場)'!AE35","v":0},{"$f":"'５．算定報告様式(工場現場)'!AF35","v":0},{"$f":"'５．算定報告様式(工場現場)'!AG35","v":0},{"$f":"'５．算定報告様式(工場現場)'!AH35","v":0},null,null,null,null,null,null,null,null,null,null,null,null,null,null,null,null,null,null,null,null,null,null,null,null,null,null,null,null,null,null,null,null,null,null,null,null,null,null,null,null,null,null,null,null,null,null,null,null,null,null,null,null,null,null,null,null,null,null,null,null,null,null,null,null,null,null,null,null,null,null,null,null,null,null,null,{"$f":"SUBTOTAL(9,DF6:DF34)","v":0},0,0,0,0,0,0,0,0,0,0,0,0,0,0,0,0,0,0,0,0,0,0,0,0,0,0,0,0,0,0,0,0,0,0,0,0,0,0,0,null,null,null,null,null,null,{"$f":"SUBTOTAL(9,EZ6:EZ34)","v":0},{"$f":"SUBTOTAL(9,FA6:FA34)","v":0},0,0,0,0,0,0,0,0,0,0,0,0,0,0,0,0,0,0,0,0,0]
[null,null,"熱","産業用蒸気",null,null,{"$f":"'５．算定報告様式(工場現場)'!G36","v":"MJ"},{"$f":"'５．算定報告様式(工場現場)'!H36","v":0},{"$f":"'５．算定報告様式(工場現場)'!I36","v":0},{"$f":"'５．算定報告様式(工場現場)'!J36","v":0},{"$f":"'５．算定報告様式(工場現場)'!K36","v":0},{"$f":"'５．算定報告様式(工場現場)'!L36","v":0},{"$f":"'５．算定報告様式(工場現場)'!M36","v":0},{"$f":"'５．算定報告様式(工場現場)'!N36","v":0},{"$f":"'５．算定報告様式(工場現場)'!O36","v":0},{"$f":"'５．算定報告様式(工場現場)'!P36","v":0},{"$f":"'５．算定報告様式(工場現場)'!Q36","v":0},{"$f":"'５．算定報告様式(工場現場)'!R36","v":0},{"$f":"'５．算定報告様式(工場現場)'!S36","v":0},{"$f":"'５．算定報告様式(工場現場)'!T36","v":0},{"$f":"'５．算定報告様式(工場現場)'!U36","v":0},{"$f":"'５．算定報告様式(工場現場)'!V36","v":0},{"$f":"'５．算定報告様式(工場現場)'!W36","v":0},{"$f":"'５．算定報告様式(工場現場)'!X36","v":0},{"$f":"'５．算定報告様式(工場現場)'!Y36","v":0},{"$f":"'５．算定報告様式(工場現場)'!Z36","v":0},{"$f":"'５．算定報告様式(工場現場)'!AA36","v":0},{"$f":"'５．算定報告様式(工場現場)'!AB36","v":0},{"$f":"'５．算定報告様式(工場現場)'!AC36","v":0},{"$f":"'５．算定報告様式(工場現場)'!AD36","v":0},{"$f":"'５．算定報告様式(工場現場)'!AE36","v":0},{"$f":"'５．算定報告様式(工場現場)'!AF36","v":0},{"$f":"'５．算定報告様式(工場現場)'!AG36","v":0},{"$f":"'５．算定報告様式(工場現場)'!AH36","v":0},null,null,null,null,null,null,null,null,null,null,null,null,null,null,null,null,null,null,null,null,null,null,null,null,null,null,null,0,0,0,0,0,0,0,0,0,0,0,0,0,0,0,0,0,0,0,0,0,0,0,{"$f":"VLOOKUP($G36,$GB$6:$GC$15,2,FALSE)","v":1000},"GJ",{"$f":"ROUND(BJ36/$CG36,0)","v":0},0,0,0,0,0,0,0,0,0,0,0,0,0,0,0,{"$f":"ROUND(BZ36/$CG36,0)","v":0},0,0,0,0,0,0,{"$f":"CI36*$FW36","v":0},0,0,0,0,0,0,0,0,0,0,0,0,0,0,0,{"$f":"CY36*$FW36","v":0},0,0,0,0,0,0,{"$f":"DF36*$GC$19","v":0},0,0,0,0,0,0,0,0,0,0,0,0,0,0,0,{"$f":"DV36*$GC$19","v":0},0,0,0,0,0,0,{"$f":"CI36*$FY36","v":0},0,0,0,0,0,0,0,0,0,0,0,0,0,0,0,{"$f":"CY36*$FY36","v":0},0,0,0,0,0,0,1.02,"GJ/GJ",0.06,"t-CO2\n/GJ"]
[null,null,null,"産業用以外の蒸気",null,null,{"$f":"'５．算定報告様式(工場現場)'!G37","v":"MJ"},{"$f":"'５．算定報告様式(工場現場)'!H37","v":0},{"$f":"'５．算定報告様式(工場現場)'!I37","v":0},{"$f":"'５．算定報告様式(工場現場)'!J37","v":0},{"$f":"'５．算定報告様式(工場現場)'!K37","v":0},{"$f":"'５．算定報告様式(工場現場)'!L37","v":0},{"$f":"'５．算定報告様式(工場現場)'!M37","v":0},{"$f":"'５．算定報告様式(工場現場)'!N37","v":0},{"$f":"'５．算定報告様式(工場現場)'!O37","v":0},{"$f":"'５．算定報告様式(工場現場)'!P37","v":0},{"$f":"'５．算定報告様式(工場現場)'!Q37","v":0},{"$f":"'５．算定報告様式(工場現場)'!R37","v":0},{"$f":"'５．算定報告様式(工場現場)'!S37","v":0},{"$f":"'５．算定報告様式(工場現場)'!T37","v":0},{"$f":"'５．算定報告様式(工場現場)'!U37","v":0},{"$f":"'５．算定報告様式(工場現場)'!V37","v":0},{"$f":"'５．算定報告様式(工場現場)'!W37","v":0},{"$f":"'５．算定報告様式(工場現場)'!X37","v":0},{"$f":"'５．算定報告様式(工場現場)'!Y37","v":0},{"$f":"'５．算定報告様式(工場現場)'!Z37","v":0},{"$f":"'５．算定報告様式(工場現場)'!AA37","v":0},{"$f":"'５．算定報告様式(工場現場)'!AB37","v":0},{"$f":"'５．算定報告様式(工場現場)'!AC37","v":0},{"$f":"'５．算定報告様式(工場現場)'!AD37","v":0},{"$f":"'５．算定報告様式(工場現場)'!AE37","v":0},{"$f":"'５．算定報告様式(工場現場)'!AF37","v":0},{"$f":"'５．算定報告様式(工場現場)'!AG37","v":0},{"$f":"'５．算定報告様式(工場現場)'!AH37","v":0},null,null,null,null,null,null,null,null,null,null,null,null,null,null,null,null,null,null,null,null,null,null,null,null,null,null,null,0,0,0,0,0,0,0,0,0,0,0,0,0,0,0,0,0,0,0,0,0,0,0,{"$f":"VLOOKUP($G37,$GB$6:$GC$15,2,FALSE)","v":1000},"GJ",0,0,0,0,0,0,0,0,0,0,0,0,0,0,0,0,0,0,0,0,0,0,0,0,0,0,0,0,0,0,0,0,0,0,0,0,0,0,0,0,0,0,0,0,0,0,0,0,0,0,0,0,0,0,0,0,0,0,0,0,0,0,0,0,0,0,0,0,0,0,0,0,0,0,0,0,0,0,0,0,0,0,0,0,0,0,0,0,0,0,0,0,1.36,"GJ/GJ",5.7000000000000002E-2,"t-CO2\n/GJ"]
[null,null,null,"温水",null,null,{"$f":"'５．算定報告様式(工場現場)'!G38","v":"MJ"},{"$f":"'５．算定報告様式(工場現場)'!H38","v":0},{"$f":"'５．算定報告様式(工場現場)'!I38","v":0},{"$f":"'５．算定報告様式(工場現場)'!J38","v":0},{"$f":"'５．算定報告様式(工場現場)'!K38","v":0},{"$f":"'５．算定報告様式(工場現場)'!L38","v":0},{"$f":"'５．算定報告様式(工場現場)'!M38","v":0},{"$f":"'５．算定報告様式(工場現場)'!N38","v":0},{"$f":"'５．算定報告様式(工場現場)'!O38","v":0},{"$f":"'５．算定報告様式(工場現場)'!P38","v":0},{"$f":"'５．算定報告様式(工場現場)'!Q38","v":0},{"$f":"'５．算定報告様式(工場現場)'!R38","v":0},{"$f":"'５．算定報告様式(工場現場)'!S38","v":0},{"$f":"'５．算定報告様式(工場現場)'!T38","v":0},{"$f":"'５．算定報告様式(工場現場)'!U38","v":0},{"$f":"'５．算定報告様式(工場現場)'!V38","v":0},{"$f":"'５．算定報告様式(工場現場)'!W38","v":0},{"$f":"'５．算定報告様式(工場現場)'!X38","v":0},{"$f":"'５．算定報告様式(工場現場)'!Y38","v":0},{"$f":"'５．算定報告様式(工場現場)'!Z38","v":0},{"$f":"'５．算定報告様式(工場現場)'!AA38","v":0},{"$f":"'５．算定報告様式(工場現場)'!AB38","v":0},{"$f":"'５．算定報告様式(工場現場)'!AC38","v":0},{"$f":"'５．算定報告様式(工場現場)'!AD38","v":0},{"$f":"'５．算定報告様式(工場現場)'!AE38","v":0},{"$f":"'５．算定報告様式(工場現場)'!AF38","v":0},{"$f":"'５．算定報告様式(工場現場)'!AG38","v":0},{"$f":"'５．算定報告様式(工場現場)'!AH38","v":0},null,null,null,null,null,null,null,null,null,null,null,null,null,null,null,null,null,null,null,null,null,null,null,null,null,null,null,0,0,0,0,0,0,0,0,0,0,0,0,0,0,0,0,0,0,0,0,0,0,0,{"$f":"VLOOKUP($G38,$GB$6:$GC$15,2,FALSE)","v":1000},"GJ",0,0,0,0,0,0,0,0,0,0,0,0,0,0,0,0,0,0,0,0,0,0,0,0,0,0,0,0,0,0,0,0,0,0,0,0,0,0,0,0,0,0,0,0,0,0,0,0,0,0,0,0,0,0,0,0,0,0,0,0,0,0,0,0,0,0,0,0,0,0,0,0,0,0,0,0,0,0,0,0,0,0,0,0,0,0,0,0,0,0,0,0,1.36,"GJ/GJ",5.7000000000000002E-2,"t-CO2\n/GJ"]
[null,null,null,"冷水",null,null,{"$f":"'５．算定報告様式(工場現場)'!G39","v":"MJ"},{"$f":"'５．算定報告様式(工場現場)'!H39","v":0},{"$f":"'５．算定報告様式(工場現場)'!I39","v":0},{"$f":"'５．算定報告様式(工場現場)'!J39","v":0},{"$f":"'５．算定報告様式(工場現場)'!K39","v":0},{"$f":"'５．算定報告様式(工場現場)'!L39","v":0},{"$f":"'５．算定報告様式(工場現場)'!M39","v":0},{"$f":"'５．算定報告様式(工場現場)'!N39","v":0},{"$f":"'５．算定報告様式(工場現場)'!O39","v":0},{"$f":"'５．算定報告様式(工場現場)'!P39","v":0},{"$f":"'５．算定報告様式(工場現場)'!Q39","v":0},{"$f":"'５．算定報告様式(工場現場)'!R39","v":0},{"$f":"'５．算定報告様式(工場現場)'!S39","v":0},{"$f":"'５．算定報告様式(工場現場)'!T39","v":0},{"$f":"'５．算定報告様式(工場現場)'!U39","v":0},{"$f":"'５．算定報告様式(工場現場)'!V39","v":0},{"$f":"'５．算定報告様式(工場現場)'!W39","v":0},{"$f":"'５．算定報告様式(工場現場)'!X39","v":0},{"$f":"'５．算定報告様式(工場現場)'!Y39","v":0},{"$f":"'５．算定報告様式(工場現場)'!Z39","v":0},{"$f":"'５．算定報告様式(工場現場)'!AA39","v":0},{"$f":"'５．算定報告様式(工場現場)'!AB39","v":0},{"$f":"'５．算定報告様式(工場現場)'!AC39","v":0},{"$f":"'５．算定報告様式(工場現場)'!AD39","v":0},{"$f":"'５．算定報告様式(工場現場)'!AE39","v":0},{"$f":"'５．算定報告様式(工場現場)'!AF39","v":0},{"$f":"'５．算定報告様式(工場現場)'!AG39","v":0},{"$f":"'５．算定報告様式(工場現場)'!AH39","v":0},null,null,null,null,null,null,null,null,null,null,null,null,null,null,null,null,null,null,null,null,null,null,null,null,null,null,null,0,0,0,0,0,0,0,0,0,0,0,0,0,0,0,0,0,0,0,0,0,0,0,{"$f":"VLOOKUP($G39,$GB$6:$GC$15,2,FALSE)","v":1000},"GJ",0,0,0,0,0,0,0,0,0,0,0,0,0,0,0,0,0,0,0,0,0,0,0,0,0,0,0,0,0,0,0,0,0,0,0,0,0,0,0,0,0,0,0,0,0,0,0,0,0,0,0,0,0,0,0,0,0,0,0,0,0,0,0,0,0,0,0,0,0,0,0,0,0,0,0,0,0,0,0,0,0,0,0,0,0,0,0,0,0,0,0,0,1.36,"GJ/GJ",5.7000000000000002E-2,"t-CO2\n/GJ"]
[null,null,null,"再生可能エネルギーの環境価値を移転した熱",null,null,{"$f":"'５．算定報告様式(工場現場)'!G40","v":"MJ"},{"$f":"'５．算定報告様式(工場現場)'!H40","v":0},{"$f":"'５．算定報告様式(工場現場)'!I40","v":0},{"$f":"'５．算定報告様式(工場現場)'!J40","v":0},{"$f":"'５．算定報告様式(工場現場)'!K40","v":0},{"$f":"'５．算定報告様式(工場現場)'!L40","v":0},{"$f":"'５．算定報告様式(工場現場)'!M40","v":0},{"$f":"'５．算定報告様式(工場現場)'!N40","v":0},{"$f":"'５．算定報告様式(工場現場)'!O40","v":0},{"$f":"'５．算定報告様式(工場現場)'!P40","v":0},{"$f":"'５．算定報告様式(工場現場)'!Q40","v":0},{"$f":"'５．算定報告様式(工場現場)'!R40","v":0},{"$f":"'５．算定報告様式(工場現場)'!S40","v":0},{"$f":"'５．算定報告様式(工場現場)'!T40","v":0},{"$f":"'５．算定報告様式(工場現場)'!U40","v":0},{"$f":"'５．算定報告様式(工場現場)'!V40","v":0},{"$f":"'５．算定報告様式(工場現場)'!W40","v":0},{"$f":"'５．算定報告様式(工場現場)'!X40","v":0},{"$f":"'５．算定報告様式(工場現場)'!Y40","v":0},{"$f":"'５．算定報告様式(工場現場)'!Z40","v":0},{"$f":"'５．算定報告様式(工場現場)'!AA40","v":0},{"$f":"'５．算定報告様式(工場現場)'!AB40","v":0},{"$f":"'５．算定報告様式(工場現場)'!AC40","v":0},{"$f":"'５．算定報告様式(工場現場)'!AD40","v":0},{"$f":"'５．算定報告様式(工場現場)'!AE40","v":0},{"$f":"'５．算定報告様式(工場現場)'!AF40","v":0},{"$f":"'５．算定報告様式(工場現場)'!AG40","v":0},{"$f":"'５．算定報告様式(工場現場)'!AH40","v":0},null,null,null,null,null,null,null,null,null,null,null,null,null,null,null,null,null,null,null,null,null,null,null,null,null,null,null,{"$f":"L40-AM40","v":0},0,0,0,0,0,0,0,0,0,0,0,0,0,0,0,0,0,0,0,0,0,0,{"$f":"VLOOKUP($G40,$GB$6:$GC$15,2,FALSE)","v":1000},"GJ",0,0,0,0,0,0,0,0,0,0,0,0,0,0,0,0,0,0,0,0,0,0,0,{"$f":"CI40","v":0},0,0,0,0,0,0,0,0,0,0,0,0,0,0,0,0,0,0,0,0,0,0,null,null,null,null,null,null,null,null,null,null,null,null,null,null,null,null,null,null,null,null,null,null,null,0,0,0,0,0,0,0,0,0,0,0,0,0,0,0,0,0,0,0,0,0,0,0,null,null,5.7000000000000002E-2,"t-CO2\n/GJ"]
[null,null,null,"小　　計",null,null,{"$f":"'５．算定報告様式(工場現場)'!G41","v":0},{"$f":"'５．算定報告様式(工場現場)'!H41","v":0},{"$f":"'５．算定報告様式(工場現場)'!I41","v":0},{"$f":"'５．算定報告様式(工場現場)'!J41","v":0},{"$f":"'５．算定報告様式(工場現場)'!K41","v":0},{"$f":"'５．算定報告様式(工場現場)'!L41","v":0},{"$f":"'５．算定報告様式(工場現場)'!M41","v":0},{"$f":"'５．算定報告様式(工場現場)'!N41","v":0},{"$f":"'５．算定報告様式(工場現場)'!O41","v":0},{"$f":"'５．算定報告様式(工場現場)'!P41","v":0},{"$f":"'５．算定報告様式(工場現場)'!Q41","v":0},{"$f":"'５．算定報告様式(工場現場)'!R41","v":0},{"$f":"'５．算定報告様式(工場現場)'!S41","v":0},{"$f":"'５．算定報告様式(工場現場)'!T41","v":0},{"$f":"'５．算定報告様式(工場現場)'!U41","v":0},{"$f":"'５．算定報告様式(工場現場)'!V41","v":0},{"$f":"'５．算定報告様式(工場現場)'!W41","v":0},{"$f":"'５．算定報告様式(工場現場)'!X41","v":0},{"$f":"'５．算定報告様式(工場現場)'!Y41","v":0},{"$f":"'５．算定報告様式(工場現場)'!Z41","v":0},{"$f":"'５．算定報告様式(工場現場)'!AA41","v":0},{"$f":"'５．算定報告様式(工場現場)'!AB41","v":0},{"$f":"'５．算定報告様式(工場現場)'!AC41","v":0},{"$f":"'５．算定報告様式(工場現場)'!AD41","v":0},{"$f":"'５．算定報告様式(工場現場)'!AE41","v":0},{"$f":"'５．算定報告様式(工場現場)'!AF41","v":0},{"$f":"'５．算定報告様式(工場現場)'!AG41","v":0},{"$f":"'５．算定報告様式(工場現場)'!AH41","v":0},null,null,null,null,null,null,null,null,null,null,null,null,null,null,null,null,null,null,null,null,null,null,null,null,null,null,null,null,null,null,null,null,null,null,null,null,null,null,null,null,null,null,null,null,null,null,null,null,null,null,null,null,null,null,null,null,null,null,null,null,null,null,null,null,null,null,null,null,null,null,null,null,null,null,null,{"$f":"SUBTOTAL(9,DF36:DF40)","v":0},0,0,0,0,0,0,0,0,0,0,0,0,0,0,0,0,{"$f":"SUBTOTAL(9,DW36:DW40)","v":0},{"$f":"SUBTOTAL(9,DX36:DX40)","v":0},0,0,0,0,0,0,0,0,0,0,0,0,0,0,0,0,0,0,0,0,0,{"$f":"SUBTOTAL(9,ET36:ET40)","v":0},{"$f":"SUBTOTAL(9,EU36:EU40)","v":0},0,0,0,0,0,0,0,0,0,0,0,0,0,0,0,0,0,0,0,0,0,{"$f":"SUBTOTAL(9,FQ36:FQ40)","v":0},{"$f":"SUBTOTAL(9,FR36:FR40)","v":0},0,0,0,0]
[null,null,"電気","一般電気\n事業者","昼間（8時～22時）",null,{"$f":"'５．算定報告様式(工場現場)'!G42","v":"kWh"},{"$f":"'５．算定報告様式(工場現場)'!H42","v":0},{"$f":"'５．算定報告様式(工場現場)'!I42","v":0},{"$f":"'５．算定報告様式(工場現場)'!J42","v":0},{"$f":"'５．算定報告様式(工場現場)'!K42","v":0},{"$f":"'５．算定報告様式(工場現場)'!L42","v":0},{"$f":"'５．算定報告様式(工場現場)'!M42","v":0},{"$f":"'５．算定報告様式(工場現場)'!N42","v":0},{"$f":"'５．算定報告様式(工場現場)'!O42","v":0},{"$f":"'５．算定報告様式(工場現場)'!P42","v":0},{"$f":"'５．算定報告様式(工場現場)'!Q42","v":0},{"$f":"'５．算定報告様式(工場現場)'!R42","v":0},{"$f":"'５．算定報告様式(工場現場)'!S42","v":0},{"$f":"'５．算定報告様式(工場現場)'!T42","v":0},{"$f":"'５．算定報告様式(工場現場)'!U42","v":0},{"$f":"'５．算定報告様式(工場現場)'!V42","v":0},{"$f":"'５．算定報告様式(工場現場)'!W42","v":0},{"$f":"'５．算定報告様式(工場現場)'!X42","v":0},{"$f":"'５．算定報告様式(工場現場)'!Y42","v":0},{"$f":"'５．算定報告様式(工場現場)'!Z42","v":0},{"$f":"'５．算定報告様式(工場現場)'!AA42","v":0},{"$f":"'５．算定報告様式(工場現場)'!AB42","v":0},{"$f":"'５．算定報告様式(工場現場)'!AC42","v":0},{"$f":"'５．算定報告様式(工場現場)'!AD42","v":0},{"$f":"'５．算定報告様式(工場現場)'!AE42","v":0},{"$f":"'５．算定報告様式(工場現場)'!AF42","v":0},{"$f":"'５．算定報告様式(工場現場)'!AG42","v":0},{"$f":"'５．算定報告様式(工場現場)'!AH42","v":0},null,null,null,null,null,null,null,null,null,null,null,null,null,null,null,null,null,null,null,null,null,null,null,null,null,null,null,0,0,0,0,0,0,0,0,0,0,0,0,0,0,0,0,0,0,0,0,0,0,0,{"$f":"VLOOKUP($G42,$GB$6:$GC$17,2,FALSE)","v":1000},"千kWh",0,0,0,0,0,0,0,0,0,0,0,0,0,0,0,0,{"$f":"ROUND(BZ42/$CG42,0)","v":0},0,0,0,0,0,0,{"$f":"CI42*$FW42","v":0},0,0,0,0,0,0,0,0,0,0,0,0,0,0,0,{"$f":"CY42*$FW42","v":0},0,0,0,0,0,0,{"$f":"DF42*$GC$19","v":0},0,0,0,0,0,0,0,0,0,0,0,0,0,0,0,{"$f":"DV42*$GC$19","v":0},0,0,0,0,0,0,{"$f":"CI42*$FY42","v":0},0,0,0,0,0,0,0,0,0,0,0,0,0,0,0,{"$f":"CY42*$FY42","v":0},0,0,0,0,0,0,9.9700000000000006,"GJ\n/千kWh",0.495,"t-CO2\n/千kWh"]
[null,null,null,null,"夜間（22時～翌8時）",null,{"$f":"'５．算定報告様式(工場現場)'!G43","v":"kWh"},{"$f":"'５．算定報告様式(工場現場)'!H43","v":0},{"$f":"'５．算定報告様式(工場現場)'!I43","v":0},{"$f":"'５．算定報告様式(工場現場)'!J43","v":0},{"$f":"'５．算定報告様式(工場現場)'!K43","v":0},{"$f":"'５．算定報告様式(工場現場)'!L43","v":0},{"$f":"'５．算定報告様式(工場現場)'!M43","v":0},{"$f":"'５．算定報告様式(工場現場)'!N43","v":0},{"$f":"'５．算定報告様式(工場現場)'!O43","v":0},{"$f":"'５．算定報告様式(工場現場)'!P43","v":0},{"$f":"'５．算定報告様式(工場現場)'!Q43","v":0},{"$f":"'５．算定報告様式(工場現場)'!R43","v":0},{"$f":"'５．算定報告様式(工場現場)'!S43","v":0},{"$f":"'５．算定報告様式(工場現場)'!T43","v":0},{"$f":"'５．算定報告様式(工場現場)'!U43","v":0},{"$f":"'５．算定報告様式(工場現場)'!V43","v":0},{"$f":"'５．算定報告様式(工場現場)'!W43","v":0},{"$f":"'５．算定報告様式(工場現場)'!X43","v":0},{"$f":"'５．算定報告様式(工場現場)'!Y43","v":0},{"$f":"'５．算定報告様式(工場現場)'!Z43","v":0},{"$f":"'５．算定報告様式(工場現場)'!AA43","v":0},{"$f":"'５．算定報告様式(工場現場)'!AB43","v":0},{"$f":"'５．算定報告様式(工場現場)'!AC43","v":0},{"$f":"'５．算定報告様式(工場現場)'!AD43","v":0},{"$f":"'５．算定報告様式(工場現場)'!AE43","v":0},{"$f":"'５．算定報告様式(工場現場)'!AF43","v":0},{"$f":"'５．算定報告様式(工場現場)'!AG43","v":0},{"$f":"'５．算定報告様式(工場現場)'!AH43","v":0},null,null,null,null,null,null,null,null,null,null,null,null,null,null,null,null,null,null,null,null,null,null,null,null,null,null,null,0,0,0,0,0,0,0,0,0,0,0,0,0,0,0,0,0,0,0,0,0,0,0,{"$f":"VLOOKUP($G43,$GB$6:$GC$17,2,FALSE)","v":1000},"千kWh",0,0,0,0,0,0,0,0,0,0,0,0,0,0,0,0,0,0,0,0,0,0,0,0,0,0,0,0,0,0,0,0,0,0,0,0,0,0,0,0,0,0,0,0,0,0,0,0,0,0,0,0,0,0,0,0,0,0,0,0,0,0,0,0,0,0,0,0,0,0,0,0,0,0,0,0,0,0,0,0,0,0,0,0,0,0,0,0,0,0,0,0,9.2799999999999994,"GJ\n/千kWh",0.495,"t-CO2\n/千kWh"]
[null,null,null,"その他の買電",null,null,{"$f":"'５．算定報告様式(工場現場)'!G44","v":"kWh"},{"$f":"'５．算定報告様式(工場現場)'!H44","v":0},{"$f":"'５．算定報告様式(工場現場)'!I44","v":0},{"$f":"'５．算定報告様式(工場現場)'!J44","v":0},{"$f":"'５．算定報告様式(工場現場)'!K44","v":0},{"$f":"'５．算定報告様式(工場現場)'!L44","v":0},{"$f":"'５．算定報告様式(工場現場)'!M44","v":0},{"$f":"'５．算定報告様式(工場現場)'!N44","v":0},{"$f":"'５．算定報告様式(工場現場)'!O44","v":0},{"$f":"'５．算定報告様式(工場現場)'!P44","v":0},{"$f":"'５．算定報告様式(工場現場)'!Q44","v":0},{"$f":"'５．算定報告様式(工場現場)'!R44","v":0},{"$f":"'５．算定報告様式(工場現場)'!S44","v":0},{"$f":"'５．算定報告様式(工場現場)'!T44","v":0},{"$f":"'５．算定報告様式(工場現場)'!U44","v":0},{"$f":"'５．算定報告様式(工場現場)'!V44","v":0},{"$f":"'５．算定報告様式(工場現場)'!W44","v":0},{"$f":"'５．算定報告様式(工場現場)'!X44","v":0},{"$f":"'５．算定報告様式(工場現場)'!Y44","v":0},{"$f":"'５．算定報告様式(工場現場)'!Z44","v":0},{"$f":"'５．算定報告様式(工場現場)'!AA44","v":0},{"$f":"'５．算定報告様式(工場現場)'!AB44","v":0},{"$f":"'５．算定報告様式(工場現場)'!AC44","v":0},{"$f":"'５．算定報告様式(工場現場)'!AD44","v":0},{"$f":"'５．算定報告様式(工場現場)'!AE44","v":0},{"$f":"'５．算定報告様式(工場現場)'!AF44","v":0},{"$f":"'５．算定報告様式(工場現場)'!AG44","v":0},{"$f":"'５．算定報告様式(工場現場)'!AH44","v":0},null,null,null,null,null,null,null,null,null,null,null,null,null,null,null,null,null,null,null,null,null,null,null,null,null,null,null,0,0,0,0,0,0,0,0,0,0,0,0,0,0,0,0,0,0,0,{"$f":"AE44-BF44","v":0},0,0,0,{"$f":"VLOOKUP($G44,$GB$6:$GC$17,2,FALSE)","v":1000},"千kWh",0,0,0,0,0,0,0,0,0,0,0,0,0,0,0,0,0,0,0,0,0,0,0,0,0,0,0,0,0,0,0,0,0,0,0,0,0,0,0,0,0,0,0,0,0,0,0,0,0,0,0,0,0,0,0,0,0,0,0,0,0,0,0,0,0,0,0,0,0,0,0,0,0,0,0,0,0,0,0,0,0,0,0,0,0,0,0,0,0,0,0,0,9.76,"GJ\n/千kWh",0.495,"t-CO2\n/千kWh"]
[null,null,null,"再生可能エネルギーの環境価値を移転した電気",null,null,{"$f":"'５．算定報告様式(工場現場)'!G45","v":"kWh"},{"$f":"'５．算定報告様式(工場現場)'!H45","v":0},{"$f":"'５．算定報告様式(工場現場)'!I45","v":0},{"$f":"'５．算定報告様式(工場現場)'!J45","v":0},{"$f":"'５．算定報告様式(工場現場)'!K45","v":0},{"$f":"'５．算定報告様式(工場現場)'!L45","v":0},{"$f":"'５．算定報告様式(工場現場)'!M45","v":0},{"$f":"'５．算定報告様式(工場現場)'!N45","v":0},{"$f":"'５．算定報告様式(工場現場)'!O45","v":0},{"$f":"'５．算定報告様式(工場現場)'!P45","v":0},{"$f":"'５．算定報告様式(工場現場)'!Q45","v":0},{"$f":"'５．算定報告様式(工場現場)'!R45","v":0},{"$f":"'５．算定報告様式(工場現場)'!S45","v":0},{"$f":"'５．算定報告様式(工場現場)'!T45","v":0},{"$f":"'５．算定報告様式(工場現場)'!U45","v":0},{"$f":"'５．算定報告様式(工場現場)'!V45","v":0},{"$f":"'５．算定報告様式(工場現場)'!W45","v":0},{"$f":"'５．算定報告様式(工場現場)'!X45","v":0},{"$f":"'５．算定報告様式(工場現場)'!Y45","v":0},{"$f":"'５．算定報告様式(工場現場)'!Z45","v":0},{"$f":"'５．算定報告様式(工場現場)'!AA45","v":0},{"$f":"'５．算定報告様式(工場現場)'!AB45","v":0},{"$f":"'５．算定報告様式(工場現場)'!AC45","v":0},{"$f":"'５．算定報告様式(工場現場)'!AD45","v":0},{"$f":"'５．算定報告様式(工場現場)'!AE45","v":0},{"$f":"'５．算定報告様式(工場現場)'!AF45","v":0},{"$f":"'５．算定報告様式(工場現場)'!AG45","v":0},{"$f":"'５．算定報告様式(工場現場)'!AH45","v":0},null,null,null,null,null,null,null,null,null,null,null,null,null,null,null,null,null,null,null,null,null,null,null,null,null,null,null,0,0,0,0,0,0,0,0,0,0,0,0,0,0,0,0,0,0,0,0,0,0,0,{"$f":"VLOOKUP($G45,$GB$6:$GC$17,2,FALSE)","v":1000},"千kWh",0,0,0,0,0,0,0,0,0,0,0,0,0,0,0,0,0,0,0,0,0,0,0,null,null,null,null,null,null,null,null,null,null,null,null,null,null,null,null,null,null,null,null,null,null,null,null,null,null,null,null,null,null,null,null,null,null,null,null,null,null,null,null,null,null,null,null,null,null,0,0,0,0,0,0,0,0,0,0,0,0,0,0,0,0,0,0,0,0,0,0,0,null,null,0.495,"t-CO2\n/千kWh"]
[null,null,null,"再生可能エネルギーを自家消費した\n電気",null,null,{"$f":"'５．算定報告様式(工場現場)'!G46","v":"kWh"},{"$f":"'５．算定報告様式(工場現場)'!H46","v":0},{"$f":"'５．算定報告様式(工場現場)'!I46","v":0},{"$f":"'５．算定報告様式(工場現場)'!J46","v":0},{"$f":"'５．算定報告様式(工場現場)'!K46","v":0},{"$f":"'５．算定報告様式(工場現場)'!L46","v":0},{"$f":"'５．算定報告様式(工場現場)'!M46","v":0},{"$f":"'５．算定報告様式(工場現場)'!N46","v":0},{"$f":"'５．算定報告様式(工場現場)'!O46","v":0},{"$f":"'５．算定報告様式(工場現場)'!P46","v":0},{"$f":"'５．算定報告様式(工場現場)'!Q46","v":0},{"$f":"'５．算定報告様式(工場現場)'!R46","v":0},{"$f":"'５．算定報告様式(工場現場)'!S46","v":0},{"$f":"'５．算定報告様式(工場現場)'!T46","v":0},{"$f":"'５．算定報告様式(工場現場)'!U46","v":0},{"$f":"'５．算定報告様式(工場現場)'!V46","v":0},{"$f":"'５．算定報告様式(工場現場)'!W46","v":0},{"$f":"'５．算定報告様式(工場現場)'!X46","v":0},{"$f":"'５．算定報告様式(工場現場)'!Y46","v":0},{"$f":"'５．算定報告様式(工場現場)'!Z46","v":0},{"$f":"'５．算定報告様式(工場現場)'!AA46","v":0},{"$f":"'５．算定報告様式(工場現場)'!AB46","v":0},{"$f":"'５．算定報告様式(工場現場)'!AC46","v":0},{"$f":"'５．算定報告様式(工場現場)'!AD46","v":0},{"$f":"'５．算定報告様式(工場現場)'!AE46","v":0},{"$f":"'５．算定報告様式(工場現場)'!AF46","v":0},{"$f":"'５．算定報告様式(工場現場)'!AG46","v":0},{"$f":"'５．算定報告様式(工場現場)'!AH46","v":0},null,null,null,null,null,null,null,null,null,null,null,null,null,null,null,null,null,null,null,null,null,null,null,null,null,null,null,0,0,0,0,0,0,0,0,0,0,0,0,0,0,0,0,0,0,0,0,0,0,0,{"$f":"VLOOKUP($G46,$GB$6:$GC$17,2,FALSE)","v":1000},"千kWh",0,0,0,0,0,0,0,0,0,0,0,0,0,0,0,0,0,0,0,0,0,0,0,null,null,null,null,null,null,null,null,null,null,null,null,null,null,null,null,null,null,null,null,null,null,null,null,null,null,null,null,null,null,null,null,null,null,null,null,null,null,null,null,null,null,null,null,null,null,{"$f":"-ABS(CI46*$FY46)","v":0},0,0,0,0,0,0,0,0,0,0,0,0,0,0,0,0,0,0,0,0,0,0,null,null,-0.193,"t-CO2\n/千kWh"]
[null,null,null,"小　　計",null,null,{"$f":"'５．算定報告様式(工場現場)'!G47","v":0},{"$f":"'５．算定報告様式(工場現場)'!H47","v":0},{"$f":"'５．算定報告様式(工場現場)'!I47","v":0},{"$f":"'５．算定報告様式(工場現場)'!J47","v":0},{"$f":"'５．算定報告様式(工場現場)'!K47","v":0},{"$f":"'５．算定報告様式(工場現場)'!L47","v":0},{"$f":"'５．算定報告様式(工場現場)'!M47","v":0},{"$f":"'５．算定報告様式(工場現場)'!N47","v":0},{"$f":"'５．算定報告様式(工場現場)'!O47","v":0},{"$f":"'５．算定報告様式(工場現場)'!P47","v":0},{"$f":"'５．算定報告様式(工場現場)'!Q47","v":0},{"$f":"'５．算定報告様式(工場現場)'!R47","v":0},{"$f":"'５．算定報告様式(工場現場)'!S47","v":0},{"$f":"'５．算定報告様式(工場現場)'!T47","v":0},{"$f":"'５．算定報告様式(工場現場)'!U47","v":0},{"$f":"'５．算定報告様式(工場現場)'!V47","v":0},{"$f":"'５．算定報告様式(工場現場)'!W47","v":0},{"$f":"'５．算定報告様式(工場現場)'!X47","v":0},{"$f":"'５．算定報告様式(工場現場)'!Y47","v":0},{"$f":"'５．算定報告様式(工場現場)'!Z47","v":0},{"$f":"'５．算定報告様式(工場現場)'!AA47","v":0},{"$f":"'５．算定報告様式(工場現場)'!AB47","v":0},{"$f":"'５．算定報告様式(工場現場)'!AC47","v":0},{"$f":"'５．算定報告様式(工場現場)'!AD47","v":0},{"$f":"'５．算定報告様式(工場現場)'!AE47","v":0},{"$f":"'５．算定報告様式(工場現場)'!AF47","v":0},{"$f":"'５．算定報告様式(工場現場)'!AG47","v":0},{"$f":"'５．算定報告様式(工場現場)'!AH47","v":0},null,null,null,null,null,null,null,null,null,null,null,null,null,null,null,null,null,null,null,null,null,null,null,null,null,null,null,null,null,null,null,null,null,null,null,null,null,null,null,null,null,null,null,null,null,null,null,null,null,null,null,null,null,null,null,null,null,null,null,null,null,null,null,null,null,null,null,null,null,null,null,null,null,null,null,{"$f":"SUBTOTAL(9,DF42:DF46)","v":0},0,0,0,0,0,0,0,0,0,0,0,0,0,0,0,0,{"$f":"SUBTOTAL(9,DW42:DW46)","v":0},{"$f":"SUBTOTAL(9,DX42:DX46)","v":0},0,0,0,0,0,0,0,0,0,0,0,0,0,0,0,0,0,0,0,0,0,{"$f":"SUBTOTAL(9,ET42:ET46)","v":0},{"$f":"SUBTOTAL(9,EU42:EU46)","v":0},0,0,0,0,0,0,0,0,0,0,0,0,0,0,0,0,0,0,0,0,0,{"$f":"SUBTOTAL(9,FQ42:FQ46)","v":0},{"$f":"SUBTOTAL(9,FR42:FR46)","v":0},0,0,0,0]
[null,null,"外部供給","自ら生成した熱の供給",null,null,{"$f":"'５．算定報告様式(工場現場)'!G48","v":"GJ"},{"$f":"'５．算定報告様式(工場現場)'!H48","v":0},{"$f":"'５．算定報告様式(工場現場)'!I48","v":0},{"$f":"'５．算定報告様式(工場現場)'!J48","v":0},{"$f":"'５．算定報告様式(工場現場)'!K48","v":0},{"$f":"'５．算定報告様式(工場現場)'!L48","v":0},{"$f":"'５．算定報告様式(工場現場)'!M48","v":0},{"$f":"'５．算定報告様式(工場現場)'!N48","v":0},{"$f":"'５．算定報告様式(工場現場)'!O48","v":0},{"$f":"'５．算定報告様式(工場現場)'!P48","v":0},{"$f":"'５．算定報告様式(工場現場)'!Q48","v":0},{"$f":"'５．算定報告様式(工場現場)'!R48","v":0},{"$f":"'５．算定報告様式(工場現場)'!S48","v":0},{"$f":"'５．算定報告様式(工場現場)'!T48","v":0},{"$f":"'５．算定報告様式(工場現場)'!U48","v":0},{"$f":"'５．算定報告様式(工場現場)'!V48","v":0},{"$f":"'５．算定報告様式(工場現場)'!W48","v":0},{"$f":"'５．算定報告様式(工場現場)'!X48","v":0},{"$f":"'５．算定報告様式(工場現場)'!Y48","v":0},{"$f":"'５．算定報告様式(工場現場)'!Z48","v":0},{"$f":"'５．算定報告様式(工場現場)'!AA48","v":0},{"$f":"'５．算定報告様式(工場現場)'!AB48","v":0},{"$f":"'５．算定報告様式(工場現場)'!AC48","v":0},{"$f":"'５．算定報告様式(工場現場)'!AD48","v":0},{"$f":"'５．算定報告様式(工場現場)'!AE48","v":0},{"$f":"'５．算定報告様式(工場現場)'!AF48","v":0},{"$f":"'５．算定報告様式(工場現場)'!AG48","v":0},{"$f":"'５．算定報告様式(工場現場)'!AH48","v":0},null,null,null,null,{"$f":"'４．燃料単位換算(工場現場)'!AG56","v":0},{"$f":"'４．燃料単位換算(工場現場)'!AH56","v":0},{"$f":"'４．燃料単位換算(工場現場)'!AI56","v":0},{"$f":"'４．燃料単位換算(工場現場)'!AJ56","v":0},{"$f":"'４．燃料単位換算(工場現場)'!AK56","v":0},{"$f":"'４．燃料単位換算(工場現場)'!AL56","v":0},{"$f":"'４．燃料単位換算(工場現場)'!AM56","v":0},{"$f":"'４．燃料単位換算(工場現場)'!AN56","v":0},{"$f":"'４．燃料単位換算(工場現場)'!AO56","v":0},{"$f":"'４．燃料単位換算(工場現場)'!AP56","v":0},{"$f":"'４．燃料単位換算(工場現場)'!AQ56","v":0},{"$f":"'４．燃料単位換算(工場現場)'!AR56","v":0},{"$f":"'４．燃料単位換算(工場現場)'!AS56","v":0},{"$f":"'４．燃料単位換算(工場現場)'!AT56","v":0},{"$f":"'４．燃料単位換算(工場現場)'!AU56","v":0},{"$f":"'４．燃料単位換算(工場現場)'!AV56","v":0},{"$f":"'４．燃料単位換算(工場現場)'!AW56","v":0},{"$f":"'４．燃料単位換算(工場現場)'!AX56","v":0},{"$f":"'４．燃料単位換算(工場現場)'!AY56","v":0},{"$f":"'４．燃料単位換算(工場現場)'!AZ56","v":0},{"$f":"'４．燃料単位換算(工場現場)'!BA56","v":0},{"$f":"'４．燃料単位換算(工場現場)'!BB56","v":0},{"$f":"'４．燃料単位換算(工場現場)'!BC56","v":0},{"$f":"AM48","v":0},0,0,0,0,0,0,0,0,0,0,0,0,0,0,0,{"$f":"BC48","v":0},0,0,0,0,0,0,{"$f":"VLOOKUP($G48,$GB$6:$GC$15,2,FALSE)","v":1},"GJ",0,0,0,0,0,0,0,0,0,0,0,0,0,0,0,0,{"$f":"ROUND(BZ48/$CG48,0)","v":0},0,0,0,0,0,0,{"$f":"CI48","v":0},0,0,0,0,0,0,0,0,0,0,0,0,0,0,0,0,0,0,0,0,0,0,null,null,null,null,null,null,null,null,null,null,null,null,null,null,null,null,null,null,null,null,null,null,null,{"$f":"IF(ISERROR(-ABS(CI48*$FY48)),\"\",(-ABS(CI48*$FY48)))","v":0},0,0,0,0,0,0,0,0,0,0,0,0,0,0,0,{"$f":"IF(ISERROR(-ABS(CY48*$FY48)),\"\",(-ABS(CY48*$FY48)))","v":0},0,0,0,0,0,0]
[null,null,null,"自ら生成した電力の供給",null,null,{"$f":"'５．算定報告様式(工場現場)'!G49","v":"千kWh"},{"$f":"'５．算定報告様式(工場現場)'!H49","v":0},{"$f":"'５．算定報告様式(工場現場)'!I49","v":0},{"$f":"'５．算定報告様式(工場現場)'!J49","v":0},{"$f":"'５．算定報告様式(工場現場)'!K49","v":0},{"$f":"'５．算定報告様式(工場現場)'!L49","v":0},{"$f":"'５．算定報告様式(工場現場)'!M49","v":0},{"$f":"'５．算定報告様式(工場現場)'!N49","v":0},{"$f":"'５．算定報告様式(工場現場)'!O49","v":0},{"$f":"'５．算定報告様式(工場現場)'!P49","v":0},{"$f":"'５．算定報告様式(工場現場)'!Q49","v":0},{"$f":"'５．算定報告様式(工場現場)'!R49","v":0},{"$f":"'５．算定報告様式(工場現場)'!S49","v":0},{"$f":"'５．算定報告様式(工場現場)'!T49","v":0},{"$f":"'５．算定報告様式(工場現場)'!U49","v":0},{"$f":"'５．算定報告様式(工場現場)'!V49","v":0},{"$f":"'５．算定報告様式(工場現場)'!W49","v":0},{"$f":"'５．算定報告様式(工場現場)'!X49","v":0},{"$f":"'５．算定報告様式(工場現場)'!Y49","v":0},{"$f":"'５．算定報告様式(工場現場)'!Z49","v":0},{"$f":"'５．算定報告様式(工場現場)'!AA49","v":0},{"$f":"'５．算定報告様式(工場現場)'!AB49","v":0},{"$f":"'５．算定報告様式(工場現場)'!AC49","v":0},{"$f":"'５．算定報告様式(工場現場)'!AD49","v":0},{"$f":"'５．算定報告様式(工場現場)'!AE49","v":0},{"$f":"'５．算定報告様式(工場現場)'!AF49","v":0},{"$f":"'５．算定報告様式(工場現場)'!AG49","v":0},{"$f":"'５．算定報告様式(工場現場)'!AH49","v":0},null,null,null,null,{"$f":"'４．燃料単位換算(工場現場)'!AG54","v":0},{"$f":"'４．燃料単位換算(工場現場)'!AH54","v":0},{"$f":"'４．燃料単位換算(工場現場)'!AI54","v":0},{"$f":"'４．燃料単位換算(工場現場)'!AJ54","v":0},{"$f":"'４．燃料単位換算(工場現場)'!AK54","v":0},{"$f":"'４．燃料単位換算(工場現場)'!AL54","v":0},{"$f":"'４．燃料単位換算(工場現場)'!AM54","v":0},{"$f":"'４．燃料単位換算(工場現場)'!AN54","v":0},{"$f":"'４．燃料単位換算(工場現場)'!AO54","v":0},{"$f":"'４．燃料単位換算(工場現場)'!AP54","v":0},{"$f":"'４．燃料単位換算(工場現場)'!AQ54","v":0},{"$f":"'４．燃料単位換算(工場現場)'!AR54","v":0},{"$f":"'４．燃料単位換算(工場現場)'!AS54","v":0},{"$f":"'４．燃料単位換算(工場現場)'!AT54","v":0},{"$f":"'４．燃料単位換算(工場現場)'!AU54","v":0},{"$f":"'４．燃料単位換算(工場現場)'!AV54","v":0},{"$f":"'４．燃料単位換算(工場現場)'!AW54","v":0},{"$f":"'４．燃料単位換算(工場現場)'!AX54","v":0},{"$f":"'４．燃料単位換算(工場現場)'!AY54","v":0},{"$f":"'４．燃料単位換算(工場現場)'!AZ54","v":0},{"$f":"'４．燃料単位換算(工場現場)'!BA54","v":0},{"$f":"'４．燃料単位換算(工場現場)'!BB54","v":0},{"$f":"'４．燃料単位換算(工場現場)'!BC54","v":0},0,0,0,0,0,0,0,0,0,0,0,0,0,0,0,0,0,0,0,0,0,0,0,{"$f":"VLOOKUP($G49,$GB$6:$GC$17,2,FALSE)","v":1},"千kWh",0,0,0,0,0,0,0,0,0,0,0,0,0,0,0,0,0,0,0,0,0,0,0,null,null,null,null,null,null,null,null,null,null,null,null,null,null,null,null,null,null,null,null,null,null,null,null,null,null,null,null,null,null,null,null,null,null,null,null,null,null,null,null,null,null,null,null,null,null,0,0,0,0,0,0,0,0,0,0,0,0,0,0,0,0,0,0,0,0,0,0,0]
[null,null,null,"小　　計",null,null,{"$f":"'５．算定報告様式(工場現場)'!G50","v":0},{"$f":"'５．算定報告様式(工場現場)'!H50","v":0},{"$f":"'５．算定報告様式(工場現場)'!I50","v":0},{"$f":"'５．算定報告様式(工場現場)'!J50","v":0},{"$f":"'５．算定報告様式(工場現場)'!K50","v":0},{"$f":"'５．算定報告様式(工場現場)'!L50","v":0},{"$f":"'５．算定報告様式(工場現場)'!M50","v":0},{"$f":"'５．算定報告様式(工場現場)'!N50","v":0},{"$f":"'５．算定報告様式(工場現場)'!O50","v":0},{"$f":"'５．算定報告様式(工場現場)'!P50","v":0},{"$f":"'５．算定報告様式(工場現場)'!Q50","v":0},{"$f":"'５．算定報告様式(工場現場)'!R50","v":0},{"$f":"'５．算定報告様式(工場現場)'!S50","v":0},{"$f":"'５．算定報告様式(工場現場)'!T50","v":0},{"$f":"'５．算定報告様式(工場現場)'!U50","v":0},{"$f":"'５．算定報告様式(工場現場)'!V50","v":0},{"$f":"'５．算定報告様式(工場現場)'!W50","v":0},{"$f":"'５．算定報告様式(工場現場)'!X50","v":0},{"$f":"'５．算定報告様式(工場現場)'!Y50","v":0},{"$f":"'５．算定報告様式(工場現場)'!Z50","v":0},{"$f":"'５．算定報告様式(工場現場)'!AA50","v":0},{"$f":"'５．算定報告様式(工場現場)'!AB50","v":0},{"$f":"'５．算定報告様式(工場現場)'!AC50","v":0},{"$f":"'５．算定報告様式(工場現場)'!AD50","v":0},{"$f":"'５．算定報告様式(工場現場)'!AE50","v":0},{"$f":"'５．算定報告様式(工場現場)'!AF50","v":0},{"$f":"'５．算定報告様式(工場現場)'!AG50","v":0},{"$f":"'５．算定報告様式(工場現場)'!AH50","v":0},null,null,null,null,null,null,null,null,null,null,null,null,null,null,null,null,null,null,null,null,null,null,null,null,null,null,null,null,null,null,null,null,null,null,null,null,null,null,null,null,null,null,null,null,null,null,null,null,null,null,null,null,null,null,null,null,null,null,null,null,null,null,null,null,null,null,null,null,null,null,null,null,null,null,null,null,null,null,null,null,null,null,null,null,null,null,null,null,null,null,null,null,null,null,null,null,null,null,null,null,null,null,null,null,null,null,null,null,null,null,null,null,null,null,null,null,null,null,null,null,null,{"$f":"SUBTOTAL(9,EZ48:EZ49)","v":0},{"$f":"SUBTOTAL(9,FA48:FA49)","v":0},0,0,0,0,0,0,0,0,0,0,0,0,0,0,0,0,0,0,0,0,0]
[null,null,null,"コージェネレーションＣＯ₂削減量",null,null,{"$f":"'５．算定報告様式(工場現場)'!G52","v":"t-CO2"},{"$f":"'５．算定報告様式(工場現場)'!H52","v":0},{"$f":"'５．算定報告様式(工場現場)'!I52","v":0},{"$f":"'５．算定報告様式(工場現場)'!J52","v":0},{"$f":"'５．算定報告様式(工場現場)'!K52","v":0},{"$f":"'５．算定報告様式(工場現場)'!L52","v":0},{"$f":"'５．算定報告様式(工場現場)'!M52","v":0},{"$f":"'５．算定報告様式(工場現場)'!N52","v":0},{"$f":"'５．算定報告様式(工場現場)'!O52","v":0},{"$f":"'５．算定報告様式(工場現場)'!P52","v":0},{"$f":"'５．算定報告様式(工場現場)'!Q52","v":0},{"$f":"'５．算定報告様式(工場現場)'!R52","v":0},{"$f":"'５．算定報告様式(工場現場)'!S52","v":0},{"$f":"'５．算定報告様式(工場現場)'!T52","v":0},{"$f":"'５．算定報告様式(工場現場)'!U52","v":0},{"$f":"'５．算定報告様式(工場現場)'!V52","v":0},{"$f":"'５．算定報告様式(工場現場)'!W52","v":0},{"$f":"'５．算定報告様式(工場現場)'!X52","v":0},{"$f":"'５．算定報告様式(工場現場)'!Y52","v":0},{"$f":"'５．算定報告様式(工場現場)'!Z52","v":0},{"$f":"'５．算定報告様式(工場現場)'!AA52","v":0},{"$f":"'５．算定報告様式(工場現場)'!AB52","v":0},{"$f":"'５．算定報告様式(工場現場)'!AC52","v":0},{"$f":"'５．算定報告様式(工場現場)'!AD52","v":0},{"$f":"'５．算定報告様式(工場現場)'!AE52","v":0},{"$f":"'５．算定報告様式(工場現場)'!AF52","v":0},{"$f":"'５．算定報告様式(工場現場)'!AG52","v":0},{"$f":"'５．算定報告様式(工場現場)'!AH52","v":0},null,null,null,null,null,null,null,null,null,null,null,null,null,null,null,null,null,null,null,null,null,null,null,null,null,null,null,null,null,null,null,null,null,null,null,null,null,null,null,null,null,null,null,null,null,null,null,null,null,null,1,"t-CO2",0,0,0,0,0,0,0,0,0,0,0,0,0,0,0,0,{"$f":"ROUND(BZ51/$CG51,0)","v":0},0,0,0,0,0,0,null,null,null,null,null,null,null,null,null,null,null,null,null,null,null,null,null,null,null,null,null,null,null,null,null,null,null,null,null,null,null,null,null,null,null,null,null,null,null,null,null,null,null,null,null,null,{"$f":"-ABS(L51)","v":0},0,0,0,0,0,0,0,0,0,0,0,0,0,0,0,0,0,0,0,0,0,0]
[null,null,null,"合　　計",null,null,null,null,null,null,null,{"$f":"L35+L41+L47+L50","v":0},{"$f":"M35+M41+M47+M50","v":0},0,0,0,0,0,0,0,0,0,0,0,0,0,0,0,0,0,0,0,0,0,0,0,0,0,0,0,0,0,0,0,0,0,0,0,0,0,0,0,0,0,0,0,0,0,0,0,0,null,null,null,null,null,null,null,null,null,null,null,null,null,null,null,null,null,null,null,null,null,null,null,null,null,null,null,null,null,null,null,null,null,null,null,null,null,null,null,null,null,null,null,null,null,null,null,null,{"$f":"DF35+DF41+DF47","v":0},{"$f":"DG35+DG41+DG47","v":0},0,0,0,0,0,0,0,0,0,0,0,0,0,0,0,0,0,0,0,0,0,{"$f":"DF52*$GC$19","v":0},0,0,0,0,0,0,0,0,0,0,0,0,0,0,0,0,0,0,0,0,0,0,{"$f":"ROUND((IF(EZ35+EZ41+EZ47+EZ50+EZ51<0,0,EZ35+EZ41+EZ47+EZ50+EZ51)),0)","v":0},{"$f":"ROUND((IF(FA35+FA41+FA47+FA50+FA51<0,0,FA35+FA41+FA47+FA50+FA51)),0)","v":0},0,0,0,0,0,0,0,0,0,0,0,0,0,0,0,0,0,0,0,0,0]

{"sheet":"算定報告様式②","index":17,"n_rows":51,"n_cols":43,"rows_kept":51,"cut":false,"hidden":true,"merged":[[3,23,4,23],[2,5,4,5],[2,7,4,7],[2,6,4,6],[2,8,4,8],[2,9,4,9],[48,3,48,4],[49,3,49,4],[2,37,4,38],[3,10,3,22],[2,10,2,22],[44,37,44,38],[47,37,47,38],[42,2,42,4],[43,2,43,4],[44,2,44,4],[47,2,47,4],[46,3,46,4],[2,23,2,36],[3,24,3,36],[2,2,4,2],[2,3,4,4],[41,2,41,4],[5,1,41,1],[22,2,22,4],[50,2,50,4],[19,2,20,2],[19,3,19,4],[20,3,20,4],[21,2,21,4],[31,2,31,4],[42,1,50,1],[45,3,45,4],[36,2,36,4],[37,2,37,4],[38,2,38,4],[39,2,39,4],[40,2,40,4],[25,3,25,4],[12,2,15,2],[12,3,12,4],[15,3,15,4],[16,2,16,4],[14,3,14,4],[17,2,18,2],[17,3,17,4],[18,3,18,4],[13,3,13,4],[24,3,24,4],[35,2,35,4],[32,2,33,2],[32,3,32,4],[33,3,33,4],[34,2,34,4],[2,1,4,1],[29,3,29,4],[30,3,30,4],[5,2,11,2],[5,3,5,4],[8,3,8,4],[6,3,6,4],[7,3,7,4],[9,3,9,4],[10,3,10,4],[11,3,11,4],[26,3,26,4],[23,2,30,2],[23,3,23,4],[27,3,27,4],[28,3,28,4]]}
[null,null,null,null,null,null,null,null,null,null,null,null,null,null,null,null,null,null,null,null,null,null,null,null,null,null,null,null,null,null,null,null,null,null,null,null,null,"事業所番号",{"$f":"IF(#REF!=\"\",\"\",#REF!)","v":{"$error":"#REF!"}}]
[null,"算定報告様式②：その他ガス　（提出不要）",null,null,null,null,null,null,null,null,null,null,null,null,null,null,null,null,null,null,null,null,null,null,null,null,null,null,null,null,null,null,null,null,null,null,null,{"$f":"#REF!","v":{"$error":"#REF!"}},"B事業所"]
[null,null,"活動の規模","区分",null,"単位","監視点","計量器の種類","検定等の有無","入力方法","使用量",null,null,null,null,null,null,null,null,null,null,null,null,"単位補正後使用量",null,null,null,null,null,null,null,null,null,null,null,null,null,"排出係数"]
[null,null,null,null,null,null,null,null,null,null,"年度",null,null,null,null,null,null,null,null,null,null,null,null,"単位補正","年度"]
[null,null,null,null,null,null,null,null,null,null,"14年度(2002)","15年度(2003)","16年度(2004)","17年度(2005)","18年度(2006)","19年度(2007)","20年度(2008)","21年度(2009)","22年度(2010)","23年度(2011)","24年度(2012)","25年度(2013)","26年度(2014)",null,"14年度(2002)","15年度(2003)","16年度(2004)","17年度(2005)","18年度(2006)","19年度(2007)","20年度(2008)","21年度(2009)","22年度(2010)","23年度(2011)","24年度(2012)","25年度(2013)","26年度(2014)"]
[null,"非エネルギー起源CO2","廃棄物の焼却及び\n製品の製造の用途への使用","廃油（植物性のもの及び\n動物性のものを除く）",null,"kg",null,null,null,null,null,null,null,null,null,null,null,null,null,null,null,null,null,{"$f":"VLOOKUP(F6,$AP$6:$AQ$15,2,FALSE)","v":1000},{"$f":"H14_非エネ使用量/非エネ単位補正","v":0},{"$f":"H15_非エネ使用量/非エネ単位補正","v":0},{"$f":"H16_非エネ使用量/非エネ単位補正","v":0},{"$f":"H17_非エネ使用量/非エネ単位補正","v":0},{"$f":"H18_非エネ使用量/非エネ単位補正","v":0},{"$f":"H19_非エネ使用量/非エネ単位補正","v":0},{"$f":"H20_非エネ使用量/非エネ単位補正","v":0},{"$f":"H21_非エネ使用量/非エネ単位補正","v":0},{"$f":"H22_非エネ使用量/非エネ単位補正","v":0},{"$f":"H23_非エネ使用量/非エネ単位補正","v":0},{"$f":"H24_非エネ使用量/非エネ単位補正","v":0},{"$f":"H25_非エネ使用量/非エネ単位補正","v":0},{"$f":"H26_非エネ使用量/非エネ単位補正","v":0},2.92,"t-CO2/t",null,null,"L",1000]
[null,null,null,"合成繊維",null,"kg",null,null,null,null,null,null,null,null,null,null,null,null,null,null,null,null,null,1000,0,0,0,0,0,0,0,0,0,0,0,0,0,2.29,"t-CO2/t",null,null,"kL",1]
[null,null,null,"廃ゴムタイヤ",null,"kg",null,null,null,null,null,null,null,null,null,null,null,null,null,null,null,null,null,1000,0,0,0,0,0,0,0,0,0,0,0,0,0,1.77,"t-CO2/t",null,null,"kg",1000]
[null,null,null,"合成繊維及び廃ｺﾞﾑﾀｲﾔ以外の\n廃ﾌﾟﾗｽﾁｯｸ類\n（産業廃棄物に限る）",null,"kg",null,null,null,null,null,null,null,null,null,null,null,null,null,null,null,null,null,1000,0,0,0,0,0,0,0,0,0,0,0,0,0,2.5499999999999998,"t-CO2/t",null,null,"t",1]
[null,null,null,"その他の廃ﾌﾟﾗｽﾁｯｸ類",null,"kg",null,null,null,null,null,null,null,null,null,null,null,null,null,null,null,null,null,1000,0,0,0,0,0,0,0,0,0,0,0,0,0,2.69,"t-CO2/t",null,null,"m3",1000]
[null,null,null,"ごみ固形燃料（ＲＰＦ）",null,"kg",null,null,null,null,null,null,null,null,null,null,null,null,null,null,null,null,null,1000,0,0,0,0,0,0,0,0,0,0,0,0,0,1.57,"t-CO2/t",null,null,"千m3",1]
[null,null,null,"ごみ固形燃料（ＲＤＦ）",null,"kg",null,null,null,null,null,null,null,null,null,null,null,null,null,null,null,null,null,1000,0,0,0,0,0,0,0,0,0,0,0,0,0,0.75900000000000001,"t-CO2/t",null,null,"Nm3",1000]
[null,null,"廃棄物燃料の使用","廃油（植物性のもの及び動物性のものを除く）\nから製造される燃料油",null,"L",null,null,null,null,null,null,null,null,null,null,null,null,null,null,null,null,null,1000,0,0,0,0,0,0,0,0,0,0,0,0,0,2.63,"t-CO2/kL",null,null,"千Nｍ3",1]
[null,null,null,"廃プラスチック類から製造される燃料油\n（自ら製造するものを除く）",null,"L",null,null,null,null,null,null,null,null,null,null,null,null,null,null,null,null,null,1000,0,0,0,0,0,0,0,0,0,0,0,0,0,2.62,"t-CO2/kL",null,null,"MJ",1000]
[null,null,null,"ごみ固形燃料（ＲＰＦ）",null,"kg",null,null,null,null,null,null,null,null,null,null,null,null,null,null,null,null,null,1000,0,0,0,0,0,0,0,0,0,0,0,0,0,1.57,"t-CO2/t",null,null,"GJ",1]
[null,null,null,"ごみ固形燃料（ＲＤＦ）",null,"kg",null,null,null,null,null,null,null,null,null,null,null,null,null,null,null,null,null,1000,0,0,0,0,0,0,0,0,0,0,0,0,0,0.75900000000000001,"t-CO2/t"]
[null,null,"セメント製造",null,null,"kg",null,null,null,null,null,null,null,null,null,null,null,null,null,null,null,null,null,1000,0,0,0,0,0,0,0,0,0,0,0,0,0,0.51,"t-CO2/t"]
[null,null,"生石灰の製造","石灰石",null,"kg",null,null,null,null,null,null,null,null,null,null,null,null,null,null,null,null,null,1000,0,0,0,0,0,0,0,0,0,0,0,0,0,0.42799999999999999,"t-CO2/t"]
[null,null,null,"ドロマイト",null,"kg",null,null,null,null,null,null,null,null,null,null,null,null,null,null,null,null,null,1000,0,0,0,0,0,0,0,0,0,0,0,0,0,0.44900000000000001,"t-CO2/t"]
[null,null,"ソーダ石灰ガラス又は鉄鋼の製造","石灰石",null,"kg",null,null,null,null,null,null,null,null,null,null,null,null,null,null,null,null,null,1000,0,0,0,0,0,0,0,0,0,0,0,0,0,0.44,"t-CO2/t"]
[null,null,null,"ドロマイト",null,"kg",null,null,null,null,null,null,null,null,null,null,null,null,null,null,null,null,null,1000,0,0,0,0,0,0,0,0,0,0,0,0,0,0.47099999999999997,"t-CO2/t"]
[null,null,"ソーダ灰の製造",null,null,"kg",null,null,null,null,null,null,null,null,null,null,null,null,null,null,null,null,null,1000,0,0,0,0,0,0,0,0,0,0,0,0,0,1,"t-CO2/t"]
[null,null,"ソーダ灰の使用",null,null,"kg",null,null,null,null,null,null,null,null,null,null,null,null,null,null,null,null,null,1000,0,0,0,0,0,0,0,0,0,0,0,0,0,0.41499999999999998,"t-CO2/t"]
[null,null,"アンモニアの製造","石炭（一般・輸入）",null,"kg",null,null,null,null,null,null,null,null,null,null,null,null,null,null,null,null,null,1000,0,0,0,0,0,0,0,0,0,0,0,0,0,2.4,"t-CO2/t"]
[null,null,null,"ナフサ",null,"L",null,null,null,null,null,null,null,null,null,null,null,null,null,null,null,null,null,1000,0,0,0,0,0,0,0,0,0,0,0,0,0,2.2999999999999998,"t-CO2/t"]
[null,null,null,"オイルコークス",null,"kg",null,null,null,null,null,null,null,null,null,null,null,null,null,null,null,null,null,1000,0,0,0,0,0,0,0,0,0,0,0,0,0,3.3,"t-CO2/t"]
[null,null,null,"液化石油ガス（LPG)",null,"kg",null,null,null,null,null,null,null,null,null,null,null,null,null,null,null,null,null,1000,0,0,0,0,0,0,0,0,0,0,0,0,0,3,"t-CO2/t"]
[null,null,null,"液化天然ガス（LNG)",null,"kg",null,null,null,null,null,null,null,null,null,null,null,null,null,null,null,null,null,1000,0,0,0,0,0,0,0,0,0,0,0,0,0,2.7,"t-CO2/t"]
[null,null,null,"天然ガス\n（液化天然ガス（LNG)を除く）",null,"Nm3",null,null,null,null,null,null,null,null,null,null,null,null,null,null,null,null,null,1000,0,0,0,0,0,0,0,0,0,0,0,0,0,2.1,"t-CO2/千Nm3"]
[null,null,null,"コークス炉ガス",null,"Nm3",null,null,null,null,null,null,null,null,null,null,null,null,null,null,null,null,null,1000,0,0,0,0,0,0,0,0,0,0,0,0,0,0.85,"t-CO2/千Nm3"]
[null,null,null,"石油系炭化水素ガス",null,"Nm3",null,null,null,null,null,null,null,null,null,null,null,null,null,null,null,null,null,1000,0,0,0,0,0,0,0,0,0,0,0,0,0,2.2999999999999998,"t-CO2/千Nm3"]
[null,null,"シリコンカーバイトの製造",null,null,"kg",null,null,null,null,null,null,null,null,null,null,null,null,null,null,null,null,null,1000,0,0,0,0,0,0,0,0,0,0,0,0,0,2.2999999999999998,"t-CO2/t"]
[null,null,"カルシウムカーバイトの製造","生石灰の製造",null,"kg",null,null,null,null,null,null,null,null,null,null,null,null,null,null,null,null,null,1000,0,0,0,0,0,0,{"$f":"H20_非エネ使用量/非エネ単位補正","v":0},0,0,0,0,0,0,0.76,"t-CO2/t"]
[null,null,null,"生石灰の還元",null,"kg",null,null,null,null,null,null,null,null,null,null,null,null,null,null,null,null,null,1000,0,0,0,0,0,0,0,0,0,0,0,0,0,1.1000000000000001,"t-CO2/t"]
[null,null,"エチレンの製造",null,null,"kg",null,null,null,null,null,null,null,null,null,null,null,null,null,null,null,null,null,1000,0,0,0,0,0,0,0,0,0,0,0,0,0,2.8000000000000001E-2,"t-CO2/t"]
[null,null,"カルシウムカーバイトを原料としたアセチレンの使用",null,null,"kg",null,null,null,null,null,null,null,null,null,null,null,null,null,null,null,null,null,1000,0,0,0,0,0,0,0,0,0,0,0,0,0,3.4,"t-CO2/t"]
[null,null,"電気炉を使用とした粗鋼の製造",null,null,"kg",null,null,null,null,null,null,null,null,null,null,null,null,null,null,null,null,null,1000,0,0,0,0,0,0,0,0,0,0,0,0,0,5.0000000000000001E-3,"t-CO2/t"]
[null,null,"ドライアイスとしてのCO2使用量",null,null,"kg",null,null,null,null,null,null,null,null,null,null,null,null,null,null,null,null,null,1000,0,0,0,0,0,0,0,0,0,0,0,0,0,1,"t-CO2/t"]
[null,null,"噴霧器の使用によるCO2排出量",null,null,"kg",null,null,null,null,null,null,null,null,null,null,null,null,null,null,null,null,null,1000,0,0,0,0,0,0,0,0,0,0,0,0,0,1,"t-CO2/t"]
[null,null,null,null,null,null,null,null,null,null,null,null,null,null,null,null,null,null,null,null,null,null,null,{"$error":"#N/A"},{"$error":"#N/A"},{"$error":"#N/A"},{"$error":"#N/A"},{"$error":"#N/A"},{"$error":"#N/A"},{"$error":"#N/A"},{"$error":"#N/A"},{"$error":"#N/A"},{"$error":"#N/A"},{"$error":"#N/A"},{"$error":"#N/A"},{"$error":"#N/A"},{"$error":"#N/A"},null,{"$f":"CONCATENATE(\"t-CO2/\",AO40)","v":"t-CO2/"},null,{"$f":"IF(F40=\"\",\"\",IF(F40=$AP$6,$AP$7,IF(F40=$AP$8,$AP$9,IF(F40=$AP$10,$AP$11,IF(F40=$AP$12,$AP$13,F40)))))","v":""}]
[null,null,null,null,null,null,null,null,null,null,null,null,null,null,null,null,null,null,null,null,null,null,null,{"$error":"#N/A"},{"$error":"#N/A"},{"$error":"#N/A"},{"$error":"#N/A"},{"$error":"#N/A"},{"$error":"#N/A"},{"$error":"#N/A"},{"$error":"#N/A"},{"$error":"#N/A"},{"$error":"#N/A"},{"$error":"#N/A"},{"$error":"#N/A"},{"$error":"#N/A"},{"$error":"#N/A"},null,{"$f":"CONCATENATE(\"t-CO2/\",AO41)","v":"t-CO2/"},null,{"$f":"IF(F41=\"\",\"\",IF(F41=$AP$6,$AP$7,IF(F41=$AP$8,$AP$9,IF(F41=$AP$10,$AP$11,IF(F41=$AP$12,$AP$13,F41)))))","v":""}]
[null,null,null,null,null,null,null,null,null,null,null,null,null,null,null,null,null,null,null,null,null,null,null,{"$error":"#N/A"},{"$error":"#N/A"},{"$error":"#N/A"},{"$error":"#N/A"},{"$error":"#N/A"},{"$error":"#N/A"},{"$error":"#N/A"},{"$error":"#N/A"},{"$error":"#N/A"},{"$error":"#N/A"},{"$error":"#N/A"},{"$error":"#N/A"},{"$error":"#N/A"},{"$error":"#N/A"},null,{"$f":"CONCATENATE(\"t-CO2/\",AO42)","v":"t-CO2/"},null,{"$f":"IF(F42=\"\",\"\",IF(F42=$AP$6,$AP$7,IF(F42=$AP$8,$AP$9,IF(F42=$AP$10,$AP$11,IF(F42=$AP$12,$AP$13,F42)))))","v":""}]
[null,"その他温室効果ガス","メタン",null,null,"t-CH4",null,null,null,null,null,null,null,null,null,null,null,null,null,null,null,null,null,1,0,0,0,0,0,0,0,0,0,0,0,0,0,21,"t-CO2/\nt-CH4"]
[null,null,"一酸化二窒素",null,null,"t-N2O",null,null,null,null,null,null,null,null,null,null,null,null,null,null,null,null,null,1,0,0,0,0,0,0,0,0,0,0,0,0,0,310,"t-CO2/\nt-N2O"]
[null,null,"ハイドロフルオロカーボン"]
[null,null,null,null,null,{"$f":"\"t-\"&D46","v":"t-"},null,null,null,null,null,null,null,null,null,null,null,null,null,null,null,null,null,1,0,0,0,0,0,0,0,{"$f":"H21_非エネ使用量/非エネ単位補正","v":0},{"$f":"H22_非エネ使用量/非エネ単位補正","v":0},{"$f":"H23_非エネ使用量/非エネ単位補正","v":0},{"$f":"H24_非エネ使用量/非エネ単位補正","v":0},{"$f":"H25_非エネ使用量/非エネ単位補正","v":0},{"$f":"H26_非エネ使用量/非エネ単位補正","v":0},null,{"$f":"\"t-CO2/t-\"&D46","v":"t-CO2/t-"}]
[null,null,null,null,null,{"$f":"\"t-\"&D47","v":"t-"},null,null,null,null,null,null,null,null,null,null,null,null,null,null,null,null,null,1,0,0,0,0,0,0,0,{"$f":"H21_非エネ使用量/非エネ単位補正","v":0},{"$f":"H22_非エネ使用量/非エネ単位補正","v":0},{"$f":"H23_非エネ使用量/非エネ単位補正","v":0},{"$f":"H24_非エネ使用量/非エネ単位補正","v":0},{"$f":"H25_非エネ使用量/非エネ単位補正","v":0},{"$f":"H26_非エネ使用量/非エネ単位補正","v":0},null,{"$f":"\"t-CO2/t-\"&D47","v":"t-CO2/t-"}]
[null,null,"パーフルオロカーボン"]
[null,null,null,null,null,{"$f":"\"t-\"&D49","v":"t-"},null,null,null,null,null,null,null,null,null,null,null,null,null,null,null,null,null,1,0,0,0,0,0,0,0,{"$f":"H21_非エネ使用量/非エネ単位補正","v":0},{"$f":"H22_非エネ使用量/非エネ単位補正","v":0},{"$f":"H23_非エネ使用量/非エネ単位補正","v":0},{"$f":"H24_非エネ使用量/非エネ単位補正","v":0},{"$f":"H25_非エネ使用量/非エネ単位補正","v":0},{"$f":"H26_非エネ使用量/非エネ単位補正","v":0},null,{"$f":"\"t-CO2/t-\"&D49","v":"t-CO2/t-"}]
[null,null,null,null,null,{"$f":"\"t-\"&D50","v":"t-"},null,null,null,null,null,null,null,null,null,null,null,null,null,null,null,null,null,1,0,0,0,0,0,0,0,{"$f":"H21_非エネ使用量/非エネ単位補正","v":0},{"$f":"H22_非エネ使用量/非エネ単位補正","v":0},{"$f":"H23_非エネ使用量/非エネ単位補正","v":0},{"$f":"H24_非エネ使用量/非エネ単位補正","v":0},{"$f":"H25_非エネ使用量/非エネ単位補正","v":0},{"$f":"H26_非エネ使用量/非エネ単位補正","v":0},null,{"$f":"\"t-CO2/t-\"&D50","v":"t-CO2/t-"}]
[null,null,"六ふっ化いおう",null,null,"t-SF6",null,null,null,null,null,null,null,null,null,null,null,null,null,null,null,null,null,1,{"$f":"H14_非エネ使用量/非エネ単位補正","v":0},0,0,0,0,0,{"$f":"H20_非エネ使用量/非エネ単位補正","v":0},{"$f":"H21_非エネ使用量/非エネ単位補正","v":0},{"$f":"H22_非エネ使用量/非エネ単位補正","v":0},{"$f":"H23_非エネ使用量/非エネ単位補正","v":0},{"$f":"H24_非エネ使用量/非エネ単位補正","v":0},{"$f":"H25_非エネ使用量/非エネ単位補正","v":0},{"$f":"H26_非エネ使用量/非エネ単位補正","v":0},23900,"t-CO2/\nt-SF6"]