{"text_format":"1","workbook":"xlsx","n_sheets":7,"sheets":["グラフ","細目グラフ","メニュー","選択表","印刷用集計表","産業分類H25年度改訂版","使用方法"],"not_rendered":{"charts":2,"images":18,"macros":1,"external_links":1,"defined_names":56,"comments":2,"pivot_tables":0},"unopened":[{"sheet":"グラフ","index":0,"reason":"not_a_worksheet"}],"bounds":{"document_bytes":16777216,"sheet_cells":100000,"rows_first":2000,"rows_last":500,"rows_between":2000,"halvings":0,"cell_chars":16384,"cell_head_chars":4096},"cells_cut":0,"cells_raw":0,"read":"whole","date_system":"1900"}

{"sheet":"細目グラフ","index":1,"n_rows":52,"n_cols":114,"rows_kept":52,"cut":false,"hidden":false,"merged":[[0,16,0,56],[3,93,3,94],[3,98,3,99],[3,103,3,104],[1,3,3,4],[1,57,3,58],[3,63,3,64],[3,68,3,69],[3,73,3,74],[3,78,3,79],[3,83,3,84],[3,88,3,89],[3,30,3,31],[3,35,3,36],[3,40,3,41],[3,45,3,46],[3,50,3,51],[0,97,0,109],[1,1,3,1],[1,2,3,2],[3,10,3,11],[3,15,3,16],[3,20,3,21],[3,25,3,26]]}
["◆二酸化炭素削減対策等の取組度評価",null,null,null,null,null,"事　業　所　名",null,null,null,null,null,null,null,null,null,null,null,null,null,null,null,null,null,null,null,null,null,null,null,null,null,null,null,null,null,null,null,null,null,null,null,null,null,null,null,null,null,null,null,null,null,null,null,null,null,null,null,null,null,null,null,null,null,null,null,null,null,null,null,null,null,null,null,null,null,null,null,null,null,null,null,null,null,null,null,null,null,null,null,null,null,null,null,null,"作　成　日"]
[null,"大分類","中分類","基本項目\n自己採点",null,null,"取　組　度　　　　　　",null,null,null,null,null,null,null,null,null,null,null,null,null,null,null,null,null,null,null,null,null,null,null,null,null,null,null,null,null,null,null,null,null,null,null,null,null,null,null,null,null,null,null,null,null,null,null,null,null,null,"標準項目自己採点",null,"取　組　度　　　　　　"]
[null,null,null,null,null,null,0.1,{"$f":"G3+0.1","v":0.2},{"$f":"H3+0.1","v":0.30000000000000004},0.4,0.5,0.6,0.7,0.79999999999999993,0.89999999999999991,0.99999999999999989,1.0999999999999999,1.2,1.3,1.4000000000000001,1.5000000000000002,1.6000000000000003,1.7000000000000004,1.8000000000000005,1.9000000000000006,2.0000000000000004,2.1000000000000005,2.2000000000000006,2.3000000000000007,2.4000000000000008,2.5000000000000009,2.600000000000001,2.7000000000000011,2.8000000000000012,2.9000000000000012,3.0000000000000013,3.1000000000000014,3.2000000000000015,3.3000000000000016,3.4000000000000017,3.5000000000000018,3.6000000000000019,3.700000000000002,3.800000000000002,3.9000000000000021,4.0000000000000018,4.1000000000000014,4.2000000000000011,4.3000000000000007,4.4000000000000004,4.5,4.5999999999999996,4.6999999999999993,4.7999999999999989,4.8999999999999986,4.9999999999999982,null,null,null,0.1,{"$f":"BH3+0.1","v":0.2},{"$f":"BI3+0.1","v":0.30000000000000004},0.4,0.5,0.6,0.7,0.79999999999999993,0.89999999999999991,0.99999999999999989,1.0999999999999999,1.2,1.3,1.4000000000000001,1.5000000000000002,1.6000000000000003,1.7000000000000004,1.8000000000000005,1.9000000000000006,2.0000000000000004,2.1000000000000005,2.2000000000000006,2.3000000000000007,2.4000000000000008,2.5000000000000009,2.600000000000001,2.7000000000000011,2.8000000000000012,2.9000000000000012,3.0000000000000013,3.1000000000000014,3.2000000000000015,3.3000000000000016,3.4000000000000017,3.5000000000000018,3.6000000000000019,3.700000000000002,3.800000000000002,3.9000000000000021,4.0000000000000018,4.1000000000000014,4.2000000000000011,4.3000000000000007,4.4000000000000004,4.5,4.5999999999999996,4.6999999999999993,4.7999999999999989,4.8999999999999986,4.9999999999999982]
[null,null,null,null,null,null,null,null,null,null,"0.5",null,null,null,null,"1.0",null,null,null,null,"1.5",null,null,null,null,"2.0",null,null,null,null,"2.5",null,null,null,null,"3.0",null,null,null,null,"3.5",null,null,null,null,"4.0",null,null,null,null,"4.5",null,null,null,null,"5.0",null,null,null,null,null,null,null,"0.5",null,null,null,null,"1.0",null,null,null,null,"1.5",null,null,null,null,"2.0",null,null,null,null,"2.5",null,null,null,null,"3.0",null,null,null,null,"3.5",null,null,null,null,"4.0",null,null,null,null,"4.5",null,null,null,null,"5.0",null,null,null,null,"対象判定"]
[1,"一般管理事項","省エネ推進体制",{"$f":"印刷用集計表!U6","v":""},{"$f":"印刷用集計表!T6","v":0},null,null,null,null,null,null,null,null,null,null,null,null,null,null,null,null,null,null,null,null,null,null,null,null,null,null,null,null,null,null,null,null,null,null,null,null,null,null,null,null,null,null,null,null,null,null,null,null,null,null,null,null,{"$f":"印刷用集計表!AA6","v":""},{"$f":"印刷用集計表!Z6","v":0},null,null,null,null,null,null,null,null,null,null,null,null,null,null,null,null,null,null,null,null,null,null,null,null,null,null,null,null,null,null,null,null,null,null,null,null,null,null,null,null,null,null,null,null,null,null,null,null,null,null,null,null,null,null,{"$f":"印刷用集計表!AI6","v":0}]
[null,null,"保全・計測・記録",null,{"$f":"印刷用集計表!T13","v":0},null,null,null,null,null,null,null,null,null,null,null,null,null,null,null,null,null,null,null,null,null,null,null,null,null,null,null,null,null,null,null,null,null,null,null,null,null,null,null,null,null,null,null,null,null,null,null,null,null,null,null,null,null,{"$f":"印刷用集計表!Z13","v":0},null,null,null,null,null,null,null,null,null,null,null,null,null,null,null,null,null,null,null,null,null,null,null,null,null,null,null,null,null,null,null,null,null,null,null,null,null,null,null,null,null,null,null,null,null,null,null,null,null,null,null,null,null,null,{"$f":"印刷用集計表!AI13","v":0}]
[null,null,"エネルギー使用量管理",null,{"$f":"印刷用集計表!T19","v":0},null,null,null,null,null,null,null,null,null,null,null,null,null,null,null,null,null,null,null,null,null,null,null,null,null,null,null,null,null,null,null,null,null,null,null,null,null,null,null,null,null,null,null,null,null,null,null,null,null,null,null,null,null,{"$f":"印刷用集計表!Z19","v":0},null,null,null,null,null,null,null,null,null,null,null,null,null,null,null,null,null,null,null,null,null,null,null,null,null,null,null,null,null,null,null,null,null,null,null,null,null,null,null,null,null,null,null,null,null,null,null,null,null,null,null,null,null,null,{"$f":"印刷用集計表!AI19","v":0}]
[null,null,"エネルギー原単位の管理",null,{"$f":"印刷用集計表!T25","v":0},null,null,null,null,null,null,null,null,null,null,null,null,null,null,null,null,null,null,null,null,null,null,null,null,null,null,null,null,null,null,null,null,null,null,null,null,null,null,null,null,null,null,null,null,null,null,null,null,null,null,null,null,null,{"$f":"印刷用集計表!Z25","v":0},null,null,null,null,null,null,null,null,null,null,null,null,null,null,null,null,null,null,null,null,null,null,null,null,null,null,null,null,null,null,null,null,null,null,null,null,null,null,null,null,null,null,null,null,null,null,null,null,null,null,null,null,null,null,{"$f":"印刷用集計表!AI25","v":0}]
[null,null,"その他",null,{"$f":"印刷用集計表!T28","v":0},null,null,null,null,null,null,null,null,null,null,null,null,null,null,null,null,null,null,null,null,null,null,null,null,null,null,null,null,null,null,null,null,null,null,null,null,null,null,null,null,null,null,null,null,null,null,null,null,null,null,null,null,null,{"$f":"印刷用集計表!Z28","v":0},null,null,null,null,null,null,null,null,null,null,null,null,null,null,null,null,null,null,null,null,null,null,null,null,null,null,null,null,null,null,null,null,null,null,null,null,null,null,null,null,null,null,null,null,null,null,null,null,null,null,null,null,null,null,{"$f":"印刷用集計表!AI28","v":0}]
[null,null,"事業所のその他個別追加対策(任意記載）",null,{"$f":"印刷用集計表!T29","v":0},null,null,null,null,null,null,null,null,null,null,null,null,null,null,null,null,null,null,null,null,null,null,null,null,null,null,null,null,null,null,null,null,null,null,null,null,null,null,null,null,null,null,null,null,null,null,null,null,null,null,null,null,null,{"$f":"印刷用集計表!Z29","v":""},null,null,null,null,null,null,null,null,null,null,null,null,null,null,null,null,null,null,null,null,null,null,null,null,null,null,null,null,null,null,null,null,null,null,null,null,null,null,null,null,null,null,null,null,null,null,null,null,null,null,null,null,null,null,{"$f":"印刷用集計表!AI29","v":0}]
[2,"空調、換気、冷凍、冷蔵設備","空調設備の運転管理",{"$f":"印刷用集計表!U32","v":""},{"$f":"印刷用集計表!T32","v":0},null,null,null,null,null,null,null,null,null,null,null,null,null,null,null,null,null,null,null,null,null,null,null,null,null,null,null,null,null,null,null,null,null,null,null,null,null,null,null,null,null,null,null,null,null,null,null,null,null,null,null,null,{"$f":"印刷用集計表!AA32","v":""},{"$f":"印刷用集計表!Z32","v":0},null,null,null,null,null,null,null,null,null,null,null,null,null,null,null,null,null,null,null,null,null,null,null,null,null,null,null,null,null,null,null,null,null,null,null,null,null,null,null,null,null,null,null,null,null,null,null,null,null,null,null,null,null,null,{"$f":"印刷用集計表!AI32","v":0}]
[null,null,"負荷低減対策",null,{"$f":"印刷用集計表!T41","v":0},null,null,null,null,null,null,null,null,null,null,null,null,null,null,null,null,null,null,null,null,null,null,null,null,null,null,null,null,null,null,null,null,null,null,null,null,null,null,null,null,null,null,null,null,null,null,null,null,null,null,null,null,null,{"$f":"印刷用集計表!Z41","v":0},null,null,null,null,null,null,null,null,null,null,null,null,null,null,null,null,null,null,null,null,null,null,null,null,null,null,null,null,null,null,null,null,null,null,null,null,null,null,null,null,null,null,null,null,null,null,null,null,null,null,null,null,null,null,{"$f":"印刷用集計表!AI41","v":0}]
[null,null,"機器効率の向上",null,{"$f":"印刷用集計表!T50","v":0},null,null,null,null,null,null,null,null,null,null,null,null,null,null,null,null,null,null,null,null,null,null,null,null,null,null,null,null,null,null,null,null,null,null,null,null,null,null,null,null,null,null,null,null,null,null,null,null,null,null,null,null,null,{"$f":"印刷用集計表!Z50","v":0},null,null,null,null,null,null,null,null,null,null,null,null,null,null,null,null,null,null,null,null,null,null,null,null,null,null,null,null,null,null,null,null,null,null,null,null,null,null,null,null,null,null,null,null,null,null,null,null,null,null,null,null,null,null,{"$f":"印刷用集計表!AI50","v":0}]
[null,null,"冷温熱源設備の管理",null,{"$f":"印刷用集計表!T55","v":0},null,null,null,null,null,null,null,null,null,null,null,null,null,null,null,null,null,null,null,null,null,null,null,null,null,null,null,null,null,null,null,null,null,null,null,null,null,null,null,null,null,null,null,null,null,null,null,null,null,null,null,null,null,{"$f":"印刷用集計表!Z55","v":0},null,null,null,null,null,null,null,null,null,null,null,null,null,null,null,null,null,null,null,null,null,null,null,null,null,null,null,null,null,null,null,null,null,null,null,null,null,null,null,null,null,null,null,null,null,null,null,null,null,null,null,null,null,null,{"$f":"印刷用集計表!AI55","v":0}]
[null,null,"給・排気（換気）設備の管理",null,{"$f":"印刷用集計表!T65","v":0},null,null,null,null,null,null,null,null,null,null,null,null,null,null,null,null,null,null,null,null,null,null,null,null,null,null,null,null,null,null,null,null,null,null,null,null,null,null,null,null,null,null,null,null,null,null,null,null,null,null,null,null,null,{"$f":"印刷用集計表!Z65","v":0},null,null,null,null,null,null,null,null,null,null,null,null,null,null,null,null,null,null,null,null,null,null,null,null,null,null,null,null,null,null,null,null,null,null,null,null,null,null,null,null,null,null,null,null,null,null,null,null,null,null,null,null,null,null,{"$f":"印刷用集計表!AI65","v":0}]
[null,null,"冷蔵・冷凍設備の管理",null,{"$f":"印刷用集計表!T73","v":0},null,null,null,null,null,null,null,null,null,null,null,null,null,null,null,null,null,null,null,null,null,null,null,null,null,null,null,null,null,null,null,null,null,null,null,null,null,null,null,null,null,null,null,null,null,null,null,null,null,null,null,null,null,{"$f":"印刷用集計表!Z73","v":0},null,null,null,null,null,null,null,null,null,null,null,null,null,null,null,null,null,null,null,null,null,null,null,null,null,null,null,null,null,null,null,null,null,null,null,null,null,null,null,null,null,null,null,null,null,null,null,null,null,null,null,null,null,null,{"$f":"印刷用集計表!AI73","v":0}]
[null,null,"事業所のその他個別追加対策(任意記載）",null,{"$f":"印刷用集計表!T83","v":0},null,null,null,null,null,null,null,null,null,null,null,null,null,null,null,null,null,null,null,null,null,null,null,null,null,null,null,null,null,null,null,null,null,null,null,null,null,null,null,null,null,null,null,null,null,null,null,null,null,null,null,null,null,{"$f":"印刷用集計表!Z83","v":""},null,null,null,null,null,null,null,null,null,null,null,null,null,null,null,null,null,null,null,null,null,null,null,null,null,null,null,null,null,null,null,null,null,null,null,null,null,null,null,null,null,null,null,null,null,null,null,null,null,null,null,null,null,null,{"$f":"印刷用集計表!AI83","v":0}]
[3,"ポンプ、ファン、コンプレッサ","ポンプ・ファン",{"$f":"印刷用集計表!U86","v":""},{"$f":"印刷用集計表!T86","v":0},null,null,null,null,null,null,null,null,null,null,null,null,null,null,null,null,null,null,null,null,null,null,null,null,null,null,null,null,null,null,null,null,null,null,null,null,null,null,null,null,null,null,null,null,null,null,null,null,null,null,null,null,{"$f":"印刷用集計表!AA86","v":""},{"$f":"印刷用集計表!Z86","v":0},null,null,null,null,null,null,null,null,null,null,null,null,null,null,null,null,null,null,null,null,null,null,null,null,null,null,null,null,null,null,null,null,null,null,null,null,null,null,null,null,null,null,null,null,null,null,null,null,null,null,null,null,null,null,{"$f":"印刷用集計表!AI86","v":0}]
[null,null,"コンプレッサー本体、周辺の管理",null,{"$f":"印刷用集計表!T94","v":0},null,null,null,null,null,null,null,null,null,null,null,null,null,null,null,null,null,null,null,null,null,null,null,null,null,null,null,null,null,null,null,null,null,null,null,null,null,null,null,null,null,null,null,null,null,null,null,null,null,null,null,null,null,{"$f":"印刷用集計表!Z94","v":0},null,null,null,null,null,null,null,null,null,null,null,null,null,null,null,null,null,null,null,null,null,null,null,null,null,null,null,null,null,null,null,null,null,null,null,null,null,null,null,null,null,null,null,null,null,null,null,null,null,null,null,null,null,null,{"$f":"印刷用集計表!AI94","v":0}]
[null,null,"エアー配管・付属機器・使用方法",null,{"$f":"印刷用集計表!T102","v":0},null,null,null,null,null,null,null,null,null,null,null,null,null,null,null,null,null,null,null,null,null,null,null,null,null,null,null,null,null,null,null,null,null,null,null,null,null,null,null,null,null,null,null,null,null,null,null,null,null,null,null,null,null,{"$f":"印刷用集計表!Z102","v":0},null,null,null,null,null,null,null,null,null,null,null,null,null,null,null,null,null,null,null,null,null,null,null,null,null,null,null,null,null,null,null,null,null,null,null,null,null,null,null,null,null,null,null,null,null,null,null,null,null,null,null,null,null,null,{"$f":"印刷用集計表!AI102","v":0}]
[null,null,"事業所のその他個別追加対策(任意記載）",null,{"$f":"印刷用集計表!T113","v":0},null,null,null,null,null,null,null,null,null,null,null,null,null,null,null,null,null,null,null,null,null,null,null,null,null,null,null,null,null,null,null,null,null,null,null,null,null,null,null,null,null,null,null,null,null,null,null,null,null,null,null,null,null,{"$f":"印刷用集計表!Z113","v":""},null,null,null,null,null,null,null,null,null,null,null,null,null,null,null,null,null,null,null,null,null,null,null,null,null,null,null,null,null,null,null,null,null,null,null,null,null,null,null,null,null,null,null,null,null,null,null,null,null,null,null,null,null,null,{"$f":"印刷用集計表!AI113","v":0}]
[4,"ボイラ、工業炉等の熱設備","燃焼設備の管理",{"$f":"印刷用集計表!U116","v":""},{"$f":"印刷用集計表!T116","v":0},null,null,null,null,null,null,null,null,null,null,null,null,null,null,null,null,null,null,null,null,null,null,null,null,null,null,null,null,null,null,null,null,null,null,null,null,null,null,null,null,null,null,null,null,null,null,null,null,null,null,null,null,{"$f":"印刷用集計表!AA116","v":""},{"$f":"印刷用集計表!Z116","v":0},null,null,null,null,null,null,null,null,null,null,null,null,null,null,null,null,null,null,null,null,null,null,null,null,null,null,null,null,null,null,null,null,null,null,null,null,null,null,null,null,null,null,null,null,null,null,null,null,null,null,null,null,null,null,{"$f":"印刷用集計表!AI116","v":0}]
[null,null,"炉・ダクト、熱設備等の保温・放熱防止",null,{"$f":"印刷用集計表!T126","v":0},null,null,null,null,null,null,null,null,null,null,null,null,null,null,null,null,null,null,null,null,null,null,null,null,null,null,null,null,null,null,null,null,null,null,null,null,null,null,null,null,null,null,null,null,null,null,null,null,null,null,null,null,null,{"$f":"印刷用集計表!Z126","v":0},null,null,null,null,null,null,null,null,null,null,null,null,null,null,null,null,null,null,null,null,null,null,null,null,null,null,null,null,null,null,null,null,null,null,null,null,null,null,null,null,null,null,null,null,null,null,null,null,null,null,null,null,null,null,{"$f":"印刷用集計表!AI126","v":0}]
[null,null,"ボイラ運転・効率管理",null,{"$f":"印刷用集計表!T131","v":0},null,null,null,null,null,null,null,null,null,null,null,null,null,null,null,null,null,null,null,null,null,null,null,null,null,null,null,null,null,null,null,null,null,null,null,null,null,null,null,null,null,null,null,null,null,null,null,null,null,null,null,null,null,{"$f":"印刷用集計表!Z131","v":0},null,null,null,null,null,null,null,null,null,null,null,null,null,null,null,null,null,null,null,null,null,null,null,null,null,null,null,null,null,null,null,null,null,null,null,null,null,null,null,null,null,null,null,null,null,null,null,null,null,null,null,null,null,null,{"$f":"印刷用集計表!AI131","v":0}]
[null,null,"蒸気系統の管理",null,{"$f":"印刷用集計表!T136","v":0},null,null,null,null,null,null,null,null,null,null,null,null,null,null,null,null,null,null,null,null,null,null,null,null,null,null,null,null,null,null,null,null,null,null,null,null,null,null,null,null,null,null,null,null,null,null,null,null,null,null,null,null,null,{"$f":"印刷用集計表!Z136","v":0},null,null,null,null,null,null,null,null,null,null,null,null,null,null,null,null,null,null,null,null,null,null,null,null,null,null,null,null,null,null,null,null,null,null,null,null,null,null,null,null,null,null,null,null,null,null,null,null,null,null,null,null,null,null,{"$f":"印刷用集計表!AI136","v":0}]
[null,null,"排熱回収、排水削減",null,{"$f":"印刷用集計表!T144","v":0},null,null,null,null,null,null,null,null,null,null,null,null,null,null,null,null,null,null,null,null,null,null,null,null,null,null,null,null,null,null,null,null,null,null,null,null,null,null,null,null,null,null,null,null,null,null,null,null,null,null,null,null,null,{"$f":"印刷用集計表!Z144","v":0},null,null,null,null,null,null,null,null,null,null,null,null,null,null,null,null,null,null,null,null,null,null,null,null,null,null,null,null,null,null,null,null,null,null,null,null,null,null,null,null,null,null,null,null,null,null,null,null,null,null,null,null,null,null,{"$f":"印刷用集計表!AI144","v":0}]
[null,null,"熱交換器の管理",null,{"$f":"印刷用集計表!T150","v":0},null,null,null,null,null,null,null,null,null,null,null,null,null,null,null,null,null,null,null,null,null,null,null,null,null,null,null,null,null,null,null,null,null,null,null,null,null,null,null,null,null,null,null,null,null,null,null,null,null,null,null,null,null,{"$f":"印刷用集計表!Z150","v":0},null,null,null,null,null,null,null,null,null,null,null,null,null,null,null,null,null,null,null,null,null,null,null,null,null,null,null,null,null,null,null,null,null,null,null,null,null,null,null,null,null,null,null,null,null,null,null,null,null,null,null,null,null,null,{"$f":"印刷用集計表!AI150","v":0}]
[null,null,"事業所のその他個別追加対策(任意記載）",null,{"$f":"印刷用集計表!T152","v":0},null,null,null,null,null,null,null,null,null,null,null,null,null,null,null,null,null,null,null,null,null,null,null,null,null,null,null,null,null,null,null,null,null,null,null,null,null,null,null,null,null,null,null,null,null,null,null,null,null,null,null,null,null,{"$f":"印刷用集計表!Z152","v":""},null,null,null,null,null,null,null,null,null,null,null,null,null,null,null,null,null,null,null,null,null,null,null,null,null,null,null,null,null,null,null,null,null,null,null,null,null,null,null,null,null,null,null,null,null,null,null,null,null,null,null,null,null,null,{"$f":"印刷用集計表!AI152","v":0}]
[5,"生産・業務用設備","生産設備",{"$f":"印刷用集計表!U155","v":""},{"$f":"印刷用集計表!T155","v":0},null,null,null,null,null,null,null,null,null,null,null,null,null,null,null,null,null,null,null,null,null,null,null,null,null,null,null,null,null,null,null,null,null,null,null,null,null,null,null,null,null,null,null,null,null,null,null,null,null,null,null,null,{"$f":"印刷用集計表!AA155","v":""},{"$f":"印刷用集計表!Z155","v":0},null,null,null,null,null,null,null,null,null,null,null,null,null,null,null,null,null,null,null,null,null,null,null,null,null,null,null,null,null,null,null,null,null,null,null,null,null,null,null,null,null,null,null,null,null,null,null,null,null,null,null,null,null,null,{"$f":"印刷用集計表!AI155","v":0}]
[null,null,"負荷平準化",null,{"$f":"印刷用集計表!T165","v":0},null,null,null,null,null,null,null,null,null,null,null,null,null,null,null,null,null,null,null,null,null,null,null,null,null,null,null,null,null,null,null,null,null,null,null,null,null,null,null,null,null,null,null,null,null,null,null,null,null,null,null,null,null,{"$f":"印刷用集計表!Z165","v":0},null,null,null,null,null,null,null,null,null,null,null,null,null,null,null,null,null,null,null,null,null,null,null,null,null,null,null,null,null,null,null,null,null,null,null,null,null,null,null,null,null,null,null,null,null,null,null,null,null,null,null,null,null,null,{"$f":"印刷用集計表!AI165","v":0}]
[null,null,"事業所のその他個別追加対策(任意記載）",null,{"$f":"印刷用集計表!T167","v":0},null,null,null,null,null,null,null,null,null,null,null,null,null,null,null,null,null,null,null,null,null,null,null,null,null,null,null,null,null,null,null,null,null,null,null,null,null,null,null,null,null,null,null,null,null,null,null,null,null,null,null,null,null,{"$f":"印刷用集計表!Z167","v":""},null,null,null,null,null,null,null,null,null,null,null,null,null,null,null,null,null,null,null,null,null,null,null,null,null,null,null,null,null,null,null,null,null,null,null,null,null,null,null,null,null,null,null,null,null,null,null,null,null,null,null,null,null,null,{"$f":"印刷用集計表!AI167","v":0}]
[6,"電動機・電気加熱設備","電動機の管理",{"$f":"印刷用集計表!U170","v":""},{"$f":"印刷用集計表!T170","v":0},null,null,null,null,null,null,null,null,null,null,null,null,null,null,null,null,null,null,null,null,null,null,null,null,null,null,null,null,null,null,null,null,null,null,null,null,null,null,null,null,null,null,null,null,null,null,null,null,null,null,null,null,{"$f":"印刷用集計表!AA170","v":""},{"$f":"印刷用集計表!Z170","v":0},null,null,null,null,null,null,null,null,null,null,null,null,null,null,null,null,null,null,null,null,null,null,null,null,null,null,null,null,null,null,null,null,null,null,null,null,null,null,null,null,null,null,null,null,null,null,null,null,null,null,null,null,null,null,{"$f":"印刷用集計表!AI170","v":0}]
[null,null,"電気加熱設備の管理",null,{"$f":"印刷用集計表!T177","v":0},null,null,null,null,null,null,null,null,null,null,null,null,null,null,null,null,null,null,null,null,null,null,null,null,null,null,null,null,null,null,null,null,null,null,null,null,null,null,null,null,null,null,null,null,null,null,null,null,null,null,null,null,null,{"$f":"印刷用集計表!Z177","v":0},null,null,null,null,null,null,null,null,null,null,null,null,null,null,null,null,null,null,null,null,null,null,null,null,null,null,null,null,null,null,null,null,null,null,null,null,null,null,null,null,null,null,null,null,null,null,null,null,null,null,null,null,null,null,{"$f":"印刷用集計表!AI177","v":0}]
[null,null,"事業所のその他個別追加対策(任意記載）",null,{"$f":"印刷用集計表!T186","v":0},null,null,null,null,null,null,null,null,null,null,null,null,null,null,null,null,null,null,null,null,null,null,null,null,null,null,null,null,null,null,null,null,null,null,null,null,null,null,null,null,null,null,null,null,null,null,null,null,null,null,null,null,null,{"$f":"印刷用集計表!Z186","v":""},null,null,null,null,null,null,null,null,null,null,null,null,null,null,null,null,null,null,null,null,null,null,null,null,null,null,null,null,null,null,null,null,null,null,null,null,null,null,null,null,null,null,null,null,null,null,null,null,null,null,null,null,null,null,{"$f":"印刷用集計表!AI186","v":0}]
[7,"照明","照明の管理",{"$f":"印刷用集計表!U189","v":""},{"$f":"印刷用集計表!T189","v":0},null,null,null,null,null,null,null,null,null,null,null,null,null,null,null,null,null,null,null,null,null,null,null,null,null,null,null,null,null,null,null,null,null,null,null,null,null,null,null,null,null,null,null,null,null,null,null,null,null,null,null,null,{"$f":"印刷用集計表!AA189","v":""},{"$f":"印刷用集計表!Z189","v":0},null,null,null,null,null,null,null,null,null,null,null,null,null,null,null,null,null,null,null,null,null,null,null,null,null,null,null,null,null,null,null,null,null,null,null,null,null,null,null,null,null,null,null,null,null,null,null,null,null,null,null,null,null,null,{"$f":"印刷用集計表!AI189","v":0}]
[null,null,"事業所のその他個別追加対策(任意記載）",null,{"$f":"印刷用集計表!T204","v":0},null,null,null,null,null,null,null,null,null,null,null,null,null,null,null,null,null,null,null,null,null,null,null,null,null,null,null,null,null,null,null,null,null,null,null,null,null,null,null,null,null,null,null,null,null,null,null,null,null,null,null,null,null,{"$f":"印刷用集計表!Z204","v":""},null,null,null,null,null,null,null,null,null,null,null,null,null,null,null,null,null,null,null,null,null,null,null,null,null,null,null,null,null,null,null,null,null,null,null,null,null,null,null,null,null,null,null,null,null,null,null,null,null,null,null,null,null,null,{"$f":"印刷用集計表!AI204","v":0}]
[8,"受変電設備","受変電設備の管理",{"$f":"印刷用集計表!U207","v":""},{"$f":"印刷用集計表!T207","v":0},null,null,null,null,null,null,null,null,null,null,null,null,null,null,null,null,null,null,null,null,null,null,null,null,null,null,null,null,null,null,null,null,null,null,null,null,null,null,null,null,null,null,null,null,null,null,null,null,null,null,null,null,{"$f":"印刷用集計表!AA207","v":""},{"$f":"印刷用集計表!Z207","v":0},null,null,null,null,null,null,null,null,null,null,null,null,null,null,null,null,null,null,null,null,null,null,null,null,null,null,null,null,null,null,null,null,null,null,null,null,null,null,null,null,null,null,null,null,null,null,null,null,null,null,null,null,null,null,{"$f":"印刷用集計表!AI207","v":0}]
[null,null,"事業所のその他個別追加対策(任意記載）",null,{"$f":"印刷用集計表!T220","v":0},null,null,null,null,null,null,null,null,null,null,null,null,null,null,null,null,null,null,null,null,null,null,null,null,null,null,null,null,null,null,null,null,null,null,null,null,null,null,null,null,null,null,null,null,null,null,null,null,null,null,null,null,null,{"$f":"印刷用集計表!Z220","v":""},null,null,null,null,null,null,null,null,null,null,null,null,null,null,null,null,null,null,null,null,null,null,null,null,null,null,null,null,null,null,null,null,null,null,null,null,null,null,null,null,null,null,null,null,null,null,null,null,null,null,null,null,null,null,{"$f":"印刷用集計表!AI220","v":0}]
[9,"OA機器、自販機、衛生設備等","OA機器",{"$f":"印刷用集計表!U223","v":""},{"$f":"印刷用集計表!T223","v":0},null,null,null,null,null,null,null,null,null,null,null,null,null,null,null,null,null,null,null,null,null,null,null,null,null,null,null,null,null,null,null,null,null,null,null,null,null,null,null,null,null,null,null,null,null,null,null,null,null,null,null,null,{"$f":"印刷用集計表!AA223","v":""},{"$f":"印刷用集計表!Z223","v":0},null,null,null,null,null,null,null,null,null,null,null,null,null,null,null,null,null,null,null,null,null,null,null,null,null,null,null,null,null,null,null,null,null,null,null,null,null,null,null,null,null,null,null,null,null,null,null,null,null,null,null,null,null,null,{"$f":"印刷用集計表!AI223","v":0}]
[null,null,"昇降機",null,{"$f":"印刷用集計表!T226","v":0},null,null,null,null,null,null,null,null,null,null,null,null,null,null,null,null,null,null,null,null,null,null,null,null,null,null,null,null,null,null,null,null,null,null,null,null,null,null,null,null,null,null,null,null,null,null,null,null,null,null,null,null,null,{"$f":"印刷用集計表!Z226","v":0},null,null,null,null,null,null,null,null,null,null,null,null,null,null,null,null,null,null,null,null,null,null,null,null,null,null,null,null,null,null,null,null,null,null,null,null,null,null,null,null,null,null,null,null,null,null,null,null,null,null,null,null,null,null,{"$f":"印刷用集計表!AI226","v":0}]
[null,null,"自販機",null,{"$f":"印刷用集計表!T228","v":0},null,null,null,null,null,null,null,null,null,null,null,null,null,null,null,null,null,null,null,null,null,null,null,null,null,null,null,null,null,null,null,null,null,null,null,null,null,null,null,null,null,null,null,null,null,null,null,null,null,null,null,null,null,{"$f":"印刷用集計表!Z228","v":0},null,null,null,null,null,null,null,null,null,null,null,null,null,null,null,null,null,null,null,null,null,null,null,null,null,null,null,null,null,null,null,null,null,null,null,null,null,null,null,null,null,null,null,null,null,null,null,null,null,null,null,null,null,null,{"$f":"印刷用集計表!AI228","v":0}]
[null,null,"給排水、衛生設備",null,{"$f":"印刷用集計表!T232","v":0},null,null,null,null,null,null,null,null,null,null,null,null,null,null,null,null,null,null,null,null,null,null,null,null,null,null,null,null,null,null,null,null,null,null,null,null,null,null,null,null,null,null,null,null,null,null,null,null,null,null,null,null,null,{"$f":"印刷用集計表!Z232","v":0},null,null,null,null,null,null,null,null,null,null,null,null,null,null,null,null,null,null,null,null,null,null,null,null,null,null,null,null,null,null,null,null,null,null,null,null,null,null,null,null,null,null,null,null,null,null,null,null,null,null,null,null,null,null,{"$f":"印刷用集計表!AI232","v":0}]
[null,null,"事業所のその他個別追加対策(任意記載）",null,{"$f":"印刷用集計表!T237","v":0},null,null,null,null,null,null,null,null,null,null,null,null,null,null,null,null,null,null,null,null,null,null,null,null,null,null,null,null,null,null,null,null,null,null,null,null,null,null,null,null,null,null,null,null,null,null,null,null,null,null,null,null,null,{"$f":"印刷用集計表!Z237","v":""},null,null,null,null,null,null,null,null,null,null,null,null,null,null,null,null,null,null,null,null,null,null,null,null,null,null,null,null,null,null,null,null,null,null,null,null,null,null,null,null,null,null,null,null,null,null,null,null,null,null,null,null,null,null,{"$f":"印刷用集計表!AI237","v":0}]
[10,"その他","建物",{"$f":"印刷用集計表!U240","v":""},{"$f":"印刷用集計表!T240","v":0},null,null,null,null,null,null,null,null,null,null,null,null,null,null,null,null,null,null,null,null,null,null,null,null,null,null,null,null,null,null,null,null,null,null,null,null,null,null,null,null,null,null,null,null,null,null,null,null,null,null,null,null,{"$f":"印刷用集計表!AA240","v":""},{"$f":"印刷用集計表!Z240","v":0},null,null,null,null,null,null,null,null,null,null,null,null,null,null,null,null,null,null,null,null,null,null,null,null,null,null,null,null,null,null,null,null,null,null,null,null,null,null,null,null,null,null,null,null,null,null,null,null,null,null,null,null,null,null,{"$f":"印刷用集計表!AI240","v":0}]
[null,null,"コージェネレーション",null,{"$f":"印刷用集計表!T243","v":0},null,null,null,null,null,null,null,null,null,null,null,null,null,null,null,null,null,null,null,null,null,null,null,null,null,null,null,null,null,null,null,null,null,null,null,null,null,null,null,null,null,null,null,null,null,null,null,null,null,null,null,null,null,{"$f":"印刷用集計表!Z243","v":0},null,null,null,null,null,null,null,null,null,null,null,null,null,null,null,null,null,null,null,null,null,null,null,null,null,null,null,null,null,null,null,null,null,null,null,null,null,null,null,null,null,null,null,null,null,null,null,null,null,null,null,null,null,null,{"$f":"印刷用集計表!AI243","v":0}]
[null,null,"新エネルギー",null,{"$f":"印刷用集計表!T245","v":0},null,null,null,null,null,null,null,null,null,null,null,null,null,null,null,null,null,null,null,null,null,null,null,null,null,null,null,null,null,null,null,null,null,null,null,null,null,null,null,null,null,null,null,null,null,null,null,null,null,null,null,null,null,{"$f":"印刷用集計表!Z245","v":0},null,null,null,null,null,null,null,null,null,null,null,null,null,null,null,null,null,null,null,null,null,null,null,null,null,null,null,null,null,null,null,null,null,null,null,null,null,null,null,null,null,null,null,null,null,null,null,null,null,null,null,null,null,null,{"$f":"印刷用集計表!AI245","v":0}]
[null,null,"事業所のその他個別追加対策(任意記載）",null,{"$f":"印刷用集計表!T251","v":0},null,null,null,null,null,null,null,null,null,null,null,null,null,null,null,null,null,null,null,null,null,null,null,null,null,null,null,null,null,null,null,null,null,null,null,null,null,null,null,null,null,null,null,null,null,null,null,null,null,null,null,null,null,{"$f":"印刷用集計表!Z251","v":""},null,null,null,null,null,null,null,null,null,null,null,null,null,null,null,null,null,null,null,null,null,null,null,null,null,null,null,null,null,null,null,null,null,null,null,null,null,null,null,null,null,null,null,null,null,null,null,null,null,null,null,null,null,null,{"$f":"印刷用集計表!AI251","v":0}]
[11,"自動車対策","社有車・業務用車両の管理",{"$f":"印刷用集計表!U254","v":""},{"$f":"印刷用集計表!T254","v":0},null,null,null,null,null,null,null,null,null,null,null,null,null,null,null,null,null,null,null,null,null,null,null,null,null,null,null,null,null,null,null,null,null,null,null,null,null,null,null,null,null,null,null,null,null,null,null,null,null,null,null,null,{"$f":"印刷用集計表!AA254","v":""},{"$f":"印刷用集計表!Z254","v":0},null,null,null,null,null,null,null,null,null,null,null,null,null,null,null,null,null,null,null,null,null,null,null,null,null,null,null,null,null,null,null,null,null,null,null,null,null,null,null,null,null,null,null,null,null,null,null,null,null,null,null,null,null,null,{"$f":"印刷用集計表!AI254","v":0}]
[null,null,"エコドライブ活動",null,{"$f":"印刷用集計表!T258","v":0},null,null,null,null,null,null,null,null,null,null,null,null,null,null,null,null,null,null,null,null,null,null,null,null,null,null,null,null,null,null,null,null,null,null,null,null,null,null,null,null,null,null,null,null,null,null,null,null,null,null,null,null,null,{"$f":"印刷用集計表!Z258","v":0},null,null,null,null,null,null,null,null,null,null,null,null,null,null,null,null,null,null,null,null,null,null,null,null,null,null,null,null,null,null,null,null,null,null,null,null,null,null,null,null,null,null,null,null,null,null,null,null,null,null,null,null,null,null,{"$f":"印刷用集計表!AI258","v":0}]
[null,null,"低公害車対策",null,{"$f":"印刷用集計表!T268","v":0},null,null,null,null,null,null,null,null,null,null,null,null,null,null,null,null,null,null,null,null,null,null,null,null,null,null,null,null,null,null,null,null,null,null,null,null,null,null,null,null,null,null,null,null,null,null,null,null,null,null,null,null,null,{"$f":"印刷用集計表!Z268","v":0},null,null,null,null,null,null,null,null,null,null,null,null,null,null,null,null,null,null,null,null,null,null,null,null,null,null,null,null,null,null,null,null,null,null,null,null,null,null,null,null,null,null,null,null,null,null,null,null,null,null,null,null,null,null,{"$f":"印刷用集計表!AI268","v":0}]
[null,null,"車の点検等",null,{"$f":"印刷用集計表!T274","v":0},null,null,null,null,null,null,null,null,null,null,null,null,null,null,null,null,null,null,null,null,null,null,null,null,null,null,null,null,null,null,null,null,null,null,null,null,null,null,null,null,null,null,null,null,null,null,null,null,null,null,null,null,null,{"$f":"印刷用集計表!Z274","v":0},null,null,null,null,null,null,null,null,null,null,null,null,null,null,null,null,null,null,null,null,null,null,null,null,null,null,null,null,null,null,null,null,null,null,null,null,null,null,null,null,null,null,null,null,null,null,null,null,null,null,null,null,null,null,{"$f":"印刷用集計表!AI274","v":0}]
[null,null,"荷主としての取組",null,{"$f":"印刷用集計表!T276","v":0},null,null,null,null,null,null,null,null,null,null,null,null,null,null,null,null,null,null,null,null,null,null,null,null,null,null,null,null,null,null,null,null,null,null,null,null,null,null,null,null,null,null,null,null,null,null,null,null,null,null,null,null,null,{"$f":"印刷用集計表!Z276","v":0},null,null,null,null,null,null,null,null,null,null,null,null,null,null,null,null,null,null,null,null,null,null,null,null,null,null,null,null,null,null,null,null,null,null,null,null,null,null,null,null,null,null,null,null,null,null,null,null,null,null,null,null,null,null,{"$f":"印刷用集計表!AI276","v":0}]

{"sheet":"メニュー","index":2,"n_rows":0,"n_cols":0,"rows_kept":0,"cut":false,"hidden":false,"merged":[]}

{"sheet":"選択表","index":3,"n_rows":288,"n_cols":51,"rows_kept":288,"cut":false,"hidden":true,"merged":[[238,13,238,14],[239,13,239,14],[27,1,77,1],[81,1,107,1],[111,1,146,1],[150,1,161,1],[184,1,198,1],[165,1,180,1],[202,1,214,1],[218,1,231,1],[236,13,236,14],[232,2,234,2],[212,13,212,14],[184,2,198,2],[111,2,120,2],[121,2,125,2],[108,13,108,14],[81,2,88,2],[27,13,27,14],[78,2,80,2],[108,2,110,2],[50,2,59,2],[68,2,77,2],[60,2,67,2],[249,1,270,1],[240,13,240,14],[160,2,161,2],[162,25,164,25],[162,31,164,31],[163,13,163,14],[164,13,164,14],[204,13,204,14],[205,13,205,14],[206,13,206,14],[175,13,175,14],[176,13,176,14],[213,13,213,14],[214,13,214,14],[198,13,198,14],[169,13,169,14],[207,13,207,14],[208,13,208,14],[223,13,223,14],[224,13,224,14],[225,13,225,14],[221,13,221,14],[222,13,222,14],[218,26,231,26],[202,2,214,2],[219,13,219,14],[226,13,226,14],[201,13,201,14],[215,2,217,2],[215,13,215,14],[162,2,164,2],[162,13,162,14],[181,13,181,14],[218,13,218,14],[209,13,209,14],[210,13,210,14],[211,13,211,14],[202,13,202,14],[203,13,203,14],[172,2,180,2],[181,2,183,2],[165,2,171,2],[172,13,172,14],[195,13,195,14],[181,25,183,25],[182,13,182,14],[183,13,183,14],[165,13,165,14],[165,31,171,31],[166,13,166,14],[167,13,167,14],[168,13,168,14],[181,31,183,31],[172,31,180,31],[173,13,173,14],[174,13,174,14],[177,13,177,14],[235,2,237,2],[235,13,235,14],[235,31,237,31],[237,13,237,14],[215,25,217,25],[215,31,217,31],[216,13,216,14],[217,13,217,14],[227,2,231,2],[227,31,231,31],[228,13,228,14],[229,13,229,14],[230,13,230,14],[231,13,231,14],[218,31,226,31],[227,13,227,14],[249,32,270,32],[250,13,250,14],[251,13,251,14],[252,13,252,14],[253,13,253,14],[255,13,255,14],[254,13,254,14],[256,13,256,14],[257,13,257,14],[258,13,258,14],[249,13,249,14],[249,31,262,31],[259,13,259,14],[260,13,260,14],[261,13,261,14],[262,13,262,14],[263,13,263,14],[264,13,264,14],[266,13,266,14],[267,13,267,14],[268,13,268,14],[269,13,269,14],[270,13,270,14],[150,32,159,32],[151,13,151,14],[152,13,152,14],[153,13,153,14],[154,13,154,14],[155,13,155,14],[232,13,232,14],[232,25,234,25],[232,31,234,31],[233,13,233,14],[234,13,234,14],[156,13,156,14],[157,13,157,14],[158,13,158,14],[159,13,159,14],[218,32,226,32],[150,13,150,14],[220,13,220,14],[184,31,198,31],[199,13,199,14],[199,25,201,25],[199,31,201,31],[200,13,200,14],[150,31,159,31],[276,31,278,31],[277,13,277,14],[278,13,278,14],[265,13,265,14],[276,2,278,2],[276,13,276,14],[276,25,278,25],[263,2,268,2],[199,2,201,2],[269,2,270,2],[244,13,244,14],[245,13,245,14],[246,2,248,2],[246,13,246,14],[246,25,248,25],[246,31,248,31],[202,31,214,31],[271,13,271,14],[272,13,272,14],[273,13,273,14],[274,13,274,14],[275,13,275,14],[271,2,275,2],[242,13,242,14],[184,32,198,32],[185,13,185,14],[186,13,186,14],[187,13,187,14],[188,13,188,14],[189,13,189,14],[190,13,190,14],[191,13,191,14],[184,13,184,14],[192,13,192,14],[193,13,193,14],[194,13,194,14],[196,13,196,14],[197,13,197,14],[165,32,180,32],[178,13,178,14],[179,13,179,14],[180,13,180,14],[170,13,170,14],[171,13,171,14],[160,31,161,31],[161,13,161,14],[131,31,138,31],[132,13,132,14],[133,13,133,14],[135,13,135,14],[136,13,136,14],[137,13,137,14],[138,13,138,14],[131,13,131,14],[147,31,149,31],[148,13,148,14],[149,13,149,14],[139,31,144,31],[140,13,140,14],[144,13,144,14],[145,31,146,31],[160,13,160,14],[121,31,125,31],[122,13,122,14],[123,13,123,14],[124,13,124,14],[125,13,125,14],[126,13,126,14],[126,31,130,31],[127,13,127,14],[129,13,129,14],[130,13,130,14],[121,13,121,14],[128,13,128,14],[111,31,120,31],[111,32,120,32],[112,13,112,14],[113,13,113,14],[114,13,114,14],[115,13,115,14],[116,13,116,14],[117,13,117,14],[120,13,120,14],[118,13,118,14],[119,13,119,14],[111,13,111,14],[139,2,144,2],[139,13,139,14],[131,2,138,2],[126,2,130,2],[147,2,149,2],[147,13,147,14],[147,25,149,25],[145,2,146,2],[145,13,145,14],[142,13,142,14],[143,13,143,14],[146,13,146,14],[141,13,141,14],[108,25,110,25],[108,31,110,31],[109,13,109,14],[110,13,110,14],[102,13,102,14],[103,13,103,14],[104,13,104,14],[105,13,105,14],[106,13,106,14],[107,13,107,14],[67,13,67,14],[81,32,88,32],[82,13,82,14],[83,13,83,14],[84,13,84,14],[85,13,85,14],[86,13,86,14],[87,13,87,14],[88,13,88,14],[81,13,81,14],[81,31,88,31],[77,13,77,14],[78,31,80,31],[79,13,79,14],[80,13,80,14],[68,31,77,31],[69,13,69,14],[70,13,70,14],[71,13,71,14],[72,13,72,14],[73,13,73,14],[78,13,78,14],[78,25,80,25],[76,13,76,14],[68,13,68,14],[74,13,74,14],[75,13,75,14],[98,13,98,14],[99,13,99,14],[100,13,100,14],[101,13,101,14],[89,13,89,14],[91,13,91,14],[92,13,92,14],[93,13,93,14],[94,13,94,14],[95,13,95,14],[96,13,96,14],[97,13,97,14],[27,32,35,32],[28,13,28,14],[29,13,29,14],[30,13,30,14],[36,13,36,14],[37,13,37,14],[38,13,38,14],[39,13,39,14],[33,13,33,14],[31,13,31,14],[32,13,32,14],[34,13,34,14],[35,13,35,14],[12,13,12,14],[24,31,26,31],[8,31,13,31],[26,13,26,14],[25,13,25,14],[48,13,48,14],[65,13,65,14],[57,13,57,14],[51,13,51,14],[55,13,55,14],[58,13,58,14],[42,13,42,14],[44,13,44,14],[40,13,40,14],[41,13,41,14],[56,13,56,14],[62,13,62,14],[63,13,63,14],[64,13,64,14],[46,13,46,14],[47,13,47,14],[60,31,67,31],[61,13,61,14],[66,13,66,14],[253,2,262,2],[1,32,7,32],[2,13,2,14],[3,13,3,14],[4,13,4,14],[5,13,5,14],[6,13,6,14],[7,13,7,14],[20,2,22,2],[20,13,20,14],[20,31,22,31],[22,13,22,14],[14,2,19,2],[14,13,14,14],[14,31,19,31],[15,13,15,14],[24,2,26,2],[60,13,60,14],[45,13,45,14],[24,13,24,14],[1,31,7,31],[241,13,241,14],[1,2,7,2],[1,13,1,14],[89,2,96,2],[97,2,107,2],[243,13,243,14],[247,13,247,14],[248,13,248,14],[0,18,0,20],[90,13,90,14],[134,13,134,14],[249,2,252,2],[0,1,0,2],[23,13,23,14],[0,11,0,12],[16,13,16,14],[17,13,17,14],[18,13,18,14],[8,2,13,2],[8,13,8,14],[9,13,9,14],[10,13,10,14],[11,13,11,14],[13,13,13,14],[1,1,23,1],[19,13,19,14],[0,13,0,14]]}
["番号","分 類",null,"分類","事務所ビル","店舗・商業施設","工場 現場","病院 学校","倉庫 置場","自動車","対象","基本対策は●",null,"チェック項目",null,"自己\n採点","県評価","対象","基本項目",null,null,"対象","事業所採点","合計点","項目数","細目点","評価点","対象数","県採点","合計点","項目数","細目点","大分類","説明",null,null,null,null,null,false,false,false,false,false,false,null,"非対称事象","評価点計","対象個数"]
[1,"一般管理事項","省エネ推進体制",1,1,1,1,1,1,1,{"$f":"IF(E2*AN$2+F2*AO2+G2*AP$2+H2*AQ$2+I2*AR$2+J2*AS$2>0,1,0)","v":0},"●",1,"エネルギー管理(省エネ活動)を継続的に行う組織があるか　",null,null,null,{"$f":"IF(P2=\"\",0,COUNTA(P2)*COUNTIF(L2,\"●\"))","v":0},{"$f":"IF(R2=0,0,IF(P2=\"○\",5,IF(P2=\"△\",3,IF(P2=\"×\",1,0))))*IF(L2=\"●\",1,0)","v":0},{"$f":"IFERROR(SUM(S2:S8)/SUM(R2:R8),0)","v":0},{"$f":"IFERROR(SUM(S2:S24)/SUM(R2:R24),0)","v":0},{"$f":"IF(P2=\"\",0,1)","v":0},{"$f":"IF(V2=0,0,IF(P2=\"○\",5,IF(P2=\"△\",3,IF(P2=\"×\",1,0))))","v":0},{"$f":"SUM(W2:W8)","v":0},{"$f":"COUNTIF(V2:V8,1)","v":0},{"$f":"IFERROR(X2/Y2,0)","v":0},{"$f":"IFERROR((X2+X9+X15+X21+X24)/(Y2+Y9+Y15+X21+Y24),0)","v":0},{"$f":"K2*IF(Q2=\"－\",0,1)","v":0},{"$f":"IF(K2=0,\"\",IF(Q2=\"○\",5,IF(Q2=\"△\",3,IF(Q2=\"×\",1,0))))","v":""},{"$f":"SUM(AC2:AC8)","v":0},{"$f":"COUNTIF(AB2:AB8,1)","v":0},{"$f":"AD2/AE2","v":{"$error":"#DIV/0!"}},{"$f":"(AD2+AD9+AD15+AD21+AD24)/(AE2+AE9+AE15+AD21+AE24)","v":{"$error":"#DIV/0!"}},null,null,null,null,null,null,{"$f":"IF(AN1=TRUE,1,0)","v":0},0,0,0,0,0,null,null,null,null,"○","○"]
[1,null,null,1,1,1,1,1,1,1,{"$f":"IF(E3*AN$2+F3*AO3+G3*AP$2+H3*AQ$2+I3*AR$2+J3*AS$2>0,1,0)","v":0},"●",2,"省エネ目標を設定し、省エネのPDCAを回す活動をしているか",null,null,null,{"$f":"IF(P3=\"\",0,COUNTA(P3)*COUNTIF(L3,\"●\"))","v":0},{"$f":"IF(R3=0,0,IF(P3=\"○\",5,IF(P3=\"△\",3,IF(P3=\"×\",1,0))))*IF(L3=\"●\",1,0)","v":0},null,null,{"$f":"IF(P3=\"\",0,1)","v":0},{"$f":"IF(V3=0,0,IF(P3=\"○\",5,IF(P3=\"△\",3,IF(P3=\"×\",1,0))))","v":0},null,null,null,null,{"$f":"K3*IF(Q3=\"－\",0,1)","v":0},{"$f":"IF(K3=0,\"\",IF(Q3=\"○\",5,IF(Q3=\"△\",3,IF(Q3=\"×\",1,0))))","v":""},null,null,null,null,null,null,null,null,null,null,null,null,null,null,null,null,null,null,null,null,"△","△"]
[1,null,null,1,1,1,1,1,1,1,0,null,3,"省エネの目標に対して、投資予算を確保しているか",null,null,null,0,0,null,null,0,0,null,null,null,null,0,"",null,null,null,null,"省エネ予算の確保",null,null,null,null,null,null,null,null,null,null,null,null,null,null,null,"×","×"]
[1,null,null,1,1,1,1,1,1,1,0,null,4,"省エネ対策の年度計画や中長期計画を設定、予算を確保しているか",null,null,null,0,0,null,null,0,0,null,null,null,null,0,"",null,null,null,null,null,null,null,null,null,null,null,null,null,null,null,null,null,null,null,null,null,"－"]
[1,null,null,1,1,1,1,1,1,1,0,"●",5,"省エネ実施状況の掲示(年間・月毎の目標と実績等）をしているか",null,null,null,0,0,null,null,0,0,null,null,null,null,0,"",null,null,null,null,"掲示板やポータルでの公表、目標や実績情報の共有化"]
[1,null,null,1,1,1,1,1,1,1,0,"●",6,"人材教育や省エネ啓蒙活動(ポスター掲示等）をしているか",null,null,null,0,0,null,null,0,0,null,null,null,null,0,""]
[1,null,null,1,1,1,1,1,1,null,0,"●",7,"クールビズ、ウォームビズを実施しているか",null,null,null,0,0,null,null,0,0,null,null,null,null,0,""]
[1,null,"保全・計測・記録",1,1,1,1,1,1,1,0,"●",1,"主要設備の運転記録があるか（記録計、日報記録等）",null,null,null,0,0,{"$f":"IFERROR(SUM(S9:S14)/SUM(R9:R14),0)","v":0},null,0,0,{"$f":"SUM(W9:W14)","v":0},{"$f":"COUNTIF(V9:V14,1)","v":0},{"$f":"IFERROR(X9/Y9,0)","v":0},null,0,"",{"$f":"SUM(AC9:AC14)","v":0},{"$f":"COUNTIF(AB9:AB14,1)","v":0},{"$f":"AD9/AE9","v":{"$error":"#DIV/0!"}},null,"運転状況、稼働時間、保守状況等の記録"]
[1,null,null,1,1,1,1,1,1,1,0,"●",2,"定期点検・保守計画があり、点検・保守をおこなっているか",null,null,null,0,{"$f":"IF(R10=0,0,IF(P10=\"○\",5,IF(P10=\"△\",3,IF(P10=\"×\",1,0))))*IF(L10=\"●\",1,0)","v":0},null,null,0,{"$f":"IF(V10=0,0,IF(P10=\"○\",5,IF(P10=\"△\",3,IF(P10=\"×\",1,0))))","v":0},null,null,null,null,0,{"$f":"IF(K10=0,\"\",IF(Q10=\"○\",5,IF(Q10=\"△\",3,IF(Q10=\"×\",1,0))))","v":""}]
[1,null,null,1,1,1,1,1,1,1,0,"●",3,"エネルギー計測器、計測点は十分であり、適正に管理されているか",null,null,null,0,0,null,null,0,0,null,null,null,null,0,"",null,null,null,null,"温度、圧力、使用量などの監視、監視点の適正さ、計測機器の校正"]
[1,null,null,1,1,1,1,1,1,null,0,"●",4,"主要設備の効率、負荷に係る計測、記録をしているか",null,null,null,0,0,null,null,0,0,null,null,null,null,0,"",null,null,null,null,"稼働率、負荷率などの監視記録"]
[1,null,null,1,1,1,1,1,1,null,0,null,5,"主要設備機器の性能、仕様、取得年月がわかるようリスト化されているか",null,null,null,0,0,null,null,0,0,null,null,null,null,0,"",null,null,null,null,"仕様を記した設備リストや文書管理等"]
[1,null,null,1,1,1,1,1,1,null,0,"●",6,"機器リスト、電気図面、空調や配管系統図などが更新されているか",null,null,null,0,0,null,null,0,0,null,null,null,null,0,""]
[1,null,"エネルギー使用量管理",1,1,1,1,1,1,null,0,null,1,"消費エネルギーのフロー（エネルギー種別、使用先別の使用量）が把握されているか",null,null,null,0,0,{"$f":"IFERROR(SUM(S15:S20)/SUM(R15:R20),0)","v":0},null,0,0,{"$f":"SUM(W15:W20)","v":0},{"$f":"COUNTIF(V15:V20,1)","v":0},{"$f":"IFERROR(X15/Y15,0)","v":0},null,0,"",{"$f":"SUM(AC15:AC20)","v":0},{"$f":"COUNTIF(AB15:AB20,1)","v":0},{"$f":"AD15/AE15","v":{"$error":"#DIV/0!"}},null,"機器ごと、もしくは主要な系統別のエネルギー量が把握されているか"]
[1,null,null,1,1,1,1,1,1,null,0,"●",2,"主要設備の管理標準があるか（空調、換気、生産設備、照明等）",null,null,null,0,0,null,null,0,0,null,null,null,null,0,""]
[1,null,null,1,1,1,1,1,1,null,0,null,3,"区画・系統もしくは機器別に1日の消費エネルギーがすぐに把握できるか",null,null,null,0,0,null,null,0,0,null,null,null,null,0,""]
[1,null,null,1,1,1,1,1,1,null,0,null,4,"1日の時間毎の電力使用量を計測し、日負荷曲線の管理をしているか",null,null,null,0,0,null,null,0,0,null,null,null,null,0,"",null,null,null,null,"日日のトレンド情報、分析管理化"]
[1,null,null,1,1,1,1,1,1,1,0,null,5,"エネルギー使用量の原単位管理をしているか　　",null,null,null,0,0,null,null,0,0,null,null,null,null,0,"",null,null,null,null,"エネルギー使用量の変動を日単位で把握できるか"]
[1,null,null,1,1,1,1,1,1,1,0,"●",6,"月毎、年度毎の使用量管理、前年度比較をしているか(表・グラフ化等）",null,null,null,0,0,null,null,0,0,null,null,null,null,0,""]
[1,null,"エネルギー原単位の管理",1,1,1,1,1,1,null,0,"●",1,"原単位（建物別、工程別、製品別、消費先別、部署別など）を管理しているか",null,null,null,0,0,{"$f":"IFERROR(SUM(S21:S23)/SUM(R21:R23),0)","v":0},null,0,0,{"$f":"SUM(W21:W23)","v":0},{"$f":"COUNTIF(V21:V23,1)","v":0},{"$f":"IFERROR(X21/Y21,0)","v":0},null,0,"",{"$f":"SUM(AC21:AC23)","v":0},{"$f":"COUNTIF(AB21:AB23,1)","v":0},{"$f":"AD21/AE21","v":{"$error":"#DIV/0!"}},null,"効率管理ができるようになっているか"]
[1,null,null,1,1,1,1,1,1,null,0,null,2,"原単位の過去実績との比較及び要因分析をしているか",null,null,null,0,0,null,null,0,0,null,null,null,null,0,""]
[1,null,null,1,1,1,1,1,1,null,0,null,3,"原単位改善に向けた取り組みを行っているか",null,null,null,0,0,null,null,0,0,null,null,null,null,0,"",null,null,null,null,"原価削減や生産性向上活動の有無"]
[1,null,"その他",1,1,1,1,1,1,1,0,null,1,"環境負荷の少ないエネルギーを優先的に購入・使用している。",null,null,null,0,0,{"$f":"IFERROR(SUM(S24:S24)/SUM(R24:R24),0)","v":0},null,0,0,{"$f":"SUM(W24:W24)","v":0},{"$f":"COUNTIF(V24:V24,1)","v":0},{"$f":"IFERROR(X24/Y24,0)","v":0},null,0,"",{"$f":"SUM(AC24:AC24)","v":0},{"$f":"COUNTIF(AB24:AB24,1)","v":0},{"$f":"AD24/AE24","v":{"$error":"#DIV/0!"}},null,"再生エネやクリーンエネルギー、コジェネの有効利用など"]
[null,null,"事業所のその他個別追加対策(任意記載）",1,1,1,1,1,1,1,0,null,1,null,null,null,null,0,null,null,null,0,0,{"$f":"SUM(W25:W27)","v":0},{"$f":"COUNTIF(V25:V27,1)","v":0},{"$f":"IFERROR(X25/Y25,\"\")","v":""},null,0,"",{"$f":"SUM(AC25:AC27)","v":0},{"$f":"COUNTIF(AB25:AB27,1)","v":0},{"$f":"AD25/AE25","v":{"$error":"#DIV/0!"}}]
[null,null,null,1,1,1,1,1,1,1,0,null,2,null,null,null,null,0,null,null,null,0,0,null,null,null,null,0,""]
[null,null,null,1,1,1,1,1,1,1,0,null,3,null,null,null,null,0,null,null,null,0,0,null,null,null,null,0,""]
[2,"空調、換気、冷凍、冷蔵設備","空調設備の運転管理",2,1,1,1,1,1,null,0,"●",1,"室内の温度の適正管理をしているか（例：冬季20℃、夏季28℃）",null,null,"△",0,0,{"$f":"IFERROR(SUM(S28:S36)/SUM(R28:R36),0)","v":0},{"$f":"IFERROR(SUM(S28:S78)/SUM(R28:R78),0)","v":0},0,0,{"$f":"SUM(W28:W36)","v":0},{"$f":"COUNTIF(V28:V36,1)","v":0},{"$f":"IFERROR(X28/Y28,0)","v":0},{"$f":"IFERROR(SUM(X28:X78)/SUM($Y28:$Y78),0)","v":0},0,"",{"$f":"SUM(AC28:AC36)","v":0},{"$f":"COUNTIF(AB28:AB36,1)","v":0},{"$f":"AD28/AE28","v":{"$error":"#DIV/0!"}},{"$f":"SUM(AD28:AD78)/SUM($Y28:$Y78)","v":{"$error":"#DIV/0!"}}]
[2,null,null,2,1,1,1,1,1,null,0,null,2,"週間・年間スケジュール運転をしているか（切り忘れ防止。朝の立上げ早すぎ防止。）",null,null,null,0,0,null,null,0,0,null,null,null,null,0,"",null,null,null,null,"装置発停の取組め管理。中間期絵の管理"]
[2,null,null,2,1,1,1,1,1,null,0,null,3,"空調エリアでは、外気侵入や室内気の洩れを遮断しているか（扉の開放、隙間対策等）",null,null,null,0,0,null,null,0,0,null,null,null,null,0,""]
[2,null,null,2,1,1,1,1,1,null,0,null,4,"外気導入量の制御もしくは管理をしているか（管理標準の例：屋内CO2濃度800～950ppm、室内陽圧度）",null,null,null,0,0,null,null,0,0,null,null,null,null,0,"",null,null,null,null,"不用な温度負荷を監視しているか"]
[2,null,null,2,1,1,1,1,1,null,0,null,5,"換気回数は必要最小限としているか",null,null,null,0,{"$f":"IF(R32=0,0,IF(P32=\"○\",5,IF(P32=\"△\",3,IF(P32=\"×\",1,0))))*IF(L32=\"●\",1,0)","v":0},null,null,0,{"$f":"IF(V32=0,0,IF(P32=\"○\",5,IF(P32=\"△\",3,IF(P32=\"×\",1,0))))","v":0},null,null,null,null,0,null,null,null,null,null,"用途基準に見合った回数となっており、且つ過剰となっていないか"]
[2,null,null,2,1,1,1,1,1,null,0,"●",6,"中間期、冬期で冷房が必要な場合、外気冷房を活用しているか",null,null,null,0,{"$f":"IF(R33=0,0,IF(P33=\"○\",5,IF(P33=\"△\",3,IF(P33=\"×\",1,0))))*IF(L33=\"●\",1,0)","v":0},null,null,0,{"$f":"IF(V33=0,0,IF(P33=\"○\",5,IF(P33=\"△\",3,IF(P33=\"×\",1,0))))","v":0},null,null,null,null,0,"",null,null,null,null,"自然空調の利用、エアハンの外気取り込みなど"]
[2,null,null,2,1,1,1,1,1,null,0,"●",7,"冷房時の除湿再熱運転を停止する、もしくは見直ししているか",null,null,null,0,{"$f":"IF(R34=0,0,IF(P34=\"○\",5,IF(P34=\"△\",3,IF(P34=\"×\",1,0))))*IF(L34=\"●\",1,0)","v":0},null,null,0,{"$f":"IF(V34=0,0,IF(P34=\"○\",5,IF(P34=\"△\",3,IF(P34=\"×\",1,0))))","v":0},null,null,null,null,0,null,null,null,null,null,"除湿運転の見直しも"]
[2,null,null,2,1,1,1,1,1,null,0,"●",8,"フィルタ清掃や交換、屋外機フィン清掃を定期的に実施しているか",null,null,null,0,0,null,null,0,0,null,null,null,null,0,"",null,null,null,null,"定期清掃の実施。適正な期間での清掃"]
[2,null,null,2,1,1,1,1,1,null,0,null,9,"夏期：室外機への日よけ設置、屋上や室外機への散水を実施しているか",null,null,null,0,0,null,null,0,0,null,null,null,null,0,""]
[2,null,"負荷低減対策",2,1,1,1,1,1,null,0,"●",1,"発熱機器に対して、局所排気や放熱遮断をしているか",null,null,null,0,0,{"$f":"IFERROR(SUM(S37:S45)/SUM(R37:R45),0)","v":0},null,0,0,{"$f":"SUM(W37:W45)","v":0},{"$f":"COUNTIF(V37:V45,1)","v":0},{"$f":"IFERROR(X37/Y37,0)","v":0},null,0,"",{"$f":"SUM(AC37:AC45)","v":0},{"$f":"COUNTIF(AB37:AB45,1)","v":0},{"$f":"AD37/AE37","v":{"$error":"#DIV/0!"}}]
[2,null,null,2,1,1,1,1,1,null,0,"●",2,"窓の日射対策（窓際の植栽、ブライド、カーテン等）しているか",null,null,null,0,0,null,null,0,0,null,null,null,null,0,""]
[2,null,null,2,1,1,1,1,1,null,0,null,3,"窓ガラスの断熱対策（吸熱、二重サッシ、ペアガラス等）しているか",null,null,null,0,0,null,null,0,0,null,null,null,null,0,""]
[2,null,null,2,1,1,1,1,1,null,0,null,4,"屋根への遮熱塗料の塗布や、屋上への植栽を実施しているか",null,null,null,0,0,null,null,0,0,null,null,null,null,0,""]
[2,null,null,2,1,1,1,1,1,null,0,"●",5,"壁や天井等は断熱性が良いか",null,null,null,0,0,null,null,0,0,null,null,null,null,0,"",null,null,null,null,"建物断熱構造、使用材料の適切性は"]
[2,null,null,2,1,1,1,1,1,null,0,"●",6,"空調エリアが小さくできないか（間仕切り、高天井の内張り等）",null,null,null,0,0,null,null,0,0,null,null,null,null,0,""]
[2,null,null,2,null,null,1,1,1,null,0,null,7,"空調エリアが広く人数が少ない場合、局所空調、あるいは空調区画を見直ししているか",null,null,null,0,0,null,null,0,0,null,null,null,null,0,"",null,null,null,null,"局所ごとの温度や風量設定ができる、局所用空調機器も含む"]
[2,null,null,2,1,1,1,1,1,null,0,"●",8,"空調時間の短縮など空調時間の見直しをしているか",null,null,null,0,0,null,null,0,0,null,null,null,null,0,""]
[2,null,null,2,1,1,1,1,1,null,0,"●",9,"空気の循環や風量の管理の調整をしているか",null,null,null,0,0,null,null,0,0,null,null,null,null,0,"",null,null,null,null,"還流や換気ロスの配慮"]
[2,null,"機器効率の向上",2,1,1,1,1,1,null,0,null,1,"熱輸送機(ポンプ、ブロワ）では負荷に応じた（インバータ）流量制御をしているか",null,null,null,0,0,{"$f":"IFERROR(SUM(S46:S50)/SUM(R46:R50),0)","v":0},null,0,0,{"$f":"SUM(W46:W50)","v":0},{"$f":"COUNTIF(V46:V50,1)","v":0},{"$f":"IFERROR(X46/Y46,0)","v":0},null,0,"",{"$f":"SUM(AC46:AC50)","v":0},{"$f":"COUNTIF(AB46:AB50,1)","v":0},{"$f":"AD46/AE46","v":{"$error":"#DIV/0!"}}]
[2,null,null,2,1,1,1,1,1,null,0,null,2,"負荷平準化（蓄熱等）対策のシステムが導入されているか",null,null,null,0,0,null,null,0,0,null,null,null,null,0,"",null,null,null,null,"夜間電力での蓄熱利用、地熱利用など"]
[2,null,null,2,1,1,1,1,1,null,0,null,3,"換気・排熱を回収利用しているか",null,null,null,0,0,null,null,0,0,null,null,null,null,0,"",null,null,null,null,"全熱回収（例：ロスナイ）、廃熱ヒートポンプの利用など"]
[2,null,null,2,1,1,1,1,1,null,0,null,4,"効率の良い設備が導入されているか",null,null,null,0,0,null,null,0,0,null,null,null,null,0,""]
[2,null,null,2,1,1,1,1,1,null,0,"●",5,"リニューアル時：高効率機で設備容量を下げる検討をしているか",null,null,null,0,0,null,null,0,0,null,null,null,null,0,""]
[2,null,"冷温熱源設備の管理",2,1,1,1,1,1,null,0,"●",1,"冷温水循環ポンプ等は、営業終了時刻に停止しているか",null,null,null,0,0,{"$f":"IFERROR(SUM(S51:S60)/SUM(R51:R60),0)","v":0},null,0,0,{"$f":"SUM(W51:W60)","v":0},{"$f":"COUNTIF(V51:V60,1)","v":0},{"$f":"IFERROR(X51/Y51,0)","v":0},null,0,"",null,{"$f":"COUNTIF(AB51:AB60,1)","v":0}]
[2,null,null,2,1,1,1,1,1,null,0,"●",2,"冷温水流量調整の回転数制御化（インバータ化）をしているか",null,null,null,0,0,null,null,0,0,null,null,null,null,0,""]
[2,null,null,2,1,1,1,1,1,null,0,null,3,"中間期や冬期の冷熱需要にはフリークーリングを実施しているか",null,null,null,0,{"$f":"IF(R53=0,0,IF(P53=\"○\",5,IF(P53=\"△\",3,IF(P53=\"×\",1,0))))*IF(L53=\"●\",1,0)","v":0},null,null,0,{"$f":"IF(V53=0,0,IF(P53=\"○\",5,IF(P53=\"△\",3,IF(P53=\"×\",1,0))))","v":0},null,null,null,null,0,null,null,null,null,null,"冷却塔などでのフリークーリング"]
[2,null,null,2,1,1,1,1,1,null,0,"●",4,"冷凍機：・冷水出口温度は適切に管理しているか（例：中間期 7→9℃）",null,null,null,0,0,null,null,0,0,null,null,null,null,0,"",null,null,null,null,"過度な温度設定の防止。負荷低減時の管理"]
[2,null,null,2,1,1,1,1,1,null,0,"●",5,"冷凍機：・冷却水入口温度は適正か（冷房負荷に応じた設定）",null,null,null,0,0,null,null,0,0,null,null,null,null,0,""]
[2,null,null,2,1,1,1,1,1,null,0,null,6,"熱源機器(冷凍機等)の台数制御をしているか",null,null,null,0,0,null,null,0,0,null,null,null,null,0,"",null,null,null,null,"機器ごとに適正負荷率に保つ運転管理をしているか"]
[2,null,null,2,1,1,1,1,1,null,0,null,7,"冷却塔の充填剤の清掃、水量の調整を行っているか",null,null,null,0,{"$f":"IF(R57=0,0,IF(P57=\"○\",5,IF(P57=\"△\",3,IF(P57=\"×\",1,0))))*IF(L57=\"●\",1,0)","v":0},null,null,0,{"$f":"IF(V57=0,0,IF(P57=\"○\",5,IF(P57=\"△\",3,IF(P57=\"×\",1,0))))","v":0},null,null,null,null,0]
[2,null,null,2,1,1,1,1,1,null,0,null,8,"定期的に成績係数（COP)を把握しているか",null,null,null,0,0,null,null,0,0,null,null,null,null,0,"",null,null,null,null,"投入エネルギーと利用熱負荷との効率管理をしているか"]
[2,null,null,2,1,1,1,1,1,null,0,"●",9,"定期的な水質管理、性能管理、スケール除去、保守管理をしているか",null,null,null,0,0,null,null,0,0,null,null,null,null,0,""]
[2,null,null,2,1,1,1,1,1,null,0,null,10,"高効率な機器が設置されているか",null,null,null,0,0,null,null,0,0,null,null,null,null,0,""]
[2,null,"給・排気（換気）設備の管理",2,1,1,1,1,1,null,0,"●",1,"室内CO₂濃度や、指定物質での作業環境測定、陽圧度などの管理をおこなっているか、",null,null,null,0,0,{"$f":"IFERROR(SUM(S61:S68)/SUM(R61:R68),0)","v":0},null,0,0,{"$f":"SUM(W61:W68)","v":0},{"$f":"COUNTIF(V61:V68,1)","v":0},{"$f":"IFERROR(X61/Y61,0)","v":0},null,0,"",{"$f":"SUM(AC61:AC68)","v":0},{"$f":"COUNTIF(AB61:AB68,1)","v":0},{"$f":"AD61/AE61","v":{"$error":"#DIV/0!"}},null,"指標値（CO₂濃度や作業環境数値、塵埃、陽圧度など）で管理しているか",null,null,null,null,null,null,null,null,null,null,null,null,{"$f":"IF(Q61=\"〇\",1,0)","v":0},{"$f":"SUM(AP61:AU61)","v":0},{"$f":"AN61-+AU61","v":0}]
[2,null,null,2,1,1,1,1,1,null,0,"●",2,"湯沸室・倉庫等：使用頻度の乏しい区画では不使用時に換気を停止しているか",null,null,null,0,0,null,null,0,0,null,null,null,null,0,""]
[2,null,null,2,1,1,1,1,1,null,0,"●",3,"給気量、排気量は適切か",null,null,null,0,0,null,null,0,0,null,null,null,null,0,"",null,null,null,null,"換気容量だけでなく、換気方法（第1種、第2種、第3種）、機種が適切か"]
[2,null,null,2,1,1,1,1,1,null,{"$f":"IF(E64*AN$2+F64*AO64+G64*AP$2+H64*AQ$2+I64*AR$2+J64*AS$2>0,1,0)","v":0},null,4,"換気・排気の排熱を回収利用しているか",null,null,null,0,0,null,null,0,0,null,null,null,null,{"$f":"K64*IF(Q64=\"－\",0,1)","v":0},"",null,null,null,null,"ロスナイなどの利用"]
[2,null,null,2,1,1,1,1,1,null,0,"●",5,"電気室・機械室等：室温管理運転をしているか（例：40℃）",null,null,null,0,0,null,null,0,0,null,null,null,null,0,"",null,null,null,null,null,null,null,null,null,null,null,null,null,null,null,null,null,{"$f":"IF(Q65=\"〇\",1,0)","v":0},0,0]
[2,null,null,2,1,1,1,1,1,null,0,null,6,"換気量過剰：間欠運転やインバータ化等により、換気量を削減しているか",null,null,null,0,0,null,null,0,0,null,null,null,null,0,"",null,null,null,null,"用途基準に見合った回数となっており、且つ過剰となっていないか",null,null,null,null,null,null,null,null,null,null,null,null,{"$f":"IF(Q66=\"〇\",1,0)","v":0},0,0]
[2,null,null,2,1,1,1,1,1,null,0,"●",7,"過剰排気対策として、部屋全体でなく局所排気をしているか",null,null,null,{"$f":"IF(P67=\"\",0,COUNTA(P67)*COUNTIF(L67,\"●\"))","v":0},0,null,null,{"$f":"IF(P67=\"\",0,1)","v":0},0,null,null,null,null,0,""]
[2,null,null,2,1,1,1,1,1,null,0,"●",8,"フィルター清掃や交換を定期的に行っているか",null,null,null,0,0,null,null,0,0,null,null,null,null,0,"",null,null,null,null,"定期清掃の実施。適正な期間での清掃",null,null,null,null,null,null,null,null,null,null,null,null,{"$f":"IF(Q68=\"〇\",1,0)","v":0},0,0]
[2,null,"冷蔵・冷凍設備の管理",2,null,1,1,1,1,null,0,"●",1,"庫内の設定温度が過剰となっていないか",null,null,null,0,{"$f":"IF(R69=0,0,IF(P69=\"○\",5,IF(P69=\"△\",3,IF(P69=\"×\",1,0))))*IF(L69=\"●\",1,0)","v":0},{"$f":"IFERROR(SUM(S69:S78)/SUM(R69:R78),0)","v":0},null,0,{"$f":"IF(V69=0,0,IF(P69=\"○\",5,IF(P69=\"△\",3,IF(P69=\"×\",1,0))))","v":0},{"$f":"SUM(W69:W78)","v":0},{"$f":"COUNTIF(V69:V78,1)","v":0},{"$f":"IFERROR(X69/Y69,0)","v":0},null,0,{"$f":"IF(K69=0,\"\",IF(Q69=\"○\",5,IF(Q69=\"△\",3,IF(Q69=\"×\",1,0))))","v":""},{"$f":"SUM(AC69:AC78)","v":0},{"$f":"COUNTIF(AB69:AB78,1)","v":0},{"$f":"AD69/AE69","v":{"$error":"#DIV/0!"}},null,null,null,null,null,null,null,null,null,null,null,null,null,null,{"$f":"IF(Q69=\"〇\",1,0)","v":0},0,0]
[2,null,null,2,null,1,1,1,1,null,0,"●",2,"冷媒の出入口温度は適正か",null,null,null,0,0,null,null,0,0,null,null,null,null,0,"",null,null,null,null,"過度な設定となっていないか"]
[2,null,null,2,null,1,1,null,1,null,0,"●",3,"適切なデフロスト(霜取り）をしているか（デフロスト回数を減らせないか）",null,null,null,0,0,null,null,0,0,null,null,null,null,0,"",null,null,null,null,null,null,null,null,null,null,null,null,null,null,null,null,null,{"$f":"IF(Q71=\"〇\",1,0)","v":0},0,0]
[2,null,null,2,null,1,1,1,1,null,0,null,4,"冷凍機や冷却塔のポンプは流量制御しているか(インバータ導入されているか）",null,null,null,0,0,null,null,0,0,null,null,null,null,0,"",null,null,null,null,null,null,null,null,null,null,null,null,null,null,null,null,null,0,0,0]
[2,null,null,2,null,1,1,1,1,null,0,"●",5,"扉の開閉回数減・開時間の短縮、エアーカーテン設置等を実施しているか",null,null,null,0,0,null,null,0,0,null,null,null,null,0,"",null,null,null,null,"エアーカーテンの気流障害に配慮しているか",null,null,null,null,null,null,null,null,null,null,null,null,0,0,0]
[2,null,null,2,null,1,1,1,1,null,0,null,6,"庫内照明の発熱低減等（例：LED化）を実施しているか",null,null,null,0,0,null,null,0,0,null,null,null,null,0,"",null,null,null,null,"庫内照明間引き、オーバキャノピー照明の採用",null,null,null,null,null,null,null,null,null,null,null,null,0,0,0]
[2,null,null,2,null,1,1,1,1,null,0,"●",7,"壁面や天井・配管、扉の断熱処理で、断熱不良により氷結を起こしていないか",null,null,null,0,0,null,null,0,0,null,null,null,null,0,"",null,null,null,null,null,null,null,null,null,null,null,null,null,null,null,null,null,0,0,0]
[2,null,null,2,null,1,1,1,1,null,0,null,8,"効率の良い設備が導入されているか（例：製造工程用冷水装置）",null,null,null,0,0,null,null,0,0,null,null,null,null,0,"",null,null,null,null,null,null,null,null,null,null,null,null,null,null,null,null,null,0,0,0]
[2,null,null,2,null,1,null,null,null,null,0,null,9,"夜間にナイトカバーを閉じているか",null,null,null,0,{"$f":"IF(R77=0,0,IF(P77=\"○\",5,IF(P77=\"△\",3,IF(P77=\"×\",1,0))))*IF(L77=\"●\",1,0)","v":0},null,null,0,{"$f":"IF(V77=0,0,IF(P77=\"○\",5,IF(P77=\"△\",3,IF(P77=\"×\",1,0))))","v":0},null,null,null,null,0]
[2,null,null,2,null,1,1,1,1,null,0,"●",10,"リニューアル時：高効率機で設備容量を下げる検討をしているか",null,null,null,0,0,null,null,0,0,null,null,null,null,0,"",null,null,null,null,null,null,null,null,null,null,null,null,null,null,null,null,null,0,0,0]
[null,null,"事業所のその他個別追加対策(任意記載）",2,1,1,1,1,1,null,0,null,1,null,null,null,null,0,null,null,null,0,0,{"$f":"SUM(W79:W81)","v":0},{"$f":"COUNTIF(V79:V81,1)","v":0},{"$f":"IFERROR(X79/Y79,\"\")","v":""},null,0,"",{"$f":"SUM(AC79:AC81)","v":0},{"$f":"COUNTIF(AB79:AB81,1)","v":0},{"$f":"AD79/AE79","v":{"$error":"#DIV/0!"}}]
[null,null,null,2,1,1,1,1,1,null,0,null,2,null,null,null,null,0,null,null,null,0,0,null,null,null,null,0,""]
[null,null,null,2,1,1,1,1,1,null,0,null,3,null,null,null,null,0,null,null,null,0,0,null,null,null,null,0,""]
[3,"ポンプ、ファン、コンプレッサ","ポンプ・ファン",3,1,1,1,1,1,null,0,null,1,"弁の開閉状況を日々確認しているか(閉め忘れ防止）",null,null,null,0,0,{"$f":"IFERROR(SUM(S82:S89)/SUM(R82:R89),0)","v":0},{"$f":"IFERROR(SUM(S82:S108)/SUM(R82:R108),0)","v":0},0,0,{"$f":"SUM(W82:W89)","v":0},{"$f":"COUNTIF(V82:V89,1)","v":0},{"$f":"IFERROR(X82/Y82,0)","v":0},{"$f":"IFERROR(SUM(X82:X108)/SUM(Y82:Y108),0)","v":0},0,"",{"$f":"SUM(AC82:AC89)","v":0},{"$f":"COUNTIF(AB82:AB89,1)","v":0},{"$f":"AD82/AE82","v":{"$error":"#DIV/0!"}},{"$f":"SUM(AD82:AD108)/SUM(AE82:AE108)","v":{"$error":"#DIV/0!"}},"不要回路への配慮、バルブの作動状況確認",null,null,null,null,null,null,null,null,null,null,null,null,{"$f":"IF(Q82=\"〇\",1,0)","v":0},0,0]
[3,null,null,3,1,1,1,1,1,null,0,"●",2,"使用流量(風量・水量）・圧力は適正か",null,null,null,0,0,null,null,0,0,null,null,null,null,0,"",null,null,null,null,"流量の監視。想定以上の流量の把握。圧損が大きくないか？",null,null,null,null,null,null,null,null,null,null,null,null,{"$f":"IF(Q83=\"〇\",1,0)","v":0},0,0]
[3,null,null,3,1,1,1,1,1,null,0,"●",3,"配管、ダクトのルート、サイズは適正か",null,null,null,0,0,null,null,0,0,null,null,null,null,0,"",null,null,null,null,"流量から適正管内流速となっているか",null,null,null,null,null,null,null,null,null,null,null,null,{"$f":"IF(Q84=\"〇\",1,0)","v":0},0,0]
[3,null,null,3,1,1,1,1,1,null,0,null,4,"流量調整の回転数制御化（インバータ化）をしているか",null,null,null,0,0,null,null,0,0,null,null,null,null,0,"",null,null,null,null,null,null,null,null,null,null,null,null,null,null,null,null,null,{"$f":"IF(Q85=\"〇\",1,0)","v":0},0,0]
[3,null,null,3,1,1,1,1,1,null,0,null,5,"曝気槽のブロワ：間欠運転や休日・夜間の風量削減を実施しているか",null,null,null,0,0,null,null,0,0,null,null,null,null,0,"",null,null,null,null,"水質値からの管理ができているか",null,null,null,null,null,null,null,null,null,null,null,null,{"$f":"IF(Q86=\"〇\",1,0)","v":0},0,0]
[3,null,null,3,1,1,1,1,1,null,0,null,6,"負荷容量に応じて、台数制御を実施しているか",null,null,null,0,0,null,null,0,0,null,null,null,null,0,""]
[3,null,null,3,1,1,1,1,1,null,0,null,7,"高効率（PMモーターや低摩擦)ポンプ、ファンを使用しているか",null,null,null,0,0,null,null,0,0,null,null,null,null,0,""]
[3,null,null,3,1,1,1,1,1,null,0,"●",8,"機器清掃、フィルター、ストレーナーを定期的に点検しているか",null,null,null,0,0,null,null,0,0,null,null,null,null,0,"",null,null,null,null,"ラインフィルターまでの管理は？",null,null,null,null,null,null,null,null,null,null,null,null,{"$f":"IF(Q89=\"〇\",1,0)","v":0},0,0]
[3,null,"コンプレッサー本体、周辺の管理",3,null,1,1,1,1,null,0,"●",1,"給気口のフィルタ清掃を実施しているか",null,null,null,0,0,{"$f":"IFERROR(SUM(S90:S97)/SUM(R90:R97),0)","v":0},null,0,0,{"$f":"SUM(W90:W97)","v":0},{"$f":"COUNTIF(V90:V97,1)","v":0},{"$f":"IFERROR(X90/Y90,0)","v":0},null,0,"",{"$f":"SUM(AC90:AC97)","v":0},{"$f":"COUNTIF(AB90:AB97,1)","v":0},{"$f":"AD90/AE90","v":{"$error":"#DIV/0!"}},null,null,null,null,null,null,null,null,null,null,null,null,null,null,0,0,0]
[3,null,null,3,null,1,1,1,1,null,0,"●",2,"吐出圧力や使用端圧の適正化を実施しているか",null,null,null,0,{"$f":"IF(R91=0,0,IF(P91=\"○\",5,IF(P91=\"△\",3,IF(P91=\"×\",1,0))))*IF(L90=\"●\",1,0)","v":0},null,null,0,{"$f":"IF(V91=0,0,IF(P91=\"○\",5,IF(P91=\"△\",3,IF(P91=\"×\",1,0))))","v":0},null,null,null,null,0]
[3,null,null,3,null,1,1,1,1,null,0,"●",3,"負荷に対して、機種・容量は適切か",null,null,null,0,{"$f":"IF(R92=0,0,IF(P92=\"○\",5,IF(P92=\"△\",3,IF(P92=\"×\",1,0))))*IF(L91=\"●\",1,0)","v":0},null,null,0,0,null,null,null,null,0,"",null,null,null,null,"常時フル運転。もしくは待機時間が多くないか",null,null,null,null,null,null,null,null,null,null,null,null,0,0,0]
[3,null,null,3,null,1,1,1,1,null,0,"●",4,"定期的な保守、点検をおこなっているか",null,null,null,0,0,null,null,0,0,null,null,null,null,0,"",null,null,null,null,"メーカ指定に準じた保守がおこなわれているか",null,null,null,null,null,null,null,null,null,null,null,null,0,0,0]
[3,null,null,3,null,1,1,1,1,null,0,null,5,"コンプレッサの給気温度の低減対策（屋外排気等）をしているか",null,null,null,0,0,null,null,0,0,null,null,null,null,0,"",null,null,null,null,"給気温度は省エネに大きく影響。コンプレッサー室温度や排気の管理をおこなっているか",null,null,null,null,null,null,null,null,null,null,null,null,0,0,0]
[3,null,null,3,null,1,1,1,1,null,0,null,6,"稼働台数の適正化、台数制御を実施しているか",null,null,null,0,0,null,null,0,0,null,null,null,null,0,"",null,null,null,null,null,null,null,null,null,null,null,null,null,null,null,null,null,0,0,0]
[3,null,null,3,null,1,1,1,1,null,0,null,7,"高効率（インバータ搭載や高効率モータ）機器が使用されているか",null,null,null,0,0,null,null,0,0,null,null,null,null,0,"",null,null,null,null,null,null,null,null,null,null,null,null,null,null,null,null,null,0,0,0]
[3,null,null,3,null,1,1,1,1,null,0,"●",8,"負荷変動が大きい場合、エアレシーバ(タンク）を設置しているか",null,null,null,0,0,null,null,0,0,null,null,null,null,0,"",null,null,null,null,"レシーバタンクの容量、位置は適切か"]
[3,null,"エアー配管・付属機器・使用方法",3,null,1,1,1,1,null,0,"●",1,"配管太さや配管長が適正か、ループ化、バイパス化を実施しているか（管内流速が標準を超過していないか）",null,null,null,0,0,{"$f":"IFERROR(SUM(S98:S108)/SUM(R98:R108),0)","v":0},null,0,0,{"$f":"SUM(W98:W108)","v":0},{"$f":"COUNTIF(V98:V108,1)","v":0},{"$f":"IFERROR(X98/Y98,0)","v":0},null,0,"",{"$f":"SUM(AC98:AC108)","v":0},{"$f":"COUNTIF(AB98:AB108,1)","v":0},{"$f":"AD98/AE98","v":{"$error":"#DIV/0!"}},null,"流量から適正管内流速となっているか",null,null,null,null,null,null,null,null,null,null,null,null,{"$f":"IF(Q98=\"〇\",1,0)","v":0},0,0]
[3,null,null,3,null,1,1,1,1,null,0,null,2,"高圧/低圧ラインの区分けを実施しているか",null,null,null,0,0,null,null,0,0,null,null,null,null,0,"",null,null,null,null,null,null,null,null,null,null,null,null,null,null,null,null,null,{"$f":"IF(Q99=\"〇\",1,0)","v":0},0,0]
[3,null,null,3,null,1,1,1,1,null,0,"●",3,"エア漏れの点検・補修をおこなっているか",null,null,null,0,0,null,null,0,0,null,null,null,null,0,"",null,null,null,null,null,null,null,null,null,null,null,null,null,null,null,null,null,{"$f":"IF(Q100=\"〇\",1,0)","v":0},0,0]
[3,null,null,3,null,1,1,1,1,null,0,null,4,"冷却用やエアーブロー、曝気処理等はブロワ等に更新しているか",null,null,null,0,0,null,null,0,0,null,null,null,null,0,"",null,null,null,null,null,null,null,null,null,null,null,null,null,null,null,null,null,{"$f":"IF(Q101=\"〇\",1,0)","v":0},{"$f":"SUM(AP101:AU101)","v":0},{"$f":"AN101-+AU101","v":0}]
[3,null,null,3,null,1,1,1,1,null,0,"●",5,"エアブロー量の適正化(ノズル構造やブロー時間等）をしているか",null,null,null,0,0,null,null,0,0,null,null,null,null,0,"",null,null,null,null,"ノズル形状やブロー時間を管理しているか",null,null,null,null,null,null,null,null,null,null,null,null,{"$f":"IF(Q102=\"〇\",1,0)","v":0},0,0]
[3,null,null,3,null,1,1,1,1,null,0,null,6,"エアーブローの使用ノズルと供給側の有効断面積比が１:3以上をキープしているか",null,null,null,0,0,null,null,0,0,null,null,null,null,0,"",null,null,null,null,"有効断面積（コンダクタンス）比は１：３以下は効果ダウン"]
[3,null,null,3,null,1,1,1,1,null,0,null,7,"エアブローの(連続でなく）パルス化をしているか",null,null,null,0,0,null,null,0,0,null,null,null,null,0,"",null,null,null,null,"パルス機器の利用",null,null,null,null,null,null,null,null,null,null,null,null,{"$f":"IF(Q104=\"〇\",1,0)","v":0},0,0]
[3,null,null,3,null,1,1,1,1,null,0,"●",8,"無駄なエアーブローがないか見直ししているか",null,null,null,0,0,null,null,0,0,null,null,null,null,0,""]
[3,null,null,3,null,1,1,1,1,null,0,null,9,"ラインフィルターやバルブのボア径が適切なものを使用しているか",null,null,null,0,0,null,null,0,0,null,null,null,null,0,"",null,null,null,null,"フィルターやバルブの流量値や有効断面積が適切か"]
[3,null,null,3,null,1,1,1,1,null,0,null,10,"バルブやカプラの数が不必要に多くないか見直しているか",null,null,null,0,0,null,null,0,0,null,null,null,null,0,"",null,null,null,null,"バルブやカプラの数やボア径の把握をしているか"]
[3,null,null,3,null,1,1,1,1,null,0,null,11,"サイクロンフィルターをエアードライアーの代用で使用しているか",null,null,null,0,0,null,null,0,0,null,null,null,null,0,"",null,null,null,null,"サイクロンフィルターは電力使用が無い",null,null,null,null,null,null,null,null,null,null,null,null,{"$f":"IF(Q108=\"〇\",1,0)","v":0},0,0]
[null,null,"事業所のその他個別追加対策(任意記載）",3,1,1,1,1,1,null,0,null,1,null,null,null,null,0,null,null,null,0,0,{"$f":"SUM(W109:W111)","v":0},{"$f":"COUNTIF(V109:V111,1)","v":0},{"$f":"IFERROR(X109/Y109,\"\")","v":""},null,0,"",{"$f":"SUM(AC109:AC111)","v":0},{"$f":"COUNTIF(AB109:AB111,1)","v":0},{"$f":"AD109/AE109","v":{"$error":"#DIV/0!"}}]
[null,null,null,3,1,1,1,1,1,null,0,null,2,null,null,null,null,0,null,null,null,0,0,null,null,null,null,0,""]
[null,null,null,3,1,1,1,1,1,null,0,null,3,null,null,null,null,0,null,null,null,0,0,null,null,null,null,0,""]
[4,"ボイラ、工業炉等の熱設備","燃焼設備の管理",4,1,1,1,1,1,null,0,"●",1,"燃焼空気比は適正か",null,null,null,0,0,{"$f":"IFERROR(SUM(S112:S121)/SUM(R112:R121),0)","v":0},{"$f":"IFERROR(SUM(S112:S147)/SUM(R112:R147),0)","v":0},0,0,{"$f":"SUM(W112:W121)","v":0},{"$f":"COUNTIF(V112:V131,1)","v":0},{"$f":"IFERROR(X112/Y112,0)","v":0},{"$f":"IFERROR(SUM(X112:X147)/SUM(Y112:Y147),0)","v":0},0,"",{"$f":"SUM(AC112:AC121)","v":0},{"$f":"COUNTIF(AB112:AB131,1)","v":0},{"$f":"AD112/AE112","v":{"$error":"#DIV/0!"}},{"$f":"SUM(AD112:AD147)/SUM(AE112:AE147)","v":{"$error":"#DIV/0!"}},"省エネ法：省エネ管理基準に対して適切か",null,null,null,null,null,null,null,null,null,null,null,null,{"$f":"IF(Q112=\"〇\",1,0)","v":0},0,0]
[4,null,null,4,1,1,1,1,1,null,0,"●",2,"排ガス温度の管理をしているか",null,null,null,0,0,null,null,0,0,null,null,null,null,0,"",null,null,null,null,null,null,null,null,null,null,null,null,null,null,null,null,null,0,0,0]
[4,null,null,4,1,1,1,1,1,null,0,null,3,"負荷容量が変化している場合、バーナの容量は適正か",null,null,null,0,0,null,null,0,0,null,null,null,null,0,"",null,null,null,null,null,null,null,null,null,null,null,null,null,null,null,null,null,0,0,0]
[4,null,null,4,1,1,1,1,1,null,0,null,4,"炉体・炉内キャリアの熱容量低減をしているか",null,null,null,0,0,null,null,0,0,null,null,null,null,0,"",null,null,null,null,"被加熱体の熱容量を管理しているか",null,null,null,null,null,null,null,null,null,null,null,null,0,0,0]
[4,null,null,4,1,1,1,1,1,null,0,"●",5,"バーナの保守・点検(清掃、摩耗時の交換）をしているか",null,null,"○",0,0,null,null,0,0,null,null,null,null,0,"",null,null,null,null,null,null,null,null,null,null,null,null,null,null,null,null,null,0,0,0]
[4,null,null,4,1,1,1,1,1,null,0,"●",6,"燃焼制御装置の動作は安定しているか",null,null,"○",0,0,null,null,0,0,null,null,null,null,0,"",null,null,null,null,null,null,null,null,null,null,null,null,null,null,null,null,null,0,0,0]
[4,null,null,4,1,1,1,1,1,null,0,"●",7,"通風系統：通風量は十分確保されているか",null,null,null,0,0,null,null,0,0,null,null,null,null,0,"",null,null,null,null,null,null,null,null,null,null,null,null,null,null,null,null,null,0,0,0]
[4,null,null,4,1,1,1,1,1,null,0,"●",8,"燃焼設備の定期的な保守点検をおこなっているか",null,null,null,0,{"$f":"IF(R119=0,0,IF(P119=\"○\",5,IF(P119=\"△\",3,IF(P119=\"×\",1,0))))*IF(L119=\"●\",1,0)","v":0},null,null,0,{"$f":"IF(V119=0,0,IF(P119=\"○\",5,IF(P119=\"△\",3,IF(P119=\"×\",1,0))))","v":0},null,null,null,null,0]
[4,null,null,4,1,1,1,1,1,null,0,"●",9,"給水、給気の予熱装置が設置されているか",null,null,null,0,{"$f":"IF(R120=0,0,IF(P120=\"○\",5,IF(P120=\"△\",3,IF(P120=\"×\",1,0))))*IF(L120=\"●\",1,0)","v":0},null,null,0,{"$f":"IF(V120=0,0,IF(P120=\"○\",5,IF(P120=\"△\",3,IF(P120=\"×\",1,0))))","v":0},null,null,null,null,0,null,null,null,null,null,"拝熱回収による予熱"]
[4,null,null,4,1,1,1,1,1,null,0,null,10,"ボイラ等の高効率（潜熱回収など）機が設置されているか",null,null,null,0,0,null,null,0,0,null,null,null,null,0,""]
[4,null,"炉・ダクト、熱設備等の保温・放熱防止",4,null,null,1,1,null,null,0,"●",1,"炉壁外面：排気ダクトの温度が高い場合、断熱・保温対策を実施したか",null,null,null,0,0,{"$f":"IFERROR(SUM(S122:S126)/SUM(R122:R126),0)","v":0},null,0,0,{"$f":"SUM(W122:W126)","v":0},{"$f":"COUNTIF(V122:V126,1)","v":0},{"$f":"IFERROR(X122/Y122,0)","v":0},null,0,"",{"$f":"SUM(AC122:AC126)","v":0},{"$f":"COUNTIF(AB122:AB126,1)","v":0},{"$f":"AD122/AE122","v":{"$error":"#DIV/0!"}},null,"外面、排熱温度の管理基準設定は？",null,null,null,null,null,null,null,null,null,null,null,null,{"$f":"IF(Q122=\"〇\",1,0)","v":0},0,0]
[4,null,null,4,null,null,1,1,null,null,0,"●",2,"高熱設備：断熱・保温対策が実施しているか",null,null,null,0,0,null,null,0,0,null,null,null,null,0,"",null,null,null,null,"加熱設備本体の放熱温度管理ができているか",null,null,null,null,null,null,null,null,null,null,null,null,0,0,0]
[4,null,null,4,null,null,1,1,null,null,0,"●",3,"炉壁の断熱材は適正か",null,null,null,0,0,null,null,0,0,null,null,null,null,0,"",null,null,null,null,"設備の外面の温度から断熱性が有効か把握しているか",null,null,null,null,null,null,null,null,null,null,null,null,0,0,0]
[4,null,null,4,null,null,1,1,null,null,0,"●",4,"炉の開口部の縮小やシール処理は十分か",null,null,null,0,0,null,null,0,0,null,null,null,null,0,"",null,null,null,null,"サーモグラフィ等で温度把握しているか",null,null,null,null,null,null,null,null,null,null,null,null,0,0,0]
[4,null,null,4,null,null,1,1,null,null,0,null,5,"炉内圧制御は適正か（排ガス噴出や外気侵入の防止）",null,null,null,0,0,null,null,0,0,null,null,null,null,0,"",null,null,null,null,null,null,null,null,null,null,null,null,null,null,null,null,null,0,0,0]
[4,null,"ボイラ運転・効率管理",4,1,1,1,1,1,null,0,"●",1,"蒸気圧力の設定値低減を検討したか",null,null,null,0,0,{"$f":"IFERROR(SUM(S127:S131)/SUM(R127:R131),0)","v":0},null,0,0,{"$f":"SUM(W127:W131)","v":0},{"$f":"COUNTIF(V127:V131,1)","v":0},{"$f":"IFERROR(X127/Y127,0)","v":0},null,0,"",{"$f":"SUM(AC127:AC131)","v":0},{"$f":"COUNTIF(AB127:AB131,1)","v":0},{"$f":"AD127/AE127","v":{"$error":"#DIV/0!"}},null,null,null,null,null,null,null,null,null,null,null,null,null,null,0,0,0]
[4,null,null,4,1,1,1,1,1,null,{"$f":"IF(E128*AN$2+F128*AO128+G128*AP$2+H128*AQ$2+I128*AR$2+J128*AS$2>0,1,0)","v":0},null,2,"蒸気負荷の平準化を行っているか（負荷の急激な変動防止）",null,null,null,0,0,null,null,0,0,null,null,null,null,{"$f":"K128*IF(Q128=\"－\",0,1)","v":0},"",null,null,null,null,"ボイラーの負荷率は適正か、低負荷運転は効率ダウン",null,null,null,null,null,null,null,null,null,null,null,null,0,0,0]
[4,null,null,4,1,1,1,1,1,null,0,"●",3,"効率的な運転管理(台数制御等）をしているか",null,null,null,0,0,null,null,0,0,null,null,null,null,0,"",null,null,null,null,"低負荷運転の防止",null,null,null,null,null,null,null,null,null,null,null,null,0,0,0]
[4,null,null,4,1,1,1,1,1,null,0,null,4,"負荷変動が大きい場合、アキュムレータを導入しているか",null,null,null,0,0,null,null,0,0,null,null,null,null,0,"",null,null,null,null,"運転時の瞬間負荷率をは把握しているか",null,null,null,null,null,null,null,null,null,null,null,null,0,0,0]
[4,null,null,4,1,1,1,1,1,null,0,"●",5,"燃焼設備の容量は適正か（負荷率、起動/停止状況）",null,null,null,{"$f":"IF(P131=\"\",0,COUNTA(P131)*COUNTIF(L131,\"●\"))","v":0},0,null,null,{"$f":"IF(P131=\"\",0,1)","v":0},0,null,null,null,null,0,"",null,null,null,null,"需要平均熱と供給設備容量との比率を把握しているか",null,null,null,null,null,null,null,null,null,null,null,null,0,0,0]
[4,null,"蒸気系統の管理",4,1,1,1,1,1,null,0,"●",1,"蒸気圧力・流量、ブロー量等を定期的に計測・記録しているか",null,null,null,0,0,{"$f":"IFERROR(SUM(S132:S139)/SUM(R132:R139),0)","v":0},null,0,0,{"$f":"SUM(W132:W139)","v":0},{"$f":"COUNTIF(V132:V139,1)","v":0},{"$f":"IFERROR(X132/Y132,0)","v":0},null,0,"",{"$f":"SUM(AC132:AC139)","v":0},{"$f":"COUNTIF(AB132:AB139,1)","v":0},{"$f":"AD132/AE132","v":{"$error":"#DIV/0!"}},null,"計測記録から使用状況の適正さを管理しているか",null,null,null,null,null,null,null,null,null,null,null,null,0,0,0]
[4,null,null,4,1,1,1,1,1,null,0,"●",2,"水質を管理し、適正なブローを実施(過剰水量防止）をしているか",null,null,null,0,0,null,null,0,0,null,null,null,null,0,"",null,null,null,null,null,null,null,null,null,null,null,null,null,null,null,null,null,0,0,0]
[4,null,null,4,1,1,1,1,1,null,0,"●",3,"配管系および負荷設備：蒸気漏れの点検をしているか",null,null,null,0,0,null,null,0,0,null,null,null,null,0,"",null,null,null,null,null,null,null,null,null,null,null,null,null,null,null,null,null,0,0,0]
[4,null,null,4,1,1,1,1,1,null,0,"●",4,"配管系およびバルブの保温対策がされているか、保温材の補修がされているか",null,null,null,0,0,null,null,0,0,null,null,null,null,0]
[4,null,null,4,1,1,1,1,1,null,0,null,5,"複数の蒸気系統：統合化を検討したか",null,null,null,0,0,null,null,0,0,null,null,null,null,0,"",null,null,null,null,"ボイラー配置の適正を検討しているか",null,null,null,null,null,null,null,null,null,null,null,null,0,0,0]
[4,null,null,4,1,1,1,1,1,null,0,"●",6,"スチームトラップの点検・交換を定期的に実施しているか",null,null,null,0,0,null,null,0,0,null,null,null,null,0,"",null,null,null,null,null,null,null,null,null,null,null,null,null,null,null,null,null,0,0,0]
[4,null,null,4,1,1,1,1,1,null,0,"●",7,"蒸気配管:経路・配管サイズは適正か。不要配管はないか",null,null,null,0,{"$f":"IF(R138=0,0,IF(P138=\"○\",5,IF(P138=\"△\",3,IF(P138=\"×\",1,0))))*IF(L138=\"●\",1,0)","v":0},null,null,0,{"$f":"IF(V138=0,0,IF(P138=\"○\",5,IF(P138=\"△\",3,IF(P138=\"×\",1,0))))","v":0},null,null,null,null,0,{"$f":"IF(K138=0,\"\",IF(Q138=\"○\",5,IF(Q138=\"△\",3,IF(Q138=\"×\",1,0))))","v":""},null,null,null,null,"流量、流速管理。無駄な放熱"]
[4,null,null,4,1,1,1,1,1,null,0,null,8,"余剰蒸気・熱の利用をおこなっているか",null,null,null,0,0,null,null,0,0,null,null,null,null,0,{"$f":"IF(K139=0,\"\",IF(Q139=\"○\",5,IF(Q139=\"△\",3,IF(Q139=\"×\",1,0))))","v":""},null,null,null,null,"フラッシュ蒸気、ドレイン廃熱回収以外での利用"]
[4,null,"排熱回収、排水削減",4,1,1,1,1,1,null,0,"●",1,"燃焼排ガスの排熱回収をしているか（省エネ法の基準廃熱回収率）",null,null,null,0,0,{"$f":"IFERROR(SUM(S140:S145)/SUM(R140:R145),0)","v":0},null,0,0,{"$f":"SUM(W140:W145)","v":0},{"$f":"COUNTIF(V140:V145,1)","v":0},{"$f":"IFERROR(X140/Y140,0)","v":0},null,0,{"$f":"IF(K140=0,\"\",IF(Q140=\"○\",5,IF(Q140=\"△\",3,IF(Q140=\"×\",1,0))))","v":""},{"$f":"SUM(AC140:AC145)","v":0},{"$f":"COUNTIF(AB140:AB145,1)","v":0},{"$f":"AD140/AE140","v":{"$error":"#DIV/0!"}},null,"（参照：経産省告示66号及び269号）",null,null,null,null,null,null,null,null,null,null,null,null,{"$f":"IF(Q140=\"〇\",1,0)","v":0},0,0]
[4,null,null,4,1,1,1,1,1,null,0,null,2,"廃温水の熱回収をしているか",null,null,null,0,0,null,null,0,0,null,null,null,null,0,{"$f":"IF(K141=0,\"\",IF(Q141=\"○\",5,IF(Q141=\"△\",3,IF(Q141=\"×\",1,0))))","v":""},null,null,null,null,null,null,null,null,null,null,null,null,null,null,null,null,null,0,0,0]
[4,null,null,4,1,1,1,1,1,null,0,"●",3,"蒸気ドレンの回収を行っているか",null,null,null,0,0,null,null,0,{"$f":"IF(V142=0,0,IF(P142=\"○\",5,IF(P142=\"△\",3,IF(P142=\"×\",1,0))))","v":0},null,null,null,null,0]
[4,null,null,4,1,1,1,1,1,null,0,null,4,"フラッシュ蒸気を利用しているか",null,null,null,0,0,null,null,0,{"$f":"IF(V143=0,0,IF(P143=\"○\",5,IF(P143=\"△\",3,IF(P143=\"×\",1,0))))","v":0},null,null,null,null,0]
[4,null,null,4,1,1,1,1,1,null,0,null,5,"ヒートポンプ等による低温廃熱(温水、排気）の利用をしているか",null,null,null,0,0,null,null,0,{"$f":"IF(V144=0,0,IF(P144=\"○\",5,IF(P144=\"△\",3,IF(P144=\"×\",1,0))))","v":0},null,null,null,null,0]
[4,null,null,4,1,1,1,1,1,null,0,null,6,"冷却水の循環利用をしているか",null,null,null,0,0,null,null,0,0,null,null,null,null,0,{"$f":"IF(K145=0,\"\",IF(Q145=\"○\",5,IF(Q145=\"△\",3,IF(Q145=\"×\",1,0))))","v":""},null,null,null,null,null,null,null,null,null,null,null,null,null,null,null,null,null,0,0,0]
[4,null,"熱交換器の管理",4,1,1,1,1,1,null,0,"●",1,"温度効率は悪化していないか",null,null,null,0,0,{"$f":"IFERROR(SUM(S146:S147)/SUM(R146:R147),0)","v":0},null,0,0,{"$f":"SUM(W146:W147)","v":0},{"$f":"COUNTIF(V146:V147,1)","v":0},{"$f":"IFERROR(X146/Y146,0)","v":0},null,0,"",{"$f":"SUM(AC146:AC147)","v":0},{"$f":"COUNTIF(AB146:AB147,1)","v":0},{"$f":"AD146/AE146","v":{"$error":"#DIV/0!"}},null,null,null,null,null,null,null,null,null,null,null,null,null,null,0,0,0]
[4,null,null,4,1,1,1,1,1,null,0,"●",2,"定期的に保守点検・清掃(汚れ除去等）をしているか",null,null,null,0,0,null,null,0,0,null,null,null,null,0,"",null,null,null,null,null,null,null,null,null,null,null,null,null,null,null,null,null,0,0,0]
[null,null,"事業所のその他個別追加対策(任意記載）",4,1,1,1,1,1,null,0,null,1,null,null,null,null,0,null,null,null,0,0,{"$f":"SUM(W148:W150)","v":0},{"$f":"COUNTIF(V148:V150,1)","v":0},{"$f":"IFERROR(X148/Y148,\"\")","v":""},null,0,"",{"$f":"SUM(AC148:AC150)","v":0},{"$f":"COUNTIF(AB148:AB150,1)","v":0},{"$f":"AD148/AE148","v":{"$error":"#DIV/0!"}}]
[null,null,null,4,1,1,1,1,1,null,0,null,2,null,null,null,null,0,null,null,null,0,0,null,null,null,null,0,""]
[null,null,null,4,1,1,1,1,1,null,0,null,3,null,null,null,null,0,null,null,null,0,0,null,null,null,null,0,""]
[5,"生産・業務用設備","生産設備",5,null,null,1,null,null,null,0,"●",1,"ラインや設備別に設備総合効率（負荷稼働率、性能稼働率、良品率）を把握しているか",null,null,null,0,{"$f":"IF(R151=0,0,IF(P151=\"○\",5,IF(P151=\"△\",3,IF(P151=\"×\",1,0))))*IF(L151=\"●\",1,0)","v":0},{"$f":"IFERROR(SUM(S151:S160)/SUM(R151:R160),0)","v":0},{"$f":"IFERROR(SUM(S151:S162)/SUM(R151:R162),0)","v":0},0,{"$f":"IF(V151=0,0,IF(P151=\"○\",5,IF(P151=\"△\",3,IF(P151=\"×\",1,0))))","v":0},{"$f":"SUM(W151:W160)","v":0},{"$f":"COUNTIF(V151:V160,1)","v":0},{"$f":"IFERROR(X151/Y151,0)","v":0},{"$f":"IFERROR(SUM(X151:X162)/SUM(Y151:Y162),0)","v":0},0,{"$f":"IF(K151=0,\"\",IF(Q151=\"○\",5,IF(Q151=\"△\",3,IF(Q151=\"×\",1,0))))","v":""},{"$f":"SUM(AC151:AC160)","v":0},{"$f":"COUNTIF(AB151:AB160,1)","v":0},{"$f":"AD151/AE151","v":{"$error":"#DIV/0!"}},{"$f":"SUM(AD151:AD162)/SUM(AE151:AE162)","v":{"$error":"#DIV/0!"}},"TPMや原価削減での活動指標として管理しているか",null,null,null,null,null,null,null,null,null,null,null,null,{"$f":"IF(Q151=\"〇\",1,0)","v":0},{"$f":"SUM(AP151:AU151)","v":0},{"$f":"AN151-+AU151","v":0}]
[5,null,null,5,null,null,1,null,null,null,0,"●",2,"チョコ停や待ち時間などの効率阻害時間（労損時間）が把握できているか？",null,null,null,0,0,null,null,0,0,null,null,null,null,0,"",null,null,null,null,"TPMや原価削減での活動指標として管理しているか"]
[5,null,null,5,null,null,1,null,null,null,0,"●",3,"設備総合効率（負荷稼働率、性能稼働率、良品率）向上や、効率改善する現場活動をおこなっているか",null,null,null,0,0,null,null,0,0,null,null,null,null,0,"",null,null,null,null,"TPMや原価削減での活動指標として管理しているか",null,null,null,null,null,null,null,null,null,null,null,null,{"$f":"IF(Q153=\"〇\",1,0)","v":0},{"$f":"SUM(AP153:AU153)","v":0},{"$f":"AN153-+AU153","v":0}]
[5,null,null,5,null,null,1,null,null,null,0,"●",4,"ライン停止や非操業時に、設備電源をOFFしているか",null,null,null,0,0,null,null,0,0,null,null,null,null,0,""]
[5,null,null,5,null,null,1,null,null,null,0,"●",5,"製品に対する加熱や冷却は過剰でないか",null,null,null,0,0,null,null,0,0,null,null,null,null,0,""]
[5,null,null,5,null,null,1,null,null,null,0,"●",6,"設備の予熱や冷却時間が過剰となっていないか",null,null,null,0,0,null,null,0,0,null,null,null,null,0,""]
[5,null,null,5,null,null,1,null,null,null,0,null,7,"油圧の待機時はリリーフ弁方式でなくインバータ制御となっているか",null,null,null,0,0,null,null,0,0,null,null,null,null,0,"",null,null,null,null,"油圧ポンプはリリーフ時はエネルギーが無駄"]
[5,null,null,5,null,null,1,null,null,null,0,null,8,"熱利用機器の放熱・断熱処置がとられているか",null,null,null,0,0,null,null,0,0,null,null,null,null,0,""]
[5,null,null,5,null,null,1,null,null,null,0,null,9,"機器の保守点検が定期的もしくは適切に行われているか",null,null,null,0,0,null,null,0,0,null,null,null,null,0,""]
[5,null,null,5,null,null,1,null,null,null,0,null,10,"主モーターが高効率（サーボ化、PMモータ、トップランナーなど）になっているか",null,null,null,0,0,null,null,0,0,null,null,null,null,0,"",null,null,null,null,null,null,null,null,null,null,null,null,null,null,null,null,null,{"$f":"IF(Q160=\"〇\",1,0)","v":0},{"$f":"SUM(AP160:AU160)","v":0},{"$f":"AN160-+AU160","v":0}]
[5,null,"負荷平準化",5,1,null,1,1,1,null,0,null,1,"運用形態見直し(操業時間、稼働率、負荷率等)を実施したか",null,null,null,0,0,{"$f":"IFERROR(SUM(S161:S162)/SUM(R161:R162),0)","v":0},null,0,0,{"$f":"SUM(W161:W162)","v":0},{"$f":"COUNTIF(V161:V162,1)","v":0},{"$f":"IFERROR(X161/Y161,0)","v":0},null,0,"",{"$f":"SUM(AC161:AC162)","v":0},{"$f":"COUNTIF(AB161:AB162,1)","v":0},{"$f":"AD161/AE161","v":{"$error":"#DIV/0!"}},null,null,null,null,null,null,null,null,null,null,null,null,null,null,{"$f":"IF(Q161=\"〇\",1,0)","v":0},{"$f":"SUM(AP161:AU161)","v":0},{"$f":"AN161-+AU161","v":0}]
[5,null,null,5,1,null,1,1,1,null,0,null,2,"負荷平準化設備（蓄熱装置、吸収式冷温水機、GHP等)が導入されているか",null,null,null,0,0,null,null,0,0,null,null,null,null,0,"",null,null,null,null,"最大電力の低減に有効",null,null,null,null,null,null,null,null,null,null,null,null,{"$f":"IF(Q162=\"〇\",1,0)","v":0},{"$f":"SUM(AP162:AU162)","v":0},{"$f":"AN162-+AU162","v":0}]
[null,null,"事業所のその他個別追加対策(任意記載）",5,1,null,1,1,1,null,0,null,1,null,null,null,null,0,null,null,null,0,0,{"$f":"SUM(W163:W165)","v":0},{"$f":"COUNTIF(V163:V165,1)","v":0},{"$f":"IFERROR(X163/Y163,\"\")","v":""},null,0,"",{"$f":"SUM(AC163:AC165)","v":0},{"$f":"COUNTIF(AB163:AB165,1)","v":0},{"$f":"AD163/AE163","v":{"$error":"#DIV/0!"}}]
[null,null,null,5,1,null,1,1,1,null,0,null,2,null,null,null,null,0,null,null,null,0,0,null,null,null,null,0,""]
[null,null,null,5,1,null,1,1,1,null,0,null,3,null,null,null,null,0,null,null,null,0,0,null,null,null,null,0,"",null,null,null,null,null,null,null,null,null,null,null,null,null,null,null,null,null,{"$f":"IF(Q165=\"〇\",1,0)","v":0},{"$f":"SUM(AP165:AU165)","v":0},{"$f":"AN165-+AU165","v":0}]
[6,"電動機・電気加熱設備","電動機の管理",6,null,null,1,1,null,null,0,"●",1,"無負荷運転(空転）を防止しているか",null,null,null,0,{"$f":"IF(R166=0,0,IF(P166=\"○\",5,IF(P166=\"△\",3,IF(P166=\"×\",1,0))))*IF(L166=\"●\",1,0)","v":0},{"$f":"IFERROR(SUM(S166:S172)/SUM(R166:R172),0)","v":0},{"$f":"IFERROR(SUM(S166:S181)/SUM(R166:R181),0)","v":0},0,{"$f":"IF(V166=0,0,IF(P166=\"○\",5,IF(P166=\"△\",3,IF(P166=\"×\",1,0))))","v":0},{"$f":"SUM(W166:W172)","v":0},{"$f":"COUNTIF(V166:V172,1)","v":0},{"$f":"IFERROR(X166/Y166,0)","v":0},{"$f":"IFERROR(SUM(X166:X181)/SUM(Y166:Y181),0)","v":0},0,{"$f":"IF(K166=0,\"\",IF(Q166=\"○\",5,IF(Q166=\"△\",3,IF(Q166=\"×\",1,0))))","v":""},{"$f":"SUM(AC166:AC172)","v":0},{"$f":"COUNTIF(AB166:AB172,1)","v":0},{"$f":"AD166/AE166","v":{"$error":"#DIV/0!"}},{"$f":"SUM(AD166:AD181)/SUM(AE166:AE181)","v":{"$error":"#DIV/0!"}},null,null,null,null,null,null,null,null,null,null,null,null,null,{"$f":"IF(Q166=\"〇\",1,0)","v":0},{"$f":"SUM(AP166:AU166)","v":0},{"$f":"AN166-+AU166","v":0}]
[6,null,null,6,null,null,1,1,null,null,0,"●",2,"電動機の定格値（容量ｋW・電圧・回転数）は適正か",null,null,null,0,0,null,null,0,0,null,null,null,null,0,"",null,null,null,null,null,null,null,null,null,null,null,null,null,null,null,null,null,{"$f":"IF(Q167=\"〇\",1,0)","v":0},{"$f":"SUM(AP167:AU167)","v":0},{"$f":"AN167-+AU167","v":0}]
[6,null,null,6,null,null,1,1,null,null,0,"●",3,"電動機の供給電圧は適正か（電圧降下していないか）",null,null,null,0,0,null,null,0,0,null,null,null,null,0,"",null,null,null,null,null,null,null,null,null,null,null,null,null,null,null,null,null,{"$f":"IF(Q168=\"〇\",1,0)","v":0},{"$f":"SUM(AP168:AU168)","v":0},{"$f":"AN168-+AU168","v":0}]
[6,null,null,6,null,null,1,1,null,null,0,null,4,"負荷に応じた運転か（回転数制御、台数制御）",null,null,null,0,0,null,null,0,0,null,null,null,null,0,"",null,null,null,null,null,null,null,null,null,null,null,null,null,null,null,null,null,{"$f":"IF(Q169=\"〇\",1,0)","v":0},{"$f":"SUM(AP169:AU169)","v":0},{"$f":"AN169-+AU169","v":0}]
[6,null,null,6,null,null,1,1,null,null,0,null,5,"電動機の停止時には無用な空冷ファンを停止しているか",null,null,null,0,0,null,null,0,0,null,null,null,null,0,""]
[6,null,null,6,null,null,1,1,null,null,0,null,6,"省エネ性の高い伝動機器（ベルト等）を使用しているか",null,null,null,0,0,null,null,0,0,null,null,null,null,0,""]
[6,null,null,6,null,null,1,1,null,null,0,null,7,"高効率モーター（PM、アモルファス等）に更新しているか",null,null,null,0,0,null,null,0,0,null,null,null,null,0,"",null,null,null,null,"５生産設備10項とおなじ内容",null,null,null,null,null,null,null,null,null,null,null,null,{"$f":"IF(Q172=\"〇\",1,0)","v":0},{"$f":"SUM(AP172:AU172)","v":0},{"$f":"AN172-+AU172","v":0}]
[6,null,"電気加熱設備の管理",6,null,null,1,1,null,null,0,"●",1,"加熱時間・温度は適正か(製品持ち帰り熱量の極小化）",null,null,null,0,0,{"$f":"IFERROR(SUM(S173:S181)/SUM(R173:R181),0)","v":0},null,0,0,{"$f":"SUM(W173:W181)","v":0},{"$f":"COUNTIF(V173:V181,1)","v":0},{"$f":"IFERROR(X173/Y173,0)","v":0},null,0,"",{"$f":"SUM(AC173:AC181)","v":0},{"$f":"COUNTIF(AB173:AB181,1)","v":0},{"$f":"AD173/AE173","v":{"$error":"#DIV/0!"}},null,null,null,null,null,null,null,null,null,null,null,null,null,null,0,0,0]
[6,null,null,6,null,null,1,1,null,null,0,"●",2,"断続運転の集中化を検討しているか",null,null,null,0,0,null,null,0,0,null,null,null,null,0,"",null,null,null,null,null,null,null,null,null,null,null,null,null,null,null,null,null,0,0,0]
[6,null,null,6,null,null,1,1,null,null,0,null,3,"供給電圧が低い場合、配線サイズ見直し等により電圧適正化をしているか",null,null,null,0,0,null,null,0,0,null,null,null,null,0,"",null,null,null,null,null,null,null,null,null,null,null,null,null,null,null,null,null,0,0,0]
[6,null,null,6,null,null,1,1,null,null,0,null,4,"力率は適正か",null,null,null,0,0,null,null,0,0,null,null,null,null,0,"",null,null,null,null,null,null,null,null,null,null,null,null,null,null,null,null,null,0,0,0]
[6,null,null,6,null,null,1,1,null,null,0,null,5,"負荷率向上（蓄熱損失低減、冷却損失低減等)を実施しているか",null,null,null,0,0,null,null,0,0,null,null,null,null,0,"",null,null,null,null,"熱を必要としている対象ワーク以外の無駄な熱の見直し",null,null,null,null,null,null,null,null,null,null,null,null,0,0,0]
[6,null,null,6,null,null,1,1,null,null,0,"●",6,"炉壁の断熱・保温の漏れがないか",null,null,null,0,0,null,null,0,0,null,null,null,null,0,"",null,null,null,null,null,null,null,null,null,null,null,null,null,null,null,null,null,0,0,0]
[6,null,null,6,null,null,1,1,null,null,0,null,7,"蓋や開口部の縮小、炉内ガスのリーク低減対策を実施しているか",null,null,null,0,0,null,null,0,0,null,null,null,null,0,"",null,null,null,null,null,null,null,null,null,null,null,null,null,null,null,null,null,0,0,0]
[6,null,null,6,null,null,1,1,null,null,0,"●",8,"材料予熱や製品出入時の出入口開閉時間短縮をしているか",null,null,null,0,0,null,null,0,0,null,null,null,null,0,"",null,null,null,null,null,null,null,null,null,null,null,null,null,null,null,null,null,0,0,0]
[6,null,null,6,null,null,1,1,null,null,0,null,9,"排熱の再利用(材料予熱等）をしているか",null,null,null,0,0,null,null,0,0,null,null,null,null,0,"",null,null,null,null,null,null,null,null,null,null,null,null,null,null,null,null,null,0,0,0]
[null,null,"事業所のその他個別追加対策(任意記載）",6,1,1,1,1,1,null,0,null,1,null,null,null,null,0,null,null,null,0,0,{"$f":"SUM(W182:W184)","v":0},{"$f":"COUNTIF(V182:V184,1)","v":0},{"$f":"IFERROR(X182/Y182,\"\")","v":""},null,0,"",{"$f":"SUM(AC182:AC184)","v":0},{"$f":"COUNTIF(AB182:AB184,1)","v":0},{"$f":"AD182/AE182","v":{"$error":"#DIV/0!"}}]
[null,null,null,6,1,1,1,1,1,null,0,null,2,null,null,null,null,0,null,null,null,0,0,null,null,null,null,0,""]
[null,null,null,6,1,1,1,1,1,null,0,null,3,null,null,null,null,0,null,null,null,0,0,null,null,null,null,0,""]
[7,"照明設備","照明の管理",7,1,1,1,1,1,null,0,null,1,"適正照度の測定、管理をしているか　",null,null,null,0,{"$f":"IF(R185=0,0,IF(P185=\"○\",5,IF(P185=\"△\",3,IF(P185=\"×\",1,0))))*IF(L185=\"●\",1,0)","v":0},{"$f":"IFERROR(SUM(S185:S199)/SUM(R185:R199),0)","v":0},{"$f":"IFERROR(SUM(S185:S199)/SUM(R185:R199),0)","v":0},0,0,{"$f":"SUM(W185:W199)","v":0},{"$f":"COUNTIF(V185:V199,1)","v":0},{"$f":"IFERROR(X185/Y185,0)","v":0},{"$f":"IFERROR(SUM(X185:X199)/SUM(Y185:Y199),0)","v":0},0,{"$f":"IF(K185=0,\"\",IF(Q185=\"○\",5,IF(Q185=\"△\",3,IF(Q185=\"×\",1,0))))","v":""},{"$f":"SUM(AC185:AC199)","v":0},{"$f":"COUNTIF(AB185:AB199,1)","v":0},{"$f":"AD185/AE185","v":{"$error":"#DIV/0!"}},{"$f":"SUM(AD60:AD185)/SUM(AE185:AE199)","v":{"$error":"#DIV/0!"}},"照明基準（JIS　Z9110-11）に準じているか",null,null,null,null,null,null,null,null,null,null,null,null,{"$f":"IF(Q185=\"〇\",1,0)","v":0},0,0]
[7,null,null,7,1,1,1,1,1,null,0,"●",2,"照明の間引き、窓際照明の消灯(昼光利用）を実施しているか",null,null,null,0,0,null,null,0,0,null,null,null,null,0,"",null,null,null,null,null,null,null,null,null,null,null,null,null,null,null,null,null,0,0,0]
[7,null,null,7,1,1,1,1,1,null,0,"●",3,"空室や昼休み時間等、不要時は消灯しているか",null,null,null,0,0,null,null,0,0,null,null,null,null,0,"",null,null,null,null,null,null,null,null,null,null,null,null,null,null,null,null,null,0,0,0]
[7,null,null,7,1,1,1,1,1,null,0,"●",4,"照明器具の清掃をしているか",null,null,null,0,0,null,null,0,0,null,null,null,null,0,"",null,null,null,null,null,null,null,null,null,null,null,null,null,null,null,null,null,0,0,0]
[7,null,null,7,1,1,1,1,1,null,0,"●",5,"外灯：季節に合わせた点灯時間にしているか",null,null,null,0,0,null,null,0,0,null,null,null,null,0,"",null,null,null,null,null,null,null,null,null,null,null,null,null,null,null,null,null,0,0,0]
[7,null,null,7,1,1,1,1,1,null,0,null,6,"外灯：照度は適正か。（照度基準に対し適切か）",null,null,null,0,0,null,null,0,0,null,null,null,null,0,"",null,null,null,null,null,null,null,null,null,null,null,null,null,null,null,null,null,0,0,0]
[7,null,null,7,1,1,1,1,1,null,{"$f":"IF(E191*AN$2+F191*AO191+G191*AP$2+H191*AQ$2+I191*AR$2+J191*AS$2>0,1,0)","v":0},"●",7,"外灯：灯具の清掃をしているか",null,null,null,0,0,null,null,0,0,null,null,null,null,{"$f":"K191*IF(Q191=\"－\",0,1)","v":0},"",null,null,null,null,null,null,null,null,null,null,null,null,null,null,null,null,null,0,0,0]
[7,null,null,7,1,1,1,1,1,null,0,"●",8,"古いランプや蛍光灯の交換をしているか",null,null,null,0,0,null,null,0,0,null,null,null,null,0,"",null,null,null,null,null,null,null,null,null,null,null,null,null,null,null,null,null,0,0,0]
[7,null,null,7,1,1,1,1,1,null,0,null,9,"自販機の照明を消灯しているか",null,null,null,0,0,null,null,0,0,null,null,null,null,0,"",null,null,null,null,null,null,null,null,null,null,null,null,null,null,null,null,null,0,0,0]
[7,null,null,7,1,1,1,1,1,null,0,null,10,"トイレや倉庫等：照明の点滅に人感センサを採用しているか、不要時消灯しているか",null,null,null,0,0,null,null,0,0,null,null,null,null,0,"",null,null,null,null,null,null,null,null,null,null,null,null,null,null,null,null,null,0,0,0]
[7,null,null,7,1,1,1,1,1,null,0,null,11,"照明をプルスイッチや回路で細分化し、不在エリアや窓際の消灯を実施しているか",null,null,null,{"$f":"IF(P195=\"\",0,COUNTA(P195)*COUNTIF(L195,\"●\"))","v":0},0,null,null,{"$f":"IF(P195=\"\",0,1)","v":0},0,null,null,null,null,0,"",null,null,null,null,null,null,null,null,null,null,null,null,null,null,null,null,null,0,0,0]
[7,null,null,7,1,1,1,1,1,null,{"$f":"IF(E196*AN$2+F196*AO196+G196*AP$2+H196*AQ$2+I196*AR$2+J196*AS$2>0,1,0)","v":0},null,12,"照明制御システム等を設置し、最適照明を実施しているか",null,null,null,0,0,null,null,0,{"$f":"IF(V196=0,0,IF(P196=\"○\",5,IF(P196=\"△\",3,IF(P196=\"×\",1,0))))","v":0},null,null,null,null,{"$f":"K196*IF(Q196=\"－\",0,1)","v":0},""]
[7,null,null,7,1,1,1,1,1,null,0,null,13,"照明器具の取付位置(高さ・配置)は適正か",null,null,null,0,0,null,null,0,0,null,null,null,null,0,"",null,null,null,null,null,null,null,null,null,null,null,null,null,null,null,null,null,0,0,0]
[7,null,null,7,1,1,1,1,1,null,0,"●",14,"高効率照明に更新しているか",null,null,null,0,0,null,null,0,0,null,null,null,null,0,"",null,null,null,null,null,null,null,null,null,null,null,null,null,null,null,null,null,0,0,0]
[7,null,null,7,1,1,1,1,1,null,0,null,15,"タスクアンビエント照明を検討したか（全室照明⇒全体＋手元照明）",null,null,null,0,0,null,null,0,0,null,null,null,null,0,"",null,null,null,null,null,null,null,null,null,null,null,null,null,null,null,null,null,0,0,0]
[null,null,"事業所のその他個別追加対策(任意記載）",7,1,1,1,1,1,null,0,null,1,null,null,null,null,0,null,null,null,0,0,{"$f":"SUM(W200:W202)","v":0},{"$f":"COUNTIF(V200:V202,1)","v":0},{"$f":"IFERROR(X200/Y200,\"\")","v":""},null,0,"",{"$f":"SUM(AC200:AC202)","v":0},{"$f":"COUNTIF(AB200:AB202,1)","v":0},{"$f":"AD200/AE200","v":{"$error":"#DIV/0!"}}]
[null,null,null,7,1,1,1,1,1,null,0,null,2,null,null,null,null,0,null,null,null,0,0,null,null,null,null,0,""]
[null,null,null,7,1,1,1,1,1,null,0,null,3,null,null,null,null,0,null,null,null,0,0,null,null,null,null,0,""]
[8,"受変電設備","受変電設備の管理",8,1,1,1,1,1,null,0,"●",1,"部門・ライン毎の電力使用量管理(月次、日時）をしているか",null,null,null,0,{"$f":"IF(R203=0,0,IF(P203=\"○\",5,IF(P203=\"△\",3,IF(P203=\"×\",1,0))))*IF(L203=\"●\",1,0)","v":0},{"$f":"IFERROR(SUM(S203:S215)/SUM(R203:R215),0)","v":0},{"$f":"IFERROR(SUM(S203:S215)/SUM(R203:R215),0)","v":0},0,0,{"$f":"SUM(W203:W215)","v":0},{"$f":"COUNTIF(V203:V215,1)","v":0},{"$f":"IFERROR(X203/Y203,0)","v":0},{"$f":"IFERROR(SUM(X203:X215)/SUM(Y203:Y215),0)","v":0},0,"",{"$f":"SUM(AC203:AC215)","v":0},{"$f":"COUNTIF(AB203:AB215,1)","v":0},{"$f":"AD203/AE203","v":{"$error":"#DIV/0!"}},{"$f":"SUM(AD203:AD215)/SUM(AE203:AE215)","v":{"$error":"#DIV/0!"}},null,null,null,null,null,null,null,null,null,null,null,null,null,0,0,0]
[8,null,null,8,1,1,1,1,1,null,0,"●",2,"電気機器の受電端は定格電圧か",null,null,null,0,0,null,null,0,0,null,null,null,null,0,"",null,null,null,null,null,null,null,null,null,null,null,null,null,null,null,null,null,0,0,0]
[8,null,null,8,1,1,1,1,1,null,0,"●",3,"力率は適正か（例：95%未満の場合では対策必要）",null,null,null,0,0,null,null,0,0,null,null,null,null,0,"",null,null,null,null,null,null,null,null,null,null,null,null,null,null,null,null,null,0,0,0]
[8,null,null,8,1,1,1,1,1,null,0,"●",4,"契約電力：ピーク電力と比較し過大な場合、契約電力を低減したか",null,null,null,0,0,null,null,0,0,null,null,null,null,0,"",null,null,null,null,null,null,null,null,null,null,null,null,null,null,null,null,null,0,0,0]
[8,null,null,8,null,1,1,1,1,null,0,null,5,"負荷変動が大きい場合（夜間電力小等）：自動力率調整装置を設置しているか",null,null,null,0,0,null,null,0,0,null,null,null,null,0,"",null,null,null,null,null,null,null,null,null,null,null,null,null,null,null,null,null,0,0,0]
[8,null,null,8,null,1,1,1,1,null,0,null,6,"安価な夜間電力を活用しているか",null,null,null,0,0,null,null,0,0,null,null,null,null,0,"",null,null,null,null,null,null,null,null,null,null,null,null,null,null,null,null,null,0,0,0]
[8,null,null,8,1,1,1,1,1,null,0,"●",7,"夜間・休日：固定電力の低減対策を実施しているか",null,null,null,0,0,null,null,0,0,null,null,null,null,0,"",null,null,null,null,null,null,null,null,null,null,null,null,null,null,null,null,null,0,0,0]
[8,null,null,8,1,1,1,1,1,null,0,"●",8,"デマンド監視装置を用いて契約電力低減対策をしているか",null,null,null,0,0,null,null,0,0,null,null,null,null,0,"",null,null,null,null,null,null,null,null,null,null,null,null,null,null,null,null,null,0,0,0]
[8,null,null,8,null,1,1,1,1,null,0,null,9,"負荷率に余裕がある場合、変圧器の統合や変圧器容量の適正化を実施したか",null,null,null,0,0,null,null,0,0,null,null,null,null,0,"",null,null,null,null,null,null,null,null,null,null,null,null,null,null,null,null,null,0,0,0]
[8,null,null,8,1,1,1,1,1,null,0,"●",10,"三相の負荷バランスをとっているか (電気主任技術者等の業務）",null,null,null,0,0,null,null,0,0,null,null,null,null,0,"",null,null,null,null,null,null,null,null,null,null,null,null,null,null,null,null,null,0,0,0]
[8,null,null,8,null,1,1,1,1,null,0,null,11,"負荷率を調査し、負荷の平準化(負荷調整）を実施しているか(同上）",null,null,null,0,0,null,null,0,0,null,null,null,null,0,"",null,null,null,null,null,null,null,null,null,null,null,null,null,null,null,null,null,0,0,0]
[8,null,null,8,1,1,1,1,1,null,0,null,12,"不要変圧器の一次側の電源を遮断しているか(同上）",null,null,null,0,0,null,null,0,0,null,null,null,null,0,"",null,null,null,null,null,null,null,null,null,null,null,null,null,null,null,null,null,0,0,0]
[8,null,null,8,1,1,1,1,1,null,0,null,13,"古い機種を更新の際、トップランナーを導入したか",null,null,null,0,0,null,null,0,0,null,null,null,null,0,"",null,null,null,null,null,null,null,null,null,null,null,null,null,null,null,null,null,0,0,0]
[null,null,"事業所のその他個別追加対策(任意記載）",8,1,1,1,1,1,null,0,null,1,null,null,null,null,0,null,null,null,0,0,{"$f":"SUM(W216:W218)","v":0},{"$f":"COUNTIF(V216:V218,1)","v":0},{"$f":"IFERROR(X216/Y216,\"\")","v":""},null,0,"",{"$f":"SUM(AC216:AC218)","v":0},{"$f":"COUNTIF(AB216:AB218,1)","v":0},{"$f":"AD216/AE216","v":{"$error":"#DIV/0!"}}]
[null,null,null,8,1,1,1,1,1,null,0,null,2,null,null,null,null,0,null,null,null,0,{"$f":"IF(V217=0,0,IF(P217=\"○\",5,IF(P217=\"△\",3,IF(P217=\"×\",1,0))))","v":0},null,null,null,null,0,""]
[null,null,null,8,1,1,1,1,1,null,0,null,3,null,null,null,null,0,null,null,null,0,0,null,null,null,null,0,""]
[9,"OA機器、自販機、衛生設備等","OA機器",9,1,1,1,1,1,null,0,"●",1,"休日・夜間、不使用時に電源を遮断しているか(タイマー機能）",null,null,null,0,{"$f":"IF(R219=0,0,IF(P219=\"○\",5,IF(P219=\"△\",3,IF(P219=\"×\",1,0))))*IF(L219=\"●\",1,0)","v":0},{"$f":"IFERROR(SUM(S219:S221)/SUM(R219:R221),0)","v":0},{"$f":"IFERROR(SUM(S219:S232)/SUM(R219:R232),0)","v":0},0,0,{"$f":"SUM(W219:W221)","v":0},{"$f":"COUNTIF(V219:V227,1)","v":0},{"$f":"IFERROR(X219/Y219,0)","v":0},{"$f":"IFERROR(SUM(X219:X232)/SUM(Y219:Y232),0)","v":0},0,"",{"$f":"SUM(AC219:AC227)","v":0},{"$f":"COUNTIF(AB219:AB227,1)","v":0},{"$f":"AD219/AE219","v":{"$error":"#DIV/0!"}},{"$f":"SUM(AD219:AD232)/SUM(AE219:AE232)","v":{"$error":"#DIV/0!"}},null,null,null,null,null,null,null,null,null,null,null,null,null,{"$f":"IF(Q219=\"〇\",1,0)","v":0},{"$f":"SUM(AP219:AU219)","v":0},{"$f":"AN219-+AU219","v":0}]
[9,null,null,9,1,1,1,1,1,null,0,"●",2,"省エネモードに設定しているか",null,null,null,0,0,null,null,0,0,null,null,null,null,0,"",null,null,null,null,null,null,null,null,null,null,null,null,null,null,null,null,null,0,{"$f":"SUM(AP220:AU220)","v":0},{"$f":"AN220-+AU220","v":0}]
[9,null,null,9,1,1,1,1,1,null,0,"●",3,"省エネ型に更新しているか",null,null,null,0,0,null,null,0,0,null,null,null,null,0,"",null,null,null,null,null,null,null,null,null,null,null,null,null,null,null,null,null,0,{"$f":"SUM(AP221:AU221)","v":0},{"$f":"AN221-+AU221","v":0}]
[9,null,"昇降機",9,1,1,1,1,1,null,0,"●",1,"機器の保守点検をおこなっているか",null,null,null,0,0,{"$f":"IFERROR(SUM(S222:S2234)/SUM(R222:R223),0)","v":0},null,0,{"$f":"IF(V222=0,0,IF(P222=\"○\",5,IF(P222=\"△\",3,IF(P222=\"×\",1,0))))","v":0},{"$f":"SUM(W222:W223)","v":0},{"$f":"COUNTIF(V222:V230,1)","v":0},{"$f":"IFERROR(X222/Y222,0)","v":0},null,0]
[9,null,null,9,1,1,1,1,1,null,0,null,2,"休日・夜間は台数制御を、もしくは不使用時に電源の遮断おこなっているか",null,null,null,0,0,null,null,0,{"$f":"IF(V223=0,0,IF(P223=\"○\",5,IF(P223=\"△\",3,IF(P223=\"×\",1,0))))","v":0},null,null,null,null,0]
[9,null,"自販機",9,1,1,1,1,1,null,0,"●",1,"休日・夜間に停止しているか(タイマー機能）",null,null,null,0,0,{"$f":"IFERROR(SUM(S224:S227)/SUM(R224:R227),0)","v":0},null,0,{"$f":"IF(V224=0,0,IF(P224=\"○\",5,IF(P224=\"△\",3,IF(P224=\"×\",1,0))))","v":0},{"$f":"SUM(W224:W227)","v":0},{"$f":"COUNTIF(V224:V232,1)","v":0},{"$f":"IFERROR(X224/Y224,0)","v":0},null,0]
[9,null,null,9,1,1,1,1,1,null,0,"●",2,"省エネモードに設定しているか",null,null,null,0,0,null,null,0,{"$f":"IF(V225=0,0,IF(P225=\"○\",5,IF(P225=\"△\",3,IF(P225=\"×\",1,0))))","v":0},null,null,null,null,0]
[9,null,null,9,1,null,1,1,1,null,0,null,3,"商品照明を消灯しているか",null,null,null,0,0,null,null,0,{"$f":"IF(V226=0,0,IF(P226=\"○\",5,IF(P226=\"△\",3,IF(P226=\"×\",1,0))))","v":0},null,null,null,null,0]
[9,null,null,9,1,1,1,1,1,null,0,null,4,"省エネ型に更新しているか",null,null,null,0,0,null,null,0,0,null,null,null,null,0,{"$f":"IF(K227=0,\"\",IF(Q227=\"○\",5,IF(Q227=\"△\",3,IF(Q227=\"×\",1,0))))","v":""},null,null,null,null,null,null,null,null,null,null,null,null,null,null,null,null,null,0,{"$f":"SUM(AP227:AU227)","v":0},{"$f":"AN227-+AU227","v":0}]
[9,null,"給排水、衛生設備",9,1,1,1,1,1,null,0,"●",1,"手洗場等：節水コマや流調弁等で適正流量にて使用しているか",null,null,null,0,{"$f":"IF(R228=0,0,IF(P228=\"○\",5,IF(P228=\"△\",3,IF(P228=\"×\",1,0))))*IF(L228=\"●\",1,0)","v":0},{"$f":"IFERROR(SUM(S228:S232)/SUM(R228:R232),0)","v":0},null,0,0,{"$f":"SUM(W228:W232)","v":0},{"$f":"COUNTIF(V228:V232,1)","v":0},{"$f":"IFERROR(X228/Y228,0)","v":0},null,0,{"$f":"IF(K228=0,\"\",IF(Q228=\"○\",5,IF(Q228=\"△\",3,IF(Q228=\"×\",1,0))))","v":""},{"$f":"SUM(AC228:AC232)","v":0},{"$f":"COUNTIF(AB228:AB232,1)","v":0},{"$f":"AD228/AE228","v":{"$error":"#DIV/0!"}},null,null,null,null,null,null,null,null,null,null,null,null,null,null,0,{"$f":"SUM(AP228:AU228)","v":0},{"$f":"AN228-+AU228","v":0}]
[9,null,null,9,1,1,1,1,1,null,0,null,2,"トイレや給湯器等は省エネ型に更新されているか",null,null,null,0,0,null,null,0,0,null,null,null,null,0,"",null,null,null,null,null,null,null,null,null,null,null,null,null,null,null,null,null,0,{"$f":"SUM(AP229:AU229)","v":0},{"$f":"AN229-+AU229","v":0}]
[9,null,null,9,1,1,1,1,1,null,0,"●",3,"温水暖房便座の温度や時間、使用方法等を管理しているか",null,null,null,0,0,null,null,0,0,null,null,null,null,0,"",null,null,null,null,null,null,null,null,null,null,null,null,null,null,null,null,null,0,{"$f":"SUM(AP230:AU230)","v":0},{"$f":"AN230-+AU230","v":0}]
[9,null,null,9,1,1,1,1,null,null,0,null,4,"排水処理用の曝気槽：非操業時(夜間や休日等）、送風ブロワの風量を低減しているか（稼働台数減、インバータ設置による回転数制御化）",null,null,null,0,0,null,null,0,0,null,null,null,null,0,""]
[9,null,null,9,1,1,1,1,null,null,0,null,5,"曝気槽ブロアーは高効率型・省エネ型を使用しているか",null,null,null,0,0,null,null,0,0,null,null,null,null,0,"",null,null,null,null,null,null,null,null,null,null,null,null,null,null,null,null,null,{"$f":"IF(Q232=\"〇\",1,0)","v":0},{"$f":"SUM(AP232:AU232)","v":0},{"$f":"AN232-+AU232","v":0}]
[null,null,"事業所のその他個別追加対策(任意記載）",9,1,1,1,1,1,null,0,null,1,null,null,null,null,0,null,null,null,0,0,{"$f":"SUM(W233:W235)","v":0},{"$f":"COUNTIF(V233:V235,1)","v":0},{"$f":"IFERROR(X233/Y233,\"\")","v":""},null,0,"",{"$f":"SUM(AC233:AC235)","v":0},{"$f":"COUNTIF(AB233:AB235,1)","v":0},{"$f":"AD233/AE233","v":{"$error":"#DIV/0!"}}]
[null,null,null,9,1,1,1,1,1,null,0,null,2,null,null,null,null,0,null,null,null,0,0,null,null,null,null,0,""]
[null,null,null,9,1,1,1,1,1,null,0,null,3,null,null,null,null,0,null,null,null,0,0,null,null,null,null,0,""]
[10,"その他","建物",10,1,1,1,1,1,null,0,"●",1,"ブラインド及びカーテンを適正に運用している",null,null,null,0,0,{"$f":"IFERROR(SUM(S236:S238)/SUM(R236:R238),0)","v":0},{"$f":"IFERROR(SUM(S236:S246)/SUM(R236:R246),0)","v":0},0,0,{"$f":"SUM(W236:W238)","v":0},{"$f":"COUNTIF(V236:V238,1)","v":0},{"$f":"IFERROR(X236/Y236,0)","v":0},{"$f":"IFERROR(SUM(X236:X246)/SUM(Y236:Y2244),0)","v":0},0,"",{"$f":"SUM(AC236:AC238)","v":0},{"$f":"COUNTIF(AB236:AB238,1)","v":0},{"$f":"AD236/AE236","v":{"$error":"#DIV/0!"}},{"$f":"SUM(AD236:AD246)/SUM(AE236:AE2252)","v":{"$error":"#DIV/0!"}},null,null,null,null,null,null,null,null,null,null,null,null,null,{"$f":"IF(Q236=\"〇\",1,0)","v":0},{"$f":"SUM(AP236:AU236)","v":0},{"$f":"AN236-+AU236","v":0}]
[10,null,null,10,1,1,1,1,1,null,0,"●",2,"窓面に断熱フィルムや気密性確保のため二重ガラス等を利用している",null,null,null,0,{"$f":"IF(R237=0,0,IF(P237=\"○\",5,IF(P237=\"△\",3,IF(P237=\"×\",1,0))))*IF(L237=\"●\",1,0)","v":0},null,null,0,{"$f":"IF(V237=0,0,IF(P237=\"○\",5,IF(P237=\"△\",3,IF(P237=\"×\",1,0))))","v":0},null,null,null,null,0]
[10,null,null,10,1,1,1,1,1,null,0,"●",3,"建物構造の断熱性や気密性を高める措置がされている",null,null,null,0,{"$f":"IF(R238=0,0,IF(P238=\"○\",5,IF(P238=\"△\",3,IF(P238=\"×\",1,0))))*IF(L238=\"●\",1,0)","v":0},null,null,0,{"$f":"IF(V238=0,0,IF(P238=\"○\",5,IF(P238=\"△\",3,IF(P238=\"×\",1,0))))","v":0},null,null,null,null,0,"",null,null,null,null,null,null,null,null,null,null,null,null,null,null,null,null,null,{"$f":"IF(Q238=\"〇\",1,0)","v":0},{"$f":"SUM(AP238:AU238)","v":0},{"$f":"AN238-+AU238","v":0}]
[10,null,"コージェネレーション",10,null,1,1,1,null,null,0,null,1,"運転状態(依存率、発電効率、排熱利用率、総合効率等）を確認しているか",null,null,null,0,{"$f":"IF(R239=0,0,IF(P239=\"○\",5,IF(P239=\"△\",3,IF(P239=\"×\",1,0))))*IF(L239=\"●\",1,0)","v":0},{"$f":"IFERROR(SUM(S239:S240)/SUM(R239:R240),0)","v":0},null,0,{"$f":"IF(V239=0,0,IF(P239=\"○\",5,IF(P239=\"△\",3,IF(P239=\"×\",1,0))))","v":0},{"$f":"SUM(W239:W240)","v":0},{"$f":"COUNTIF(V239:V241,1)","v":0},{"$f":"IFERROR(X239/Y239,0)","v":0},null,0]
[10,null,null,10,null,1,1,1,null,null,0,null,2,"温水や蒸気の廃熱利用率が十分か",null,null,null,0,{"$f":"IF(R240=0,0,IF(P240=\"○\",5,IF(P240=\"△\",3,IF(P240=\"×\",1,0))))*IF(L240=\"●\",1,0)","v":0},null,null,0,{"$f":"IF(V240=0,0,IF(P240=\"○\",5,IF(P240=\"△\",3,IF(P240=\"×\",1,0))))","v":0},null,null,null,null,0]
[10,null,"新エネルギー",10,1,1,1,1,1,null,0,null,1,"太陽光発電の導入しているか",null,null,null,0,0,{"$f":"IFERROR(SUM(S241:S246)/SUM(R241:R246),0)","v":0},null,0,0,{"$f":"SUM(W241:W249)","v":0},{"$f":"COUNTIF(V241:V246,1)","v":0},{"$f":"IFERROR(X241/Y241,0)","v":0},null,0,"",{"$f":"SUM(AC241:AC249)","v":0},{"$f":"COUNTIF(AB241:AB246,1)","v":0},{"$f":"AD241/AE241","v":{"$error":"#DIV/0!"}},null,null,null,null,null,null,null,null,null,null,null,null,null,null,{"$f":"IF(Q241=\"〇\",1,0)","v":0},{"$f":"SUM(AP241:AU241)","v":0},{"$f":"AN241-+AU241","v":0}]
[10,null,null,10,1,1,1,1,1,null,0,null,2,"蓄電池等を使用し再生可能エネルギーの利用効率を図っているか",null,null,null,0,{"$f":"IF(R242=0,0,IF(P242=\"○\",5,IF(P242=\"△\",3,IF(P242=\"×\",1,0))))*IF(L242=\"●\",1,0)","v":0},null,null,0,{"$f":"IF(V242=0,0,IF(P242=\"○\",5,IF(P242=\"△\",3,IF(P242=\"×\",1,0))))","v":0},null,null,null,null,0]
[10,null,null,10,1,1,1,1,1,null,0,null,3,"太陽熱温水設備の導入しているか",null,null,null,0,{"$f":"IF(R243=0,0,IF(P243=\"○\",5,IF(P243=\"△\",3,IF(P243=\"×\",1,0))))*IF(L243=\"●\",1,0)","v":0},null,null,0,{"$f":"IF(V243=0,0,IF(P243=\"○\",5,IF(P243=\"△\",3,IF(P243=\"×\",1,0))))","v":0},null,null,null,null,0]
[10,null,null,10,1,1,1,1,1,null,0,null,4,"地中熱、水温差等の温度差利用のシステムを導入しているか",null,null,null,0,{"$f":"IF(R244=0,0,IF(P244=\"○\",5,IF(P244=\"△\",3,IF(P244=\"×\",1,0))))*IF(L244=\"●\",1,0)","v":0},null,null,0,{"$f":"IF(V244=0,0,IF(P244=\"○\",5,IF(P244=\"△\",3,IF(P244=\"×\",1,0))))","v":0},null,null,null,null,0]
[10,null,null,10,1,1,1,1,1,null,0,null,5,"バイオマス発電あるいは燃料電池あるいは小型水力発電などを導入しているか",null,null,null,0,0,null,null,0,0,null,null,null,null,0,"",null,null,null,null,null,null,null,null,null,null,null,null,null,null,null,null,null,{"$f":"IF(Q245=\"〇\",1,0)","v":0},{"$f":"SUM(AP245:AU245)","v":0},{"$f":"AN245-+AU245","v":0}]
[10,null,null,10,1,1,1,1,1,null,0,null,6,"燃料電池システムを導入しているか",null,null,null,0,0,null,null,0,0,null,null,null,null,0,""]
[null,null,"事業所のその他個別追加対策(任意記載）",10,1,1,1,1,1,null,0,null,1,null,null,null,null,0,null,null,null,0,0,{"$f":"SUM(W247:W249)","v":0},{"$f":"COUNTIF(V247:V249,1)","v":0},{"$f":"IFERROR(X247/Y247,\"\")","v":""},null,0,"",{"$f":"SUM(AC247:AC249)","v":0},{"$f":"COUNTIF(AB247:AB249,1)","v":0},{"$f":"AD247/AE247","v":{"$error":"#DIV/0!"}}]
[null,null,null,10,1,1,1,1,1,null,0,null,2,null,null,null,null,0,null,null,null,0,0,null,null,null,null,0,""]
[null,null,null,10,1,1,1,1,1,null,0,null,3,null,null,null,null,0,null,null,null,0,0,null,null,null,null,0,"",null,null,null,null,null,null,null,null,null,null,null,null,null,null,null,null,null,{"$f":"IF(Q249=\"〇\",1,0)","v":0},{"$f":"SUM(AP249:AU249)","v":0},{"$f":"AN249-+AU249","v":0}]
[11,"自動車対策","社有車・業務用車両の管理",11,null,null,null,null,null,1,0,"●",1,"（毎日の）走行距離や燃料の使用状況を把握しているか",null,null,null,0,0,{"$f":"IFERROR(SUM(S250:S253)/SUM(R250:R253),0)","v":0},{"$f":"IFERROR(SUM(S250:S276)/SUM(R250:R276),0)","v":0},0,0,{"$f":"SUM(W250:W253)","v":0},{"$f":"COUNTIF(V250:V253,1)","v":0},{"$f":"IFERROR(X250/Y250,0)","v":0},{"$f":"IFERROR(SUM(X250:X276)/SUM(Y250:Y276),0)","v":0},0,"",{"$f":"SUM(AC250:AC263)","v":0},{"$f":"COUNTIF(AB250:AB263,1)","v":0},{"$f":"AD250/AE250","v":{"$error":"#DIV/0!"}},{"$f":"SUM(AD250:AD271)/SUM(AE250:AE271)","v":{"$error":"#DIV/0!"}}]
[11,null,null,11,null,null,null,null,null,1,0,"●",2,"各車別に走行距離を把握、燃費管理しているか",null,null,null,0,0,null,null,0,0,null,null,null,null,0,""]
[11,null,null,11,null,null,null,null,null,1,0,"●",3,"自動車の利用目的・運行状況を管理しているか",null,null,null,0,0,null,null,0,0,null,null,null,null,0,""]
[11,null,null,11,null,null,null,null,null,1,0,null,4,"不用な利用の管理や公共交通機関優先など車両利用を減らす取組を実施しているか",null,null,null,0,0,null,null,0,0,null,null,null,null,0,""]
[11,null,"エコドライブ活動",11,null,null,null,null,null,1,0,"●",1,"各車の実績を運転者に定期的にフィードバックしているか",null,null,null,0,0,{"$f":"IFERROR(SUM(S254:S263)/SUM(R254:R263),0)","v":0},null,0,0,{"$f":"SUM(W254:W263)","v":0},{"$f":"COUNTIF(V254:V263,1)","v":0},{"$f":"IFERROR(X254/Y254,0)","v":0},null,0,""]
[11,null,null,11,null,null,null,null,null,1,0,"●",2,"運転者に対して、エコドライブ教育・指導を行っているか",null,null,null,0,0,null,null,0,0,null,null,null,null,0,""]
[11,null,null,11,null,null,null,null,null,1,{"$f":"IF(E256*AN$2+F256*AO256+G256*AP$2+H256*AQ$2+I256*AR$2+J256*AS$2>0,1,0)","v":0},"●",3,"アイドリングストップの励行について、具体的な実施項目を定めているか",null,null,null,0,0,null,null,0,0,null,null,null,null,{"$f":"K256*IF(Q256=\"－\",0,1)","v":0},""]
[11,null,null,11,null,null,null,null,null,1,0,null,4,"エコドライブの取組や燃費結果に基づいて、取組が改善できるよう見直しを行っているか",null,null,null,0,0,null,null,0,0,null,null,null,null,0,""]
[11,null,null,11,null,null,null,null,null,1,0,null,5,"エコドライブの講習会や実技講習会にすべての運転者が参加しているか",null,null,null,0,0,null,null,0,0,null,null,null,null,0,""]
[11,null,null,11,null,null,null,null,null,1,0,null,6,"燃費管理の結果をもとに、優れた運転手への表彰等を行っているか",null,null,null,{"$f":"IF(P259=\"\",0,COUNTA(P259)*COUNTIF(L259,\"●\"))","v":0},0,null,null,{"$f":"IF(P259=\"\",0,1)","v":0},0,null,null,null,null,0,""]
[11,null,null,11,null,null,null,null,null,1,0,null,7,"運行記録計、セフティレコーダーを導入しているか",null,null,null,0,0,null,null,0,0,null,null,null,null,0,""]
[11,null,null,11,null,null,null,null,null,1,0,null,8,"不要積載物の管理をおこなっているか",null,null,null,0,0,null,null,0,0,null,null,null,null,0,""]
[11,null,null,11,null,null,null,null,null,1,0,null,9,"キー抜きロープなどエコドライブを推進する装置を導入しているか",null,null,null,0,0,null,null,0,0,null,null,null,null,0,""]
[11,null,null,11,null,null,null,null,null,1,0,null,10,"ドライブレコーダーを導入、運転状況、エコドライブ促進に反映させているか",null,null,null,0,0,null,null,0,0,null,null,null,null,0,""]
[11,null,"低公害車対策",11,null,null,null,null,null,1,0,"●",1,"低公害車（九都県市指定車両リスト等参照）の導入を行っているか",null,null,null,0,0,{"$f":"IFERROR(SUM(S264:S269)/SUM(R264:R269),0)","v":0},null,0,0,{"$f":"SUM(W264:W269)","v":0},{"$f":"COUNTIF(V264:V269,1)","v":0},{"$f":"IFERROR(X264/Y264,0)","v":0},null,0,"",{"$f":"SUM(AC264:AC269)","v":0},{"$f":"COUNTIF(AB264:AB269,1)","v":0},{"$f":"AD264/AE264","v":{"$error":"#DIV/0!"}}]
[11,null,null,11,null,null,null,null,null,1,0,"●",2,"更新の際は低公害車や排気量の少ない車両に置き換えているか",null,null,null,0,0,null,null,0,0,null,null,null,null,0,""]
[11,null,null,11,null,null,null,null,null,1,0,null,3,"アイドリングストップ装置またはエンジン回転警報装置を導入しているか",null,null,null,0,{"$f":"IF(R266=0,0,IF(P266=\"○\",5,IF(P266=\"△\",3,IF(P266=\"×\",1,0))))*IF(L266=\"●\",1,0)","v":0},null,null,0,{"$f":"IF(V266=0,0,IF(P266=\"○\",5,IF(P266=\"△\",3,IF(P266=\"×\",1,0))))","v":0},null,null,null,null,0,{"$f":"IF(K266=0,\"\",IF(Q266=\"○\",5,IF(Q266=\"△\",3,IF(Q266=\"×\",1,0))))","v":""}]
[11,null,null,11,null,null,null,null,null,1,0,"●",4,"ＮＯｘ・ＰＭ法に基づく、規制対象車を把握し、対応しているか",null,null,null,0,0,null,null,0,0,null,null,null,null,0,""]
[11,null,null,11,null,null,null,null,null,1,0,"●",5,"埼玉県生活環境保全条例に定める運行規制の対象となる車両を把握しているか",null,null,null,0,0,null,null,0,0,null,null,null,null,0,""]
[11,null,null,11,null,null,null,null,null,1,0,null,6,"現場の建設機械等には改良型エンジンや省エネ機構が採用されているか",null,null,null,0,0,null,null,0,0,null,null,null,null,0,""]
[11,null,"車の点検等",11,null,null,null,null,null,1,0,"●",1,"排ガス・騒音レベルを抑えるための整備を行っているか",null,null,null,0,0,{"$f":"IFERROR(SUM(S270:S271)/SUM(R270:R271),0)","v":0},null,0,0,{"$f":"SUM(W270:W271)","v":0},{"$f":"COUNTIF(V270:V271,1)","v":0},{"$f":"IFERROR(X270/Y270,0)","v":0},null,0,"",{"$f":"SUM(AC270:AC271)","v":0},{"$f":"COUNTIF(AB270:AB271,1)","v":0},{"$f":"AD270/AE270","v":{"$error":"#DIV/0!"}}]
[11,null,null,11,null,null,null,null,null,1,0,"●",2,"定期検査の確認をおこない、不良整備機械の持込みを禁止しているか",null,null,null,0,0,null,null,0,0,null,null,null,null,0,""]
[11,null,"荷主としての取組",11,null,null,1,null,1,1,0,"●",1,"貨物輸送に係る省エネの取組方針を定めているか",null,null,null,0,{"$f":"IF(R272=0,0,IF(P272=\"○\",5,IF(P272=\"△\",3,IF(P272=\"×\",1,0))))*IF(L272=\"●\",1,0)","v":0},{"$f":"IFERROR(SUM(S272:S276)/SUM(R272:R276),0)","v":0},null,0,{"$f":"IF(V272=0,0,IF(P272=\"○\",5,IF(P272=\"△\",3,IF(P272=\"×\",1,0))))","v":0},{"$f":"SUM(W272:W276)","v":0},{"$f":"COUNTIF(V272:V273,1)","v":0},{"$f":"IFERROR(X272/Y272,0)","v":0},null,0]
[11,null,null,11,null,null,1,null,1,1,0,"●",2,"輸送事業者に対してエネルギー使用状況や対策等を定期的に把握しているか(トンキロの管理）",null,null,null,0,{"$f":"IF(R273=0,0,IF(P273=\"○\",5,IF(P273=\"△\",3,IF(P273=\"×\",1,0))))*IF(L273=\"●\",1,0)","v":0},null,null,0,{"$f":"IF(V273=0,0,IF(P273=\"○\",5,IF(P273=\"△\",3,IF(P273=\"×\",1,0))))","v":0},null,null,null,null,0]
[11,null,null,11,null,null,1,null,1,1,0,null,3,"輸送量に応じた適正車種の選択を要請しているか",null,null,null,0,{"$f":"IF(R274=0,0,IF(P274=\"○\",5,IF(P274=\"△\",3,IF(P274=\"×\",1,0))))*IF(L274=\"●\",1,0)","v":0},null,null,0,{"$f":"IF(V274=0,0,IF(P274=\"○\",5,IF(P274=\"△\",3,IF(P274=\"×\",1,0))))","v":0},null,null,null,null,0]
[11,null,null,11,null,null,1,null,1,1,0,null,4,"最適な輸送手段、ルートを定め輸送距離の短縮を輸送事業者に要請しているか",null,null,null,0,{"$f":"IF(R275=0,0,IF(P275=\"○\",5,IF(P275=\"△\",3,IF(P275=\"×\",1,0))))*IF(L275=\"●\",1,0)","v":0},null,null,0,{"$f":"IF(V275=0,0,IF(P275=\"○\",5,IF(P275=\"△\",3,IF(P275=\"×\",1,0))))","v":0},null,null,null,null,0]
[11,null,null,11,null,null,1,null,1,1,0,null,5,"着荷主に対して発注計画及び輸送の平準化を要請しているか",null,null,null,0,{"$f":"IF(R276=0,0,IF(P276=\"○\",5,IF(P276=\"△\",3,IF(P276=\"×\",1,0))))*IF(L276=\"●\",1,0)","v":0},null,null,0,{"$f":"IF(V276=0,0,IF(P276=\"○\",5,IF(P276=\"△\",3,IF(P276=\"×\",1,0))))","v":0},null,null,null,null,0]
[null,null,"事業所のその他個別追加対策(任意記載）",11,null,null,null,null,null,1,0,null,1,null,null,null,null,0,null,null,null,0,0,{"$f":"SUM(W277:W279)","v":0},{"$f":"COUNTIF(V277:V279,1)","v":0},{"$f":"IFERROR(X277/Y277,\"\")","v":""},null,0,"",{"$f":"SUM(AC277:AC279)","v":0},{"$f":"COUNTIF(AB277:AB279,1)","v":0},{"$f":"AD277/AE277","v":{"$error":"#DIV/0!"}}]
[null,null,null,11,null,null,null,null,null,1,0,null,2,null,null,null,null,0,null,null,null,0,0,null,null,null,null,0,""]
[null,null,null,11,null,null,null,null,null,1,0,null,3,null,null,null,null,0,null,null,null,0,0,null,null,null,null,0,""]
[]
[]
[]
[]
[]
[]
[]
[]
[null,null,null,null,null,null,null,null,null,null,{"$f":"SUBTOTAL(3,K3:K279)","v":27},{"$f":"SUBTOTAL(3,L3:L279)","v":14}]

{"sheet":"印刷用集計表","index":4,"n_rows":303,"n_cols":52,"rows_kept":303,"cut":false,"hidden":true,"merged":[[243,13,243,14],[93,2,100,2],[0,0,0,13],[85,2,92,2],[112,2,114,2],[88,13,88,14],[89,13,89,14],[90,13,90,14],[28,2,30,2],[28,13,28,14],[24,2,26,2],[24,13,24,14],[91,13,91,14],[92,13,92,14],[114,13,114,14],[105,13,105,14],[31,13,31,14],[42,13,42,14],[43,13,43,14],[79,13,79,14],[101,2,111,2],[49,2,53,2],[40,2,48,2],[31,2,39,2],[246,13,246,14],[249,13,249,14],[1,18,1,20],[267,2,272,2],[157,13,157,14],[158,13,158,14],[159,13,159,14],[160,13,160,14],[161,13,161,14],[162,13,162,14],[163,13,163,14],[155,13,155,14],[165,13,165,14],[164,2,165,2],[166,2,168,2],[191,13,191,14],[192,13,192,14],[193,13,193,14],[194,13,194,14],[195,13,195,14],[142,13,142,14],[151,2,153,2],[151,13,151,14],[242,13,242,14],[231,2,235,2],[37,13,37,14],[232,13,232,14],[233,13,233,14],[234,13,234,14],[235,13,235,14],[236,2,238,2],[236,13,236,14],[115,2,124,2],[125,2,129,2],[169,2,175,2],[144,13,144,14],[196,13,196,14],[197,13,197,14],[166,13,166,14],[84,13,84,14],[72,2,81,2],[223,13,223,14],[224,13,224,14],[230,13,230,14],[222,13,222,14],[170,13,170,14],[171,13,171,14],[122,13,122,14],[203,31,205,31],[204,13,204,14],[205,13,205,14],[211,13,211,14],[212,13,212,14],[217,13,217,14],[218,13,218,14],[219,13,219,14],[213,13,213,14],[216,13,216,14],[214,13,214,14],[215,13,215,14],[206,13,206,14],[207,13,207,14],[208,13,208,14],[219,25,221,25],[219,31,221,31],[220,13,220,14],[221,13,221,14],[280,31,282,31],[259,13,259,14],[239,13,239,14],[282,13,282,14],[273,13,273,14],[274,13,274,14],[280,13,280,14],[280,25,282,25],[264,13,264,14],[265,13,265,14],[266,13,266,14],[267,13,267,14],[270,13,270,14],[271,13,271,14],[272,13,272,14],[269,13,269,14],[240,13,240,14],[250,31,252,31],[250,25,252,25],[245,13,245,14],[247,13,247,14],[248,13,248,14],[241,13,241,14],[244,13,244,14],[280,2,282,2],[250,2,252,2],[250,13,250,14],[268,13,268,14],[281,13,281,14],[251,13,251,14],[275,13,275,14],[276,13,276,14],[277,13,277,14],[278,13,278,14],[273,2,274,2],[254,13,254,14],[255,13,255,14],[256,13,256,14],[257,13,257,14],[258,13,258,14],[252,13,252,14],[253,13,253,14],[260,13,260,14],[261,13,261,14],[262,13,262,14],[263,13,263,14],[279,13,279,14],[275,2,279,2],[236,31,238,31],[238,13,238,14],[231,13,231,14],[231,25,235,25],[236,25,238,25],[237,13,237,14],[225,13,225,14],[226,13,226,14],[227,13,227,14],[228,13,228,14],[229,13,229,14],[185,31,187,31],[186,13,186,14],[209,13,209,14],[210,13,210,14],[185,25,187,25],[169,13,169,14],[166,25,168,25],[168,13,168,14],[185,13,185,14],[172,13,172,14],[173,13,173,14],[174,13,174,14],[175,13,175,14],[183,13,183,14],[187,13,187,14],[176,13,176,14],[177,13,177,14],[178,13,178,14],[202,13,202,14],[198,13,198,14],[200,13,200,14],[201,13,201,14],[203,13,203,14],[203,25,205,25],[199,13,199,14],[123,13,123,14],[167,13,167,14],[176,2,184,2],[151,25,153,25],[150,13,150,14],[143,13,143,14],[94,13,94,14],[179,13,179,14],[180,13,180,14],[181,13,181,14],[182,13,182,14],[156,13,156,14],[135,2,142,2],[135,13,135,14],[154,13,154,14],[184,13,184,14],[153,13,153,14],[115,13,115,14],[164,13,164,14],[125,13,125,14],[188,13,188,14],[126,13,126,14],[127,13,127,14],[128,13,128,14],[129,13,129,14],[130,13,130,14],[145,13,145,14],[146,13,146,14],[147,13,147,14],[139,13,139,14],[140,13,140,14],[148,13,148,14],[149,13,149,14],[131,13,131,14],[132,13,132,14],[133,13,133,14],[134,13,134,14],[71,13,71,14],[65,13,65,14],[112,25,114,25],[86,13,86,14],[87,13,87,14],[96,13,96,14],[97,13,97,14],[98,13,98,14],[99,13,99,14],[100,13,100,14],[104,13,104,14],[111,13,111,14],[112,13,112,14],[103,13,103,14],[101,13,101,14],[102,13,102,14],[74,13,74,14],[95,13,95,14],[85,13,85,14],[66,13,66,14],[67,13,67,14],[68,13,68,14],[69,13,69,14],[70,13,70,14],[54,2,63,2],[55,13,55,14],[59,13,59,14],[62,13,62,14],[81,13,81,14],[82,2,84,2],[3,37,4,37],[5,2,11,2],[5,13,5,14],[3,28,3,32],[3,33,4,33],[3,34,4,34],[3,35,4,35],[3,10,4,10],[3,11,4,12],[11,13,11,14],[12,2,17,2],[12,13,12,14],[13,13,13,14],[14,13,14,14],[72,13,72,14],[64,13,64,14],[80,13,80,14],[73,13,73,14],[60,13,60,14],[52,13,52,14],[41,13,41,14],[44,13,44,14],[45,13,45,14],[46,13,46,14],[3,36,4,36],[26,13,26,14],[3,21,3,26],[3,17,3,20],[16,13,16,14],[4,18,4,20],[8,13,8,14],[9,13,9,14],[10,13,10,14],[15,13,15,14],[17,13,17,14],[283,11,283,12],[154,2,163,2],[244,2,249,2],[106,13,106,14],[107,13,107,14],[108,13,108,14],[109,13,109,14],[110,13,110,14],[116,13,116,14],[253,2,256,2],[257,2,266,2],[130,2,134,2],[149,2,150,2],[143,2,148,2],[189,13,189,14],[190,13,190,14],[141,13,141,14],[138,13,138,14],[113,13,113,14],[124,13,124,14],[227,2,230,2],[225,2,226,2],[222,2,224,2],[206,2,218,2],[0,15,0,33],[3,13,4,14],[3,15,4,15],[3,16,4,16],[6,13,6,14],[7,13,7,14],[82,31,84,31],[33,13,33,14],[34,13,34,14],[36,13,36,14],[38,13,38,14],[83,13,83,14],[48,13,48,14],[49,13,49,14],[50,13,50,14],[51,13,51,14],[75,13,75,14],[76,13,76,14],[77,13,77,14],[78,13,78,14],[32,13,32,14],[28,25,30,25],[28,31,30,31],[1,21,1,26],[2,0,2,1],[2,2,2,12],[2,17,2,20],[2,14,2,15],[1,14,1,17],[39,13,39,14],[40,13,40,14],[35,13,35,14],[27,13,27,14],[18,2,23,2],[18,13,18,14],[20,13,20,14],[21,13,21,14],[22,13,22,14],[23,13,23,14],[19,13,19,14],[5,0,27,0],[5,1,27,1],[31,0,81,0],[1,0,1,1],[1,2,1,12],[3,0,4,2],[3,3,4,3],[31,1,81,1],[2,21,2,33],[3,4,4,4],[3,6,4,6],[3,7,4,7],[3,8,4,8],[3,9,4,9],[152,13,152,14],[117,13,117,14],[118,13,118,14],[119,13,119,14],[120,13,120,14],[121,13,121,14],[93,13,93,14],[136,13,136,14],[137,13,137,14],[112,31,114,31],[151,31,153,31],[30,13,30,14],[29,13,29,14],[82,13,82,14],[61,13,61,14],[57,13,57,14],[47,13,47,14],[3,5,4,5],[219,2,221,2],[203,2,205,2],[64,2,71,2],[85,1,111,1],[85,0,111,0],[112,0,114,0],[115,0,150,0],[115,1,150,1],[253,1,279,1],[239,1,249,1],[239,0,249,0],[222,0,235,0],[222,1,235,1],[206,0,218,0],[206,1,218,1],[253,0,279,0],[154,0,165,0],[154,1,165,1],[188,0,202,0],[188,1,202,1],[169,0,184,0],[169,1,184,1],[188,2,202,2],[185,2,187,2]]}
["二酸化炭素削減対策自己診断結果",null,null,null,null,null,null,null,null,null,null,null,null,null,"対象施設",{"$f":"AN2&\"　\"&AO2&\"  \"&AP2&\"　\"&AQ2&\"　\"&AR2&\"　\"&AS2","v":"　  　　　"}]
["事業者名",null,null,null,null,null,null,null,null,null,null,null,null,"事業所名",null,null,null,null,"記入日",null,null,null,null,null,null,null,null,null,null,null,null,null,null,null,null,null,"基本実施率","標準－基本回答数",null,{"$f":"IF(AN4=TRUE,\"ビル･事務所\",\"\")","v":""},{"$f":"IF(AO4=TRUE,\"店舗･商業施設\",\"\")","v":""},{"$f":"IF(AP4=TRUE,\"工場･ﾌﾟﾗﾝﾄ･現場\",\"\")","v":""},{"$f":"IF(AQ4=TRUE,\"医療施設･学校等\",\"\")","v":""},{"$f":"IF(AR4=TRUE,\"倉庫・資材置場\",\"\")","v":""},{"$f":"IF(AS4=TRUE,\"自動車\",\"\")","v":""}]
["大分類",null,"建設業",null,null,null,null,null,null,null,null,null,null,"中分類",null,null,null,"小分類",null,null,null,null,null,null,null,null,null,null,null,null,null,null,null,null,null,null,null,null,null,null,null,null,null,null,null,null,null,null,null,null,null,{"$f":"VLOOKUP(C3,産業分類H25年度改訂版!O2:R21,4,FALSE)","v":"DD"}]
["分類",null,null,"分類","事務所ビル","店舗･商業施設","工場 現場","病院 学校","倉庫 置場","自動車","対象","基本対策は●",null,"チェック項目",null,"自己採点","県評価","基本項目採点",null,null,null,"標準項目自己採点",null,null,null,null,null,null,"県採点",null,null,null,null,"記事・所見欄",null,null,null,null,null,{"$f":"選択表!AN1","v":false},{"$f":"選択表!AO1","v":false},{"$f":"選択表!AP1","v":false},{"$f":"選択表!AQ1","v":false},{"$f":"選択表!AR1","v":false},{"$f":"選択表!AS1","v":false}]
[null,null,null,null,null,null,null,null,null,null,null,null,null,null,null,null,null,"対象","基本項目",null,null,"対象","採点","合計","項目数","小分類","大分類","対象数","県採点","合計","項目数","小分類","大分類",null,null,null,null,null,null,{"$f":"IF(AN4=TRUE,1,0)","v":0},0,0,0,0,0,"非対称事象","評価点計","対象個数"]
[1,"一般管理事項","省エネ推進体制",1,{"$f":"IF(選択表!E2=1,1,0)","v":1},{"$f":"IF(選択表!F2=1,1,0)","v":1},{"$f":"IF(選択表!G2=1,1,0)","v":1},{"$f":"IF(選択表!H2=1,1,0)","v":1},{"$f":"IF(選択表!I2=1,1,0)","v":1},{"$f":"IF(選択表!J2=1,1,0)","v":1},{"$f":"IF(選択表!K2=1,1,0)","v":0},{"$f":"IF(選択表!L2=\"●\",選択表!L2,\"\")","v":"●"},1,{"$f":"選択表!$N2","v":"エネルギー管理(省エネ活動)を継続的に行う組織があるか　"},null,{"$f":"IF(選択表!$P2=\"\",\"\",選択表!$P2)","v":""},{"$f":"IF(選択表!$Q2=\"\",\"\",選択表!$Q2)","v":""},{"$f":"IF(P6=\"\",0,COUNTA(P6)*COUNTIF(L6,\"●\"))","v":0},{"$f":"IF(R6=0,0,IF(P6=\"○\",5,IF(P6=\"△\",3,IF(P6=\"×\",1,0))))*IF(L6=\"●\",1,0)","v":0},{"$f":"IFERROR(SUM(S6:S12)/SUM(R6:R12),0)","v":0},{"$f":"IF(AM6=1,IFERROR(SUM(S6:S28)/SUM(R6:R28),0),\"\")","v":""},{"$f":"IF(P6=\"\",0,1)","v":0},{"$f":"IF(V6=0,0,IF(P6=\"○\",5,IF(P6=\"△\",3,IF(P6=\"×\",1,0))))","v":0},{"$f":"SUM(W6:W12)","v":0},{"$f":"COUNTIF(V6:V12,1)","v":0},{"$f":"IFERROR(X6/Y6,0)","v":0},{"$f":"IF(AM6=1,IFERROR((X6+X13+X19+X25+X28)/(Y6+Y13+Y19+Y25+Y28),0),\"\")","v":""},{"$f":"IF(Q6=\"対象外\",0,IF(OR(P6=\"○\",P6=\"△\",P6=\"×\",Q6=\"○\",Q6=\"△\",Q6=\"×\"),1,0))","v":0},{"$f":"IF(K6=0,\"\",IF(Q6=P6,W6,IF(Q6=\"○\",5,IF(Q6=\"△\",3,IF(Q6=\"×\",1,0)))))","v":""},{"$f":"SUM(AC6:AC12)","v":0},{"$f":"COUNTIF(AB6:AB12,1)","v":0},{"$f":"AD6/AE6","v":{"$error":"#DIV/0!"}},{"$f":"(AD6+AD13+AD19+AD25+AD28)/(AE6+AE13+AE19+AD25+AE28)","v":{"$error":"#DIV/0!"}},null,{"$f":"IF(SUM(K6:K12)>0,1,0)","v":0},null,{"$f":"SUM(R6:R28)/COUNTIF(L6:L28,\"●\")","v":0},{"$f":"SUM(V6:V28)-SUM(R6:R28)","v":0},{"$f":"IF(SUM(V6:V28)>=1,1,0)","v":0},null,null,null,null,null,null,null,null,null,"○","○"]
[null,null,null,1,{"$f":"IF(選択表!E3=1,1,0)","v":1},{"$f":"IF(選択表!F3=1,1,0)","v":1},{"$f":"IF(選択表!G3=1,1,0)","v":1},{"$f":"IF(選択表!H3=1,1,0)","v":1},{"$f":"IF(選択表!I3=1,1,0)","v":1},{"$f":"IF(選択表!J3=1,1,0)","v":1},{"$f":"IF(選択表!K3=1,1,0)","v":0},{"$f":"IF(選択表!L3=\"●\",選択表!L3,\"\")","v":"●"},2,{"$f":"選択表!$N3","v":"省エネ目標を設定し、省エネのPDCAを回す活動をしているか"},null,{"$f":"IF(選択表!$P3=\"\",\"\",選択表!$P3)","v":""},{"$f":"IF(選択表!$Q3=\"\",\"\",選択表!$Q3)","v":""},{"$f":"IF(P7=\"\",0,COUNTA(P7)*COUNTIF(L7,\"●\"))","v":0},{"$f":"IF(R7=0,0,IF(P7=\"○\",5,IF(P7=\"△\",3,IF(P7=\"×\",1,0))))*IF(L7=\"●\",1,0)","v":0},null,null,{"$f":"IF(P7=\"\",0,1)","v":0},{"$f":"IF(V7=0,0,IF(P7=\"○\",5,IF(P7=\"△\",3,IF(P7=\"×\",1,0))))","v":0},null,null,null,null,{"$f":"IF(Q7=\"対象外\",0,IF(OR(P7=\"○\",P7=\"△\",P7=\"×\",Q7=\"○\",Q7=\"△\",Q7=\"×\"),1,0))","v":0},{"$f":"IF(K7=0,\"\",IF(Q7=P7,W7,IF(Q7=\"○\",5,IF(Q7=\"△\",3,IF(Q7=\"×\",1,0)))))","v":""},null,null,null,null,null,null,null,null,null,null,null,null,null,null,null,null,null,null,null,"△","△"]
[null,null,null,1,{"$f":"IF(選択表!E4=1,1,0)","v":1},{"$f":"IF(選択表!F4=1,1,0)","v":1},{"$f":"IF(選択表!G4=1,1,0)","v":1},{"$f":"IF(選択表!H4=1,1,0)","v":1},{"$f":"IF(選択表!I4=1,1,0)","v":1},{"$f":"IF(選択表!J4=1,1,0)","v":1},{"$f":"IF(選択表!K4=1,1,0)","v":0},{"$f":"IF(選択表!L4=\"●\",選択表!L4,\"\")","v":""},3,{"$f":"選択表!$N4","v":"省エネの目標に対して、投資予算を確保しているか"},null,{"$f":"IF(選択表!$P4=\"\",\"\",選択表!$P4)","v":""},{"$f":"IF(選択表!$Q4=\"\",\"\",選択表!$Q4)","v":""},0,0,null,null,0,{"$f":"IF(V8=0,0,IF(P8=\"○\",5,IF(P8=\"△\",3,IF(P8=\"×\",1,0))))","v":0},null,null,null,null,0,"",null,null,null,null,null,null,null,null,null,null,null,null,null,null,null,null,null,null,null,"×","×"]
[null,null,null,1,{"$f":"IF(選択表!E5=1,1,0)","v":1},{"$f":"IF(選択表!F5=1,1,0)","v":1},{"$f":"IF(選択表!G5=1,1,0)","v":1},{"$f":"IF(選択表!H5=1,1,0)","v":1},{"$f":"IF(選択表!I5=1,1,0)","v":1},{"$f":"IF(選択表!J5=1,1,0)","v":1},{"$f":"IF(選択表!K5=1,1,0)","v":0},{"$f":"IF(選択表!L5=\"●\",選択表!L5,\"\")","v":""},4,{"$f":"選択表!$N5","v":"省エネ対策の年度計画や中長期計画を設定、予算を確保しているか"},null,{"$f":"IF(選択表!$P5=\"\",\"\",選択表!$P5)","v":""},{"$f":"IF(選択表!$Q5=\"\",\"\",選択表!$Q5)","v":""},0,0,null,null,0,0,null,null,null,null,0,"",null,null,null,null,null,null,null,null,null,null,null,null,null,null,null,null,null,null,null,null,"対象外"]
[null,null,null,1,{"$f":"IF(選択表!E6=1,1,0)","v":1},{"$f":"IF(選択表!F6=1,1,0)","v":1},{"$f":"IF(選択表!G6=1,1,0)","v":1},{"$f":"IF(選択表!H6=1,1,0)","v":1},{"$f":"IF(選択表!I6=1,1,0)","v":1},{"$f":"IF(選択表!J6=1,1,0)","v":1},{"$f":"IF(選択表!K6=1,1,0)","v":0},{"$f":"IF(選択表!L6=\"●\",選択表!L6,\"\")","v":"●"},5,{"$f":"選択表!$N6","v":"省エネ実施状況の掲示(年間・月毎の目標と実績等）をしているか"},null,{"$f":"IF(選択表!$P6=\"\",\"\",選択表!$P6)","v":""},{"$f":"IF(選択表!$Q6=\"\",\"\",選択表!$Q6)","v":""},0,0,null,null,0,0,null,null,null,null,0,""]
[null,null,null,1,{"$f":"IF(選択表!E7=1,1,0)","v":1},{"$f":"IF(選択表!F7=1,1,0)","v":1},{"$f":"IF(選択表!G7=1,1,0)","v":1},{"$f":"IF(選択表!H7=1,1,0)","v":1},{"$f":"IF(選択表!I7=1,1,0)","v":1},{"$f":"IF(選択表!J7=1,1,0)","v":1},{"$f":"IF(選択表!K7=1,1,0)","v":0},{"$f":"IF(選択表!L7=\"●\",選択表!L7,\"\")","v":"●"},6,{"$f":"選択表!$N7","v":"人材教育や省エネ啓蒙活動(ポスター掲示等）をしているか"},null,{"$f":"IF(選択表!$P7=\"\",\"\",選択表!$P7)","v":""},{"$f":"IF(選択表!$Q7=\"\",\"\",選択表!$Q7)","v":""},0,0,null,null,0,0,null,null,null,null,0,""]
[null,null,null,1,{"$f":"IF(選択表!E8=1,1,0)","v":1},{"$f":"IF(選択表!F8=1,1,0)","v":1},{"$f":"IF(選択表!G8=1,1,0)","v":1},{"$f":"IF(選択表!H8=1,1,0)","v":1},{"$f":"IF(選択表!I8=1,1,0)","v":1},{"$f":"IF(選択表!J8=1,1,0)","v":0},{"$f":"IF(選択表!K8=1,1,0)","v":0},{"$f":"IF(選択表!L8=\"●\",選択表!L8,\"\")","v":"●"},7,{"$f":"選択表!$N8","v":"クールビズ、ウォームビズを実施しているか"},null,{"$f":"IF(選択表!$P8=\"\",\"\",選択表!$P8)","v":""},{"$f":"IF(選択表!$Q8=\"\",\"\",選択表!$Q8)","v":""},0,0,null,null,0,0,null,null,null,null,0,""]
[null,null,"保全・計測・記録",1,{"$f":"IF(選択表!E9=1,1,0)","v":1},{"$f":"IF(選択表!F9=1,1,0)","v":1},{"$f":"IF(選択表!G9=1,1,0)","v":1},{"$f":"IF(選択表!H9=1,1,0)","v":1},{"$f":"IF(選択表!I9=1,1,0)","v":1},{"$f":"IF(選択表!J9=1,1,0)","v":1},{"$f":"IF(選択表!K9=1,1,0)","v":0},{"$f":"IF(選択表!L9=\"●\",選択表!L9,\"\")","v":"●"},1,{"$f":"選択表!$N9","v":"主要設備の運転記録があるか（記録計、日報記録等）"},null,{"$f":"IF(選択表!$P9=\"\",\"\",選択表!$P9)","v":""},{"$f":"IF(選択表!$Q9=\"\",\"\",選択表!$Q9)","v":""},0,0,{"$f":"IFERROR(SUM(S13:S18)/SUM(R13:R18),0)","v":0},null,0,0,{"$f":"SUM(W13:W18)","v":0},{"$f":"COUNTIF(V13:V18,1)","v":0},{"$f":"IFERROR(X13/Y13,0)","v":0},null,0,"",{"$f":"SUM(AC13:AC18)","v":0},{"$f":"COUNTIF(AB13:AB18,1)","v":0},{"$f":"AD13/AE13","v":{"$error":"#DIV/0!"}},null,null,{"$f":"IF(SUM(K13:K18)>0,1,0)","v":0}]
[null,null,null,1,{"$f":"IF(選択表!E10=1,1,0)","v":1},{"$f":"IF(選択表!F10=1,1,0)","v":1},{"$f":"IF(選択表!G10=1,1,0)","v":1},{"$f":"IF(選択表!H10=1,1,0)","v":1},{"$f":"IF(選択表!I10=1,1,0)","v":1},{"$f":"IF(選択表!J10=1,1,0)","v":1},{"$f":"IF(選択表!K10=1,1,0)","v":0},{"$f":"IF(選択表!L10=\"●\",選択表!L10,\"\")","v":"●"},2,{"$f":"選択表!$N10","v":"定期点検・保守計画があり、点検・保守をおこなっているか"},null,{"$f":"IF(選択表!$P10=\"\",\"\",選択表!$P10)","v":""},{"$f":"IF(選択表!$Q10=\"\",\"\",選択表!$Q10)","v":""},0,0,null,null,0,0,null,null,null,null,0,""]
[null,null,null,1,{"$f":"IF(選択表!E11=1,1,0)","v":1},{"$f":"IF(選択表!F11=1,1,0)","v":1},{"$f":"IF(選択表!G11=1,1,0)","v":1},{"$f":"IF(選択表!H11=1,1,0)","v":1},{"$f":"IF(選択表!I11=1,1,0)","v":1},{"$f":"IF(選択表!J11=1,1,0)","v":1},{"$f":"IF(選択表!K11=1,1,0)","v":0},{"$f":"IF(選択表!L11=\"●\",選択表!L11,\"\")","v":"●"},3,{"$f":"選択表!$N11","v":"エネルギー計測器、計測点は十分であり、適正に管理されているか"},null,{"$f":"IF(選択表!$P11=\"\",\"\",選択表!$P11)","v":""},{"$f":"IF(選択表!$Q11=\"\",\"\",選択表!$Q11)","v":""},0,0,null,null,0,0,null,null,null,null,0,""]
[null,null,null,1,{"$f":"IF(選択表!E12=1,1,0)","v":1},{"$f":"IF(選択表!F12=1,1,0)","v":1},{"$f":"IF(選択表!G12=1,1,0)","v":1},{"$f":"IF(選択表!H12=1,1,0)","v":1},{"$f":"IF(選択表!I12=1,1,0)","v":1},{"$f":"IF(選択表!J12=1,1,0)","v":0},{"$f":"IF(選択表!K12=1,1,0)","v":0},{"$f":"IF(選択表!L12=\"●\",選択表!L12,\"\")","v":"●"},4,{"$f":"選択表!$N12","v":"主要設備の効率、負荷に係る計測、記録をしているか"},null,{"$f":"IF(選択表!$P12=\"\",\"\",選択表!$P12)","v":""},{"$f":"IF(選択表!$Q12=\"\",\"\",選択表!$Q12)","v":""},0,0,null,null,0,0,null,null,null,null,0,""]
[null,null,null,1,{"$f":"IF(選択表!E13=1,1,0)","v":1},{"$f":"IF(選択表!F13=1,1,0)","v":1},{"$f":"IF(選択表!G13=1,1,0)","v":1},{"$f":"IF(選択表!H13=1,1,0)","v":1},{"$f":"IF(選択表!I13=1,1,0)","v":1},{"$f":"IF(選択表!J13=1,1,0)","v":0},{"$f":"IF(選択表!K13=1,1,0)","v":0},{"$f":"IF(選択表!L13=\"●\",選択表!L13,\"\")","v":""},5,{"$f":"選択表!$N13","v":"主要設備機器の性能、仕様、取得年月がわかるようリスト化されているか"},null,{"$f":"IF(選択表!$P13=\"\",\"\",選択表!$P13)","v":""},{"$f":"IF(選択表!$Q13=\"\",\"\",選択表!$Q13)","v":""},0,0,null,null,0,0,null,null,null,null,0,""]
[null,null,null,1,{"$f":"IF(選択表!E14=1,1,0)","v":1},{"$f":"IF(選択表!F14=1,1,0)","v":1},{"$f":"IF(選択表!G14=1,1,0)","v":1},{"$f":"IF(選択表!H14=1,1,0)","v":1},{"$f":"IF(選択表!I14=1,1,0)","v":1},{"$f":"IF(選択表!J14=1,1,0)","v":0},{"$f":"IF(選択表!K14=1,1,0)","v":0},{"$f":"IF(選択表!L14=\"●\",選択表!L14,\"\")","v":"●"},6,{"$f":"選択表!$N14","v":"機器リスト、電気図面、空調や配管系統図などが更新されているか"},null,{"$f":"IF(選択表!$P14=\"\",\"\",選択表!$P14)","v":""},{"$f":"IF(選択表!$Q14=\"\",\"\",選択表!$Q14)","v":""},0,0,null,null,0,0,null,null,null,null,0,""]
[null,null,"エネルギー使用量管理",1,{"$f":"IF(選択表!E15=1,1,0)","v":1},{"$f":"IF(選択表!F15=1,1,0)","v":1},{"$f":"IF(選択表!G15=1,1,0)","v":1},{"$f":"IF(選択表!H15=1,1,0)","v":1},{"$f":"IF(選択表!I15=1,1,0)","v":1},{"$f":"IF(選択表!J15=1,1,0)","v":0},{"$f":"IF(選択表!K15=1,1,0)","v":0},{"$f":"IF(選択表!L15=\"●\",選択表!L15,\"\")","v":""},1,{"$f":"選択表!$N15","v":"消費エネルギーのフロー（エネルギー種別、使用先別の使用量）が把握されているか"},null,{"$f":"IF(選択表!$P15=\"\",\"\",選択表!$P15)","v":""},{"$f":"IF(選択表!$Q15=\"\",\"\",選択表!$Q15)","v":""},0,0,{"$f":"IFERROR(SUM(S19:S24)/SUM(R19:R24),0)","v":0},null,0,0,{"$f":"SUM(W19:W24)","v":0},{"$f":"COUNTIF(V19:V24,1)","v":0},{"$f":"IFERROR(X19/Y19,0)","v":0},null,0,"",{"$f":"SUM(AC19:AC24)","v":0},{"$f":"COUNTIF(AB19:AB24,1)","v":0},{"$f":"AD19/AE19","v":{"$error":"#DIV/0!"}},null,null,{"$f":"IF(SUM(K19:K24)>0,1,0)","v":0}]
[null,null,null,1,{"$f":"IF(選択表!E16=1,1,0)","v":1},{"$f":"IF(選択表!F16=1,1,0)","v":1},{"$f":"IF(選択表!G16=1,1,0)","v":1},{"$f":"IF(選択表!H16=1,1,0)","v":1},{"$f":"IF(選択表!I16=1,1,0)","v":1},{"$f":"IF(選択表!J16=1,1,0)","v":0},{"$f":"IF(選択表!K16=1,1,0)","v":0},{"$f":"IF(選択表!L16=\"●\",選択表!L16,\"\")","v":"●"},2,{"$f":"選択表!$N16","v":"主要設備の管理標準があるか（空調、換気、生産設備、照明等）"},null,{"$f":"IF(選択表!$P16=\"\",\"\",選択表!$P16)","v":""},{"$f":"IF(選択表!$Q16=\"\",\"\",選択表!$Q16)","v":""},0,0,null,null,0,0,null,null,null,null,0,""]
[null,null,null,1,{"$f":"IF(選択表!E17=1,1,0)","v":1},{"$f":"IF(選択表!F17=1,1,0)","v":1},{"$f":"IF(選択表!G17=1,1,0)","v":1},{"$f":"IF(選択表!H17=1,1,0)","v":1},{"$f":"IF(選択表!I17=1,1,0)","v":1},{"$f":"IF(選択表!J17=1,1,0)","v":0},{"$f":"IF(選択表!K17=1,1,0)","v":0},{"$f":"IF(選択表!L17=\"●\",選択表!L17,\"\")","v":""},3,{"$f":"選択表!$N17","v":"区画・系統もしくは機器別に1日の消費エネルギーがすぐに把握できるか"},null,{"$f":"IF(選択表!$P17=\"\",\"\",選択表!$P17)","v":""},{"$f":"IF(選択表!$Q17=\"\",\"\",選択表!$Q17)","v":""},0,0,null,null,0,0,null,null,null,null,0,""]
[null,null,null,1,{"$f":"IF(選択表!E18=1,1,0)","v":1},{"$f":"IF(選択表!F18=1,1,0)","v":1},{"$f":"IF(選択表!G18=1,1,0)","v":1},{"$f":"IF(選択表!H18=1,1,0)","v":1},{"$f":"IF(選択表!I18=1,1,0)","v":1},{"$f":"IF(選択表!J18=1,1,0)","v":0},{"$f":"IF(選択表!K18=1,1,0)","v":0},{"$f":"IF(選択表!L18=\"●\",選択表!L18,\"\")","v":""},4,{"$f":"選択表!$N18","v":"1日の時間毎の電力使用量を計測し、日負荷曲線の管理をしているか"},null,{"$f":"IF(選択表!$P18=\"\",\"\",選択表!$P18)","v":""},{"$f":"IF(選択表!$Q18=\"\",\"\",選択表!$Q18)","v":""},0,0,null,null,0,0,null,null,null,null,0,""]
[null,null,null,1,{"$f":"IF(選択表!E19=1,1,0)","v":1},{"$f":"IF(選択表!F19=1,1,0)","v":1},{"$f":"IF(選択表!G19=1,1,0)","v":1},{"$f":"IF(選択表!H19=1,1,0)","v":1},{"$f":"IF(選択表!I19=1,1,0)","v":1},{"$f":"IF(選択表!J19=1,1,0)","v":1},{"$f":"IF(選択表!K19=1,1,0)","v":0},{"$f":"IF(選択表!L19=\"●\",選択表!L19,\"\")","v":""},5,{"$f":"選択表!$N19","v":"エネルギー使用量の原単位管理をしているか　　"},null,{"$f":"IF(選択表!$P19=\"\",\"\",選択表!$P19)","v":""},{"$f":"IF(選択表!$Q19=\"\",\"\",選択表!$Q19)","v":""},0,0,null,null,0,0,null,null,null,null,0,""]
[null,null,null,1,{"$f":"IF(選択表!E20=1,1,0)","v":1},{"$f":"IF(選択表!F20=1,1,0)","v":1},{"$f":"IF(選択表!G20=1,1,0)","v":1},{"$f":"IF(選択表!H20=1,1,0)","v":1},{"$f":"IF(選択表!I20=1,1,0)","v":1},{"$f":"IF(選択表!J20=1,1,0)","v":1},{"$f":"IF(選択表!K20=1,1,0)","v":0},{"$f":"IF(選択表!L20=\"●\",選択表!L20,\"\")","v":"●"},6,{"$f":"選択表!$N20","v":"月毎、年度毎の使用量管理、前年度比較をしているか(表・グラフ化等）"},null,{"$f":"IF(選択表!$P20=\"\",\"\",選択表!$P20)","v":""},{"$f":"IF(選択表!$Q20=\"\",\"\",選択表!$Q20)","v":""},0,0,null,null,0,0,null,null,null,null,0,""]
[null,null,"エネルギー原単位の管理",1,{"$f":"IF(選択表!E21=1,1,0)","v":1},{"$f":"IF(選択表!F21=1,1,0)","v":1},{"$f":"IF(選択表!G21=1,1,0)","v":1},{"$f":"IF(選択表!H21=1,1,0)","v":1},{"$f":"IF(選択表!I21=1,1,0)","v":1},{"$f":"IF(選択表!J21=1,1,0)","v":0},{"$f":"IF(選択表!K21=1,1,0)","v":0},{"$f":"IF(選択表!L21=\"●\",選択表!L21,\"\")","v":"●"},1,{"$f":"選択表!$N21","v":"原単位（建物別、工程別、製品別、消費先別、部署別など）を管理しているか"},null,{"$f":"IF(選択表!$P21=\"\",\"\",選択表!$P21)","v":""},{"$f":"IF(選択表!$Q21=\"\",\"\",選択表!$Q21)","v":""},0,0,{"$f":"IFERROR(SUM(S25:S27)/SUM(R25:R27),0)","v":0},null,0,0,{"$f":"SUM(W25:W27)","v":0},{"$f":"COUNTIF(V25:V27,1)","v":0},{"$f":"IFERROR(X25/Y25,0)","v":0},null,0,"",{"$f":"SUM(AC25:AC27)","v":0},{"$f":"COUNTIF(AB25:AB27,1)","v":0},{"$f":"AD25/AE25","v":{"$error":"#DIV/0!"}},null,null,{"$f":"IF(SUM(K25:K27)>0,1,0)","v":0}]
[null,null,null,1,{"$f":"IF(選択表!E22=1,1,0)","v":1},{"$f":"IF(選択表!F22=1,1,0)","v":1},{"$f":"IF(選択表!G22=1,1,0)","v":1},{"$f":"IF(選択表!H22=1,1,0)","v":1},{"$f":"IF(選択表!I22=1,1,0)","v":1},{"$f":"IF(選択表!J22=1,1,0)","v":0},{"$f":"IF(選択表!K22=1,1,0)","v":0},{"$f":"IF(選択表!L22=\"●\",選択表!L22,\"\")","v":""},2,{"$f":"選択表!$N22","v":"原単位の過去実績との比較及び要因分析をしているか"},null,{"$f":"IF(選択表!$P22=\"\",\"\",選択表!$P22)","v":""},{"$f":"IF(選択表!$Q22=\"\",\"\",選択表!$Q22)","v":""},0,0,null,null,0,0,null,null,null,null,0,""]
[null,null,null,1,{"$f":"IF(選択表!E23=1,1,0)","v":1},{"$f":"IF(選択表!F23=1,1,0)","v":1},{"$f":"IF(選択表!G23=1,1,0)","v":1},{"$f":"IF(選択表!H23=1,1,0)","v":1},{"$f":"IF(選択表!I23=1,1,0)","v":1},{"$f":"IF(選択表!J23=1,1,0)","v":0},{"$f":"IF(選択表!K23=1,1,0)","v":0},{"$f":"IF(選択表!L23=\"●\",選択表!L23,\"\")","v":""},3,{"$f":"選択表!$N23","v":"原単位改善に向けた取り組みを行っているか"},null,{"$f":"IF(選択表!$P23=\"\",\"\",選択表!$P23)","v":""},{"$f":"IF(選択表!$Q23=\"\",\"\",選択表!$Q23)","v":""},0,0,null,null,0,0,null,null,null,null,0,""]
[null,null,"その他",1,{"$f":"IF(選択表!E24=1,1,0)","v":1},{"$f":"IF(選択表!F24=1,1,0)","v":1},{"$f":"IF(選択表!G24=1,1,0)","v":1},{"$f":"IF(選択表!H24=1,1,0)","v":1},{"$f":"IF(選択表!I24=1,1,0)","v":1},{"$f":"IF(選択表!J24=1,1,0)","v":1},{"$f":"IF(選択表!K24=1,1,0)","v":0},{"$f":"IF(選択表!L24=\"●\",選択表!L24,\"\")","v":""},1,{"$f":"選択表!$N24","v":"環境負荷の少ないエネルギーを優先的に購入・使用している。"},null,{"$f":"IF(選択表!$P24=\"\",\"\",選択表!$P24)","v":""},{"$f":"IF(選択表!$Q24=\"\",\"\",選択表!$Q24)","v":""},0,0,{"$f":"IFERROR(SUM(S28:S28)/SUM(R28:R28),0)","v":0},null,0,0,{"$f":"SUM(W28:W28)","v":0},{"$f":"COUNTIF(V28:V28,1)","v":0},{"$f":"IFERROR(X28/Y28,0)","v":0},null,0,"",{"$f":"SUM(AC28:AC28)","v":0},{"$f":"COUNTIF(AB28:AB28,1)","v":0},{"$f":"AD28/AE28","v":{"$error":"#DIV/0!"}},null,null,{"$f":"IF(SUM(K28:K28)>0,1,0)","v":0}]
[null,null,"事業所のその他個別追加対策(任意記載）",1,{"$f":"IF(選択表!E25=1,1,0)","v":1},{"$f":"IF(選択表!F25=1,1,0)","v":1},{"$f":"IF(選択表!G25=1,1,0)","v":1},{"$f":"IF(選択表!H25=1,1,0)","v":1},{"$f":"IF(選択表!I25=1,1,0)","v":1},{"$f":"IF(選択表!J25=1,1,0)","v":1},{"$f":"IF(選択表!K25=1,1,0)","v":0},{"$f":"IF(選択表!L25=\"●\",選択表!L25,\"\")","v":""},1,{"$f":"選択表!$N25","v":0},null,{"$f":"IF(選択表!$P25=\"\",\"\",選択表!$P25)","v":""},{"$f":"IF(選択表!$Q25=\"\",\"\",選択表!$Q25)","v":""},0,null,null,null,0,0,{"$f":"SUM(W29:W31)","v":0},{"$f":"COUNTIF(V29:V31,1)","v":0},{"$f":"IFERROR(X29/Y29,\"\")","v":""},null,0,{"$f":"IF(K29=0,\"\",IF(Q29=\"○\",5,IF(Q29=\"△\",3,IF(Q29=\"×\",1,0))))","v":""},{"$f":"SUM(AC29:AC31)","v":0},{"$f":"COUNTIF(AB29:AB31,1)","v":0},{"$f":"AD29/AE29","v":{"$error":"#DIV/0!"}},null,null,null,null,null,null,{"$f":"IF(SUM(V29:V82)>=1,1,0)","v":0}]
[null,null,null,1,{"$f":"IF(選択表!E26=1,1,0)","v":1},{"$f":"IF(選択表!F26=1,1,0)","v":1},{"$f":"IF(選択表!G26=1,1,0)","v":1},{"$f":"IF(選択表!H26=1,1,0)","v":1},{"$f":"IF(選択表!I26=1,1,0)","v":1},{"$f":"IF(選択表!J26=1,1,0)","v":1},{"$f":"IF(選択表!K26=1,1,0)","v":0},{"$f":"IF(選択表!L26=\"●\",選択表!L26,\"\")","v":""},2,{"$f":"選択表!$N26","v":0},null,{"$f":"IF(選択表!$P26=\"\",\"\",選択表!$P26)","v":""},{"$f":"IF(選択表!$Q26=\"\",\"\",選択表!$Q26)","v":""},0,null,null,null,0,0,null,null,null,null,0,{"$f":"IF(K30=0,\"\",IF(Q30=\"○\",5,IF(Q30=\"△\",3,IF(Q30=\"×\",1,0))))","v":""}]
[null,null,null,1,{"$f":"IF(選択表!E27=1,1,0)","v":1},{"$f":"IF(選択表!F27=1,1,0)","v":1},{"$f":"IF(選択表!G27=1,1,0)","v":1},{"$f":"IF(選択表!H27=1,1,0)","v":1},{"$f":"IF(選択表!I27=1,1,0)","v":1},{"$f":"IF(選択表!J27=1,1,0)","v":1},{"$f":"IF(選択表!K27=1,1,0)","v":0},{"$f":"IF(選択表!L27=\"●\",選択表!L27,\"\")","v":""},3,{"$f":"選択表!$N27","v":0},null,{"$f":"IF(選択表!$P27=\"\",\"\",選択表!$P27)","v":""},{"$f":"IF(選択表!$Q27=\"\",\"\",選択表!$Q27)","v":""},0,null,null,null,0,0,null,null,null,null,0,{"$f":"IF(K31=0,\"\",IF(Q31=\"○\",5,IF(Q31=\"△\",3,IF(Q31=\"×\",1,0))))","v":""}]
[2,"空調、換気、冷凍、冷蔵設備","空調設備の運転管理",2,{"$f":"IF(選択表!E28=1,1,0)","v":1},{"$f":"IF(選択表!F28=1,1,0)","v":1},{"$f":"IF(選択表!G28=1,1,0)","v":1},{"$f":"IF(選択表!H28=1,1,0)","v":1},{"$f":"IF(選択表!I28=1,1,0)","v":1},{"$f":"IF(選択表!J28=1,1,0)","v":0},{"$f":"IF(選択表!K28=1,1,0)","v":0},{"$f":"IF(選択表!L28=\"●\",選択表!L28,\"\")","v":"●"},1,{"$f":"選択表!$N28","v":"室内の温度の適正管理をしているか（例：冬季20℃、夏季28℃）"},null,{"$f":"IF(選択表!$P28=\"\",\"\",選択表!$P28)","v":""},{"$f":"IF(選択表!$Q28=\"\",\"\",選択表!$Q28)","v":"△"},0,0,{"$f":"IFERROR(SUM(S32:S40)/SUM(R32:R40),0)","v":0},{"$f":"IF(AM32=1,IFERROR(SUM(S32:S82)/SUM(R32:R82),0),\"\")","v":""},0,0,{"$f":"SUM(W32:W40)","v":0},{"$f":"COUNTIF(V32:V40,1)","v":0},{"$f":"IFERROR(X32/Y32,0)","v":0},{"$f":"IF(AM32=1,IFERROR(SUM(X32:X82)/SUM($Y32:$Y82),0),\"\")","v":""},1,{"$f":"IF(K32=0,\"\",IF(Q32=P32,W32,IF(Q32=\"○\",5,IF(Q32=\"△\",3,IF(Q32=\"×\",1,0)))))","v":""},{"$f":"SUM(AC32:AC40)","v":0},{"$f":"COUNTIF(AB32:AB40,1)","v":1},{"$f":"AD32/AE32","v":0},{"$f":"SUM(AD32:AD82)/SUM($Y32:$Y82)","v":{"$error":"#DIV/0!"}},null,{"$f":"IF(SUM(K32:K40)>0,1,0)","v":0},null,{"$f":"SUM(R32:R82)/COUNTIF(L32:L82,\"●\")","v":0},{"$f":"SUM(V32:V82)-SUM(R32:R82)","v":0},{"$f":"IF(SUM(V32:V82)>=1,1,0)","v":0}]
[null,null,null,2,{"$f":"IF(選択表!E29=1,1,0)","v":1},{"$f":"IF(選択表!F29=1,1,0)","v":1},{"$f":"IF(選択表!G29=1,1,0)","v":1},{"$f":"IF(選択表!H29=1,1,0)","v":1},{"$f":"IF(選択表!I29=1,1,0)","v":1},{"$f":"IF(選択表!J29=1,1,0)","v":0},{"$f":"IF(選択表!K29=1,1,0)","v":0},{"$f":"IF(選択表!L29=\"●\",選択表!L29,\"\")","v":""},2,{"$f":"選択表!$N29","v":"週間・年間スケジュール運転をしているか（切り忘れ防止。朝の立上げ早すぎ防止。）"},null,{"$f":"IF(選択表!$P29=\"\",\"\",選択表!$P29)","v":""},{"$f":"IF(選択表!$Q29=\"\",\"\",選択表!$Q29)","v":""},0,0,null,null,0,0,null,null,null,null,0,""]
[null,null,null,2,{"$f":"IF(選択表!E30=1,1,0)","v":1},{"$f":"IF(選択表!F30=1,1,0)","v":1},{"$f":"IF(選択表!G30=1,1,0)","v":1},{"$f":"IF(選択表!H30=1,1,0)","v":1},{"$f":"IF(選択表!I30=1,1,0)","v":1},{"$f":"IF(選択表!J30=1,1,0)","v":0},{"$f":"IF(選択表!K30=1,1,0)","v":0},{"$f":"IF(選択表!L30=\"●\",選択表!L30,\"\")","v":""},3,{"$f":"選択表!$N30","v":"空調エリアでは、外気侵入や室内気の洩れを遮断しているか（扉の開放、隙間対策等）"},null,{"$f":"IF(選択表!$P30=\"\",\"\",選択表!$P30)","v":""},{"$f":"IF(選択表!$Q30=\"\",\"\",選択表!$Q30)","v":""},0,0,null,null,0,0,null,null,null,null,0,""]
[null,null,null,2,{"$f":"IF(選択表!E31=1,1,0)","v":1},{"$f":"IF(選択表!F31=1,1,0)","v":1},{"$f":"IF(選択表!G31=1,1,0)","v":1},{"$f":"IF(選択表!H31=1,1,0)","v":1},{"$f":"IF(選択表!I31=1,1,0)","v":1},{"$f":"IF(選択表!J31=1,1,0)","v":0},{"$f":"IF(選択表!K31=1,1,0)","v":0},{"$f":"IF(選択表!L31=\"●\",選択表!L31,\"\")","v":""},4,{"$f":"選択表!$N31","v":"外気導入量の制御もしくは管理をしているか（管理標準の例：屋内CO2濃度800～950ppm、室内陽圧度）"},null,{"$f":"IF(選択表!$P31=\"\",\"\",選択表!$P31)","v":""},{"$f":"IF(選択表!$Q31=\"\",\"\",選択表!$Q31)","v":""},0,0,null,null,0,0,null,null,null,null,0,""]
[null,null,null,2,{"$f":"IF(選択表!E32=1,1,0)","v":1},{"$f":"IF(選択表!F32=1,1,0)","v":1},{"$f":"IF(選択表!G32=1,1,0)","v":1},{"$f":"IF(選択表!H32=1,1,0)","v":1},{"$f":"IF(選択表!I32=1,1,0)","v":1},{"$f":"IF(選択表!J32=1,1,0)","v":0},{"$f":"IF(選択表!K32=1,1,0)","v":0},{"$f":"IF(選択表!L32=\"●\",選択表!L32,\"\")","v":""},5,{"$f":"選択表!$N32","v":"換気回数は必要最小限としているか"},null,{"$f":"IF(選択表!$P32=\"\",\"\",選択表!$P32)","v":""},{"$f":"IF(選択表!$Q32=\"\",\"\",選択表!$Q32)","v":""},0,{"$f":"IF(R36=0,0,IF(P36=\"○\",5,IF(P36=\"△\",3,IF(P36=\"×\",1,0))))*IF(L36=\"●\",1,0)","v":0},null,null,0,0,null,null,null,null,0,""]
[null,null,null,2,{"$f":"IF(選択表!E33=1,1,0)","v":1},{"$f":"IF(選択表!F33=1,1,0)","v":1},{"$f":"IF(選択表!G33=1,1,0)","v":1},{"$f":"IF(選択表!H33=1,1,0)","v":1},{"$f":"IF(選択表!I33=1,1,0)","v":1},{"$f":"IF(選択表!J33=1,1,0)","v":0},{"$f":"IF(選択表!K33=1,1,0)","v":0},{"$f":"IF(選択表!L33=\"●\",選択表!L33,\"\")","v":"●"},6,{"$f":"選択表!$N33","v":"中間期、冬期で冷房が必要な場合、外気冷房を活用しているか"},null,{"$f":"IF(選択表!$P33=\"\",\"\",選択表!$P33)","v":""},{"$f":"IF(選択表!$Q33=\"\",\"\",選択表!$Q33)","v":""},0,{"$f":"IF(R37=0,0,IF(P37=\"○\",5,IF(P37=\"△\",3,IF(P37=\"×\",1,0))))*IF(L37=\"●\",1,0)","v":0},null,null,0,0,null,null,null,null,0,""]
[null,null,null,2,{"$f":"IF(選択表!E34=1,1,0)","v":1},{"$f":"IF(選択表!F34=1,1,0)","v":1},{"$f":"IF(選択表!G34=1,1,0)","v":1},{"$f":"IF(選択表!H34=1,1,0)","v":1},{"$f":"IF(選択表!I34=1,1,0)","v":1},{"$f":"IF(選択表!J34=1,1,0)","v":0},{"$f":"IF(選択表!K34=1,1,0)","v":0},{"$f":"IF(選択表!L34=\"●\",選択表!L34,\"\")","v":"●"},7,{"$f":"選択表!$N34","v":"冷房時の除湿再熱運転を停止する、もしくは見直ししているか"},null,{"$f":"IF(選択表!$P34=\"\",\"\",選択表!$P34)","v":""},{"$f":"IF(選択表!$Q34=\"\",\"\",選択表!$Q34)","v":""},0,{"$f":"IF(R38=0,0,IF(P38=\"○\",5,IF(P38=\"△\",3,IF(P38=\"×\",1,0))))*IF(L38=\"●\",1,0)","v":0},null,null,0,0,null,null,null,null,0,""]
[null,null,null,2,{"$f":"IF(選択表!E35=1,1,0)","v":1},{"$f":"IF(選択表!F35=1,1,0)","v":1},{"$f":"IF(選択表!G35=1,1,0)","v":1},{"$f":"IF(選択表!H35=1,1,0)","v":1},{"$f":"IF(選択表!I35=1,1,0)","v":1},{"$f":"IF(選択表!J35=1,1,0)","v":0},{"$f":"IF(選択表!K35=1,1,0)","v":0},{"$f":"IF(選択表!L35=\"●\",選択表!L35,\"\")","v":"●"},8,{"$f":"選択表!$N35","v":"フィルタ清掃や交換、屋外機フィン清掃を定期的に実施しているか"},null,{"$f":"IF(選択表!$P35=\"\",\"\",選択表!$P35)","v":""},{"$f":"IF(選択表!$Q35=\"\",\"\",選択表!$Q35)","v":""},0,0,null,null,0,0,null,null,null,null,0,""]
[null,null,null,2,{"$f":"IF(選択表!E36=1,1,0)","v":1},{"$f":"IF(選択表!F36=1,1,0)","v":1},{"$f":"IF(選択表!G36=1,1,0)","v":1},{"$f":"IF(選択表!H36=1,1,0)","v":1},{"$f":"IF(選択表!I36=1,1,0)","v":1},{"$f":"IF(選択表!J36=1,1,0)","v":0},{"$f":"IF(選択表!K36=1,1,0)","v":0},{"$f":"IF(選択表!L36=\"●\",選択表!L36,\"\")","v":""},9,{"$f":"選択表!$N36","v":"夏期：室外機への日よけ設置、屋上や室外機への散水を実施しているか"},null,{"$f":"IF(選択表!$P36=\"\",\"\",選択表!$P36)","v":""},{"$f":"IF(選択表!$Q36=\"\",\"\",選択表!$Q36)","v":""},0,0,null,null,0,0,null,null,null,null,0,""]
[null,null,"負荷低減対策",2,{"$f":"IF(選択表!E37=1,1,0)","v":1},{"$f":"IF(選択表!F37=1,1,0)","v":1},{"$f":"IF(選択表!G37=1,1,0)","v":1},{"$f":"IF(選択表!H37=1,1,0)","v":1},{"$f":"IF(選択表!I37=1,1,0)","v":1},{"$f":"IF(選択表!J37=1,1,0)","v":0},{"$f":"IF(選択表!K37=1,1,0)","v":0},{"$f":"IF(選択表!L37=\"●\",選択表!L37,\"\")","v":"●"},1,{"$f":"選択表!$N37","v":"発熱機器に対して、局所排気や放熱遮断をしているか"},null,{"$f":"IF(選択表!$P37=\"\",\"\",選択表!$P37)","v":""},{"$f":"IF(選択表!$Q37=\"\",\"\",選択表!$Q37)","v":""},0,0,{"$f":"IFERROR(SUM(S41:S49)/SUM(R41:R49),0)","v":0},null,0,0,{"$f":"SUM(W41:W49)","v":0},{"$f":"COUNTIF(V41:V49,1)","v":0},{"$f":"IFERROR(X41/Y41,0)","v":0},null,0,"",{"$f":"SUM(AC41:AC49)","v":0},{"$f":"COUNTIF(AB41:AB49,1)","v":0},{"$f":"AD41/AE41","v":{"$error":"#DIV/0!"}},null,null,{"$f":"IF(SUM(K41:K49)>0,1,0)","v":0}]
[null,null,null,2,{"$f":"IF(選択表!E38=1,1,0)","v":1},{"$f":"IF(選択表!F38=1,1,0)","v":1},{"$f":"IF(選択表!G38=1,1,0)","v":1},{"$f":"IF(選択表!H38=1,1,0)","v":1},{"$f":"IF(選択表!I38=1,1,0)","v":1},{"$f":"IF(選択表!J38=1,1,0)","v":0},{"$f":"IF(選択表!K38=1,1,0)","v":0},{"$f":"IF(選択表!L38=\"●\",選択表!L38,\"\")","v":"●"},2,{"$f":"選択表!$N38","v":"窓の日射対策（窓際の植栽、ブライド、カーテン等）しているか"},null,{"$f":"IF(選択表!$P38=\"\",\"\",選択表!$P38)","v":""},{"$f":"IF(選択表!$Q38=\"\",\"\",選択表!$Q38)","v":""},0,0,null,null,0,0,null,null,null,null,0,""]
[null,null,null,2,{"$f":"IF(選択表!E39=1,1,0)","v":1},{"$f":"IF(選択表!F39=1,1,0)","v":1},{"$f":"IF(選択表!G39=1,1,0)","v":1},{"$f":"IF(選択表!H39=1,1,0)","v":1},{"$f":"IF(選択表!I39=1,1,0)","v":1},{"$f":"IF(選択表!J39=1,1,0)","v":0},{"$f":"IF(選択表!K39=1,1,0)","v":0},{"$f":"IF(選択表!L39=\"●\",選択表!L39,\"\")","v":""},3,{"$f":"選択表!$N39","v":"窓ガラスの断熱対策（吸熱、二重サッシ、ペアガラス等）しているか"},null,{"$f":"IF(選択表!$P39=\"\",\"\",選択表!$P39)","v":""},{"$f":"IF(選択表!$Q39=\"\",\"\",選択表!$Q39)","v":""},0,0,null,null,0,0,null,null,null,null,0,""]
[null,null,null,2,{"$f":"IF(選択表!E40=1,1,0)","v":1},{"$f":"IF(選択表!F40=1,1,0)","v":1},{"$f":"IF(選択表!G40=1,1,0)","v":1},{"$f":"IF(選択表!H40=1,1,0)","v":1},{"$f":"IF(選択表!I40=1,1,0)","v":1},{"$f":"IF(選択表!J40=1,1,0)","v":0},{"$f":"IF(選択表!K40=1,1,0)","v":0},{"$f":"IF(選択表!L40=\"●\",選択表!L40,\"\")","v":""},4,{"$f":"選択表!$N40","v":"屋根への遮熱塗料の塗布や、屋上への植栽を実施しているか"},null,{"$f":"IF(選択表!$P40=\"\",\"\",選択表!$P40)","v":""},{"$f":"IF(選択表!$Q40=\"\",\"\",選択表!$Q40)","v":""},0,0,null,null,0,0,null,null,null,null,0,""]
[null,null,null,2,{"$f":"IF(選択表!E41=1,1,0)","v":1},{"$f":"IF(選択表!F41=1,1,0)","v":1},{"$f":"IF(選択表!G41=1,1,0)","v":1},{"$f":"IF(選択表!H41=1,1,0)","v":1},{"$f":"IF(選択表!I41=1,1,0)","v":1},{"$f":"IF(選択表!J41=1,1,0)","v":0},{"$f":"IF(選択表!K41=1,1,0)","v":0},{"$f":"IF(選択表!L41=\"●\",選択表!L41,\"\")","v":"●"},5,{"$f":"選択表!$N41","v":"壁や天井等は断熱性が良いか"},null,{"$f":"IF(選択表!$P41=\"\",\"\",選択表!$P41)","v":""},{"$f":"IF(選択表!$Q41=\"\",\"\",選択表!$Q41)","v":""},0,0,null,null,0,0,null,null,null,null,0,""]
[null,null,null,2,{"$f":"IF(選択表!E42=1,1,0)","v":1},{"$f":"IF(選択表!F42=1,1,0)","v":1},{"$f":"IF(選択表!G42=1,1,0)","v":1},{"$f":"IF(選択表!H42=1,1,0)","v":1},{"$f":"IF(選択表!I42=1,1,0)","v":1},{"$f":"IF(選択表!J42=1,1,0)","v":0},{"$f":"IF(選択表!K42=1,1,0)","v":0},{"$f":"IF(選択表!L42=\"●\",選択表!L42,\"\")","v":"●"},6,{"$f":"選択表!$N42","v":"空調エリアが小さくできないか（間仕切り、高天井の内張り等）"},null,{"$f":"IF(選択表!$P42=\"\",\"\",選択表!$P42)","v":""},{"$f":"IF(選択表!$Q42=\"\",\"\",選択表!$Q42)","v":""},0,0,null,null,0,0,null,null,null,null,0,""]
[null,null,null,2,{"$f":"IF(選択表!E43=1,1,0)","v":0},{"$f":"IF(選択表!F43=1,1,0)","v":0},{"$f":"IF(選択表!G43=1,1,0)","v":1},{"$f":"IF(選択表!H43=1,1,0)","v":1},{"$f":"IF(選択表!I43=1,1,0)","v":1},{"$f":"IF(選択表!J43=1,1,0)","v":0},{"$f":"IF(選択表!K43=1,1,0)","v":0},{"$f":"IF(選択表!L43=\"●\",選択表!L43,\"\")","v":""},7,{"$f":"選択表!$N43","v":"空調エリアが広く人数が少ない場合、局所空調、あるいは空調区画を見直ししているか"},null,{"$f":"IF(選択表!$P43=\"\",\"\",選択表!$P43)","v":""},{"$f":"IF(選択表!$Q43=\"\",\"\",選択表!$Q43)","v":""},0,0,null,null,0,0,null,null,null,null,0,""]
[null,null,null,2,{"$f":"IF(選択表!E44=1,1,0)","v":1},{"$f":"IF(選択表!F44=1,1,0)","v":1},{"$f":"IF(選択表!G44=1,1,0)","v":1},{"$f":"IF(選択表!H44=1,1,0)","v":1},{"$f":"IF(選択表!I44=1,1,0)","v":1},{"$f":"IF(選択表!J44=1,1,0)","v":0},{"$f":"IF(選択表!K44=1,1,0)","v":0},{"$f":"IF(選択表!L44=\"●\",選択表!L44,\"\")","v":"●"},8,{"$f":"選択表!$N44","v":"空調時間の短縮など空調時間の見直しをしているか"},null,{"$f":"IF(選択表!$P44=\"\",\"\",選択表!$P44)","v":""},{"$f":"IF(選択表!$Q44=\"\",\"\",選択表!$Q44)","v":""},0,0,null,null,0,0,null,null,null,null,0,""]
[null,null,null,2,{"$f":"IF(選択表!E45=1,1,0)","v":1},{"$f":"IF(選択表!F45=1,1,0)","v":1},{"$f":"IF(選択表!G45=1,1,0)","v":1},{"$f":"IF(選択表!H45=1,1,0)","v":1},{"$f":"IF(選択表!I45=1,1,0)","v":1},{"$f":"IF(選択表!J45=1,1,0)","v":0},{"$f":"IF(選択表!K45=1,1,0)","v":0},{"$f":"IF(選択表!L45=\"●\",選択表!L45,\"\")","v":"●"},9,{"$f":"選択表!$N45","v":"空気の循環や風量の管理の調整をしているか"},null,{"$f":"IF(選択表!$P45=\"\",\"\",選択表!$P45)","v":""},{"$f":"IF(選択表!$Q45=\"\",\"\",選択表!$Q45)","v":""},0,0,null,null,0,0,null,null,null,null,0,""]
[null,null,"機器効率の向上",2,{"$f":"IF(選択表!E46=1,1,0)","v":1},{"$f":"IF(選択表!F46=1,1,0)","v":1},{"$f":"IF(選択表!G46=1,1,0)","v":1},{"$f":"IF(選択表!H46=1,1,0)","v":1},{"$f":"IF(選択表!I46=1,1,0)","v":1},{"$f":"IF(選択表!J46=1,1,0)","v":0},{"$f":"IF(選択表!K46=1,1,0)","v":0},{"$f":"IF(選択表!L46=\"●\",選択表!L46,\"\")","v":""},1,{"$f":"選択表!$N46","v":"熱輸送機(ポンプ、ブロワ）では負荷に応じた（インバータ）流量制御をしているか"},null,{"$f":"IF(選択表!$P46=\"\",\"\",選択表!$P46)","v":""},{"$f":"IF(選択表!$Q46=\"\",\"\",選択表!$Q46)","v":""},0,0,{"$f":"IFERROR(SUM(S50:S54)/SUM(R50:R54),0)","v":0},null,0,0,{"$f":"SUM(W50:W54)","v":0},{"$f":"COUNTIF(V50:V54,1)","v":0},{"$f":"IFERROR(X50/Y50,0)","v":0},null,0,"",{"$f":"SUM(AC50:AC54)","v":0},{"$f":"COUNTIF(AB50:AB54,1)","v":0},{"$f":"AD50/AE50","v":{"$error":"#DIV/0!"}},null,null,{"$f":"IF(SUM(K50:K54)>0,1,0)","v":0}]
[null,null,null,2,{"$f":"IF(選択表!E47=1,1,0)","v":1},{"$f":"IF(選択表!F47=1,1,0)","v":1},{"$f":"IF(選択表!G47=1,1,0)","v":1},{"$f":"IF(選択表!H47=1,1,0)","v":1},{"$f":"IF(選択表!I47=1,1,0)","v":1},{"$f":"IF(選択表!J47=1,1,0)","v":0},{"$f":"IF(選択表!K47=1,1,0)","v":0},{"$f":"IF(選択表!L47=\"●\",選択表!L47,\"\")","v":""},2,{"$f":"選択表!$N47","v":"負荷平準化（蓄熱等）対策のシステムが導入されているか"},null,{"$f":"IF(選択表!$P47=\"\",\"\",選択表!$P47)","v":""},{"$f":"IF(選択表!$Q47=\"\",\"\",選択表!$Q47)","v":""},0,0,null,null,0,0,null,null,null,null,0,""]
[null,null,null,2,{"$f":"IF(選択表!E48=1,1,0)","v":1},{"$f":"IF(選択表!F48=1,1,0)","v":1},{"$f":"IF(選択表!G48=1,1,0)","v":1},{"$f":"IF(選択表!H48=1,1,0)","v":1},{"$f":"IF(選択表!I48=1,1,0)","v":1},{"$f":"IF(選択表!J48=1,1,0)","v":0},{"$f":"IF(選択表!K48=1,1,0)","v":0},{"$f":"IF(選択表!L48=\"●\",選択表!L48,\"\")","v":""},3,{"$f":"選択表!$N48","v":"換気・排熱を回収利用しているか"},null,{"$f":"IF(選択表!$P48=\"\",\"\",選択表!$P48)","v":""},{"$f":"IF(選択表!$Q48=\"\",\"\",選択表!$Q48)","v":""},0,0,null,null,0,0,null,null,null,null,0,""]
[null,null,null,2,{"$f":"IF(選択表!E49=1,1,0)","v":1},{"$f":"IF(選択表!F49=1,1,0)","v":1},{"$f":"IF(選択表!G49=1,1,0)","v":1},{"$f":"IF(選択表!H49=1,1,0)","v":1},{"$f":"IF(選択表!I49=1,1,0)","v":1},{"$f":"IF(選択表!J49=1,1,0)","v":0},{"$f":"IF(選択表!K49=1,1,0)","v":0},{"$f":"IF(選択表!L49=\"●\",選択表!L49,\"\")","v":""},4,{"$f":"選択表!$N49","v":"効率の良い設備が導入されているか"},null,{"$f":"IF(選択表!$P49=\"\",\"\",選択表!$P49)","v":""},{"$f":"IF(選択表!$Q49=\"\",\"\",選択表!$Q49)","v":""},0,0,null,null,0,0,null,null,null,null,0,""]
[null,null,null,2,{"$f":"IF(選択表!E50=1,1,0)","v":1},{"$f":"IF(選択表!F50=1,1,0)","v":1},{"$f":"IF(選択表!G50=1,1,0)","v":1},{"$f":"IF(選択表!H50=1,1,0)","v":1},{"$f":"IF(選択表!I50=1,1,0)","v":1},{"$f":"IF(選択表!J50=1,1,0)","v":0},{"$f":"IF(選択表!K50=1,1,0)","v":0},{"$f":"IF(選択表!L50=\"●\",選択表!L50,\"\")","v":"●"},5,{"$f":"選択表!$N50","v":"リニューアル時：高効率機で設備容量を下げる検討をしているか"},null,{"$f":"IF(選択表!$P50=\"\",\"\",選択表!$P50)","v":""},{"$f":"IF(選択表!$Q50=\"\",\"\",選択表!$Q50)","v":""},0,0,null,null,0,0,null,null,null,null,0,""]
[null,null,"冷温熱源設備の管理",2,{"$f":"IF(選択表!E51=1,1,0)","v":1},{"$f":"IF(選択表!F51=1,1,0)","v":1},{"$f":"IF(選択表!G51=1,1,0)","v":1},{"$f":"IF(選択表!H51=1,1,0)","v":1},{"$f":"IF(選択表!I51=1,1,0)","v":1},{"$f":"IF(選択表!J51=1,1,0)","v":0},{"$f":"IF(選択表!K51=1,1,0)","v":0},{"$f":"IF(選択表!L51=\"●\",選択表!L51,\"\")","v":"●"},1,{"$f":"選択表!$N51","v":"冷温水循環ポンプ等は、営業終了時刻に停止しているか"},null,{"$f":"IF(選択表!$P51=\"\",\"\",選択表!$P51)","v":""},{"$f":"IF(選択表!$Q51=\"\",\"\",選択表!$Q51)","v":""},0,0,{"$f":"IFERROR(SUM(S55:S64)/SUM(R55:R64),0)","v":0},null,0,0,{"$f":"SUM(W55:W64)","v":0},{"$f":"COUNTIF(V55:V64,1)","v":0},{"$f":"IFERROR(X55/Y55,0)","v":0},null,0,"",{"$f":"SUM(AC55:AC64)","v":0},{"$f":"COUNTIF(AB55:AB64,1)","v":0},{"$f":"AD55/AE55","v":{"$error":"#DIV/0!"}},null,null,{"$f":"IF(SUM(K55:K64)>0,1,0)","v":0}]
[null,null,null,2,{"$f":"IF(選択表!E52=1,1,0)","v":1},{"$f":"IF(選択表!F52=1,1,0)","v":1},{"$f":"IF(選択表!G52=1,1,0)","v":1},{"$f":"IF(選択表!H52=1,1,0)","v":1},{"$f":"IF(選択表!I52=1,1,0)","v":1},{"$f":"IF(選択表!J52=1,1,0)","v":0},{"$f":"IF(選択表!K52=1,1,0)","v":0},{"$f":"IF(選択表!L52=\"●\",選択表!L52,\"\")","v":"●"},2,{"$f":"選択表!$N52","v":"冷温水流量調整の回転数制御化（インバータ化）をしているか"},null,{"$f":"IF(選択表!$P52=\"\",\"\",選択表!$P52)","v":""},{"$f":"IF(選択表!$Q52=\"\",\"\",選択表!$Q52)","v":""},0,0,null,null,0,0,null,null,null,null,0,""]
[null,null,null,2,{"$f":"IF(選択表!E53=1,1,0)","v":1},{"$f":"IF(選択表!F53=1,1,0)","v":1},{"$f":"IF(選択表!G53=1,1,0)","v":1},{"$f":"IF(選択表!H53=1,1,0)","v":1},{"$f":"IF(選択表!I53=1,1,0)","v":1},{"$f":"IF(選択表!J53=1,1,0)","v":0},{"$f":"IF(選択表!K53=1,1,0)","v":0},{"$f":"IF(選択表!L53=\"●\",選択表!L53,\"\")","v":""},3,{"$f":"選択表!$N53","v":"中間期や冬期の冷熱需要にはフリークーリングを実施しているか"},null,{"$f":"IF(選択表!$P53=\"\",\"\",選択表!$P53)","v":""},{"$f":"IF(選択表!$Q53=\"\",\"\",選択表!$Q53)","v":""},0,{"$f":"IF(R57=0,0,IF(P57=\"○\",5,IF(P57=\"△\",3,IF(P57=\"×\",1,0))))*IF(L57=\"●\",1,0)","v":0},null,null,0,0,null,null,null,null,0,""]
[null,null,null,2,{"$f":"IF(選択表!E54=1,1,0)","v":1},{"$f":"IF(選択表!F54=1,1,0)","v":1},{"$f":"IF(選択表!G54=1,1,0)","v":1},{"$f":"IF(選択表!H54=1,1,0)","v":1},{"$f":"IF(選択表!I54=1,1,0)","v":1},{"$f":"IF(選択表!J54=1,1,0)","v":0},{"$f":"IF(選択表!K54=1,1,0)","v":0},{"$f":"IF(選択表!L54=\"●\",選択表!L54,\"\")","v":"●"},4,{"$f":"選択表!$N54","v":"冷凍機：・冷水出口温度は適切に管理しているか（例：中間期 7→9℃）"},null,{"$f":"IF(選択表!$P54=\"\",\"\",選択表!$P54)","v":""},{"$f":"IF(選択表!$Q54=\"\",\"\",選択表!$Q54)","v":""},0,0,null,null,0,0,null,null,null,null,0,""]
[null,null,null,2,{"$f":"IF(選択表!E55=1,1,0)","v":1},{"$f":"IF(選択表!F55=1,1,0)","v":1},{"$f":"IF(選択表!G55=1,1,0)","v":1},{"$f":"IF(選択表!H55=1,1,0)","v":1},{"$f":"IF(選択表!I55=1,1,0)","v":1},{"$f":"IF(選択表!J55=1,1,0)","v":0},{"$f":"IF(選択表!K55=1,1,0)","v":0},{"$f":"IF(選択表!L55=\"●\",選択表!L55,\"\")","v":"●"},5,{"$f":"選択表!$N55","v":"冷凍機：・冷却水入口温度は適正か（冷房負荷に応じた設定）"},null,{"$f":"IF(選択表!$P55=\"\",\"\",選択表!$P55)","v":""},{"$f":"IF(選択表!$Q55=\"\",\"\",選択表!$Q55)","v":""},0,0,null,null,0,0,null,null,null,null,0,""]
[null,null,null,2,{"$f":"IF(選択表!E56=1,1,0)","v":1},{"$f":"IF(選択表!F56=1,1,0)","v":1},{"$f":"IF(選択表!G56=1,1,0)","v":1},{"$f":"IF(選択表!H56=1,1,0)","v":1},{"$f":"IF(選択表!I56=1,1,0)","v":1},{"$f":"IF(選択表!J56=1,1,0)","v":0},{"$f":"IF(選択表!K56=1,1,0)","v":0},{"$f":"IF(選択表!L56=\"●\",選択表!L56,\"\")","v":""},6,{"$f":"選択表!$N56","v":"熱源機器(冷凍機等)の台数制御をしているか"},null,{"$f":"IF(選択表!$P56=\"\",\"\",選択表!$P56)","v":""},{"$f":"IF(選択表!$Q56=\"\",\"\",選択表!$Q56)","v":""},0,0,null,null,0,0,null,null,null,null,0,""]
[null,null,null,2,{"$f":"IF(選択表!E57=1,1,0)","v":1},{"$f":"IF(選択表!F57=1,1,0)","v":1},{"$f":"IF(選択表!G57=1,1,0)","v":1},{"$f":"IF(選択表!H57=1,1,0)","v":1},{"$f":"IF(選択表!I57=1,1,0)","v":1},{"$f":"IF(選択表!J57=1,1,0)","v":0},{"$f":"IF(選択表!K57=1,1,0)","v":0},{"$f":"IF(選択表!L57=\"●\",選択表!L57,\"\")","v":""},7,{"$f":"選択表!$N57","v":"冷却塔の充填剤の清掃、水量の調整を行っているか"},null,{"$f":"IF(選択表!$P57=\"\",\"\",選択表!$P57)","v":""},{"$f":"IF(選択表!$Q57=\"\",\"\",選択表!$Q57)","v":""},0,{"$f":"IF(R61=0,0,IF(P61=\"○\",5,IF(P61=\"△\",3,IF(P61=\"×\",1,0))))*IF(L61=\"●\",1,0)","v":0},null,null,0,0,null,null,null,null,0,""]
[null,null,null,2,{"$f":"IF(選択表!E58=1,1,0)","v":1},{"$f":"IF(選択表!F58=1,1,0)","v":1},{"$f":"IF(選択表!G58=1,1,0)","v":1},{"$f":"IF(選択表!H58=1,1,0)","v":1},{"$f":"IF(選択表!I58=1,1,0)","v":1},{"$f":"IF(選択表!J58=1,1,0)","v":0},{"$f":"IF(選択表!K58=1,1,0)","v":0},{"$f":"IF(選択表!L58=\"●\",選択表!L58,\"\")","v":""},8,{"$f":"選択表!$N58","v":"定期的に成績係数（COP)を把握しているか"},null,{"$f":"IF(選択表!$P58=\"\",\"\",選択表!$P58)","v":""},{"$f":"IF(選択表!$Q58=\"\",\"\",選択表!$Q58)","v":""},0,0,null,null,0,0,null,null,null,null,0,""]
[null,null,null,2,{"$f":"IF(選択表!E59=1,1,0)","v":1},{"$f":"IF(選択表!F59=1,1,0)","v":1},{"$f":"IF(選択表!G59=1,1,0)","v":1},{"$f":"IF(選択表!H59=1,1,0)","v":1},{"$f":"IF(選択表!I59=1,1,0)","v":1},{"$f":"IF(選択表!J59=1,1,0)","v":0},{"$f":"IF(選択表!K59=1,1,0)","v":0},{"$f":"IF(選択表!L59=\"●\",選択表!L59,\"\")","v":"●"},9,{"$f":"選択表!$N59","v":"定期的な水質管理、性能管理、スケール除去、保守管理をしているか"},null,{"$f":"IF(選択表!$P59=\"\",\"\",選択表!$P59)","v":""},{"$f":"IF(選択表!$Q59=\"\",\"\",選択表!$Q59)","v":""},0,0,null,null,0,0,null,null,null,null,0,""]
[null,null,null,2,{"$f":"IF(選択表!E60=1,1,0)","v":1},{"$f":"IF(選択表!F60=1,1,0)","v":1},{"$f":"IF(選択表!G60=1,1,0)","v":1},{"$f":"IF(選択表!H60=1,1,0)","v":1},{"$f":"IF(選択表!I60=1,1,0)","v":1},{"$f":"IF(選択表!J60=1,1,0)","v":0},{"$f":"IF(選択表!K60=1,1,0)","v":0},{"$f":"IF(選択表!L60=\"●\",選択表!L60,\"\")","v":""},10,{"$f":"選択表!$N60","v":"高効率な機器が設置されているか"},null,{"$f":"IF(選択表!$P60=\"\",\"\",選択表!$P60)","v":""},{"$f":"IF(選択表!$Q60=\"\",\"\",選択表!$Q60)","v":""},0,0,null,null,0,0,null,null,null,null,0,""]
[null,null,"給・排気（換気）設備の管理",2,{"$f":"IF(選択表!E61=1,1,0)","v":1},{"$f":"IF(選択表!F61=1,1,0)","v":1},{"$f":"IF(選択表!G61=1,1,0)","v":1},{"$f":"IF(選択表!H61=1,1,0)","v":1},{"$f":"IF(選択表!I61=1,1,0)","v":1},{"$f":"IF(選択表!J61=1,1,0)","v":0},{"$f":"IF(選択表!K61=1,1,0)","v":0},{"$f":"IF(選択表!L61=\"●\",選択表!L61,\"\")","v":"●"},1,{"$f":"選択表!$N61","v":"室内CO₂濃度や、指定物質での作業環境測定、陽圧度などの管理をおこなっているか、"},null,{"$f":"IF(選択表!$P61=\"\",\"\",選択表!$P61)","v":""},{"$f":"IF(選択表!$Q61=\"\",\"\",選択表!$Q61)","v":""},0,0,{"$f":"IFERROR(SUM(S65:S72)/SUM(R65:R72),0)","v":0},null,0,0,{"$f":"SUM(W65:W72)","v":0},{"$f":"COUNTIF(V65:V72,1)","v":0},{"$f":"IFERROR(X65/Y65,0)","v":0},null,0,"",{"$f":"SUM(AC65:AC72)","v":0},{"$f":"COUNTIF(AB65:AB72,1)","v":0},{"$f":"AD65/AE65","v":{"$error":"#DIV/0!"}},null,null,{"$f":"IF(SUM(K65:K72)>0,1,0)","v":0}]
[null,null,null,2,{"$f":"IF(選択表!E62=1,1,0)","v":1},{"$f":"IF(選択表!F62=1,1,0)","v":1},{"$f":"IF(選択表!G62=1,1,0)","v":1},{"$f":"IF(選択表!H62=1,1,0)","v":1},{"$f":"IF(選択表!I62=1,1,0)","v":1},{"$f":"IF(選択表!J62=1,1,0)","v":0},{"$f":"IF(選択表!K62=1,1,0)","v":0},{"$f":"IF(選択表!L62=\"●\",選択表!L62,\"\")","v":"●"},2,{"$f":"選択表!$N62","v":"湯沸室・倉庫等：使用頻度の乏しい区画では不使用時に換気を停止しているか"},null,{"$f":"IF(選択表!$P62=\"\",\"\",選択表!$P62)","v":""},{"$f":"IF(選択表!$Q62=\"\",\"\",選択表!$Q62)","v":""},0,0,null,null,0,0,null,null,null,null,0,""]
[null,null,null,2,{"$f":"IF(選択表!E63=1,1,0)","v":1},{"$f":"IF(選択表!F63=1,1,0)","v":1},{"$f":"IF(選択表!G63=1,1,0)","v":1},{"$f":"IF(選択表!H63=1,1,0)","v":1},{"$f":"IF(選択表!I63=1,1,0)","v":1},{"$f":"IF(選択表!J63=1,1,0)","v":0},{"$f":"IF(選択表!K63=1,1,0)","v":0},{"$f":"IF(選択表!L63=\"●\",選択表!L63,\"\")","v":"●"},3,{"$f":"選択表!$N63","v":"給気量、排気量は適切か"},null,{"$f":"IF(選択表!$P63=\"\",\"\",選択表!$P63)","v":""},{"$f":"IF(選択表!$Q63=\"\",\"\",選択表!$Q63)","v":""},0,0,null,null,0,0,null,null,null,null,0,""]
[null,null,null,2,{"$f":"IF(選択表!E64=1,1,0)","v":1},{"$f":"IF(選択表!F64=1,1,0)","v":1},{"$f":"IF(選択表!G64=1,1,0)","v":1},{"$f":"IF(選択表!H64=1,1,0)","v":1},{"$f":"IF(選択表!I64=1,1,0)","v":1},{"$f":"IF(選択表!J64=1,1,0)","v":0},{"$f":"IF(選択表!K64=1,1,0)","v":0},{"$f":"IF(選択表!L64=\"●\",選択表!L64,\"\")","v":""},4,{"$f":"選択表!$N64","v":"換気・排気の排熱を回収利用しているか"},null,{"$f":"IF(選択表!$P64=\"\",\"\",選択表!$P64)","v":""},{"$f":"IF(選択表!$Q64=\"\",\"\",選択表!$Q64)","v":""},0,0,null,null,0,0,null,null,null,null,0,""]
[null,null,null,2,{"$f":"IF(選択表!E65=1,1,0)","v":1},{"$f":"IF(選択表!F65=1,1,0)","v":1},{"$f":"IF(選択表!G65=1,1,0)","v":1},{"$f":"IF(選択表!H65=1,1,0)","v":1},{"$f":"IF(選択表!I65=1,1,0)","v":1},{"$f":"IF(選択表!J65=1,1,0)","v":0},{"$f":"IF(選択表!K65=1,1,0)","v":0},{"$f":"IF(選択表!L65=\"●\",選択表!L65,\"\")","v":"●"},5,{"$f":"選択表!$N65","v":"電気室・機械室等：室温管理運転をしているか（例：40℃）"},null,{"$f":"IF(選択表!$P65=\"\",\"\",選択表!$P65)","v":""},{"$f":"IF(選択表!$Q65=\"\",\"\",選択表!$Q65)","v":""},0,0,null,null,0,0,null,null,null,null,0,""]
[null,null,null,2,{"$f":"IF(選択表!E66=1,1,0)","v":1},{"$f":"IF(選択表!F66=1,1,0)","v":1},{"$f":"IF(選択表!G66=1,1,0)","v":1},{"$f":"IF(選択表!H66=1,1,0)","v":1},{"$f":"IF(選択表!I66=1,1,0)","v":1},{"$f":"IF(選択表!J66=1,1,0)","v":0},{"$f":"IF(選択表!K66=1,1,0)","v":0},{"$f":"IF(選択表!L66=\"●\",選択表!L66,\"\")","v":""},6,{"$f":"選択表!$N66","v":"換気量過剰：間欠運転やインバータ化等により、換気量を削減しているか"},null,{"$f":"IF(選択表!$P66=\"\",\"\",選択表!$P66)","v":""},{"$f":"IF(選択表!$Q66=\"\",\"\",選択表!$Q66)","v":""},0,0,null,null,0,0,null,null,null,null,0,""]
[null,null,null,2,{"$f":"IF(選択表!E67=1,1,0)","v":1},{"$f":"IF(選択表!F67=1,1,0)","v":1},{"$f":"IF(選択表!G67=1,1,0)","v":1},{"$f":"IF(選択表!H67=1,1,0)","v":1},{"$f":"IF(選択表!I67=1,1,0)","v":1},{"$f":"IF(選択表!J67=1,1,0)","v":0},{"$f":"IF(選択表!K67=1,1,0)","v":0},{"$f":"IF(選択表!L67=\"●\",選択表!L67,\"\")","v":"●"},7,{"$f":"選択表!$N67","v":"過剰排気対策として、部屋全体でなく局所排気をしているか"},null,{"$f":"IF(選択表!$P67=\"\",\"\",選択表!$P67)","v":""},{"$f":"IF(選択表!$Q67=\"\",\"\",選択表!$Q67)","v":""},{"$f":"IF(P71=\"\",0,COUNTA(P71)*COUNTIF(L71,\"●\"))","v":0},0,null,null,{"$f":"IF(P71=\"\",0,1)","v":0},0,null,null,null,null,{"$f":"IF(Q71=\"対象外\",0,IF(OR(P71=\"○\",P71=\"△\",P71=\"×\",Q71=\"○\",Q71=\"△\",Q71=\"×\"),1,0))","v":0},""]
[null,null,null,2,{"$f":"IF(選択表!E68=1,1,0)","v":1},{"$f":"IF(選択表!F68=1,1,0)","v":1},{"$f":"IF(選択表!G68=1,1,0)","v":1},{"$f":"IF(選択表!H68=1,1,0)","v":1},{"$f":"IF(選択表!I68=1,1,0)","v":1},{"$f":"IF(選択表!J68=1,1,0)","v":0},{"$f":"IF(選択表!K68=1,1,0)","v":0},{"$f":"IF(選択表!L68=\"●\",選択表!L68,\"\")","v":"●"},8,{"$f":"選択表!$N68","v":"フィルター清掃や交換を定期的に行っているか"},null,{"$f":"IF(選択表!$P68=\"\",\"\",選択表!$P68)","v":""},{"$f":"IF(選択表!$Q68=\"\",\"\",選択表!$Q68)","v":""},0,0,null,null,0,0,null,null,null,null,0,""]
[null,null,"冷蔵・冷凍設備の管理",2,{"$f":"IF(選択表!E69=1,1,0)","v":0},{"$f":"IF(選択表!F69=1,1,0)","v":1},{"$f":"IF(選択表!G69=1,1,0)","v":1},{"$f":"IF(選択表!H69=1,1,0)","v":1},{"$f":"IF(選択表!I69=1,1,0)","v":1},{"$f":"IF(選択表!J69=1,1,0)","v":0},{"$f":"IF(選択表!K69=1,1,0)","v":0},{"$f":"IF(選択表!L69=\"●\",選択表!L69,\"\")","v":"●"},1,{"$f":"選択表!$N69","v":"庫内の設定温度が過剰となっていないか"},null,{"$f":"IF(選択表!$P69=\"\",\"\",選択表!$P69)","v":""},{"$f":"IF(選択表!$Q69=\"\",\"\",選択表!$Q69)","v":""},0,{"$f":"IF(R73=0,0,IF(P73=\"○\",5,IF(P73=\"△\",3,IF(P73=\"×\",1,0))))*IF(L73=\"●\",1,0)","v":0},{"$f":"IFERROR(SUM(S73:S82)/SUM(R73:R82),0)","v":0},null,0,0,{"$f":"SUM(W73:W82)","v":0},{"$f":"COUNTIF(V73:V82,1)","v":0},{"$f":"IFERROR(X73/Y73,0)","v":0},null,0,"",{"$f":"SUM(AC73:AC82)","v":0},{"$f":"COUNTIF(AB73:AB82,1)","v":0},{"$f":"AD73/AE73","v":{"$error":"#DIV/0!"}},null,null,{"$f":"IF(SUM(K73:K82)>0,1,0)","v":0}]
[null,null,null,2,{"$f":"IF(選択表!E70=1,1,0)","v":0},{"$f":"IF(選択表!F70=1,1,0)","v":1},{"$f":"IF(選択表!G70=1,1,0)","v":1},{"$f":"IF(選択表!H70=1,1,0)","v":1},{"$f":"IF(選択表!I70=1,1,0)","v":1},{"$f":"IF(選択表!J70=1,1,0)","v":0},{"$f":"IF(選択表!K70=1,1,0)","v":0},{"$f":"IF(選択表!L70=\"●\",選択表!L70,\"\")","v":"●"},2,{"$f":"選択表!$N70","v":"冷媒の出入口温度は適正か"},null,{"$f":"IF(選択表!$P70=\"\",\"\",選択表!$P70)","v":""},{"$f":"IF(選択表!$Q70=\"\",\"\",選択表!$Q70)","v":""},0,0,null,null,0,{"$f":"IF(V74=0,0,IF(P74=\"○\",5,IF(P74=\"△\",3,IF(P74=\"×\",1,0))))","v":0},null,null,null,null,0,""]
[null,null,null,2,{"$f":"IF(選択表!E71=1,1,0)","v":0},{"$f":"IF(選択表!F71=1,1,0)","v":1},{"$f":"IF(選択表!G71=1,1,0)","v":1},{"$f":"IF(選択表!H71=1,1,0)","v":0},{"$f":"IF(選択表!I71=1,1,0)","v":1},{"$f":"IF(選択表!J71=1,1,0)","v":0},{"$f":"IF(選択表!K71=1,1,0)","v":0},{"$f":"IF(選択表!L71=\"●\",選択表!L71,\"\")","v":"●"},3,{"$f":"選択表!$N71","v":"適切なデフロスト(霜取り）をしているか（デフロスト回数を減らせないか）"},null,{"$f":"IF(選択表!$P71=\"\",\"\",選択表!$P71)","v":""},{"$f":"IF(選択表!$Q71=\"\",\"\",選択表!$Q71)","v":""},0,0,null,null,0,0,null,null,null,null,0,""]
[null,null,null,2,{"$f":"IF(選択表!E72=1,1,0)","v":0},{"$f":"IF(選択表!F72=1,1,0)","v":1},{"$f":"IF(選択表!G72=1,1,0)","v":1},{"$f":"IF(選択表!H72=1,1,0)","v":1},{"$f":"IF(選択表!I72=1,1,0)","v":1},{"$f":"IF(選択表!J72=1,1,0)","v":0},{"$f":"IF(選択表!K72=1,1,0)","v":0},{"$f":"IF(選択表!L72=\"●\",選択表!L72,\"\")","v":""},4,{"$f":"選択表!$N72","v":"冷凍機や冷却塔のポンプは流量制御しているか(インバータ導入されているか）"},null,{"$f":"IF(選択表!$P72=\"\",\"\",選択表!$P72)","v":""},{"$f":"IF(選択表!$Q72=\"\",\"\",選択表!$Q72)","v":""},0,0,null,null,0,0,null,null,null,null,0,""]
[null,null,null,2,{"$f":"IF(選択表!E73=1,1,0)","v":0},{"$f":"IF(選択表!F73=1,1,0)","v":1},{"$f":"IF(選択表!G73=1,1,0)","v":1},{"$f":"IF(選択表!H73=1,1,0)","v":1},{"$f":"IF(選択表!I73=1,1,0)","v":1},{"$f":"IF(選択表!J73=1,1,0)","v":0},{"$f":"IF(選択表!K73=1,1,0)","v":0},{"$f":"IF(選択表!L73=\"●\",選択表!L73,\"\")","v":"●"},5,{"$f":"選択表!$N73","v":"扉の開閉回数減・開時間の短縮、エアーカーテン設置等を実施しているか"},null,{"$f":"IF(選択表!$P73=\"\",\"\",選択表!$P73)","v":""},{"$f":"IF(選択表!$Q73=\"\",\"\",選択表!$Q73)","v":""},0,0,null,null,0,0,null,null,null,null,0,""]
[null,null,null,2,{"$f":"IF(選択表!E74=1,1,0)","v":0},{"$f":"IF(選択表!F74=1,1,0)","v":1},{"$f":"IF(選択表!G74=1,1,0)","v":1},{"$f":"IF(選択表!H74=1,1,0)","v":1},{"$f":"IF(選択表!I74=1,1,0)","v":1},{"$f":"IF(選択表!J74=1,1,0)","v":0},{"$f":"IF(選択表!K74=1,1,0)","v":0},{"$f":"IF(選択表!L74=\"●\",選択表!L74,\"\")","v":""},6,{"$f":"選択表!$N74","v":"庫内照明の発熱低減等（例：LED化）を実施しているか"},null,{"$f":"IF(選択表!$P74=\"\",\"\",選択表!$P74)","v":""},{"$f":"IF(選択表!$Q74=\"\",\"\",選択表!$Q74)","v":""},0,0,null,null,0,0,null,null,null,null,0,""]
[null,null,null,2,{"$f":"IF(選択表!E75=1,1,0)","v":0},{"$f":"IF(選択表!F75=1,1,0)","v":1},{"$f":"IF(選択表!G75=1,1,0)","v":1},{"$f":"IF(選択表!H75=1,1,0)","v":1},{"$f":"IF(選択表!I75=1,1,0)","v":1},{"$f":"IF(選択表!J75=1,1,0)","v":0},{"$f":"IF(選択表!K75=1,1,0)","v":0},{"$f":"IF(選択表!L75=\"●\",選択表!L75,\"\")","v":"●"},7,{"$f":"選択表!$N75","v":"壁面や天井・配管、扉の断熱処理で、断熱不良により氷結を起こしていないか"},null,{"$f":"IF(選択表!$P75=\"\",\"\",選択表!$P75)","v":""},{"$f":"IF(選択表!$Q75=\"\",\"\",選択表!$Q75)","v":""},0,0,null,null,0,0,null,null,null,null,0,""]
[null,null,null,2,{"$f":"IF(選択表!E76=1,1,0)","v":0},{"$f":"IF(選択表!F76=1,1,0)","v":1},{"$f":"IF(選択表!G76=1,1,0)","v":1},{"$f":"IF(選択表!H76=1,1,0)","v":1},{"$f":"IF(選択表!I76=1,1,0)","v":1},{"$f":"IF(選択表!J76=1,1,0)","v":0},{"$f":"IF(選択表!K76=1,1,0)","v":0},{"$f":"IF(選択表!L76=\"●\",選択表!L76,\"\")","v":""},8,{"$f":"選択表!$N76","v":"効率の良い設備が導入されているか（例：製造工程用冷水装置）"},null,{"$f":"IF(選択表!$P76=\"\",\"\",選択表!$P76)","v":""},{"$f":"IF(選択表!$Q76=\"\",\"\",選択表!$Q76)","v":""},0,0,null,null,0,0,null,null,null,null,0,""]
[null,null,null,2,{"$f":"IF(選択表!E77=1,1,0)","v":0},{"$f":"IF(選択表!F77=1,1,0)","v":1},{"$f":"IF(選択表!G77=1,1,0)","v":0},{"$f":"IF(選択表!H77=1,1,0)","v":0},{"$f":"IF(選択表!I77=1,1,0)","v":0},{"$f":"IF(選択表!J77=1,1,0)","v":0},{"$f":"IF(選択表!K77=1,1,0)","v":0},{"$f":"IF(選択表!L77=\"●\",選択表!L77,\"\")","v":""},9,{"$f":"選択表!$N77","v":"夜間にナイトカバーを閉じているか"},null,{"$f":"IF(選択表!$P77=\"\",\"\",選択表!$P77)","v":""},{"$f":"IF(選択表!$Q77=\"\",\"\",選択表!$Q77)","v":""},0,{"$f":"IF(R81=0,0,IF(P81=\"○\",5,IF(P81=\"△\",3,IF(P81=\"×\",1,0))))*IF(L81=\"●\",1,0)","v":0},null,null,0,0,null,null,null,null,0,""]
[null,null,null,2,{"$f":"IF(選択表!E78=1,1,0)","v":0},{"$f":"IF(選択表!F78=1,1,0)","v":1},{"$f":"IF(選択表!G78=1,1,0)","v":1},{"$f":"IF(選択表!H78=1,1,0)","v":1},{"$f":"IF(選択表!I78=1,1,0)","v":1},{"$f":"IF(選択表!J78=1,1,0)","v":0},{"$f":"IF(選択表!K78=1,1,0)","v":0},{"$f":"IF(選択表!L78=\"●\",選択表!L78,\"\")","v":"●"},10,{"$f":"選択表!$N78","v":"リニューアル時：高効率機で設備容量を下げる検討をしているか"},null,{"$f":"IF(選択表!$P78=\"\",\"\",選択表!$P78)","v":""},{"$f":"IF(選択表!$Q78=\"\",\"\",選択表!$Q78)","v":""},0,0,null,null,0,0,null,null,null,null,0,""]
[null,null,"事業所のその他個別追加対策(任意記載）",2,{"$f":"IF(選択表!E79=1,1,0)","v":1},{"$f":"IF(選択表!F79=1,1,0)","v":1},{"$f":"IF(選択表!G79=1,1,0)","v":1},{"$f":"IF(選択表!H79=1,1,0)","v":1},{"$f":"IF(選択表!I79=1,1,0)","v":1},{"$f":"IF(選択表!J79=1,1,0)","v":0},{"$f":"IF(選択表!K79=1,1,0)","v":0},{"$f":"IF(選択表!L79=\"●\",選択表!L79,\"\")","v":""},1,{"$f":"選択表!$N79","v":0},null,{"$f":"IF(選択表!$P79=\"\",\"\",選択表!$P79)","v":""},{"$f":"IF(選択表!$Q79=\"\",\"\",選択表!$Q79)","v":""},0,null,null,null,0,0,{"$f":"SUM(W83:W85)","v":0},{"$f":"COUNTIF(V83:V85,1)","v":0},{"$f":"IFERROR(X83/Y83,\"\")","v":""},null,0,{"$f":"IF(K83=0,\"\",IF(Q83=\"○\",5,IF(Q83=\"△\",3,IF(Q83=\"×\",1,0))))","v":""},{"$f":"SUM(AC83:AC85)","v":0},{"$f":"COUNTIF(AB83:AB85,1)","v":0},{"$f":"AD83/AE83","v":{"$error":"#DIV/0!"}}]
[null,null,null,2,{"$f":"IF(選択表!E80=1,1,0)","v":1},{"$f":"IF(選択表!F80=1,1,0)","v":1},{"$f":"IF(選択表!G80=1,1,0)","v":1},{"$f":"IF(選択表!H80=1,1,0)","v":1},{"$f":"IF(選択表!I80=1,1,0)","v":1},{"$f":"IF(選択表!J80=1,1,0)","v":0},{"$f":"IF(選択表!K80=1,1,0)","v":0},{"$f":"IF(選択表!L80=\"●\",選択表!L80,\"\")","v":""},2,{"$f":"選択表!$N80","v":0},null,{"$f":"IF(選択表!$P80=\"\",\"\",選択表!$P80)","v":""},{"$f":"IF(選択表!$Q80=\"\",\"\",選択表!$Q80)","v":""},0,null,null,null,0,0,null,null,null,null,0,{"$f":"IF(K84=0,\"\",IF(Q84=\"○\",5,IF(Q84=\"△\",3,IF(Q84=\"×\",1,0))))","v":""}]
[null,null,null,2,{"$f":"IF(選択表!E81=1,1,0)","v":1},{"$f":"IF(選択表!F81=1,1,0)","v":1},{"$f":"IF(選択表!G81=1,1,0)","v":1},{"$f":"IF(選択表!H81=1,1,0)","v":1},{"$f":"IF(選択表!I81=1,1,0)","v":1},{"$f":"IF(選択表!J81=1,1,0)","v":0},{"$f":"IF(選択表!K81=1,1,0)","v":0},{"$f":"IF(選択表!L81=\"●\",選択表!L81,\"\")","v":""},3,{"$f":"選択表!$N81","v":0},null,{"$f":"IF(選択表!$P81=\"\",\"\",選択表!$P81)","v":""},{"$f":"IF(選択表!$Q81=\"\",\"\",選択表!$Q81)","v":""},0,null,null,null,0,0,null,null,null,null,0,{"$f":"IF(K85=0,\"\",IF(Q85=\"○\",5,IF(Q85=\"△\",3,IF(Q85=\"×\",1,0))))","v":""}]
[3,"ポンプ、ファン、コンプレッサ","ポンプ・ファン",3,{"$f":"IF(選択表!E82=1,1,0)","v":1},{"$f":"IF(選択表!F82=1,1,0)","v":1},{"$f":"IF(選択表!G82=1,1,0)","v":1},{"$f":"IF(選択表!H82=1,1,0)","v":1},{"$f":"IF(選択表!I82=1,1,0)","v":1},{"$f":"IF(選択表!J82=1,1,0)","v":0},{"$f":"IF(選択表!K82=1,1,0)","v":0},{"$f":"IF(選択表!L82=\"●\",選択表!L82,\"\")","v":""},1,{"$f":"選択表!$N82","v":"弁の開閉状況を日々確認しているか(閉め忘れ防止）"},null,{"$f":"IF(選択表!$P82=\"\",\"\",選択表!$P82)","v":""},{"$f":"IF(選択表!$Q82=\"\",\"\",選択表!$Q82)","v":""},0,0,{"$f":"IFERROR(SUM(S86:S93)/SUM(R86:R93),0)","v":0},{"$f":"IF(AM86=1,IFERROR(SUM(S86:S112)/SUM(R86:R112),0),\"\")","v":""},0,0,{"$f":"SUM(W86:W93)","v":0},{"$f":"COUNTIF(V86:V93,1)","v":0},{"$f":"IFERROR(X86/Y86,0)","v":0},{"$f":"IF(AM86=1,IFERROR(SUM(X86:X112)/SUM(Y86:Y112),0),\"\")","v":""},0,{"$f":"IF(K86=0,\"\",IF(Q86=P86,W86,IF(Q86=\"○\",5,IF(Q86=\"△\",3,IF(Q86=\"×\",1,0)))))","v":""},{"$f":"SUM(AC86:AC93)","v":0},{"$f":"COUNTIF(AB86:AB93,1)","v":0},{"$f":"AD86/AE86","v":{"$error":"#DIV/0!"}},{"$f":"SUM(AD86:AD112)/SUM(AE86:AE112)","v":{"$error":"#DIV/0!"}},null,{"$f":"IF(SUM(K86:K93)>0,1,0)","v":0},null,{"$f":"SUM(R86:R112)/COUNTIF(L86:L112,\"●\")","v":0},{"$f":"SUM(V86:V112)-SUM(R86:R112)","v":0},{"$f":"IF(SUM(V86:V112)>=1,1,0)","v":0}]
[null,null,null,3,{"$f":"IF(選択表!E83=1,1,0)","v":1},{"$f":"IF(選択表!F83=1,1,0)","v":1},{"$f":"IF(選択表!G83=1,1,0)","v":1},{"$f":"IF(選択表!H83=1,1,0)","v":1},{"$f":"IF(選択表!I83=1,1,0)","v":1},{"$f":"IF(選択表!J83=1,1,0)","v":0},{"$f":"IF(選択表!K83=1,1,0)","v":0},{"$f":"IF(選択表!L83=\"●\",選択表!L83,\"\")","v":"●"},2,{"$f":"選択表!$N83","v":"使用流量(風量・水量）・圧力は適正か"},null,{"$f":"IF(選択表!$P83=\"\",\"\",選択表!$P83)","v":""},{"$f":"IF(選択表!$Q83=\"\",\"\",選択表!$Q83)","v":""},0,0,null,null,0,0,null,null,null,null,0,""]
[null,null,null,3,{"$f":"IF(選択表!E84=1,1,0)","v":1},{"$f":"IF(選択表!F84=1,1,0)","v":1},{"$f":"IF(選択表!G84=1,1,0)","v":1},{"$f":"IF(選択表!H84=1,1,0)","v":1},{"$f":"IF(選択表!I84=1,1,0)","v":1},{"$f":"IF(選択表!J84=1,1,0)","v":0},{"$f":"IF(選択表!K84=1,1,0)","v":0},{"$f":"IF(選択表!L84=\"●\",選択表!L84,\"\")","v":"●"},3,{"$f":"選択表!$N84","v":"配管、ダクトのルート、サイズは適正か"},null,{"$f":"IF(選択表!$P84=\"\",\"\",選択表!$P84)","v":""},{"$f":"IF(選択表!$Q84=\"\",\"\",選択表!$Q84)","v":""},0,0,null,null,0,0,null,null,null,null,0,""]
[null,null,null,3,{"$f":"IF(選択表!E85=1,1,0)","v":1},{"$f":"IF(選択表!F85=1,1,0)","v":1},{"$f":"IF(選択表!G85=1,1,0)","v":1},{"$f":"IF(選択表!H85=1,1,0)","v":1},{"$f":"IF(選択表!I85=1,1,0)","v":1},{"$f":"IF(選択表!J85=1,1,0)","v":0},{"$f":"IF(選択表!K85=1,1,0)","v":0},{"$f":"IF(選択表!L85=\"●\",選択表!L85,\"\")","v":""},4,{"$f":"選択表!$N85","v":"流量調整の回転数制御化（インバータ化）をしているか"},null,{"$f":"IF(選択表!$P85=\"\",\"\",選択表!$P85)","v":""},{"$f":"IF(選択表!$Q85=\"\",\"\",選択表!$Q85)","v":""},0,0,null,null,0,0,null,null,null,null,0,""]
[null,null,null,3,{"$f":"IF(選択表!E86=1,1,0)","v":1},{"$f":"IF(選択表!F86=1,1,0)","v":1},{"$f":"IF(選択表!G86=1,1,0)","v":1},{"$f":"IF(選択表!H86=1,1,0)","v":1},{"$f":"IF(選択表!I86=1,1,0)","v":1},{"$f":"IF(選択表!J86=1,1,0)","v":0},{"$f":"IF(選択表!K86=1,1,0)","v":0},{"$f":"IF(選択表!L86=\"●\",選択表!L86,\"\")","v":""},5,{"$f":"選択表!$N86","v":"曝気槽のブロワ：間欠運転や休日・夜間の風量削減を実施しているか"},null,{"$f":"IF(選択表!$P86=\"\",\"\",選択表!$P86)","v":""},{"$f":"IF(選択表!$Q86=\"\",\"\",選択表!$Q86)","v":""},0,0,null,null,0,0,null,null,null,null,0,""]
[null,null,null,3,{"$f":"IF(選択表!E87=1,1,0)","v":1},{"$f":"IF(選択表!F87=1,1,0)","v":1},{"$f":"IF(選択表!G87=1,1,0)","v":1},{"$f":"IF(選択表!H87=1,1,0)","v":1},{"$f":"IF(選択表!I87=1,1,0)","v":1},{"$f":"IF(選択表!J87=1,1,0)","v":0},{"$f":"IF(選択表!K87=1,1,0)","v":0},{"$f":"IF(選択表!L87=\"●\",選択表!L87,\"\")","v":""},6,{"$f":"選択表!$N87","v":"負荷容量に応じて、台数制御を実施しているか"},null,{"$f":"IF(選択表!$P87=\"\",\"\",選択表!$P87)","v":""},{"$f":"IF(選択表!$Q87=\"\",\"\",選択表!$Q87)","v":""},0,0,null,null,0,0,null,null,null,null,0,""]
[null,null,null,3,{"$f":"IF(選択表!E88=1,1,0)","v":1},{"$f":"IF(選択表!F88=1,1,0)","v":1},{"$f":"IF(選択表!G88=1,1,0)","v":1},{"$f":"IF(選択表!H88=1,1,0)","v":1},{"$f":"IF(選択表!I88=1,1,0)","v":1},{"$f":"IF(選択表!J88=1,1,0)","v":0},{"$f":"IF(選択表!K88=1,1,0)","v":0},{"$f":"IF(選択表!L88=\"●\",選択表!L88,\"\")","v":""},7,{"$f":"選択表!$N88","v":"高効率（PMモーターや低摩擦)ポンプ、ファンを使用しているか"},null,{"$f":"IF(選択表!$P88=\"\",\"\",選択表!$P88)","v":""},{"$f":"IF(選択表!$Q88=\"\",\"\",選択表!$Q88)","v":""},0,0,null,null,0,0,null,null,null,null,0,""]
[null,null,null,3,{"$f":"IF(選択表!E89=1,1,0)","v":1},{"$f":"IF(選択表!F89=1,1,0)","v":1},{"$f":"IF(選択表!G89=1,1,0)","v":1},{"$f":"IF(選択表!H89=1,1,0)","v":1},{"$f":"IF(選択表!I89=1,1,0)","v":1},{"$f":"IF(選択表!J89=1,1,0)","v":0},{"$f":"IF(選択表!K89=1,1,0)","v":0},{"$f":"IF(選択表!L89=\"●\",選択表!L89,\"\")","v":"●"},8,{"$f":"選択表!$N89","v":"機器清掃、フィルター、ストレーナーを定期的に点検しているか"},null,{"$f":"IF(選択表!$P89=\"\",\"\",選択表!$P89)","v":""},{"$f":"IF(選択表!$Q89=\"\",\"\",選択表!$Q89)","v":""},0,0,null,null,0,0,null,null,null,null,0,""]
[null,null,"コンプレッサー本体、周辺の管理",3,{"$f":"IF(選択表!E90=1,1,0)","v":0},{"$f":"IF(選択表!F90=1,1,0)","v":1},{"$f":"IF(選択表!G90=1,1,0)","v":1},{"$f":"IF(選択表!H90=1,1,0)","v":1},{"$f":"IF(選択表!I90=1,1,0)","v":1},{"$f":"IF(選択表!J90=1,1,0)","v":0},{"$f":"IF(選択表!K90=1,1,0)","v":0},{"$f":"IF(選択表!L90=\"●\",選択表!L90,\"\")","v":"●"},1,{"$f":"選択表!$N90","v":"給気口のフィルタ清掃を実施しているか"},null,{"$f":"IF(選択表!$P90=\"\",\"\",選択表!$P90)","v":""},{"$f":"IF(選択表!$Q90=\"\",\"\",選択表!$Q90)","v":""},0,0,{"$f":"IFERROR(SUM(S94:S101)/SUM(R94:R101),0)","v":0},null,0,0,{"$f":"SUM(W94:W101)","v":0},{"$f":"COUNTIF(V94:V101,1)","v":0},{"$f":"IFERROR(X94/Y94,0)","v":0},null,0,"",{"$f":"SUM(AC94:AC101)","v":0},{"$f":"COUNTIF(AB94:AB101,1)","v":0},{"$f":"AD94/AE94","v":{"$error":"#DIV/0!"}},null,null,{"$f":"IF(SUM(K94:K101)>0,1,0)","v":0}]
[null,null,null,3,{"$f":"IF(選択表!E91=1,1,0)","v":0},{"$f":"IF(選択表!F91=1,1,0)","v":1},{"$f":"IF(選択表!G91=1,1,0)","v":1},{"$f":"IF(選択表!H91=1,1,0)","v":1},{"$f":"IF(選択表!I91=1,1,0)","v":1},{"$f":"IF(選択表!J91=1,1,0)","v":0},{"$f":"IF(選択表!K91=1,1,0)","v":0},{"$f":"IF(選択表!L90=\"●\",選択表!L90,\"\")","v":"●"},2,{"$f":"選択表!$N91","v":"吐出圧力や使用端圧の適正化を実施しているか"},null,{"$f":"IF(選択表!$P91=\"\",\"\",選択表!$P91)","v":""},{"$f":"IF(選択表!$Q91=\"\",\"\",選択表!$Q91)","v":""},0,{"$f":"IF(R95=0,0,IF(P95=\"○\",5,IF(P95=\"△\",3,IF(P95=\"×\",1,0))))*IF(L95=\"●\",1,0)","v":0},null,null,0,0,null,null,null,null,0,""]
[null,null,null,3,{"$f":"IF(選択表!E92=1,1,0)","v":0},{"$f":"IF(選択表!F92=1,1,0)","v":1},{"$f":"IF(選択表!G92=1,1,0)","v":1},{"$f":"IF(選択表!H92=1,1,0)","v":1},{"$f":"IF(選択表!I92=1,1,0)","v":1},{"$f":"IF(選択表!J92=1,1,0)","v":0},{"$f":"IF(選択表!K92=1,1,0)","v":0},{"$f":"IF(選択表!L91=\"●\",選択表!L91,\"\")","v":"●"},3,{"$f":"選択表!$N92","v":"負荷に対して、機種・容量は適切か"},null,{"$f":"IF(選択表!$P92=\"\",\"\",選択表!$P92)","v":""},{"$f":"IF(選択表!$Q92=\"\",\"\",選択表!$Q92)","v":""},0,0,null,null,0,0,null,null,null,null,0,""]
[null,null,null,3,{"$f":"IF(選択表!E93=1,1,0)","v":0},{"$f":"IF(選択表!F93=1,1,0)","v":1},{"$f":"IF(選択表!G93=1,1,0)","v":1},{"$f":"IF(選択表!H93=1,1,0)","v":1},{"$f":"IF(選択表!I93=1,1,0)","v":1},{"$f":"IF(選択表!J93=1,1,0)","v":0},{"$f":"IF(選択表!K93=1,1,0)","v":0},{"$f":"IF(選択表!L93=\"●\",選択表!L93,\"\")","v":"●"},4,{"$f":"選択表!$N93","v":"定期的な保守、点検をおこなっているか"},null,{"$f":"IF(選択表!$P93=\"\",\"\",選択表!$P93)","v":""},{"$f":"IF(選択表!$Q93=\"\",\"\",選択表!$Q93)","v":""},0,0,null,null,0,0,null,null,null,null,0,""]
[null,null,null,3,{"$f":"IF(選択表!E94=1,1,0)","v":0},{"$f":"IF(選択表!F94=1,1,0)","v":1},{"$f":"IF(選択表!G94=1,1,0)","v":1},{"$f":"IF(選択表!H94=1,1,0)","v":1},{"$f":"IF(選択表!I94=1,1,0)","v":1},{"$f":"IF(選択表!J94=1,1,0)","v":0},{"$f":"IF(選択表!K94=1,1,0)","v":0},{"$f":"IF(選択表!L94=\"●\",選択表!L94,\"\")","v":""},5,{"$f":"選択表!$N94","v":"コンプレッサの給気温度の低減対策（屋外排気等）をしているか"},null,{"$f":"IF(選択表!$P94=\"\",\"\",選択表!$P94)","v":""},{"$f":"IF(選択表!$Q94=\"\",\"\",選択表!$Q94)","v":""},0,0,null,null,0,0,null,null,null,null,0,""]
[null,null,null,3,{"$f":"IF(選択表!E95=1,1,0)","v":0},{"$f":"IF(選択表!F95=1,1,0)","v":1},{"$f":"IF(選択表!G95=1,1,0)","v":1},{"$f":"IF(選択表!H95=1,1,0)","v":1},{"$f":"IF(選択表!I95=1,1,0)","v":1},{"$f":"IF(選択表!J95=1,1,0)","v":0},{"$f":"IF(選択表!K95=1,1,0)","v":0},{"$f":"IF(選択表!L95=\"●\",選択表!L95,\"\")","v":""},6,{"$f":"選択表!$N95","v":"稼働台数の適正化、台数制御を実施しているか"},null,{"$f":"IF(選択表!$P95=\"\",\"\",選択表!$P95)","v":""},{"$f":"IF(選択表!$Q95=\"\",\"\",選択表!$Q95)","v":""},0,0,null,null,0,0,null,null,null,null,0,""]
[null,null,null,3,{"$f":"IF(選択表!E96=1,1,0)","v":0},{"$f":"IF(選択表!F96=1,1,0)","v":1},{"$f":"IF(選択表!G96=1,1,0)","v":1},{"$f":"IF(選択表!H96=1,1,0)","v":1},{"$f":"IF(選択表!I96=1,1,0)","v":1},{"$f":"IF(選択表!J96=1,1,0)","v":0},{"$f":"IF(選択表!K96=1,1,0)","v":0},{"$f":"IF(選択表!L96=\"●\",選択表!L96,\"\")","v":""},7,{"$f":"選択表!$N96","v":"高効率（インバータ搭載や高効率モータ）機器が使用されているか"},null,{"$f":"IF(選択表!$P96=\"\",\"\",選択表!$P96)","v":""},{"$f":"IF(選択表!$Q96=\"\",\"\",選択表!$Q96)","v":""},0,0,null,null,0,0,null,null,null,null,0,""]
[null,null,null,3,{"$f":"IF(選択表!E97=1,1,0)","v":0},{"$f":"IF(選択表!F97=1,1,0)","v":1},{"$f":"IF(選択表!G97=1,1,0)","v":1},{"$f":"IF(選択表!H97=1,1,0)","v":1},{"$f":"IF(選択表!I97=1,1,0)","v":1},{"$f":"IF(選択表!J97=1,1,0)","v":0},{"$f":"IF(選択表!K97=1,1,0)","v":0},{"$f":"IF(選択表!L97=\"●\",選択表!L97,\"\")","v":"●"},8,{"$f":"選択表!$N97","v":"負荷変動が大きい場合、エアレシーバ(タンク）を設置しているか"},null,{"$f":"IF(選択表!$P97=\"\",\"\",選択表!$P97)","v":""},{"$f":"IF(選択表!$Q97=\"\",\"\",選択表!$Q97)","v":""},0,0,null,null,0,0,null,null,null,null,0,""]
[null,null,"エアー配管・付属機器・使用方法",3,{"$f":"IF(選択表!E98=1,1,0)","v":0},{"$f":"IF(選択表!F98=1,1,0)","v":1},{"$f":"IF(選択表!G98=1,1,0)","v":1},{"$f":"IF(選択表!H98=1,1,0)","v":1},{"$f":"IF(選択表!I98=1,1,0)","v":1},{"$f":"IF(選択表!J98=1,1,0)","v":0},{"$f":"IF(選択表!K98=1,1,0)","v":0},{"$f":"IF(選択表!L98=\"●\",選択表!L98,\"\")","v":"●"},1,{"$f":"選択表!$N98","v":"配管太さや配管長が適正か、ループ化、バイパス化を実施しているか（管内流速が標準を超過していないか）"},null,{"$f":"IF(選択表!$P98=\"\",\"\",選択表!$P98)","v":""},{"$f":"IF(選択表!$Q98=\"\",\"\",選択表!$Q98)","v":""},0,0,{"$f":"IFERROR(SUM(S102:S112)/SUM(R102:R112),0)","v":0},null,0,0,{"$f":"SUM(W102:W112)","v":0},{"$f":"COUNTIF(V102:V112,1)","v":0},{"$f":"IFERROR(X102/Y102,0)","v":0},null,0,"",{"$f":"SUM(AC102:AC112)","v":0},{"$f":"COUNTIF(AB102:AB112,1)","v":0},{"$f":"AD102/AE102","v":{"$error":"#DIV/0!"}},null,null,{"$f":"IF(SUM(K102:K112)>0,1,0)","v":0}]
[null,null,null,3,{"$f":"IF(選択表!E99=1,1,0)","v":0},{"$f":"IF(選択表!F99=1,1,0)","v":1},{"$f":"IF(選択表!G99=1,1,0)","v":1},{"$f":"IF(選択表!H99=1,1,0)","v":1},{"$f":"IF(選択表!I99=1,1,0)","v":1},{"$f":"IF(選択表!J99=1,1,0)","v":0},{"$f":"IF(選択表!K99=1,1,0)","v":0},{"$f":"IF(選択表!L99=\"●\",選択表!L99,\"\")","v":""},2,{"$f":"選択表!$N99","v":"高圧/低圧ラインの区分けを実施しているか"},null,{"$f":"IF(選択表!$P99=\"\",\"\",選択表!$P99)","v":""},{"$f":"IF(選択表!$Q99=\"\",\"\",選択表!$Q99)","v":""},0,0,null,null,0,0,null,null,null,null,0,""]
[null,null,null,3,{"$f":"IF(選択表!E100=1,1,0)","v":0},{"$f":"IF(選択表!F100=1,1,0)","v":1},{"$f":"IF(選択表!G100=1,1,0)","v":1},{"$f":"IF(選択表!H100=1,1,0)","v":1},{"$f":"IF(選択表!I100=1,1,0)","v":1},{"$f":"IF(選択表!J100=1,1,0)","v":0},{"$f":"IF(選択表!K100=1,1,0)","v":0},{"$f":"IF(選択表!L100=\"●\",選択表!L100,\"\")","v":"●"},3,{"$f":"選択表!$N100","v":"エア漏れの点検・補修をおこなっているか"},null,{"$f":"IF(選択表!$P100=\"\",\"\",選択表!$P100)","v":""},{"$f":"IF(選択表!$Q100=\"\",\"\",選択表!$Q100)","v":""},0,0,null,null,0,0,null,null,null,null,0,""]
[null,null,null,3,{"$f":"IF(選択表!E101=1,1,0)","v":0},{"$f":"IF(選択表!F101=1,1,0)","v":1},{"$f":"IF(選択表!G101=1,1,0)","v":1},{"$f":"IF(選択表!H101=1,1,0)","v":1},{"$f":"IF(選択表!I101=1,1,0)","v":1},{"$f":"IF(選択表!J101=1,1,0)","v":0},{"$f":"IF(選択表!K101=1,1,0)","v":0},{"$f":"IF(選択表!L101=\"●\",選択表!L101,\"\")","v":""},4,{"$f":"選択表!$N101","v":"冷却用やエアーブロー、曝気処理等はブロワ等に更新しているか"},null,{"$f":"IF(選択表!$P101=\"\",\"\",選択表!$P101)","v":""},{"$f":"IF(選択表!$Q101=\"\",\"\",選択表!$Q101)","v":""},0,0,null,null,0,0,null,null,null,null,0,""]
[null,null,null,3,{"$f":"IF(選択表!E102=1,1,0)","v":0},{"$f":"IF(選択表!F102=1,1,0)","v":1},{"$f":"IF(選択表!G102=1,1,0)","v":1},{"$f":"IF(選択表!H102=1,1,0)","v":1},{"$f":"IF(選択表!I102=1,1,0)","v":1},{"$f":"IF(選択表!J102=1,1,0)","v":0},{"$f":"IF(選択表!K102=1,1,0)","v":0},{"$f":"IF(選択表!L102=\"●\",選択表!L102,\"\")","v":"●"},5,{"$f":"選択表!$N102","v":"エアブロー量の適正化(ノズル構造やブロー時間等）をしているか"},null,{"$f":"IF(選択表!$P102=\"\",\"\",選択表!$P102)","v":""},{"$f":"IF(選択表!$Q102=\"\",\"\",選択表!$Q102)","v":""},0,0,null,null,0,0,null,null,null,null,0,""]
[null,null,null,3,{"$f":"IF(選択表!E103=1,1,0)","v":0},{"$f":"IF(選択表!F103=1,1,0)","v":1},{"$f":"IF(選択表!G103=1,1,0)","v":1},{"$f":"IF(選択表!H103=1,1,0)","v":1},{"$f":"IF(選択表!I103=1,1,0)","v":1},{"$f":"IF(選択表!J103=1,1,0)","v":0},{"$f":"IF(選択表!K103=1,1,0)","v":0},{"$f":"IF(選択表!L103=\"●\",選択表!L103,\"\")","v":""},6,{"$f":"選択表!$N103","v":"エアーブローの使用ノズルと供給側の有効断面積比が１:3以上をキープしているか"},null,{"$f":"IF(選択表!$P103=\"\",\"\",選択表!$P103)","v":""},{"$f":"IF(選択表!$Q103=\"\",\"\",選択表!$Q103)","v":""},0,0,null,null,0,0,null,null,null,null,0,""]
[null,null,null,3,{"$f":"IF(選択表!E104=1,1,0)","v":0},{"$f":"IF(選択表!F104=1,1,0)","v":1},{"$f":"IF(選択表!G104=1,1,0)","v":1},{"$f":"IF(選択表!H104=1,1,0)","v":1},{"$f":"IF(選択表!I104=1,1,0)","v":1},{"$f":"IF(選択表!J104=1,1,0)","v":0},{"$f":"IF(選択表!K104=1,1,0)","v":0},{"$f":"IF(選択表!L104=\"●\",選択表!L104,\"\")","v":""},7,{"$f":"選択表!$N104","v":"エアブローの(連続でなく）パルス化をしているか"},null,{"$f":"IF(選択表!$P104=\"\",\"\",選択表!$P104)","v":""},{"$f":"IF(選択表!$Q104=\"\",\"\",選択表!$Q104)","v":""},0,0,null,null,0,0,null,null,null,null,0,""]
[null,null,null,3,{"$f":"IF(選択表!E105=1,1,0)","v":0},{"$f":"IF(選択表!F105=1,1,0)","v":1},{"$f":"IF(選択表!G105=1,1,0)","v":1},{"$f":"IF(選択表!H105=1,1,0)","v":1},{"$f":"IF(選択表!I105=1,1,0)","v":1},{"$f":"IF(選択表!J105=1,1,0)","v":0},{"$f":"IF(選択表!K105=1,1,0)","v":0},{"$f":"IF(選択表!L105=\"●\",選択表!L105,\"\")","v":"●"},8,{"$f":"選択表!$N105","v":"無駄なエアーブローがないか見直ししているか"},null,{"$f":"IF(選択表!$P105=\"\",\"\",選択表!$P105)","v":""},{"$f":"IF(選択表!$Q105=\"\",\"\",選択表!$Q105)","v":""},0,0,null,null,0,0,null,null,null,null,0,""]
[null,null,null,3,{"$f":"IF(選択表!E106=1,1,0)","v":0},{"$f":"IF(選択表!F106=1,1,0)","v":1},{"$f":"IF(選択表!G106=1,1,0)","v":1},{"$f":"IF(選択表!H106=1,1,0)","v":1},{"$f":"IF(選択表!I106=1,1,0)","v":1},{"$f":"IF(選択表!J106=1,1,0)","v":0},{"$f":"IF(選択表!K106=1,1,0)","v":0},{"$f":"IF(選択表!L106=\"●\",選択表!L106,\"\")","v":""},9,{"$f":"選択表!$N106","v":"ラインフィルターやバルブのボア径が適切なものを使用しているか"},null,{"$f":"IF(選択表!$P106=\"\",\"\",選択表!$P106)","v":""},{"$f":"IF(選択表!$Q106=\"\",\"\",選択表!$Q106)","v":""},0,0,null,null,0,0,null,null,null,null,0,""]
[null,null,null,3,{"$f":"IF(選択表!E107=1,1,0)","v":0},{"$f":"IF(選択表!F107=1,1,0)","v":1},{"$f":"IF(選択表!G107=1,1,0)","v":1},{"$f":"IF(選択表!H107=1,1,0)","v":1},{"$f":"IF(選択表!I107=1,1,0)","v":1},{"$f":"IF(選択表!J107=1,1,0)","v":0},{"$f":"IF(選択表!K107=1,1,0)","v":0},{"$f":"IF(選択表!L107=\"●\",選択表!L107,\"\")","v":""},10,{"$f":"選択表!$N107","v":"バルブやカプラの数が不必要に多くないか見直しているか"},null,{"$f":"IF(選択表!$P107=\"\",\"\",選択表!$P107)","v":""},{"$f":"IF(選択表!$Q107=\"\",\"\",選択表!$Q107)","v":""},0,0,null,null,0,0,null,null,null,null,0,""]
[null,null,null,3,{"$f":"IF(選択表!E108=1,1,0)","v":0},{"$f":"IF(選択表!F108=1,1,0)","v":1},{"$f":"IF(選択表!G108=1,1,0)","v":1},{"$f":"IF(選択表!H108=1,1,0)","v":1},{"$f":"IF(選択表!I108=1,1,0)","v":1},{"$f":"IF(選択表!J108=1,1,0)","v":0},{"$f":"IF(選択表!K108=1,1,0)","v":0},{"$f":"IF(選択表!L108=\"●\",選択表!L108,\"\")","v":""},11,{"$f":"選択表!$N108","v":"サイクロンフィルターをエアードライアーの代用で使用しているか"},null,{"$f":"IF(選択表!$P108=\"\",\"\",選択表!$P108)","v":""},{"$f":"IF(選択表!$Q108=\"\",\"\",選択表!$Q108)","v":""},0,0,null,null,0,0,null,null,null,null,0,""]
[3,null,"事業所のその他個別追加対策(任意記載）",3,{"$f":"IF(選択表!E109=1,1,0)","v":1},{"$f":"IF(選択表!F109=1,1,0)","v":1},{"$f":"IF(選択表!G109=1,1,0)","v":1},{"$f":"IF(選択表!H109=1,1,0)","v":1},{"$f":"IF(選択表!I109=1,1,0)","v":1},{"$f":"IF(選択表!J109=1,1,0)","v":0},{"$f":"IF(選択表!K109=1,1,0)","v":0},{"$f":"IF(選択表!L109=\"●\",選択表!L109,\"\")","v":""},1,{"$f":"選択表!$N109","v":0},null,{"$f":"IF(選択表!$P109=\"\",\"\",選択表!$P109)","v":""},{"$f":"IF(選択表!$Q109=\"\",\"\",選択表!$Q109)","v":""},0,null,null,null,0,0,{"$f":"SUM(W113:W115)","v":0},{"$f":"COUNTIF(V113:V115,1)","v":0},{"$f":"IFERROR(X113/Y113,\"\")","v":""},null,0,{"$f":"IF(K113=0,\"\",IF(Q113=\"○\",5,IF(Q113=\"△\",3,IF(Q113=\"×\",1,0))))","v":""},{"$f":"SUM(AC113:AC115)","v":0},{"$f":"COUNTIF(AB113:AB115,1)","v":0},{"$f":"AD113/AE113","v":{"$error":"#DIV/0!"}}]
[null,null,null,3,{"$f":"IF(選択表!E110=1,1,0)","v":1},{"$f":"IF(選択表!F110=1,1,0)","v":1},{"$f":"IF(選択表!G110=1,1,0)","v":1},{"$f":"IF(選択表!H110=1,1,0)","v":1},{"$f":"IF(選択表!I110=1,1,0)","v":1},{"$f":"IF(選択表!J110=1,1,0)","v":0},{"$f":"IF(選択表!K110=1,1,0)","v":0},{"$f":"IF(選択表!L110=\"●\",選択表!L110,\"\")","v":""},2,{"$f":"選択表!$N110","v":0},null,{"$f":"IF(選択表!$P110=\"\",\"\",選択表!$P110)","v":""},{"$f":"IF(選択表!$Q110=\"\",\"\",選択表!$Q110)","v":""},0,null,null,null,0,0,null,null,null,null,0,{"$f":"IF(K114=0,\"\",IF(Q114=\"○\",5,IF(Q114=\"△\",3,IF(Q114=\"×\",1,0))))","v":""}]
[null,null,null,3,{"$f":"IF(選択表!E111=1,1,0)","v":1},{"$f":"IF(選択表!F111=1,1,0)","v":1},{"$f":"IF(選択表!G111=1,1,0)","v":1},{"$f":"IF(選択表!H111=1,1,0)","v":1},{"$f":"IF(選択表!I111=1,1,0)","v":1},{"$f":"IF(選択表!J111=1,1,0)","v":0},{"$f":"IF(選択表!K111=1,1,0)","v":0},{"$f":"IF(選択表!L111=\"●\",選択表!L111,\"\")","v":""},3,{"$f":"選択表!$N111","v":0},null,{"$f":"IF(選択表!$P111=\"\",\"\",選択表!$P111)","v":""},{"$f":"IF(選択表!$Q111=\"\",\"\",選択表!$Q111)","v":""},0,null,null,null,0,0,null,null,null,null,0,{"$f":"IF(K115=0,\"\",IF(Q115=\"○\",5,IF(Q115=\"△\",3,IF(Q115=\"×\",1,0))))","v":""}]
[4,"ボイラ、工業炉等の熱設備","燃焼設備の管理",4,{"$f":"IF(選択表!E112=1,1,0)","v":1},{"$f":"IF(選択表!F112=1,1,0)","v":1},{"$f":"IF(選択表!G112=1,1,0)","v":1},{"$f":"IF(選択表!H112=1,1,0)","v":1},{"$f":"IF(選択表!I112=1,1,0)","v":1},{"$f":"IF(選択表!J112=1,1,0)","v":0},{"$f":"IF(選択表!K112=1,1,0)","v":0},{"$f":"IF(選択表!L112=\"●\",選択表!L112,\"\")","v":"●"},1,{"$f":"選択表!$N112","v":"燃焼空気比は適正か"},null,{"$f":"IF(選択表!$P112=\"\",\"\",選択表!$P112)","v":""},{"$f":"IF(選択表!$Q112=\"\",\"\",選択表!$Q112)","v":""},0,0,{"$f":"IFERROR(SUM(S116:S125)/SUM(R116:R125),0)","v":0},{"$f":"IF(AM116=1,IFERROR(SUM(S116:S151)/SUM(R116:R151),0),\"\")","v":""},0,0,{"$f":"SUM(W116:W125)","v":0},{"$f":"COUNTIF(V116:V135,1)","v":0},{"$f":"IFERROR(X116/Y116,0)","v":0},{"$f":"IF(AM116=1,IFERROR(SUM(X116:X151)/SUM(Y116:Y151),0),\"\")","v":""},0,{"$f":"IF(K116=0,\"\",IF(Q116=P116,W116,IF(Q116=\"○\",5,IF(Q116=\"△\",3,IF(Q116=\"×\",1,0)))))","v":""},{"$f":"SUM(AC116:AC125)","v":0},{"$f":"COUNTIF(AB116:AB135,1)","v":2},{"$f":"AD116/AE116","v":0},{"$f":"SUM(AD116:AD151)/SUM(AE116:AE151)","v":0},null,{"$f":"IF(SUM(K116:K125)>0,1,0)","v":0},null,{"$f":"SUM(R116:R151)/COUNTIF(L116:L151,\"●\")","v":0},{"$f":"SUM(V116:V151)-SUM(R116:R151)","v":0},{"$f":"IF(SUM(V116:V151)>=1,1,0)","v":0}]
[null,null,null,4,{"$f":"IF(選択表!E113=1,1,0)","v":1},{"$f":"IF(選択表!F113=1,1,0)","v":1},{"$f":"IF(選択表!G113=1,1,0)","v":1},{"$f":"IF(選択表!H113=1,1,0)","v":1},{"$f":"IF(選択表!I113=1,1,0)","v":1},{"$f":"IF(選択表!J113=1,1,0)","v":0},{"$f":"IF(選択表!K113=1,1,0)","v":0},{"$f":"IF(選択表!L113=\"●\",選択表!L113,\"\")","v":"●"},2,{"$f":"選択表!$N113","v":"排ガス温度の管理をしているか"},null,{"$f":"IF(選択表!$P113=\"\",\"\",選択表!$P113)","v":""},{"$f":"IF(選択表!$Q113=\"\",\"\",選択表!$Q113)","v":""},0,0,null,null,0,0,null,null,null,null,0,""]
[null,null,null,4,{"$f":"IF(選択表!E114=1,1,0)","v":1},{"$f":"IF(選択表!F114=1,1,0)","v":1},{"$f":"IF(選択表!G114=1,1,0)","v":1},{"$f":"IF(選択表!H114=1,1,0)","v":1},{"$f":"IF(選択表!I114=1,1,0)","v":1},{"$f":"IF(選択表!J114=1,1,0)","v":0},{"$f":"IF(選択表!K114=1,1,0)","v":0},{"$f":"IF(選択表!L114=\"●\",選択表!L114,\"\")","v":""},3,{"$f":"選択表!$N114","v":"負荷容量が変化している場合、バーナの容量は適正か"},null,{"$f":"IF(選択表!$P114=\"\",\"\",選択表!$P114)","v":""},{"$f":"IF(選択表!$Q114=\"\",\"\",選択表!$Q114)","v":""},0,0,null,null,0,0,null,null,null,null,0,""]
[null,null,null,4,{"$f":"IF(選択表!E115=1,1,0)","v":1},{"$f":"IF(選択表!F115=1,1,0)","v":1},{"$f":"IF(選択表!G115=1,1,0)","v":1},{"$f":"IF(選択表!H115=1,1,0)","v":1},{"$f":"IF(選択表!I115=1,1,0)","v":1},{"$f":"IF(選択表!J115=1,1,0)","v":0},{"$f":"IF(選択表!K115=1,1,0)","v":0},{"$f":"IF(選択表!L115=\"●\",選択表!L115,\"\")","v":""},4,{"$f":"選択表!$N115","v":"炉体・炉内キャリアの熱容量低減をしているか"},null,{"$f":"IF(選択表!$P115=\"\",\"\",選択表!$P115)","v":""},{"$f":"IF(選択表!$Q115=\"\",\"\",選択表!$Q115)","v":""},0,0,null,null,0,0,null,null,null,null,0,""]
[null,null,null,4,{"$f":"IF(選択表!E116=1,1,0)","v":1},{"$f":"IF(選択表!F116=1,1,0)","v":1},{"$f":"IF(選択表!G116=1,1,0)","v":1},{"$f":"IF(選択表!H116=1,1,0)","v":1},{"$f":"IF(選択表!I116=1,1,0)","v":1},{"$f":"IF(選択表!J116=1,1,0)","v":0},{"$f":"IF(選択表!K116=1,1,0)","v":0},{"$f":"IF(選択表!L116=\"●\",選択表!L116,\"\")","v":"●"},5,{"$f":"選択表!$N116","v":"バーナの保守・点検(清掃、摩耗時の交換）をしているか"},null,{"$f":"IF(選択表!$P116=\"\",\"\",選択表!$P116)","v":""},{"$f":"IF(選択表!$Q116=\"\",\"\",選択表!$Q116)","v":"○"},0,0,null,null,0,0,null,null,null,null,1,""]
[null,null,null,4,{"$f":"IF(選択表!E117=1,1,0)","v":1},{"$f":"IF(選択表!F117=1,1,0)","v":1},{"$f":"IF(選択表!G117=1,1,0)","v":1},{"$f":"IF(選択表!H117=1,1,0)","v":1},{"$f":"IF(選択表!I117=1,1,0)","v":1},{"$f":"IF(選択表!J117=1,1,0)","v":0},{"$f":"IF(選択表!K117=1,1,0)","v":0},{"$f":"IF(選択表!L117=\"●\",選択表!L117,\"\")","v":"●"},6,{"$f":"選択表!$N117","v":"燃焼制御装置の動作は安定しているか"},null,{"$f":"IF(選択表!$P117=\"\",\"\",選択表!$P117)","v":""},{"$f":"IF(選択表!$Q117=\"\",\"\",選択表!$Q117)","v":"○"},0,0,null,null,0,0,null,null,null,null,1,""]
[null,null,null,4,{"$f":"IF(選択表!E118=1,1,0)","v":1},{"$f":"IF(選択表!F118=1,1,0)","v":1},{"$f":"IF(選択表!G118=1,1,0)","v":1},{"$f":"IF(選択表!H118=1,1,0)","v":1},{"$f":"IF(選択表!I118=1,1,0)","v":1},{"$f":"IF(選択表!J118=1,1,0)","v":0},{"$f":"IF(選択表!K118=1,1,0)","v":0},{"$f":"IF(選択表!L118=\"●\",選択表!L118,\"\")","v":"●"},7,{"$f":"選択表!$N118","v":"通風系統：通風量は十分確保されているか"},null,{"$f":"IF(選択表!$P118=\"\",\"\",選択表!$P118)","v":""},{"$f":"IF(選択表!$Q118=\"\",\"\",選択表!$Q118)","v":""},0,0,null,null,0,0,null,null,null,null,0,""]
[null,null,null,4,{"$f":"IF(選択表!E119=1,1,0)","v":1},{"$f":"IF(選択表!F119=1,1,0)","v":1},{"$f":"IF(選択表!G119=1,1,0)","v":1},{"$f":"IF(選択表!H119=1,1,0)","v":1},{"$f":"IF(選択表!I119=1,1,0)","v":1},{"$f":"IF(選択表!J119=1,1,0)","v":0},{"$f":"IF(選択表!K119=1,1,0)","v":0},{"$f":"IF(選択表!L119=\"●\",選択表!L119,\"\")","v":"●"},8,{"$f":"選択表!$N119","v":"燃焼設備の定期的な保守点検をおこなっているか"},null,{"$f":"IF(選択表!$P119=\"\",\"\",選択表!$P119)","v":""},{"$f":"IF(選択表!$Q119=\"\",\"\",選択表!$Q119)","v":""},0,{"$f":"IF(R123=0,0,IF(P123=\"○\",5,IF(P123=\"△\",3,IF(P123=\"×\",1,0))))*IF(L123=\"●\",1,0)","v":0},null,null,0,0,null,null,null,null,0,""]
[null,null,null,4,{"$f":"IF(選択表!E120=1,1,0)","v":1},{"$f":"IF(選択表!F120=1,1,0)","v":1},{"$f":"IF(選択表!G120=1,1,0)","v":1},{"$f":"IF(選択表!H120=1,1,0)","v":1},{"$f":"IF(選択表!I120=1,1,0)","v":1},{"$f":"IF(選択表!J120=1,1,0)","v":0},{"$f":"IF(選択表!K120=1,1,0)","v":0},{"$f":"IF(選択表!L120=\"●\",選択表!L120,\"\")","v":"●"},9,{"$f":"選択表!$N120","v":"給水、給気の予熱装置が設置されているか"},null,{"$f":"IF(選択表!$P120=\"\",\"\",選択表!$P120)","v":""},{"$f":"IF(選択表!$Q120=\"\",\"\",選択表!$Q120)","v":""},0,{"$f":"IF(R124=0,0,IF(P124=\"○\",5,IF(P124=\"△\",3,IF(P124=\"×\",1,0))))*IF(L124=\"●\",1,0)","v":0},null,null,0,0,null,null,null,null,0,""]
[null,null,null,4,{"$f":"IF(選択表!E121=1,1,0)","v":1},{"$f":"IF(選択表!F121=1,1,0)","v":1},{"$f":"IF(選択表!G121=1,1,0)","v":1},{"$f":"IF(選択表!H121=1,1,0)","v":1},{"$f":"IF(選択表!I121=1,1,0)","v":1},{"$f":"IF(選択表!J121=1,1,0)","v":0},{"$f":"IF(選択表!K121=1,1,0)","v":0},{"$f":"IF(選択表!L121=\"●\",選択表!L121,\"\")","v":""},9,{"$f":"選択表!$N121","v":"ボイラ等の高効率（潜熱回収など）機が設置されているか"},null,{"$f":"IF(選択表!$P121=\"\",\"\",選択表!$P121)","v":""},{"$f":"IF(選択表!$Q121=\"\",\"\",選択表!$Q121)","v":""},0,0,null,null,0,0,null,null,null,null,0,""]
[null,null,"炉・ダクト、熱設備等の保温・放熱防止",4,{"$f":"IF(選択表!E122=1,1,0)","v":0},{"$f":"IF(選択表!F122=1,1,0)","v":0},{"$f":"IF(選択表!G122=1,1,0)","v":1},{"$f":"IF(選択表!H122=1,1,0)","v":1},{"$f":"IF(選択表!I122=1,1,0)","v":0},{"$f":"IF(選択表!J122=1,1,0)","v":0},{"$f":"IF(選択表!K122=1,1,0)","v":0},{"$f":"IF(選択表!L122=\"●\",選択表!L122,\"\")","v":"●"},1,{"$f":"選択表!$N122","v":"炉壁外面：排気ダクトの温度が高い場合、断熱・保温対策を実施したか"},null,{"$f":"IF(選択表!$P122=\"\",\"\",選択表!$P122)","v":""},{"$f":"IF(選択表!$Q122=\"\",\"\",選択表!$Q122)","v":""},0,0,{"$f":"IFERROR(SUM(S126:S130)/SUM(R126:R130),0)","v":0},null,0,0,{"$f":"SUM(W126:W130)","v":0},{"$f":"COUNTIF(V126:V130,1)","v":0},{"$f":"IFERROR(X126/Y126,0)","v":0},null,0,"",{"$f":"SUM(AC126:AC130)","v":0},{"$f":"COUNTIF(AB126:AB130,1)","v":0},{"$f":"AD126/AE126","v":{"$error":"#DIV/0!"}},null,null,{"$f":"IF(SUM(K126:K130)>0,1,0)","v":0}]
[null,null,null,4,{"$f":"IF(選択表!E123=1,1,0)","v":0},{"$f":"IF(選択表!F123=1,1,0)","v":0},{"$f":"IF(選択表!G123=1,1,0)","v":1},{"$f":"IF(選択表!H123=1,1,0)","v":1},{"$f":"IF(選択表!I123=1,1,0)","v":0},{"$f":"IF(選択表!J123=1,1,0)","v":0},{"$f":"IF(選択表!K123=1,1,0)","v":0},{"$f":"IF(選択表!L123=\"●\",選択表!L123,\"\")","v":"●"},2,{"$f":"選択表!$N123","v":"高熱設備：断熱・保温対策が実施しているか"},null,{"$f":"IF(選択表!$P123=\"\",\"\",選択表!$P123)","v":""},{"$f":"IF(選択表!$Q123=\"\",\"\",選択表!$Q123)","v":""},0,0,null,null,0,0,null,null,null,null,0,""]
[null,null,null,4,{"$f":"IF(選択表!E124=1,1,0)","v":0},{"$f":"IF(選択表!F124=1,1,0)","v":0},{"$f":"IF(選択表!G124=1,1,0)","v":1},{"$f":"IF(選択表!H124=1,1,0)","v":1},{"$f":"IF(選択表!I124=1,1,0)","v":0},{"$f":"IF(選択表!J124=1,1,0)","v":0},{"$f":"IF(選択表!K124=1,1,0)","v":0},{"$f":"IF(選択表!L124=\"●\",選択表!L124,\"\")","v":"●"},3,{"$f":"選択表!$N124","v":"炉壁の断熱材は適正か"},null,{"$f":"IF(選択表!$P124=\"\",\"\",選択表!$P124)","v":""},{"$f":"IF(選択表!$Q124=\"\",\"\",選択表!$Q124)","v":""},0,0,null,null,0,0,null,null,null,null,0,""]
[null,null,null,4,{"$f":"IF(選択表!E125=1,1,0)","v":0},{"$f":"IF(選択表!F125=1,1,0)","v":0},{"$f":"IF(選択表!G125=1,1,0)","v":1},{"$f":"IF(選択表!H125=1,1,0)","v":1},{"$f":"IF(選択表!I125=1,1,0)","v":0},{"$f":"IF(選択表!J125=1,1,0)","v":0},{"$f":"IF(選択表!K125=1,1,0)","v":0},{"$f":"IF(選択表!L125=\"●\",選択表!L125,\"\")","v":"●"},4,{"$f":"選択表!$N125","v":"炉の開口部の縮小やシール処理は十分か"},null,{"$f":"IF(選択表!$P125=\"\",\"\",選択表!$P125)","v":""},{"$f":"IF(選択表!$Q125=\"\",\"\",選択表!$Q125)","v":""},0,0,null,null,0,0,null,null,null,null,0,""]
[null,null,null,4,{"$f":"IF(選択表!E126=1,1,0)","v":0},{"$f":"IF(選択表!F126=1,1,0)","v":0},{"$f":"IF(選択表!G126=1,1,0)","v":1},{"$f":"IF(選択表!H126=1,1,0)","v":1},{"$f":"IF(選択表!I126=1,1,0)","v":0},{"$f":"IF(選択表!J126=1,1,0)","v":0},{"$f":"IF(選択表!K126=1,1,0)","v":0},{"$f":"IF(選択表!L126=\"●\",選択表!L126,\"\")","v":""},5,{"$f":"選択表!$N126","v":"炉内圧制御は適正か（排ガス噴出や外気侵入の防止）"},null,{"$f":"IF(選択表!$P126=\"\",\"\",選択表!$P126)","v":""},{"$f":"IF(選択表!$Q126=\"\",\"\",選択表!$Q126)","v":""},0,0,null,null,0,0,null,null,null,null,0,""]
[null,null,"ボイラ運転・効率管理",4,{"$f":"IF(選択表!E127=1,1,0)","v":1},{"$f":"IF(選択表!F127=1,1,0)","v":1},{"$f":"IF(選択表!G127=1,1,0)","v":1},{"$f":"IF(選択表!H127=1,1,0)","v":1},{"$f":"IF(選択表!I127=1,1,0)","v":1},{"$f":"IF(選択表!J127=1,1,0)","v":0},{"$f":"IF(選択表!K127=1,1,0)","v":0},{"$f":"IF(選択表!L127=\"●\",選択表!L127,\"\")","v":"●"},1,{"$f":"選択表!$N127","v":"蒸気圧力の設定値低減を検討したか"},null,{"$f":"IF(選択表!$P127=\"\",\"\",選択表!$P127)","v":""},{"$f":"IF(選択表!$Q127=\"\",\"\",選択表!$Q127)","v":""},0,0,{"$f":"IFERROR(SUM(S131:S135)/SUM(R131:R135),0)","v":0},null,0,0,{"$f":"SUM(W131:W135)","v":0},{"$f":"COUNTIF(V131:V135,1)","v":0},{"$f":"IFERROR(X131/Y131,0)","v":0},null,0,"",{"$f":"SUM(AC131:AC135)","v":0},{"$f":"COUNTIF(AB131:AB135,1)","v":0},{"$f":"AD131/AE131","v":{"$error":"#DIV/0!"}},null,null,{"$f":"IF(SUM(K131:K135)>0,1,0)","v":0}]
[null,null,null,4,{"$f":"IF(選択表!E128=1,1,0)","v":1},{"$f":"IF(選択表!F128=1,1,0)","v":1},{"$f":"IF(選択表!G128=1,1,0)","v":1},{"$f":"IF(選択表!H128=1,1,0)","v":1},{"$f":"IF(選択表!I128=1,1,0)","v":1},{"$f":"IF(選択表!J128=1,1,0)","v":0},{"$f":"IF(選択表!K128=1,1,0)","v":0},{"$f":"IF(選択表!L128=\"●\",選択表!L128,\"\")","v":""},2,{"$f":"選択表!$N128","v":"蒸気負荷の平準化を行っているか（負荷の急激な変動防止）"},null,{"$f":"IF(選択表!$P128=\"\",\"\",選択表!$P128)","v":""},{"$f":"IF(選択表!$Q128=\"\",\"\",選択表!$Q128)","v":""},0,0,null,null,0,0,null,null,null,null,0,""]
[null,null,null,4,{"$f":"IF(選択表!E129=1,1,0)","v":1},{"$f":"IF(選択表!F129=1,1,0)","v":1},{"$f":"IF(選択表!G129=1,1,0)","v":1},{"$f":"IF(選択表!H129=1,1,0)","v":1},{"$f":"IF(選択表!I129=1,1,0)","v":1},{"$f":"IF(選択表!J129=1,1,0)","v":0},{"$f":"IF(選択表!K129=1,1,0)","v":0},{"$f":"IF(選択表!L129=\"●\",選択表!L129,\"\")","v":"●"},3,{"$f":"選択表!$N129","v":"効率的な運転管理(台数制御等）をしているか"},null,{"$f":"IF(選択表!$P129=\"\",\"\",選択表!$P129)","v":""},{"$f":"IF(選択表!$Q129=\"\",\"\",選択表!$Q129)","v":""},0,0,null,null,0,0,null,null,null,null,0,""]
[null,null,null,4,{"$f":"IF(選択表!E130=1,1,0)","v":1},{"$f":"IF(選択表!F130=1,1,0)","v":1},{"$f":"IF(選択表!G130=1,1,0)","v":1},{"$f":"IF(選択表!H130=1,1,0)","v":1},{"$f":"IF(選択表!I130=1,1,0)","v":1},{"$f":"IF(選択表!J130=1,1,0)","v":0},{"$f":"IF(選択表!K130=1,1,0)","v":0},{"$f":"IF(選択表!L130=\"●\",選択表!L130,\"\")","v":""},4,{"$f":"選択表!$N130","v":"負荷変動が大きい場合、アキュムレータを導入しているか"},null,{"$f":"IF(選択表!$P130=\"\",\"\",選択表!$P130)","v":""},{"$f":"IF(選択表!$Q130=\"\",\"\",選択表!$Q130)","v":""},0,0,null,null,0,0,null,null,null,null,0,""]
[null,null,null,4,{"$f":"IF(選択表!E131=1,1,0)","v":1},{"$f":"IF(選択表!F131=1,1,0)","v":1},{"$f":"IF(選択表!G131=1,1,0)","v":1},{"$f":"IF(選択表!H131=1,1,0)","v":1},{"$f":"IF(選択表!I131=1,1,0)","v":1},{"$f":"IF(選択表!J131=1,1,0)","v":0},{"$f":"IF(選択表!K131=1,1,0)","v":0},{"$f":"IF(選択表!L131=\"●\",選択表!L131,\"\")","v":"●"},5,{"$f":"選択表!$N131","v":"燃焼設備の容量は適正か（負荷率、起動/停止状況）"},null,{"$f":"IF(選択表!$P131=\"\",\"\",選択表!$P131)","v":""},{"$f":"IF(選択表!$Q131=\"\",\"\",選択表!$Q131)","v":""},{"$f":"IF(P135=\"\",0,COUNTA(P135)*COUNTIF(L135,\"●\"))","v":0},0,null,null,{"$f":"IF(P135=\"\",0,1)","v":0},0,null,null,null,null,{"$f":"IF(Q135=\"対象外\",0,IF(OR(P135=\"○\",P135=\"△\",P135=\"×\",Q135=\"○\",Q135=\"△\",Q135=\"×\"),1,0))","v":0},""]
[null,null,"蒸気系統の管理",4,{"$f":"IF(選択表!E132=1,1,0)","v":1},{"$f":"IF(選択表!F132=1,1,0)","v":1},{"$f":"IF(選択表!G132=1,1,0)","v":1},{"$f":"IF(選択表!H132=1,1,0)","v":1},{"$f":"IF(選択表!I132=1,1,0)","v":1},{"$f":"IF(選択表!J132=1,1,0)","v":0},{"$f":"IF(選択表!K132=1,1,0)","v":0},{"$f":"IF(選択表!L132=\"●\",選択表!L132,\"\")","v":"●"},1,{"$f":"選択表!$N132","v":"蒸気圧力・流量、ブロー量等を定期的に計測・記録しているか"},null,{"$f":"IF(選択表!$P132=\"\",\"\",選択表!$P132)","v":""},{"$f":"IF(選択表!$Q132=\"\",\"\",選択表!$Q132)","v":""},0,0,{"$f":"IFERROR(SUM(S136:S143)/SUM(R136:R143),0)","v":0},null,0,0,{"$f":"SUM(W136:W143)","v":0},{"$f":"COUNTIF(V136:V143,1)","v":0},{"$f":"IFERROR(X136/Y136,0)","v":0},null,0,"",{"$f":"SUM(AC136:AC143)","v":0},{"$f":"COUNTIF(AB136:AB143,1)","v":0},{"$f":"AD136/AE136","v":{"$error":"#DIV/0!"}},null,null,{"$f":"IF(SUM(K136:K143)>0,1,0)","v":0}]
[null,null,null,4,{"$f":"IF(選択表!E133=1,1,0)","v":1},{"$f":"IF(選択表!F133=1,1,0)","v":1},{"$f":"IF(選択表!G133=1,1,0)","v":1},{"$f":"IF(選択表!H133=1,1,0)","v":1},{"$f":"IF(選択表!I133=1,1,0)","v":1},{"$f":"IF(選択表!J133=1,1,0)","v":0},{"$f":"IF(選択表!K133=1,1,0)","v":0},{"$f":"IF(選択表!L133=\"●\",選択表!L133,\"\")","v":"●"},2,{"$f":"選択表!$N133","v":"水質を管理し、適正なブローを実施(過剰水量防止）をしているか"},null,{"$f":"IF(選択表!$P133=\"\",\"\",選択表!$P133)","v":""},{"$f":"IF(選択表!$Q133=\"\",\"\",選択表!$Q133)","v":""},0,0,null,null,0,0,null,null,null,null,0,""]
[null,null,null,4,{"$f":"IF(選択表!E134=1,1,0)","v":1},{"$f":"IF(選択表!F134=1,1,0)","v":1},{"$f":"IF(選択表!G134=1,1,0)","v":1},{"$f":"IF(選択表!H134=1,1,0)","v":1},{"$f":"IF(選択表!I134=1,1,0)","v":1},{"$f":"IF(選択表!J134=1,1,0)","v":0},{"$f":"IF(選択表!K134=1,1,0)","v":0},{"$f":"IF(選択表!L134=\"●\",選択表!L134,\"\")","v":"●"},3,{"$f":"選択表!$N134","v":"配管系および負荷設備：蒸気漏れの点検をしているか"},null,{"$f":"IF(選択表!$P134=\"\",\"\",選択表!$P134)","v":""},{"$f":"IF(選択表!$Q134=\"\",\"\",選択表!$Q134)","v":""},0,0,null,null,0,0,null,null,null,null,0,""]
[null,null,null,4,{"$f":"IF(選択表!E135=1,1,0)","v":1},{"$f":"IF(選択表!F135=1,1,0)","v":1},{"$f":"IF(選択表!G135=1,1,0)","v":1},{"$f":"IF(選択表!H135=1,1,0)","v":1},{"$f":"IF(選択表!I135=1,1,0)","v":1},{"$f":"IF(選択表!J135=1,1,0)","v":0},{"$f":"IF(選択表!K135=1,1,0)","v":0},{"$f":"IF(選択表!L135=\"●\",選択表!L135,\"\")","v":"●"},4,{"$f":"選択表!$N135","v":"配管系およびバルブの保温対策がされているか、保温材の補修がされているか"},null,{"$f":"IF(選択表!$P135=\"\",\"\",選択表!$P135)","v":""},{"$f":"IF(選択表!$Q135=\"\",\"\",選択表!$Q135)","v":""},0,0,null,null,0,0,null,null,null,null,0,""]
[null,null,null,4,{"$f":"IF(選択表!E136=1,1,0)","v":1},{"$f":"IF(選択表!F136=1,1,0)","v":1},{"$f":"IF(選択表!G136=1,1,0)","v":1},{"$f":"IF(選択表!H136=1,1,0)","v":1},{"$f":"IF(選択表!I136=1,1,0)","v":1},{"$f":"IF(選択表!J136=1,1,0)","v":0},{"$f":"IF(選択表!K136=1,1,0)","v":0},{"$f":"IF(選択表!L136=\"●\",選択表!L136,\"\")","v":""},5,{"$f":"選択表!$N136","v":"複数の蒸気系統：統合化を検討したか"},null,{"$f":"IF(選択表!$P136=\"\",\"\",選択表!$P136)","v":""},{"$f":"IF(選択表!$Q136=\"\",\"\",選択表!$Q136)","v":""},0,0,null,null,0,0,null,null,null,null,0,""]
[null,null,null,4,{"$f":"IF(選択表!E137=1,1,0)","v":1},{"$f":"IF(選択表!F137=1,1,0)","v":1},{"$f":"IF(選択表!G137=1,1,0)","v":1},{"$f":"IF(選択表!H137=1,1,0)","v":1},{"$f":"IF(選択表!I137=1,1,0)","v":1},{"$f":"IF(選択表!J137=1,1,0)","v":0},{"$f":"IF(選択表!K137=1,1,0)","v":0},{"$f":"IF(選択表!L137=\"●\",選択表!L137,\"\")","v":"●"},6,{"$f":"選択表!$N137","v":"スチームトラップの点検・交換を定期的に実施しているか"},null,{"$f":"IF(選択表!$P137=\"\",\"\",選択表!$P137)","v":""},{"$f":"IF(選択表!$Q137=\"\",\"\",選択表!$Q137)","v":""},0,0,null,null,0,0,null,null,null,null,0,""]
[null,null,null,4,{"$f":"IF(選択表!E138=1,1,0)","v":1},{"$f":"IF(選択表!F138=1,1,0)","v":1},{"$f":"IF(選択表!G138=1,1,0)","v":1},{"$f":"IF(選択表!H138=1,1,0)","v":1},{"$f":"IF(選択表!I138=1,1,0)","v":1},{"$f":"IF(選択表!J138=1,1,0)","v":0},{"$f":"IF(選択表!K138=1,1,0)","v":0},{"$f":"IF(選択表!L138=\"●\",選択表!L138,\"\")","v":"●"},9,{"$f":"選択表!$N138","v":"蒸気配管:経路・配管サイズは適正か。不要配管はないか"},null,{"$f":"IF(選択表!$P138=\"\",\"\",選択表!$P138)","v":""},{"$f":"IF(選択表!$Q138=\"\",\"\",選択表!$Q138)","v":""},0,{"$f":"IF(R142=0,0,IF(P142=\"○\",5,IF(P142=\"△\",3,IF(P142=\"×\",1,0))))*IF(L142=\"●\",1,0)","v":0},null,null,0,{"$f":"IF(V142=0,0,IF(P142=\"○\",5,IF(P142=\"△\",3,IF(P142=\"×\",1,0))))","v":0},null,null,null,null,0,""]
[null,null,null,4,{"$f":"IF(選択表!E139=1,1,0)","v":1},{"$f":"IF(選択表!F139=1,1,0)","v":1},{"$f":"IF(選択表!G139=1,1,0)","v":1},{"$f":"IF(選択表!H139=1,1,0)","v":1},{"$f":"IF(選択表!I139=1,1,0)","v":1},{"$f":"IF(選択表!J139=1,1,0)","v":0},{"$f":"IF(選択表!K139=1,1,0)","v":0},{"$f":"IF(選択表!L139=\"●\",選択表!L139,\"\")","v":""},10,{"$f":"選択表!$N139","v":"余剰蒸気・熱の利用をおこなっているか"},null,{"$f":"IF(選択表!$P139=\"\",\"\",選択表!$P139)","v":""},{"$f":"IF(選択表!$Q139=\"\",\"\",選択表!$Q139)","v":""},0,0,null,null,0,0,null,null,null,null,0,""]
[null,null,"排熱回収、排水削減",4,{"$f":"IF(選択表!E140=1,1,0)","v":1},{"$f":"IF(選択表!F140=1,1,0)","v":1},{"$f":"IF(選択表!G140=1,1,0)","v":1},{"$f":"IF(選択表!H140=1,1,0)","v":1},{"$f":"IF(選択表!I140=1,1,0)","v":1},{"$f":"IF(選択表!J140=1,1,0)","v":0},{"$f":"IF(選択表!K140=1,1,0)","v":0},{"$f":"IF(選択表!L140=\"●\",選択表!L140,\"\")","v":"●"},1,{"$f":"選択表!$N140","v":"燃焼排ガスの排熱回収をしているか（省エネ法の基準廃熱回収率）"},null,{"$f":"IF(選択表!$P140=\"\",\"\",選択表!$P140)","v":""},{"$f":"IF(選択表!$Q140=\"\",\"\",選択表!$Q140)","v":""},0,0,{"$f":"IFERROR(SUM(S144:S149)/SUM(R144:R149),0)","v":0},null,0,0,{"$f":"SUM(W144:W149)","v":0},{"$f":"COUNTIF(V144:V149,1)","v":0},{"$f":"IFERROR(X144/Y144,0)","v":0},null,0,"",{"$f":"SUM(AC144:AC149)","v":0},{"$f":"COUNTIF(AB144:AB149,1)","v":0},{"$f":"AD144/AE144","v":{"$error":"#DIV/0!"}},null,null,{"$f":"IF(SUM(K144:K149)>0,1,0)","v":0}]
[null,null,null,4,{"$f":"IF(選択表!E141=1,1,0)","v":1},{"$f":"IF(選択表!F141=1,1,0)","v":1},{"$f":"IF(選択表!G141=1,1,0)","v":1},{"$f":"IF(選択表!H141=1,1,0)","v":1},{"$f":"IF(選択表!I141=1,1,0)","v":1},{"$f":"IF(選択表!J141=1,1,0)","v":0},{"$f":"IF(選択表!K141=1,1,0)","v":0},{"$f":"IF(選択表!L141=\"●\",選択表!L141,\"\")","v":""},2,{"$f":"選択表!$N141","v":"廃温水の熱回収をしているか"},null,{"$f":"IF(選択表!$P141=\"\",\"\",選択表!$P141)","v":""},{"$f":"IF(選択表!$Q141=\"\",\"\",選択表!$Q141)","v":""},0,0,null,null,0,0,null,null,null,null,0,""]
[null,null,null,4,{"$f":"IF(選択表!E142=1,1,0)","v":1},{"$f":"IF(選択表!F142=1,1,0)","v":1},{"$f":"IF(選択表!G142=1,1,0)","v":1},{"$f":"IF(選択表!H142=1,1,0)","v":1},{"$f":"IF(選択表!I142=1,1,0)","v":1},{"$f":"IF(選択表!J142=1,1,0)","v":0},{"$f":"IF(選択表!K142=1,1,0)","v":0},{"$f":"IF(選択表!L142=\"●\",選択表!L142,\"\")","v":"●"},3,{"$f":"選択表!$N142","v":"蒸気ドレンの回収を行っているか"},null,{"$f":"IF(選択表!$P142=\"\",\"\",選択表!$P142)","v":""},{"$f":"IF(選択表!$Q142=\"\",\"\",選択表!$Q142)","v":""},0,0,null,null,0,0,null,null,null,null,0,""]
[null,null,null,4,{"$f":"IF(選択表!E143=1,1,0)","v":1},{"$f":"IF(選択表!F143=1,1,0)","v":1},{"$f":"IF(選択表!G143=1,1,0)","v":1},{"$f":"IF(選択表!H143=1,1,0)","v":1},{"$f":"IF(選択表!I143=1,1,0)","v":1},{"$f":"IF(選択表!J143=1,1,0)","v":0},{"$f":"IF(選択表!K143=1,1,0)","v":0},{"$f":"IF(選択表!L143=\"●\",選択表!L143,\"\")","v":""},4,{"$f":"選択表!$N143","v":"フラッシュ蒸気を利用しているか"},null,{"$f":"IF(選択表!$P143=\"\",\"\",選択表!$P143)","v":""},{"$f":"IF(選択表!$Q143=\"\",\"\",選択表!$Q143)","v":""},0,0,null,null,0,0,null,null,null,null,0,""]
[null,null,null,4,{"$f":"IF(選択表!E144=1,1,0)","v":1},{"$f":"IF(選択表!F144=1,1,0)","v":1},{"$f":"IF(選択表!G144=1,1,0)","v":1},{"$f":"IF(選択表!H144=1,1,0)","v":1},{"$f":"IF(選択表!I144=1,1,0)","v":1},{"$f":"IF(選択表!J144=1,1,0)","v":0},{"$f":"IF(選択表!K144=1,1,0)","v":0},{"$f":"IF(選択表!L144=\"●\",選択表!L144,\"\")","v":""},5,{"$f":"選択表!$N144","v":"ヒートポンプ等による低温廃熱(温水、排気）の利用をしているか"},null,{"$f":"IF(選択表!$P144=\"\",\"\",選択表!$P144)","v":""},{"$f":"IF(選択表!$Q144=\"\",\"\",選択表!$Q144)","v":""},0,0,null,null,0,0,null,null,null,null,0,""]
[null,null,null,4,{"$f":"IF(選択表!E145=1,1,0)","v":1},{"$f":"IF(選択表!F145=1,1,0)","v":1},{"$f":"IF(選択表!G145=1,1,0)","v":1},{"$f":"IF(選択表!H145=1,1,0)","v":1},{"$f":"IF(選択表!I145=1,1,0)","v":1},{"$f":"IF(選択表!J145=1,1,0)","v":0},{"$f":"IF(選択表!K145=1,1,0)","v":0},{"$f":"IF(選択表!L145=\"●\",選択表!L145,\"\")","v":""},6,{"$f":"選択表!$N145","v":"冷却水の循環利用をしているか"},null,{"$f":"IF(選択表!$P145=\"\",\"\",選択表!$P145)","v":""},{"$f":"IF(選択表!$Q145=\"\",\"\",選択表!$Q145)","v":""},0,0,null,null,0,0,null,null,null,null,0,""]
[null,null,"熱交換器の管理",4,{"$f":"IF(選択表!E146=1,1,0)","v":1},{"$f":"IF(選択表!F146=1,1,0)","v":1},{"$f":"IF(選択表!G146=1,1,0)","v":1},{"$f":"IF(選択表!H146=1,1,0)","v":1},{"$f":"IF(選択表!I146=1,1,0)","v":1},{"$f":"IF(選択表!J146=1,1,0)","v":0},{"$f":"IF(選択表!K146=1,1,0)","v":0},{"$f":"IF(選択表!L146=\"●\",選択表!L146,\"\")","v":"●"},1,{"$f":"選択表!$N146","v":"温度効率は悪化していないか"},null,{"$f":"IF(選択表!$P146=\"\",\"\",選択表!$P146)","v":""},{"$f":"IF(選択表!$Q146=\"\",\"\",選択表!$Q146)","v":""},0,0,{"$f":"IFERROR(SUM(S150:S151)/SUM(R150:R151),0)","v":0},null,0,0,{"$f":"SUM(W150:W151)","v":0},{"$f":"COUNTIF(V150:V151,1)","v":0},{"$f":"IFERROR(X150/Y150,0)","v":0},null,0,"",{"$f":"SUM(AC150:AC151)","v":0},{"$f":"COUNTIF(AB150:AB151,1)","v":0},{"$f":"AD150/AE150","v":{"$error":"#DIV/0!"}},null,null,{"$f":"IF(SUM(K150:K151)>0,1,0)","v":0}]
[null,null,null,4,{"$f":"IF(選択表!E147=1,1,0)","v":1},{"$f":"IF(選択表!F147=1,1,0)","v":1},{"$f":"IF(選択表!G147=1,1,0)","v":1},{"$f":"IF(選択表!H147=1,1,0)","v":1},{"$f":"IF(選択表!I147=1,1,0)","v":1},{"$f":"IF(選択表!J147=1,1,0)","v":0},{"$f":"IF(選択表!K147=1,1,0)","v":0},{"$f":"IF(選択表!L147=\"●\",選択表!L147,\"\")","v":"●"},2,{"$f":"選択表!$N147","v":"定期的に保守点検・清掃(汚れ除去等）をしているか"},null,{"$f":"IF(選択表!$P147=\"\",\"\",選択表!$P147)","v":""},{"$f":"IF(選択表!$Q147=\"\",\"\",選択表!$Q147)","v":""},0,0,null,null,0,0,null,null,null,null,0,""]
[null,null,"事業所のその他個別追加対策(任意記載）",4,{"$f":"IF(選択表!E148=1,1,0)","v":1},{"$f":"IF(選択表!F148=1,1,0)","v":1},{"$f":"IF(選択表!G148=1,1,0)","v":1},{"$f":"IF(選択表!H148=1,1,0)","v":1},{"$f":"IF(選択表!I148=1,1,0)","v":1},{"$f":"IF(選択表!J148=1,1,0)","v":0},{"$f":"IF(選択表!K148=1,1,0)","v":0},{"$f":"IF(選択表!L148=\"●\",選択表!L148,\"\")","v":""},1,{"$f":"選択表!$N148","v":0},null,{"$f":"IF(選択表!$P148=\"\",\"\",選択表!$P148)","v":""},{"$f":"IF(選択表!$Q148=\"\",\"\",選択表!$Q148)","v":""},0,null,null,null,0,0,{"$f":"SUM(W152:W154)","v":0},{"$f":"COUNTIF(V152:V154,1)","v":0},{"$f":"IFERROR(X152/Y152,\"\")","v":""},null,0,{"$f":"IF(K152=0,\"\",IF(Q152=\"○\",5,IF(Q152=\"△\",3,IF(Q152=\"×\",1,0))))","v":""},{"$f":"SUM(AC152:AC154)","v":0},{"$f":"COUNTIF(AB152:AB154,1)","v":0},{"$f":"AD152/AE152","v":{"$error":"#DIV/0!"}}]
[null,null,null,4,{"$f":"IF(選択表!E149=1,1,0)","v":1},{"$f":"IF(選択表!F149=1,1,0)","v":1},{"$f":"IF(選択表!G149=1,1,0)","v":1},{"$f":"IF(選択表!H149=1,1,0)","v":1},{"$f":"IF(選択表!I149=1,1,0)","v":1},{"$f":"IF(選択表!J149=1,1,0)","v":0},{"$f":"IF(選択表!K149=1,1,0)","v":0},{"$f":"IF(選択表!L149=\"●\",選択表!L149,\"\")","v":""},2,{"$f":"選択表!$N149","v":0},null,{"$f":"IF(選択表!$P149=\"\",\"\",選択表!$P149)","v":""},{"$f":"IF(選択表!$Q149=\"\",\"\",選択表!$Q149)","v":""},0,null,null,null,0,0,null,null,null,null,0,{"$f":"IF(K153=0,\"\",IF(Q153=\"○\",5,IF(Q153=\"△\",3,IF(Q153=\"×\",1,0))))","v":""}]
[null,null,null,4,{"$f":"IF(選択表!E150=1,1,0)","v":1},{"$f":"IF(選択表!F150=1,1,0)","v":1},{"$f":"IF(選択表!G150=1,1,0)","v":1},{"$f":"IF(選択表!H150=1,1,0)","v":1},{"$f":"IF(選択表!I150=1,1,0)","v":1},{"$f":"IF(選択表!J150=1,1,0)","v":0},{"$f":"IF(選択表!K150=1,1,0)","v":0},{"$f":"IF(選択表!L150=\"●\",選択表!L150,\"\")","v":""},3,{"$f":"選択表!$N150","v":0},null,{"$f":"IF(選択表!$P150=\"\",\"\",選択表!$P150)","v":""},{"$f":"IF(選択表!$Q150=\"\",\"\",選択表!$Q150)","v":""},0,null,null,null,0,0,null,null,null,null,0,{"$f":"IF(K154=0,\"\",IF(Q154=\"○\",5,IF(Q154=\"△\",3,IF(Q154=\"×\",1,0))))","v":""}]
[5,"生産・業務用設備","生産設備",5,{"$f":"IF(選択表!E151=1,1,0)","v":0},{"$f":"IF(選択表!F151=1,1,0)","v":0},{"$f":"IF(選択表!G151=1,1,0)","v":1},{"$f":"IF(選択表!H151=1,1,0)","v":0},{"$f":"IF(選択表!I151=1,1,0)","v":0},{"$f":"IF(選択表!J151=1,1,0)","v":0},{"$f":"IF(選択表!K151=1,1,0)","v":0},{"$f":"IF(選択表!L151=\"●\",選択表!L151,\"\")","v":"●"},1,{"$f":"選択表!$N151","v":"ラインや設備別に設備総合効率（負荷稼働率、性能稼働率、良品率）を把握しているか"},null,{"$f":"IF(選択表!$P151=\"\",\"\",選択表!$P151)","v":""},{"$f":"IF(選択表!$Q151=\"\",\"\",選択表!$Q151)","v":""},0,{"$f":"IF(R155=0,0,IF(P155=\"○\",5,IF(P155=\"△\",3,IF(P155=\"×\",1,0))))*IF(L155=\"●\",1,0)","v":0},{"$f":"IFERROR(SUM(S155:S164)/SUM(R155:R164),0)","v":0},{"$f":"IF(AM155=1,IFERROR(SUM(S155:S166)/SUM(R155:R166),0),\"\")","v":""},0,0,{"$f":"SUM(W155:W164)","v":0},{"$f":"COUNTIF(V155:V164,1)","v":0},{"$f":"IFERROR(X155/Y155,0)","v":0},{"$f":"IF(AM155=1,IFERROR(SUM(X155:X166)/SUM(Y155:Y166),0),\"\")","v":""},0,{"$f":"IF(K155=0,\"\",IF(Q155=P155,W155,IF(Q155=\"○\",5,IF(Q155=\"△\",3,IF(Q155=\"×\",1,0)))))","v":""},{"$f":"SUM(AC155:AC164)","v":0},{"$f":"COUNTIF(AB155:AB164,1)","v":0},{"$f":"AD155/AE155","v":{"$error":"#DIV/0!"}},{"$f":"SUM(AD155:AD166)/SUM(AE155:AE166)","v":{"$error":"#DIV/0!"}},null,{"$f":"IF(SUM(K155:K164)>0,1,0)","v":0},null,{"$f":"SUM(R155:R166)/COUNTIF(L155:L166,\"●\")","v":0},{"$f":"SUM(V155:V166)-SUM(R155:R166)","v":0},{"$f":"IF(SUM(V155:V166)>=1,1,0)","v":0}]
[null,null,null,5,{"$f":"IF(選択表!E152=1,1,0)","v":0},{"$f":"IF(選択表!F152=1,1,0)","v":0},{"$f":"IF(選択表!G152=1,1,0)","v":1},{"$f":"IF(選択表!H152=1,1,0)","v":0},{"$f":"IF(選択表!I152=1,1,0)","v":0},{"$f":"IF(選択表!J152=1,1,0)","v":0},{"$f":"IF(選択表!K152=1,1,0)","v":0},{"$f":"IF(選択表!L152=\"●\",選択表!L152,\"\")","v":"●"},2,{"$f":"選択表!$N152","v":"チョコ停や待ち時間などの効率阻害時間（労損時間）が把握できているか？"},null,{"$f":"IF(選択表!$P152=\"\",\"\",選択表!$P152)","v":""},{"$f":"IF(選択表!$Q152=\"\",\"\",選択表!$Q152)","v":""},0,0,null,null,0,0,null,null,null,null,0,""]
[null,null,null,5,{"$f":"IF(選択表!E153=1,1,0)","v":0},{"$f":"IF(選択表!F153=1,1,0)","v":0},{"$f":"IF(選択表!G153=1,1,0)","v":1},{"$f":"IF(選択表!H153=1,1,0)","v":0},{"$f":"IF(選択表!I153=1,1,0)","v":0},{"$f":"IF(選択表!J153=1,1,0)","v":0},{"$f":"IF(選択表!K153=1,1,0)","v":0},{"$f":"IF(選択表!L153=\"●\",選択表!L153,\"\")","v":"●"},3,{"$f":"選択表!$N153","v":"設備総合効率（負荷稼働率、性能稼働率、良品率）向上や、効率改善する現場活動をおこなっているか"},null,{"$f":"IF(選択表!$P153=\"\",\"\",選択表!$P153)","v":""},{"$f":"IF(選択表!$Q153=\"\",\"\",選択表!$Q153)","v":""},0,0,null,null,0,0,null,null,null,null,0,""]
[null,null,null,5,{"$f":"IF(選択表!E154=1,1,0)","v":0},{"$f":"IF(選択表!F154=1,1,0)","v":0},{"$f":"IF(選択表!G154=1,1,0)","v":1},{"$f":"IF(選択表!H154=1,1,0)","v":0},{"$f":"IF(選択表!I154=1,1,0)","v":0},{"$f":"IF(選択表!J154=1,1,0)","v":0},{"$f":"IF(選択表!K154=1,1,0)","v":0},{"$f":"IF(選択表!L154=\"●\",選択表!L154,\"\")","v":"●"},4,{"$f":"選択表!$N154","v":"ライン停止や非操業時に、設備電源をOFFしているか"},null,{"$f":"IF(選択表!$P154=\"\",\"\",選択表!$P154)","v":""},{"$f":"IF(選択表!$Q154=\"\",\"\",選択表!$Q154)","v":""},0,0,null,null,0,0,null,null,null,null,0,""]
[null,null,null,5,{"$f":"IF(選択表!E155=1,1,0)","v":0},{"$f":"IF(選択表!F155=1,1,0)","v":0},{"$f":"IF(選択表!G155=1,1,0)","v":1},{"$f":"IF(選択表!H155=1,1,0)","v":0},{"$f":"IF(選択表!I155=1,1,0)","v":0},{"$f":"IF(選択表!J155=1,1,0)","v":0},{"$f":"IF(選択表!K155=1,1,0)","v":0},{"$f":"IF(選択表!L155=\"●\",選択表!L155,\"\")","v":"●"},5,{"$f":"選択表!$N155","v":"製品に対する加熱や冷却は過剰でないか"},null,{"$f":"IF(選択表!$P155=\"\",\"\",選択表!$P155)","v":""},{"$f":"IF(選択表!$Q155=\"\",\"\",選択表!$Q155)","v":""},0,0,null,null,0,0,null,null,null,null,0,""]
[null,null,null,5,{"$f":"IF(選択表!E156=1,1,0)","v":0},{"$f":"IF(選択表!F156=1,1,0)","v":0},{"$f":"IF(選択表!G156=1,1,0)","v":1},{"$f":"IF(選択表!H156=1,1,0)","v":0},{"$f":"IF(選択表!I156=1,1,0)","v":0},{"$f":"IF(選択表!J156=1,1,0)","v":0},{"$f":"IF(選択表!K156=1,1,0)","v":0},{"$f":"IF(選択表!L156=\"●\",選択表!L156,\"\")","v":"●"},6,{"$f":"選択表!$N156","v":"設備の予熱や冷却時間が過剰となっていないか"},null,{"$f":"IF(選択表!$P156=\"\",\"\",選択表!$P156)","v":""},{"$f":"IF(選択表!$Q156=\"\",\"\",選択表!$Q156)","v":""},0,0,null,null,0,0,null,null,null,null,0,""]
[null,null,null,5,{"$f":"IF(選択表!E157=1,1,0)","v":0},{"$f":"IF(選択表!F157=1,1,0)","v":0},{"$f":"IF(選択表!G157=1,1,0)","v":1},{"$f":"IF(選択表!H157=1,1,0)","v":0},{"$f":"IF(選択表!I157=1,1,0)","v":0},{"$f":"IF(選択表!J157=1,1,0)","v":0},{"$f":"IF(選択表!K157=1,1,0)","v":0},{"$f":"IF(選択表!L157=\"●\",選択表!L157,\"\")","v":""},7,{"$f":"選択表!$N157","v":"油圧の待機時はリリーフ弁方式でなくインバータ制御となっているか"},null,{"$f":"IF(選択表!$P157=\"\",\"\",選択表!$P157)","v":""},{"$f":"IF(選択表!$Q157=\"\",\"\",選択表!$Q157)","v":""},0,0,null,null,0,0,null,null,null,null,0,""]
[null,null,null,5,{"$f":"IF(選択表!E158=1,1,0)","v":0},{"$f":"IF(選択表!F158=1,1,0)","v":0},{"$f":"IF(選択表!G158=1,1,0)","v":1},{"$f":"IF(選択表!H158=1,1,0)","v":0},{"$f":"IF(選択表!I158=1,1,0)","v":0},{"$f":"IF(選択表!J158=1,1,0)","v":0},{"$f":"IF(選択表!K158=1,1,0)","v":0},{"$f":"IF(選択表!L158=\"●\",選択表!L158,\"\")","v":""},8,{"$f":"選択表!$N158","v":"熱利用機器の放熱・断熱処置がとられているか"},null,{"$f":"IF(選択表!$P158=\"\",\"\",選択表!$P158)","v":""},{"$f":"IF(選択表!$Q158=\"\",\"\",選択表!$Q158)","v":""},0,0,null,null,0,0,null,null,null,null,0,""]
[null,null,null,5,{"$f":"IF(選択表!E159=1,1,0)","v":0},{"$f":"IF(選択表!F159=1,1,0)","v":0},{"$f":"IF(選択表!G159=1,1,0)","v":1},{"$f":"IF(選択表!H159=1,1,0)","v":0},{"$f":"IF(選択表!I159=1,1,0)","v":0},{"$f":"IF(選択表!J159=1,1,0)","v":0},{"$f":"IF(選択表!K159=1,1,0)","v":0},{"$f":"IF(選択表!L159=\"●\",選択表!L159,\"\")","v":""},9,{"$f":"選択表!$N159","v":"機器の保守点検が定期的もしくは適切に行われているか"},null,{"$f":"IF(選択表!$P159=\"\",\"\",選択表!$P159)","v":""},{"$f":"IF(選択表!$Q159=\"\",\"\",選択表!$Q159)","v":""},0,0,null,null,0,0,null,null,null,null,0,""]
[null,null,null,5,{"$f":"IF(選択表!E160=1,1,0)","v":0},{"$f":"IF(選択表!F160=1,1,0)","v":0},{"$f":"IF(選択表!G160=1,1,0)","v":1},{"$f":"IF(選択表!H160=1,1,0)","v":0},{"$f":"IF(選択表!I160=1,1,0)","v":0},{"$f":"IF(選択表!J160=1,1,0)","v":0},{"$f":"IF(選択表!K160=1,1,0)","v":0},{"$f":"IF(選択表!L160=\"●\",選択表!L160,\"\")","v":""},10,{"$f":"選択表!$N160","v":"主モーターが高効率（サーボ化、PMモータ、トップランナーなど）になっているか"},null,{"$f":"IF(選択表!$P160=\"\",\"\",選択表!$P160)","v":""},{"$f":"IF(選択表!$Q160=\"\",\"\",選択表!$Q160)","v":""},0,0,null,null,0,0,null,null,null,null,0,""]
[null,null,"負荷平準化",5,{"$f":"IF(選択表!E161=1,1,0)","v":1},{"$f":"IF(選択表!F161=1,1,0)","v":0},{"$f":"IF(選択表!G161=1,1,0)","v":1},{"$f":"IF(選択表!H161=1,1,0)","v":1},{"$f":"IF(選択表!I161=1,1,0)","v":1},{"$f":"IF(選択表!J161=1,1,0)","v":0},{"$f":"IF(選択表!K161=1,1,0)","v":0},{"$f":"IF(選択表!L161=\"●\",選択表!L161,\"\")","v":""},1,{"$f":"選択表!$N161","v":"運用形態見直し(操業時間、稼働率、負荷率等)を実施したか"},null,{"$f":"IF(選択表!$P161=\"\",\"\",選択表!$P161)","v":""},{"$f":"IF(選択表!$Q161=\"\",\"\",選択表!$Q161)","v":""},0,0,{"$f":"IFERROR(SUM(S165:S166)/SUM(R165:R166),0)","v":0},null,0,0,{"$f":"SUM(W165:W166)","v":0},{"$f":"COUNTIF(V165:V166,1)","v":0},{"$f":"IFERROR(X165/Y165,0)","v":0},null,0,"",{"$f":"SUM(AC165:AC166)","v":0},{"$f":"COUNTIF(AB165:AB166,1)","v":0},{"$f":"AD165/AE165","v":{"$error":"#DIV/0!"}},null,null,{"$f":"IF(SUM(K165:K166)>0,1,0)","v":0}]
[null,null,null,5,{"$f":"IF(選択表!E162=1,1,0)","v":1},{"$f":"IF(選択表!F162=1,1,0)","v":0},{"$f":"IF(選択表!G162=1,1,0)","v":1},{"$f":"IF(選択表!H162=1,1,0)","v":1},{"$f":"IF(選択表!I162=1,1,0)","v":1},{"$f":"IF(選択表!J162=1,1,0)","v":0},{"$f":"IF(選択表!K162=1,1,0)","v":0},{"$f":"IF(選択表!L162=\"●\",選択表!L162,\"\")","v":""},2,{"$f":"選択表!$N162","v":"負荷平準化設備（蓄熱装置、吸収式冷温水機、GHP等)が導入されているか"},null,{"$f":"IF(選択表!$P162=\"\",\"\",選択表!$P162)","v":""},{"$f":"IF(選択表!$Q162=\"\",\"\",選択表!$Q162)","v":""},0,0,null,null,0,0,null,null,null,null,0,""]
[null,null,"事業所のその他個別追加対策(任意記載）",5,{"$f":"IF(選択表!E163=1,1,0)","v":1},{"$f":"IF(選択表!F163=1,1,0)","v":0},{"$f":"IF(選択表!G163=1,1,0)","v":1},{"$f":"IF(選択表!H163=1,1,0)","v":1},{"$f":"IF(選択表!I163=1,1,0)","v":1},{"$f":"IF(選択表!J163=1,1,0)","v":0},{"$f":"IF(選択表!K163=1,1,0)","v":0},{"$f":"IF(選択表!L163=\"●\",選択表!L163,\"\")","v":""},1,{"$f":"選択表!$N163","v":0},null,{"$f":"IF(選択表!$P163=\"\",\"\",選択表!$P163)","v":""},{"$f":"IF(選択表!$Q163=\"\",\"\",選択表!$Q163)","v":""},0,null,null,null,0,0,{"$f":"SUM(W167:W169)","v":0},{"$f":"COUNTIF(V167:V169,1)","v":0},{"$f":"IFERROR(X167/Y167,\"\")","v":""},null,0,{"$f":"IF(K167=0,\"\",IF(Q167=\"○\",5,IF(Q167=\"△\",3,IF(Q167=\"×\",1,0))))","v":""},{"$f":"SUM(AC167:AC169)","v":0},{"$f":"COUNTIF(AB167:AB169,1)","v":0},{"$f":"AD167/AE167","v":{"$error":"#DIV/0!"}}]
[null,null,null,5,{"$f":"IF(選択表!E164=1,1,0)","v":1},{"$f":"IF(選択表!F164=1,1,0)","v":0},{"$f":"IF(選択表!G164=1,1,0)","v":1},{"$f":"IF(選択表!H164=1,1,0)","v":1},{"$f":"IF(選択表!I164=1,1,0)","v":1},{"$f":"IF(選択表!J164=1,1,0)","v":0},{"$f":"IF(選択表!K164=1,1,0)","v":0},{"$f":"IF(選択表!L164=\"●\",選択表!L164,\"\")","v":""},2,{"$f":"選択表!$N164","v":0},null,{"$f":"IF(選択表!$P164=\"\",\"\",選択表!$P164)","v":""},{"$f":"IF(選択表!$Q164=\"\",\"\",選択表!$Q164)","v":""},0,null,null,null,0,0,null,null,null,null,0,{"$f":"IF(K168=0,\"\",IF(Q168=\"○\",5,IF(Q168=\"△\",3,IF(Q168=\"×\",1,0))))","v":""}]
[null,null,null,5,{"$f":"IF(選択表!E165=1,1,0)","v":1},{"$f":"IF(選択表!F165=1,1,0)","v":0},{"$f":"IF(選択表!G165=1,1,0)","v":1},{"$f":"IF(選択表!H165=1,1,0)","v":1},{"$f":"IF(選択表!I165=1,1,0)","v":1},{"$f":"IF(選択表!J165=1,1,0)","v":0},{"$f":"IF(選択表!K165=1,1,0)","v":0},{"$f":"IF(選択表!L165=\"●\",選択表!L165,\"\")","v":""},3,{"$f":"選択表!$N165","v":0},null,{"$f":"IF(選択表!$P165=\"\",\"\",選択表!$P165)","v":""},{"$f":"IF(選択表!$Q165=\"\",\"\",選択表!$Q165)","v":""},0,null,null,null,0,0,null,null,null,null,0,{"$f":"IF(K169=0,\"\",IF(Q169=\"○\",5,IF(Q169=\"△\",3,IF(Q169=\"×\",1,0))))","v":""}]
[6,"電動機・電気加熱設備","電動機の管理",7,{"$f":"IF(選択表!E166=1,1,0)","v":0},{"$f":"IF(選択表!F166=1,1,0)","v":0},{"$f":"IF(選択表!G166=1,1,0)","v":1},{"$f":"IF(選択表!H166=1,1,0)","v":1},{"$f":"IF(選択表!I166=1,1,0)","v":0},{"$f":"IF(選択表!J166=1,1,0)","v":0},{"$f":"IF(選択表!K166=1,1,0)","v":0},{"$f":"IF(選択表!L166=\"●\",選択表!L166,\"\")","v":"●"},1,{"$f":"選択表!$N166","v":"無負荷運転(空転）を防止しているか"},null,{"$f":"IF(選択表!$P166=\"\",\"\",選択表!$P166)","v":""},{"$f":"IF(選択表!$Q166=\"\",\"\",選択表!$Q166)","v":""},0,{"$f":"IF(R170=0,0,IF(P170=\"○\",5,IF(P170=\"△\",3,IF(P170=\"×\",1,0))))*IF(L170=\"●\",1,0)","v":0},{"$f":"IFERROR(SUM(S170:S176)/SUM(R170:R176),0)","v":0},{"$f":"IF(AM170=1,IFERROR(SUM(S170:S185)/SUM(R170:R185),0),\"\")","v":""},0,0,{"$f":"SUM(W170:W176)","v":0},{"$f":"COUNTIF(V170:V176,1)","v":0},{"$f":"IFERROR(X170/Y170,0)","v":0},{"$f":"IF(AM170=1,IFERROR(SUM(X170:X185)/SUM(Y170:Y185),0),\"\")","v":""},0,{"$f":"IF(K170=0,\"\",IF(Q170=P170,W170,IF(Q170=\"○\",5,IF(Q170=\"△\",3,IF(Q170=\"×\",1,0)))))","v":""},{"$f":"SUM(AC170:AC176)","v":0},{"$f":"COUNTIF(AB170:AB176,1)","v":0},{"$f":"AD170/AE170","v":{"$error":"#DIV/0!"}},null,null,{"$f":"IF(SUM(K170:K176)>0,1,0)","v":0},null,{"$f":"SUM(R170:R185)/COUNTIF(L170:L185,\"●\")","v":0},{"$f":"SUM(V170:V185)-SUM(R170:R185)","v":0},{"$f":"IF(SUM(V170:V185)>=1,1,0)","v":0}]
[null,null,null,7,{"$f":"IF(選択表!E167=1,1,0)","v":0},{"$f":"IF(選択表!F167=1,1,0)","v":0},{"$f":"IF(選択表!G167=1,1,0)","v":1},{"$f":"IF(選択表!H167=1,1,0)","v":1},{"$f":"IF(選択表!I167=1,1,0)","v":0},{"$f":"IF(選択表!J167=1,1,0)","v":0},{"$f":"IF(選択表!K167=1,1,0)","v":0},{"$f":"IF(選択表!L167=\"●\",選択表!L167,\"\")","v":"●"},2,{"$f":"選択表!$N167","v":"電動機の定格値（容量ｋW・電圧・回転数）は適正か"},null,{"$f":"IF(選択表!$P167=\"\",\"\",選択表!$P167)","v":""},{"$f":"IF(選択表!$Q167=\"\",\"\",選択表!$Q167)","v":""},0,0,null,null,0,0,null,null,null,null,0,""]
[null,null,null,7,{"$f":"IF(選択表!E168=1,1,0)","v":0},{"$f":"IF(選択表!F168=1,1,0)","v":0},{"$f":"IF(選択表!G168=1,1,0)","v":1},{"$f":"IF(選択表!H168=1,1,0)","v":1},{"$f":"IF(選択表!I168=1,1,0)","v":0},{"$f":"IF(選択表!J168=1,1,0)","v":0},{"$f":"IF(選択表!K168=1,1,0)","v":0},{"$f":"IF(選択表!L168=\"●\",選択表!L168,\"\")","v":"●"},3,{"$f":"選択表!$N168","v":"電動機の供給電圧は適正か（電圧降下していないか）"},null,{"$f":"IF(選択表!$P168=\"\",\"\",選択表!$P168)","v":""},{"$f":"IF(選択表!$Q168=\"\",\"\",選択表!$Q168)","v":""},0,0,null,null,0,0,null,null,null,null,0,""]
[null,null,null,7,{"$f":"IF(選択表!E169=1,1,0)","v":0},{"$f":"IF(選択表!F169=1,1,0)","v":0},{"$f":"IF(選択表!G169=1,1,0)","v":1},{"$f":"IF(選択表!H169=1,1,0)","v":1},{"$f":"IF(選択表!I169=1,1,0)","v":0},{"$f":"IF(選択表!J169=1,1,0)","v":0},{"$f":"IF(選択表!K169=1,1,0)","v":0},{"$f":"IF(選択表!L169=\"●\",選択表!L169,\"\")","v":""},4,{"$f":"選択表!$N169","v":"負荷に応じた運転か（回転数制御、台数制御）"},null,{"$f":"IF(選択表!$P169=\"\",\"\",選択表!$P169)","v":""},{"$f":"IF(選択表!$Q169=\"\",\"\",選択表!$Q169)","v":""},0,0,null,null,0,0,null,null,null,null,0,""]
[null,null,null,7,{"$f":"IF(選択表!E170=1,1,0)","v":0},{"$f":"IF(選択表!F170=1,1,0)","v":0},{"$f":"IF(選択表!G170=1,1,0)","v":1},{"$f":"IF(選択表!H170=1,1,0)","v":1},{"$f":"IF(選択表!I170=1,1,0)","v":0},{"$f":"IF(選択表!J170=1,1,0)","v":0},{"$f":"IF(選択表!K170=1,1,0)","v":0},{"$f":"IF(選択表!L170=\"●\",選択表!L170,\"\")","v":""},5,{"$f":"選択表!$N170","v":"電動機の停止時には無用な空冷ファンを停止しているか"},null,{"$f":"IF(選択表!$P170=\"\",\"\",選択表!$P170)","v":""},{"$f":"IF(選択表!$Q170=\"\",\"\",選択表!$Q170)","v":""},0,0,null,null,0,0,null,null,null,null,0,""]
[null,null,null,7,{"$f":"IF(選択表!E171=1,1,0)","v":0},{"$f":"IF(選択表!F171=1,1,0)","v":0},{"$f":"IF(選択表!G171=1,1,0)","v":1},{"$f":"IF(選択表!H171=1,1,0)","v":1},{"$f":"IF(選択表!I171=1,1,0)","v":0},{"$f":"IF(選択表!J171=1,1,0)","v":0},{"$f":"IF(選択表!K171=1,1,0)","v":0},{"$f":"IF(選択表!L171=\"●\",選択表!L171,\"\")","v":""},6,{"$f":"選択表!$N171","v":"省エネ性の高い伝動機器（ベルト等）を使用しているか"},null,{"$f":"IF(選択表!$P171=\"\",\"\",選択表!$P171)","v":""},{"$f":"IF(選択表!$Q171=\"\",\"\",選択表!$Q171)","v":""},0,0,null,null,0,0,null,null,null,null,0,""]
[null,null,null,7,{"$f":"IF(選択表!E172=1,1,0)","v":0},{"$f":"IF(選択表!F172=1,1,0)","v":0},{"$f":"IF(選択表!G172=1,1,0)","v":1},{"$f":"IF(選択表!H172=1,1,0)","v":1},{"$f":"IF(選択表!I172=1,1,0)","v":0},{"$f":"IF(選択表!J172=1,1,0)","v":0},{"$f":"IF(選択表!K172=1,1,0)","v":0},{"$f":"IF(選択表!L172=\"●\",選択表!L172,\"\")","v":""},7,{"$f":"選択表!$N172","v":"高効率モーター（PM、アモルファス等）に更新しているか"},null,{"$f":"IF(選択表!$P172=\"\",\"\",選択表!$P172)","v":""},{"$f":"IF(選択表!$Q172=\"\",\"\",選択表!$Q172)","v":""},0,0,null,null,0,0,null,null,null,null,0,""]
[null,null,"電気加熱設備の管理",7,{"$f":"IF(選択表!E173=1,1,0)","v":0},{"$f":"IF(選択表!F173=1,1,0)","v":0},{"$f":"IF(選択表!G173=1,1,0)","v":1},{"$f":"IF(選択表!H173=1,1,0)","v":1},{"$f":"IF(選択表!I173=1,1,0)","v":0},{"$f":"IF(選択表!J173=1,1,0)","v":0},{"$f":"IF(選択表!K173=1,1,0)","v":0},{"$f":"IF(選択表!L173=\"●\",選択表!L173,\"\")","v":"●"},1,{"$f":"選択表!$N173","v":"加熱時間・温度は適正か(製品持ち帰り熱量の極小化）"},null,{"$f":"IF(選択表!$P173=\"\",\"\",選択表!$P173)","v":""},{"$f":"IF(選択表!$Q173=\"\",\"\",選択表!$Q173)","v":""},0,0,{"$f":"IFERROR(SUM(S177:S185)/SUM(R177:R185),0)","v":0},null,0,0,{"$f":"SUM(W177:W185)","v":0},{"$f":"COUNTIF(V177:V185,1)","v":0},{"$f":"IFERROR(X177/Y177,0)","v":0},null,0,"",{"$f":"SUM(AC177:AC185)","v":0},{"$f":"COUNTIF(AB177:AB185,1)","v":0},{"$f":"AD177/AE177","v":{"$error":"#DIV/0!"}},null,null,{"$f":"IF(SUM(K177:K185)>0,1,0)","v":0}]
[null,null,null,7,{"$f":"IF(選択表!E174=1,1,0)","v":0},{"$f":"IF(選択表!F174=1,1,0)","v":0},{"$f":"IF(選択表!G174=1,1,0)","v":1},{"$f":"IF(選択表!H174=1,1,0)","v":1},{"$f":"IF(選択表!I174=1,1,0)","v":0},{"$f":"IF(選択表!J174=1,1,0)","v":0},{"$f":"IF(選択表!K174=1,1,0)","v":0},{"$f":"IF(選択表!L174=\"●\",選択表!L174,\"\")","v":"●"},2,{"$f":"選択表!$N174","v":"断続運転の集中化を検討しているか"},null,{"$f":"IF(選択表!$P174=\"\",\"\",選択表!$P174)","v":""},{"$f":"IF(選択表!$Q174=\"\",\"\",選択表!$Q174)","v":""},0,0,null,null,0,0,null,null,null,null,0,""]
[null,null,null,7,{"$f":"IF(選択表!E175=1,1,0)","v":0},{"$f":"IF(選択表!F175=1,1,0)","v":0},{"$f":"IF(選択表!G175=1,1,0)","v":1},{"$f":"IF(選択表!H175=1,1,0)","v":1},{"$f":"IF(選択表!I175=1,1,0)","v":0},{"$f":"IF(選択表!J175=1,1,0)","v":0},{"$f":"IF(選択表!K175=1,1,0)","v":0},{"$f":"IF(選択表!L175=\"●\",選択表!L175,\"\")","v":""},3,{"$f":"選択表!$N175","v":"供給電圧が低い場合、配線サイズ見直し等により電圧適正化をしているか"},null,{"$f":"IF(選択表!$P175=\"\",\"\",選択表!$P175)","v":""},{"$f":"IF(選択表!$Q175=\"\",\"\",選択表!$Q175)","v":""},0,0,null,null,0,0,null,null,null,null,0,""]
[null,null,null,7,{"$f":"IF(選択表!E176=1,1,0)","v":0},{"$f":"IF(選択表!F176=1,1,0)","v":0},{"$f":"IF(選択表!G176=1,1,0)","v":1},{"$f":"IF(選択表!H176=1,1,0)","v":1},{"$f":"IF(選択表!I176=1,1,0)","v":0},{"$f":"IF(選択表!J176=1,1,0)","v":0},{"$f":"IF(選択表!K176=1,1,0)","v":0},{"$f":"IF(選択表!L176=\"●\",選択表!L176,\"\")","v":""},4,{"$f":"選択表!$N176","v":"力率は適正か"},null,{"$f":"IF(選択表!$P176=\"\",\"\",選択表!$P176)","v":""},{"$f":"IF(選択表!$Q176=\"\",\"\",選択表!$Q176)","v":""},0,0,null,null,0,0,null,null,null,null,0,""]
[null,null,null,7,{"$f":"IF(選択表!E177=1,1,0)","v":0},{"$f":"IF(選択表!F177=1,1,0)","v":0},{"$f":"IF(選択表!G177=1,1,0)","v":1},{"$f":"IF(選択表!H177=1,1,0)","v":1},{"$f":"IF(選択表!I177=1,1,0)","v":0},{"$f":"IF(選択表!J177=1,1,0)","v":0},{"$f":"IF(選択表!K177=1,1,0)","v":0},{"$f":"IF(選択表!L177=\"●\",選択表!L177,\"\")","v":""},5,{"$f":"選択表!$N177","v":"負荷率向上（蓄熱損失低減、冷却損失低減等)を実施しているか"},null,{"$f":"IF(選択表!$P177=\"\",\"\",選択表!$P177)","v":""},{"$f":"IF(選択表!$Q177=\"\",\"\",選択表!$Q177)","v":""},0,0,null,null,0,0,null,null,null,null,0,""]
[null,null,null,7,{"$f":"IF(選択表!E178=1,1,0)","v":0},{"$f":"IF(選択表!F178=1,1,0)","v":0},{"$f":"IF(選択表!G178=1,1,0)","v":1},{"$f":"IF(選択表!H178=1,1,0)","v":1},{"$f":"IF(選択表!I178=1,1,0)","v":0},{"$f":"IF(選択表!J178=1,1,0)","v":0},{"$f":"IF(選択表!K178=1,1,0)","v":0},{"$f":"IF(選択表!L178=\"●\",選択表!L178,\"\")","v":"●"},6,{"$f":"選択表!$N178","v":"炉壁の断熱・保温の漏れがないか"},null,{"$f":"IF(選択表!$P178=\"\",\"\",選択表!$P178)","v":""},{"$f":"IF(選択表!$Q178=\"\",\"\",選択表!$Q178)","v":""},0,0,null,null,0,0,null,null,null,null,0,""]
[null,null,null,7,{"$f":"IF(選択表!E179=1,1,0)","v":0},{"$f":"IF(選択表!F179=1,1,0)","v":0},{"$f":"IF(選択表!G179=1,1,0)","v":1},{"$f":"IF(選択表!H179=1,1,0)","v":1},{"$f":"IF(選択表!I179=1,1,0)","v":0},{"$f":"IF(選択表!J179=1,1,0)","v":0},{"$f":"IF(選択表!K179=1,1,0)","v":0},{"$f":"IF(選択表!L179=\"●\",選択表!L179,\"\")","v":""},7,{"$f":"選択表!$N179","v":"蓋や開口部の縮小、炉内ガスのリーク低減対策を実施しているか"},null,{"$f":"IF(選択表!$P179=\"\",\"\",選択表!$P179)","v":""},{"$f":"IF(選択表!$Q179=\"\",\"\",選択表!$Q179)","v":""},0,0,null,null,0,0,null,null,null,null,0,""]
[null,null,null,7,{"$f":"IF(選択表!E180=1,1,0)","v":0},{"$f":"IF(選択表!F180=1,1,0)","v":0},{"$f":"IF(選択表!G180=1,1,0)","v":1},{"$f":"IF(選択表!H180=1,1,0)","v":1},{"$f":"IF(選択表!I180=1,1,0)","v":0},{"$f":"IF(選択表!J180=1,1,0)","v":0},{"$f":"IF(選択表!K180=1,1,0)","v":0},{"$f":"IF(選択表!L180=\"●\",選択表!L180,\"\")","v":"●"},8,{"$f":"選択表!$N180","v":"材料予熱や製品出入時の出入口開閉時間短縮をしているか"},null,{"$f":"IF(選択表!$P180=\"\",\"\",選択表!$P180)","v":""},{"$f":"IF(選択表!$Q180=\"\",\"\",選択表!$Q180)","v":""},0,0,null,null,0,0,null,null,null,null,0,""]
[null,null,null,7,{"$f":"IF(選択表!E181=1,1,0)","v":0},{"$f":"IF(選択表!F181=1,1,0)","v":0},{"$f":"IF(選択表!G181=1,1,0)","v":1},{"$f":"IF(選択表!H181=1,1,0)","v":1},{"$f":"IF(選択表!I181=1,1,0)","v":0},{"$f":"IF(選択表!J181=1,1,0)","v":0},{"$f":"IF(選択表!K181=1,1,0)","v":0},{"$f":"IF(選択表!L181=\"●\",選択表!L181,\"\")","v":""},9,{"$f":"選択表!$N181","v":"排熱の再利用(材料予熱等）をしているか"},null,{"$f":"IF(選択表!$P181=\"\",\"\",選択表!$P181)","v":""},{"$f":"IF(選択表!$Q181=\"\",\"\",選択表!$Q181)","v":""},0,0,null,null,0,0,null,null,null,null,0,""]
[null,null,"事業所のその他個別追加対策(任意記載）",7,{"$f":"IF(選択表!E182=1,1,0)","v":1},{"$f":"IF(選択表!F182=1,1,0)","v":1},{"$f":"IF(選択表!G182=1,1,0)","v":1},{"$f":"IF(選択表!H182=1,1,0)","v":1},{"$f":"IF(選択表!I182=1,1,0)","v":1},{"$f":"IF(選択表!J182=1,1,0)","v":0},{"$f":"IF(選択表!K182=1,1,0)","v":0},{"$f":"IF(選択表!L182=\"●\",選択表!L182,\"\")","v":""},1,{"$f":"選択表!$N182","v":0},null,null,{"$f":"IF(選択表!$Q182=\"\",\"\",選択表!$Q182)","v":""},0,null,null,null,0,0,{"$f":"SUM(W186:W188)","v":0},{"$f":"COUNTIF(V186:V188,1)","v":0},{"$f":"IFERROR(X186/Y186,\"\")","v":""},null,0,{"$f":"IF(K186=0,\"\",IF(Q186=\"○\",5,IF(Q186=\"△\",3,IF(Q186=\"×\",1,0))))","v":""},{"$f":"SUM(AC186:AC188)","v":0},{"$f":"COUNTIF(AB186:AB188,1)","v":0},{"$f":"AD186/AE186","v":{"$error":"#DIV/0!"}}]
[null,null,null,7,{"$f":"IF(選択表!E183=1,1,0)","v":1},{"$f":"IF(選択表!F183=1,1,0)","v":1},{"$f":"IF(選択表!G183=1,1,0)","v":1},{"$f":"IF(選択表!H183=1,1,0)","v":1},{"$f":"IF(選択表!I183=1,1,0)","v":1},{"$f":"IF(選択表!J183=1,1,0)","v":0},{"$f":"IF(選択表!K183=1,1,0)","v":0},{"$f":"IF(選択表!L183=\"●\",選択表!L183,\"\")","v":""},2,{"$f":"選択表!$N183","v":0},null,{"$f":"IF(選択表!$P183=\"\",\"\",選択表!$P183)","v":""},{"$f":"IF(選択表!$Q183=\"\",\"\",選択表!$Q183)","v":""},0,null,null,null,0,0,null,null,null,null,0,{"$f":"IF(K187=0,\"\",IF(Q187=\"○\",5,IF(Q187=\"△\",3,IF(Q187=\"×\",1,0))))","v":""}]
[null,null,null,7,{"$f":"IF(選択表!E184=1,1,0)","v":1},{"$f":"IF(選択表!F184=1,1,0)","v":1},{"$f":"IF(選択表!G184=1,1,0)","v":1},{"$f":"IF(選択表!H184=1,1,0)","v":1},{"$f":"IF(選択表!I184=1,1,0)","v":1},{"$f":"IF(選択表!J184=1,1,0)","v":0},{"$f":"IF(選択表!K184=1,1,0)","v":0},{"$f":"IF(選択表!L184=\"●\",選択表!L184,\"\")","v":""},3,{"$f":"選択表!$N184","v":0},null,{"$f":"IF(選択表!$P184=\"\",\"\",選択表!$P184)","v":""},{"$f":"IF(選択表!$Q184=\"\",\"\",選択表!$Q184)","v":""},0,null,null,null,0,0,null,null,null,null,0,{"$f":"IF(K188=0,\"\",IF(Q188=\"○\",5,IF(Q188=\"△\",3,IF(Q188=\"×\",1,0))))","v":""}]
[7,"照明","照明の管理",6,{"$f":"IF(選択表!E185=1,1,0)","v":1},{"$f":"IF(選択表!F185=1,1,0)","v":1},{"$f":"IF(選択表!G185=1,1,0)","v":1},{"$f":"IF(選択表!H185=1,1,0)","v":1},{"$f":"IF(選択表!I185=1,1,0)","v":1},{"$f":"IF(選択表!J185=1,1,0)","v":0},{"$f":"IF(選択表!K185=1,1,0)","v":0},{"$f":"IF(選択表!L185=\"●\",選択表!L185,\"\")","v":""},1,{"$f":"選択表!$N185","v":"適正照度の測定、管理をしているか　"},null,{"$f":"IF(選択表!$P185=\"\",\"\",選択表!$P185)","v":""},{"$f":"IF(選択表!$Q185=\"\",\"\",選択表!$Q185)","v":""},0,{"$f":"IF(R189=0,0,IF(P189=\"○\",5,IF(P189=\"△\",3,IF(P189=\"×\",1,0))))*IF(L189=\"●\",1,0)","v":0},{"$f":"IFERROR(SUM(S189:S203)/SUM(R189:R203),0)","v":0},{"$f":"IF(AM189=1,IFERROR(SUM(S189:S203)/SUM(R189:R203),0),\"\")","v":""},0,0,{"$f":"SUM(W189:W203)","v":0},{"$f":"COUNTIF(V189:V203,1)","v":0},{"$f":"IFERROR(X189/Y189,0)","v":0},{"$f":"IF(AM189=1,IFERROR(SUM(X189:X203)/SUM(Y189:Y203),0),\"\")","v":""},0,{"$f":"IF(K189=0,\"\",IF(Q189=P189,W189,IF(Q189=\"○\",5,IF(Q189=\"△\",3,IF(Q189=\"×\",1,0)))))","v":""},{"$f":"SUM(AC189:AC203)","v":0},{"$f":"COUNTIF(AB189:AB203,1)","v":0},{"$f":"AD189/AE189","v":{"$error":"#DIV/0!"}},{"$f":"SUM(AD189:AD206)/SUM(AE189:AE206)","v":{"$error":"#DIV/0!"}},null,{"$f":"IF(SUM(K189:K203)>0,1,0)","v":0},null,{"$f":"SUM(R189:R203)/COUNTIF(L189:L203,\"●\")","v":0},{"$f":"SUM(V189:V203)-SUM(R189:R203)","v":0},{"$f":"IF(SUM(V189:V203)>=1,1,0)","v":0}]
[null,null,null,6,{"$f":"IF(選択表!E186=1,1,0)","v":1},{"$f":"IF(選択表!F186=1,1,0)","v":1},{"$f":"IF(選択表!G186=1,1,0)","v":1},{"$f":"IF(選択表!H186=1,1,0)","v":1},{"$f":"IF(選択表!I186=1,1,0)","v":1},{"$f":"IF(選択表!J186=1,1,0)","v":0},{"$f":"IF(選択表!K186=1,1,0)","v":0},{"$f":"IF(選択表!L186=\"●\",選択表!L186,\"\")","v":"●"},2,{"$f":"選択表!$N186","v":"照明の間引き、窓際照明の消灯(昼光利用）を実施しているか"},null,{"$f":"IF(選択表!$P186=\"\",\"\",選択表!$P186)","v":""},{"$f":"IF(選択表!$Q186=\"\",\"\",選択表!$Q186)","v":""},0,0,null,null,0,0,null,null,null,null,0,""]
[null,null,null,6,{"$f":"IF(選択表!E187=1,1,0)","v":1},{"$f":"IF(選択表!F187=1,1,0)","v":1},{"$f":"IF(選択表!G187=1,1,0)","v":1},{"$f":"IF(選択表!H187=1,1,0)","v":1},{"$f":"IF(選択表!I187=1,1,0)","v":1},{"$f":"IF(選択表!J187=1,1,0)","v":0},{"$f":"IF(選択表!K187=1,1,0)","v":0},{"$f":"IF(選択表!L187=\"●\",選択表!L187,\"\")","v":"●"},3,{"$f":"選択表!$N187","v":"空室や昼休み時間等、不要時は消灯しているか"},null,{"$f":"IF(選択表!$P187=\"\",\"\",選択表!$P187)","v":""},{"$f":"IF(選択表!$Q187=\"\",\"\",選択表!$Q187)","v":""},0,0,null,null,0,0,null,null,null,null,0,""]
[null,null,null,6,{"$f":"IF(選択表!E188=1,1,0)","v":1},{"$f":"IF(選択表!F188=1,1,0)","v":1},{"$f":"IF(選択表!G188=1,1,0)","v":1},{"$f":"IF(選択表!H188=1,1,0)","v":1},{"$f":"IF(選択表!I188=1,1,0)","v":1},{"$f":"IF(選択表!J188=1,1,0)","v":0},{"$f":"IF(選択表!K188=1,1,0)","v":0},{"$f":"IF(選択表!L188=\"●\",選択表!L188,\"\")","v":"●"},4,{"$f":"選択表!$N188","v":"照明器具の清掃をしているか"},null,{"$f":"IF(選択表!$P188=\"\",\"\",選択表!$P188)","v":""},{"$f":"IF(選択表!$Q188=\"\",\"\",選択表!$Q188)","v":""},0,0,null,null,0,0,null,null,null,null,0,""]
[null,null,null,6,{"$f":"IF(選択表!E189=1,1,0)","v":1},{"$f":"IF(選択表!F189=1,1,0)","v":1},{"$f":"IF(選択表!G189=1,1,0)","v":1},{"$f":"IF(選択表!H189=1,1,0)","v":1},{"$f":"IF(選択表!I189=1,1,0)","v":1},{"$f":"IF(選択表!J189=1,1,0)","v":0},{"$f":"IF(選択表!K189=1,1,0)","v":0},{"$f":"IF(選択表!L189=\"●\",選択表!L189,\"\")","v":"●"},5,{"$f":"選択表!$N189","v":"外灯：季節に合わせた点灯時間にしているか"},null,{"$f":"IF(選択表!$P189=\"\",\"\",選択表!$P189)","v":""},{"$f":"IF(選択表!$Q189=\"\",\"\",選択表!$Q189)","v":""},0,0,null,null,0,0,null,null,null,null,0,""]
[null,null,null,6,{"$f":"IF(選択表!E190=1,1,0)","v":1},{"$f":"IF(選択表!F190=1,1,0)","v":1},{"$f":"IF(選択表!G190=1,1,0)","v":1},{"$f":"IF(選択表!H190=1,1,0)","v":1},{"$f":"IF(選択表!I190=1,1,0)","v":1},{"$f":"IF(選択表!J190=1,1,0)","v":0},{"$f":"IF(選択表!K190=1,1,0)","v":0},{"$f":"IF(選択表!L190=\"●\",選択表!L190,\"\")","v":""},6,{"$f":"選択表!$N190","v":"外灯：照度は適正か。（照度基準に対し適切か）"},null,{"$f":"IF(選択表!$P190=\"\",\"\",選択表!$P190)","v":""},{"$f":"IF(選択表!$Q190=\"\",\"\",選択表!$Q190)","v":""},0,0,null,null,0,0,null,null,null,null,0,""]
[null,null,null,6,{"$f":"IF(選択表!E191=1,1,0)","v":1},{"$f":"IF(選択表!F191=1,1,0)","v":1},{"$f":"IF(選択表!G191=1,1,0)","v":1},{"$f":"IF(選択表!H191=1,1,0)","v":1},{"$f":"IF(選択表!I191=1,1,0)","v":1},{"$f":"IF(選択表!J191=1,1,0)","v":0},{"$f":"IF(選択表!K191=1,1,0)","v":0},{"$f":"IF(選択表!L191=\"●\",選択表!L191,\"\")","v":"●"},7,{"$f":"選択表!$N191","v":"外灯：灯具の清掃をしているか"},null,{"$f":"IF(選択表!$P191=\"\",\"\",選択表!$P191)","v":""},{"$f":"IF(選択表!$Q191=\"\",\"\",選択表!$Q191)","v":""},0,0,null,null,0,0,null,null,null,null,0,""]
[null,null,null,6,{"$f":"IF(選択表!E192=1,1,0)","v":1},{"$f":"IF(選択表!F192=1,1,0)","v":1},{"$f":"IF(選択表!G192=1,1,0)","v":1},{"$f":"IF(選択表!H192=1,1,0)","v":1},{"$f":"IF(選択表!I192=1,1,0)","v":1},{"$f":"IF(選択表!J192=1,1,0)","v":0},{"$f":"IF(選択表!K192=1,1,0)","v":0},{"$f":"IF(選択表!L192=\"●\",選択表!L192,\"\")","v":"●"},8,{"$f":"選択表!$N192","v":"古いランプや蛍光灯の交換をしているか"},null,{"$f":"IF(選択表!$P192=\"\",\"\",選択表!$P192)","v":""},{"$f":"IF(選択表!$Q192=\"\",\"\",選択表!$Q192)","v":""},0,0,null,null,0,0,null,null,null,null,0,""]
[null,null,null,6,{"$f":"IF(選択表!E193=1,1,0)","v":1},{"$f":"IF(選択表!F193=1,1,0)","v":1},{"$f":"IF(選択表!G193=1,1,0)","v":1},{"$f":"IF(選択表!H193=1,1,0)","v":1},{"$f":"IF(選択表!I193=1,1,0)","v":1},{"$f":"IF(選択表!J193=1,1,0)","v":0},{"$f":"IF(選択表!K193=1,1,0)","v":0},{"$f":"IF(選択表!L193=\"●\",選択表!L193,\"\")","v":""},9,{"$f":"選択表!$N193","v":"自販機の照明を消灯しているか"},null,{"$f":"IF(選択表!$P193=\"\",\"\",選択表!$P193)","v":""},{"$f":"IF(選択表!$Q193=\"\",\"\",選択表!$Q193)","v":""},0,0,null,null,0,0,null,null,null,null,0,""]
[null,null,null,6,{"$f":"IF(選択表!E194=1,1,0)","v":1},{"$f":"IF(選択表!F194=1,1,0)","v":1},{"$f":"IF(選択表!G194=1,1,0)","v":1},{"$f":"IF(選択表!H194=1,1,0)","v":1},{"$f":"IF(選択表!I194=1,1,0)","v":1},{"$f":"IF(選択表!J194=1,1,0)","v":0},{"$f":"IF(選択表!K194=1,1,0)","v":0},{"$f":"IF(選択表!L194=\"●\",選択表!L194,\"\")","v":""},10,{"$f":"選択表!$N194","v":"トイレや倉庫等：照明の点滅に人感センサを採用しているか、不要時消灯しているか"},null,{"$f":"IF(選択表!$P194=\"\",\"\",選択表!$P194)","v":""},{"$f":"IF(選択表!$Q194=\"\",\"\",選択表!$Q194)","v":""},0,0,null,null,0,0,null,null,null,null,0,""]
[null,null,null,6,{"$f":"IF(選択表!E195=1,1,0)","v":1},{"$f":"IF(選択表!F195=1,1,0)","v":1},{"$f":"IF(選択表!G195=1,1,0)","v":1},{"$f":"IF(選択表!H195=1,1,0)","v":1},{"$f":"IF(選択表!I195=1,1,0)","v":1},{"$f":"IF(選択表!J195=1,1,0)","v":0},{"$f":"IF(選択表!K195=1,1,0)","v":0},{"$f":"IF(選択表!L195=\"●\",選択表!L195,\"\")","v":""},11,{"$f":"選択表!$N195","v":"照明をプルスイッチや回路で細分化し、不在エリアや窓際の消灯を実施しているか"},null,{"$f":"IF(選択表!$P195=\"\",\"\",選択表!$P195)","v":""},{"$f":"IF(選択表!$Q195=\"\",\"\",選択表!$Q195)","v":""},{"$f":"IF(P199=\"\",0,COUNTA(P199)*COUNTIF(L199,\"●\"))","v":0},0,null,null,{"$f":"IF(P199=\"\",0,1)","v":0},0,null,null,null,null,{"$f":"IF(Q199=\"対象外\",0,IF(OR(P199=\"○\",P199=\"△\",P199=\"×\",Q199=\"○\",Q199=\"△\",Q199=\"×\"),1,0))","v":0},""]
[null,null,null,7,{"$f":"IF(選択表!E196=1,1,0)","v":1},{"$f":"IF(選択表!F196=1,1,0)","v":1},{"$f":"IF(選択表!G196=1,1,0)","v":1},{"$f":"IF(選択表!H196=1,1,0)","v":1},{"$f":"IF(選択表!I196=1,1,0)","v":1},{"$f":"IF(選択表!J196=1,1,0)","v":0},{"$f":"IF(選択表!K196=1,1,0)","v":0},{"$f":"IF(選択表!L196=\"●\",選択表!L196,\"\")","v":""},12,{"$f":"選択表!$N196","v":"照明制御システム等を設置し、最適照明を実施しているか"},null,{"$f":"IF(選択表!$P196=\"\",\"\",選択表!$P196)","v":""},{"$f":"IF(選択表!$Q196=\"\",\"\",選択表!$Q196)","v":""},0,0,null,null,0,0,null,null,null,null,0,""]
[null,null,null,6,{"$f":"IF(選択表!E197=1,1,0)","v":1},{"$f":"IF(選択表!F197=1,1,0)","v":1},{"$f":"IF(選択表!G197=1,1,0)","v":1},{"$f":"IF(選択表!H197=1,1,0)","v":1},{"$f":"IF(選択表!I197=1,1,0)","v":1},{"$f":"IF(選択表!J197=1,1,0)","v":0},{"$f":"IF(選択表!K197=1,1,0)","v":0},{"$f":"IF(選択表!L197=\"●\",選択表!L197,\"\")","v":""},13,{"$f":"選択表!$N197","v":"照明器具の取付位置(高さ・配置)は適正か"},null,{"$f":"IF(選択表!$P197=\"\",\"\",選択表!$P197)","v":""},{"$f":"IF(選択表!$Q197=\"\",\"\",選択表!$Q197)","v":""},0,0,null,null,0,0,null,null,null,null,0,""]
[null,null,null,6,{"$f":"IF(選択表!E198=1,1,0)","v":1},{"$f":"IF(選択表!F198=1,1,0)","v":1},{"$f":"IF(選択表!G198=1,1,0)","v":1},{"$f":"IF(選択表!H198=1,1,0)","v":1},{"$f":"IF(選択表!I198=1,1,0)","v":1},{"$f":"IF(選択表!J198=1,1,0)","v":0},{"$f":"IF(選択表!K198=1,1,0)","v":0},{"$f":"IF(選択表!L198=\"●\",選択表!L198,\"\")","v":"●"},14,{"$f":"選択表!$N198","v":"高効率照明に更新しているか"},null,{"$f":"IF(選択表!$P198=\"\",\"\",選択表!$P198)","v":""},{"$f":"IF(選択表!$Q198=\"\",\"\",選択表!$Q198)","v":""},0,0,null,null,0,0,null,null,null,null,0,""]
[null,null,null,6,{"$f":"IF(選択表!E199=1,1,0)","v":1},{"$f":"IF(選択表!F199=1,1,0)","v":1},{"$f":"IF(選択表!G199=1,1,0)","v":1},{"$f":"IF(選択表!H199=1,1,0)","v":1},{"$f":"IF(選択表!I199=1,1,0)","v":1},{"$f":"IF(選択表!J199=1,1,0)","v":0},{"$f":"IF(選択表!K199=1,1,0)","v":0},{"$f":"IF(選択表!L199=\"●\",選択表!L199,\"\")","v":""},15,{"$f":"選択表!$N199","v":"タスクアンビエント照明を検討したか（全室照明⇒全体＋手元照明）"},null,{"$f":"IF(選択表!$P199=\"\",\"\",選択表!$P199)","v":""},{"$f":"IF(選択表!$Q199=\"\",\"\",選択表!$Q199)","v":""},0,0,null,null,0,0,null,null,null,null,0,""]
[null,null,"事業所のその他個別追加対策(任意記載）",6,{"$f":"IF(選択表!E200=1,1,0)","v":1},{"$f":"IF(選択表!F200=1,1,0)","v":1},{"$f":"IF(選択表!G200=1,1,0)","v":1},{"$f":"IF(選択表!H200=1,1,0)","v":1},{"$f":"IF(選択表!I200=1,1,0)","v":1},{"$f":"IF(選択表!J200=1,1,0)","v":0},{"$f":"IF(選択表!K200=1,1,0)","v":0},{"$f":"IF(選択表!L200=\"●\",選択表!L200,\"\")","v":""},1,{"$f":"選択表!$N200","v":0},null,{"$f":"IF(選択表!$P200=\"\",\"\",選択表!$P200)","v":""},{"$f":"IF(選択表!$Q200=\"\",\"\",選択表!$Q200)","v":""},0,null,null,null,0,0,{"$f":"SUM(W204:W206)","v":0},{"$f":"COUNTIF(V204:V206,1)","v":0},{"$f":"IFERROR(X204/Y204,\"\")","v":""},null,0,{"$f":"IF(K204=0,\"\",IF(Q204=\"○\",5,IF(Q204=\"△\",3,IF(Q204=\"×\",1,0))))","v":""},{"$f":"SUM(AC204:AC206)","v":0},{"$f":"COUNTIF(AB204:AB206,1)","v":0},{"$f":"AD204/AE204","v":{"$error":"#DIV/0!"}}]
[null,null,null,6,{"$f":"IF(選択表!E201=1,1,0)","v":1},{"$f":"IF(選択表!F201=1,1,0)","v":1},{"$f":"IF(選択表!G201=1,1,0)","v":1},{"$f":"IF(選択表!H201=1,1,0)","v":1},{"$f":"IF(選択表!I201=1,1,0)","v":1},{"$f":"IF(選択表!J201=1,1,0)","v":0},{"$f":"IF(選択表!K201=1,1,0)","v":0},{"$f":"IF(選択表!L201=\"●\",選択表!L201,\"\")","v":""},2,{"$f":"選択表!$N201","v":0},null,{"$f":"IF(選択表!$P201=\"\",\"\",選択表!$P201)","v":""},{"$f":"IF(選択表!$Q201=\"\",\"\",選択表!$Q201)","v":""},0,null,null,null,0,0,null,null,null,null,0,{"$f":"IF(K205=0,\"\",IF(Q205=\"○\",5,IF(Q205=\"△\",3,IF(Q205=\"×\",1,0))))","v":""}]
[null,null,null,6,{"$f":"IF(選択表!E202=1,1,0)","v":1},{"$f":"IF(選択表!F202=1,1,0)","v":1},{"$f":"IF(選択表!G202=1,1,0)","v":1},{"$f":"IF(選択表!H202=1,1,0)","v":1},{"$f":"IF(選択表!I202=1,1,0)","v":1},{"$f":"IF(選択表!J202=1,1,0)","v":0},{"$f":"IF(選択表!K202=1,1,0)","v":0},{"$f":"IF(選択表!L202=\"●\",選択表!L202,\"\")","v":""},3,{"$f":"選択表!$N202","v":0},null,{"$f":"IF(選択表!$P202=\"\",\"\",選択表!$P202)","v":""},{"$f":"IF(選択表!$Q202=\"\",\"\",選択表!$Q202)","v":""},0,null,null,null,0,0,null,null,null,null,0,{"$f":"IF(K206=0,\"\",IF(Q206=\"○\",5,IF(Q206=\"△\",3,IF(Q206=\"×\",1,0))))","v":""}]
[8,"受変電設備","受変電設備の管理",8,{"$f":"IF(選択表!E203=1,1,0)","v":1},{"$f":"IF(選択表!F203=1,1,0)","v":1},{"$f":"IF(選択表!G203=1,1,0)","v":1},{"$f":"IF(選択表!H203=1,1,0)","v":1},{"$f":"IF(選択表!I203=1,1,0)","v":1},{"$f":"IF(選択表!J203=1,1,0)","v":0},{"$f":"IF(選択表!K203=1,1,0)","v":0},{"$f":"IF(選択表!L203=\"●\",選択表!L203,\"\")","v":"●"},1,{"$f":"選択表!$N203","v":"部門・ライン毎の電力使用量管理(月次、日時）をしているか"},null,{"$f":"IF(選択表!$P203=\"\",\"\",選択表!$P203)","v":""},{"$f":"IF(選択表!$Q203=\"\",\"\",選択表!$Q203)","v":""},0,{"$f":"IF(R207=0,0,IF(P207=\"○\",5,IF(P207=\"△\",3,IF(P207=\"×\",1,0))))*IF(L207=\"●\",1,0)","v":0},{"$f":"IFERROR(SUM(S207:S219)/SUM(R207:R219),0)","v":0},{"$f":"IF(AM207=1,IFERROR(SUM(S207:S219)/SUM(R207:R219),0),\"\")","v":""},0,0,{"$f":"SUM(W207:W219)","v":0},{"$f":"COUNTIF(V207:V219,1)","v":0},{"$f":"IFERROR(X207/Y207,0)","v":0},{"$f":"IF(AM207=1,IFERROR(SUM(X207:X219)/SUM(Y207:Y219),0),\"\")","v":""},0,{"$f":"IF(K207=0,\"\",IF(Q207=P207,W207,IF(Q207=\"○\",5,IF(Q207=\"△\",3,IF(Q207=\"×\",1,0)))))","v":""},{"$f":"SUM(AC207:AC219)","v":0},{"$f":"COUNTIF(AB207:AB219,1)","v":0},{"$f":"AD207/AE207","v":{"$error":"#DIV/0!"}},null,null,{"$f":"IF(SUM(K207:K219)>0,1,0)","v":0},null,{"$f":"SUM(R207:R219)/COUNTIF(L207:L219,\"●\")","v":0},{"$f":"SUM(V207:V219)-SUM(R207:R219)","v":0},{"$f":"IF(SUM(V207:V219)>=1,1,0)","v":0}]
[null,null,null,8,{"$f":"IF(選択表!E204=1,1,0)","v":1},{"$f":"IF(選択表!F204=1,1,0)","v":1},{"$f":"IF(選択表!G204=1,1,0)","v":1},{"$f":"IF(選択表!H204=1,1,0)","v":1},{"$f":"IF(選択表!I204=1,1,0)","v":1},{"$f":"IF(選択表!J204=1,1,0)","v":0},{"$f":"IF(選択表!K204=1,1,0)","v":0},{"$f":"IF(選択表!L204=\"●\",選択表!L204,\"\")","v":"●"},2,{"$f":"選択表!$N204","v":"電気機器の受電端は定格電圧か"},null,{"$f":"IF(選択表!$P204=\"\",\"\",選択表!$P204)","v":""},{"$f":"IF(選択表!$Q204=\"\",\"\",選択表!$Q204)","v":""},0,0,null,null,0,0,null,null,null,null,0,""]
[null,null,null,8,{"$f":"IF(選択表!E205=1,1,0)","v":1},{"$f":"IF(選択表!F205=1,1,0)","v":1},{"$f":"IF(選択表!G205=1,1,0)","v":1},{"$f":"IF(選択表!H205=1,1,0)","v":1},{"$f":"IF(選択表!I205=1,1,0)","v":1},{"$f":"IF(選択表!J205=1,1,0)","v":0},{"$f":"IF(選択表!K205=1,1,0)","v":0},{"$f":"IF(選択表!L205=\"●\",選択表!L205,\"\")","v":"●"},3,{"$f":"選択表!$N205","v":"力率は適正か（例：95%未満の場合では対策必要）"},null,{"$f":"IF(選択表!$P205=\"\",\"\",選択表!$P205)","v":""},{"$f":"IF(選択表!$Q205=\"\",\"\",選択表!$Q205)","v":""},0,0,null,null,0,0,null,null,null,null,0,""]
[null,null,null,8,{"$f":"IF(選択表!E206=1,1,0)","v":1},{"$f":"IF(選択表!F206=1,1,0)","v":1},{"$f":"IF(選択表!G206=1,1,0)","v":1},{"$f":"IF(選択表!H206=1,1,0)","v":1},{"$f":"IF(選択表!I206=1,1,0)","v":1},{"$f":"IF(選択表!J206=1,1,0)","v":0},{"$f":"IF(選択表!K206=1,1,0)","v":0},{"$f":"IF(選択表!L206=\"●\",選択表!L206,\"\")","v":"●"},4,{"$f":"選択表!$N206","v":"契約電力：ピーク電力と比較し過大な場合、契約電力を低減したか"},null,{"$f":"IF(選択表!$P206=\"\",\"\",選択表!$P206)","v":""},{"$f":"IF(選択表!$Q206=\"\",\"\",選択表!$Q206)","v":""},0,0,null,null,0,0,null,null,null,null,0,""]
[null,null,null,8,{"$f":"IF(選択表!E207=1,1,0)","v":0},{"$f":"IF(選択表!F207=1,1,0)","v":1},{"$f":"IF(選択表!G207=1,1,0)","v":1},{"$f":"IF(選択表!H207=1,1,0)","v":1},{"$f":"IF(選択表!I207=1,1,0)","v":1},{"$f":"IF(選択表!J207=1,1,0)","v":0},{"$f":"IF(選択表!K207=1,1,0)","v":0},{"$f":"IF(選択表!L207=\"●\",選択表!L207,\"\")","v":""},5,{"$f":"選択表!$N207","v":"負荷変動が大きい場合（夜間電力小等）：自動力率調整装置を設置しているか"},null,{"$f":"IF(選択表!$P207=\"\",\"\",選択表!$P207)","v":""},{"$f":"IF(選択表!$Q207=\"\",\"\",選択表!$Q207)","v":""},0,0,null,null,0,0,null,null,null,null,0,""]
[null,null,null,8,{"$f":"IF(選択表!E208=1,1,0)","v":0},{"$f":"IF(選択表!F208=1,1,0)","v":1},{"$f":"IF(選択表!G208=1,1,0)","v":1},{"$f":"IF(選択表!H208=1,1,0)","v":1},{"$f":"IF(選択表!I208=1,1,0)","v":1},{"$f":"IF(選択表!J208=1,1,0)","v":0},{"$f":"IF(選択表!K208=1,1,0)","v":0},{"$f":"IF(選択表!L208=\"●\",選択表!L208,\"\")","v":""},6,{"$f":"選択表!$N208","v":"安価な夜間電力を活用しているか"},null,{"$f":"IF(選択表!$P208=\"\",\"\",選択表!$P208)","v":""},{"$f":"IF(選択表!$Q208=\"\",\"\",選択表!$Q208)","v":""},0,0,null,null,0,0,null,null,null,null,0,""]
[null,null,null,8,{"$f":"IF(選択表!E209=1,1,0)","v":1},{"$f":"IF(選択表!F209=1,1,0)","v":1},{"$f":"IF(選択表!G209=1,1,0)","v":1},{"$f":"IF(選択表!H209=1,1,0)","v":1},{"$f":"IF(選択表!I209=1,1,0)","v":1},{"$f":"IF(選択表!J209=1,1,0)","v":0},{"$f":"IF(選択表!K209=1,1,0)","v":0},{"$f":"IF(選択表!L209=\"●\",選択表!L209,\"\")","v":"●"},7,{"$f":"選択表!$N209","v":"夜間・休日：固定電力の低減対策を実施しているか"},null,{"$f":"IF(選択表!$P209=\"\",\"\",選択表!$P209)","v":""},{"$f":"IF(選択表!$Q209=\"\",\"\",選択表!$Q209)","v":""},0,0,null,null,0,0,null,null,null,null,0,""]
[null,null,null,8,{"$f":"IF(選択表!E210=1,1,0)","v":1},{"$f":"IF(選択表!F210=1,1,0)","v":1},{"$f":"IF(選択表!G210=1,1,0)","v":1},{"$f":"IF(選択表!H210=1,1,0)","v":1},{"$f":"IF(選択表!I210=1,1,0)","v":1},{"$f":"IF(選択表!J210=1,1,0)","v":0},{"$f":"IF(選択表!K210=1,1,0)","v":0},{"$f":"IF(選択表!L210=\"●\",選択表!L210,\"\")","v":"●"},8,{"$f":"選択表!$N210","v":"デマンド監視装置を用いて契約電力低減対策をしているか"},null,{"$f":"IF(選択表!$P210=\"\",\"\",選択表!$P210)","v":""},{"$f":"IF(選択表!$Q210=\"\",\"\",選択表!$Q210)","v":""},0,0,null,null,0,0,null,null,null,null,0,""]
[null,null,null,8,{"$f":"IF(選択表!E211=1,1,0)","v":0},{"$f":"IF(選択表!F211=1,1,0)","v":1},{"$f":"IF(選択表!G211=1,1,0)","v":1},{"$f":"IF(選択表!H211=1,1,0)","v":1},{"$f":"IF(選択表!I211=1,1,0)","v":1},{"$f":"IF(選択表!J211=1,1,0)","v":0},{"$f":"IF(選択表!K211=1,1,0)","v":0},{"$f":"IF(選択表!L211=\"●\",選択表!L211,\"\")","v":""},9,{"$f":"選択表!$N211","v":"負荷率に余裕がある場合、変圧器の統合や変圧器容量の適正化を実施したか"},null,{"$f":"IF(選択表!$P211=\"\",\"\",選択表!$P211)","v":""},{"$f":"IF(選択表!$Q211=\"\",\"\",選択表!$Q211)","v":""},0,0,null,null,0,0,null,null,null,null,0,""]
[null,null,null,8,{"$f":"IF(選択表!E212=1,1,0)","v":1},{"$f":"IF(選択表!F212=1,1,0)","v":1},{"$f":"IF(選択表!G212=1,1,0)","v":1},{"$f":"IF(選択表!H212=1,1,0)","v":1},{"$f":"IF(選択表!I212=1,1,0)","v":1},{"$f":"IF(選択表!J212=1,1,0)","v":0},{"$f":"IF(選択表!K212=1,1,0)","v":0},{"$f":"IF(選択表!L212=\"●\",選択表!L212,\"\")","v":"●"},10,{"$f":"選択表!$N212","v":"三相の負荷バランスをとっているか (電気主任技術者等の業務）"},null,{"$f":"IF(選択表!$P212=\"\",\"\",選択表!$P212)","v":""},{"$f":"IF(選択表!$Q212=\"\",\"\",選択表!$Q212)","v":""},0,0,null,null,0,0,null,null,null,null,0,""]
[null,null,null,8,{"$f":"IF(選択表!E213=1,1,0)","v":0},{"$f":"IF(選択表!F213=1,1,0)","v":1},{"$f":"IF(選択表!G213=1,1,0)","v":1},{"$f":"IF(選択表!H213=1,1,0)","v":1},{"$f":"IF(選択表!I213=1,1,0)","v":1},{"$f":"IF(選択表!J213=1,1,0)","v":0},{"$f":"IF(選択表!K213=1,1,0)","v":0},{"$f":"IF(選択表!L213=\"●\",選択表!L213,\"\")","v":""},11,{"$f":"選択表!$N213","v":"負荷率を調査し、負荷の平準化(負荷調整）を実施しているか(同上）"},null,{"$f":"IF(選択表!$P213=\"\",\"\",選択表!$P213)","v":""},{"$f":"IF(選択表!$Q213=\"\",\"\",選択表!$Q213)","v":""},0,0,null,null,0,0,null,null,null,null,0,""]
[null,null,null,8,{"$f":"IF(選択表!E214=1,1,0)","v":1},{"$f":"IF(選択表!F214=1,1,0)","v":1},{"$f":"IF(選択表!G214=1,1,0)","v":1},{"$f":"IF(選択表!H214=1,1,0)","v":1},{"$f":"IF(選択表!I214=1,1,0)","v":1},{"$f":"IF(選択表!J214=1,1,0)","v":0},{"$f":"IF(選択表!K214=1,1,0)","v":0},{"$f":"IF(選択表!L214=\"●\",選択表!L214,\"\")","v":""},12,{"$f":"選択表!$N214","v":"不要変圧器の一次側の電源を遮断しているか(同上）"},null,{"$f":"IF(選択表!$P214=\"\",\"\",選択表!$P214)","v":""},{"$f":"IF(選択表!$Q214=\"\",\"\",選択表!$Q214)","v":""},0,0,null,null,0,0,null,null,null,null,0,""]
[null,null,null,8,{"$f":"IF(選択表!E215=1,1,0)","v":1},{"$f":"IF(選択表!F215=1,1,0)","v":1},{"$f":"IF(選択表!G215=1,1,0)","v":1},{"$f":"IF(選択表!H215=1,1,0)","v":1},{"$f":"IF(選択表!I215=1,1,0)","v":1},{"$f":"IF(選択表!J215=1,1,0)","v":0},{"$f":"IF(選択表!K215=1,1,0)","v":0},{"$f":"IF(選択表!L215=\"●\",選択表!L215,\"\")","v":""},13,{"$f":"選択表!$N215","v":"古い機種を更新の際、トップランナーを導入したか"},null,{"$f":"IF(選択表!$P215=\"\",\"\",選択表!$P215)","v":""},{"$f":"IF(選択表!$Q215=\"\",\"\",選択表!$Q215)","v":""},0,0,null,null,0,0,null,null,null,null,0,""]
[null,null,"事業所のその他個別追加対策(任意記載）",8,{"$f":"IF(選択表!E216=1,1,0)","v":1},{"$f":"IF(選択表!F216=1,1,0)","v":1},{"$f":"IF(選択表!G216=1,1,0)","v":1},{"$f":"IF(選択表!H216=1,1,0)","v":1},{"$f":"IF(選択表!I216=1,1,0)","v":1},{"$f":"IF(選択表!J216=1,1,0)","v":0},{"$f":"IF(選択表!K216=1,1,0)","v":0},{"$f":"IF(選択表!L216=\"●\",選択表!L216,\"\")","v":""},1,{"$f":"選択表!$N216","v":0},null,{"$f":"IF(選択表!$P216=\"\",\"\",選択表!$P216)","v":""},{"$f":"IF(選択表!$Q216=\"\",\"\",選択表!$Q216)","v":""},0,null,null,null,0,0,{"$f":"SUM(W220:W222)","v":0},{"$f":"COUNTIF(V220:V222,1)","v":0},{"$f":"IFERROR(X220/Y220,\"\")","v":""},null,0,{"$f":"IF(K220=0,\"\",IF(Q220=\"○\",5,IF(Q220=\"△\",3,IF(Q220=\"×\",1,0))))","v":""},{"$f":"SUM(AC220:AC222)","v":0},{"$f":"COUNTIF(AB220:AB222,1)","v":0},{"$f":"AD220/AE220","v":{"$error":"#DIV/0!"}}]
[null,null,null,8,{"$f":"IF(選択表!E217=1,1,0)","v":1},{"$f":"IF(選択表!F217=1,1,0)","v":1},{"$f":"IF(選択表!G217=1,1,0)","v":1},{"$f":"IF(選択表!H217=1,1,0)","v":1},{"$f":"IF(選択表!I217=1,1,0)","v":1},{"$f":"IF(選択表!J217=1,1,0)","v":0},{"$f":"IF(選択表!K217=1,1,0)","v":0},{"$f":"IF(選択表!L217=\"●\",選択表!L217,\"\")","v":""},2,{"$f":"選択表!$N217","v":0},null,{"$f":"IF(選択表!$P217=\"\",\"\",選択表!$P217)","v":""},{"$f":"IF(選択表!$Q217=\"\",\"\",選択表!$Q217)","v":""},0,null,null,null,0,0,null,null,null,null,0,{"$f":"IF(K221=0,\"\",IF(Q221=\"○\",5,IF(Q221=\"△\",3,IF(Q221=\"×\",1,0))))","v":""}]
[null,null,null,8,{"$f":"IF(選択表!E218=1,1,0)","v":1},{"$f":"IF(選択表!F218=1,1,0)","v":1},{"$f":"IF(選択表!G218=1,1,0)","v":1},{"$f":"IF(選択表!H218=1,1,0)","v":1},{"$f":"IF(選択表!I218=1,1,0)","v":1},{"$f":"IF(選択表!J218=1,1,0)","v":0},{"$f":"IF(選択表!K218=1,1,0)","v":0},{"$f":"IF(選択表!L218=\"●\",選択表!L218,\"\")","v":""},3,{"$f":"選択表!$N218","v":0},null,{"$f":"IF(選択表!$P218=\"\",\"\",選択表!$P218)","v":""},{"$f":"IF(選択表!$Q218=\"\",\"\",選択表!$Q218)","v":""},0,null,null,null,0,{"$f":"IF(V222=0,0,IF(P222=\"○\",5,IF(P222=\"△\",3,IF(P222=\"×\",1,0))))","v":0},null,null,null,null,0,{"$f":"IF(K222=0,\"\",IF(Q222=\"○\",5,IF(Q222=\"△\",3,IF(Q222=\"×\",1,0))))","v":""}]
[9,"OA機器、自販機、衛生設備等","OA機器",9,{"$f":"IF(選択表!E219=1,1,0)","v":1},{"$f":"IF(選択表!F219=1,1,0)","v":1},{"$f":"IF(選択表!G219=1,1,0)","v":1},{"$f":"IF(選択表!H219=1,1,0)","v":1},{"$f":"IF(選択表!I219=1,1,0)","v":1},{"$f":"IF(選択表!J219=1,1,0)","v":0},{"$f":"IF(選択表!K219=1,1,0)","v":0},{"$f":"IF(選択表!L219=\"●\",選択表!L219,\"\")","v":"●"},1,{"$f":"選択表!$N219","v":"休日・夜間、不使用時に電源を遮断しているか(タイマー機能）"},null,{"$f":"IF(選択表!$P219=\"\",\"\",選択表!$P219)","v":""},{"$f":"IF(選択表!$Q219=\"\",\"\",選択表!$Q219)","v":""},0,{"$f":"IF(R223=0,0,IF(P223=\"○\",5,IF(P223=\"△\",3,IF(P223=\"×\",1,0))))*IF(L223=\"●\",1,0)","v":0},{"$f":"IFERROR(SUM(S223:S225)/SUM(R223:R225),0)","v":0},{"$f":"IF(AM223=1,IFERROR(SUM(S223:S236)/SUM(R223:R236),0),\"\")","v":""},0,0,{"$f":"SUM(W223:W225)","v":0},{"$f":"COUNTIF(V223:V225,1)","v":0},{"$f":"IFERROR(X223/Y223,0)","v":0},{"$f":"IF(AM223=1,IFERROR(SUM(X223:X236)/SUM(Y223:Y236),0),\"\")","v":""},0,{"$f":"IF(K223=0,\"\",IF(Q223=P223,W223,IF(Q223=\"○\",5,IF(Q223=\"△\",3,IF(Q223=\"×\",1,0)))))","v":""},{"$f":"SUM(AC223:AC231)","v":0},{"$f":"COUNTIF(AB223:AB231,1)","v":0},{"$f":"AD223/AE223","v":{"$error":"#DIV/0!"}},{"$f":"SUM(AD223:AD236)/SUM(AE223:AE236)","v":{"$error":"#DIV/0!"}},null,{"$f":"IF(SUM(K223:K225)>0,1,0)","v":0},null,{"$f":"SUM(R223:R236)/COUNTIF(L223:L236,\"●\")","v":0},{"$f":"SUM(V223:V236)-SUM(R223:R236)","v":0},{"$f":"IF(SUM(V223:V236)>=1,1,0)","v":0}]
[null,null,null,9,{"$f":"IF(選択表!E220=1,1,0)","v":1},{"$f":"IF(選択表!F220=1,1,0)","v":1},{"$f":"IF(選択表!G220=1,1,0)","v":1},{"$f":"IF(選択表!H220=1,1,0)","v":1},{"$f":"IF(選択表!I220=1,1,0)","v":1},{"$f":"IF(選択表!J220=1,1,0)","v":0},{"$f":"IF(選択表!K220=1,1,0)","v":0},{"$f":"IF(選択表!L220=\"●\",選択表!L220,\"\")","v":"●"},2,{"$f":"選択表!$N220","v":"省エネモードに設定しているか"},null,{"$f":"IF(選択表!$P220=\"\",\"\",選択表!$P220)","v":""},{"$f":"IF(選択表!$Q220=\"\",\"\",選択表!$Q220)","v":""},0,0,null,null,0,0,null,null,null,null,0,""]
[null,null,null,9,{"$f":"IF(選択表!E221=1,1,0)","v":1},{"$f":"IF(選択表!F221=1,1,0)","v":1},{"$f":"IF(選択表!G221=1,1,0)","v":1},{"$f":"IF(選択表!H221=1,1,0)","v":1},{"$f":"IF(選択表!I221=1,1,0)","v":1},{"$f":"IF(選択表!J221=1,1,0)","v":0},{"$f":"IF(選択表!K221=1,1,0)","v":0},{"$f":"IF(選択表!L221=\"●\",選択表!L221,\"\")","v":"●"},3,{"$f":"選択表!$N221","v":"省エネ型に更新しているか"},null,{"$f":"IF(選択表!$P221=\"\",\"\",選択表!$P221)","v":""},{"$f":"IF(選択表!$Q221=\"\",\"\",選択表!$Q221)","v":""},0,0,null,null,0,0,null,null,null,null,0,""]
[null,null,"昇降機",9,{"$f":"IF(選択表!E222=1,1,0)","v":1},{"$f":"IF(選択表!F222=1,1,0)","v":1},{"$f":"IF(選択表!G222=1,1,0)","v":1},{"$f":"IF(選択表!H222=1,1,0)","v":1},{"$f":"IF(選択表!I222=1,1,0)","v":1},{"$f":"IF(選択表!J222=1,1,0)","v":0},{"$f":"IF(選択表!K222=1,1,0)","v":0},{"$f":"IF(選択表!L222=\"●\",選択表!L222,\"\")","v":"●"},1,{"$f":"選択表!$N222","v":"機器の保守点検をおこなっているか"},null,{"$f":"IF(選択表!$P222=\"\",\"\",選択表!$P222)","v":""},{"$f":"IF(選択表!$Q222=\"\",\"\",選択表!$Q222)","v":""},0,0,{"$f":"IFERROR(SUM(S226:S227)/SUM(R226:R227),0)","v":0},null,0,0,{"$f":"SUM(W226:W227)","v":0},{"$f":"COUNTIF(V226:V227,1)","v":0},{"$f":"IFERROR(X226/Y226,0)","v":0},null,0,"",null,null,null,null,null,{"$f":"IF(SUM(K226:K277)>0,1,0)","v":0}]
[null,null,null,9,{"$f":"IF(選択表!E223=1,1,0)","v":1},{"$f":"IF(選択表!F223=1,1,0)","v":1},{"$f":"IF(選択表!G223=1,1,0)","v":1},{"$f":"IF(選択表!H223=1,1,0)","v":1},{"$f":"IF(選択表!I223=1,1,0)","v":1},{"$f":"IF(選択表!J223=1,1,0)","v":0},{"$f":"IF(選択表!K223=1,1,0)","v":0},{"$f":"IF(選択表!L223=\"●\",選択表!L223,\"\")","v":""},2,{"$f":"選択表!$N223","v":"休日・夜間は台数制御を、もしくは不使用時に電源の遮断おこなっているか"},null,{"$f":"IF(選択表!$P223=\"\",\"\",選択表!$P223)","v":""},{"$f":"IF(選択表!$Q223=\"\",\"\",選択表!$Q223)","v":""},0,0,null,null,0,0,null,null,null,null,0,""]
[null,null,"自販機",9,{"$f":"IF(選択表!E224=1,1,0)","v":1},{"$f":"IF(選択表!F224=1,1,0)","v":1},{"$f":"IF(選択表!G224=1,1,0)","v":1},{"$f":"IF(選択表!H224=1,1,0)","v":1},{"$f":"IF(選択表!I224=1,1,0)","v":1},{"$f":"IF(選択表!J224=1,1,0)","v":0},{"$f":"IF(選択表!K224=1,1,0)","v":0},{"$f":"IF(選択表!L224=\"●\",選択表!L224,\"\")","v":"●"},1,{"$f":"選択表!$N224","v":"休日・夜間に停止しているか(タイマー機能）"},null,{"$f":"IF(選択表!$P224=\"\",\"\",選択表!$P224)","v":""},{"$f":"IF(選択表!$Q224=\"\",\"\",選択表!$Q224)","v":""},0,0,{"$f":"IFERROR(SUM(S228:S231)/SUM(R228:R231),0)","v":0},null,0,0,{"$f":"SUM(W228:W231)","v":0},{"$f":"COUNTIF(V228:V231,1)","v":0},{"$f":"IFERROR(X228/Y228,0)","v":0},null,0,"",null,null,null,null,null,{"$f":"IF(SUM(K228:K231)>0,1,0)","v":0}]
[null,null,null,9,{"$f":"IF(選択表!E225=1,1,0)","v":1},{"$f":"IF(選択表!F225=1,1,0)","v":1},{"$f":"IF(選択表!G225=1,1,0)","v":1},{"$f":"IF(選択表!H225=1,1,0)","v":1},{"$f":"IF(選択表!I225=1,1,0)","v":1},{"$f":"IF(選択表!J225=1,1,0)","v":0},{"$f":"IF(選択表!K225=1,1,0)","v":0},{"$f":"IF(選択表!L225=\"●\",選択表!L225,\"\")","v":"●"},2,{"$f":"選択表!$N225","v":"省エネモードに設定しているか"},null,{"$f":"IF(選択表!$P225=\"\",\"\",選択表!$P225)","v":""},{"$f":"IF(選択表!$Q225=\"\",\"\",選択表!$Q225)","v":""},0,0,null,null,0,0,null,null,null,null,0,""]
[null,null,null,9,{"$f":"IF(選択表!E226=1,1,0)","v":1},{"$f":"IF(選択表!F226=1,1,0)","v":0},{"$f":"IF(選択表!G226=1,1,0)","v":1},{"$f":"IF(選択表!H226=1,1,0)","v":1},{"$f":"IF(選択表!I226=1,1,0)","v":1},{"$f":"IF(選択表!J226=1,1,0)","v":0},{"$f":"IF(選択表!K226=1,1,0)","v":0},{"$f":"IF(選択表!L226=\"●\",選択表!L226,\"\")","v":""},3,{"$f":"選択表!$N226","v":"商品照明を消灯しているか"},null,{"$f":"IF(選択表!$P226=\"\",\"\",選択表!$P226)","v":""},{"$f":"IF(選択表!$Q226=\"\",\"\",選択表!$Q226)","v":""},0,0,null,null,0,0,null,null,null,null,0,""]
[null,null,null,9,{"$f":"IF(選択表!E227=1,1,0)","v":1},{"$f":"IF(選択表!F227=1,1,0)","v":1},{"$f":"IF(選択表!G227=1,1,0)","v":1},{"$f":"IF(選択表!H227=1,1,0)","v":1},{"$f":"IF(選択表!I227=1,1,0)","v":1},{"$f":"IF(選択表!J227=1,1,0)","v":0},{"$f":"IF(選択表!K227=1,1,0)","v":0},{"$f":"IF(選択表!L227=\"●\",選択表!L227,\"\")","v":""},4,{"$f":"選択表!$N227","v":"省エネ型に更新しているか"},null,{"$f":"IF(選択表!$P227=\"\",\"\",選択表!$P227)","v":""},{"$f":"IF(選択表!$Q227=\"\",\"\",選択表!$Q227)","v":""},0,0,null,null,0,0,null,null,null,null,0,""]
[null,null,"給排水、衛生設備",9,{"$f":"IF(選択表!E228=1,1,0)","v":1},{"$f":"IF(選択表!F228=1,1,0)","v":1},{"$f":"IF(選択表!G228=1,1,0)","v":1},{"$f":"IF(選択表!H228=1,1,0)","v":1},{"$f":"IF(選択表!I228=1,1,0)","v":1},{"$f":"IF(選択表!J228=1,1,0)","v":0},{"$f":"IF(選択表!K228=1,1,0)","v":0},{"$f":"IF(選択表!L228=\"●\",選択表!L228,\"\")","v":"●"},1,{"$f":"選択表!$N228","v":"手洗場等：節水コマや流調弁等で適正流量にて使用しているか"},null,{"$f":"IF(選択表!$P228=\"\",\"\",選択表!$P228)","v":""},{"$f":"IF(選択表!$Q228=\"\",\"\",選択表!$Q228)","v":""},0,{"$f":"IF(R232=0,0,IF(P232=\"○\",5,IF(P232=\"△\",3,IF(P232=\"×\",1,0))))*IF(L232=\"●\",1,0)","v":0},{"$f":"IFERROR(SUM(S232:S236)/SUM(R232:R236),0)","v":0},null,0,0,{"$f":"SUM(W232:W236)","v":0},{"$f":"COUNTIF(V232:V236,1)","v":0},{"$f":"IFERROR(X232/Y232,0)","v":0},null,0,"",{"$f":"SUM(AC232:AC236)","v":0},{"$f":"COUNTIF(AB232:AB236,1)","v":0},{"$f":"AD232/AE232","v":{"$error":"#DIV/0!"}},null,null,{"$f":"IF(SUM(K232:K236)>0,1,0)","v":0}]
[null,null,null,9,{"$f":"IF(選択表!E229=1,1,0)","v":1},{"$f":"IF(選択表!F229=1,1,0)","v":1},{"$f":"IF(選択表!G229=1,1,0)","v":1},{"$f":"IF(選択表!H229=1,1,0)","v":1},{"$f":"IF(選択表!I229=1,1,0)","v":1},{"$f":"IF(選択表!J229=1,1,0)","v":0},{"$f":"IF(選択表!K229=1,1,0)","v":0},{"$f":"IF(選択表!L229=\"●\",選択表!L229,\"\")","v":""},2,{"$f":"選択表!$N229","v":"トイレや給湯器等は省エネ型に更新されているか"},null,{"$f":"IF(選択表!$P229=\"\",\"\",選択表!$P229)","v":""},{"$f":"IF(選択表!$Q229=\"\",\"\",選択表!$Q229)","v":""},0,0,null,null,0,0,null,null,null,null,0,""]
[null,null,null,9,{"$f":"IF(選択表!E230=1,1,0)","v":1},{"$f":"IF(選択表!F230=1,1,0)","v":1},{"$f":"IF(選択表!G230=1,1,0)","v":1},{"$f":"IF(選択表!H230=1,1,0)","v":1},{"$f":"IF(選択表!I230=1,1,0)","v":1},{"$f":"IF(選択表!J230=1,1,0)","v":0},{"$f":"IF(選択表!K230=1,1,0)","v":0},{"$f":"IF(選択表!L230=\"●\",選択表!L230,\"\")","v":"●"},3,{"$f":"選択表!$N230","v":"温水暖房便座の温度や時間、使用方法等を管理しているか"},null,{"$f":"IF(選択表!$P230=\"\",\"\",選択表!$P230)","v":""},{"$f":"IF(選択表!$Q230=\"\",\"\",選択表!$Q230)","v":""},0,0,null,null,0,0,null,null,null,null,0,""]
[null,null,null,9,{"$f":"IF(選択表!E231=1,1,0)","v":1},{"$f":"IF(選択表!F231=1,1,0)","v":1},{"$f":"IF(選択表!G231=1,1,0)","v":1},{"$f":"IF(選択表!H231=1,1,0)","v":1},{"$f":"IF(選択表!I231=1,1,0)","v":0},{"$f":"IF(選択表!J231=1,1,0)","v":0},{"$f":"IF(選択表!K231=1,1,0)","v":0},{"$f":"IF(選択表!L231=\"●\",選択表!L231,\"\")","v":""},4,{"$f":"選択表!$N231","v":"排水処理用の曝気槽：非操業時(夜間や休日等）、送風ブロワの風量を低減しているか（稼働台数減、インバータ設置による回転数制御化）"},null,{"$f":"IF(選択表!$P231=\"\",\"\",選択表!$P231)","v":""},{"$f":"IF(選択表!$Q231=\"\",\"\",選択表!$Q231)","v":""},0,0,null,null,0,0,null,null,null,null,0,""]
[null,null,null,9,{"$f":"IF(選択表!E232=1,1,0)","v":1},{"$f":"IF(選択表!F232=1,1,0)","v":1},{"$f":"IF(選択表!G232=1,1,0)","v":1},{"$f":"IF(選択表!H232=1,1,0)","v":1},{"$f":"IF(選択表!I232=1,1,0)","v":0},{"$f":"IF(選択表!J232=1,1,0)","v":0},{"$f":"IF(選択表!K232=1,1,0)","v":0},{"$f":"IF(選択表!L232=\"●\",選択表!L232,\"\")","v":""},5,{"$f":"選択表!$N232","v":"曝気槽ブロアーは高効率型・省エネ型を使用しているか"},null,{"$f":"IF(選択表!$P232=\"\",\"\",選択表!$P232)","v":""},{"$f":"IF(選択表!$Q232=\"\",\"\",選択表!$Q232)","v":""},0,0,null,null,0,0,null,null,null,null,0,""]
[null,null,"事業所のその他個別追加対策(任意記載）",9,{"$f":"IF(選択表!E233=1,1,0)","v":1},{"$f":"IF(選択表!F233=1,1,0)","v":1},{"$f":"IF(選択表!G233=1,1,0)","v":1},{"$f":"IF(選択表!H233=1,1,0)","v":1},{"$f":"IF(選択表!I233=1,1,0)","v":1},{"$f":"IF(選択表!J233=1,1,0)","v":0},{"$f":"IF(選択表!K233=1,1,0)","v":0},{"$f":"IF(選択表!L233=\"●\",選択表!L233,\"\")","v":""},1,{"$f":"選択表!$N233","v":0},null,{"$f":"IF(選択表!$P233=\"\",\"\",選択表!$P233)","v":""},{"$f":"IF(選択表!$Q233=\"\",\"\",選択表!$Q233)","v":""},0,null,null,null,0,0,{"$f":"SUM(W237:W239)","v":0},{"$f":"COUNTIF(V237:V239,1)","v":0},{"$f":"IFERROR(X237/Y237,\"\")","v":""},null,0,{"$f":"IF(K237=0,\"\",IF(Q237=\"○\",5,IF(Q237=\"△\",3,IF(Q237=\"×\",1,0))))","v":""},{"$f":"SUM(AC237:AC239)","v":0},{"$f":"COUNTIF(AB237:AB239,1)","v":0},{"$f":"AD237/AE237","v":{"$error":"#DIV/0!"}}]
[null,null,null,9,{"$f":"IF(選択表!E234=1,1,0)","v":1},{"$f":"IF(選択表!F234=1,1,0)","v":1},{"$f":"IF(選択表!G234=1,1,0)","v":1},{"$f":"IF(選択表!H234=1,1,0)","v":1},{"$f":"IF(選択表!I234=1,1,0)","v":1},{"$f":"IF(選択表!J234=1,1,0)","v":0},{"$f":"IF(選択表!K234=1,1,0)","v":0},{"$f":"IF(選択表!L234=\"●\",選択表!L234,\"\")","v":""},2,{"$f":"選択表!$N234","v":0},null,{"$f":"IF(選択表!$P234=\"\",\"\",選択表!$P234)","v":""},{"$f":"IF(選択表!$Q234=\"\",\"\",選択表!$Q234)","v":""},0,null,null,null,0,0,null,null,null,null,0,{"$f":"IF(K238=0,\"\",IF(Q238=\"○\",5,IF(Q238=\"△\",3,IF(Q238=\"×\",1,0))))","v":""}]
[null,null,null,9,{"$f":"IF(選択表!E235=1,1,0)","v":1},{"$f":"IF(選択表!F235=1,1,0)","v":1},{"$f":"IF(選択表!G235=1,1,0)","v":1},{"$f":"IF(選択表!H235=1,1,0)","v":1},{"$f":"IF(選択表!I235=1,1,0)","v":1},{"$f":"IF(選択表!J235=1,1,0)","v":0},{"$f":"IF(選択表!K235=1,1,0)","v":0},{"$f":"IF(選択表!L235=\"●\",選択表!L235,\"\")","v":""},3,{"$f":"選択表!$N235","v":0},null,{"$f":"IF(選択表!$P235=\"\",\"\",選択表!$P235)","v":""},{"$f":"IF(選択表!$Q235=\"\",\"\",選択表!$Q235)","v":""},0,null,null,null,0,0,null,null,null,null,0,{"$f":"IF(K239=0,\"\",IF(Q239=\"○\",5,IF(Q239=\"△\",3,IF(Q239=\"×\",1,0))))","v":""}]
[10,"その他","建物",10,{"$f":"IF(選択表!E236=1,1,0)","v":1},{"$f":"IF(選択表!F236=1,1,0)","v":1},{"$f":"IF(選択表!G236=1,1,0)","v":1},{"$f":"IF(選択表!H236=1,1,0)","v":1},{"$f":"IF(選択表!I236=1,1,0)","v":1},{"$f":"IF(選択表!J236=1,1,0)","v":0},{"$f":"IF(選択表!K236=1,1,0)","v":0},{"$f":"IF(選択表!L236=\"●\",選択表!L236,\"\")","v":"●"},1,{"$f":"選択表!$N236","v":"ブラインド及びカーテンを適正に運用している"},null,{"$f":"IF(選択表!$P236=\"\",\"\",選択表!$P236)","v":""},{"$f":"IF(選択表!$Q236=\"\",\"\",選択表!$Q236)","v":""},0,0,{"$f":"IFERROR(SUM(S240:S242)/SUM(R240:R242),0)","v":0},{"$f":"IF(AM240=1,IFERROR(SUM(S240:S250)/SUM(R240:R250),0),\"\")","v":""},0,0,{"$f":"SUM(W240:W242)","v":0},{"$f":"COUNTIF(V240:V242,1)","v":0},{"$f":"IFERROR(X240/Y240,0)","v":0},{"$f":"IF(AM240=1,IFERROR(SUM(X240:X250)/SUM(Y240:Y250),0),\"\")","v":""},0,{"$f":"IF(K240=0,\"\",IF(Q240=P240,W240,IF(Q240=\"○\",5,IF(Q240=\"△\",3,IF(Q240=\"×\",1,0)))))","v":""},{"$f":"SUM(AC240:AC242)","v":0},{"$f":"COUNTIF(AB240:AB242,1)","v":0},{"$f":"AD240/AE240","v":{"$error":"#DIV/0!"}},{"$f":"SUM(AD240:AD250)/SUM(AE240:AE2248)","v":0},null,{"$f":"IF(SUM(K240:K242)>0,1,0)","v":0},null,{"$f":"SUM(R240:R250)/COUNTIF(L240:L250,\"●\")","v":0},{"$f":"SUM(V240:V250)-SUM(R240:R250)","v":0},{"$f":"IF(SUM(V240:V250)>=1,1,0)","v":0}]
[null,null,null,10,{"$f":"IF(選択表!E237=1,1,0)","v":1},{"$f":"IF(選択表!F237=1,1,0)","v":1},{"$f":"IF(選択表!G237=1,1,0)","v":1},{"$f":"IF(選択表!H237=1,1,0)","v":1},{"$f":"IF(選択表!I237=1,1,0)","v":1},{"$f":"IF(選択表!J237=1,1,0)","v":0},{"$f":"IF(選択表!K237=1,1,0)","v":0},{"$f":"IF(選択表!L237=\"●\",選択表!L237,\"\")","v":"●"},2,{"$f":"選択表!$N237","v":"窓面に断熱フィルムや気密性確保のため二重ガラス等を利用している"},null,{"$f":"IF(選択表!$P237=\"\",\"\",選択表!$P237)","v":""},{"$f":"IF(選択表!$Q237=\"\",\"\",選択表!$Q237)","v":""},0,{"$f":"IF(R241=0,0,IF(P241=\"○\",5,IF(P241=\"△\",3,IF(P241=\"×\",1,0))))*IF(L241=\"●\",1,0)","v":0},null,null,0,0,null,null,null,null,0,""]
[null,null,null,10,{"$f":"IF(選択表!E238=1,1,0)","v":1},{"$f":"IF(選択表!F238=1,1,0)","v":1},{"$f":"IF(選択表!G238=1,1,0)","v":1},{"$f":"IF(選択表!H238=1,1,0)","v":1},{"$f":"IF(選択表!I238=1,1,0)","v":1},{"$f":"IF(選択表!J238=1,1,0)","v":0},{"$f":"IF(選択表!K238=1,1,0)","v":0},{"$f":"IF(選択表!L238=\"●\",選択表!L238,\"\")","v":"●"},3,{"$f":"選択表!$N238","v":"建物構造の断熱性や気密性を高める措置がされている"},null,{"$f":"IF(選択表!$P238=\"\",\"\",選択表!$P238)","v":""},{"$f":"IF(選択表!$Q238=\"\",\"\",選択表!$Q238)","v":""},0,{"$f":"IF(R242=0,0,IF(P242=\"○\",5,IF(P242=\"△\",3,IF(P242=\"×\",1,0))))*IF(L242=\"●\",1,0)","v":0},null,null,0,0,null,null,null,null,0,""]
[null,null,"コージェネレーション",10,{"$f":"IF(選択表!E239=1,1,0)","v":0},{"$f":"IF(選択表!F239=1,1,0)","v":1},{"$f":"IF(選択表!G239=1,1,0)","v":1},{"$f":"IF(選択表!H239=1,1,0)","v":1},{"$f":"IF(選択表!I239=1,1,0)","v":0},{"$f":"IF(選択表!J239=1,1,0)","v":0},{"$f":"IF(選択表!K239=1,1,0)","v":0},{"$f":"IF(選択表!L239=\"●\",選択表!L239,\"\")","v":""},1,{"$f":"選択表!$N239","v":"運転状態(依存率、発電効率、排熱利用率、総合効率等）を確認しているか"},null,{"$f":"IF(選択表!$P239=\"\",\"\",選択表!$P239)","v":""},{"$f":"IF(選択表!$Q239=\"\",\"\",選択表!$Q239)","v":""},0,{"$f":"IF(R243=0,0,IF(P243=\"○\",5,IF(P243=\"△\",3,IF(P243=\"×\",1,0))))*IF(L243=\"●\",1,0)","v":0},{"$f":"IFERROR(SUM(S243:S244)/SUM(R243:R244),0)","v":0},null,0,0,null,{"$f":"COUNTIF(V243:V244,1)","v":0},{"$f":"IFERROR(X243/Y243,0)","v":0},null,0,"",null,null,null,null,null,{"$f":"IF(SUM(K243:K294)>0,1,0)","v":0}]
[null,null,null,10,{"$f":"IF(選択表!E240=1,1,0)","v":0},{"$f":"IF(選択表!F240=1,1,0)","v":1},{"$f":"IF(選択表!G240=1,1,0)","v":1},{"$f":"IF(選択表!H240=1,1,0)","v":1},{"$f":"IF(選択表!I240=1,1,0)","v":0},{"$f":"IF(選択表!J240=1,1,0)","v":0},{"$f":"IF(選択表!K240=1,1,0)","v":0},{"$f":"IF(選択表!L240=\"●\",選択表!L240,\"\")","v":""},2,{"$f":"選択表!$N240","v":"温水や蒸気の廃熱利用率が十分か"},null,{"$f":"IF(選択表!$P240=\"\",\"\",選択表!$P240)","v":""},{"$f":"IF(選択表!$Q240=\"\",\"\",選択表!$Q240)","v":""},0,{"$f":"IF(R244=0,0,IF(P244=\"○\",5,IF(P244=\"△\",3,IF(P244=\"×\",1,0))))*IF(L244=\"●\",1,0)","v":0},null,null,0,0,null,null,null,null,0,""]
[null,null,"新エネルギー",10,{"$f":"IF(選択表!E241=1,1,0)","v":1},{"$f":"IF(選択表!F241=1,1,0)","v":1},{"$f":"IF(選択表!G241=1,1,0)","v":1},{"$f":"IF(選択表!H241=1,1,0)","v":1},{"$f":"IF(選択表!I241=1,1,0)","v":1},{"$f":"IF(選択表!J241=1,1,0)","v":0},{"$f":"IF(選択表!K241=1,1,0)","v":0},{"$f":"IF(選択表!L241=\"●\",選択表!L241,\"\")","v":""},1,{"$f":"選択表!$N241","v":"太陽光発電の導入しているか"},null,{"$f":"IF(選択表!$P241=\"\",\"\",選択表!$P241)","v":""},{"$f":"IF(選択表!$Q241=\"\",\"\",選択表!$Q241)","v":""},0,0,{"$f":"IFERROR(SUM(S245:S250)/SUM(R245:R250),0)","v":0},null,0,0,{"$f":"SUM(W245:W253)","v":0},{"$f":"COUNTIF(V245:V250,1)","v":0},{"$f":"IFERROR(X245/Y245,0)","v":0},null,0,"",{"$f":"SUM(AC245:AC253)","v":0},{"$f":"COUNTIF(AB245:AB250,1)","v":0},{"$f":"AD245/AE245","v":{"$error":"#DIV/0!"}},null,null,{"$f":"IF(SUM(K245:K250)>0,1,0)","v":0}]
[null,null,null,10,{"$f":"IF(選択表!E242=1,1,0)","v":1},{"$f":"IF(選択表!F242=1,1,0)","v":1},{"$f":"IF(選択表!G242=1,1,0)","v":1},{"$f":"IF(選択表!H242=1,1,0)","v":1},{"$f":"IF(選択表!I242=1,1,0)","v":1},{"$f":"IF(選択表!J242=1,1,0)","v":0},{"$f":"IF(選択表!K242=1,1,0)","v":0},{"$f":"IF(選択表!L245=\"●\",選択表!L245,\"\")","v":""},2,{"$f":"選択表!$N242","v":"蓄電池等を使用し再生可能エネルギーの利用効率を図っているか"},null,{"$f":"IF(選択表!$P242=\"\",\"\",選択表!$P242)","v":""},{"$f":"IF(選択表!$Q242=\"\",\"\",選択表!$Q242)","v":""},0,0,null,null,0,0,null,null,null,null,0,""]
[null,null,null,10,{"$f":"IF(選択表!E243=1,1,0)","v":1},{"$f":"IF(選択表!F243=1,1,0)","v":1},{"$f":"IF(選択表!G243=1,1,0)","v":1},{"$f":"IF(選択表!H243=1,1,0)","v":1},{"$f":"IF(選択表!I243=1,1,0)","v":1},{"$f":"IF(選択表!J243=1,1,0)","v":0},{"$f":"IF(選択表!K243=1,1,0)","v":0},{"$f":"IF(選択表!L246=\"●\",選択表!L246,\"\")","v":""},3,{"$f":"選択表!$N243","v":"太陽熱温水設備の導入しているか"},null,{"$f":"IF(選択表!$P243=\"\",\"\",選択表!$P243)","v":""},{"$f":"IF(選択表!$Q243=\"\",\"\",選択表!$Q243)","v":""},0,{"$f":"IF(R247=0,0,IF(P247=\"○\",5,IF(P247=\"△\",3,IF(P247=\"×\",1,0))))*IF(L247=\"●\",1,0)","v":0},null,null,0,0,null,null,null,null,0,""]
[null,null,null,10,{"$f":"IF(選択表!E244=1,1,0)","v":1},{"$f":"IF(選択表!F244=1,1,0)","v":1},{"$f":"IF(選択表!G244=1,1,0)","v":1},{"$f":"IF(選択表!H244=1,1,0)","v":1},{"$f":"IF(選択表!I244=1,1,0)","v":1},{"$f":"IF(選択表!J244=1,1,0)","v":0},{"$f":"IF(選択表!K244=1,1,0)","v":0},{"$f":"IF(選択表!L247=\"●\",選択表!L247,\"\")","v":""},4,{"$f":"選択表!$N244","v":"地中熱、水温差等の温度差利用のシステムを導入しているか"},null,{"$f":"IF(選択表!$P244=\"\",\"\",選択表!$P244)","v":""},{"$f":"IF(選択表!$Q244=\"\",\"\",選択表!$Q244)","v":""},0,{"$f":"IF(R248=0,0,IF(P248=\"○\",5,IF(P248=\"△\",3,IF(P248=\"×\",1,0))))*IF(L248=\"●\",1,0)","v":0},null,null,0,0,null,null,null,null,0,""]
[null,null,null,10,{"$f":"IF(選択表!E245=1,1,0)","v":1},{"$f":"IF(選択表!F245=1,1,0)","v":1},{"$f":"IF(選択表!G245=1,1,0)","v":1},{"$f":"IF(選択表!H245=1,1,0)","v":1},{"$f":"IF(選択表!I245=1,1,0)","v":1},{"$f":"IF(選択表!J245=1,1,0)","v":0},{"$f":"IF(選択表!K245=1,1,0)","v":0},{"$f":"IF(選択表!L248=\"●\",選択表!L248,\"\")","v":""},5,{"$f":"選択表!$N245","v":"バイオマス発電あるいは燃料電池あるいは小型水力発電などを導入しているか"},null,{"$f":"IF(選択表!$P245=\"\",\"\",選択表!$P245)","v":""},{"$f":"IF(選択表!$Q245=\"\",\"\",選択表!$Q245)","v":""},0,{"$f":"IF(R249=0,0,IF(P249=\"○\",5,IF(P249=\"△\",3,IF(P249=\"×\",1,0))))*IF(L249=\"●\",1,0)","v":0},null,null,0,0,null,null,null,null,0,""]
[null,null,null,10,{"$f":"IF(選択表!E246=1,1,0)","v":1},{"$f":"IF(選択表!F246=1,1,0)","v":1},{"$f":"IF(選択表!G246=1,1,0)","v":1},{"$f":"IF(選択表!H246=1,1,0)","v":1},{"$f":"IF(選択表!I246=1,1,0)","v":1},{"$f":"IF(選択表!J246=1,1,0)","v":0},{"$f":"IF(選択表!K246=1,1,0)","v":0},{"$f":"IF(選択表!L246=\"●\",選択表!L246,\"\")","v":""},6,{"$f":"選択表!$N246","v":"燃料電池システムを導入しているか"},null,{"$f":"IF(選択表!$P246=\"\",\"\",選択表!$P246)","v":""},{"$f":"IF(選択表!$Q246=\"\",\"\",選択表!$Q246)","v":""},0,0,null,null,0,0,null,null,null,null,0,""]
[null,null,"事業所のその他個別追加対策(任意記載）",10,{"$f":"IF(選択表!E247=1,1,0)","v":1},{"$f":"IF(選択表!F247=1,1,0)","v":1},{"$f":"IF(選択表!G247=1,1,0)","v":1},{"$f":"IF(選択表!H247=1,1,0)","v":1},{"$f":"IF(選択表!I247=1,1,0)","v":1},{"$f":"IF(選択表!J247=1,1,0)","v":0},{"$f":"IF(選択表!K247=1,1,0)","v":0},{"$f":"IF(選択表!L247=\"●\",選択表!L247,\"\")","v":""},1,{"$f":"選択表!$N247","v":0},null,{"$f":"IF(選択表!$P247=\"\",\"\",選択表!$P247)","v":""},{"$f":"IF(選択表!$Q247=\"\",\"\",選択表!$Q247)","v":""},0,null,null,null,0,0,{"$f":"SUM(W251:W253)","v":0},{"$f":"COUNTIF(V251:V253,1)","v":0},{"$f":"IFERROR(X251/Y251,\"\")","v":""},null,0,{"$f":"IF(K251=0,\"\",IF(Q251=\"○\",5,IF(Q251=\"△\",3,IF(Q251=\"×\",1,0))))","v":""},{"$f":"SUM(AC251:AC253)","v":0},{"$f":"COUNTIF(AB251:AB253,1)","v":0},{"$f":"AD251/AE251","v":{"$error":"#DIV/0!"}}]
[null,null,null,10,{"$f":"IF(選択表!E248=1,1,0)","v":1},{"$f":"IF(選択表!F248=1,1,0)","v":1},{"$f":"IF(選択表!G248=1,1,0)","v":1},{"$f":"IF(選択表!H248=1,1,0)","v":1},{"$f":"IF(選択表!I248=1,1,0)","v":1},{"$f":"IF(選択表!J248=1,1,0)","v":0},{"$f":"IF(選択表!K248=1,1,0)","v":0},{"$f":"IF(選択表!L248=\"●\",選択表!L248,\"\")","v":""},2,{"$f":"選択表!$N248","v":0},null,{"$f":"IF(選択表!$P248=\"\",\"\",選択表!$P248)","v":""},{"$f":"IF(選択表!$Q248=\"\",\"\",選択表!$Q248)","v":""},0,null,null,null,0,0,null,null,null,null,0,{"$f":"IF(K252=0,\"\",IF(Q252=\"○\",5,IF(Q252=\"△\",3,IF(Q252=\"×\",1,0))))","v":""}]
[null,null,null,10,{"$f":"IF(選択表!E249=1,1,0)","v":1},{"$f":"IF(選択表!F249=1,1,0)","v":1},{"$f":"IF(選択表!G249=1,1,0)","v":1},{"$f":"IF(選択表!H249=1,1,0)","v":1},{"$f":"IF(選択表!I249=1,1,0)","v":1},{"$f":"IF(選択表!J249=1,1,0)","v":0},{"$f":"IF(選択表!K249=1,1,0)","v":0},{"$f":"IF(選択表!L249=\"●\",選択表!L249,\"\")","v":""},3,{"$f":"選択表!$N249","v":0},null,{"$f":"IF(選択表!$P249=\"\",\"\",選択表!$P249)","v":""},{"$f":"IF(選択表!$Q249=\"\",\"\",選択表!$Q249)","v":""},0,null,null,null,0,0,null,null,null,null,0,{"$f":"IF(K253=0,\"\",IF(Q253=\"○\",5,IF(Q253=\"△\",3,IF(Q253=\"×\",1,0))))","v":""}]
[11,"自動車対策","社有車・業務用車両の管理",11,{"$f":"IF(選択表!E250=1,1,0)","v":0},{"$f":"IF(選択表!F250=1,1,0)","v":0},{"$f":"IF(選択表!G250=1,1,0)","v":0},{"$f":"IF(選択表!H250=1,1,0)","v":0},{"$f":"IF(選択表!I250=1,1,0)","v":0},{"$f":"IF(選択表!J250=1,1,0)","v":1},{"$f":"IF(選択表!K250=1,1,0)","v":0},{"$f":"IF(選択表!L250=\"●\",選択表!L250,\"\")","v":"●"},1,{"$f":"選択表!$N250","v":"（毎日の）走行距離や燃料の使用状況を把握しているか"},null,{"$f":"IF(選択表!$P250=\"\",\"\",選択表!$P250)","v":""},{"$f":"IF(選択表!$Q250=\"\",\"\",選択表!$Q250)","v":""},0,0,{"$f":"IFERROR(SUM(S254:S257)/SUM(R254:R257),0)","v":0},{"$f":"IF(AM254=1,IFERROR(SUM(S254:S280)/SUM(R254:R280),0),\"\")","v":""},0,0,{"$f":"SUM(W254:W257)","v":0},{"$f":"COUNTIF(V254:V257,1)","v":0},{"$f":"IFERROR(X254/Y254,0)","v":0},{"$f":"IF(AM254=1,IFERROR(SUM(X254:X280)/SUM(Y254:Y280),0),\"\")","v":""},0,{"$f":"IF(K254=0,\"\",IF(Q254=P254,W254,IF(Q254=\"○\",5,IF(Q254=\"△\",3,IF(Q254=\"×\",1,0)))))","v":""},{"$f":"SUM(AC254:AC267)","v":0},{"$f":"COUNTIF(AB254:AB267,1)","v":0},{"$f":"AD254/AE254","v":{"$error":"#DIV/0!"}},{"$f":"SUM(AD254:AD275)/SUM(AE254:AE275)","v":{"$error":"#DIV/0!"}},null,{"$f":"IF(SUM(K254:K257)>0,1,0)","v":0},null,{"$f":"SUM(R254:R280)/COUNTIF(L254:L280,\"●\")","v":0},{"$f":"SUM(V254:V280)-SUM(R254:R280)","v":0},{"$f":"IF(SUM(V254:V275)>=1,1,0)","v":0}]
[null,null,null,11,{"$f":"IF(選択表!E251=1,1,0)","v":0},{"$f":"IF(選択表!F251=1,1,0)","v":0},{"$f":"IF(選択表!G251=1,1,0)","v":0},{"$f":"IF(選択表!H251=1,1,0)","v":0},{"$f":"IF(選択表!I251=1,1,0)","v":0},{"$f":"IF(選択表!J251=1,1,0)","v":1},{"$f":"IF(選択表!K251=1,1,0)","v":0},{"$f":"IF(選択表!L251=\"●\",選択表!L251,\"\")","v":"●"},2,{"$f":"選択表!$N251","v":"各車別に走行距離を把握、燃費管理しているか"},null,{"$f":"IF(選択表!$P251=\"\",\"\",選択表!$P251)","v":""},{"$f":"IF(選択表!$Q251=\"\",\"\",選択表!$Q251)","v":""},0,0,null,null,0,0,null,null,null,null,0,""]
[null,null,null,11,{"$f":"IF(選択表!E252=1,1,0)","v":0},{"$f":"IF(選択表!F252=1,1,0)","v":0},{"$f":"IF(選択表!G252=1,1,0)","v":0},{"$f":"IF(選択表!H252=1,1,0)","v":0},{"$f":"IF(選択表!I252=1,1,0)","v":0},{"$f":"IF(選択表!J252=1,1,0)","v":1},{"$f":"IF(選択表!K252=1,1,0)","v":0},{"$f":"IF(選択表!L252=\"●\",選択表!L252,\"\")","v":"●"},3,{"$f":"選択表!$N252","v":"自動車の利用目的・運行状況を管理しているか"},null,{"$f":"IF(選択表!$P252=\"\",\"\",選択表!$P252)","v":""},{"$f":"IF(選択表!$Q252=\"\",\"\",選択表!$Q252)","v":""},0,0,null,null,0,0,null,null,null,null,0,""]
[null,null,null,11,{"$f":"IF(選択表!E253=1,1,0)","v":0},{"$f":"IF(選択表!F253=1,1,0)","v":0},{"$f":"IF(選択表!G253=1,1,0)","v":0},{"$f":"IF(選択表!H253=1,1,0)","v":0},{"$f":"IF(選択表!I253=1,1,0)","v":0},{"$f":"IF(選択表!J253=1,1,0)","v":1},{"$f":"IF(選択表!K253=1,1,0)","v":0},{"$f":"IF(選択表!L253=\"●\",選択表!L253,\"\")","v":""},4,{"$f":"選択表!$N253","v":"不用な利用の管理や公共交通機関優先など車両利用を減らす取組を実施しているか"},null,{"$f":"IF(選択表!$P253=\"\",\"\",選択表!$P253)","v":""},{"$f":"IF(選択表!$Q253=\"\",\"\",選択表!$Q253)","v":""},0,0,null,null,0,0,null,null,null,null,0,""]
[null,null,"エコドライブ活動",11,{"$f":"IF(選択表!E254=1,1,0)","v":0},{"$f":"IF(選択表!F254=1,1,0)","v":0},{"$f":"IF(選択表!G254=1,1,0)","v":0},{"$f":"IF(選択表!H254=1,1,0)","v":0},{"$f":"IF(選択表!I254=1,1,0)","v":0},{"$f":"IF(選択表!J254=1,1,0)","v":1},{"$f":"IF(選択表!K254=1,1,0)","v":0},{"$f":"IF(選択表!L254=\"●\",選択表!L254,\"\")","v":"●"},1,{"$f":"選択表!$N254","v":"各車の実績を運転者に定期的にフィードバックしているか"},null,{"$f":"IF(選択表!$P254=\"\",\"\",選択表!$P254)","v":""},{"$f":"IF(選択表!$Q254=\"\",\"\",選択表!$Q254)","v":""},0,0,{"$f":"IFERROR(SUM(S258:S267)/SUM(R258:R267),0)","v":0},null,0,0,{"$f":"SUM(W258:W267)","v":0},{"$f":"COUNTIF(V258:V267,1)","v":0},{"$f":"IFERROR(X258/Y258,0)","v":0},null,0,"",null,null,{"$f":"AD258/AE258","v":{"$error":"#DIV/0!"}},null,null,{"$f":"IF(SUM(K258:K267)>0,1,0)","v":0}]
[null,null,null,11,{"$f":"IF(選択表!E255=1,1,0)","v":0},{"$f":"IF(選択表!F255=1,1,0)","v":0},{"$f":"IF(選択表!G255=1,1,0)","v":0},{"$f":"IF(選択表!H255=1,1,0)","v":0},{"$f":"IF(選択表!I255=1,1,0)","v":0},{"$f":"IF(選択表!J255=1,1,0)","v":1},{"$f":"IF(選択表!K255=1,1,0)","v":0},{"$f":"IF(選択表!L255=\"●\",選択表!L255,\"\")","v":"●"},2,{"$f":"選択表!$N255","v":"運転者に対して、エコドライブ教育・指導を行っているか"},null,{"$f":"IF(選択表!$P255=\"\",\"\",選択表!$P255)","v":""},{"$f":"IF(選択表!$Q255=\"\",\"\",選択表!$Q255)","v":""},0,0,null,null,0,0,null,null,null,null,0,""]
[null,null,null,11,{"$f":"IF(選択表!E256=1,1,0)","v":0},{"$f":"IF(選択表!F256=1,1,0)","v":0},{"$f":"IF(選択表!G256=1,1,0)","v":0},{"$f":"IF(選択表!H256=1,1,0)","v":0},{"$f":"IF(選択表!I256=1,1,0)","v":0},{"$f":"IF(選択表!J256=1,1,0)","v":1},{"$f":"IF(選択表!K256=1,1,0)","v":0},{"$f":"IF(選択表!L256=\"●\",選択表!L256,\"\")","v":"●"},3,{"$f":"選択表!$N256","v":"アイドリングストップの励行について、具体的な実施項目を定めているか"},null,{"$f":"IF(選択表!$P256=\"\",\"\",選択表!$P256)","v":""},{"$f":"IF(選択表!$Q256=\"\",\"\",選択表!$Q256)","v":""},0,0,null,null,0,0,null,null,null,null,0,""]
[null,null,null,11,{"$f":"IF(選択表!E257=1,1,0)","v":0},{"$f":"IF(選択表!F257=1,1,0)","v":0},{"$f":"IF(選択表!G257=1,1,0)","v":0},{"$f":"IF(選択表!H257=1,1,0)","v":0},{"$f":"IF(選択表!I257=1,1,0)","v":0},{"$f":"IF(選択表!J257=1,1,0)","v":1},{"$f":"IF(選択表!K257=1,1,0)","v":0},{"$f":"IF(選択表!L257=\"●\",選択表!L257,\"\")","v":""},4,{"$f":"選択表!$N257","v":"エコドライブの取組や燃費結果に基づいて、取組が改善できるよう見直しを行っているか"},null,{"$f":"IF(選択表!$P257=\"\",\"\",選択表!$P257)","v":""},{"$f":"IF(選択表!$Q257=\"\",\"\",選択表!$Q257)","v":""},0,0,null,null,0,0,null,null,null,null,0,""]
[null,null,null,11,{"$f":"IF(選択表!E258=1,1,0)","v":0},{"$f":"IF(選択表!F258=1,1,0)","v":0},{"$f":"IF(選択表!G258=1,1,0)","v":0},{"$f":"IF(選択表!H258=1,1,0)","v":0},{"$f":"IF(選択表!I258=1,1,0)","v":0},{"$f":"IF(選択表!J258=1,1,0)","v":1},{"$f":"IF(選択表!K258=1,1,0)","v":0},{"$f":"IF(選択表!L258=\"●\",選択表!L258,\"\")","v":""},5,{"$f":"選択表!$N258","v":"エコドライブの講習会や実技講習会にすべての運転者が参加しているか"},null,{"$f":"IF(選択表!$P258=\"\",\"\",選択表!$P258)","v":""},{"$f":"IF(選択表!$Q258=\"\",\"\",選択表!$Q258)","v":""},0,0,null,null,0,0,null,null,null,null,0,""]
[null,null,null,11,{"$f":"IF(選択表!E259=1,1,0)","v":0},{"$f":"IF(選択表!F259=1,1,0)","v":0},{"$f":"IF(選択表!G259=1,1,0)","v":0},{"$f":"IF(選択表!H259=1,1,0)","v":0},{"$f":"IF(選択表!I259=1,1,0)","v":0},{"$f":"IF(選択表!J259=1,1,0)","v":1},{"$f":"IF(選択表!K259=1,1,0)","v":0},{"$f":"IF(選択表!L259=\"●\",選択表!L259,\"\")","v":""},6,{"$f":"選択表!$N259","v":"燃費管理の結果をもとに、優れた運転手への表彰等を行っているか"},null,{"$f":"IF(選択表!$P259=\"\",\"\",選択表!$P259)","v":""},{"$f":"IF(選択表!$Q259=\"\",\"\",選択表!$Q259)","v":""},{"$f":"IF(P263=\"\",0,COUNTA(P263)*COUNTIF(L263,\"●\"))","v":0},0,null,null,{"$f":"IF(P263=\"\",0,1)","v":0},0,null,null,null,null,{"$f":"IF(Q263=\"対象外\",0,IF(OR(P263=\"○\",P263=\"△\",P263=\"×\",Q263=\"○\",Q263=\"△\",Q263=\"×\"),1,0))","v":0},""]
[null,null,null,11,{"$f":"IF(選択表!E260=1,1,0)","v":0},{"$f":"IF(選択表!F260=1,1,0)","v":0},{"$f":"IF(選択表!G260=1,1,0)","v":0},{"$f":"IF(選択表!H260=1,1,0)","v":0},{"$f":"IF(選択表!I260=1,1,0)","v":0},{"$f":"IF(選択表!J260=1,1,0)","v":1},{"$f":"IF(選択表!K260=1,1,0)","v":0},{"$f":"IF(選択表!L260=\"●\",選択表!L260,\"\")","v":""},7,{"$f":"選択表!$N260","v":"運行記録計、セフティレコーダーを導入しているか"},null,{"$f":"IF(選択表!$P260=\"\",\"\",選択表!$P260)","v":""},{"$f":"IF(選択表!$Q260=\"\",\"\",選択表!$Q260)","v":""},0,0,null,null,0,0,null,null,null,null,0,""]
[null,null,null,11,{"$f":"IF(選択表!E261=1,1,0)","v":0},{"$f":"IF(選択表!F261=1,1,0)","v":0},{"$f":"IF(選択表!G261=1,1,0)","v":0},{"$f":"IF(選択表!H261=1,1,0)","v":0},{"$f":"IF(選択表!I261=1,1,0)","v":0},{"$f":"IF(選択表!J261=1,1,0)","v":1},{"$f":"IF(選択表!K261=1,1,0)","v":0},{"$f":"IF(選択表!L261=\"●\",選択表!L261,\"\")","v":""},8,{"$f":"選択表!$N261","v":"不要積載物の管理をおこなっているか"},null,{"$f":"IF(選択表!$P261=\"\",\"\",選択表!$P261)","v":""},{"$f":"IF(選択表!$Q261=\"\",\"\",選択表!$Q261)","v":""},0,0,null,null,0,0,null,null,null,null,0,""]
[null,null,null,11,{"$f":"IF(選択表!E262=1,1,0)","v":0},{"$f":"IF(選択表!F262=1,1,0)","v":0},{"$f":"IF(選択表!G262=1,1,0)","v":0},{"$f":"IF(選択表!H262=1,1,0)","v":0},{"$f":"IF(選択表!I262=1,1,0)","v":0},{"$f":"IF(選択表!J262=1,1,0)","v":1},{"$f":"IF(選択表!K262=1,1,0)","v":0},{"$f":"IF(選択表!L262=\"●\",選択表!L262,\"\")","v":""},9,{"$f":"選択表!$N262","v":"キー抜きロープなどエコドライブを推進する装置を導入しているか"},null,{"$f":"IF(選択表!$P262=\"\",\"\",選択表!$P262)","v":""},{"$f":"IF(選択表!$Q262=\"\",\"\",選択表!$Q262)","v":""},0,0,null,null,0,0,null,null,null,null,0,""]
[null,null,null,11,{"$f":"IF(選択表!E263=1,1,0)","v":0},{"$f":"IF(選択表!F263=1,1,0)","v":0},{"$f":"IF(選択表!G263=1,1,0)","v":0},{"$f":"IF(選択表!H263=1,1,0)","v":0},{"$f":"IF(選択表!I263=1,1,0)","v":0},{"$f":"IF(選択表!J263=1,1,0)","v":1},{"$f":"IF(選択表!K263=1,1,0)","v":0},{"$f":"IF(選択表!L263=\"●\",選択表!L263,\"\")","v":""},10,{"$f":"選択表!$N263","v":"ドライブレコーダーを導入、運転状況、エコドライブ促進に反映させているか"},null,{"$f":"IF(選択表!$P263=\"\",\"\",選択表!$P263)","v":""},{"$f":"IF(選択表!$Q263=\"\",\"\",選択表!$Q263)","v":""},0,0,null,null,0,0,null,null,null,null,0,""]
[null,null,"低公害車対策",11,{"$f":"IF(選択表!E264=1,1,0)","v":0},{"$f":"IF(選択表!F264=1,1,0)","v":0},{"$f":"IF(選択表!G264=1,1,0)","v":0},{"$f":"IF(選択表!H264=1,1,0)","v":0},{"$f":"IF(選択表!I264=1,1,0)","v":0},{"$f":"IF(選択表!J264=1,1,0)","v":1},{"$f":"IF(選択表!K264=1,1,0)","v":0},{"$f":"IF(選択表!L264=\"●\",選択表!L264,\"\")","v":"●"},1,{"$f":"選択表!$N264","v":"低公害車（九都県市指定車両リスト等参照）の導入を行っているか"},null,{"$f":"IF(選択表!$P264=\"\",\"\",選択表!$P264)","v":""},{"$f":"IF(選択表!$Q264=\"\",\"\",選択表!$Q264)","v":""},0,0,{"$f":"IFERROR(SUM(S268:S273)/SUM(R268:R273),0)","v":0},null,0,0,{"$f":"SUM(W268:W273)","v":0},{"$f":"COUNTIF(V268:V273,1)","v":0},{"$f":"IFERROR(X268/Y268,0)","v":0},null,0,"",{"$f":"SUM(AC268:AC273)","v":0},{"$f":"COUNTIF(AB268:AB273,1)","v":0},{"$f":"AD268/AE268","v":{"$error":"#DIV/0!"}},null,null,{"$f":"IF(SUM(K268:K273)>0,1,0)","v":0}]
[null,null,null,11,{"$f":"IF(選択表!E265=1,1,0)","v":0},{"$f":"IF(選択表!F265=1,1,0)","v":0},{"$f":"IF(選択表!G265=1,1,0)","v":0},{"$f":"IF(選択表!H265=1,1,0)","v":0},{"$f":"IF(選択表!I265=1,1,0)","v":0},{"$f":"IF(選択表!J265=1,1,0)","v":1},{"$f":"IF(選択表!K265=1,1,0)","v":0},{"$f":"IF(選択表!L265=\"●\",選択表!L265,\"\")","v":"●"},2,{"$f":"選択表!$N265","v":"更新の際は低公害車や排気量の少ない車両に置き換えているか"},null,{"$f":"IF(選択表!$P265=\"\",\"\",選択表!$P265)","v":""},{"$f":"IF(選択表!$Q265=\"\",\"\",選択表!$Q265)","v":""},0,0,null,null,0,0,null,null,null,null,0,""]
[null,null,null,11,{"$f":"IF(選択表!E266=1,1,0)","v":0},{"$f":"IF(選択表!F266=1,1,0)","v":0},{"$f":"IF(選択表!G266=1,1,0)","v":0},{"$f":"IF(選択表!H266=1,1,0)","v":0},{"$f":"IF(選択表!I266=1,1,0)","v":0},{"$f":"IF(選択表!J266=1,1,0)","v":1},{"$f":"IF(選択表!K266=1,1,0)","v":0},{"$f":"IF(選択表!L266=\"●\",選択表!L266,\"\")","v":""},3,{"$f":"選択表!$N266","v":"アイドリングストップ装置またはエンジン回転警報装置を導入しているか"},null,{"$f":"IF(選択表!$P266=\"\",\"\",選択表!$P266)","v":""},{"$f":"IF(選択表!$Q266=\"\",\"\",選択表!$Q266)","v":""},0,{"$f":"IF(R270=0,0,IF(P270=\"○\",5,IF(P270=\"△\",3,IF(P270=\"×\",1,0))))*IF(L270=\"●\",1,0)","v":0},null,null,0,0,null,null,null,null,0,""]
[null,null,null,11,{"$f":"IF(選択表!E267=1,1,0)","v":0},{"$f":"IF(選択表!F267=1,1,0)","v":0},{"$f":"IF(選択表!G267=1,1,0)","v":0},{"$f":"IF(選択表!H267=1,1,0)","v":0},{"$f":"IF(選択表!I267=1,1,0)","v":0},{"$f":"IF(選択表!J267=1,1,0)","v":1},{"$f":"IF(選択表!K267=1,1,0)","v":0},{"$f":"IF(選択表!L267=\"●\",選択表!L267,\"\")","v":"●"},4,{"$f":"選択表!$N267","v":"ＮＯｘ・ＰＭ法に基づく、規制対象車を把握し、対応しているか"},null,{"$f":"IF(選択表!$P267=\"\",\"\",選択表!$P267)","v":""},{"$f":"IF(選択表!$Q267=\"\",\"\",選択表!$Q267)","v":""},0,0,null,null,0,0,null,null,null,null,0,""]
[null,null,null,11,{"$f":"IF(選択表!E268=1,1,0)","v":0},{"$f":"IF(選択表!F268=1,1,0)","v":0},{"$f":"IF(選択表!G268=1,1,0)","v":0},{"$f":"IF(選択表!H268=1,1,0)","v":0},{"$f":"IF(選択表!I268=1,1,0)","v":0},{"$f":"IF(選択表!J268=1,1,0)","v":1},{"$f":"IF(選択表!K268=1,1,0)","v":0},{"$f":"IF(選択表!L268=\"●\",選択表!L268,\"\")","v":"●"},5,{"$f":"選択表!$N268","v":"埼玉県生活環境保全条例に定める運行規制の対象となる車両を把握しているか"},null,{"$f":"IF(選択表!$P268=\"\",\"\",選択表!$P268)","v":""},{"$f":"IF(選択表!$Q268=\"\",\"\",選択表!$Q268)","v":""},0,0,null,null,0,0,null,null,null,null,0,""]
[null,null,null,11,{"$f":"IF(選択表!E269=1,1,0)","v":0},{"$f":"IF(選択表!F269=1,1,0)","v":0},{"$f":"IF(選択表!G269=1,1,0)","v":0},{"$f":"IF(選択表!H269=1,1,0)","v":0},{"$f":"IF(選択表!I269=1,1,0)","v":0},{"$f":"IF(選択表!J269=1,1,0)","v":1},{"$f":"IF(選択表!K269=1,1,0)","v":0},{"$f":"IF(選択表!L269=\"●\",選択表!L269,\"\")","v":""},6,{"$f":"選択表!$N269","v":"現場の建設機械等には改良型エンジンや省エネ機構が採用されているか"},null,{"$f":"IF(選択表!$P269=\"\",\"\",選択表!$P269)","v":""},{"$f":"IF(選択表!$Q269=\"\",\"\",選択表!$Q269)","v":""},0,0,null,null,0,0,null,null,null,null,0,""]
[null,null,"車の点検等",11,{"$f":"IF(選択表!E270=1,1,0)","v":0},{"$f":"IF(選択表!F270=1,1,0)","v":0},{"$f":"IF(選択表!G270=1,1,0)","v":0},{"$f":"IF(選択表!H270=1,1,0)","v":0},{"$f":"IF(選択表!I270=1,1,0)","v":0},{"$f":"IF(選択表!J270=1,1,0)","v":1},{"$f":"IF(選択表!K270=1,1,0)","v":0},{"$f":"IF(選択表!L270=\"●\",選択表!L270,\"\")","v":"●"},1,{"$f":"選択表!$N270","v":"排ガス・騒音レベルを抑えるための整備を行っているか"},null,{"$f":"IF(選択表!$P270=\"\",\"\",選択表!$P270)","v":""},{"$f":"IF(選択表!$Q270=\"\",\"\",選択表!$Q270)","v":""},0,0,{"$f":"IFERROR(SUM(S274:S275)/SUM(R274:R275),0)","v":0},null,0,0,{"$f":"SUM(W274:W275)","v":0},{"$f":"COUNTIF(V274:V275,1)","v":0},{"$f":"IFERROR(X274/Y274,0)","v":0},null,0,"",{"$f":"SUM(AC274:AC275)","v":0},{"$f":"COUNTIF(AB274:AB275,1)","v":0},{"$f":"AD274/AE274","v":{"$error":"#DIV/0!"}},null,null,{"$f":"IF(SUM(K274:K276)>0,1,0)","v":0}]
[null,null,null,11,{"$f":"IF(選択表!E271=1,1,0)","v":0},{"$f":"IF(選択表!F271=1,1,0)","v":0},{"$f":"IF(選択表!G271=1,1,0)","v":0},{"$f":"IF(選択表!H271=1,1,0)","v":0},{"$f":"IF(選択表!I271=1,1,0)","v":0},{"$f":"IF(選択表!J271=1,1,0)","v":1},{"$f":"IF(選択表!K271=1,1,0)","v":0},{"$f":"IF(選択表!L271=\"●\",選択表!L271,\"\")","v":"●"},2,{"$f":"選択表!$N271","v":"定期検査の確認をおこない、不良整備機械の持込みを禁止しているか"},null,{"$f":"IF(選択表!$P271=\"\",\"\",選択表!$P271)","v":""},{"$f":"IF(選択表!$Q271=\"\",\"\",選択表!$Q271)","v":""},0,0,null,null,0,0,null,null,null,null,0,""]
[null,null,"荷主としての取組",11,{"$f":"IF(選択表!E272=1,1,0)","v":0},{"$f":"IF(選択表!F272=1,1,0)","v":0},{"$f":"IF(選択表!G272=1,1,0)","v":1},{"$f":"IF(選択表!H272=1,1,0)","v":0},{"$f":"IF(選択表!I272=1,1,0)","v":1},{"$f":"IF(選択表!J272=1,1,0)","v":1},{"$f":"IF(選択表!K272=1,1,0)","v":0},{"$f":"IF(選択表!L272=\"●\",選択表!L272,\"\")","v":"●"},1,{"$f":"選択表!$N272","v":"貨物輸送に係る省エネの取組方針を定めているか"},null,{"$f":"IF(選択表!$P272=\"\",\"\",選択表!$P272)","v":""},{"$f":"IF(選択表!$Q272=\"\",\"\",選択表!$Q272)","v":""},0,{"$f":"IF(R276=0,0,IF(P276=\"○\",5,IF(P276=\"△\",3,IF(P276=\"×\",1,0))))*IF(L276=\"●\",1,0)","v":0},{"$f":"IFERROR(SUM(S276:S280)/SUM(R276:R280),0)","v":0},null,0,0,{"$f":"SUM(W276:W280)","v":0},{"$f":"COUNTIF(V276:V280,1)","v":0},{"$f":"IFERROR(X276/Y276,0)","v":0},null,0,"",null,null,null,null,null,{"$f":"IF(SUM(K276:K280)>0,1,0)","v":0}]
[null,null,null,11,{"$f":"IF(選択表!E273=1,1,0)","v":0},{"$f":"IF(選択表!F273=1,1,0)","v":0},{"$f":"IF(選択表!G273=1,1,0)","v":1},{"$f":"IF(選択表!H273=1,1,0)","v":0},{"$f":"IF(選択表!I273=1,1,0)","v":1},{"$f":"IF(選択表!J273=1,1,0)","v":1},{"$f":"IF(選択表!K273=1,1,0)","v":0},{"$f":"IF(選択表!L273=\"●\",選択表!L273,\"\")","v":"●"},2,{"$f":"選択表!$N273","v":"輸送事業者に対してエネルギー使用状況や対策等を定期的に把握しているか(トンキロの管理）"},null,{"$f":"IF(選択表!$P273=\"\",\"\",選択表!$P273)","v":""},{"$f":"IF(選択表!$Q273=\"\",\"\",選択表!$Q273)","v":""},0,{"$f":"IF(R277=0,0,IF(P277=\"○\",5,IF(P277=\"△\",3,IF(P277=\"×\",1,0))))*IF(L277=\"●\",1,0)","v":0},null,null,0,0,null,null,null,null,0,""]
[null,null,null,11,{"$f":"IF(選択表!E274=1,1,0)","v":0},{"$f":"IF(選択表!F274=1,1,0)","v":0},{"$f":"IF(選択表!G274=1,1,0)","v":1},{"$f":"IF(選択表!H274=1,1,0)","v":0},{"$f":"IF(選択表!I274=1,1,0)","v":1},{"$f":"IF(選択表!J274=1,1,0)","v":1},{"$f":"IF(選択表!K274=1,1,0)","v":0},{"$f":"IF(選択表!L274=\"●\",選択表!L274,\"\")","v":""},3,{"$f":"選択表!$N274","v":"輸送量に応じた適正車種の選択を要請しているか"},null,{"$f":"IF(選択表!$P274=\"\",\"\",選択表!$P274)","v":""},{"$f":"IF(選択表!$Q274=\"\",\"\",選択表!$Q274)","v":""},0,{"$f":"IF(R278=0,0,IF(P278=\"○\",5,IF(P278=\"△\",3,IF(P278=\"×\",1,0))))*IF(L278=\"●\",1,0)","v":0},null,null,0,0,null,null,null,null,0,""]
[null,null,null,11,{"$f":"IF(選択表!E275=1,1,0)","v":0},{"$f":"IF(選択表!F275=1,1,0)","v":0},{"$f":"IF(選択表!G275=1,1,0)","v":1},{"$f":"IF(選択表!H275=1,1,0)","v":0},{"$f":"IF(選択表!I275=1,1,0)","v":1},{"$f":"IF(選択表!J275=1,1,0)","v":1},{"$f":"IF(選択表!K275=1,1,0)","v":0},{"$f":"IF(選択表!L275=\"●\",選択表!L275,\"\")","v":""},4,{"$f":"選択表!$N275","v":"最適な輸送手段、ルートを定め輸送距離の短縮を輸送事業者に要請しているか"},null,{"$f":"IF(選択表!$P275=\"\",\"\",選択表!$P275)","v":""},{"$f":"IF(選択表!$Q275=\"\",\"\",選択表!$Q275)","v":""},0,{"$f":"IF(R279=0,0,IF(P279=\"○\",5,IF(P279=\"△\",3,IF(P279=\"×\",1,0))))*IF(L279=\"●\",1,0)","v":0},null,null,0,0,null,null,null,null,0,""]
[null,null,null,11,{"$f":"IF(選択表!E276=1,1,0)","v":0},{"$f":"IF(選択表!F276=1,1,0)","v":0},{"$f":"IF(選択表!G276=1,1,0)","v":1},{"$f":"IF(選択表!H276=1,1,0)","v":0},{"$f":"IF(選択表!I276=1,1,0)","v":1},{"$f":"IF(選択表!J276=1,1,0)","v":1},{"$f":"IF(選択表!K276=1,1,0)","v":0},{"$f":"IF(選択表!L276=\"●\",選択表!L276,\"\")","v":""},5,{"$f":"選択表!$N276","v":"着荷主に対して発注計画及び輸送の平準化を要請しているか"},null,{"$f":"IF(選択表!$P276=\"\",\"\",選択表!$P276)","v":""},{"$f":"IF(選択表!$Q276=\"\",\"\",選択表!$Q276)","v":""},0,{"$f":"IF(R280=0,0,IF(P280=\"○\",5,IF(P280=\"△\",3,IF(P280=\"×\",1,0))))*IF(L280=\"●\",1,0)","v":0},null,null,0,0,null,null,null,null,0,""]
[null,null,"事業所のその他個別追加対策(任意記載）",11,{"$f":"IF(選択表!E277=1,1,0)","v":0},{"$f":"IF(選択表!F277=1,1,0)","v":0},{"$f":"IF(選択表!G277=1,1,0)","v":0},{"$f":"IF(選択表!H277=1,1,0)","v":0},{"$f":"IF(選択表!I277=1,1,0)","v":0},{"$f":"IF(選択表!J277=1,1,0)","v":1},{"$f":"IF(選択表!K277=1,1,0)","v":0},{"$f":"IF(選択表!L277=\"●\",選択表!L277,\"\")","v":""},1,null,null,{"$f":"IF(選択表!$P277=\"\",\"\",選択表!$P277)","v":""},{"$f":"IF(選択表!$Q277=\"\",\"\",選択表!$Q277)","v":""},0,null,null,null,0,{"$f":"IF(V281=0,0,IF(P281=\"○\",5,IF(P281=\"△\",3,IF(P281=\"×\",1,0))))","v":0},{"$f":"SUM(W281:W283)","v":0},{"$f":"COUNTIF(V281:V283,1)","v":0},{"$f":"IFERROR(X281/Y281,\"\")","v":""},null,0,{"$f":"IF(K281=0,\"\",IF(Q281=\"○\",5,IF(Q281=\"△\",3,IF(Q281=\"×\",1,0))))","v":""},{"$f":"SUM(AC281:AC283)","v":0},{"$f":"COUNTIF(AB281:AB283,1)","v":0},{"$f":"AD281/AE281","v":{"$error":"#DIV/0!"}}]
[null,null,null,11,{"$f":"IF(選択表!E278=1,1,0)","v":0},{"$f":"IF(選択表!F278=1,1,0)","v":0},{"$f":"IF(選択表!G278=1,1,0)","v":0},{"$f":"IF(選択表!H278=1,1,0)","v":0},{"$f":"IF(選択表!I278=1,1,0)","v":0},{"$f":"IF(選択表!J278=1,1,0)","v":1},{"$f":"IF(選択表!K278=1,1,0)","v":0},{"$f":"IF(選択表!L278=\"●\",選択表!L278,\"\")","v":""},2,null,null,{"$f":"IF(選択表!$P278=\"\",\"\",選択表!$P278)","v":""},{"$f":"IF(選択表!$Q278=\"\",\"\",選択表!$Q278)","v":""},0,null,null,null,0,{"$f":"IF(V282=0,0,IF(P282=\"○\",5,IF(P282=\"△\",3,IF(P282=\"×\",1,0))))","v":0},null,null,null,null,0,{"$f":"IF(K282=0,\"\",IF(Q282=\"○\",5,IF(Q282=\"△\",3,IF(Q282=\"×\",1,0))))","v":""}]
[null,null,null,11,{"$f":"IF(選択表!E279=1,1,0)","v":0},{"$f":"IF(選択表!F279=1,1,0)","v":0},{"$f":"IF(選択表!G279=1,1,0)","v":0},{"$f":"IF(選択表!H279=1,1,0)","v":0},{"$f":"IF(選択表!I279=1,1,0)","v":0},{"$f":"IF(選択表!J279=1,1,0)","v":1},{"$f":"IF(選択表!K279=1,1,0)","v":0},{"$f":"IF(選択表!L279=\"●\",選択表!L279,\"\")","v":""},3,null,null,{"$f":"IF(選択表!$P279=\"\",\"\",選択表!$P279)","v":""},{"$f":"IF(選択表!$Q279=\"\",\"\",選択表!$Q279)","v":""},0,null,null,null,0,{"$f":"IF(V283=0,0,IF(P283=\"○\",5,IF(P283=\"△\",3,IF(P283=\"×\",1,0))))","v":0},null,null,null,null,0,{"$f":"IF(K283=0,\"\",IF(Q283=\"○\",5,IF(Q283=\"△\",3,IF(Q283=\"×\",1,0))))","v":""}]
[null,null,"基本対策数",null,null,null,null,null,null,null,null,{"$f":"COUNTIF(L6:L283,\"●\")","v":129},null,null,null,"対象数",null,{"$f":"COUNTIF(R6:R283,1)","v":0},null,"基本平均",{"$f":"_xlfn.AGGREGATE(1,7,U6:U283)","v":{"$error":"#DIV/0!"}},{"$f":"COUNTIF(V6:V283,1)","v":0},null,"追加個数",{"$f":"SUM(W289:W299)","v":0},"全平均",{"$f":"_xlfn.AGGREGATE(1,7,AA6:AA283)","v":{"$error":"#DIV/0!"}}]
[]
[]
[]
[null,null,null,null,null,null,null,null,null,null,null,null,null,null,"対象項目",null,null,null,null,"基本対策",null,"該当","追加対策",null,null,"標準項目",null,null,null,null,null,null,null,"選択した項目のみ点数表示","県採点",null,"基本実施率","標準－基本"]
[null,null,null,null,null,null,null,null,null,null,null,null,null,1,"一般管理事項",null,null,null,null,{"$f":"IF(V289=1,VLOOKUP(N289,$A$6:$AG$283,21,FALSE),\"\")","v":""},null,{"$f":"VLOOKUP(N289,$A$6:$AM$283,39,FALSE)","v":0},{"$f":"Y29","v":0},{"$f":"IF(V289=1,T289,\"\")","v":""},{"$f":"Z29","v":""},{"$f":"IF(V289=1,VLOOKUP(N289,$A$6:$AG$283,27,FALSE),\"\")","v":""},null,null,null,null,null,null,null,null,{"$f":"VLOOKUP(N289,$A$6:$AG$283,33,FALSE)","v":{"$error":"#DIV/0!"}},null,{"$f":"VLOOKUP(N289,$A$6:$AM$283,37,FALSE)","v":0},{"$f":"VLOOKUP(N289,$A$6:$AM$283,38,FALSE)","v":0}]
[null,null,null,null,null,null,null,null,null,null,null,null,null,2,"空調、換気、冷凍、冷蔵設備",null,null,null,null,{"$f":"IF(V290=1,VLOOKUP(N290,$A$6:$AG$283,21,FALSE),\"\")","v":""},null,0,{"$f":"Y83","v":0},"",{"$f":"Z83","v":""},{"$f":"IF(V290=1,VLOOKUP(N290,$A$6:$AG$283,27,FALSE),\"\")","v":""},null,null,null,null,null,null,null,null,{"$error":"#DIV/0!"},null,{"$f":"VLOOKUP(N290,$A$6:$AM$283,37,FALSE)","v":0},{"$f":"VLOOKUP(N290,$A$6:$AM$283,38,FALSE)","v":0}]
[null,null,null,null,null,null,null,null,null,null,null,null,null,3,"ポンプ、ファン、コンプレッサ",null,null,null,null,"",null,0,{"$f":"Y113","v":0},"",{"$f":"Z113","v":""},"",null,null,null,null,null,null,null,null,{"$error":"#DIV/0!"},null,0,0]
[null,null,null,null,null,null,null,null,null,null,null,null,null,4,"ボイラ、工業炉等の熱設備",null,null,null,null,"",null,0,{"$f":"Y152","v":0},"",{"$f":"Z152","v":""},"",null,null,null,null,null,null,null,null,0,null,0,0]
[null,null,null,null,null,null,null,null,null,null,null,null,null,5,"生産・業務用設備",null,null,null,null,"",null,0,{"$f":"Y186","v":0},"",{"$f":"Z186","v":""},"",null,null,null,null,null,null,null,null,{"$error":"#DIV/0!"},null,0,0]
[null,null,null,null,null,null,null,null,null,null,null,null,null,6,"電動機・電気加熱設備",null,null,null,null,"",null,0,{"$f":"Y186","v":0},"",{"$f":"Z220","v":""},"",null,null,null,null,null,null,null,null,0,null,0,0]
[null,null,null,null,null,null,null,null,null,null,null,null,null,7,"照明",null,null,null,null,"",null,0,{"$f":"Y204","v":0},"",{"$f":"Z237","v":""},"",null,null,null,null,null,null,null,null,{"$error":"#DIV/0!"},null,0,0]
[null,null,null,null,null,null,null,null,null,null,null,null,null,8,"受変電設備",null,null,null,null,"",null,0,{"$f":"Y220","v":0},"",{"$f":"Z237","v":""},"",null,null,null,null,null,null,null,null,0,null,0,0]
[null,null,null,null,null,null,null,null,null,null,null,null,null,9,"自販機、OA機器、衛生設備等",null,null,null,null,"",null,0,{"$f":"Y237","v":0},"",{"$f":"Z167","v":""},"",null,null,null,null,null,null,null,null,{"$error":"#DIV/0!"},null,0,0]
[null,null,null,null,null,null,null,null,null,null,null,null,null,10,"その他",null,null,null,null,"",null,0,{"$f":"Y251","v":0},"",{"$f":"Z251","v":""},"",null,null,null,null,null,null,null,null,0,null,0,0]
[null,null,null,null,null,null,null,null,null,null,null,null,null,11,"自動車対策",null,null,null,null,"",null,0,{"$f":"Y281","v":0},"",{"$f":"Z281","v":""},"",null,null,null,null,null,null,null,null,{"$error":"#DIV/0!"},null,{"$f":"VLOOKUP(N299,$A$6:$AM$283,37,FALSE)","v":0},0]
[null,null,null,null,null,null,null,null,null,null,null,null,null,null,"平均評価点",null,null,null,null,{"$f":"_xlfn.AGGREGATE(1,7,T289:T299)","v":{"$error":"#DIV/0!"}},{"$f":"T300/5","v":{"$error":"#DIV/0!"}},null,null,{"$f":"_xlfn.AGGREGATE(1,7,X289:X299)","v":{"$error":"#DIV/0!"}},{"$f":"X300*6","v":{"$error":"#DIV/0!"}},{"$f":"_xlfn.AGGREGATE(1,7,Z289:Z299)","v":{"$error":"#DIV/0!"}},{"$f":"Z300/5","v":{"$error":"#DIV/0!"}},null,null,null,null,null,null,null,null,null,{"$f":"SUM(R6:R280)/COUNTIF(L6:L280,\"●\")","v":0},{"$f":"_xlfn.AGGREGATE(9,7,AL289:AL299)","v":0}]
[null,null,null,null,null,null,null,null,null,null,null,null,null,null,"追加項目数（＝標準項目回答数ー基本対策回答数）",null,null,null,null,{"$f":"R284","v":0},null,null,null,null,null,{"$f":"V284","v":0},{"$f":"AL300","v":0}]
[null,null,null,null,null,null,null,null,null,null,null,null,null,null,"基本項目実施率",null,null,null,null,null,null,null,null,null,null,{"$f":"AK300","v":0}]
[1,2,3,4,5,6,7,8,9,10,11,12,13,14,15,16,17,18,19,20,21,22,23,24,25,26,27,28,29,30,31,32,33,34,35,36,37,38,39,40,41,42,43,44,45,46]

{"sheet":"産業分類H25年度改訂版","index":5,"n_rows":1456,"n_cols":23,"rows_kept":1456,"cut":false,"hidden":true,"merged":[]}
["L1分類コード","L1分類名称","L2分類コード","L2分類名称","L3分類コード","L3分類名称","L4分類コード","L4分類名称",null,null,null,null,null,"L1分類コード","L1分類名称",null,null,null,"L2分類名称",null,null,"L3分類コード","L3分類名称"]
["A","農業，林業",1,"農業",10,"管理，補助的経済活動を行う事業所（01農業）",100,"主として管理事務を行う本社等",null,null,null,null,null,"A","農業・林業",null,null,"AA","1農業",null,{"$f":"V2&W2","v":"10管理，補助的経済活動を行う事業所（01農業）"},10,"管理，補助的経済活動を行う事業所（01農業）"]
["A","農業，林業",1,"農業",10,"管理，補助的経済活動を行う事業所（01農業）",109,"その他の管理，補助的経済活動を行う事業所",null,null,null,null,null,"B","漁業",null,null,"BB","2林業",null,{"$f":"V3&W3","v":"11耕種農業"},11,"耕種農業"]
["A","農業，林業",1,"農業",11,"耕種農業",111,"米作農業",null,null,null,null,null,"C","鉱業・採石業・砂利採取業",null,null,"CC","3漁業（水産養殖業を除く）",null,"12畜産農業",12,"畜産農業"]
["A","農業，林業",1,"農業",11,"耕種農業",112,"米作以外の穀作農業",null,null,null,null,null,"D","建設業",null,null,"DD","4水産養殖業",null,"13農業サービス業（園芸サービス業を除く）",13,"農業サービス業（園芸サービス業を除く）"]
["A","農業，林業",1,"農業",11,"耕種農業",113,"野菜作農業（きのこ類の栽培を含む）",null,null,null,null,null,"E","製造業",null,null,"EE","5鉱業，採石業，砂利採取業",null,"14園芸サービス業",14,"園芸サービス業"]
["A","農業，林業",1,"農業",11,"耕種農業",114,"果樹作農業",null,null,null,null,null,"F","電気・ガス・熱供給・水道業",null,null,"FF","6総合工事業",null,"20管理，補助的経済活動を行う事業所（02林業）",20,"管理，補助的経済活動を行う事業所（02林業）"]
["A","農業，林業",1,"農業",11,"耕種農業",115,"花き作農業",null,null,null,null,null,"G","情報通信業",null,null,"GG","7職別工事業(設備工事業を除く)",null,"21育林業",21,"育林業"]
["A","農業，林業",1,"農業",11,"耕種農業",116,"工芸農作物農業",null,null,null,null,null,"H","運輸業・郵便業",null,null,"HH","8設備工事業",null,"22素材生産業",22,"素材生産業"]
["A","農業，林業",1,"農業",11,"耕種農業",117,"ばれいしょ・かんしょ作農業",null,null,null,null,null,"I","卸売業・小売業",null,null,"II","9食料品製造業",null,"23特用林産物生産業（きのこ類の栽培を除く）",23,"特用林産物生産業（きのこ類の栽培を除く）"]
["A","農業，林業",1,"農業",11,"耕種農業",119,"その他の耕種農業",null,null,null,null,null,"J","金融業・保険業",null,null,"JJ","10飲料・たばこ・飼料製造業",null,"24林業サービス業",24,"林業サービス業"]
["A","農業，林業",1,"農業",12,"畜産農業",121,"酪農業",null,null,null,null,null,"K","不動産業・物品賃貸業",null,null,"KK","11繊維工業",null,"29その他の林業",29,"その他の林業"]
["A","農業，林業",1,"農業",12,"畜産農業",122,"肉用牛生産業",null,null,null,null,null,"L","学術研究・専門・技術サービス業",null,null,"LL","12木材・木製品製造業（家具を除く）",null,"30管理，補助的経済活動を行う事業所（03漁業）",30,"管理，補助的経済活動を行う事業所（03漁業）"]
["A","農業，林業",1,"農業",12,"畜産農業",123,"養豚業",null,null,null,null,null,"M","宿泊業・飲食サービス業",null,null,"MM","13家具・装備品製造業",null,"31海面漁業",31,"海面漁業"]
["A","農業，林業",1,"農業",12,"畜産農業",124,"養鶏業",null,null,null,null,null,"N","生活関連サービス業・娯楽業",null,null,"NN","14パルプ・紙・紙加工品製造業",null,"32内水面漁業",32,"内水面漁業"]
["A","農業，林業",1,"農業",12,"畜産農業",125,"畜産類似業",null,null,null,null,null,"O","教育・学習支援業",null,null,"OO","15印刷・同関連業",null,"40管理，補助的経済活動を行う事業所（04水産養殖業）",40,"管理，補助的経済活動を行う事業所（04水産養殖業）"]
["A","農業，林業",1,"農業",12,"畜産農業",126,"養蚕農業",null,null,null,null,null,"P","医療・福祉",null,null,"PP","16化学工業",null,"41海面養殖業",41,"海面養殖業"]
["A","農業，林業",1,"農業",12,"畜産農業",129,"その他の畜産農業",null,null,null,null,null,"Q","複合サービス事業",null,null,"QQ","17石油製品・石炭製品製造業",null,"42内水面養殖業",42,"内水面養殖業"]
["A","農業，林業",1,"農業",13,"農業サービス業（園芸サービス業を除く）",131,"穀作サービス業",null,null,null,null,null,"R","サービス業・・他に分類されないもの",null,null,"RR","18プラスチック製品製造業（別掲を除く）",null,"50管理，補助的経済活動を行う事業所（05鉱業，採石業，砂利採取業）",50,"管理，補助的経済活動を行う事業所（05鉱業，採石業，砂利採取業）"]
["A","農業，林業",1,"農業",13,"農業サービス業（園芸サービス業を除く）",132,"野菜作・果樹作サービス業",null,null,null,null,null,"S","公務・・他に分類されるものを除く",null,null,"SS","19ゴム製品製造業",null,"51金属鉱業",51,"金属鉱業"]
["A","農業，林業",1,"農業",13,"農業サービス業（園芸サービス業を除く）",133,"穀作，野菜作・果樹作以外の耕種サービス業",null,null,null,null,null,"T","分類不能の産業",null,null,"TT","20なめし革・同製品・毛皮製造業",null,"52石炭・亜炭鉱業",52,"石炭・亜炭鉱業"]
["A","農業，林業",1,"農業",13,"農業サービス業（園芸サービス業を除く）",134,"畜産サービス業（獣医業を除く）",null,null,null,null,null,null,null,null,null,null,"21窯業・土石製品製造業",null,"53原油・天然ガス鉱業",53,"原油・天然ガス鉱業"]
["A","農業，林業",1,"農業",14,"園芸サービス業",141,"園芸サービス業",null,null,null,null,null,null,null,null,null,null,"22鉄鋼業",null,"54採石業，砂・砂利・玉石採取業",54,"採石業，砂・砂利・玉石採取業"]
["A","農業，林業",2,"林業",20,"管理，補助的経済活動を行う事業所（02林業）",200,"主として管理事務を行う本社等",null,null,null,null,null,null,null,null,null,null,"23非鉄金属製造業",null,"55窯業原料用鉱物鉱業（耐火物・陶磁器・ガラス・セメント原料用に限る）",55,"窯業原料用鉱物鉱業（耐火物・陶磁器・ガラス・セメント原料用に限る）"]
["A","農業，林業",2,"林業",20,"管理，補助的経済活動を行う事業所（02林業）",209,"その他の管理，補助的経済活動を行う事業所",null,null,null,null,null,null,null,null,null,null,"24金属製品製造業",null,"59その他の鉱業",59,"その他の鉱業"]
["A","農業，林業",2,"林業",21,"育林業",211,"育林業",null,null,null,null,null,null,null,null,null,null,"25はん用機械器具製造業",null,"60管理，補助的経済活動を行う事業所（06総合工事業）",60,"管理，補助的経済活動を行う事業所（06総合工事業）"]
["A","農業，林業",2,"林業",22,"素材生産業",221,"素材生産業",null,null,null,null,null,null,null,null,null,null,"26生産用機械器具製造業",null,"61一般土木建築工事業",61,"一般土木建築工事業"]
["A","農業，林業",2,"林業",23,"特用林産物生産業（きのこ類の栽培を除く）",231,"製薪炭業",null,null,null,null,null,null,null,null,null,null,"27業務用機械器具製造業",null,"62土木工事業（舗装工事業を除く）",62,"土木工事業（舗装工事業を除く）"]
["A","農業，林業",2,"林業",23,"特用林産物生産業（きのこ類の栽培を除く）",239,"その他の特用林産物生産業（きのこ類の栽培を除く）",null,null,null,null,null,null,null,null,null,null,"28電子部品・デバイス・電子回路製造業",null,"63舗装工事業",63,"舗装工事業"]
["A","農業，林業",2,"林業",24,"林業サービス業",241,"育林サービス業",null,null,null,null,null,null,null,null,null,null,"29電気機械器具製造業",null,"64建築工事業(木造建築工事業を除く)",64,"建築工事業(木造建築工事業を除く)"]
["A","農業，林業",2,"林業",24,"林業サービス業",242,"素材生産サービス業",null,null,null,null,null,null,null,null,null,null,"30情報通信機械器具製造業",null,"65木造建築工事業",65,"木造建築工事業"]
["A","農業，林業",2,"林業",24,"林業サービス業",243,"山林種苗生産サービス業",null,null,null,null,null,null,null,null,null,null,"31輸送用機械器具製造業",null,"66建築リフォーム工事業",66,"建築リフォーム工事業"]
["A","農業，林業",2,"林業",24,"林業サービス業",249,"その他の林業サービス業",null,null,null,null,null,null,null,null,null,null,"32その他の製造業",null,"70管理，補助的経済活動を行う事業所（07職別工事業）",70,"管理，補助的経済活動を行う事業所（07職別工事業）"]
["A","農業，林業",2,"林業",29,"その他の林業",299,"その他の林業",null,null,null,null,null,null,null,null,null,null,"33電気業",null,"71大工工事業",71,"大工工事業"]
["B","漁業",3,"漁業（水産養殖業を除く）",30,"管理，補助的経済活動を行う事業所（03漁業）",300,"主として管理事務を行う本社等",null,null,null,null,null,null,null,null,null,null,"34ガス業",null,"72とび・土工・コンクリート工事業",72,"とび・土工・コンクリート工事業"]
["B","漁業",3,"漁業（水産養殖業を除く）",30,"管理，補助的経済活動を行う事業所（03漁業）",309,"その他の管理，補助的経済活動を行う事業所",null,null,null,null,null,null,null,null,null,null,"35熱供給業",null,"73鉄骨・鉄筋工事業",73,"鉄骨・鉄筋工事業"]
["B","漁業",3,"漁業（水産養殖業を除く）",31,"海面漁業",311,"底びき網漁業",null,null,null,null,null,null,null,null,null,null,"36水道業",null,"74石工・れんが・タイル・ブロック工事業",74,"石工・れんが・タイル・ブロック工事業"]
["B","漁業",3,"漁業（水産養殖業を除く）",31,"海面漁業",312,"まき網漁業",null,null,null,null,null,null,null,null,null,null,"37通信業",null,"75左官工事業",75,"左官工事業"]
["B","漁業",3,"漁業（水産養殖業を除く）",31,"海面漁業",313,"刺網漁業",null,null,null,null,null,null,null,null,null,null,"38放送業",null,"76板金・金物工事業",76,"板金・金物工事業"]
["B","漁業",3,"漁業（水産養殖業を除く）",31,"海面漁業",314,"釣・はえ縄漁業",null,null,null,null,null,null,null,null,null,null,"39情報サービス業",null,"77塗装工事業",77,"塗装工事業"]
["B","漁業",3,"漁業（水産養殖業を除く）",31,"海面漁業",315,"定置網漁業",null,null,null,null,null,null,null,null,null,null,"40インターネット附随サービス業",null,"78床・内装工事業",78,"床・内装工事業"]
["B","漁業",3,"漁業（水産養殖業を除く）",31,"海面漁業",316,"地びき網・船びき網漁業",null,null,null,null,null,null,null,null,null,null,"41映像・音声・文字情報制作業",null,"79その他の職別工事業",79,"その他の職別工事業"]
["B","漁業",3,"漁業（水産養殖業を除く）",31,"海面漁業",317,"採貝・採藻業",null,null,null,null,null,null,null,null,null,null,"42鉄道業",null,"80管理，補助的経済活動を行う事業所（08設備工事業）",80,"管理，補助的経済活動を行う事業所（08設備工事業）"]
["B","漁業",3,"漁業（水産養殖業を除く）",31,"海面漁業",318,"捕鯨業",null,null,null,null,null,null,null,null,null,null,"43道路旅客運送業",null,"81電気工事業",81,"電気工事業"]
["B","漁業",3,"漁業（水産養殖業を除く）",31,"海面漁業",319,"その他の海面漁業",null,null,null,null,null,null,null,null,null,null,"44道路貨物運送業",null,"82電気通信・信号装置工事業",82,"電気通信・信号装置工事業"]
["B","漁業",3,"漁業（水産養殖業を除く）",32,"内水面漁業",321,"内水面漁業",null,null,null,null,null,null,null,null,null,null,"45水運業",null,"83管工事業（さく井工事業を除く）",83,"管工事業（さく井工事業を除く）"]
["B","漁業",4,"水産養殖業",40,"管理，補助的経済活動を行う事業所（04水産養殖業）",400,"主として管理事務を行う本社等",null,null,null,null,null,null,null,null,null,null,"46航空運輸業",null,"84機械器具設置工事業",84,"機械器具設置工事業"]
["B","漁業",4,"水産養殖業",40,"管理，補助的経済活動を行う事業所（04水産養殖業）",409,"その他の管理，補助的経済活動を行う事業所",null,null,null,null,null,null,null,null,null,null,"47倉庫業",null,"89その他の設備工事業",89,"その他の設備工事業"]
["B","漁業",4,"水産養殖業",41,"海面養殖業",411,"魚類養殖業",null,null,null,null,null,null,null,null,null,null,"48運輸に附帯するサービス業",null,"90管理，補助的経済活動を行う事業所（09食料品製造業）",90,"管理，補助的経済活動を行う事業所（09食料品製造業）"]
["B","漁業",4,"水産養殖業",41,"海面養殖業",412,"貝類養殖業",null,null,null,null,null,null,null,null,null,null,"49郵便業（信書便事業を含む）",null,"91畜産食料品製造業",91,"畜産食料品製造業"]
["B","漁業",4,"水産養殖業",41,"海面養殖業",413,"藻類養殖業",null,null,null,null,null,null,null,null,null,null,"50各種商品卸売業",null,"92水産食料品製造業",92,"水産食料品製造業"]
["B","漁業",4,"水産養殖業",41,"海面養殖業",414,"真珠養殖業",null,null,null,null,null,null,null,null,null,null,"51繊維・衣服等卸売業",null,"93野菜缶詰・果実缶詰・農産保存食料品製造業",93,"野菜缶詰・果実缶詰・農産保存食料品製造業"]
["B","漁業",4,"水産養殖業",41,"海面養殖業",415,"種苗養殖業",null,null,null,null,null,null,null,null,null,null,"52飲食料品卸売業",null,"94調味料製造業",94,"調味料製造業"]
["B","漁業",4,"水産養殖業",41,"海面養殖業",419,"その他の海面養殖業",null,null,null,null,null,null,null,null,null,null,"53建築材料・鉱物・金属材料等卸売業",null,"95糖類製造業",95,"糖類製造業"]
["B","漁業",4,"水産養殖業",42,"内水面養殖業",421,"内水面養殖業",null,null,null,null,null,null,null,null,null,null,"54機械器具卸売業",null,"96精穀・製粉業",96,"精穀・製粉業"]
["C","鉱業，採石業，砂利採取業",5,"鉱業，採石業，砂利採取業",50,"管理，補助的経済活動を行う事業所（05鉱業，採石業，砂利採取業）",500,"主として管理事務を行う本社等",null,null,null,null,null,null,null,null,null,null,"55その他の卸売業",null,"97パン・菓子製造業",97,"パン・菓子製造業"]
["C","鉱業，採石業，砂利採取業",5,"鉱業，採石業，砂利採取業",50,"管理，補助的経済活動を行う事業所（05鉱業，採石業，砂利採取業）",509,"その他の管理，補助的経済活動を行う事業所",null,null,null,null,null,null,null,null,null,null,"56各種商品小売業",null,"98動植物油脂製造業",98,"動植物油脂製造業"]
["C","鉱業，採石業，砂利採取業",5,"鉱業，採石業，砂利採取業",51,"金属鉱業",511,"金・銀鉱業",null,null,null,null,null,null,null,null,null,null,"57織物・衣服・身の回り品小売業",null,"99その他の食料品製造業",99,"その他の食料品製造業"]
["C","鉱業，採石業，砂利採取業",5,"鉱業，採石業，砂利採取業",51,"金属鉱業",512,"鉛・亜鉛鉱業",null,null,null,null,null,null,null,null,null,null,"58飲食料品小売業",null,"100管理，補助的経済活動を行う事業所（10飲料・たばこ・飼料製造業）",100,"管理，補助的経済活動を行う事業所（10飲料・たばこ・飼料製造業）"]
["C","鉱業，採石業，砂利採取業",5,"鉱業，採石業，砂利採取業",51,"金属鉱業",513,"鉄鉱業",null,null,null,null,null,null,null,null,null,null,"59機械器具小売業",null,"101清涼飲料製造業",101,"清涼飲料製造業"]
["C","鉱業，採石業，砂利採取業",5,"鉱業，採石業，砂利採取業",51,"金属鉱業",519,"その他の金属鉱業",null,null,null,null,null,null,null,null,null,null,"60その他の小売業",null,"102酒類製造業",102,"酒類製造業"]
["C","鉱業，採石業，砂利採取業",5,"鉱業，採石業，砂利採取業",52,"石炭・亜炭鉱業",521,"石炭鉱業（石炭選別業を含む）",null,null,null,null,null,null,null,null,null,null,"61無店舗小売業",null,"103茶・コーヒー製造業（清涼飲料を除く）",103,"茶・コーヒー製造業（清涼飲料を除く）"]
["C","鉱業，採石業，砂利採取業",5,"鉱業，採石業，砂利採取業",52,"石炭・亜炭鉱業",522,"亜炭鉱業",null,null,null,null,null,null,null,null,null,null,"62銀行業",null,"104製氷業",104,"製氷業"]
["C","鉱業，採石業，砂利採取業",5,"鉱業，採石業，砂利採取業",53,"原油・天然ガス鉱業",531,"原油鉱業",null,null,null,null,null,null,null,null,null,null,"63協同組織金融業",null,"105たばこ製造業",105,"たばこ製造業"]
["C","鉱業，採石業，砂利採取業",5,"鉱業，採石業，砂利採取業",53,"原油・天然ガス鉱業",532,"天然ガス鉱業",null,null,null,null,null,null,null,null,null,null,"64貸金業・クレジットカード業等非預金信用機関",null,"106飼料・有機質肥料製造業",106,"飼料・有機質肥料製造業"]
["C","鉱業，採石業，砂利採取業",5,"鉱業，採石業，砂利採取業",54,"採石業，砂・砂利・玉石採取業",541,"花こう岩・同類似岩石採石業",null,null,null,null,null,null,null,null,null,null,"65金融商品取引業，商品先物取引業",null,"110管理，補助的経済活動を行う事業所（11繊維工業）",110,"管理，補助的経済活動を行う事業所（11繊維工業）"]
["C","鉱業，採石業，砂利採取業",5,"鉱業，採石業，砂利採取業",54,"採石業，砂・砂利・玉石採取業",542,"石英粗面岩・同類似岩石採石業",null,null,null,null,null,null,null,null,null,null,"66補助的金融業等",null,{"$f":"V67&W67","v":"111製糸業，紡績業，化学繊維・ねん糸等製造業"},111,"製糸業，紡績業，化学繊維・ねん糸等製造業"]
["C","鉱業，採石業，砂利採取業",5,"鉱業，採石業，砂利採取業",54,"採石業，砂・砂利・玉石採取業",543,"安山岩・同類似岩石採石業",null,null,null,null,null,null,null,null,null,null,"67保険業（保険媒介代理業，保険サービス業を含む）",null,"112織物業",112,"織物業"]
["C","鉱業，採石業，砂利採取業",5,"鉱業，採石業，砂利採取業",54,"採石業，砂・砂利・玉石採取業",544,"大理石採石業",null,null,null,null,null,null,null,null,null,null,"68不動産取引業",null,"113ニット生地製造業",113,"ニット生地製造業"]
["C","鉱業，採石業，砂利採取業",5,"鉱業，採石業，砂利採取業",54,"採石業，砂・砂利・玉石採取業",545,"ぎょう灰岩採石業",null,null,null,null,null,null,null,null,null,null,"69不動産賃貸業・管理業",null,"114染色整理業",114,"染色整理業"]
["C","鉱業，採石業，砂利採取業",5,"鉱業，採石業，砂利採取業",54,"採石業，砂・砂利・玉石採取業",546,"砂岩採石業",null,null,null,null,null,null,null,null,null,null,"70物品賃貸業",null,"115綱・網・レース・繊維粗製品製造業",115,"綱・網・レース・繊維粗製品製造業"]
["C","鉱業，採石業，砂利採取業",5,"鉱業，採石業，砂利採取業",54,"採石業，砂・砂利・玉石採取業",547,"粘板岩採石業",null,null,null,null,null,null,null,null,null,null,"71学術・開発研究機関",null,"116外衣・シャツ製造業（和式を除く）",116,"外衣・シャツ製造業（和式を除く）"]
["C","鉱業，採石業，砂利採取業",5,"鉱業，採石業，砂利採取業",54,"採石業，砂・砂利・玉石採取業",548,"砂・砂利・玉石採取業",null,null,null,null,null,null,null,null,null,null,"72専門サービス業（他に分類されないもの）",null,"117下着類製造業",117,"下着類製造業"]
["C","鉱業，採石業，砂利採取業",5,"鉱業，採石業，砂利採取業",54,"採石業，砂・砂利・玉石採取業",549,"その他の採石業，砂・砂利・玉石採取業",null,null,null,null,null,null,null,null,null,null,"73広告業",null,"118和装製品・その他の衣服・繊維製身の回り品製造業",118,"和装製品・その他の衣服・繊維製身の回り品製造業"]
["C","鉱業，採石業，砂利採取業",5,"鉱業，採石業，砂利採取業",55,"窯業原料用鉱物鉱業（耐火物・陶磁器・ガラス・セメント原料用に限る）",551,"耐火粘土鉱業",null,null,null,null,null,null,null,null,null,null,"74技術サービス業（他に分類されないもの）",null,"119その他の繊維製品製造業",119,"その他の繊維製品製造業"]
["C","鉱業，採石業，砂利採取業",5,"鉱業，採石業，砂利採取業",55,"窯業原料用鉱物鉱業（耐火物・陶磁器・ガラス・セメント原料用に限る）",552,"ろう石鉱業",null,null,null,null,null,null,null,null,null,null,"75宿泊業",null,"120管理，補助的経済活動を行う事業所（12木材・木製品製造業）",120,"管理，補助的経済活動を行う事業所（12木材・木製品製造業）"]
["C","鉱業，採石業，砂利採取業",5,"鉱業，採石業，砂利採取業",55,"窯業原料用鉱物鉱業（耐火物・陶磁器・ガラス・セメント原料用に限る）",553,"ドロマイト鉱業",null,null,null,null,null,null,null,null,null,null,"76飲食店",null,"121製材業，木製品製造業",121,"製材業，木製品製造業"]
["C","鉱業，採石業，砂利採取業",5,"鉱業，採石業，砂利採取業",55,"窯業原料用鉱物鉱業（耐火物・陶磁器・ガラス・セメント原料用に限る）",554,"長石鉱業",null,null,null,null,null,null,null,null,null,null,"77持ち帰り・配達飲食サービス業",null,"122造作材・合板・建築用組立材料製造業",122,"造作材・合板・建築用組立材料製造業"]
["C","鉱業，採石業，砂利採取業",5,"鉱業，採石業，砂利採取業",55,"窯業原料用鉱物鉱業（耐火物・陶磁器・ガラス・セメント原料用に限る）",555,"けい石鉱業",null,null,null,null,null,null,null,null,null,null,"78洗濯・理容・美容・浴場業",null,"123木製容器製造業（竹，とうを含む）",123,"木製容器製造業（竹，とうを含む）"]
["C","鉱業，採石業，砂利採取業",5,"鉱業，採石業，砂利採取業",55,"窯業原料用鉱物鉱業（耐火物・陶磁器・ガラス・セメント原料用に限る）",556,"天然けい砂鉱業",null,null,null,null,null,null,null,null,null,null,"79その他の生活関連サービス業",null,"129その他の木製品製造業(竹，とうを含む)",129,"その他の木製品製造業(竹，とうを含む)"]
["C","鉱業，採石業，砂利採取業",5,"鉱業，採石業，砂利採取業",55,"窯業原料用鉱物鉱業（耐火物・陶磁器・ガラス・セメント原料用に限る）",557,"石灰石鉱業",null,null,null,null,null,null,null,null,null,null,"80娯楽業",null,"130管理，補助的経済活動を行う事業所（13家具・装備品製造業）",130,"管理，補助的経済活動を行う事業所（13家具・装備品製造業）"]
["C","鉱業，採石業，砂利採取業",5,"鉱業，採石業，砂利採取業",55,"窯業原料用鉱物鉱業（耐火物・陶磁器・ガラス・セメント原料用に限る）",559,"その他の窯業原料用鉱物鉱業",null,null,null,null,null,null,null,null,null,null,"81学校教育",null,"131家具製造業",131,"家具製造業"]
["C","鉱業，採石業，砂利採取業",5,"鉱業，採石業，砂利採取業",59,"その他の鉱業",591,"酸性白土鉱業",null,null,null,null,null,null,null,null,null,null,"82その他の教育，学習支援業",null,"132宗教用具製造業",132,"宗教用具製造業"]
["C","鉱業，採石業，砂利採取業",5,"鉱業，採石業，砂利採取業",59,"その他の鉱業",592,"ベントナイト鉱業",null,null,null,null,null,null,null,null,null,null,"83医療業",null,"133建具製造業",133,"建具製造業"]
["C","鉱業，採石業，砂利採取業",5,"鉱業，採石業，砂利採取業",59,"その他の鉱業",593,"けいそう土鉱業",null,null,null,null,null,null,null,null,null,null,"84保健衛生",null,"139その他の家具・装備品製造業",139,"その他の家具・装備品製造業"]
["C","鉱業，採石業，砂利採取業",5,"鉱業，採石業，砂利採取業",59,"その他の鉱業",594,"滑石鉱業",null,null,null,null,null,null,null,null,null,null,"85社会保険・社会福祉・介護事業",null,"140管理，補助的経済活動を行う事業所（14パルプ・紙・紙加工品製造業）",140,"管理，補助的経済活動を行う事業所（14パルプ・紙・紙加工品製造業）"]
["C","鉱業，採石業，砂利採取業",5,"鉱業，採石業，砂利採取業",59,"その他の鉱業",599,"他に分類されない鉱業",null,null,null,null,null,null,null,null,null,null,"86郵便局",null,"141パルプ製造業",141,"パルプ製造業"]
["D","建設業",6,"総合工事業",60,"管理，補助的経済活動を行う事業所（06総合工事業）",600,"主として管理事務を行う本社等",null,null,null,null,null,null,null,null,null,null,"87協同組合（他に分類されないもの）",null,"142紙製造業",142,"紙製造業"]
["D","建設業",6,"総合工事業",60,"管理，補助的経済活動を行う事業所（06総合工事業）",609,"その他の管理，補助的経済活動を行う事業所",null,null,null,null,null,null,null,null,null,null,"88廃棄物処理業",null,"143加工紙製造業",143,"加工紙製造業"]
["D","建設業",6,"総合工事業",61,"一般土木建築工事業",611,"一般土木建築工事業",null,null,null,null,null,null,null,null,null,null,"89自動車整備業",null,"144紙製品製造業",144,"紙製品製造業"]
["D","建設業",6,"総合工事業",62,"土木工事業（舗装工事業を除く）",621,"土木工事業(別掲を除く)",null,null,null,null,null,null,null,null,null,null,"90機械等修理業（別掲を除く）",null,"145紙製容器製造業",145,"紙製容器製造業"]
["D","建設業",6,"総合工事業",62,"土木工事業（舗装工事業を除く）",622,"造園工事業",null,null,null,null,null,null,null,null,null,null,"91職業紹介・労働者派遣業",null,"149その他のパルプ・紙・紙加工品製造業",149,"その他のパルプ・紙・紙加工品製造業"]
["D","建設業",6,"総合工事業",62,"土木工事業（舗装工事業を除く）",623,"しゅんせつ工事業",null,null,null,null,null,null,null,null,null,null,"92その他の事業サービス業",null,"150管理，補助的経済活動を行う事業所（15印刷・同関連業）",150,"管理，補助的経済活動を行う事業所（15印刷・同関連業）"]
["D","建設業",6,"総合工事業",63,"舗装工事業",631,"舗装工事業",null,null,null,null,null,null,null,null,null,null,"93政治・経済・文化団体",null,"151印刷業",151,"印刷業"]
["D","建設業",6,"総合工事業",64,"建築工事業(木造建築工事業を除く)",641,"建築工事業(木造建築工事業を除く)",null,null,null,null,null,null,null,null,null,null,"94宗教",null,"152製版業",152,"製版業"]
["D","建設業",6,"総合工事業",65,"木造建築工事業",651,"木造建築工事業",null,null,null,null,null,null,null,null,null,null,"95その他のサービス業",null,"153製本業，印刷物加工業",153,"製本業，印刷物加工業"]
["D","建設業",6,"総合工事業",66,"建築リフォーム工事業",661,"建築リフォーム工事業",null,null,null,null,null,null,null,null,null,null,"96外国公務",null,"159印刷関連サービス業",159,"印刷関連サービス業"]
["D","建設業",7,"職別工事業(設備工事業を除く)",70,"管理，補助的経済活動を行う事業所（07職別工事業）",700,"主として管理事務を行う本社等",null,null,null,null,null,null,null,null,null,null,"97国家公務",null,"160管理，補助的経済活動を行う事業所（16化学工業）",160,"管理，補助的経済活動を行う事業所（16化学工業）"]
["D","建設業",7,"職別工事業(設備工事業を除く)",70,"管理，補助的経済活動を行う事業所（07職別工事業）",709,"その他の管理，補助的経済活動を行う事業所",null,null,null,null,null,null,null,null,null,null,"98地方公務",null,"161化学肥料製造業",161,"化学肥料製造業"]
["D","建設業",7,"職別工事業(設備工事業を除く)",71,"大工工事業",711,"大工工事業(型枠大工工事業を除く)",null,null,null,null,null,null,null,null,null,null,"99 分類不能の産業",null,"162無機化学工業製品製造業",162,"無機化学工業製品製造業"]
["D","建設業",7,"職別工事業(設備工事業を除く)",71,"大工工事業",712,"型枠大工工事業",null,null,null,null,null,null,null,null,null,null,null,null,"163有機化学工業製品製造業",163,"有機化学工業製品製造業"]
["D","建設業",7,"職別工事業(設備工事業を除く)",72,"とび・土工・コンクリート工事業",721,"とび工事業",null,null,null,null,null,null,null,null,null,null,null,null,"164油脂加工製品・石けん・合成洗剤・界面活性剤・塗料製造業",164,"油脂加工製品・石けん・合成洗剤・界面活性剤・塗料製造業"]
["D","建設業",7,"職別工事業(設備工事業を除く)",72,"とび・土工・コンクリート工事業",722,"土工・コンクリート工事業",null,null,null,null,null,null,null,null,null,null,null,null,"165医薬品製造業",165,"医薬品製造業"]
["D","建設業",7,"職別工事業(設備工事業を除く)",72,"とび・土工・コンクリート工事業",723,"特殊コンクリート工事業",null,null,null,null,null,null,null,null,null,null,null,null,"166化粧品・歯磨・その他の化粧用調整品製造業",166,"化粧品・歯磨・その他の化粧用調整品製造業"]
["D","建設業",7,"職別工事業(設備工事業を除く)",73,"鉄骨・鉄筋工事業",731,"鉄骨工事業",null,null,null,null,null,null,null,null,null,null,null,null,"169その他の化学工業",169,"その他の化学工業"]
["D","建設業",7,"職別工事業(設備工事業を除く)",73,"鉄骨・鉄筋工事業",732,"鉄筋工事業",null,null,null,null,null,null,null,null,null,null,null,null,"170管理，補助的経済活動を行う事業所（17石油製品・石炭製品製造業）",170,"管理，補助的経済活動を行う事業所（17石油製品・石炭製品製造業）"]
["D","建設業",7,"職別工事業(設備工事業を除く)",74,"石工・れんが・タイル・ブロック工事業",741,"石工工事業",null,null,null,null,null,null,null,null,null,null,null,null,"171石油精製業",171,"石油精製業"]
["D","建設業",7,"職別工事業(設備工事業を除く)",74,"石工・れんが・タイル・ブロック工事業",742,"れんが工事業",null,null,null,null,null,null,null,null,null,null,null,null,"172潤滑油・グリース製造業（石油精製業によらないもの）",172,"潤滑油・グリース製造業（石油精製業によらないもの）"]
["D","建設業",7,"職別工事業(設備工事業を除く)",74,"石工・れんが・タイル・ブロック工事業",743,"タイル工事業",null,null,null,null,null,null,null,null,null,null,null,null,"173コークス製造業",173,"コークス製造業"]
["D","建設業",7,"職別工事業(設備工事業を除く)",74,"石工・れんが・タイル・ブロック工事業",744,"コンクリートブロック工事業",null,null,null,null,null,null,null,null,null,null,null,null,"174舗装材料製造業",174,"舗装材料製造業"]
["D","建設業",7,"職別工事業(設備工事業を除く)",75,"左官工事業",751,"左官工事業",null,null,null,null,null,null,null,null,null,null,null,null,"179その他の石油製品・石炭製品製造業",179,"その他の石油製品・石炭製品製造業"]
["D","建設業",7,"職別工事業(設備工事業を除く)",76,"板金・金物工事業",761,"金属製屋根工事業",null,null,null,null,null,null,null,null,null,null,null,null,"180管理，補助的経済活動を行う事業所（18プラスチック製品製造業）",180,"管理，補助的経済活動を行う事業所（18プラスチック製品製造業）"]
["D","建設業",7,"職別工事業(設備工事業を除く)",76,"板金・金物工事業",762,"板金工事業",null,null,null,null,null,null,null,null,null,null,null,null,"181プラスチック板・棒・管・継手・異形押出製品製造業",181,"プラスチック板・棒・管・継手・異形押出製品製造業"]
["D","建設業",7,"職別工事業(設備工事業を除く)",76,"板金・金物工事業",763,"建築金物工事業",null,null,null,null,null,null,null,null,null,null,null,null,"182プラスチックフィルム・シート・床材・合成皮革製造業",182,"プラスチックフィルム・シート・床材・合成皮革製造業"]
["D","建設業",7,"職別工事業(設備工事業を除く)",77,"塗装工事業",771,"塗装工事業（道路標示・区画線工事業を除く）",null,null,null,null,null,null,null,null,null,null,null,null,"183工業用プラスチック製品製造業",183,"工業用プラスチック製品製造業"]
["D","建設業",7,"職別工事業(設備工事業を除く)",77,"塗装工事業",772,"道路標示・区画線工事業",null,null,null,null,null,null,null,null,null,null,null,null,"184発泡・強化プラスチック製品製造業",184,"発泡・強化プラスチック製品製造業"]
["D","建設業",7,"職別工事業(設備工事業を除く)",78,"床・内装工事業",781,"床工事業",null,null,null,null,null,null,null,null,null,null,null,null,"185プラスチック成形材料製造業（廃プラスチックを含む）",185,"プラスチック成形材料製造業（廃プラスチックを含む）"]
["D","建設業",7,"職別工事業(設備工事業を除く)",78,"床・内装工事業",782,"内装工事業",null,null,null,null,null,null,null,null,null,null,null,null,"189その他のプラスチック製品製造業",189,"その他のプラスチック製品製造業"]
["D","建設業",7,"職別工事業(設備工事業を除く)",79,"その他の職別工事業",791,"ガラス工事業",null,null,null,null,null,null,null,null,null,null,null,null,"190管理，補助的経済活動を行う事業所（19ゴム製品製造業）",190,"管理，補助的経済活動を行う事業所（19ゴム製品製造業）"]
["D","建設業",7,"職別工事業(設備工事業を除く)",79,"その他の職別工事業",792,"金属製建具工事業",null,null,null,null,null,null,null,null,null,null,null,null,"191タイヤ・チューブ製造業",191,"タイヤ・チューブ製造業"]
["D","建設業",7,"職別工事業(設備工事業を除く)",79,"その他の職別工事業",793,"木製建具工事業",null,null,null,null,null,null,null,null,null,null,null,null,"192ゴム製・プラスチック製履物・同附属品製造業",192,"ゴム製・プラスチック製履物・同附属品製造業"]
["D","建設業",7,"職別工事業(設備工事業を除く)",79,"その他の職別工事業",794,"屋根工事業（金属製屋根工事業を除く）",null,null,null,null,null,null,null,null,null,null,null,null,"193ゴムベルト・ゴムホース・工業用ゴム製品製造業",193,"ゴムベルト・ゴムホース・工業用ゴム製品製造業"]
["D","建設業",7,"職別工事業(設備工事業を除く)",79,"その他の職別工事業",795,"防水工事業",null,null,null,null,null,null,null,null,null,null,null,null,"199その他のゴム製品製造業",199,"その他のゴム製品製造業"]
["D","建設業",7,"職別工事業(設備工事業を除く)",79,"その他の職別工事業",796,"はつり・解体工事業",null,null,null,null,null,null,null,null,null,null,null,null,"200管理，補助的経済活動を行う事業所（20なめし革・同製品・毛皮製造業）",200,"管理，補助的経済活動を行う事業所（20なめし革・同製品・毛皮製造業）"]
["D","建設業",7,"職別工事業(設備工事業を除く)",79,"その他の職別工事業",799,"他に分類されない職別工事業",null,null,null,null,null,null,null,null,null,null,null,null,"201なめし革製造業",201,"なめし革製造業"]
["D","建設業",8,"設備工事業",80,"管理，補助的経済活動を行う事業所（08設備工事業）",800,"主として管理事務を行う本社等",null,null,null,null,null,null,null,null,null,null,null,null,"202工業用革製品製造業（手袋を除く）",202,"工業用革製品製造業（手袋を除く）"]
["D","建設業",8,"設備工事業",80,"管理，補助的経済活動を行う事業所（08設備工事業）",809,"その他の管理，補助的経済活動を行う事業所",null,null,null,null,null,null,null,null,null,null,null,null,"203革製履物用材料・同附属品製造業",203,"革製履物用材料・同附属品製造業"]
["D","建設業",8,"設備工事業",81,"電気工事業",811,"一般電気工事業",null,null,null,null,null,null,null,null,null,null,null,null,"204革製履物製造業",204,"革製履物製造業"]
["D","建設業",8,"設備工事業",81,"電気工事業",812,"電気配線工事業",null,null,null,null,null,null,null,null,null,null,null,null,"205革製手袋製造業",205,"革製手袋製造業"]
["D","建設業",8,"設備工事業",82,"電気通信・信号装置工事業",821,"電気通信工事業（有線テレビジョン放送設備設置工事業を除く）",null,null,null,null,null,null,null,null,null,null,null,null,"206かばん製造業",206,"かばん製造業"]
["D","建設業",8,"設備工事業",82,"電気通信・信号装置工事業",822,"有線テレビジョン放送設備設置工事業",null,null,null,null,null,null,null,null,null,null,null,null,{"$f":"V131&W131","v":"207袋物製造業"},207,"袋物製造業"]
["D","建設業",8,"設備工事業",82,"電気通信・信号装置工事業",823,"信号装置工事業",null,null,null,null,null,null,null,null,null,null,null,null,"208毛皮製造業",208,"毛皮製造業"]
["D","建設業",8,"設備工事業",83,"管工事業（さく井工事業を除く）",831,"一般管工事業",null,null,null,null,null,null,null,null,null,null,null,null,"209その他のなめし革製品製造業",209,"その他のなめし革製品製造業"]
["D","建設業",8,"設備工事業",83,"管工事業（さく井工事業を除く）",832,"冷暖房設備工事業",null,null,null,null,null,null,null,null,null,null,null,null,"210管理，補助的経済活動を行う事業所（21窯業・土石製品製造業）",210,"管理，補助的経済活動を行う事業所（21窯業・土石製品製造業）"]
["D","建設業",8,"設備工事業",83,"管工事業（さく井工事業を除く）",833,"給排水・衛生設備工事業",null,null,null,null,null,null,null,null,null,null,null,null,"211ガラス・同製品製造業",211,"ガラス・同製品製造業"]
["D","建設業",8,"設備工事業",83,"管工事業（さく井工事業を除く）",839,"その他の管工事業",null,null,null,null,null,null,null,null,null,null,null,null,"212セメント・同製品製造業",212,"セメント・同製品製造業"]
["D","建設業",8,"設備工事業",84,"機械器具設置工事業",841,"機械器具設置工事業（昇降設備工事業を除く）",null,null,null,null,null,null,null,null,null,null,null,null,"213建設用粘土製品製造業（陶磁器製を除く)",213,"建設用粘土製品製造業（陶磁器製を除く)"]
["D","建設業",8,"設備工事業",84,"機械器具設置工事業",842,"昇降設備工事業",null,null,null,null,null,null,null,null,null,null,null,null,"214陶磁器・同関連製品製造業",214,"陶磁器・同関連製品製造業"]
["D","建設業",8,"設備工事業",89,"その他の設備工事業",891,"築炉工事業",null,null,null,null,null,null,null,null,null,null,null,null,"215耐火物製造業",215,"耐火物製造業"]
["D","建設業",8,"設備工事業",89,"その他の設備工事業",892,"熱絶縁工事業",null,null,null,null,null,null,null,null,null,null,null,null,"216炭素・黒鉛製品製造業",216,"炭素・黒鉛製品製造業"]
["D","建設業",8,"設備工事業",89,"その他の設備工事業",893,"道路標識設置工事業",null,null,null,null,null,null,null,null,null,null,null,null,"217研磨材・同製品製造業",217,"研磨材・同製品製造業"]
["D","建設業",8,"設備工事業",89,"その他の設備工事業",894,"さく井工事業",null,null,null,null,null,null,null,null,null,null,null,null,"218骨材・石工品等製造業",218,"骨材・石工品等製造業"]
["E","製造業",9,"食料品製造業",90,"管理，補助的経済活動を行う事業所（09食料品製造業）",900,"主として管理事務を行う本社等",null,null,null,null,null,null,null,null,null,null,null,null,"219その他の窯業・土石製品製造業",219,"その他の窯業・土石製品製造業"]
["E","製造業",9,"食料品製造業",90,"管理，補助的経済活動を行う事業所（09食料品製造業）",909,"その他の管理，補助的経済活動を行う事業所",null,null,null,null,null,null,null,null,null,null,null,null,"220管理，補助的経済活動を行う事業所（22鉄鋼業）",220,"管理，補助的経済活動を行う事業所（22鉄鋼業）"]
["E","製造業",9,"食料品製造業",91,"畜産食料品製造業",911,"部分肉・冷凍肉製造業",null,null,null,null,null,null,null,null,null,null,null,null,"221製鉄業",221,"製鉄業"]
["E","製造業",9,"食料品製造業",91,"畜産食料品製造業",912,"肉加工品製造業",null,null,null,null,null,null,null,null,null,null,null,null,"222製鋼・製鋼圧延業",222,"製鋼・製鋼圧延業"]
["E","製造業",9,"食料品製造業",91,"畜産食料品製造業",913,"処理牛乳・乳飲料製造業",null,null,null,null,null,null,null,null,null,null,null,null,"223製鋼を行わない鋼材製造業（表面処理鋼材を除く）",223,"製鋼を行わない鋼材製造業（表面処理鋼材を除く）"]
["E","製造業",9,"食料品製造業",91,"畜産食料品製造業",914,"乳製品製造業（処理牛乳，乳飲料を除く）",null,null,null,null,null,null,null,null,null,null,null,null,"224表面処理鋼材製造業",224,"表面処理鋼材製造業"]
["E","製造業",9,"食料品製造業",91,"畜産食料品製造業",919,"その他の畜産食料品製造業",null,null,null,null,null,null,null,null,null,null,null,null,"225鉄素形材製造業",225,"鉄素形材製造業"]
["E","製造業",9,"食料品製造業",92,"水産食料品製造業",921,"水産缶詰・瓶詰製造業",null,null,null,null,null,null,null,null,null,null,null,null,"229その他の鉄鋼業",229,"その他の鉄鋼業"]
["E","製造業",9,"食料品製造業",92,"水産食料品製造業",922,"海藻加工業",null,null,null,null,null,null,null,null,null,null,null,null,"230管理，補助的経済活動を行う事業所（23非鉄金属製造業）",230,"管理，補助的経済活動を行う事業所（23非鉄金属製造業）"]
["E","製造業",9,"食料品製造業",92,"水産食料品製造業",923,"水産練製品製造業",null,null,null,null,null,null,null,null,null,null,null,null,"231非鉄金属第１次製錬・精製業",231,"非鉄金属第１次製錬・精製業"]
["E","製造業",9,"食料品製造業",92,"水産食料品製造業",924,"塩干・塩蔵品製造業",null,null,null,null,null,null,null,null,null,null,null,null,"232非鉄金属第２次製錬・精製業（非鉄金属合金製造業を含む）",232,"非鉄金属第２次製錬・精製業（非鉄金属合金製造業を含む）"]
["E","製造業",9,"食料品製造業",92,"水産食料品製造業",925,"冷凍水産物製造業",null,null,null,null,null,null,null,null,null,null,null,null,"233非鉄金属・同合金圧延業（抽伸，押出しを含む）",233,"非鉄金属・同合金圧延業（抽伸，押出しを含む）"]
["E","製造業",9,"食料品製造業",92,"水産食料品製造業",926,"冷凍水産食品製造業",null,null,null,null,null,null,null,null,null,null,null,null,"234電線・ケーブル製造業",234,"電線・ケーブル製造業"]
["E","製造業",9,"食料品製造業",92,"水産食料品製造業",929,"その他の水産食料品製造業",null,null,null,null,null,null,null,null,null,null,null,null,"235非鉄金属素形材製造業",235,"非鉄金属素形材製造業"]
["E","製造業",9,"食料品製造業",93,"野菜缶詰・果実缶詰・農産保存食料品製造業",931,"野菜缶詰・果実缶詰・農産保存食料品製造業（野菜漬物を除く）",null,null,null,null,null,null,null,null,null,null,null,null,"239その他の非鉄金属製造業",239,"その他の非鉄金属製造業"]
["E","製造業",9,"食料品製造業",93,"野菜缶詰・果実缶詰・農産保存食料品製造業",932,"野菜漬物製造業（缶詰，瓶詰，つぼ詰を除く）",null,null,null,null,null,null,null,null,null,null,null,null,"240管理，補助的経済活動を行う事業所（24金属製品製造業）",240,"管理，補助的経済活動を行う事業所（24金属製品製造業）"]
["E","製造業",9,"食料品製造業",94,"調味料製造業",941,"味そ製造業",null,null,null,null,null,null,null,null,null,null,null,null,"241ブリキ缶・その他のめっき板等製品製造業",241,"ブリキ缶・その他のめっき板等製品製造業"]
["E","製造業",9,"食料品製造業",94,"調味料製造業",942,"しょう油・食用アミノ酸製造業",null,null,null,null,null,null,null,null,null,null,null,null,"242洋食器・刃物・手道具・金物類製造業",242,"洋食器・刃物・手道具・金物類製造業"]
["E","製造業",9,"食料品製造業",94,"調味料製造業",943,"ソース製造業",null,null,null,null,null,null,null,null,null,null,null,null,"243暖房装置・配管工事用附属品製造業",243,"暖房装置・配管工事用附属品製造業"]
["E","製造業",9,"食料品製造業",94,"調味料製造業",944,"食酢製造業",null,null,null,null,null,null,null,null,null,null,null,null,"244建設用・建築用金属製品製造業（製缶板金業を含む)",244,"建設用・建築用金属製品製造業（製缶板金業を含む)"]
["E","製造業",9,"食料品製造業",94,"調味料製造業",949,"その他の調味料製造業",null,null,null,null,null,null,null,null,null,null,null,null,"245金属素形材製品製造業",245,"金属素形材製品製造業"]
["E","製造業",9,"食料品製造業",95,"糖類製造業",951,"砂糖製造業（砂糖精製業を除く）",null,null,null,null,null,null,null,null,null,null,null,null,"246金属被覆・彫刻業，熱処理業（ほうろう鉄器を除く）",246,"金属被覆・彫刻業，熱処理業（ほうろう鉄器を除く）"]
["E","製造業",9,"食料品製造業",95,"糖類製造業",952,"砂糖精製業",null,null,null,null,null,null,null,null,null,null,null,null,"247金属線製品製造業（ねじ類を除く)",247,"金属線製品製造業（ねじ類を除く)"]
["E","製造業",9,"食料品製造業",95,"糖類製造業",953,"ぶどう糖・水あめ・異性化糖製造業",null,null,null,null,null,null,null,null,null,null,null,null,"248ボルト・ナット・リベット・小ねじ・木ねじ等製造業",248,"ボルト・ナット・リベット・小ねじ・木ねじ等製造業"]
["E","製造業",9,"食料品製造業",96,"精穀・製粉業",961,"精米・精麦業",null,null,null,null,null,null,null,null,null,null,null,null,"249その他の金属製品製造業",249,"その他の金属製品製造業"]
["E","製造業",9,"食料品製造業",96,"精穀・製粉業",962,"小麦粉製造業",null,null,null,null,null,null,null,null,null,null,null,null,"250管理，補助的経済活動を行う事業所（25はん用機械器具製造業）",250,"管理，補助的経済活動を行う事業所（25はん用機械器具製造業）"]
["E","製造業",9,"食料品製造業",96,"精穀・製粉業",969,"その他の精穀・製粉業",null,null,null,null,null,null,null,null,null,null,null,null,"251ボイラ・原動機製造業",251,"ボイラ・原動機製造業"]
["E","製造業",9,"食料品製造業",97,"パン・菓子製造業",971,"パン製造業",null,null,null,null,null,null,null,null,null,null,null,null,"252ポンプ・圧縮機器製造業",252,"ポンプ・圧縮機器製造業"]
["E","製造業",9,"食料品製造業",97,"パン・菓子製造業",972,"生菓子製造業",null,null,null,null,null,null,null,null,null,null,null,null,"253一般産業用機械・装置製造業",253,"一般産業用機械・装置製造業"]
["E","製造業",9,"食料品製造業",97,"パン・菓子製造業",973,"ビスケット類・干菓子製造業",null,null,null,null,null,null,null,null,null,null,null,null,"259その他のはん用機械・同部分品製造業",259,"その他のはん用機械・同部分品製造業"]
["E","製造業",9,"食料品製造業",97,"パン・菓子製造業",974,"米菓製造業",null,null,null,null,null,null,null,null,null,null,null,null,"260管理，補助的経済活動を行う事業所（26生産用機械器具製造業）",260,"管理，補助的経済活動を行う事業所（26生産用機械器具製造業）"]
["E","製造業",9,"食料品製造業",97,"パン・菓子製造業",979,"その他のパン・菓子製造業",null,null,null,null,null,null,null,null,null,null,null,null,"261農業用機械製造業（農業用器具を除く）",261,"農業用機械製造業（農業用器具を除く）"]
["E","製造業",9,"食料品製造業",98,"動植物油脂製造業",981,"動植物油脂製造業（食用油脂加工業を除く）",null,null,null,null,null,null,null,null,null,null,null,null,"262建設機械・鉱山機械製造業",262,"建設機械・鉱山機械製造業"]
["E","製造業",9,"食料品製造業",98,"動植物油脂製造業",982,"食用油脂加工業",null,null,null,null,null,null,null,null,null,null,null,null,"263繊維機械製造業",263,"繊維機械製造業"]
["E","製造業",9,"食料品製造業",99,"その他の食料品製造業",991,"でんぷん製造業",null,null,null,null,null,null,null,null,null,null,null,null,"264生活関連産業用機械製造業",264,"生活関連産業用機械製造業"]
["E","製造業",9,"食料品製造業",99,"その他の食料品製造業",992,"めん類製造業",null,null,null,null,null,null,null,null,null,null,null,null,"265基礎素材産業用機械製造業",265,"基礎素材産業用機械製造業"]
["E","製造業",9,"食料品製造業",99,"その他の食料品製造業",993,"豆腐・油揚製造業",null,null,null,null,null,null,null,null,null,null,null,null,"266金属加工機械製造業",266,"金属加工機械製造業"]
["E","製造業",9,"食料品製造業",99,"その他の食料品製造業",994,"あん類製造業",null,null,null,null,null,null,null,null,null,null,null,null,"267半導体・フラットパネルディスプレイ製造装置製造業",267,"半導体・フラットパネルディスプレイ製造装置製造業"]
["E","製造業",9,"食料品製造業",99,"その他の食料品製造業",995,"冷凍調理食品製造業",null,null,null,null,null,null,null,null,null,null,null,null,"269その他の生産用機械・同部分品製造業",269,"その他の生産用機械・同部分品製造業"]
["E","製造業",9,"食料品製造業",99,"その他の食料品製造業",996,"そう（惣）菜製造業",null,null,null,null,null,null,null,null,null,null,null,null,"270管理，補助的経済活動を行う事業所（27業務用機械器具製造業）",270,"管理，補助的経済活動を行う事業所（27業務用機械器具製造業）"]
["E","製造業",9,"食料品製造業",99,"その他の食料品製造業",997,"すし・弁当・調理パン製造業",null,null,null,null,null,null,null,null,null,null,null,null,"271事務用機械器具製造業",271,"事務用機械器具製造業"]
["E","製造業",9,"食料品製造業",99,"その他の食料品製造業",998,"レトルト食品製造業",null,null,null,null,null,null,null,null,null,null,null,null,"272サービス用・娯楽用機械器具製造業",272,"サービス用・娯楽用機械器具製造業"]
["E","製造業",9,"食料品製造業",99,"その他の食料品製造業",999,"他に分類されない食料品製造業",null,null,null,null,null,null,null,null,null,null,null,null,"273計量器・測定器・分析機器・試験機・測量機械器具・理化学機械器具製造業",273,"計量器・測定器・分析機器・試験機・測量機械器具・理化学機械器具製造業"]
["E","製造業",10,"飲料・たばこ・飼料製造業",100,"管理，補助的経済活動を行う事業所（10飲料・たばこ・飼料製造業）",1000,"主として管理事務を行う本社等",null,null,null,null,null,null,null,null,null,null,null,null,"274医療用機械器具・医療用品製造業",274,"医療用機械器具・医療用品製造業"]
["E","製造業",10,"飲料・たばこ・飼料製造業",100,"管理，補助的経済活動を行う事業所（10飲料・たばこ・飼料製造業）",1009,"その他の管理，補助的経済活動を行う事業所",null,null,null,null,null,null,null,null,null,null,null,null,"275光学機械器具・レンズ製造業",275,"光学機械器具・レンズ製造業"]
["E","製造業",10,"飲料・たばこ・飼料製造業",101,"清涼飲料製造業",1011,"清涼飲料製造業",null,null,null,null,null,null,null,null,null,null,null,null,"276武器製造業",276,"武器製造業"]
["E","製造業",10,"飲料・たばこ・飼料製造業",102,"酒類製造業",1021,"果実酒製造業",null,null,null,null,null,null,null,null,null,null,null,null,"280管理，補助的経済活動を行う事業所（28電子部品・デバイス・電子回路製造業）",280,"管理，補助的経済活動を行う事業所（28電子部品・デバイス・電子回路製造業）"]
["E","製造業",10,"飲料・たばこ・飼料製造業",102,"酒類製造業",1022,"ビール類製造業",null,null,null,null,null,null,null,null,null,null,null,null,"281電子デバイス製造業",281,"電子デバイス製造業"]
["E","製造業",10,"飲料・たばこ・飼料製造業",102,"酒類製造業",1023,"清酒製造業",null,null,null,null,null,null,null,null,null,null,null,null,"282電子部品製造業",282,"電子部品製造業"]
["E","製造業",10,"飲料・たばこ・飼料製造業",102,"酒類製造業",1024,"蒸留酒・混成酒製造業",null,null,null,null,null,null,null,null,null,null,null,null,"283記録メディア製造業",283,"記録メディア製造業"]
["E","製造業",10,"飲料・たばこ・飼料製造業",103,"茶・コーヒー製造業（清涼飲料を除く）",1031,"製茶業",null,null,null,null,null,null,null,null,null,null,null,null,"284電子回路製造業",284,"電子回路製造業"]
["E","製造業",10,"飲料・たばこ・飼料製造業",103,"茶・コーヒー製造業（清涼飲料を除く）",1032,"コーヒー製造業",null,null,null,null,null,null,null,null,null,null,null,null,"285ユニット部品製造業",285,"ユニット部品製造業"]
["E","製造業",10,"飲料・たばこ・飼料製造業",104,"製氷業",1041,"製氷業",null,null,null,null,null,null,null,null,null,null,null,null,{"$f":"V195&W195","v":"289その他の電子部品・デバイス・電子回路製造業"},289,"その他の電子部品・デバイス・電子回路製造業"]
["E","製造業",10,"飲料・たばこ・飼料製造業",105,"たばこ製造業",1051,"たばこ製造業（葉たばこ処理業を除く)",null,null,null,null,null,null,null,null,null,null,null,null,"290管理，補助的経済活動を行う事業所（29電気機械器具製造業）",290,"管理，補助的経済活動を行う事業所（29電気機械器具製造業）"]
["E","製造業",10,"飲料・たばこ・飼料製造業",105,"たばこ製造業",1052,"葉たばこ処理業",null,null,null,null,null,null,null,null,null,null,null,null,"291発電用・送電用・配電用電気機械器具製造業",291,"発電用・送電用・配電用電気機械器具製造業"]
["E","製造業",10,"飲料・たばこ・飼料製造業",106,"飼料・有機質肥料製造業",1061,"配合飼料製造業",null,null,null,null,null,null,null,null,null,null,null,null,"292産業用電気機械器具製造業",292,"産業用電気機械器具製造業"]
["E","製造業",10,"飲料・たばこ・飼料製造業",106,"飼料・有機質肥料製造業",1062,"単体飼料製造業",null,null,null,null,null,null,null,null,null,null,null,null,"293民生用電気機械器具製造業",293,"民生用電気機械器具製造業"]
["E","製造業",10,"飲料・たばこ・飼料製造業",106,"飼料・有機質肥料製造業",1063,"有機質肥料製造業",null,null,null,null,null,null,null,null,null,null,null,null,"294電球・電気照明器具製造業",294,"電球・電気照明器具製造業"]
["E","製造業",11,"繊維工業",110,"管理，補助的経済活動を行う事業所（11繊維工業）",1100,"主として管理事務を行う本社等",null,null,null,null,null,null,null,null,null,null,null,null,"295電池製造業",295,"電池製造業"]
["E","製造業",11,"繊維工業",110,"管理，補助的経済活動を行う事業所（11繊維工業）",1109,"その他の管理，補助的経済活動を行う事業所",null,null,null,null,null,null,null,null,null,null,null,null,"296電子応用装置製造業",296,"電子応用装置製造業"]
["E","製造業",11,"繊維工業",111,"製糸業，紡績業，化学繊維・ねん糸等製造業",1111,"製糸業",null,null,null,null,null,null,null,null,null,null,null,null,"297電気計測器製造業",297,"電気計測器製造業"]
["E","製造業",11,"繊維工業",111,"製糸業，紡績業，化学繊維・ねん糸等製造業",1112,"化学繊維製造業",null,null,null,null,null,null,null,null,null,null,null,null,"299その他の電気機械器具製造業",299,"その他の電気機械器具製造業"]
["E","製造業",11,"繊維工業",111,"製糸業，紡績業，化学繊維・ねん糸等製造業",1113,"炭素繊維製造業",null,null,null,null,null,null,null,null,null,null,null,null,"300管理，補助的経済活動を行う事業所（30情報通信機械器具製造業）",300,"管理，補助的経済活動を行う事業所（30情報通信機械器具製造業）"]
["E","製造業",11,"繊維工業",111,"製糸業，紡績業，化学繊維・ねん糸等製造業",1114,"綿紡績業",null,null,null,null,null,null,null,null,null,null,null,null,"301通信機械器具・同関連機械器具製造業",301,"通信機械器具・同関連機械器具製造業"]
["E","製造業",11,"繊維工業",111,"製糸業，紡績業，化学繊維・ねん糸等製造業",1115,"化学繊維紡績業",null,null,null,null,null,null,null,null,null,null,null,null,"302映像・音響機械器具製造業",302,"映像・音響機械器具製造業"]
["E","製造業",11,"繊維工業",111,"製糸業，紡績業，化学繊維・ねん糸等製造業",1116,"毛紡績業",null,null,null,null,null,null,null,null,null,null,null,null,"303電子計算機・同附属装置製造業",303,"電子計算機・同附属装置製造業"]
["E","製造業",11,"繊維工業",111,"製糸業，紡績業，化学繊維・ねん糸等製造業",1117,"ねん糸製造業（かさ高加工糸を除く）",null,null,null,null,null,null,null,null,null,null,null,null,"310管理，補助的経済活動を行う事業所（31輸送用機械器具製造業）",310,"管理，補助的経済活動を行う事業所（31輸送用機械器具製造業）"]
["E","製造業",11,"繊維工業",111,"製糸業，紡績業，化学繊維・ねん糸等製造業",1118,"かさ高加工糸製造業",null,null,null,null,null,null,null,null,null,null,null,null,"311自動車・同附属品製造業",311,"自動車・同附属品製造業"]
["E","製造業",11,"繊維工業",111,"製糸業，紡績業，化学繊維・ねん糸等製造業",1119,"その他の紡績業",null,null,null,null,null,null,null,null,null,null,null,null,"312鉄道車両・同部分品製造業",312,"鉄道車両・同部分品製造業"]
["E","製造業",11,"繊維工業",112,"織物業",1121,"綿・スフ織物業",null,null,null,null,null,null,null,null,null,null,null,null,"313船舶製造・修理業，舶用機関製造業",313,"船舶製造・修理業，舶用機関製造業"]
["E","製造業",11,"繊維工業",112,"織物業",1122,"絹・人絹織物業",null,null,null,null,null,null,null,null,null,null,null,null,"314航空機・同附属品製造業",314,"航空機・同附属品製造業"]
["E","製造業",11,"繊維工業",112,"織物業",1123,"毛織物業",null,null,null,null,null,null,null,null,null,null,null,null,"315産業用運搬車両・同部分品・附属品製造業",315,"産業用運搬車両・同部分品・附属品製造業"]
["E","製造業",11,"繊維工業",112,"織物業",1124,"麻織物業",null,null,null,null,null,null,null,null,null,null,null,null,"319その他の輸送用機械器具製造業",319,"その他の輸送用機械器具製造業"]
["E","製造業",11,"繊維工業",112,"織物業",1125,"細幅織物業",null,null,null,null,null,null,null,null,null,null,null,null,"320管理，補助的経済活動を行う事業所（32その他の製造業）",320,"管理，補助的経済活動を行う事業所（32その他の製造業）"]
["E","製造業",11,"繊維工業",112,"織物業",1129,"その他の織物業",null,null,null,null,null,null,null,null,null,null,null,null,"321貴金属・宝石製品製造業",321,"貴金属・宝石製品製造業"]
["E","製造業",11,"繊維工業",113,"ニット生地製造業",1131,"丸編ニット生地製造業",null,null,null,null,null,null,null,null,null,null,null,null,"322装身具・装飾品・ボタン・同関連品製造業（貴金属・宝石製を除く）",322,"装身具・装飾品・ボタン・同関連品製造業（貴金属・宝石製を除く）"]
["E","製造業",11,"繊維工業",113,"ニット生地製造業",1132,"たて編ニット生地製造業",null,null,null,null,null,null,null,null,null,null,null,null,"323時計・同部分品製造業",323,"時計・同部分品製造業"]
["E","製造業",11,"繊維工業",113,"ニット生地製造業",1133,"横編ニット生地製造業",null,null,null,null,null,null,null,null,null,null,null,null,"324楽器製造業",324,"楽器製造業"]
["E","製造業",11,"繊維工業",114,"染色整理業",1141,"綿・スフ・麻織物機械染色業",null,null,null,null,null,null,null,null,null,null,null,null,"325がん具・運動用具製造業",325,"がん具・運動用具製造業"]
["E","製造業",11,"繊維工業",114,"染色整理業",1142,"絹・人絹織物機械染色業",null,null,null,null,null,null,null,null,null,null,null,null,"326ペン・鉛筆・絵画用品・その他の事務用品製造業",326,"ペン・鉛筆・絵画用品・その他の事務用品製造業"]
["E","製造業",11,"繊維工業",114,"染色整理業",1143,"毛織物機械染色整理業",null,null,null,null,null,null,null,null,null,null,null,null,"327漆器製造業",327,"漆器製造業"]
["E","製造業",11,"繊維工業",114,"染色整理業",1144,"織物整理業",null,null,null,null,null,null,null,null,null,null,null,null,"328畳等生活雑貨製品製造業",328,"畳等生活雑貨製品製造業"]
["E","製造業",11,"繊維工業",114,"染色整理業",1145,"織物手加工染色整理業",null,null,null,null,null,null,null,null,null,null,null,null,"329他に分類されない製造業",329,"他に分類されない製造業"]
["E","製造業",11,"繊維工業",114,"染色整理業",1146,"綿状繊維・糸染色整理業",null,null,null,null,null,null,null,null,null,null,null,null,"330管理，補助的経済活動を行う事業所（33電気業）",330,"管理，補助的経済活動を行う事業所（33電気業）"]
["E","製造業",11,"繊維工業",114,"染色整理業",1147,"ニット・レース染色整理業",null,null,null,null,null,null,null,null,null,null,null,null,"331電気業",331,"電気業"]
["E","製造業",11,"繊維工業",114,"染色整理業",1148,"繊維雑品染色整理業",null,null,null,null,null,null,null,null,null,null,null,null,"340管理，補助的経済活動を行う事業所（34ガス業）",340,"管理，補助的経済活動を行う事業所（34ガス業）"]
["E","製造業",11,"繊維工業",115,"綱・網・レース・繊維粗製品製造業",1151,"綱製造業",null,null,null,null,null,null,null,null,null,null,null,null,"341ガス業",341,"ガス業"]
["E","製造業",11,"繊維工業",115,"綱・網・レース・繊維粗製品製造業",1152,"漁網製造業",null,null,null,null,null,null,null,null,null,null,null,null,"350管理，補助的経済活動を行う事業所（35熱供給業）",350,"管理，補助的経済活動を行う事業所（35熱供給業）"]
["E","製造業",11,"繊維工業",115,"綱・網・レース・繊維粗製品製造業",1153,"網地製造業（漁網を除く）",null,null,null,null,null,null,null,null,null,null,null,null,"351熱供給業",351,"熱供給業"]
["E","製造業",11,"繊維工業",115,"綱・網・レース・繊維粗製品製造業",1154,"レース製造業",null,null,null,null,null,null,null,null,null,null,null,null,"360管理，補助的経済活動を行う事業所（36水道業）",360,"管理，補助的経済活動を行う事業所（36水道業）"]
["E","製造業",11,"繊維工業",115,"綱・網・レース・繊維粗製品製造業",1155,"組ひも製造業",null,null,null,null,null,null,null,null,null,null,null,null,"361上水道業",361,"上水道業"]
["E","製造業",11,"繊維工業",115,"綱・網・レース・繊維粗製品製造業",1156,"整毛業",null,null,null,null,null,null,null,null,null,null,null,null,"362工業用水道業",362,"工業用水道業"]
["E","製造業",11,"繊維工業",115,"綱・網・レース・繊維粗製品製造業",1157,"フェルト・不織布製造業",null,null,null,null,null,null,null,null,null,null,null,null,"363下水道業",363,"下水道業"]
["E","製造業",11,"繊維工業",115,"綱・網・レース・繊維粗製品製造業",1158,"上塗りした織物・防水した織物製造業",null,null,null,null,null,null,null,null,null,null,null,null,"370管理，補助的経済活動を行う事業所（37通信業）",370,"管理，補助的経済活動を行う事業所（37通信業）"]
["E","製造業",11,"繊維工業",115,"綱・網・レース・繊維粗製品製造業",1159,"その他の繊維粗製品製造業",null,null,null,null,null,null,null,null,null,null,null,null,"371固定電気通信業",371,"固定電気通信業"]
["E","製造業",11,"繊維工業",116,"外衣・シャツ製造業（和式を除く）",1161,"織物製成人男子・少年服製造業（不織布製及びレース製を含む）",null,null,null,null,null,null,null,null,null,null,null,null,"372移動電気通信業",372,"移動電気通信業"]
["E","製造業",11,"繊維工業",116,"外衣・シャツ製造業（和式を除く）",1162,"織物製成人女子・少女服製造業（不織布製及びレース製を含む）",null,null,null,null,null,null,null,null,null,null,null,null,"373電気通信に附帯するサービス業",373,"電気通信に附帯するサービス業"]
["E","製造業",11,"繊維工業",116,"外衣・シャツ製造業（和式を除く）",1163,"織物製乳幼児服製造業（不織布製及びレース製を含む）",null,null,null,null,null,null,null,null,null,null,null,null,"380管理，補助的経済活動を行う事業所（38放送業）",380,"管理，補助的経済活動を行う事業所（38放送業）"]
["E","製造業",11,"繊維工業",116,"外衣・シャツ製造業（和式を除く）",1164,"織物製シャツ製造業（不織布製及びレース製を含み、下着を除く）",null,null,null,null,null,null,null,null,null,null,null,null,"381公共放送業（有線放送業を除く）",381,"公共放送業（有線放送業を除く）"]
["E","製造業",11,"繊維工業",116,"外衣・シャツ製造業（和式を除く）",1165,"織物製事務用・作業用・衛生用・スポーツ用衣服・学校服製造業（不織布製","及び",null,null,null,null,null,null,null,null,null,null,null,"382民間放送業（有線放送業を除く）",382,"民間放送業（有線放送業を除く）"]
["E","製造業",11,"繊維工業",116,"外衣・シャツ製造業（和式を除く）",null,"レース製を含む）",null,null,null,null,null,null,null,null,null,null,null,null,"383有線放送業",383,"有線放送業"]
["E","製造業",11,"繊維工業",116,"外衣・シャツ製造業（和式を除く）",1166,"ニット製外衣製造業（アウターシャツ類，セーター類などを除く）",null,null,null,null,null,null,null,null,null,null,null,null,"390管理，補助的経済活動を行う事業所（39情報サービス業）",390,"管理，補助的経済活動を行う事業所（39情報サービス業）"]
["E","製造業",11,"繊維工業",116,"外衣・シャツ製造業（和式を除く）",1167,"ニット製アウターシャツ類製造業",null,null,null,null,null,null,null,null,null,null,null,null,"391ソフトウェア業",391,"ソフトウェア業"]
["E","製造業",11,"繊維工業",116,"外衣・シャツ製造業（和式を除く）",1168,"セーター類製造業",null,null,null,null,null,null,null,null,null,null,null,null,"392情報処理・提供サービス業",392,"情報処理・提供サービス業"]
["E","製造業",11,"繊維工業",116,"外衣・シャツ製造業（和式を除く）",1169,"その他の外衣・シャツ製造業",null,null,null,null,null,null,null,null,null,null,null,null,"400管理，補助的経済活動を行う事業所（40インターネット附随サービス業）",400,"管理，補助的経済活動を行う事業所（40インターネット附随サービス業）"]
["E","製造業",11,"繊維工業",117,"下着類製造業",1171,"織物製下着製造業",null,null,null,null,null,null,null,null,null,null,null,null,"401インターネット附随サービス業",401,"インターネット附随サービス業"]
["E","製造業",11,"繊維工業",117,"下着類製造業",1172,"ニット製下着製造業",null,null,null,null,null,null,null,null,null,null,null,null,"410管理，補助的経済活動を行う事業所（41映像・音声・文字情報制作業）",410,"管理，補助的経済活動を行う事業所（41映像・音声・文字情報制作業）"]
["E","製造業",11,"繊維工業",117,"下着類製造業",1173,"織物製・ニット製寝着類製造業",null,null,null,null,null,null,null,null,null,null,null,null,"411映像情報制作・配給業",411,"映像情報制作・配給業"]
["E","製造業",11,"繊維工業",117,"下着類製造業",1174,"補整着製造業",null,null,null,null,null,null,null,null,null,null,null,null,"412音声情報制作業",412,"音声情報制作業"]
["E","製造業",11,"繊維工業",118,"和装製品・その他の衣服・繊維製身の回り品製造業",1181,"和装製品製造業（足袋を含む）",null,null,null,null,null,null,null,null,null,null,null,null,"413新聞業",413,"新聞業"]
["E","製造業",11,"繊維工業",118,"和装製品・その他の衣服・繊維製身の回り品製造業",1182,"ネクタイ製造業",null,null,null,null,null,null,null,null,null,null,null,null,"414出版業",414,"出版業"]
["E","製造業",11,"繊維工業",118,"和装製品・その他の衣服・繊維製身の回り品製造業",1183,"スカーフ・マフラー・ハンカチーフ製造業",null,null,null,null,null,null,null,null,null,null,null,null,"415広告制作業",415,"広告制作業"]
["E","製造業",11,"繊維工業",118,"和装製品・その他の衣服・繊維製身の回り品製造業",1184,"靴下製造業",null,null,null,null,null,null,null,null,null,null,null,null,"416映像・音声・文字情報制作に附帯するサービス業",416,"映像・音声・文字情報制作に附帯するサービス業"]
["E","製造業",11,"繊維工業",118,"和装製品・その他の衣服・繊維製身の回り品製造業",1185,"手袋製造業",null,null,null,null,null,null,null,null,null,null,null,null,"420管理，補助的経済活動を行う事業所（42鉄道業）",420,"管理，補助的経済活動を行う事業所（42鉄道業）"]
["E","製造業",11,"繊維工業",118,"和装製品・その他の衣服・繊維製身の回り品製造業",1186,"帽子製造業（帽体を含む）",null,null,null,null,null,null,null,null,null,null,null,null,"421鉄道業",421,"鉄道業"]
["E","製造業",11,"繊維工業",118,"和装製品・その他の衣服・繊維製身の回り品製造業",1189,"他に分類されない衣服・繊維製身の回り品製造業",null,null,null,null,null,null,null,null,null,null,null,null,"430管理，補助的経済活動を行う事業所（43道路旅客運送業）",430,"管理，補助的経済活動を行う事業所（43道路旅客運送業）"]
["E","製造業",11,"繊維工業",119,"その他の繊維製品製造業",1191,"寝具製造業",null,null,null,null,null,null,null,null,null,null,null,null,{"$f":"V259&W259","v":"431一般乗合旅客自動車運送業"},431,"一般乗合旅客自動車運送業"]
["E","製造業",11,"繊維工業",119,"その他の繊維製品製造業",1192,"毛布製造業",null,null,null,null,null,null,null,null,null,null,null,null,"432一般乗用旅客自動車運送業",432,"一般乗用旅客自動車運送業"]
["E","製造業",11,"繊維工業",119,"その他の繊維製品製造業",1193,"じゅうたん・その他の繊維製床敷物製造業",null,null,null,null,null,null,null,null,null,null,null,null,"433一般貸切旅客自動車運送業",433,"一般貸切旅客自動車運送業"]
["E","製造業",11,"繊維工業",119,"その他の繊維製品製造業",1194,"帆布製品製造業",null,null,null,null,null,null,null,null,null,null,null,null,"439その他の道路旅客運送業",439,"その他の道路旅客運送業"]
["E","製造業",11,"繊維工業",119,"その他の繊維製品製造業",1195,"繊維製袋製造業",null,null,null,null,null,null,null,null,null,null,null,null,"440管理，補助的経済活動を行う事業所（44道路貨物運送業）",440,"管理，補助的経済活動を行う事業所（44道路貨物運送業）"]
["E","製造業",11,"繊維工業",119,"その他の繊維製品製造業",1196,"刺しゅう業",null,null,null,null,null,null,null,null,null,null,null,null,"441一般貨物自動車運送業",441,"一般貨物自動車運送業"]
["E","製造業",11,"繊維工業",119,"その他の繊維製品製造業",1197,"タオル製造業",null,null,null,null,null,null,null,null,null,null,null,null,"442特定貨物自動車運送業",442,"特定貨物自動車運送業"]
["E","製造業",11,"繊維工業",119,"その他の繊維製品製造業",1198,"繊維製衛生材料製造業",null,null,null,null,null,null,null,null,null,null,null,null,"443貨物軽自動車運送業",443,"貨物軽自動車運送業"]
["E","製造業",11,"繊維工業",119,"その他の繊維製品製造業",1199,"他に分類されない繊維製品製造業",null,null,null,null,null,null,null,null,null,null,null,null,"444集配利用運送業",444,"集配利用運送業"]
["E","製造業",12,"木材・木製品製造業（家具を除く）",120,"管理，補助的経済活動を行う事業所（12木材・木製品製造業）",1200,"主として管理事務を行う本社等",null,null,null,null,null,null,null,null,null,null,null,null,"449その他の道路貨物運送業",449,"その他の道路貨物運送業"]
["E","製造業",12,"木材・木製品製造業（家具を除く）",120,"管理，補助的経済活動を行う事業所（12木材・木製品製造業）",1209,"その他の管理，補助的経済活動を行う事業所",null,null,null,null,null,null,null,null,null,null,null,null,"450管理，補助的経済活動を行う事業所（45水運業）",450,"管理，補助的経済活動を行う事業所（45水運業）"]
["E","製造業",12,"木材・木製品製造業（家具を除く）",121,"製材業，木製品製造業",1211,"一般製材業",null,null,null,null,null,null,null,null,null,null,null,null,"451外航海運業",451,"外航海運業"]
["E","製造業",12,"木材・木製品製造業（家具を除く）",121,"製材業，木製品製造業",1212,"単板（ベニヤ）製造業",null,null,null,null,null,null,null,null,null,null,null,null,"452沿海海運業",452,"沿海海運業"]
["E","製造業",12,"木材・木製品製造業（家具を除く）",121,"製材業，木製品製造業",1213,"床板製造業",null,null,null,null,null,null,null,null,null,null,null,null,"453内陸水運業",453,"内陸水運業"]
["E","製造業",12,"木材・木製品製造業（家具を除く）",121,"製材業，木製品製造業",1214,"木材チップ製造業",null,null,null,null,null,null,null,null,null,null,null,null,"454船舶貸渡業",454,"船舶貸渡業"]
["E","製造業",12,"木材・木製品製造業（家具を除く）",121,"製材業，木製品製造業",1219,"その他の特殊製材業",null,null,null,null,null,null,null,null,null,null,null,null,"460管理，補助的経済活動を行う事業所（46航空運輸業）",460,"管理，補助的経済活動を行う事業所（46航空運輸業）"]
["E","製造業",12,"木材・木製品製造業（家具を除く）",122,"造作材・合板・建築用組立材料製造業",1221,"造作材製造業（建具を除く）",null,null,null,null,null,null,null,null,null,null,null,null,"461航空運送業",461,"航空運送業"]
["E","製造業",12,"木材・木製品製造業（家具を除く）",122,"造作材・合板・建築用組立材料製造業",1222,"合板製造業",null,null,null,null,null,null,null,null,null,null,null,null,"462航空機使用業（航空運送業を除く）",462,"航空機使用業（航空運送業を除く）"]
["E","製造業",12,"木材・木製品製造業（家具を除く）",122,"造作材・合板・建築用組立材料製造業",1223,"集成材製造業",null,null,null,null,null,null,null,null,null,null,null,null,"470管理，補助的経済活動を行う事業所（47倉庫業）",470,"管理，補助的経済活動を行う事業所（47倉庫業）"]
["E","製造業",12,"木材・木製品製造業（家具を除く）",122,"造作材・合板・建築用組立材料製造業",1224,"建築用木製組立材料製造業",null,null,null,null,null,null,null,null,null,null,null,null,"471倉庫業（冷蔵倉庫業を除く）",471,"倉庫業（冷蔵倉庫業を除く）"]
["E","製造業",12,"木材・木製品製造業（家具を除く）",122,"造作材・合板・建築用組立材料製造業",1225,"パーティクルボード製造業",null,null,null,null,null,null,null,null,null,null,null,null,"472冷蔵倉庫業",472,"冷蔵倉庫業"]
["E","製造業",12,"木材・木製品製造業（家具を除く）",122,"造作材・合板・建築用組立材料製造業",1226,"繊維板製造業",null,null,null,null,null,null,null,null,null,null,null,null,"480管理，補助的経済活動を行う事業所（48運輸に附帯するサービス業）",480,"管理，補助的経済活動を行う事業所（48運輸に附帯するサービス業）"]
["E","製造業",12,"木材・木製品製造業（家具を除く）",122,"造作材・合板・建築用組立材料製造業",1227,"銘木製造業",null,null,null,null,null,null,null,null,null,null,null,null,"481港湾運送業",481,"港湾運送業"]
["E","製造業",12,"木材・木製品製造業（家具を除く）",123,"木製容器製造業（竹，とうを含む）",1231,"竹・とう・きりゅう等容器製造業",null,null,null,null,null,null,null,null,null,null,null,null,"482貨物運送取扱業（集配利用運送業を除く）",482,"貨物運送取扱業（集配利用運送業を除く）"]
["E","製造業",12,"木材・木製品製造業（家具を除く）",123,"木製容器製造業（竹，とうを含む）",1232,"木箱製造業",null,null,null,null,null,null,null,null,null,null,null,null,"483運送代理店",483,"運送代理店"]
["E","製造業",12,"木材・木製品製造業（家具を除く）",123,"木製容器製造業（竹，とうを含む）",1233,"たる・おけ製造業",null,null,null,null,null,null,null,null,null,null,null,null,"484こん包業",484,"こん包業"]
["E","製造業",12,"木材・木製品製造業（家具を除く）",129,"その他の木製品製造業(竹，とうを含む)",1291,"木材薬品処理業",null,null,null,null,null,null,null,null,null,null,null,null,"485運輸施設提供業",485,"運輸施設提供業"]
["E","製造業",12,"木材・木製品製造業（家具を除く）",129,"その他の木製品製造業(竹，とうを含む)",1292,"コルク加工基礎資材・コルク製品製造業",null,null,null,null,null,null,null,null,null,null,null,null,"489その他の運輸に附帯するサービス業",489,"その他の運輸に附帯するサービス業"]
["E","製造業",12,"木材・木製品製造業（家具を除く）",129,"その他の木製品製造業(竹，とうを含む)",1299,"他に分類されない木製品製造業(竹，とうを含む)",null,null,null,null,null,null,null,null,null,null,null,null,"490管理，補助的経済活動を行う事業所（49郵便業）",490,"管理，補助的経済活動を行う事業所（49郵便業）"]
["E","製造業",13,"家具・装備品製造業",130,"管理，補助的経済活動を行う事業所（13家具・装備品製造業）",1300,"主として管理事務を行う本社等",null,null,null,null,null,null,null,null,null,null,null,null,"491郵便業（信書便事業を含む）",491,"郵便業（信書便事業を含む）"]
["E","製造業",13,"家具・装備品製造業",130,"管理，補助的経済活動を行う事業所（13家具・装備品製造業）",1309,"その他の管理，補助的経済活動を行う事業所",null,null,null,null,null,null,null,null,null,null,null,null,"500管理，補助的経済活動を行う事業所（50各種商品卸売業）",500,"管理，補助的経済活動を行う事業所（50各種商品卸売業）"]
["E","製造業",13,"家具・装備品製造業",131,"家具製造業",1311,"木製家具製造業（漆塗りを除く）",null,null,null,null,null,null,null,null,null,null,null,null,"501各種商品卸売業",501,"各種商品卸売業"]
["E","製造業",13,"家具・装備品製造業",131,"家具製造業",1312,"金属製家具製造業",null,null,null,null,null,null,null,null,null,null,null,null,"510管理，補助的経済活動を行う事業所（51繊維・衣服等卸売業）",510,"管理，補助的経済活動を行う事業所（51繊維・衣服等卸売業）"]
["E","製造業",13,"家具・装備品製造業",131,"家具製造業",1313,"マットレス・組スプリング製造業",null,null,null,null,null,null,null,null,null,null,null,null,"511繊維品卸売業（衣服，身の回り品を除く）",511,"繊維品卸売業（衣服，身の回り品を除く）"]
["E","製造業",13,"家具・装備品製造業",132,"宗教用具製造業",1321,"宗教用具製造業",null,null,null,null,null,null,null,null,null,null,null,null,"512衣服卸売業",512,"衣服卸売業"]
["E","製造業",13,"家具・装備品製造業",133,"建具製造業",1331,"建具製造業",null,null,null,null,null,null,null,null,null,null,null,null,"513身の回り品卸売業",513,"身の回り品卸売業"]
["E","製造業",13,"家具・装備品製造業",139,"その他の家具・装備品製造業",1391,"事務所用・店舗用装備品製造業",null,null,null,null,null,null,null,null,null,null,null,null,"520管理，補助的経済活動を行う事業所（52飲食料品卸売業）",520,"管理，補助的経済活動を行う事業所（52飲食料品卸売業）"]
["E","製造業",13,"家具・装備品製造業",139,"その他の家具・装備品製造業",1392,"窓用・扉用日よけ，日本びょうぶ等製造業",null,null,null,null,null,null,null,null,null,null,null,null,"521農畜産物・水産物卸売業",521,"農畜産物・水産物卸売業"]
["E","製造業",13,"家具・装備品製造業",139,"その他の家具・装備品製造業",1393,"鏡縁・額縁製造業",null,null,null,null,null,null,null,null,null,null,null,null,"522食料・飲料卸売業",522,"食料・飲料卸売業"]
["E","製造業",13,"家具・装備品製造業",139,"その他の家具・装備品製造業",1399,"他に分類されない家具・装備品製造業",null,null,null,null,null,null,null,null,null,null,null,null,"530管理，補助的経済活動を行う事業所（53建築材料，鉱物・金属材料等卸売業）",530,"管理，補助的経済活動を行う事業所（53建築材料，鉱物・金属材料等卸売業）"]
["E","製造業",14,"パルプ・紙・紙加工品製造業",140,"管理，補助的経済活動を行う事業所（14パルプ・紙・紙加工品製造業）",1400,"主として管理事務を行う本社等",null,null,null,null,null,null,null,null,null,null,null,null,"531建築材料卸売業",531,"建築材料卸売業"]
["E","製造業",14,"パルプ・紙・紙加工品製造業",140,"管理，補助的経済活動を行う事業所（14パルプ・紙・紙加工品製造業）",1409,"その他の管理，補助的経済活動を行う事業所",null,null,null,null,null,null,null,null,null,null,null,null,"532化学製品卸売業",532,"化学製品卸売業"]
["E","製造業",14,"パルプ・紙・紙加工品製造業",141,"パルプ製造業",1411,"パルプ製造業",null,null,null,null,null,null,null,null,null,null,null,null,"533石油・鉱物卸売業",533,"石油・鉱物卸売業"]
["E","製造業",14,"パルプ・紙・紙加工品製造業",142,"紙製造業",1421,"洋紙製造業",null,null,null,null,null,null,null,null,null,null,null,null,"534鉄鋼製品卸売業",534,"鉄鋼製品卸売業"]
["E","製造業",14,"パルプ・紙・紙加工品製造業",142,"紙製造業",1422,"板紙製造業",null,null,null,null,null,null,null,null,null,null,null,null,"535非鉄金属卸売業",535,"非鉄金属卸売業"]
["E","製造業",14,"パルプ・紙・紙加工品製造業",142,"紙製造業",1423,"機械すき和紙製造業",null,null,null,null,null,null,null,null,null,null,null,null,"536再生資源卸売業",536,"再生資源卸売業"]
["E","製造業",14,"パルプ・紙・紙加工品製造業",142,"紙製造業",1424,"手すき和紙製造業",null,null,null,null,null,null,null,null,null,null,null,null,"540管理，補助的経済活動を行う事業所（54機械器具卸売業）",540,"管理，補助的経済活動を行う事業所（54機械器具卸売業）"]
["E","製造業",14,"パルプ・紙・紙加工品製造業",143,"加工紙製造業",1431,"塗工紙製造業（印刷用紙を除く）",null,null,null,null,null,null,null,null,null,null,null,null,"541産業機械器具卸売業",541,"産業機械器具卸売業"]
["E","製造業",14,"パルプ・紙・紙加工品製造業",143,"加工紙製造業",1432,"段ボール製造業",null,null,null,null,null,null,null,null,null,null,null,null,"542自動車卸売業",542,"自動車卸売業"]
["E","製造業",14,"パルプ・紙・紙加工品製造業",143,"加工紙製造業",1433,"壁紙・ふすま紙製造業",null,null,null,null,null,null,null,null,null,null,null,null,"543電気機械器具卸売業",543,"電気機械器具卸売業"]
["E","製造業",14,"パルプ・紙・紙加工品製造業",144,"紙製品製造業",1441,"事務用・学用紙製品製造業",null,null,null,null,null,null,null,null,null,null,null,null,"549その他の機械器具卸売業",549,"その他の機械器具卸売業"]
["E","製造業",14,"パルプ・紙・紙加工品製造業",144,"紙製品製造業",1442,"日用紙製品製造業",null,null,null,null,null,null,null,null,null,null,null,null,"550管理，補助的経済活動を行う事業所（55その他の卸売業）",550,"管理，補助的経済活動を行う事業所（55その他の卸売業）"]
["E","製造業",14,"パルプ・紙・紙加工品製造業",144,"紙製品製造業",1449,"その他の紙製品製造業",null,null,null,null,null,null,null,null,null,null,null,null,"551家具・建具・じゅう器等卸売業",551,"家具・建具・じゅう器等卸売業"]
["E","製造業",14,"パルプ・紙・紙加工品製造業",145,"紙製容器製造業",1451,"重包装紙袋製造業",null,null,null,null,null,null,null,null,null,null,null,null,"552医薬品・化粧品等卸売業",552,"医薬品・化粧品等卸売業"]
["E","製造業",14,"パルプ・紙・紙加工品製造業",145,"紙製容器製造業",1452,"角底紙袋製造業",null,null,null,null,null,null,null,null,null,null,null,null,"553紙・紙製品卸売業",553,"紙・紙製品卸売業"]
["E","製造業",14,"パルプ・紙・紙加工品製造業",145,"紙製容器製造業",1453,"段ボール箱製造業",null,null,null,null,null,null,null,null,null,null,null,null,"559他に分類されない卸売業",559,"他に分類されない卸売業"]
["E","製造業",14,"パルプ・紙・紙加工品製造業",145,"紙製容器製造業",1454,"紙器製造業",null,null,null,null,null,null,null,null,null,null,null,null,"560管理，補助的経済活動を行う事業所（56各種商品小売業）",560,"管理，補助的経済活動を行う事業所（56各種商品小売業）"]
["E","製造業",14,"パルプ・紙・紙加工品製造業",149,"その他のパルプ・紙・紙加工品製造業",1499,"その他のパルプ・紙・紙加工品製造業",null,null,null,null,null,null,null,null,null,null,null,null,"561百貨店，総合スーパー",561,"百貨店，総合スーパー"]
["E","製造業",15,"印刷・同関連業",150,"管理，補助的経済活動を行う事業所（15印刷・同関連業）",1500,"主として管理事務を行う本社等",null,null,null,null,null,null,null,null,null,null,null,null,"569その他の各種商品小売業（従業者が常時50人未満のもの）",569,"その他の各種商品小売業（従業者が常時50人未満のもの）"]
["E","製造業",15,"印刷・同関連業",150,"管理，補助的経済活動を行う事業所（15印刷・同関連業）",1509,"その他の管理，補助的経済活動を行う事業所",null,null,null,null,null,null,null,null,null,null,null,null,"570管理，補助的経済活動を行う事業所（57織物・衣服・身の回り品小売業）",570,"管理，補助的経済活動を行う事業所（57織物・衣服・身の回り品小売業）"]
["E","製造業",15,"印刷・同関連業",151,"印刷業",1511,"オフセット印刷業（紙に対するもの）",null,null,null,null,null,null,null,null,null,null,null,null,"571呉服・服地・寝具小売業",571,"呉服・服地・寝具小売業"]
["E","製造業",15,"印刷・同関連業",151,"印刷業",1512,"オフセット印刷以外の印刷業（紙に対するもの）",null,null,null,null,null,null,null,null,null,null,null,null,"572男子服小売業",572,"男子服小売業"]
["E","製造業",15,"印刷・同関連業",151,"印刷業",1513,"紙以外の印刷業",null,null,null,null,null,null,null,null,null,null,null,null,"573婦人・子供服小売業",573,"婦人・子供服小売業"]
["E","製造業",15,"印刷・同関連業",152,"製版業",1521,"製版業",null,null,null,null,null,null,null,null,null,null,null,null,"574靴・履物小売業",574,"靴・履物小売業"]
["E","製造業",15,"印刷・同関連業",153,"製本業，印刷物加工業",1531,"製本業",null,null,null,null,null,null,null,null,null,null,null,null,{"$f":"V323&W323","v":"579その他の織物・衣服・身の回り品小売業"},579,"その他の織物・衣服・身の回り品小売業"]
["E","製造業",15,"印刷・同関連業",153,"製本業，印刷物加工業",1532,"印刷物加工業",null,null,null,null,null,null,null,null,null,null,null,null,"580管理，補助的経済活動を行う事業所（58飲食料品小売業）",580,"管理，補助的経済活動を行う事業所（58飲食料品小売業）"]
["E","製造業",15,"印刷・同関連業",159,"印刷関連サービス業",1591,"印刷関連サービス業",null,null,null,null,null,null,null,null,null,null,null,null,"581各種食料品小売業",581,"各種食料品小売業"]
["E","製造業",16,"化学工業",160,"管理，補助的経済活動を行う事業所（16化学工業）",1600,"主として管理事務を行う本社等",null,null,null,null,null,null,null,null,null,null,null,null,"582野菜・果実小売業",582,"野菜・果実小売業"]
["E","製造業",16,"化学工業",160,"管理，補助的経済活動を行う事業所（16化学工業）",1609,"その他の管理，補助的経済活動を行う事業所",null,null,null,null,null,null,null,null,null,null,null,null,"583食肉小売業",583,"食肉小売業"]
["E","製造業",16,"化学工業",161,"化学肥料製造業",1611,"窒素質・りん酸質肥料製造業",null,null,null,null,null,null,null,null,null,null,null,null,"584鮮魚小売業",584,"鮮魚小売業"]
["E","製造業",16,"化学工業",161,"化学肥料製造業",1612,"複合肥料製造業",null,null,null,null,null,null,null,null,null,null,null,null,"585酒小売業",585,"酒小売業"]
["E","製造業",16,"化学工業",161,"化学肥料製造業",1619,"その他の化学肥料製造業",null,null,null,null,null,null,null,null,null,null,null,null,"586菓子・パン小売業",586,"菓子・パン小売業"]
["E","製造業",16,"化学工業",162,"無機化学工業製品製造業",1621,"ソーダ工業",null,null,null,null,null,null,null,null,null,null,null,null,"589その他の飲食料品小売業",589,"その他の飲食料品小売業"]
["E","製造業",16,"化学工業",162,"無機化学工業製品製造業",1622,"無機顔料製造業",null,null,null,null,null,null,null,null,null,null,null,null,"590管理，補助的経済活動を行う事業所（59機械器具小売業）",590,"管理，補助的経済活動を行う事業所（59機械器具小売業）"]
["E","製造業",16,"化学工業",162,"無機化学工業製品製造業",1623,"圧縮ガス・液化ガス製造業",null,null,null,null,null,null,null,null,null,null,null,null,"591自動車小売業",591,"自動車小売業"]
["E","製造業",16,"化学工業",162,"無機化学工業製品製造業",1624,"塩製造業",null,null,null,null,null,null,null,null,null,null,null,null,"592自転車小売業",592,"自転車小売業"]
["E","製造業",16,"化学工業",162,"無機化学工業製品製造業",1629,"その他の無機化学工業製品製造業",null,null,null,null,null,null,null,null,null,null,null,null,"593機械器具小売業（自動車，自転車を除く）",593,"機械器具小売業（自動車，自転車を除く）"]
["E","製造業",16,"化学工業",163,"有機化学工業製品製造業",1631,"石油化学系基礎製品製造業（一貫して生産される誘導品を含む）",null,null,null,null,null,null,null,null,null,null,null,null,"600管理，補助的経済活動を行う事業所（60その他の小売業）",600,"管理，補助的経済活動を行う事業所（60その他の小売業）"]
["E","製造業",16,"化学工業",163,"有機化学工業製品製造業",1632,"脂肪族系中間物製造業（脂肪族系溶剤を含む）",null,null,null,null,null,null,null,null,null,null,null,null,"601家具・建具・畳小売業",601,"家具・建具・畳小売業"]
["E","製造業",16,"化学工業",163,"有機化学工業製品製造業",1633,"発酵工業",null,null,null,null,null,null,null,null,null,null,null,null,"602じゅう器小売業",602,"じゅう器小売業"]
["E","製造業",16,"化学工業",163,"有機化学工業製品製造業",1634,"環式中間物・合成染料・有機顔料製造業",null,null,null,null,null,null,null,null,null,null,null,null,"603医薬品・化粧品小売業",603,"医薬品・化粧品小売業"]
["E","製造業",16,"化学工業",163,"有機化学工業製品製造業",1635,"プラスチック製造業",null,null,null,null,null,null,null,null,null,null,null,null,"604農耕用品小売業",604,"農耕用品小売業"]
["E","製造業",16,"化学工業",163,"有機化学工業製品製造業",1636,"合成ゴム製造業",null,null,null,null,null,null,null,null,null,null,null,null,"605燃料小売業",605,"燃料小売業"]
["E","製造業",16,"化学工業",163,"有機化学工業製品製造業",1639,"その他の有機化学工業製品製造業",null,null,null,null,null,null,null,null,null,null,null,null,"606書籍・文房具小売業",606,"書籍・文房具小売業"]
["E","製造業",16,"化学工業",164,"油脂加工製品・石けん・合成洗剤・界面活性剤・塗料製造業",1641,"脂肪酸・硬化油・グリセリン製造業",null,null,null,null,null,null,null,null,null,null,null,null,"607スポーツ用品・がん具・娯楽用品・楽器小売業",607,"スポーツ用品・がん具・娯楽用品・楽器小売業"]
["E","製造業",16,"化学工業",164,"油脂加工製品・石けん・合成洗剤・界面活性剤・塗料製造業",1642,"石けん・合成洗剤製造業",null,null,null,null,null,null,null,null,null,null,null,null,"608写真機・時計・眼鏡小売業",608,"写真機・時計・眼鏡小売業"]
["E","製造業",16,"化学工業",164,"油脂加工製品・石けん・合成洗剤・界面活性剤・塗料製造業",1643,"界面活性剤製造業（石けん，合成洗剤を除く）",null,null,null,null,null,null,null,null,null,null,null,null,"609他に分類されない小売業",609,"他に分類されない小売業"]
["E","製造業",16,"化学工業",164,"油脂加工製品・石けん・合成洗剤・界面活性剤・塗料製造業",1644,"塗料製造業",null,null,null,null,null,null,null,null,null,null,null,null,"610管理，補助的経済活動を行う事業所（61無店舗小売業）",610,"管理，補助的経済活動を行う事業所（61無店舗小売業）"]
["E","製造業",16,"化学工業",164,"油脂加工製品・石けん・合成洗剤・界面活性剤・塗料製造業",1645,"印刷インキ製造業",null,null,null,null,null,null,null,null,null,null,null,null,"611通信販売・訪問販売小売業",611,"通信販売・訪問販売小売業"]
["E","製造業",16,"化学工業",164,"油脂加工製品・石けん・合成洗剤・界面活性剤・塗料製造業",1646,"洗浄剤・磨用剤製造業",null,null,null,null,null,null,null,null,null,null,null,null,"612自動販売機による小売業",612,"自動販売機による小売業"]
["E","製造業",16,"化学工業",164,"油脂加工製品・石けん・合成洗剤・界面活性剤・塗料製造業",1647,"ろうそく製造業",null,null,null,null,null,null,null,null,null,null,null,null,"619その他の無店舗小売業",619,"その他の無店舗小売業"]
["E","製造業",16,"化学工業",165,"医薬品製造業",1651,"医薬品原薬製造業",null,null,null,null,null,null,null,null,null,null,null,null,"620管理，補助的経済活動を行う事業所（62銀行業）",620,"管理，補助的経済活動を行う事業所（62銀行業）"]
["E","製造業",16,"化学工業",165,"医薬品製造業",1652,"医薬品製剤製造業",null,null,null,null,null,null,null,null,null,null,null,null,"621中央銀行",621,"中央銀行"]
["E","製造業",16,"化学工業",165,"医薬品製造業",1653,"生物学的製剤製造業",null,null,null,null,null,null,null,null,null,null,null,null,"622銀行（中央銀行を除く）",622,"銀行（中央銀行を除く）"]
["E","製造業",16,"化学工業",165,"医薬品製造業",1654,"生薬・漢方製剤製造業",null,null,null,null,null,null,null,null,null,null,null,null,"630管理，補助的経済活動を行う事業所（63協同組織金融業）",630,"管理，補助的経済活動を行う事業所（63協同組織金融業）"]
["E","製造業",16,"化学工業",165,"医薬品製造業",1655,"動物用医薬品製造業",null,null,null,null,null,null,null,null,null,null,null,null,"631中小企業等金融業",631,"中小企業等金融業"]
["E","製造業",16,"化学工業",166,"化粧品・歯磨・その他の化粧用調整品製造業",1661,"仕上用・皮膚用化粧品製造業（香水，オーデコロンを含む）",null,null,null,null,null,null,null,null,null,null,null,null,"632農林水産金融業",632,"農林水産金融業"]
["E","製造業",16,"化学工業",166,"化粧品・歯磨・その他の化粧用調整品製造業",1662,"頭髪用化粧品製造業",null,null,null,null,null,null,null,null,null,null,null,null,"640管理，補助的経済活動を行う事業所（64貸金業，クレジットカード業等非預金信用機関）",640,"管理，補助的経済活動を行う事業所（64貸金業，クレジットカード業等非預金信用機関）"]
["E","製造業",16,"化学工業",166,"化粧品・歯磨・その他の化粧用調整品製造業",1669,"その他の化粧品・歯磨・化粧用調整品製造業",null,null,null,null,null,null,null,null,null,null,null,null,"641貸金業",641,"貸金業"]
["E","製造業",16,"化学工業",169,"その他の化学工業",1691,"火薬類製造業",null,null,null,null,null,null,null,null,null,null,null,null,"642質屋",642,"質屋"]
["E","製造業",16,"化学工業",169,"その他の化学工業",1692,"農薬製造業",null,null,null,null,null,null,null,null,null,null,null,null,"643クレジットカード業，割賦金融業",643,"クレジットカード業，割賦金融業"]
["E","製造業",16,"化学工業",169,"その他の化学工業",1693,"香料製造業",null,null,null,null,null,null,null,null,null,null,null,null,"649その他の非預金信用機関",649,"その他の非預金信用機関"]
["E","製造業",16,"化学工業",169,"その他の化学工業",1694,"ゼラチン・接着剤製造業",null,null,null,null,null,null,null,null,null,null,null,null,"650管理，補助的経済活動を行う事業所（65金融商品取引業，商品先物取引業）",650,"管理，補助的経済活動を行う事業所（65金融商品取引業，商品先物取引業）"]
["E","製造業",16,"化学工業",169,"その他の化学工業",1695,"写真感光材料製造業",null,null,null,null,null,null,null,null,null,null,null,null,"651金融商品取引業",651,"金融商品取引業"]
["E","製造業",16,"化学工業",169,"その他の化学工業",1696,"天然樹脂製品・木材化学製品製造業",null,null,null,null,null,null,null,null,null,null,null,null,"652商品先物取引業，商品投資業",652,"商品先物取引業，商品投資業"]
["E","製造業",16,"化学工業",169,"その他の化学工業",1697,"試薬製造業",null,null,null,null,null,null,null,null,null,null,null,null,"660管理，補助的経済活動を行う事業所（66補助的金融業等）",660,"管理，補助的経済活動を行う事業所（66補助的金融業等）"]
["E","製造業",16,"化学工業",169,"その他の化学工業",1699,"他に分類されない化学工業製品製造業",null,null,null,null,null,null,null,null,null,null,null,null,"661補助的金融業，金融附帯業",661,"補助的金融業，金融附帯業"]
["E","製造業",17,"石油製品・石炭製品製造業",170,"管理，補助的経済活動を行う事業所（17石油製品・石炭製品製造業）",1700,"主として管理事務を行う本社等",null,null,null,null,null,null,null,null,null,null,null,null,"662信託業",662,"信託業"]
["E","製造業",17,"石油製品・石炭製品製造業",170,"管理，補助的経済活動を行う事業所（17石油製品・石炭製品製造業）",1709,"その他の管理，補助的経済活動を行う事業所",null,null,null,null,null,null,null,null,null,null,null,null,"663金融代理業",663,"金融代理業"]
["E","製造業",17,"石油製品・石炭製品製造業",171,"石油精製業",1711,"石油精製業",null,null,null,null,null,null,null,null,null,null,null,null,"670管理，補助的経済活動を行う事業所（67保険業）",670,"管理，補助的経済活動を行う事業所（67保険業）"]
["E","製造業",17,"石油製品・石炭製品製造業",172,"潤滑油・グリース製造業（石油精製業によらないもの）",1721,"潤滑油・グリース製造業（石油精製業によらないもの）",null,null,null,null,null,null,null,null,null,null,null,null,"671生命保険業",671,"生命保険業"]
["E","製造業",17,"石油製品・石炭製品製造業",173,"コークス製造業",1731,"コークス製造業",null,null,null,null,null,null,null,null,null,null,null,null,"672損害保険業",672,"損害保険業"]
["E","製造業",17,"石油製品・石炭製品製造業",174,"舗装材料製造業",1741,"舗装材料製造業",null,null,null,null,null,null,null,null,null,null,null,null,"673共済事業・少額短期保険業",673,"共済事業・少額短期保険業"]
["E","製造業",17,"石油製品・石炭製品製造業",179,"その他の石油製品・石炭製品製造業",1799,"その他の石油製品・石炭製品製造業",null,null,null,null,null,null,null,null,null,null,null,null,"674保険媒介代理業",674,"保険媒介代理業"]
["E","製造業",18,"プラスチック製品製造業（別掲を除く）",180,"管理，補助的経済活動を行う事業所（18プラスチック製品製造業）",1800,"主として管理事務を行う本社等",null,null,null,null,null,null,null,null,null,null,null,null,"675保険サービス業",675,"保険サービス業"]
["E","製造業",18,"プラスチック製品製造業（別掲を除く）",180,"管理，補助的経済活動を行う事業所（18プラスチック製品製造業）",1809,"その他の管理，補助的経済活動を行う事業所",null,null,null,null,null,null,null,null,null,null,null,null,"680管理，補助的経済活動を行う事業所（68不動産取引業）",680,"管理，補助的経済活動を行う事業所（68不動産取引業）"]
["E","製造業",18,"プラスチック製品製造業（別掲を除く）",181,"プラスチック板・棒・管・継手・異形押出製品製造業",1811,"プラスチック板・棒製造業",null,null,null,null,null,null,null,null,null,null,null,null,"681建物売買業，土地売買業",681,"建物売買業，土地売買業"]
["E","製造業",18,"プラスチック製品製造業（別掲を除く）",181,"プラスチック板・棒・管・継手・異形押出製品製造業",1812,"プラスチック管製造業",null,null,null,null,null,null,null,null,null,null,null,null,"682不動産代理業・仲介業",682,"不動産代理業・仲介業"]
["E","製造業",18,"プラスチック製品製造業（別掲を除く）",181,"プラスチック板・棒・管・継手・異形押出製品製造業",1813,"プラスチック継手製造業",null,null,null,null,null,null,null,null,null,null,null,null,"690管理，補助的経済活動を行う事業所（69不動産賃貸業・管理業）",690,"管理，補助的経済活動を行う事業所（69不動産賃貸業・管理業）"]
["E","製造業",18,"プラスチック製品製造業（別掲を除く）",181,"プラスチック板・棒・管・継手・異形押出製品製造業",1814,"プラスチック異形押出製品製造業",null,null,null,null,null,null,null,null,null,null,null,null,"691不動産賃貸業（貸家業，貸間業を除く）",691,"不動産賃貸業（貸家業，貸間業を除く）"]
["E","製造業",18,"プラスチック製品製造業（別掲を除く）",181,"プラスチック板・棒・管・継手・異形押出製品製造業",1815,"プラスチック板・棒・管・継手・異形押出製品加工業",null,null,null,null,null,null,null,null,null,null,null,null,"692貸家業，貸間業",692,"貸家業，貸間業"]
["E","製造業",18,"プラスチック製品製造業（別掲を除く）",182,"プラスチックフィルム・シート・床材・合成皮革製造業",1821,"プラスチックフィルム製造業",null,null,null,null,null,null,null,null,null,null,null,null,"693駐車場業",693,"駐車場業"]
["E","製造業",18,"プラスチック製品製造業（別掲を除く）",182,"プラスチックフィルム・シート・床材・合成皮革製造業",1822,"プラスチックシート製造業",null,null,null,null,null,null,null,null,null,null,null,null,"694不動産管理業",694,"不動産管理業"]
["E","製造業",18,"プラスチック製品製造業（別掲を除く）",182,"プラスチックフィルム・シート・床材・合成皮革製造業",1823,"プラスチック床材製造業",null,null,null,null,null,null,null,null,null,null,null,null,"700管理，補助的経済活動を行う事業所（70物品賃貸業）",700,"管理，補助的経済活動を行う事業所（70物品賃貸業）"]
["E","製造業",18,"プラスチック製品製造業（別掲を除く）",182,"プラスチックフィルム・シート・床材・合成皮革製造業",1824,"合成皮革製造業",null,null,null,null,null,null,null,null,null,null,null,null,"701各種物品賃貸業",701,"各種物品賃貸業"]
["E","製造業",18,"プラスチック製品製造業（別掲を除く）",182,"プラスチックフィルム・シート・床材・合成皮革製造業",1825,"プラスチックフィルム・シート・床材・合成皮革加工業",null,null,null,null,null,null,null,null,null,null,null,null,"702産業用機械器具賃貸業",702,"産業用機械器具賃貸業"]
["E","製造業",18,"プラスチック製品製造業（別掲を除く）",183,"工業用プラスチック製品製造業",1831,"電気機械器具用プラスチック製品製造業（加工業を除く）",null,null,null,null,null,null,null,null,null,null,null,null,"703事務用機械器具賃貸業",703,"事務用機械器具賃貸業"]
["E","製造業",18,"プラスチック製品製造業（別掲を除く）",183,"工業用プラスチック製品製造業",1832,"輸送機械器具用プラスチック製品製造業（加工業を除く）",null,null,null,null,null,null,null,null,null,null,null,null,"704自動車賃貸業",704,"自動車賃貸業"]
["E","製造業",18,"プラスチック製品製造業（別掲を除く）",183,"工業用プラスチック製品製造業",1833,"その他の工業用プラスチック製品製造業（加工業を除く）",null,null,null,null,null,null,null,null,null,null,null,null,{"$f":"V387&W387","v":"705スポーツ・娯楽用品賃貸業"},705,"スポーツ・娯楽用品賃貸業"]
["E","製造業",18,"プラスチック製品製造業（別掲を除く）",183,"工業用プラスチック製品製造業",1834,"工業用プラスチック製品加工業",null,null,null,null,null,null,null,null,null,null,null,null,"709その他の物品賃貸業",709,"その他の物品賃貸業"]
["E","製造業",18,"プラスチック製品製造業（別掲を除く）",184,"発泡・強化プラスチック製品製造業",1841,"軟質プラスチック発泡製品製造業（半硬質性を含む）",null,null,null,null,null,null,null,null,null,null,null,null,"710管理，補助的経済活動を行う事業所（71学術・開発研究機関）",710,"管理，補助的経済活動を行う事業所（71学術・開発研究機関）"]
["E","製造業",18,"プラスチック製品製造業（別掲を除く）",184,"発泡・強化プラスチック製品製造業",1842,"硬質プラスチック発泡製品製造業",null,null,null,null,null,null,null,null,null,null,null,null,"711自然科学研究所",711,"自然科学研究所"]
["E","製造業",18,"プラスチック製品製造業（別掲を除く）",184,"発泡・強化プラスチック製品製造業",1843,"強化プラスチック製板・棒・管・継手製造業",null,null,null,null,null,null,null,null,null,null,null,null,"712人文・社会科学研究所",712,"人文・社会科学研究所"]
["E","製造業",18,"プラスチック製品製造業（別掲を除く）",184,"発泡・強化プラスチック製品製造業",1844,"強化プラスチック製容器・浴槽等製造業",null,null,null,null,null,null,null,null,null,null,null,null,"720管理，補助的経済活動を行う事業所（72専門サービス業）",720,"管理，補助的経済活動を行う事業所（72専門サービス業）"]
["E","製造業",18,"プラスチック製品製造業（別掲を除く）",184,"発泡・強化プラスチック製品製造業",1845,"発泡・強化プラスチック製品加工業",null,null,null,null,null,null,null,null,null,null,null,null,"721法律事務所，特許事務所",721,"法律事務所，特許事務所"]
["E","製造業",18,"プラスチック製品製造業（別掲を除く）",185,"プラスチック成形材料製造業（廃プラスチックを含む）",1851,"プラスチック成形材料製造業",null,null,null,null,null,null,null,null,null,null,null,null,"722公証人役場，司法書士事務所，土地家屋調査士事務所",722,"公証人役場，司法書士事務所，土地家屋調査士事務所"]
["E","製造業",18,"プラスチック製品製造業（別掲を除く）",185,"プラスチック成形材料製造業（廃プラスチックを含む）",1852,"廃プラスチック製品製造業",null,null,null,null,null,null,null,null,null,null,null,null,"723行政書士事務所",723,"行政書士事務所"]
["E","製造業",18,"プラスチック製品製造業（別掲を除く）",189,"その他のプラスチック製品製造業",1891,"プラスチック製日用雑貨・食卓用品製造業",null,null,null,null,null,null,null,null,null,null,null,null,"724公認会計士事務所，税理士事務所",724,"公認会計士事務所，税理士事務所"]
["E","製造業",18,"プラスチック製品製造業（別掲を除く）",189,"その他のプラスチック製品製造業",1892,"プラスチック製容器製造業",null,null,null,null,null,null,null,null,null,null,null,null,"725社会保険労務士事務所",725,"社会保険労務士事務所"]
["E","製造業",18,"プラスチック製品製造業（別掲を除く）",189,"その他のプラスチック製品製造業",1897,"他に分類されないプラスチック製品製造業",null,null,null,null,null,null,null,null,null,null,null,null,"726デザイン業",726,"デザイン業"]
["E","製造業",18,"プラスチック製品製造業（別掲を除く）",189,"その他のプラスチック製品製造業",1898,"他に分類されないプラスチック製品加工業",null,null,null,null,null,null,null,null,null,null,null,null,"727著述・芸術家業",727,"著述・芸術家業"]
["E","製造業",19,"ゴム製品製造業",190,"管理，補助的経済活動を行う事業所（19ゴム製品製造業）",1900,"主として管理事務を行う本社等",null,null,null,null,null,null,null,null,null,null,null,null,"728経営コンサルタント業，純粋持株会社",728,"経営コンサルタント業，純粋持株会社"]
["E","製造業",19,"ゴム製品製造業",190,"管理，補助的経済活動を行う事業所（19ゴム製品製造業）",1909,"その他の管理，補助的経済活動を行う事業所",null,null,null,null,null,null,null,null,null,null,null,null,"729その他の専門サービス業",729,"その他の専門サービス業"]
["E","製造業",19,"ゴム製品製造業",191,"タイヤ・チューブ製造業",1911,"自動車タイヤ・チューブ製造業",null,null,null,null,null,null,null,null,null,null,null,null,"730管理，補助的経済活動を行う事業所（73広告業）",730,"管理，補助的経済活動を行う事業所（73広告業）"]
["E","製造業",19,"ゴム製品製造業",191,"タイヤ・チューブ製造業",1919,"その他のタイヤ・チューブ製造業",null,null,null,null,null,null,null,null,null,null,null,null,"731広告業",731,"広告業"]
["E","製造業",19,"ゴム製品製造業",192,"ゴム製・プラスチック製履物・同附属品製造業",1921,"ゴム製履物・同附属品製造業",null,null,null,null,null,null,null,null,null,null,null,null,"740管理，補助的経済活動を行う事業所（74技術サービス業）",740,"管理，補助的経済活動を行う事業所（74技術サービス業）"]
["E","製造業",19,"ゴム製品製造業",192,"ゴム製・プラスチック製履物・同附属品製造業",1922,"プラスチック製履物・同附属品製造業",null,null,null,null,null,null,null,null,null,null,null,null,"741獣医業",741,"獣医業"]
["E","製造業",19,"ゴム製品製造業",193,"ゴムベルト・ゴムホース・工業用ゴム製品製造業",1931,"ゴムベルト製造業",null,null,null,null,null,null,null,null,null,null,null,null,"742土木建築サービス業",742,"土木建築サービス業"]
["E","製造業",19,"ゴム製品製造業",193,"ゴムベルト・ゴムホース・工業用ゴム製品製造業",1932,"ゴムホース製造業",null,null,null,null,null,null,null,null,null,null,null,null,"743機械設計業",743,"機械設計業"]
["E","製造業",19,"ゴム製品製造業",193,"ゴムベルト・ゴムホース・工業用ゴム製品製造業",1933,"工業用ゴム製品製造業",null,null,null,null,null,null,null,null,null,null,null,null,"744商品・非破壊検査業",744,"商品・非破壊検査業"]
["E","製造業",19,"ゴム製品製造業",199,"その他のゴム製品製造業",1991,"ゴム引布・同製品製造業",null,null,null,null,null,null,null,null,null,null,null,null,"745計量証明業",745,"計量証明業"]
["E","製造業",19,"ゴム製品製造業",199,"その他のゴム製品製造業",1992,"医療・衛生用ゴム製品製造業",null,null,null,null,null,null,null,null,null,null,null,null,"746写真業",746,"写真業"]
["E","製造業",19,"ゴム製品製造業",199,"その他のゴム製品製造業",1993,"ゴム練生地製造業",null,null,null,null,null,null,null,null,null,null,null,null,"749その他の技術サービス業",749,"その他の技術サービス業"]
["E","製造業",19,"ゴム製品製造業",199,"その他のゴム製品製造業",1994,"更生タイヤ製造業",null,null,null,null,null,null,null,null,null,null,null,null,"750管理，補助的経済活動を行う事業所（75宿泊業）",750,"管理，補助的経済活動を行う事業所（75宿泊業）"]
["E","製造業",19,"ゴム製品製造業",199,"その他のゴム製品製造業",1995,"再生ゴム製造業",null,null,null,null,null,null,null,null,null,null,null,null,"751旅館，ホテル",751,"旅館，ホテル"]
["E","製造業",19,"ゴム製品製造業",199,"その他のゴム製品製造業",1999,"他に分類されないゴム製品製造業",null,null,null,null,null,null,null,null,null,null,null,null,"752簡易宿所",752,"簡易宿所"]
["E","製造業",20,"なめし革・同製品・毛皮製造業",200,"管理，補助的経済活動を行う事業所（20なめし革・同製品・毛皮製造業）",2000,"主として管理事務を行う本社等",null,null,null,null,null,null,null,null,null,null,null,null,"753下宿業",753,"下宿業"]
["E","製造業",20,"なめし革・同製品・毛皮製造業",200,"管理，補助的経済活動を行う事業所（20なめし革・同製品・毛皮製造業）",2009,"その他の管理，補助的経済活動を行う事業所",null,null,null,null,null,null,null,null,null,null,null,null,"759その他の宿泊業",759,"その他の宿泊業"]
["E","製造業",20,"なめし革・同製品・毛皮製造業",201,"なめし革製造業",2011,"なめし革製造業",null,null,null,null,null,null,null,null,null,null,null,null,"760管理，補助的経済活動を行う事業所（76飲食店）",760,"管理，補助的経済活動を行う事業所（76飲食店）"]
["E","製造業",20,"なめし革・同製品・毛皮製造業",202,"工業用革製品製造業（手袋を除く）",2021,"工業用革製品製造業（手袋を除く）",null,null,null,null,null,null,null,null,null,null,null,null,"761食堂，レストラン（専門料理店を除く）",761,"食堂，レストラン（専門料理店を除く）"]
["E","製造業",20,"なめし革・同製品・毛皮製造業",203,"革製履物用材料・同附属品製造業",2031,"革製履物用材料・同附属品製造業",null,null,null,null,null,null,null,null,null,null,null,null,"762専門料理店",762,"専門料理店"]
["E","製造業",20,"なめし革・同製品・毛皮製造業",204,"革製履物製造業",2041,"革製履物製造業",null,null,null,null,null,null,null,null,null,null,null,null,"763そば・うどん店",763,"そば・うどん店"]
["E","製造業",20,"なめし革・同製品・毛皮製造業",205,"革製手袋製造業",2051,"革製手袋製造業",null,null,null,null,null,null,null,null,null,null,null,null,"764すし店",764,"すし店"]
["E","製造業",20,"なめし革・同製品・毛皮製造業",206,"かばん製造業",2061,"かばん製造業",null,null,null,null,null,null,null,null,null,null,null,null,"765酒場，ビヤホール",765,"酒場，ビヤホール"]
["E","製造業",20,"なめし革・同製品・毛皮製造業",207,"袋物製造業",2071,"袋物製造業（ハンドバッグを除く）",null,null,null,null,null,null,null,null,null,null,null,null,"766バー，キャバレー，ナイトクラブ",766,"バー，キャバレー，ナイトクラブ"]
["E","製造業",20,"なめし革・同製品・毛皮製造業",208,"毛皮製造業",2081,"毛皮製造業",null,null,null,null,null,null,null,null,null,null,null,null,"767喫茶店",767,"喫茶店"]
["E","製造業",20,"なめし革・同製品・毛皮製造業",209,"その他のなめし革製品製造業",2099,"その他のなめし革製品製造業",null,null,null,null,null,null,null,null,null,null,null,null,"769その他の飲食店",769,"その他の飲食店"]
["E","製造業",21,"窯業・土石製品製造業",210,"管理，補助的経済活動を行う事業所（21窯業・土石製品製造業）",2100,"主として管理事務を行う本社等",null,null,null,null,null,null,null,null,null,null,null,null,"770管理，補助的経済活動を行う事業所（77持ち帰り・配達飲食サービス業）",770,"管理，補助的経済活動を行う事業所（77持ち帰り・配達飲食サービス業）"]
["E","製造業",21,"窯業・土石製品製造業",210,"管理，補助的経済活動を行う事業所（21窯業・土石製品製造業）",2109,"その他の管理，補助的経済活動を行う事業所",null,null,null,null,null,null,null,null,null,null,null,null,"771持ち帰り飲食サービス業",771,"持ち帰り飲食サービス業"]
["E","製造業",21,"窯業・土石製品製造業",211,"ガラス・同製品製造業",2111,"板ガラス製造業",null,null,null,null,null,null,null,null,null,null,null,null,"772配達飲食サービス業",772,"配達飲食サービス業"]
["E","製造業",21,"窯業・土石製品製造業",211,"ガラス・同製品製造業",2112,"板ガラス加工業",null,null,null,null,null,null,null,null,null,null,null,null,"780管理，補助的経済活動を行う事業所（78洗濯・理容・美容・浴場業）",780,"管理，補助的経済活動を行う事業所（78洗濯・理容・美容・浴場業）"]
["E","製造業",21,"窯業・土石製品製造業",211,"ガラス・同製品製造業",2113,"ガラス製加工素材製造業",null,null,null,null,null,null,null,null,null,null,null,null,"781洗濯業",781,"洗濯業"]
["E","製造業",21,"窯業・土石製品製造業",211,"ガラス・同製品製造業",2114,"ガラス容器製造業",null,null,null,null,null,null,null,null,null,null,null,null,"782理容業",782,"理容業"]
["E","製造業",21,"窯業・土石製品製造業",211,"ガラス・同製品製造業",2115,"理化学用・医療用ガラス器具製造業",null,null,null,null,null,null,null,null,null,null,null,null,"783美容業",783,"美容業"]
["E","製造業",21,"窯業・土石製品製造業",211,"ガラス・同製品製造業",2116,"卓上用・ちゅう房用ガラス器具製造業",null,null,null,null,null,null,null,null,null,null,null,null,"784一般公衆浴場業",784,"一般公衆浴場業"]
["E","製造業",21,"窯業・土石製品製造業",211,"ガラス・同製品製造業",2117,"ガラス繊維・同製品製造業",null,null,null,null,null,null,null,null,null,null,null,null,"785その他の公衆浴場業",785,"その他の公衆浴場業"]
["E","製造業",21,"窯業・土石製品製造業",211,"ガラス・同製品製造業",2119,"その他のガラス・同製品製造業",null,null,null,null,null,null,null,null,null,null,null,null,"789その他の洗濯・理容・美容・浴場業",789,"その他の洗濯・理容・美容・浴場業"]
["E","製造業",21,"窯業・土石製品製造業",212,"セメント・同製品製造業",2121,"セメント製造業",null,null,null,null,null,null,null,null,null,null,null,null,"790管理，補助的経済活動を行う事業所（79その他の生活関連サービス業）",790,"管理，補助的経済活動を行う事業所（79その他の生活関連サービス業）"]
["E","製造業",21,"窯業・土石製品製造業",212,"セメント・同製品製造業",2122,"生コンクリート製造業",null,null,null,null,null,null,null,null,null,null,null,null,"791旅行業",791,"旅行業"]
["E","製造業",21,"窯業・土石製品製造業",212,"セメント・同製品製造業",2123,"コンクリート製品製造業",null,null,null,null,null,null,null,null,null,null,null,null,"792家事サービス業",792,"家事サービス業"]
["E","製造業",21,"窯業・土石製品製造業",212,"セメント・同製品製造業",2129,"その他のセメント製品製造業",null,null,null,null,null,null,null,null,null,null,null,null,"793衣服裁縫修理業",793,"衣服裁縫修理業"]
["E","製造業",21,"窯業・土石製品製造業",213,"建設用粘土製品製造業（陶磁器製を除く)",2131,"粘土かわら製造業",null,null,null,null,null,null,null,null,null,null,null,null,"794物品預り業",794,"物品預り業"]
["E","製造業",21,"窯業・土石製品製造業",213,"建設用粘土製品製造業（陶磁器製を除く)",2132,"普通れんが製造業",null,null,null,null,null,null,null,null,null,null,null,null,"795火葬・墓地管理業",795,"火葬・墓地管理業"]
["E","製造業",21,"窯業・土石製品製造業",213,"建設用粘土製品製造業（陶磁器製を除く)",2139,"その他の建設用粘土製品製造業",null,null,null,null,null,null,null,null,null,null,null,null,"796冠婚葬祭業",796,"冠婚葬祭業"]
["E","製造業",21,"窯業・土石製品製造業",214,"陶磁器・同関連製品製造業",2141,"衛生陶器製造業",null,null,null,null,null,null,null,null,null,null,null,null,"799他に分類されない生活関連サービス業",799,"他に分類されない生活関連サービス業"]
["E","製造業",21,"窯業・土石製品製造業",214,"陶磁器・同関連製品製造業",2142,"食卓用・ちゅう房用陶磁器製造業",null,null,null,null,null,null,null,null,null,null,null,null,"800管理，補助的経済活動を行う事業所（80娯楽業）",800,"管理，補助的経済活動を行う事業所（80娯楽業）"]
["E","製造業",21,"窯業・土石製品製造業",214,"陶磁器・同関連製品製造業",2143,"陶磁器製置物製造業",null,null,null,null,null,null,null,null,null,null,null,null,"801映画館",801,"映画館"]
["E","製造業",21,"窯業・土石製品製造業",214,"陶磁器・同関連製品製造業",2144,"電気用陶磁器製造業",null,null,null,null,null,null,null,null,null,null,null,null,"802興行場（別掲を除く），興行団",802,"興行場（別掲を除く），興行団"]
["E","製造業",21,"窯業・土石製品製造業",214,"陶磁器・同関連製品製造業",2145,"理化学用・工業用陶磁器製造業",null,null,null,null,null,null,null,null,null,null,null,null,"803競輪・競馬等の競走場，競技団",803,"競輪・競馬等の競走場，競技団"]
["E","製造業",21,"窯業・土石製品製造業",214,"陶磁器・同関連製品製造業",2146,"陶磁器製タイル製造業",null,null,null,null,null,null,null,null,null,null,null,null,"804スポーツ施設提供業",804,"スポーツ施設提供業"]
["E","製造業",21,"窯業・土石製品製造業",214,"陶磁器・同関連製品製造業",2147,"陶磁器絵付業",null,null,null,null,null,null,null,null,null,null,null,null,"805公園，遊園地",805,"公園，遊園地"]
["E","製造業",21,"窯業・土石製品製造業",214,"陶磁器・同関連製品製造業",2148,"陶磁器用はい（坏）土製造業",null,null,null,null,null,null,null,null,null,null,null,null,"806遊戯場",806,"遊戯場"]
["E","製造業",21,"窯業・土石製品製造業",214,"陶磁器・同関連製品製造業",2149,"その他の陶磁器・同関連製品製造業",null,null,null,null,null,null,null,null,null,null,null,null,{"$f":"V451&W451","v":"809その他の娯楽業"},809,"その他の娯楽業"]
["E","製造業",21,"窯業・土石製品製造業",215,"耐火物製造業",2151,"耐火れんが製造業",null,null,null,null,null,null,null,null,null,null,null,null,"810管理，補助的経済活動を行う事業所（81学校教育）",810,"管理，補助的経済活動を行う事業所（81学校教育）"]
["E","製造業",21,"窯業・土石製品製造業",215,"耐火物製造業",2152,"不定形耐火物製造業",null,null,null,null,null,null,null,null,null,null,null,null,"811幼稚園",811,"幼稚園"]
["E","製造業",21,"窯業・土石製品製造業",215,"耐火物製造業",2159,"その他の耐火物製造業",null,null,null,null,null,null,null,null,null,null,null,null,"812小学校",812,"小学校"]
["E","製造業",21,"窯業・土石製品製造業",216,"炭素・黒鉛製品製造業",2161,"炭素質電極製造業",null,null,null,null,null,null,null,null,null,null,null,null,"813中学校",813,"中学校"]
["E","製造業",21,"窯業・土石製品製造業",216,"炭素・黒鉛製品製造業",2169,"その他の炭素・黒鉛製品製造業",null,null,null,null,null,null,null,null,null,null,null,null,"814高等学校，中等教育学校",814,"高等学校，中等教育学校"]
["E","製造業",21,"窯業・土石製品製造業",217,"研磨材・同製品製造業",2171,"研磨材製造業",null,null,null,null,null,null,null,null,null,null,null,null,"815特別支援学校",815,"特別支援学校"]
["E","製造業",21,"窯業・土石製品製造業",217,"研磨材・同製品製造業",2172,"研削と石製造業",null,null,null,null,null,null,null,null,null,null,null,null,"816高等教育機関",816,"高等教育機関"]
["E","製造業",21,"窯業・土石製品製造業",217,"研磨材・同製品製造業",2173,"研磨布紙製造業",null,null,null,null,null,null,null,null,null,null,null,null,"817専修学校，各種学校",817,"専修学校，各種学校"]
["E","製造業",21,"窯業・土石製品製造業",217,"研磨材・同製品製造業",2179,"その他の研磨材・同製品製造業",null,null,null,null,null,null,null,null,null,null,null,null,"818学校教育支援機関",818,"学校教育支援機関"]
["E","製造業",21,"窯業・土石製品製造業",218,"骨材・石工品等製造業",2181,"砕石製造業",null,null,null,null,null,null,null,null,null,null,null,null,"820管理，補助的経済活動を行う事業所（82その他の教育，学習支援業）",820,"管理，補助的経済活動を行う事業所（82その他の教育，学習支援業）"]
["E","製造業",21,"窯業・土石製品製造業",218,"骨材・石工品等製造業",2182,"再生骨材製造業",null,null,null,null,null,null,null,null,null,null,null,null,"821社会教育",821,"社会教育"]
["E","製造業",21,"窯業・土石製品製造業",218,"骨材・石工品等製造業",2183,"人工骨材製造業",null,null,null,null,null,null,null,null,null,null,null,null,"822職業・教育支援施設",822,"職業・教育支援施設"]
["E","製造業",21,"窯業・土石製品製造業",218,"骨材・石工品等製造業",2184,"石工品製造業",null,null,null,null,null,null,null,null,null,null,null,null,"823学習塾",823,"学習塾"]
["E","製造業",21,"窯業・土石製品製造業",218,"骨材・石工品等製造業",2185,"けいそう土・同製品製造業",null,null,null,null,null,null,null,null,null,null,null,null,"824教養・技能教授業",824,"教養・技能教授業"]
["E","製造業",21,"窯業・土石製品製造業",218,"骨材・石工品等製造業",2186,"鉱物・土石粉砕等処理業",null,null,null,null,null,null,null,null,null,null,null,null,"829他に分類されない教育，学習支援業",829,"他に分類されない教育，学習支援業"]
["E","製造業",21,"窯業・土石製品製造業",219,"その他の窯業・土石製品製造業",2191,"ロックウール・同製品製造業",null,null,null,null,null,null,null,null,null,null,null,null,"830管理，補助的経済活動を行う事業所（83医療業）",830,"管理，補助的経済活動を行う事業所（83医療業）"]
["E","製造業",21,"窯業・土石製品製造業",219,"その他の窯業・土石製品製造業",2192,"石こう（膏）製品製造業",null,null,null,null,null,null,null,null,null,null,null,null,"831病院",831,"病院"]
["E","製造業",21,"窯業・土石製品製造業",219,"その他の窯業・土石製品製造業",2193,"石灰製造業",null,null,null,null,null,null,null,null,null,null,null,null,"832一般診療所",832,"一般診療所"]
["E","製造業",21,"窯業・土石製品製造業",219,"その他の窯業・土石製品製造業",2194,"鋳型製造業（中子を含む）",null,null,null,null,null,null,null,null,null,null,null,null,"833歯科診療所",833,"歯科診療所"]
["E","製造業",21,"窯業・土石製品製造業",219,"その他の窯業・土石製品製造業",2199,"他に分類されない窯業・土石製品製造業",null,null,null,null,null,null,null,null,null,null,null,null,"834助産・看護業",834,"助産・看護業"]
["E","製造業",22,"鉄鋼業",220,"管理，補助的経済活動を行う事業所（22鉄鋼業）",2200,"主として管理事務を行う本社等",null,null,null,null,null,null,null,null,null,null,null,null,"835療術業",835,"療術業"]
["E","製造業",22,"鉄鋼業",220,"管理，補助的経済活動を行う事業所（22鉄鋼業）",2209,"その他の管理，補助的経済活動を行う事業所",null,null,null,null,null,null,null,null,null,null,null,null,"836医療に附帯するサービス業",836,"医療に附帯するサービス業"]
["E","製造業",22,"鉄鋼業",221,"製鉄業",2211,"高炉による製鉄業",null,null,null,null,null,null,null,null,null,null,null,null,"840管理，補助的経済活動を行う事業所（84保健衛生）",840,"管理，補助的経済活動を行う事業所（84保健衛生）"]
["E","製造業",22,"鉄鋼業",221,"製鉄業",2212,"高炉によらない製鉄業",null,null,null,null,null,null,null,null,null,null,null,null,"841保健所",841,"保健所"]
["E","製造業",22,"鉄鋼業",221,"製鉄業",2213,"フェロアロイ製造業",null,null,null,null,null,null,null,null,null,null,null,null,"842健康相談施設",842,"健康相談施設"]
["E","製造業",22,"鉄鋼業",222,"製鋼・製鋼圧延業",2221,"製鋼・製鋼圧延業",null,null,null,null,null,null,null,null,null,null,null,null,"849その他の保健衛生",849,"その他の保健衛生"]
["E","製造業",22,"鉄鋼業",223,"製鋼を行わない鋼材製造業（表面処理鋼材を除く）",2231,"熱間圧延業（鋼管，伸鉄を除く）",null,null,null,null,null,null,null,null,null,null,null,null,"850管理，補助的経済活動を行う事業所（85社会保険・社会福祉・介護事業）",850,"管理，補助的経済活動を行う事業所（85社会保険・社会福祉・介護事業）"]
["E","製造業",22,"鉄鋼業",223,"製鋼を行わない鋼材製造業（表面処理鋼材を除く）",2232,"冷間圧延業（鋼管，伸鉄を除く）",null,null,null,null,null,null,null,null,null,null,null,null,"851社会保険事業団体",851,"社会保険事業団体"]
["E","製造業",22,"鉄鋼業",223,"製鋼を行わない鋼材製造業（表面処理鋼材を除く）",2233,"冷間ロール成型形鋼製造業",null,null,null,null,null,null,null,null,null,null,null,null,"852福祉事務所",852,"福祉事務所"]
["E","製造業",22,"鉄鋼業",223,"製鋼を行わない鋼材製造業（表面処理鋼材を除く）",2234,"鋼管製造業",null,null,null,null,null,null,null,null,null,null,null,null,"853児童福祉事業",853,"児童福祉事業"]
["E","製造業",22,"鉄鋼業",223,"製鋼を行わない鋼材製造業（表面処理鋼材を除く）",2235,"伸鉄業",null,null,null,null,null,null,null,null,null,null,null,null,"854老人福祉・介護事業",854,"老人福祉・介護事業"]
["E","製造業",22,"鉄鋼業",223,"製鋼を行わない鋼材製造業（表面処理鋼材を除く）",2236,"磨棒鋼製造業",null,null,null,null,null,null,null,null,null,null,null,null,"855障害者福祉事業",855,"障害者福祉事業"]
["E","製造業",22,"鉄鋼業",223,"製鋼を行わない鋼材製造業（表面処理鋼材を除く）",2237,"引抜鋼管製造業",null,null,null,null,null,null,null,null,null,null,null,null,"859その他の社会保険・社会福祉・介護事業",859,"その他の社会保険・社会福祉・介護事業"]
["E","製造業",22,"鉄鋼業",223,"製鋼を行わない鋼材製造業（表面処理鋼材を除く）",2238,"伸線業",null,null,null,null,null,null,null,null,null,null,null,null,"860管理，補助的経済活動を行う事業所（86郵便局）",860,"管理，補助的経済活動を行う事業所（86郵便局）"]
["E","製造業",22,"鉄鋼業",223,"製鋼を行わない鋼材製造業（表面処理鋼材を除く）",2239,"その他の製鋼を行わない鋼材製造業（表面処理鋼材を除く)",null,null,null,null,null,null,null,null,null,null,null,null,"861郵便局",861,"郵便局"]
["E","製造業",22,"鉄鋼業",224,"表面処理鋼材製造業",2241,"亜鉛鉄板製造業",null,null,null,null,null,null,null,null,null,null,null,null,"862郵便局受託業",862,"郵便局受託業"]
["E","製造業",22,"鉄鋼業",224,"表面処理鋼材製造業",2249,"その他の表面処理鋼材製造業",null,null,null,null,null,null,null,null,null,null,null,null,"870管理，補助的経済活動を行う事業所（87協同組合）",870,"管理，補助的経済活動を行う事業所（87協同組合）"]
["E","製造業",22,"鉄鋼業",225,"鉄素形材製造業",2251,"銑鉄鋳物製造業（鋳鉄管，可鍛鋳鉄を除く）",null,null,null,null,null,null,null,null,null,null,null,null,"871農林水産業協同組合（他に分類されないもの）",871,"農林水産業協同組合（他に分類されないもの）"]
["E","製造業",22,"鉄鋼業",225,"鉄素形材製造業",2252,"可鍛鋳鉄製造業",null,null,null,null,null,null,null,null,null,null,null,null,"872事業協同組合（他に分類されないもの）",872,"事業協同組合（他に分類されないもの）"]
["E","製造業",22,"鉄鋼業",225,"鉄素形材製造業",2253,"鋳鋼製造業",null,null,null,null,null,null,null,null,null,null,null,null,"880管理，補助的経済活動を行う事業所（88廃棄物処理業）",880,"管理，補助的経済活動を行う事業所（88廃棄物処理業）"]
["E","製造業",22,"鉄鋼業",225,"鉄素形材製造業",2254,"鍛工品製造業",null,null,null,null,null,null,null,null,null,null,null,null,"881一般廃棄物処理業",881,"一般廃棄物処理業"]
["E","製造業",22,"鉄鋼業",225,"鉄素形材製造業",2255,"鍛鋼製造業",null,null,null,null,null,null,null,null,null,null,null,null,"882産業廃棄物処理業",882,"産業廃棄物処理業"]
["E","製造業",22,"鉄鋼業",229,"その他の鉄鋼業",2291,"鉄鋼シャースリット業",null,null,null,null,null,null,null,null,null,null,null,null,"889その他の廃棄物処理業",889,"その他の廃棄物処理業"]
["E","製造業",22,"鉄鋼業",229,"その他の鉄鋼業",2292,"鉄スクラップ加工処理業",null,null,null,null,null,null,null,null,null,null,null,null,"890管理，補助的経済活動を行う事業所（89自動車整備業）",890,"管理，補助的経済活動を行う事業所（89自動車整備業）"]
["E","製造業",22,"鉄鋼業",229,"その他の鉄鋼業",2293,"鋳鉄管製造業",null,null,null,null,null,null,null,null,null,null,null,null,"891自動車整備業",891,"自動車整備業"]
["E","製造業",22,"鉄鋼業",229,"その他の鉄鋼業",2299,"他に分類されない鉄鋼業",null,null,null,null,null,null,null,null,null,null,null,null,"900管理，補助的経済活動を行う事業所（90機械等修理業）",900,"管理，補助的経済活動を行う事業所（90機械等修理業）"]
["E","製造業",23,"非鉄金属製造業",230,"管理，補助的経済活動を行う事業所（23非鉄金属製造業）",2300,"主として管理事務を行う本社等",null,null,null,null,null,null,null,null,null,null,null,null,"901機械修理業（電気機械器具を除く）",901,"機械修理業（電気機械器具を除く）"]
["E","製造業",23,"非鉄金属製造業",230,"管理，補助的経済活動を行う事業所（23非鉄金属製造業）",2309,"その他の管理，補助的経済活動を行う事業所",null,null,null,null,null,null,null,null,null,null,null,null,"902電気機械器具修理業",902,"電気機械器具修理業"]
["E","製造業",23,"非鉄金属製造業",231,"非鉄金属第１次製錬・精製業",2311,"銅第１次製錬・精製業",null,null,null,null,null,null,null,null,null,null,null,null,"903表具業",903,"表具業"]
["E","製造業",23,"非鉄金属製造業",231,"非鉄金属第１次製錬・精製業",2312,"亜鉛第１次製錬・精製業",null,null,null,null,null,null,null,null,null,null,null,null,"909その他の修理業",909,"その他の修理業"]
["E","製造業",23,"非鉄金属製造業",231,"非鉄金属第１次製錬・精製業",2319,"その他の非鉄金属第１次製錬・精製業",null,null,null,null,null,null,null,null,null,null,null,null,"910管理，補助的経済活動を行う事業所（91職業紹介・労働者派遣業）",910,"管理，補助的経済活動を行う事業所（91職業紹介・労働者派遣業）"]
["E","製造業",23,"非鉄金属製造業",232,"非鉄金属第２次製錬・精製業（非鉄金属合金製造業を含む）",2321,"鉛第２次製錬・精製業（鉛合金製造業を含む)",null,null,null,null,null,null,null,null,null,null,null,null,"911職業紹介業",911,"職業紹介業"]
["E","製造業",23,"非鉄金属製造業",232,"非鉄金属第２次製錬・精製業（非鉄金属合金製造業を含む）",2322,"アルミニウム第２次製錬・精製業（アルミニウム合金製造業を含む）",null,null,null,null,null,null,null,null,null,null,null,null,"912労働者派遣業",912,"労働者派遣業"]
["E","製造業",23,"非鉄金属製造業",232,"非鉄金属第２次製錬・精製業（非鉄金属合金製造業を含む）",2329,"その他の非鉄金属第２次製錬・精製業（非鉄金属合金製造業を含む）",null,null,null,null,null,null,null,null,null,null,null,null,"920管理，補助的経済活動を行う事業所（92その他の事業サービス業）",920,"管理，補助的経済活動を行う事業所（92その他の事業サービス業）"]
["E","製造業",23,"非鉄金属製造業",233,"非鉄金属・同合金圧延業（抽伸，押出しを含む）",2331,"伸銅品製造業",null,null,null,null,null,null,null,null,null,null,null,null,"921速記・ワープロ入力・複写業",921,"速記・ワープロ入力・複写業"]
["E","製造業",23,"非鉄金属製造業",233,"非鉄金属・同合金圧延業（抽伸，押出しを含む）",2332,"アルミニウム・同合金圧延業（抽伸，押出しを含む）",null,null,null,null,null,null,null,null,null,null,null,null,"922建物サービス業",922,"建物サービス業"]
["E","製造業",23,"非鉄金属製造業",233,"非鉄金属・同合金圧延業（抽伸，押出しを含む）",2339,"その他の非鉄金属・同合金圧延業（抽伸，押出しを含む）",null,null,null,null,null,null,null,null,null,null,null,null,"923警備業",923,"警備業"]
["E","製造業",23,"非鉄金属製造業",234,"電線・ケーブル製造業",2341,"電線・ケーブル製造業（光ファイバケーブルを除く）",null,null,null,null,null,null,null,null,null,null,null,null,"929他に分類されない事業サービス業",929,"他に分類されない事業サービス業"]
["E","製造業",23,"非鉄金属製造業",234,"電線・ケーブル製造業",2342,"光ファイバケーブル製造業（通信複合ケーブルを含む）",null,null,null,null,null,null,null,null,null,null,null,null,"931経済団体",931,"経済団体"]
["E","製造業",23,"非鉄金属製造業",235,"非鉄金属素形材製造業",2351,"銅・同合金鋳物製造業（ダイカストを除く）",null,null,null,null,null,null,null,null,null,null,null,null,"932労働団体",932,"労働団体"]
["E","製造業",23,"非鉄金属製造業",235,"非鉄金属素形材製造業",2352,"非鉄金属鋳物製造業（銅・同合金鋳物及びダイカストを除く）",null,null,null,null,null,null,null,null,null,null,null,null,"933学術・文化団体",933,"学術・文化団体"]
["E","製造業",23,"非鉄金属製造業",235,"非鉄金属素形材製造業",2353,"アルミニウム・同合金ダイカスト製造業",null,null,null,null,null,null,null,null,null,null,null,null,"934政治団体",934,"政治団体"]
["E","製造業",23,"非鉄金属製造業",235,"非鉄金属素形材製造業",2354,"非鉄金属ダイカスト製造業（アルミニウム・同合金ダイカストを除く）",null,null,null,null,null,null,null,null,null,null,null,null,"939他に分類されない非営利的団体",939,"他に分類されない非営利的団体"]
["E","製造業",23,"非鉄金属製造業",235,"非鉄金属素形材製造業",2355,"非鉄金属鍛造品製造業",null,null,null,null,null,null,null,null,null,null,null,null,{"$f":"V515&W515","v":"941神道系宗教"},941,"神道系宗教"]
["E","製造業",23,"非鉄金属製造業",239,"その他の非鉄金属製造業",2391,"核燃料製造業",null,null,null,null,null,null,null,null,null,null,null,null,"942仏教系宗教",942,"仏教系宗教"]
["E","製造業",23,"非鉄金属製造業",239,"その他の非鉄金属製造業",2399,"他に分類されない非鉄金属製造業",null,null,null,null,null,null,null,null,null,null,null,null,"943キリスト教系宗教",943,"キリスト教系宗教"]
["E","製造業",24,"金属製品製造業",240,"管理，補助的経済活動を行う事業所（24金属製品製造業）",2400,"主として管理事務を行う本社等",null,null,null,null,null,null,null,null,null,null,null,null,"949その他の宗教",949,"その他の宗教"]
["E","製造業",24,"金属製品製造業",240,"管理，補助的経済活動を行う事業所（24金属製品製造業）",2409,"その他の管理，補助的経済活動を行う事業所",null,null,null,null,null,null,null,null,null,null,null,null,"950管理，補助的経済活動を行う事業所（95その他のサービス業）",950,"管理，補助的経済活動を行う事業所（95その他のサービス業）"]
["E","製造業",24,"金属製品製造業",241,"ブリキ缶・その他のめっき板等製品製造業",2411,"ブリキ缶・その他のめっき板等製品製造業",null,null,null,null,null,null,null,null,null,null,null,null,"951集会場",951,"集会場"]
["E","製造業",24,"金属製品製造業",242,"洋食器・刃物・手道具・金物類製造業",2421,"洋食器製造業",null,null,null,null,null,null,null,null,null,null,null,null,"952と畜場",952,"と畜場"]
["E","製造業",24,"金属製品製造業",242,"洋食器・刃物・手道具・金物類製造業",2422,"機械刃物製造業",null,null,null,null,null,null,null,null,null,null,null,null,"959他に分類されないサービス業",959,"他に分類されないサービス業"]
["E","製造業",24,"金属製品製造業",242,"洋食器・刃物・手道具・金物類製造業",2423,"利器工匠具・手道具製造業（やすり，のこぎり，食卓用刃物を除く）",null,null,null,null,null,null,null,null,null,null,null,null,"961外国公館",961,"外国公館"]
["E","製造業",24,"金属製品製造業",242,"洋食器・刃物・手道具・金物類製造業",2424,"作業工具製造業",null,null,null,null,null,null,null,null,null,null,null,null,"969その他の外国公務",969,"その他の外国公務"]
["E","製造業",24,"金属製品製造業",242,"洋食器・刃物・手道具・金物類製造業",2425,"手引のこぎり・のこ刃製造業",null,null,null,null,null,null,null,null,null,null,null,null,"971立法機関",971,"立法機関"]
["E","製造業",24,"金属製品製造業",242,"洋食器・刃物・手道具・金物類製造業",2426,"農業用器具製造業（農業用機械を除く）",null,null,null,null,null,null,null,null,null,null,null,null,"972司法機関",972,"司法機関"]
["E","製造業",24,"金属製品製造業",242,"洋食器・刃物・手道具・金物類製造業",2429,"その他の金物類製造業",null,null,null,null,null,null,null,null,null,null,null,null,"973行政機関",973,"行政機関"]
["E","製造業",24,"金属製品製造業",243,"暖房装置・配管工事用附属品製造業",2431,"配管工事用附属品製造業（バルブ，コックを除く）",null,null,null,null,null,null,null,null,null,null,null,null,"981都道府県機関",981,"都道府県機関"]
["E","製造業",24,"金属製品製造業",243,"暖房装置・配管工事用附属品製造業",2432,"ガス機器・石油機器製造業",null,null,null,null,null,null,null,null,null,null,null,null,"982市町村機関",982,"市町村機関"]
["E","製造業",24,"金属製品製造業",243,"暖房装置・配管工事用附属品製造業",2433,"温風・温水暖房装置製造業",null,null,null,null,null,null,null,null,null,null,null,null,"999分類不能の産業",999,"分類不能の産業"]
["E","製造業",24,"金属製品製造業",243,"暖房装置・配管工事用附属品製造業",2439,"その他の暖房・調理装置製造業（電気機械器具，ガス機器，石油機器を除く","）"]
["E","製造業",24,"金属製品製造業",244,"建設用・建築用金属製品製造業（製缶板金業を含む)",2441,"鉄骨製造業"]
["E","製造業",24,"金属製品製造業",244,"建設用・建築用金属製品製造業（製缶板金業を含む)",2442,"建設用金属製品製造業（鉄骨を除く）"]
["E","製造業",24,"金属製品製造業",244,"建設用・建築用金属製品製造業（製缶板金業を含む)",2443,"金属製サッシ・ドア製造業"]
["E","製造業",24,"金属製品製造業",244,"建設用・建築用金属製品製造業（製缶板金業を含む)",2444,"鉄骨系プレハブ住宅製造業"]
["E","製造業",24,"金属製品製造業",244,"建設用・建築用金属製品製造業（製缶板金業を含む)",2445,"建築用金属製品製造業（サッシ，ドア，建築用金物を除く）"]
["E","製造業",24,"金属製品製造業",244,"建設用・建築用金属製品製造業（製缶板金業を含む)",2446,"製缶板金業"]
["E","製造業",24,"金属製品製造業",245,"金属素形材製品製造業",2451,"アルミニウム・同合金プレス製品製造業"]
["E","製造業",24,"金属製品製造業",245,"金属素形材製品製造業",2452,"金属プレス製品製造業（アルミニウム・同合金を除く）"]
["E","製造業",24,"金属製品製造業",245,"金属素形材製品製造業",2453,"粉末や金製品製造業"]
["E","製造業",24,"金属製品製造業",246,"金属被覆・彫刻業，熱処理業（ほうろう鉄器を除く）",2461,"金属製品塗装業"]
["E","製造業",24,"金属製品製造業",246,"金属被覆・彫刻業，熱処理業（ほうろう鉄器を除く）",2462,"溶融めっき業（表面処理鋼材製造業を除く）"]
["E","製造業",24,"金属製品製造業",246,"金属被覆・彫刻業，熱処理業（ほうろう鉄器を除く）",2463,"金属彫刻業"]
["E","製造業",24,"金属製品製造業",246,"金属被覆・彫刻業，熱処理業（ほうろう鉄器を除く）",2464,"電気めっき業（表面処理鋼材製造業を除く）"]
["E","製造業",24,"金属製品製造業",246,"金属被覆・彫刻業，熱処理業（ほうろう鉄器を除く）",2465,"金属熱処理業"]
["E","製造業",24,"金属製品製造業",246,"金属被覆・彫刻業，熱処理業（ほうろう鉄器を除く）",2469,"その他の金属表面処理業"]
["E","製造業",24,"金属製品製造業",247,"金属線製品製造業（ねじ類を除く)",2471,"くぎ製造業"]
["E","製造業",24,"金属製品製造業",247,"金属線製品製造業（ねじ類を除く)",2479,"その他の金属線製品製造業"]
["E","製造業",24,"金属製品製造業",248,"ボルト・ナット・リベット・小ねじ・木ねじ等製造業",2481,"ボルト・ナット・リベット・小ねじ・木ねじ等製造業"]
["E","製造業",24,"金属製品製造業",249,"その他の金属製品製造業",2491,"金庫製造業"]
["E","製造業",24,"金属製品製造業",249,"その他の金属製品製造業",2492,"金属製スプリング製造業"]
["E","製造業",24,"金属製品製造業",249,"その他の金属製品製造業",2499,"他に分類されない金属製品製造業"]
["E","製造業",25,"はん用機械器具製造業",250,"管理，補助的経済活動を行う事業所（25はん用機械器具製造業）",2500,"主として管理事務を行う本社等"]
["E","製造業",25,"はん用機械器具製造業",250,"管理，補助的経済活動を行う事業所（25はん用機械器具製造業）",2509,"その他の管理，補助的経済活動を行う事業所"]
["E","製造業",25,"はん用機械器具製造業",251,"ボイラ・原動機製造業",2511,"ボイラ製造業"]
["E","製造業",25,"はん用機械器具製造業",251,"ボイラ・原動機製造業",2512,"蒸気機関・タービン・水力タービン製造業（舶用を除く）"]
["E","製造業",25,"はん用機械器具製造業",251,"ボイラ・原動機製造業",2513,"はん用内燃機関製造業"]
["E","製造業",25,"はん用機械器具製造業",251,"ボイラ・原動機製造業",2519,"その他の原動機製造業"]
["E","製造業",25,"はん用機械器具製造業",252,"ポンプ・圧縮機器製造業",2521,"ポンプ・同装置製造業"]
["E","製造業",25,"はん用機械器具製造業",252,"ポンプ・圧縮機器製造業",2522,"空気圧縮機・ガス圧縮機・送風機製造業"]
["E","製造業",25,"はん用機械器具製造業",252,"ポンプ・圧縮機器製造業",2523,"油圧・空圧機器製造業"]
["E","製造業",25,"はん用機械器具製造業",253,"一般産業用機械・装置製造業",2531,"動力伝導装置製造業（玉軸受，ころ軸受を除く）"]
["E","製造業",25,"はん用機械器具製造業",253,"一般産業用機械・装置製造業",2532,"エレベータ・エスカレータ製造業"]
["E","製造業",25,"はん用機械器具製造業",253,"一般産業用機械・装置製造業",2533,"物流運搬設備製造業"]
["E","製造業",25,"はん用機械器具製造業",253,"一般産業用機械・装置製造業",2534,"工業窯炉製造業"]
["E","製造業",25,"はん用機械器具製造業",253,"一般産業用機械・装置製造業",2535,"冷凍機・温湿調整装置製造業"]
["E","製造業",25,"はん用機械器具製造業",259,"その他のはん用機械・同部分品製造業",2591,"消火器具・消火装置製造業"]
["E","製造業",25,"はん用機械器具製造業",259,"その他のはん用機械・同部分品製造業",2592,"弁・同附属品製造業"]
["E","製造業",25,"はん用機械器具製造業",259,"その他のはん用機械・同部分品製造業",2593,"パイプ加工・パイプ附属品加工業"]
["E","製造業",25,"はん用機械器具製造業",259,"その他のはん用機械・同部分品製造業",2594,"玉軸受・ころ軸受製造業"]
["E","製造業",25,"はん用機械器具製造業",259,"その他のはん用機械・同部分品製造業",2595,"ピストンリング製造業"]
["E","製造業",25,"はん用機械器具製造業",259,"その他のはん用機械・同部分品製造業",2596,"他に分類されないはん用機械・装置製造業"]
["E","製造業",25,"はん用機械器具製造業",259,"その他のはん用機械・同部分品製造業",2599,"各種機械・同部分品製造修理業（注文製造・修理）"]
["E","製造業",26,"生産用機械器具製造業",260,"管理，補助的経済活動を行う事業所（26生産用機械器具製造業）",2600,"主として管理事務を行う本社等"]
["E","製造業",26,"生産用機械器具製造業",260,"管理，補助的経済活動を行う事業所（26生産用機械器具製造業）",2609,"その他の管理，補助的経済活動を行う事業所"]
["E","製造業",26,"生産用機械器具製造業",261,"農業用機械製造業（農業用器具を除く）",2611,"農業用機械製造業（農業用器具を除く）"]
["E","製造業",26,"生産用機械器具製造業",262,"建設機械・鉱山機械製造業",2621,"建設機械・鉱山機械製造業"]
["E","製造業",26,"生産用機械器具製造業",263,"繊維機械製造業",2631,"化学繊維機械・紡績機械製造業"]
["E","製造業",26,"生産用機械器具製造業",263,"繊維機械製造業",2632,"製織機械・編組機械製造業"]
["E","製造業",26,"生産用機械器具製造業",263,"繊維機械製造業",2633,"染色整理仕上機械製造業"]
["E","製造業",26,"生産用機械器具製造業",263,"繊維機械製造業",2634,"繊維機械部分品・取付具・附属品製造業"]
["E","製造業",26,"生産用機械器具製造業",263,"繊維機械製造業",2635,"縫製機械製造業"]
["E","製造業",26,"生産用機械器具製造業",264,"生活関連産業用機械製造業",2641,"食品機械・同装置製造業"]
["E","製造業",26,"生産用機械器具製造業",264,"生活関連産業用機械製造業",2642,"木材加工機械製造業"]
["E","製造業",26,"生産用機械器具製造業",264,"生活関連産業用機械製造業",2643,"パルプ装置・製紙機械製造業"]
["E","製造業",26,"生産用機械器具製造業",264,"生活関連産業用機械製造業",2644,"印刷・製本・紙工機械製造業"]
["E","製造業",26,"生産用機械器具製造業",264,"生活関連産業用機械製造業",2645,"包装・荷造機械製造業"]
["E","製造業",26,"生産用機械器具製造業",265,"基礎素材産業用機械製造業",2651,"鋳造装置製造業"]
["E","製造業",26,"生産用機械器具製造業",265,"基礎素材産業用機械製造業",2652,"化学機械・同装置製造業"]
["E","製造業",26,"生産用機械器具製造業",265,"基礎素材産業用機械製造業",2653,"プラスチック加工機械・同附属装置製造業"]
["E","製造業",26,"生産用機械器具製造業",266,"金属加工機械製造業",2661,"金属工作機械製造業"]
["E","製造業",26,"生産用機械器具製造業",266,"金属加工機械製造業",2662,"金属加工機械製造業（金属工作機械を除く）"]
["E","製造業",26,"生産用機械器具製造業",266,"金属加工機械製造業",2663,"金属工作機械用・金属加工機械用部分品・附属品製造業（機械工具，金型を","除く）"]
["E","製造業",26,"生産用機械器具製造業",266,"金属加工機械製造業",2664,"機械工具製造業（粉末や金業を除く）"]
["E","製造業",26,"生産用機械器具製造業",267,"半導体・フラットパネルディスプレイ製造装置製造業",2671,"半導体製造装置製造業"]
["E","製造業",26,"生産用機械器具製造業",267,"半導体・フラットパネルディスプレイ製造装置製造業",2672,"フラットパネルディスプレイ製造装置製造業"]
["E","製造業",26,"生産用機械器具製造業",269,"その他の生産用機械・同部分品製造業",2691,"金属用金型・同部分品・附属品製造業"]
["E","製造業",26,"生産用機械器具製造業",269,"その他の生産用機械・同部分品製造業",2692,"非金属用金型・同部分品・附属品製造業"]
["E","製造業",26,"生産用機械器具製造業",269,"その他の生産用機械・同部分品製造業",2693,"真空装置・真空機器製造業"]
["E","製造業",26,"生産用機械器具製造業",269,"その他の生産用機械・同部分品製造業",2694,"ロボット製造業"]
["E","製造業",26,"生産用機械器具製造業",269,"その他の生産用機械・同部分品製造業",2699,"他に分類されない生産用機械・同部分品製造業"]
["E","製造業",27,"業務用機械器具製造業",270,"管理，補助的経済活動を行う事業所（27業務用機械器具製造業）",2700,"主として管理事務を行う本社等"]
["E","製造業",27,"業務用機械器具製造業",270,"管理，補助的経済活動を行う事業所（27業務用機械器具製造業）",2709,"その他の管理，補助的経済活動を行う事業所"]
["E","製造業",27,"業務用機械器具製造業",271,"事務用機械器具製造業",2711,"複写機製造業"]
["E","製造業",27,"業務用機械器具製造業",271,"事務用機械器具製造業",2719,"その他の事務用機械器具製造業"]
["E","製造業",27,"業務用機械器具製造業",272,"サービス用・娯楽用機械器具製造業",2721,"サービス用機械器具製造業"]
["E","製造業",27,"業務用機械器具製造業",272,"サービス用・娯楽用機械器具製造業",2722,"娯楽用機械製造業"]
["E","製造業",27,"業務用機械器具製造業",272,"サービス用・娯楽用機械器具製造業",2723,"自動販売機製造業"]
["E","製造業",27,"業務用機械器具製造業",272,"サービス用・娯楽用機械器具製造業",2729,"その他のサービス用・娯楽用機械器具製造業"]
["E","製造業",27,"業務用機械器具製造業",273,"計量器・測定器・分析機器・試験機・測量機械器具・理化学機械器具製造業",2731,"体積計製造業"]
["E","製造業",27,"業務用機械器具製造業",273,"計量器・測定器・分析機器・試験機・測量機械器具・理化学機械器具製造業",2732,"はかり製造業"]
["E","製造業",27,"業務用機械器具製造業",273,"計量器・測定器・分析機器・試験機・測量機械器具・理化学機械器具製造業",2733,"圧力計・流量計・液面計等製造業"]
["E","製造業",27,"業務用機械器具製造業",273,"計量器・測定器・分析機器・試験機・測量機械器具・理化学機械器具製造業",2734,"精密測定器製造業"]
["E","製造業",27,"業務用機械器具製造業",273,"計量器・測定器・分析機器・試験機・測量機械器具・理化学機械器具製造業",2735,"分析機器製造業"]
["E","製造業",27,"業務用機械器具製造業",273,"計量器・測定器・分析機器・試験機・測量機械器具・理化学機械器具製造業",2736,"試験機製造業"]
["E","製造業",27,"業務用機械器具製造業",273,"計量器・測定器・分析機器・試験機・測量機械器具・理化学機械器具製造業",2737,"測量機械器具製造業"]
["E","製造業",27,"業務用機械器具製造業",273,"計量器・測定器・分析機器・試験機・測量機械器具・理化学機械器具製造業",2738,"理化学機械器具製造業"]
["E","製造業",27,"業務用機械器具製造業",273,"計量器・測定器・分析機器・試験機・測量機械器具・理化学機械器具製造業",2739,"その他の計量器・測定器・分析機器・試験機・測量機械器具・理化学機械器","具製造業"]
["E","製造業",27,"業務用機械器具製造業",274,"医療用機械器具・医療用品製造業",2741,"医療用機械器具製造業"]
["E","製造業",27,"業務用機械器具製造業",274,"医療用機械器具・医療用品製造業",2742,"歯科用機械器具製造業"]
["E","製造業",27,"業務用機械器具製造業",274,"医療用機械器具・医療用品製造業",2743,"医療用品製造業（動物用医療機械器具を含む）"]
["E","製造業",27,"業務用機械器具製造業",274,"医療用機械器具・医療用品製造業",2744,"歯科材料製造業"]
["E","製造業",27,"業務用機械器具製造業",275,"光学機械器具・レンズ製造業",2751,"顕微鏡・望遠鏡等製造業"]
["E","製造業",27,"業務用機械器具製造業",275,"光学機械器具・レンズ製造業",2752,"写真機・映画用機械・同附属品製造業"]
["E","製造業",27,"業務用機械器具製造業",275,"光学機械器具・レンズ製造業",2753,"光学機械用レンズ・プリズム製造業"]
["E","製造業",27,"業務用機械器具製造業",276,"武器製造業",2761,"武器製造業"]
["E","製造業",28,"電子部品・デバイス・電子回路製造業",280,"管理，補助的経済活動を行う事業所（28電子部品・デバイス・電子回路製造業）",2800,"主として管理事務を行う本社等"]
["E","製造業",28,"電子部品・デバイス・電子回路製造業",280,"管理，補助的経済活動を行う事業所（28電子部品・デバイス・電子回路製造業）",2809,"その他の管理，補助的経済活動を行う事業所"]
["E","製造業",28,"電子部品・デバイス・電子回路製造業",281,"電子デバイス製造業",2811,"電子管製造業"]
["E","製造業",28,"電子部品・デバイス・電子回路製造業",281,"電子デバイス製造業",2812,"光電変換素子製造業"]
["E","製造業",28,"電子部品・デバイス・電子回路製造業",281,"電子デバイス製造業",2813,"半導体素子製造業（光電変換素子を除く）"]
["E","製造業",28,"電子部品・デバイス・電子回路製造業",281,"電子デバイス製造業",2814,"集積回路製造業"]
["E","製造業",28,"電子部品・デバイス・電子回路製造業",281,"電子デバイス製造業",2815,"液晶パネル・フラットパネル製造業"]
["E","製造業",28,"電子部品・デバイス・電子回路製造業",282,"電子部品製造業",2821,"抵抗器・コンデンサ・変成器・複合部品製造業"]
["E","製造業",28,"電子部品・デバイス・電子回路製造業",282,"電子部品製造業",2822,"音響部品・磁気ヘッド・小形モータ製造業"]
["E","製造業",28,"電子部品・デバイス・電子回路製造業",282,"電子部品製造業",2823,"コネクタ・スイッチ・リレー製造業"]
["E","製造業",28,"電子部品・デバイス・電子回路製造業",283,"記録メディア製造業",2831,"半導体メモリメディア製造業"]
["E","製造業",28,"電子部品・デバイス・電子回路製造業",283,"記録メディア製造業",2832,"光ディスク・磁気ディスク・磁気テープ製造業"]
["E","製造業",28,"電子部品・デバイス・電子回路製造業",284,"電子回路製造業",2841,"電子回路基板製造業"]
["E","製造業",28,"電子部品・デバイス・電子回路製造業",284,"電子回路製造業",2842,"電子回路実装基板製造業"]
["E","製造業",28,"電子部品・デバイス・電子回路製造業",285,"ユニット部品製造業",2851,"電源ユニット・高周波ユニット・コントロールユニット製造業"]
["E","製造業",28,"電子部品・デバイス・電子回路製造業",285,"ユニット部品製造業",2859,"その他のユニット部品製造業"]
["E","製造業",28,"電子部品・デバイス・電子回路製造業",289,"その他の電子部品・デバイス・電子回路製造業",2899,"その他の電子部品・デバイス・電子回路製造業"]
["E","製造業",29,"電気機械器具製造業",290,"管理，補助的経済活動を行う事業所（29電気機械器具製造業）",2900,"主として管理事務を行う本社等"]
["E","製造業",29,"電気機械器具製造業",290,"管理，補助的経済活動を行う事業所（29電気機械器具製造業）",2909,"その他の管理，補助的経済活動を行う事業所"]
["E","製造業",29,"電気機械器具製造業",291,"発電用・送電用・配電用電気機械器具製造業",2911,"発電機・電動機・その他の回転電気機械製造業"]
["E","製造業",29,"電気機械器具製造業",291,"発電用・送電用・配電用電気機械器具製造業",2912,"変圧器類製造業（電子機器用を除く)"]
["E","製造業",29,"電気機械器具製造業",291,"発電用・送電用・配電用電気機械器具製造業",2913,"電力開閉装置製造業"]
["E","製造業",29,"電気機械器具製造業",291,"発電用・送電用・配電用電気機械器具製造業",2914,"配電盤・電力制御装置製造業"]
["E","製造業",29,"電気機械器具製造業",291,"発電用・送電用・配電用電気機械器具製造業",2915,"配線器具・配線附属品製造業"]
["E","製造業",29,"電気機械器具製造業",292,"産業用電気機械器具製造業",2921,"電気溶接機製造業"]
["E","製造業",29,"電気機械器具製造業",292,"産業用電気機械器具製造業",2922,"内燃機関電装品製造業"]
["E","製造業",29,"電気機械器具製造業",292,"産業用電気機械器具製造業",2929,"その他の産業用電気機械器具製造業（車両用，船舶用を含む）"]
["E","製造業",29,"電気機械器具製造業",293,"民生用電気機械器具製造業",2931,"ちゅう房機器製造業"]
["E","製造業",29,"電気機械器具製造業",293,"民生用電気機械器具製造業",2932,"空調・住宅関連機器製造業"]
["E","製造業",29,"電気機械器具製造業",293,"民生用電気機械器具製造業",2933,"衣料衛生関連機器製造業"]
["E","製造業",29,"電気機械器具製造業",293,"民生用電気機械器具製造業",2939,"その他の民生用電気機械器具製造業"]
["E","製造業",29,"電気機械器具製造業",294,"電球・電気照明器具製造業",2941,"電球製造業"]
["E","製造業",29,"電気機械器具製造業",294,"電球・電気照明器具製造業",2942,"電気照明器具製造業"]
["E","製造業",29,"電気機械器具製造業",295,"電池製造業",2951,"蓄電池製造業"]
["E","製造業",29,"電気機械器具製造業",295,"電池製造業",2952,"一次電池（乾電池，湿電池）製造業"]
["E","製造業",29,"電気機械器具製造業",296,"電子応用装置製造業",2961,"Ｘ線装置製造業"]
["E","製造業",29,"電気機械器具製造業",296,"電子応用装置製造業",2962,"医療用電子応用装置製造業"]
["E","製造業",29,"電気機械器具製造業",296,"電子応用装置製造業",2969,"その他の電子応用装置製造業"]
["E","製造業",29,"電気機械器具製造業",297,"電気計測器製造業",2971,"電気計測器製造業（別掲を除く）"]
["E","製造業",29,"電気機械器具製造業",297,"電気計測器製造業",2972,"工業計器製造業"]
["E","製造業",29,"電気機械器具製造業",297,"電気計測器製造業",2973,"医療用計測器製造業"]
["E","製造業",29,"電気機械器具製造業",299,"その他の電気機械器具製造業",2999,"その他の電気機械器具製造業"]
["E","製造業",30,"情報通信機械器具製造業",300,"管理，補助的経済活動を行う事業所（30情報通信機械器具製造業）",3000,"主として管理事務を行う本社等"]
["E","製造業",30,"情報通信機械器具製造業",300,"管理，補助的経済活動を行う事業所（30情報通信機械器具製造業）",3009,"その他の管理，補助的経済活動を行う事業所"]
["E","製造業",30,"情報通信機械器具製造業",301,"通信機械器具・同関連機械器具製造業",3011,"有線通信機械器具製造業"]
["E","製造業",30,"情報通信機械器具製造業",301,"通信機械器具・同関連機械器具製造業",3012,"携帯電話機・ＰＨＳ電話機製造業"]
["E","製造業",30,"情報通信機械器具製造業",301,"通信機械器具・同関連機械器具製造業",3013,"無線通信機械器具製造業"]
["E","製造業",30,"情報通信機械器具製造業",301,"通信機械器具・同関連機械器具製造業",3014,"ラジオ受信機・テレビジョン受信機製造業"]
["E","製造業",30,"情報通信機械器具製造業",301,"通信機械器具・同関連機械器具製造業",3015,"交通信号保安装置製造業"]
["E","製造業",30,"情報通信機械器具製造業",301,"通信機械器具・同関連機械器具製造業",3019,"その他の通信機械器具・同関連機械器具製造業"]
["E","製造業",30,"情報通信機械器具製造業",302,"映像・音響機械器具製造業",3021,"ビデオ機器製造業"]
["E","製造業",30,"情報通信機械器具製造業",302,"映像・音響機械器具製造業",3022,"デジタルカメラ製造業"]
["E","製造業",30,"情報通信機械器具製造業",302,"映像・音響機械器具製造業",3023,"電気音響機械器具製造業"]
["E","製造業",30,"情報通信機械器具製造業",303,"電子計算機・同附属装置製造業",3031,"電子計算機製造業（パーソナルコンピュータを除く）"]
["E","製造業",30,"情報通信機械器具製造業",303,"電子計算機・同附属装置製造業",3032,"パーソナルコンピュータ製造業"]
["E","製造業",30,"情報通信機械器具製造業",303,"電子計算機・同附属装置製造業",3033,"外部記憶装置製造業"]
["E","製造業",30,"情報通信機械器具製造業",303,"電子計算機・同附属装置製造業",3034,"印刷装置製造業"]
["E","製造業",30,"情報通信機械器具製造業",303,"電子計算機・同附属装置製造業",3035,"表示装置製造業"]
["E","製造業",30,"情報通信機械器具製造業",303,"電子計算機・同附属装置製造業",3039,"その他の附属装置製造業"]
["E","製造業",31,"輸送用機械器具製造業",310,"管理，補助的経済活動を行う事業所（31輸送用機械器具製造業）",3100,"主として管理事務を行う本社等"]
["E","製造業",31,"輸送用機械器具製造業",310,"管理，補助的経済活動を行う事業所（31輸送用機械器具製造業）",3109,"その他の管理，補助的経済活動を行う事業所"]
["E","製造業",31,"輸送用機械器具製造業",311,"自動車・同附属品製造業",3111,"自動車製造業（二輪自動車を含む）"]
["E","製造業",31,"輸送用機械器具製造業",311,"自動車・同附属品製造業",3112,"自動車車体・附随車製造業"]
["E","製造業",31,"輸送用機械器具製造業",311,"自動車・同附属品製造業",3113,"自動車部分品・附属品製造業"]
["E","製造業",31,"輸送用機械器具製造業",312,"鉄道車両・同部分品製造業",3121,"鉄道車両製造業"]
["E","製造業",31,"輸送用機械器具製造業",312,"鉄道車両・同部分品製造業",3122,"鉄道車両用部分品製造業"]
["E","製造業",31,"輸送用機械器具製造業",313,"船舶製造・修理業，舶用機関製造業",3131,"船舶製造・修理業"]
["E","製造業",31,"輸送用機械器具製造業",313,"船舶製造・修理業，舶用機関製造業",3132,"船体ブロック製造業"]
["E","製造業",31,"輸送用機械器具製造業",313,"船舶製造・修理業，舶用機関製造業",3133,"舟艇製造・修理業"]
["E","製造業",31,"輸送用機械器具製造業",313,"船舶製造・修理業，舶用機関製造業",3134,"舶用機関製造業"]
["E","製造業",31,"輸送用機械器具製造業",314,"航空機・同附属品製造業",3141,"航空機製造業"]
["E","製造業",31,"輸送用機械器具製造業",314,"航空機・同附属品製造業",3142,"航空機用原動機製造業"]
["E","製造業",31,"輸送用機械器具製造業",314,"航空機・同附属品製造業",3149,"その他の航空機部分品・補助装置製造業"]
["E","製造業",31,"輸送用機械器具製造業",315,"産業用運搬車両・同部分品・附属品製造業",3151,"フォークリフトトラック・同部分品・附属品製造業"]
["E","製造業",31,"輸送用機械器具製造業",315,"産業用運搬車両・同部分品・附属品製造業",3159,"その他の産業用運搬車両・同部分品・附属品製造業"]
["E","製造業",31,"輸送用機械器具製造業",319,"その他の輸送用機械器具製造業",3191,"自転車・同部分品製造業"]
["E","製造業",31,"輸送用機械器具製造業",319,"その他の輸送用機械器具製造業",3199,"他に分類されない輸送用機械器具製造業"]
["E","製造業",32,"その他の製造業",320,"管理，補助的経済活動を行う事業所（32その他の製造業）",3200,"主として管理事務を行う本社等"]
["E","製造業",32,"その他の製造業",320,"管理，補助的経済活動を行う事業所（32その他の製造業）",3209,"その他の管理，補助的経済活動を行う事業所"]
["E","製造業",32,"その他の製造業",321,"貴金属・宝石製品製造業",3211,"貴金属・宝石製装身具（ジュエリー）製品製造業"]
["E","製造業",32,"その他の製造業",321,"貴金属・宝石製品製造業",3212,"貴金属・宝石製装身具（ジュエリー）附属品・同材料加工業"]
["E","製造業",32,"その他の製造業",321,"貴金属・宝石製品製造業",3219,"その他の貴金属製品製造業"]
["E","製造業",32,"その他の製造業",322,"装身具・装飾品・ボタン・同関連品製造業（貴金属・宝石製を除く）",3221,"装身具・装飾品製造業（貴金属・宝石製を除く）"]
["E","製造業",32,"その他の製造業",322,"装身具・装飾品・ボタン・同関連品製造業（貴金属・宝石製を除く）",3222,"造花・装飾用羽毛製造業"]
["E","製造業",32,"その他の製造業",322,"装身具・装飾品・ボタン・同関連品製造業（貴金属・宝石製を除く）",3223,"ボタン製造業"]
["E","製造業",32,"その他の製造業",322,"装身具・装飾品・ボタン・同関連品製造業（貴金属・宝石製を除く）",3224,"針・ピン・ホック・スナップ・同関連品製造業"]
["E","製造業",32,"その他の製造業",322,"装身具・装飾品・ボタン・同関連品製造業（貴金属・宝石製を除く）",3229,"その他の装身具・装飾品製造業"]
["E","製造業",32,"その他の製造業",323,"時計・同部分品製造業",3231,"時計・同部分品製造業"]
["E","製造業",32,"その他の製造業",324,"楽器製造業",3241,"ピアノ製造業"]
["E","製造業",32,"その他の製造業",324,"楽器製造業",3249,"その他の楽器・楽器部品・同材料製造業"]
["E","製造業",32,"その他の製造業",325,"がん具・運動用具製造業",3251,"娯楽用具・がん具製造業（人形を除く）"]
["E","製造業",32,"その他の製造業",325,"がん具・運動用具製造業",3252,"人形製造業"]
["E","製造業",32,"その他の製造業",325,"がん具・運動用具製造業",3253,"運動用具製造業"]
["E","製造業",32,"その他の製造業",326,"ペン・鉛筆・絵画用品・その他の事務用品製造業",3261,"万年筆・ペン類・鉛筆製造業"]
["E","製造業",32,"その他の製造業",326,"ペン・鉛筆・絵画用品・その他の事務用品製造業",3262,"毛筆・絵画用品製造業（鉛筆を除く）"]
["E","製造業",32,"その他の製造業",326,"ペン・鉛筆・絵画用品・その他の事務用品製造業",3269,"その他の事務用品製造業"]
["E","製造業",32,"その他の製造業",327,"漆器製造業",3271,"漆器製造業"]
["E","製造業",32,"その他の製造業",328,"畳等生活雑貨製品製造業",3281,"麦わら・パナマ類帽子・わら工品製造業"]
["E","製造業",32,"その他の製造業",328,"畳等生活雑貨製品製造業",3282,"畳製造業"]
["E","製造業",32,"その他の製造業",328,"畳等生活雑貨製品製造業",3283,"うちわ・扇子・ちょうちん製造業"]
["E","製造業",32,"その他の製造業",328,"畳等生活雑貨製品製造業",3284,"ほうき・ブラシ製造業"]
["E","製造業",32,"その他の製造業",328,"畳等生活雑貨製品製造業",3285,"喫煙用具製造業（貴金属・宝石製を除く）"]
["E","製造業",32,"その他の製造業",328,"畳等生活雑貨製品製造業",3289,"その他の生活雑貨製品製造業"]
["E","製造業",32,"その他の製造業",329,"他に分類されない製造業",3291,"煙火製造業"]
["E","製造業",32,"その他の製造業",329,"他に分類されない製造業",3292,"看板・標識機製造業"]
["E","製造業",32,"その他の製造業",329,"他に分類されない製造業",3293,"パレット製造業"]
["E","製造業",32,"その他の製造業",329,"他に分類されない製造業",3294,"モデル・模型製造業"]
["E","製造業",32,"その他の製造業",329,"他に分類されない製造業",3295,"工業用模型製造業"]
["E","製造業",32,"その他の製造業",329,"他に分類されない製造業",3296,"情報記録物製造業（新聞，書籍等の印刷物を除く）"]
["E","製造業",32,"その他の製造業",329,"他に分類されない製造業",3297,"眼鏡製造業（枠を含む）"]
["E","製造業",32,"その他の製造業",329,"他に分類されない製造業",3299,"他に分類されないその他の製造業"]
["F","電気・ガス・熱供給・水道業",33,"電気業",330,"管理，補助的経済活動を行う事業所（33電気業）",3300,"主として管理事務を行う本社等"]
["F","電気・ガス・熱供給・水道業",33,"電気業",330,"管理，補助的経済活動を行う事業所（33電気業）",3309,"その他の管理，補助的経済活動を行う事業所"]
["F","電気・ガス・熱供給・水道業",33,"電気業",331,"電気業",3311,"発電所"]
["F","電気・ガス・熱供給・水道業",33,"電気業",331,"電気業",3312,"変電所"]
["F","電気・ガス・熱供給・水道業",34,"ガス業",340,"管理，補助的経済活動を行う事業所（34ガス業）",3400,"主として管理事務を行う本社等"]
["F","電気・ガス・熱供給・水道業",34,"ガス業",340,"管理，補助的経済活動を行う事業所（34ガス業）",3409,"その他の管理，補助的経済活動を行う事業所"]
["F","電気・ガス・熱供給・水道業",34,"ガス業",341,"ガス業",3411,"ガス製造工場"]
["F","電気・ガス・熱供給・水道業",34,"ガス業",341,"ガス業",3412,"ガス供給所"]
["F","電気・ガス・熱供給・水道業",35,"熱供給業",350,"管理，補助的経済活動を行う事業所（35熱供給業）",3500,"主として管理事務を行う本社等"]
["F","電気・ガス・熱供給・水道業",35,"熱供給業",350,"管理，補助的経済活動を行う事業所（35熱供給業）",3509,"その他の管理，補助的経済活動を行う事業所"]
["F","電気・ガス・熱供給・水道業",35,"熱供給業",351,"熱供給業",3511,"熱供給業"]
["F","電気・ガス・熱供給・水道業",36,"水道業",360,"管理，補助的経済活動を行う事業所（36水道業）",3600,"主として管理事務を行う本社等"]
["F","電気・ガス・熱供給・水道業",36,"水道業",360,"管理，補助的経済活動を行う事業所（36水道業）",3609,"その他の管理，補助的経済活動を行う事業所"]
["F","電気・ガス・熱供給・水道業",36,"水道業",361,"上水道業",3611,"上水道業"]
["F","電気・ガス・熱供給・水道業",36,"水道業",362,"工業用水道業",3621,"工業用水道業"]
["F","電気・ガス・熱供給・水道業",36,"水道業",363,"下水道業",3631,"下水道処理施設維持管理業"]
["F","電気・ガス・熱供給・水道業",36,"水道業",363,"下水道業",3632,"下水道管路施設維持管理業"]
["G","情報通信業",37,"通信業",370,"管理，補助的経済活動を行う事業所（37通信業）",3700,"主として管理事務を行う本社等"]
["G","情報通信業",37,"通信業",370,"管理，補助的経済活動を行う事業所（37通信業）",3709,"その他の管理，補助的経済活動を行う事業所"]
["G","情報通信業",37,"通信業",371,"固定電気通信業",3711,"地域電気通信業（有線放送電話業を除く）"]
["G","情報通信業",37,"通信業",371,"固定電気通信業",3712,"長距離電気通信業"]
["G","情報通信業",37,"通信業",371,"固定電気通信業",3713,"有線放送電話業"]
["G","情報通信業",37,"通信業",371,"固定電気通信業",3719,"その他の固定電気通信業"]
["G","情報通信業",37,"通信業",372,"移動電気通信業",3721,"移動電気通信業"]
["G","情報通信業",37,"通信業",373,"電気通信に附帯するサービス業",3731,"電気通信に附帯するサービス業"]
["G","情報通信業",38,"放送業",380,"管理，補助的経済活動を行う事業所（38放送業）",3800,"主として管理事務を行う本社等"]
["G","情報通信業",38,"放送業",380,"管理，補助的経済活動を行う事業所（38放送業）",3809,"その他の管理，補助的経済活動を行う事業所"]
["G","情報通信業",38,"放送業",381,"公共放送業（有線放送業を除く）",3811,"公共放送業（有線放送業を除く）"]
["G","情報通信業",38,"放送業",382,"民間放送業（有線放送業を除く）",3821,"テレビジョン放送業（衛星放送業を除く）"]
["G","情報通信業",38,"放送業",382,"民間放送業（有線放送業を除く）",3822,"ラジオ放送業（衛星放送業を除く）"]
["G","情報通信業",38,"放送業",382,"民間放送業（有線放送業を除く）",3823,"衛星放送業"]
["G","情報通信業",38,"放送業",382,"民間放送業（有線放送業を除く）",3829,"その他の民間放送業"]
["G","情報通信業",38,"放送業",383,"有線放送業",3831,"有線テレビジョン放送業"]
["G","情報通信業",38,"放送業",383,"有線放送業",3832,"有線ラジオ放送業"]
["G","情報通信業",39,"情報サービス業",390,"管理，補助的経済活動を行う事業所（39情報サービス業）",3900,"主として管理事務を行う本社等"]
["G","情報通信業",39,"情報サービス業",390,"管理，補助的経済活動を行う事業所（39情報サービス業）",3909,"その他の管理，補助的経済活動を行う事業所"]
["G","情報通信業",39,"情報サービス業",391,"ソフトウェア業",3911,"受託開発ソフトウェア業"]
["G","情報通信業",39,"情報サービス業",391,"ソフトウェア業",3912,"組込みソフトウェア業"]
["G","情報通信業",39,"情報サービス業",391,"ソフトウェア業",3913,"パッケージソフトウェア業"]
["G","情報通信業",39,"情報サービス業",391,"ソフトウェア業",3914,"ゲームソフトウェア業"]
["G","情報通信業",39,"情報サービス業",392,"情報処理・提供サービス業",3921,"情報処理サービス業"]
["G","情報通信業",39,"情報サービス業",392,"情報処理・提供サービス業",3922,"情報提供サービス業"]
["G","情報通信業",39,"情報サービス業",392,"情報処理・提供サービス業",3929,"その他の情報処理・提供サービス業"]
["G","情報通信業",40,"インターネット附随サービス業",400,"管理，補助的経済活動を行う事業所（40インターネット附随サービス業）",4000,"主として管理事務を行う本社等"]
["G","情報通信業",40,"インターネット附随サービス業",400,"管理，補助的経済活動を行う事業所（40インターネット附随サービス業）",4009,"その他の管理，補助的経済活動を行う事業所"]
["G","情報通信業",40,"インターネット附随サービス業",401,"インターネット附随サービス業",4011,"ポータルサイト・サーバ運営業"]
["G","情報通信業",40,"インターネット附随サービス業",401,"インターネット附随サービス業",4012,"アプリケーション・サービス・コンテンツ・プロバイダ"]
["G","情報通信業",40,"インターネット附随サービス業",401,"インターネット附随サービス業",4013,"インターネット利用サポート業"]
["G","情報通信業",41,"映像・音声・文字情報制作業",410,"管理，補助的経済活動を行う事業所（41映像・音声・文字情報制作業）",4100,"主として管理事務を行う本社等"]
["G","情報通信業",41,"映像・音声・文字情報制作業",410,"管理，補助的経済活動を行う事業所（41映像・音声・文字情報制作業）",4109,"その他の管理，補助的経済活動を行う事業所"]
["G","情報通信業",41,"映像・音声・文字情報制作業",411,"映像情報制作・配給業",4111,"映画・ビデオ制作業（テレビジョン番組制作業，アニメーション制作業を除","く）"]
["G","情報通信業",41,"映像・音声・文字情報制作業",411,"映像情報制作・配給業",4112,"テレビジョン番組制作業（アニメーション制作業を除く）"]
["G","情報通信業",41,"映像・音声・文字情報制作業",411,"映像情報制作・配給業",4113,"アニメーション制作業"]
["G","情報通信業",41,"映像・音声・文字情報制作業",411,"映像情報制作・配給業",4114,"映画・ビデオ・テレビジョン番組配給業"]
["G","情報通信業",41,"映像・音声・文字情報制作業",412,"音声情報制作業",4121,"レコード制作業"]
["G","情報通信業",41,"映像・音声・文字情報制作業",412,"音声情報制作業",4122,"ラジオ番組制作業"]
["G","情報通信業",41,"映像・音声・文字情報制作業",413,"新聞業",4131,"新聞業"]
["G","情報通信業",41,"映像・音声・文字情報制作業",414,"出版業",4141,"出版業"]
["G","情報通信業",41,"映像・音声・文字情報制作業",415,"広告制作業",4151,"広告制作業"]
["G","情報通信業",41,"映像・音声・文字情報制作業",416,"映像・音声・文字情報制作に附帯するサービス業",4161,"ニュース供給業"]
["G","情報通信業",41,"映像・音声・文字情報制作業",416,"映像・音声・文字情報制作に附帯するサービス業",4169,"その他の映像・音声・文字情報制作に附帯するサービス業"]
["H","運輸業，郵便業",42,"鉄道業",420,"管理，補助的経済活動を行う事業所（42鉄道業）",4200,"主として管理事務を行う本社等"]
["H","運輸業，郵便業",42,"鉄道業",420,"管理，補助的経済活動を行う事業所（42鉄道業）",4209,"その他の管理，補助的経済活動を行う事業所"]
["H","運輸業，郵便業",42,"鉄道業",421,"鉄道業",4211,"普通鉄道業"]
["H","運輸業，郵便業",42,"鉄道業",421,"鉄道業",4212,"軌道業"]
["H","運輸業，郵便業",42,"鉄道業",421,"鉄道業",4213,"地下鉄道業"]
["H","運輸業，郵便業",42,"鉄道業",421,"鉄道業",4214,"モノレール鉄道業（地下鉄道業を除く）"]
["H","運輸業，郵便業",42,"鉄道業",421,"鉄道業",4215,"案内軌条式鉄道業（地下鉄道業を除く）"]
["H","運輸業，郵便業",42,"鉄道業",421,"鉄道業",4216,"鋼索鉄道業"]
["H","運輸業，郵便業",42,"鉄道業",421,"鉄道業",4217,"索道業"]
["H","運輸業，郵便業",42,"鉄道業",421,"鉄道業",4219,"その他の鉄道業"]
["H","運輸業，郵便業",43,"道路旅客運送業",430,"管理，補助的経済活動を行う事業所（43道路旅客運送業）",4300,"主として管理事務を行う本社等"]
["H","運輸業，郵便業",43,"道路旅客運送業",430,"管理，補助的経済活動を行う事業所（43道路旅客運送業）",4309,"その他の管理，補助的経済活動を行う事業所"]
["H","運輸業，郵便業",43,"道路旅客運送業",431,"一般乗合旅客自動車運送業",4311,"一般乗合旅客自動車運送業"]
["H","運輸業，郵便業",43,"道路旅客運送業",432,"一般乗用旅客自動車運送業",4321,"一般乗用旅客自動車運送業"]
["H","運輸業，郵便業",43,"道路旅客運送業",433,"一般貸切旅客自動車運送業",4331,"一般貸切旅客自動車運送業"]
["H","運輸業，郵便業",43,"道路旅客運送業",439,"その他の道路旅客運送業",4391,"特定旅客自動車運送業"]
["H","運輸業，郵便業",43,"道路旅客運送業",439,"その他の道路旅客運送業",4399,"他に分類されない道路旅客運送業"]
["H","運輸業，郵便業",44,"道路貨物運送業",440,"管理，補助的経済活動を行う事業所（44道路貨物運送業）",4400,"主として管理事務を行う本社等"]
["H","運輸業，郵便業",44,"道路貨物運送業",440,"管理，補助的経済活動を行う事業所（44道路貨物運送業）",4409,"その他の管理，補助的経済活動を行う事業所"]
["H","運輸業，郵便業",44,"道路貨物運送業",441,"一般貨物自動車運送業",4411,"一般貨物自動車運送業（特別積合せ貨物運送業を除く）"]
["H","運輸業，郵便業",44,"道路貨物運送業",441,"一般貨物自動車運送業",4412,"特別積合せ貨物運送業"]
["H","運輸業，郵便業",44,"道路貨物運送業",442,"特定貨物自動車運送業",4421,"特定貨物自動車運送業"]
["H","運輸業，郵便業",44,"道路貨物運送業",443,"貨物軽自動車運送業",4431,"貨物軽自動車運送業"]
["H","運輸業，郵便業",44,"道路貨物運送業",444,"集配利用運送業",4441,"集配利用運送業"]
["H","運輸業，郵便業",44,"道路貨物運送業",449,"その他の道路貨物運送業",4499,"その他の道路貨物運送業"]
["H","運輸業，郵便業",45,"水運業",450,"管理，補助的経済活動を行う事業所（45水運業）",4500,"主として管理事務を行う本社等"]
["H","運輸業，郵便業",45,"水運業",450,"管理，補助的経済活動を行う事業所（45水運業）",4509,"その他の管理，補助的経済活動を行う事業所"]
["H","運輸業，郵便業",45,"水運業",451,"外航海運業",4511,"外航旅客海運業"]
["H","運輸業，郵便業",45,"水運業",451,"外航海運業",4512,"外航貨物海運業"]
["H","運輸業，郵便業",45,"水運業",452,"沿海海運業",4521,"沿海旅客海運業"]
["H","運輸業，郵便業",45,"水運業",452,"沿海海運業",4522,"沿海貨物海運業"]
["H","運輸業，郵便業",45,"水運業",453,"内陸水運業",4531,"港湾旅客海運業"]
["H","運輸業，郵便業",45,"水運業",453,"内陸水運業",4532,"河川水運業"]
["H","運輸業，郵便業",45,"水運業",453,"内陸水運業",4533,"湖沼水運業"]
["H","運輸業，郵便業",45,"水運業",454,"船舶貸渡業",4541,"船舶貸渡業（内航船舶貸渡業を除く）"]
["H","運輸業，郵便業",45,"水運業",454,"船舶貸渡業",4542,"内航船舶貸渡業"]
["H","運輸業，郵便業",46,"航空運輸業",460,"管理，補助的経済活動を行う事業所（46航空運輸業）",4600,"主として管理事務を行う本社等"]
["H","運輸業，郵便業",46,"航空運輸業",460,"管理，補助的経済活動を行う事業所（46航空運輸業）",4609,"その他の管理，補助的経済活動を行う事業所"]
["H","運輸業，郵便業",46,"航空運輸業",461,"航空運送業",4611,"航空運送業"]
["H","運輸業，郵便業",46,"航空運輸業",462,"航空機使用業（航空運送業を除く）",4621,"航空機使用業（航空運送業を除く）"]
["H","運輸業，郵便業",47,"倉庫業",470,"管理，補助的経済活動を行う事業所（47倉庫業）",4700,"主として管理事務を行う本社等"]
["H","運輸業，郵便業",47,"倉庫業",470,"管理，補助的経済活動を行う事業所（47倉庫業）",4709,"その他の管理，補助的経済活動を行う事業所"]
["H","運輸業，郵便業",47,"倉庫業",471,"倉庫業（冷蔵倉庫業を除く）",4711,"倉庫業（冷蔵倉庫業を除く）"]
["H","運輸業，郵便業",47,"倉庫業",472,"冷蔵倉庫業",4721,"冷蔵倉庫業"]
["H","運輸業，郵便業",48,"運輸に附帯するサービス業",480,"管理，補助的経済活動を行う事業所（48運輸に附帯するサービス業）",4800,"主として管理事務を行う本社等"]
["H","運輸業，郵便業",48,"運輸に附帯するサービス業",480,"管理，補助的経済活動を行う事業所（48運輸に附帯するサービス業）",4809,"その他の管理，補助的経済活動を行う事業所"]
["H","運輸業，郵便業",48,"運輸に附帯するサービス業",481,"港湾運送業",4811,"港湾運送業"]
["H","運輸業，郵便業",48,"運輸に附帯するサービス業",482,"貨物運送取扱業（集配利用運送業を除く）",4821,"利用運送業（集配利用運送業を除く）"]
["H","運輸業，郵便業",48,"運輸に附帯するサービス業",482,"貨物運送取扱業（集配利用運送業を除く）",4822,"運送取次業"]
["H","運輸業，郵便業",48,"運輸に附帯するサービス業",483,"運送代理店",4831,"運送代理店"]
["H","運輸業，郵便業",48,"運輸に附帯するサービス業",484,"こん包業",4841,"こん包業（組立こん包業を除く）"]
["H","運輸業，郵便業",48,"運輸に附帯するサービス業",484,"こん包業",4842,"組立こん包業"]
["H","運輸業，郵便業",48,"運輸に附帯するサービス業",485,"運輸施設提供業",4851,"鉄道施設提供業"]
["H","運輸業，郵便業",48,"運輸に附帯するサービス業",485,"運輸施設提供業",4852,"道路運送固定施設業"]
["H","運輸業，郵便業",48,"運輸に附帯するサービス業",485,"運輸施設提供業",4853,"自動車ターミナル業"]
["H","運輸業，郵便業",48,"運輸に附帯するサービス業",485,"運輸施設提供業",4854,"貨物荷扱固定施設業"]
["H","運輸業，郵便業",48,"運輸に附帯するサービス業",485,"運輸施設提供業",4855,"桟橋泊きょ業"]
["H","運輸業，郵便業",48,"運輸に附帯するサービス業",485,"運輸施設提供業",4856,"飛行場業"]
["H","運輸業，郵便業",48,"運輸に附帯するサービス業",489,"その他の運輸に附帯するサービス業",4891,"海運仲立業"]
["H","運輸業，郵便業",48,"運輸に附帯するサービス業",489,"その他の運輸に附帯するサービス業",4899,"他に分類されない運輸に附帯するサービス業"]
["H","運輸業，郵便業",49,"郵便業（信書便事業を含む）",490,"管理，補助的経済活動を行う事業所（49郵便業）",4901,"管理，補助的経済活動を行う事業所"]
["H","運輸業，郵便業",49,"郵便業（信書便事業を含む）",491,"郵便業（信書便事業を含む）",4911,"郵便業（信書便事業を含む）"]
["I","卸売業，小売業",50,"各種商品卸売業",500,"管理，補助的経済活動を行う事業所（50各種商品卸売業）",5000,"主として管理事務を行う本社等"]
["I","卸売業，小売業",50,"各種商品卸売業",500,"管理，補助的経済活動を行う事業所（50各種商品卸売業）",5008,"自家用倉庫"]
["I","卸売業，小売業",50,"各種商品卸売業",500,"管理，補助的経済活動を行う事業所（50各種商品卸売業）",5009,"その他の管理，補助的経済活動を行う事業所"]
["I","卸売業，小売業",50,"各種商品卸売業",501,"各種商品卸売業",5011,"各種商品卸売業（従業者が常時100人以上のもの）"]
["I","卸売業，小売業",50,"各種商品卸売業",501,"各種商品卸売業",5019,"その他の各種商品卸売業"]
["I","卸売業，小売業",51,"繊維・衣服等卸売業",510,"管理，補助的経済活動を行う事業所（51繊維・衣服等卸売業）",5100,"主として管理事務を行う本社等"]
["I","卸売業，小売業",51,"繊維・衣服等卸売業",510,"管理，補助的経済活動を行う事業所（51繊維・衣服等卸売業）",5108,"自家用倉庫"]
["I","卸売業，小売業",51,"繊維・衣服等卸売業",510,"管理，補助的経済活動を行う事業所（51繊維・衣服等卸売業）",5109,"その他の管理，補助的経済活動を行う事業所"]
["I","卸売業，小売業",51,"繊維・衣服等卸売業",511,"繊維品卸売業（衣服，身の回り品を除く）",5111,"繊維原料卸売業"]
["I","卸売業，小売業",51,"繊維・衣服等卸売業",511,"繊維品卸売業（衣服，身の回り品を除く）",5112,"糸卸売業"]
["I","卸売業，小売業",51,"繊維・衣服等卸売業",511,"繊維品卸売業（衣服，身の回り品を除く）",5113,"織物卸売業（室内装飾繊維品を除く）"]
["I","卸売業，小売業",51,"繊維・衣服等卸売業",512,"衣服卸売業",5121,"男子服卸売業"]
["I","卸売業，小売業",51,"繊維・衣服等卸売業",512,"衣服卸売業",5122,"婦人・子供服卸売業"]
["I","卸売業，小売業",51,"繊維・衣服等卸売業",512,"衣服卸売業",5123,"下着類卸売業"]
["I","卸売業，小売業",51,"繊維・衣服等卸売業",512,"衣服卸売業",5129,"その他の衣服卸売業"]
["I","卸売業，小売業",51,"繊維・衣服等卸売業",513,"身の回り品卸売業",5131,"寝具類卸売業"]
["I","卸売業，小売業",51,"繊維・衣服等卸売業",513,"身の回り品卸売業",5132,"靴・履物卸売業"]
["I","卸売業，小売業",51,"繊維・衣服等卸売業",513,"身の回り品卸売業",5133,"かばん・袋物卸売業"]
["I","卸売業，小売業",51,"繊維・衣服等卸売業",513,"身の回り品卸売業",5139,"その他の身の回り品卸売業"]
["I","卸売業，小売業",52,"飲食料品卸売業",520,"管理，補助的経済活動を行う事業所（52飲食料品卸売業）",5200,"主として管理事務を行う本社等"]
["I","卸売業，小売業",52,"飲食料品卸売業",520,"管理，補助的経済活動を行う事業所（52飲食料品卸売業）",5208,"自家用倉庫"]
["I","卸売業，小売業",52,"飲食料品卸売業",520,"管理，補助的経済活動を行う事業所（52飲食料品卸売業）",5209,"その他の管理，補助的経済活動を行う事業所"]
["I","卸売業，小売業",52,"飲食料品卸売業",521,"農畜産物・水産物卸売業",5211,"米麦卸売業"]
["I","卸売業，小売業",52,"飲食料品卸売業",521,"農畜産物・水産物卸売業",5212,"雑穀・豆類卸売業"]
["I","卸売業，小売業",52,"飲食料品卸売業",521,"農畜産物・水産物卸売業",5213,"野菜卸売業"]
["I","卸売業，小売業",52,"飲食料品卸売業",521,"農畜産物・水産物卸売業",5214,"果実卸売業"]
["I","卸売業，小売業",52,"飲食料品卸売業",521,"農畜産物・水産物卸売業",5215,"食肉卸売業"]
["I","卸売業，小売業",52,"飲食料品卸売業",521,"農畜産物・水産物卸売業",5216,"生鮮魚介卸売業"]
["I","卸売業，小売業",52,"飲食料品卸売業",521,"農畜産物・水産物卸売業",5219,"その他の農畜産物・水産物卸売業"]
["I","卸売業，小売業",52,"飲食料品卸売業",522,"食料・飲料卸売業",5221,"砂糖・味そ・しょう油卸売業"]
["I","卸売業，小売業",52,"飲食料品卸売業",522,"食料・飲料卸売業",5222,"酒類卸売業"]
["I","卸売業，小売業",52,"飲食料品卸売業",522,"食料・飲料卸売業",5223,"乾物卸売業"]
["I","卸売業，小売業",52,"飲食料品卸売業",522,"食料・飲料卸売業",5224,"菓子・パン類卸売業"]
["I","卸売業，小売業",52,"飲食料品卸売業",522,"食料・飲料卸売業",5225,"飲料卸売業（別掲を除く）"]
["I","卸売業，小売業",52,"飲食料品卸売業",522,"食料・飲料卸売業",5226,"茶類卸売業"]
["I","卸売業，小売業",52,"飲食料品卸売業",522,"食料・飲料卸売業",5227,"牛乳・乳製品卸売業"]
["I","卸売業，小売業",52,"飲食料品卸売業",522,"食料・飲料卸売業",5229,"その他の食料・飲料卸売業"]
["I","卸売業，小売業",53,"建築材料，鉱物・金属材料等卸売業",530,"管理，補助的経済活動を行う事業所（53建築材料，鉱物・金属材料等卸売業）",5300,"主として管理事務を行う本社等"]
["I","卸売業，小売業",53,"建築材料，鉱物・金属材料等卸売業",530,"管理，補助的経済活動を行う事業所（53建築材料，鉱物・金属材料等卸売業）",5308,"自家用倉庫"]
["I","卸売業，小売業",53,"建築材料，鉱物・金属材料等卸売業",530,"管理，補助的経済活動を行う事業所（53建築材料，鉱物・金属材料等卸売業）",5309,"その他の管理，補助的経済活動を行う事業所"]
["I","卸売業，小売業",53,"建築材料，鉱物・金属材料等卸売業",531,"建築材料卸売業",5311,"木材・竹材卸売業"]
["I","卸売業，小売業",53,"建築材料，鉱物・金属材料等卸売業",531,"建築材料卸売業",5312,"セメント卸売業"]
["I","卸売業，小売業",53,"建築材料，鉱物・金属材料等卸売業",531,"建築材料卸売業",5313,"板ガラス卸売業"]
["I","卸売業，小売業",53,"建築材料，鉱物・金属材料等卸売業",531,"建築材料卸売業",5314,"建築用金属製品卸売業（建築用金物を除く）"]
["I","卸売業，小売業",53,"建築材料，鉱物・金属材料等卸売業",531,"建築材料卸売業",5319,"その他の建築材料卸売業"]
["I","卸売業，小売業",53,"建築材料，鉱物・金属材料等卸売業",532,"化学製品卸売業",5321,"塗料卸売業"]
["I","卸売業，小売業",53,"建築材料，鉱物・金属材料等卸売業",532,"化学製品卸売業",5322,"プラスチック卸売業"]
["I","卸売業，小売業",53,"建築材料，鉱物・金属材料等卸売業",532,"化学製品卸売業",5329,"その他の化学製品卸売業"]
["I","卸売業，小売業",53,"建築材料，鉱物・金属材料等卸売業",533,"石油・鉱物卸売業",5331,"石油卸売業"]
["I","卸売業，小売業",53,"建築材料，鉱物・金属材料等卸売業",533,"石油・鉱物卸売業",5332,"鉱物卸売業（石油を除く）"]
["I","卸売業，小売業",53,"建築材料，鉱物・金属材料等卸売業",534,"鉄鋼製品卸売業",5341,"鉄鋼粗製品卸売業"]
["I","卸売業，小売業",53,"建築材料，鉱物・金属材料等卸売業",534,"鉄鋼製品卸売業",5342,"鉄鋼一次製品卸売業"]
["I","卸売業，小売業",53,"建築材料，鉱物・金属材料等卸売業",534,"鉄鋼製品卸売業",5349,"その他の鉄鋼製品卸売業"]
["I","卸売業，小売業",53,"建築材料，鉱物・金属材料等卸売業",535,"非鉄金属卸売業",5351,"非鉄金属地金卸売業"]
["I","卸売業，小売業",53,"建築材料，鉱物・金属材料等卸売業",535,"非鉄金属卸売業",5352,"非鉄金属製品卸売業"]
["I","卸売業，小売業",53,"建築材料，鉱物・金属材料等卸売業",536,"再生資源卸売業",5361,"空瓶・空缶等空容器卸売業"]
["I","卸売業，小売業",53,"建築材料，鉱物・金属材料等卸売業",536,"再生資源卸売業",5362,"鉄スクラップ卸売業"]
["I","卸売業，小売業",53,"建築材料，鉱物・金属材料等卸売業",536,"再生資源卸売業",5363,"非鉄金属スクラップ卸売業"]
["I","卸売業，小売業",53,"建築材料，鉱物・金属材料等卸売業",536,"再生資源卸売業",5364,"古紙卸売業"]
["I","卸売業，小売業",53,"建築材料，鉱物・金属材料等卸売業",536,"再生資源卸売業",5369,"その他の再生資源卸売業"]
["I","卸売業，小売業",54,"機械器具卸売業",540,"管理，補助的経済活動を行う事業所（54機械器具卸売業）",5400,"主として管理事務を行う本社等"]
["I","卸売業，小売業",54,"機械器具卸売業",540,"管理，補助的経済活動を行う事業所（54機械器具卸売業）",5408,"自家用倉庫"]
["I","卸売業，小売業",54,"機械器具卸売業",540,"管理，補助的経済活動を行う事業所（54機械器具卸売業）",5409,"その他の管理，補助的経済活動を行う事業所"]
["I","卸売業，小売業",54,"機械器具卸売業",541,"産業機械器具卸売業",5411,"農業用機械器具卸売業"]
["I","卸売業，小売業",54,"機械器具卸売業",541,"産業機械器具卸売業",5412,"建設機械・鉱山機械卸売業"]
["I","卸売業，小売業",54,"機械器具卸売業",541,"産業機械器具卸売業",5413,"金属加工機械卸売業"]
["I","卸売業，小売業",54,"機械器具卸売業",541,"産業機械器具卸売業",5414,"事務用機械器具卸売業"]
["I","卸売業，小売業",54,"機械器具卸売業",541,"産業機械器具卸売業",5419,"その他の産業機械器具卸売業"]
["I","卸売業，小売業",54,"機械器具卸売業",542,"自動車卸売業",5421,"自動車卸売業（二輪自動車を含む）"]
["I","卸売業，小売業",54,"機械器具卸売業",542,"自動車卸売業",5422,"自動車部分品・附属品卸売業（中古品を除く）"]
["I","卸売業，小売業",54,"機械器具卸売業",542,"自動車卸売業",5423,"自動車中古部品卸売業"]
["I","卸売業，小売業",54,"機械器具卸売業",543,"電気機械器具卸売業",5431,"家庭用電気機械器具卸売業"]
["I","卸売業，小売業",54,"機械器具卸売業",543,"電気機械器具卸売業",5432,"電気機械器具卸売業（家庭用電気機械器具を除く）"]
["I","卸売業，小売業",54,"機械器具卸売業",549,"その他の機械器具卸売業",5491,"輸送用機械器具卸売業（自動車を除く）"]
["I","卸売業，小売業",54,"機械器具卸売業",549,"その他の機械器具卸売業",5492,"計量器・理化学機械器具・光学機械器具等卸売業"]
["I","卸売業，小売業",54,"機械器具卸売業",549,"その他の機械器具卸売業",5493,"医療用機械器具卸売業（歯科用機械器具を含む）"]
["I","卸売業，小売業",55,"その他の卸売業",550,"管理，補助的経済活動を行う事業所（55その他の卸売業）",5500,"主として管理事務を行う本社等"]
["I","卸売業，小売業",55,"その他の卸売業",550,"管理，補助的経済活動を行う事業所（55その他の卸売業）",5508,"自家用倉庫"]
["I","卸売業，小売業",55,"その他の卸売業",550,"管理，補助的経済活動を行う事業所（55その他の卸売業）",5509,"その他の管理，補助的経済活動を行う事業所"]
["I","卸売業，小売業",55,"その他の卸売業",551,"家具・建具・じゅう器等卸売業",5511,"家具・建具卸売業"]
["I","卸売業，小売業",55,"その他の卸売業",551,"家具・建具・じゅう器等卸売業",5512,"荒物卸売業"]
["I","卸売業，小売業",55,"その他の卸売業",551,"家具・建具・じゅう器等卸売業",5513,"畳卸売業"]
["I","卸売業，小売業",55,"その他の卸売業",551,"家具・建具・じゅう器等卸売業",5514,"室内装飾繊維品卸売業"]
["I","卸売業，小売業",55,"その他の卸売業",551,"家具・建具・じゅう器等卸売業",5515,"陶磁器・ガラス器卸売業"]
["I","卸売業，小売業",55,"その他の卸売業",551,"家具・建具・じゅう器等卸売業",5519,"その他のじゅう器卸売業"]
["I","卸売業，小売業",55,"その他の卸売業",552,"医薬品・化粧品等卸売業",5521,"医薬品卸売業"]
["I","卸売業，小売業",55,"その他の卸売業",552,"医薬品・化粧品等卸売業",5522,"医療用品卸売業"]
["I","卸売業，小売業",55,"その他の卸売業",552,"医薬品・化粧品等卸売業",5523,"化粧品卸売業"]
["I","卸売業，小売業",55,"その他の卸売業",552,"医薬品・化粧品等卸売業",5524,"合成洗剤卸売業"]
["I","卸売業，小売業",55,"その他の卸売業",553,"紙・紙製品卸売業",5531,"紙卸売業"]
["I","卸売業，小売業",55,"その他の卸売業",553,"紙・紙製品卸売業",5532,"紙製品卸売業"]
["I","卸売業，小売業",55,"その他の卸売業",559,"他に分類されない卸売業",5591,"金物卸売業"]
["I","卸売業，小売業",55,"その他の卸売業",559,"他に分類されない卸売業",5592,"肥料・飼料卸売業"]
["I","卸売業，小売業",55,"その他の卸売業",559,"他に分類されない卸売業",5593,"スポーツ用品卸売業"]
["I","卸売業，小売業",55,"その他の卸売業",559,"他に分類されない卸売業",5594,"娯楽用品・がん具卸売業"]
["I","卸売業，小売業",55,"その他の卸売業",559,"他に分類されない卸売業",5595,"たばこ卸売業"]
["I","卸売業，小売業",55,"その他の卸売業",559,"他に分類されない卸売業",5596,"ジュエリー製品卸売業"]
["I","卸売業，小売業",55,"その他の卸売業",559,"他に分類されない卸売業",5597,"書籍・雑誌卸売業"]
["I","卸売業，小売業",55,"その他の卸売業",559,"他に分類されない卸売業",5598,"代理商，仲立業"]
["I","卸売業，小売業",55,"その他の卸売業",559,"他に分類されない卸売業",5599,"他に分類されないその他の卸売業"]
["I","卸売業，小売業",56,"各種商品小売業",560,"管理，補助的経済活動を行う事業所（56各種商品小売業）",5600,"主として管理事務を行う本社等"]
["I","卸売業，小売業",56,"各種商品小売業",560,"管理，補助的経済活動を行う事業所（56各種商品小売業）",5608,"自家用倉庫"]
["I","卸売業，小売業",56,"各種商品小売業",560,"管理，補助的経済活動を行う事業所（56各種商品小売業）",5609,"その他の管理，補助的経済活動を行う事業所"]
["I","卸売業，小売業",56,"各種商品小売業",561,"百貨店，総合スーパー",5611,"百貨店，総合スーパー"]
["I","卸売業，小売業",56,"各種商品小売業",569,"その他の各種商品小売業（従業者が常時50人未満のもの）",5699,"その他の各種商品小売業（従業者が常時50人未満のもの）"]
["I","卸売業，小売業",57,"織物・衣服・身の回り品小売業",570,"管理，補助的経済活動を行う事業所（57織物・衣服・身の回り品小売業）",5700,"主として管理事務を行う本社等"]
["I","卸売業，小売業",57,"織物・衣服・身の回り品小売業",570,"管理，補助的経済活動を行う事業所（57織物・衣服・身の回り品小売業）",5708,"自家用倉庫"]
["I","卸売業，小売業",57,"織物・衣服・身の回り品小売業",570,"管理，補助的経済活動を行う事業所（57織物・衣服・身の回り品小売業）",5709,"その他の管理，補助的経済活動を行う事業所"]
["I","卸売業，小売業",57,"織物・衣服・身の回り品小売業",571,"呉服・服地・寝具小売業",5711,"呉服・服地小売業"]
["I","卸売業，小売業",57,"織物・衣服・身の回り品小売業",571,"呉服・服地・寝具小売業",5712,"寝具小売業"]
["I","卸売業，小売業",57,"織物・衣服・身の回り品小売業",572,"男子服小売業",5721,"男子服小売業"]
["I","卸売業，小売業",57,"織物・衣服・身の回り品小売業",573,"婦人・子供服小売業",5731,"婦人服小売業"]
["I","卸売業，小売業",57,"織物・衣服・身の回り品小売業",573,"婦人・子供服小売業",5732,"子供服小売業"]
["I","卸売業，小売業",57,"織物・衣服・身の回り品小売業",574,"靴・履物小売業",5741,"靴小売業"]
["I","卸売業，小売業",57,"織物・衣服・身の回り品小売業",574,"靴・履物小売業",5742,"履物小売業（靴を除く）"]
["I","卸売業，小売業",57,"織物・衣服・身の回り品小売業",579,"その他の織物・衣服・身の回り品小売業",5791,"かばん・袋物小売業"]
["I","卸売業，小売業",57,"織物・衣服・身の回り品小売業",579,"その他の織物・衣服・身の回り品小売業",5792,"下着類小売業"]
["I","卸売業，小売業",57,"織物・衣服・身の回り品小売業",579,"その他の織物・衣服・身の回り品小売業",5793,"洋品雑貨・小間物小売業"]
["I","卸売業，小売業",57,"織物・衣服・身の回り品小売業",579,"その他の織物・衣服・身の回り品小売業",5799,"他に分類されない織物・衣服・身の回り品小売業"]
["I","卸売業，小売業",58,"飲食料品小売業",580,"管理，補助的経済活動を行う事業所（58飲食料品小売業）",5800,"主として管理事務を行う本社等"]
["I","卸売業，小売業",58,"飲食料品小売業",580,"管理，補助的経済活動を行う事業所（58飲食料品小売業）",5808,"自家用倉庫"]
["I","卸売業，小売業",58,"飲食料品小売業",580,"管理，補助的経済活動を行う事業所（58飲食料品小売業）",5809,"その他の管理，補助的経済活動を行う事業所"]
["I","卸売業，小売業",58,"飲食料品小売業",581,"各種食料品小売業",5811,"各種食料品小売業"]
["I","卸売業，小売業",58,"飲食料品小売業",582,"野菜・果実小売業",5821,"野菜小売業"]
["I","卸売業，小売業",58,"飲食料品小売業",582,"野菜・果実小売業",5822,"果実小売業"]
["I","卸売業，小売業",58,"飲食料品小売業",583,"食肉小売業",5831,"食肉小売業（卵，鳥肉を除く）"]
["I","卸売業，小売業",58,"飲食料品小売業",583,"食肉小売業",5832,"卵・鳥肉小売業"]
["I","卸売業，小売業",58,"飲食料品小売業",584,"鮮魚小売業",5841,"鮮魚小売業"]
["I","卸売業，小売業",58,"飲食料品小売業",585,"酒小売業",5851,"酒小売業"]
["I","卸売業，小売業",58,"飲食料品小売業",586,"菓子・パン小売業",5861,"菓子小売業（製造小売）"]
["I","卸売業，小売業",58,"飲食料品小売業",586,"菓子・パン小売業",5862,"菓子小売業（製造小売でないもの）"]
["I","卸売業，小売業",58,"飲食料品小売業",586,"菓子・パン小売業",5863,"パン小売業（製造小売）"]
["I","卸売業，小売業",58,"飲食料品小売業",586,"菓子・パン小売業",5864,"パン小売業（製造小売でないもの）"]
["I","卸売業，小売業",58,"飲食料品小売業",589,"その他の飲食料品小売業",5891,"コンビニエンスストア（飲食料品を中心とするものに限る）"]
["I","卸売業，小売業",58,"飲食料品小売業",589,"その他の飲食料品小売業",5892,"牛乳小売業"]
["I","卸売業，小売業",58,"飲食料品小売業",589,"その他の飲食料品小売業",5893,"飲料小売業（別掲を除く）"]
["I","卸売業，小売業",58,"飲食料品小売業",589,"その他の飲食料品小売業",5894,"茶類小売業"]
["I","卸売業，小売業",58,"飲食料品小売業",589,"その他の飲食料品小売業",5895,"料理品小売業"]
["I","卸売業，小売業",58,"飲食料品小売業",589,"その他の飲食料品小売業",5896,"米穀類小売業"]
["I","卸売業，小売業",58,"飲食料品小売業",589,"その他の飲食料品小売業",5897,"豆腐・かまぼこ等加工食品小売業"]
["I","卸売業，小売業",58,"飲食料品小売業",589,"その他の飲食料品小売業",5898,"乾物小売業"]
["I","卸売業，小売業",58,"飲食料品小売業",589,"その他の飲食料品小売業",5899,"他に分類されない飲食料品小売業"]
["I","卸売業，小売業",59,"機械器具小売業",590,"管理，補助的経済活動を行う事業所（59機械器具小売業）",5900,"主として管理事務を行う本社等"]
["I","卸売業，小売業",59,"機械器具小売業",590,"管理，補助的経済活動を行う事業所（59機械器具小売業）",5908,"自家用倉庫"]
["I","卸売業，小売業",59,"機械器具小売業",590,"管理，補助的経済活動を行う事業所（59機械器具小売業）",5909,"その他の管理，補助的経済活動を行う事業所"]
["I","卸売業，小売業",59,"機械器具小売業",591,"自動車小売業",5911,"自動車（新車）小売業"]
["I","卸売業，小売業",59,"機械器具小売業",591,"自動車小売業",5912,"中古自動車小売業"]
["I","卸売業，小売業",59,"機械器具小売業",591,"自動車小売業",5913,"自動車部分品・附属品小売業"]
["I","卸売業，小売業",59,"機械器具小売業",591,"自動車小売業",5914,"二輪自動車小売業（原動機付自転車を含む）"]
["I","卸売業，小売業",59,"機械器具小売業",592,"自転車小売業",5921,"自転車小売業"]
["I","卸売業，小売業",59,"機械器具小売業",593,"機械器具小売業（自動車，自転車を除く）",5931,"電気機械器具小売業（中古品を除く）"]
["I","卸売業，小売業",59,"機械器具小売業",593,"機械器具小売業（自動車，自転車を除く）",5932,"電気事務機械器具小売業（中古品を除く）"]
["I","卸売業，小売業",59,"機械器具小売業",593,"機械器具小売業（自動車，自転車を除く）",5933,"中古電気製品小売業"]
["I","卸売業，小売業",59,"機械器具小売業",593,"機械器具小売業（自動車，自転車を除く）",5939,"その他の機械器具小売業"]
["I","卸売業，小売業",60,"その他の小売業",600,"管理，補助的経済活動を行う事業所（60その他の小売業）",6000,"主として管理事務を行う本社等"]
["I","卸売業，小売業",60,"その他の小売業",600,"管理，補助的経済活動を行う事業所（60その他の小売業）",6008,"自家用倉庫"]
["I","卸売業，小売業",60,"その他の小売業",600,"管理，補助的経済活動を行う事業所（60その他の小売業）",6009,"その他の管理，補助的経済活動を行う事業所"]
["I","卸売業，小売業",60,"その他の小売業",601,"家具・建具・畳小売業",6011,"家具小売業"]
["I","卸売業，小売業",60,"その他の小売業",601,"家具・建具・畳小売業",6012,"建具小売業"]
["I","卸売業，小売業",60,"その他の小売業",601,"家具・建具・畳小売業",6013,"畳小売業"]
["I","卸売業，小売業",60,"その他の小売業",601,"家具・建具・畳小売業",6014,"宗教用具小売業"]
["I","卸売業，小売業",60,"その他の小売業",602,"じゅう器小売業",6021,"金物小売業"]
["I","卸売業，小売業",60,"その他の小売業",602,"じゅう器小売業",6022,"荒物小売業"]
["I","卸売業，小売業",60,"その他の小売業",602,"じゅう器小売業",6023,"陶磁器・ガラス器小売業"]
["I","卸売業，小売業",60,"その他の小売業",602,"じゅう器小売業",6029,"他に分類されないじゅう器小売業"]
["I","卸売業，小売業",60,"その他の小売業",603,"医薬品・化粧品小売業",6031,"ドラッグストア"]
["I","卸売業，小売業",60,"その他の小売業",603,"医薬品・化粧品小売業",6032,"医薬品小売業（調剤薬局を除く）"]
["I","卸売業，小売業",60,"その他の小売業",603,"医薬品・化粧品小売業",6033,"調剤薬局"]
["I","卸売業，小売業",60,"その他の小売業",603,"医薬品・化粧品小売業",6034,"化粧品小売業"]
["I","卸売業，小売業",60,"その他の小売業",604,"農耕用品小売業",6041,"農業用機械器具小売業"]
["I","卸売業，小売業",60,"その他の小売業",604,"農耕用品小売業",6042,"苗・種子小売業"]
["I","卸売業，小売業",60,"その他の小売業",604,"農耕用品小売業",6043,"肥料・飼料小売業"]
["I","卸売業，小売業",60,"その他の小売業",605,"燃料小売業",6051,"ガソリンスタンド"]
["I","卸売業，小売業",60,"その他の小売業",605,"燃料小売業",6052,"燃料小売業（ガソリンスタンドを除く）"]
["I","卸売業，小売業",60,"その他の小売業",606,"書籍・文房具小売業",6061,"書籍・雑誌小売業（古本を除く）"]
["I","卸売業，小売業",60,"その他の小売業",606,"書籍・文房具小売業",6062,"古本小売業"]
["I","卸売業，小売業",60,"その他の小売業",606,"書籍・文房具小売業",6063,"新聞小売業"]
["I","卸売業，小売業",60,"その他の小売業",606,"書籍・文房具小売業",6064,"紙・文房具小売業"]
["I","卸売業，小売業",60,"その他の小売業",607,"スポーツ用品・がん具・娯楽用品・楽器小売業",6071,"スポーツ用品小売業"]
["I","卸売業，小売業",60,"その他の小売業",607,"スポーツ用品・がん具・娯楽用品・楽器小売業",6072,"がん具・娯楽用品小売業"]
["I","卸売業，小売業",60,"その他の小売業",607,"スポーツ用品・がん具・娯楽用品・楽器小売業",6073,"楽器小売業"]
["I","卸売業，小売業",60,"その他の小売業",608,"写真機・時計・眼鏡小売業",6081,"写真機・写真材料小売業"]
["I","卸売業，小売業",60,"その他の小売業",608,"写真機・時計・眼鏡小売業",6082,"時計・眼鏡・光学機械小売業"]
["I","卸売業，小売業",60,"その他の小売業",609,"他に分類されない小売業",6091,"ホームセンター"]
["I","卸売業，小売業",60,"その他の小売業",609,"他に分類されない小売業",6092,"たばこ・喫煙具専門小売業"]
["I","卸売業，小売業",60,"その他の小売業",609,"他に分類されない小売業",6093,"花・植木小売業"]
["I","卸売業，小売業",60,"その他の小売業",609,"他に分類されない小売業",6094,"建築材料小売業"]
["I","卸売業，小売業",60,"その他の小売業",609,"他に分類されない小売業",6095,"ジュエリー製品小売業"]
["I","卸売業，小売業",60,"その他の小売業",609,"他に分類されない小売業",6096,"ペット・ペット用品小売業"]
["I","卸売業，小売業",60,"その他の小売業",609,"他に分類されない小売業",6097,"骨とう品小売業"]
["I","卸売業，小売業",60,"その他の小売業",609,"他に分類されない小売業",6098,"中古品小売業（骨とう品を除く）"]
["I","卸売業，小売業",60,"その他の小売業",609,"他に分類されない小売業",6099,"他に分類されないその他の小売業"]
["I","卸売業，小売業",61,"無店舗小売業",610,"管理，補助的経済活動を行う事業所（61無店舗小売業）",6100,"主として管理事務を行う本社等"]
["I","卸売業，小売業",61,"無店舗小売業",610,"管理，補助的経済活動を行う事業所（61無店舗小売業）",6108,"自家用倉庫"]
["I","卸売業，小売業",61,"無店舗小売業",610,"管理，補助的経済活動を行う事業所（61無店舗小売業）",6109,"その他の管理，補助的経済活動を行う事業所"]
["I","卸売業，小売業",61,"無店舗小売業",611,"通信販売・訪問販売小売業",6111,"無店舗小売業（各種商品小売）"]
["I","卸売業，小売業",61,"無店舗小売業",611,"通信販売・訪問販売小売業",6112,"無店舗小売業（織物・衣服・身の回り品小売）"]
["I","卸売業，小売業",61,"無店舗小売業",611,"通信販売・訪問販売小売業",6113,"無店舗小売業（飲食料品小売）"]
["I","卸売業，小売業",61,"無店舗小売業",611,"通信販売・訪問販売小売業",6114,"無店舗小売業（機械器具小売）"]
["I","卸売業，小売業",61,"無店舗小売業",611,"通信販売・訪問販売小売業",6119,"無店舗小売業（その他の小売）"]
["I","卸売業，小売業",61,"無店舗小売業",612,"自動販売機による小売業",6121,"自動販売機による小売業"]
["I","卸売業，小売業",61,"無店舗小売業",619,"その他の無店舗小売業",6199,"その他の無店舗小売業"]
["J","金融業，保険業",62,"銀行業",620,"管理，補助的経済活動を行う事業所（62銀行業）",6200,"主として管理事務を行う本社等"]
["J","金融業，保険業",62,"銀行業",620,"管理，補助的経済活動を行う事業所（62銀行業）",6209,"その他の管理，補助的経済活動を行う事業所"]
["J","金融業，保険業",62,"銀行業",621,"中央銀行",6211,"中央銀行"]
["J","金融業，保険業",62,"銀行業",622,"銀行（中央銀行を除く）",6221,"普通銀行"]
["J","金融業，保険業",62,"銀行業",622,"銀行（中央銀行を除く）",6222,"郵便貯金銀行"]
["J","金融業，保険業",62,"銀行業",622,"銀行（中央銀行を除く）",6223,"信託銀行"]
["J","金融業，保険業",62,"銀行業",622,"銀行（中央銀行を除く）",6229,"その他の銀行"]
["J","金融業，保険業",63,"協同組織金融業",630,"管理，補助的経済活動を行う事業所（63協同組織金融業）",6300,"主として管理事務を行う本社等"]
["J","金融業，保険業",63,"協同組織金融業",630,"管理，補助的経済活動を行う事業所（63協同組織金融業）",6309,"その他の管理，補助的経済活動を行う事業所"]
["J","金融業，保険業",63,"協同組織金融業",631,"中小企業等金融業",6311,"信用金庫・同連合会"]
["J","金融業，保険業",63,"協同組織金融業",631,"中小企業等金融業",6312,"信用協同組合・同連合会"]
["J","金融業，保険業",63,"協同組織金融業",631,"中小企業等金融業",6313,"商工組合中央金庫"]
["J","金融業，保険業",63,"協同組織金融業",631,"中小企業等金融業",6314,"労働金庫・同連合会"]
["J","金融業，保険業",63,"協同組織金融業",632,"農林水産金融業",6321,"農林中央金庫"]
["J","金融業，保険業",63,"協同組織金融業",632,"農林水産金融業",6322,"信用農業協同組合連合会"]
["J","金融業，保険業",63,"協同組織金融業",632,"農林水産金融業",6323,"信用漁業協同組合連合会，信用水産加工業協同組合連合会"]
["J","金融業，保険業",63,"協同組織金融業",632,"農林水産金融業",6324,"農業協同組合"]
["J","金融業，保険業",63,"協同組織金融業",632,"農林水産金融業",6325,"漁業協同組合，水産加工業協同組合"]
["J","金融業，保険業",64,"貸金業，クレジットカード業等非預金信用機関",640,"管理，補助的経済活動を行う事業所（64貸金業，クレジットカード業等非預金信用機関）",6400,"主として管理事務を行う本社等"]
["J","金融業，保険業",64,"貸金業，クレジットカード業等非預金信用機関",640,"管理，補助的経済活動を行う事業所（64貸金業，クレジットカード業等非預金信用機関）",6409,"その他の管理，補助的経済活動を行う事業所"]
["J","金融業，保険業",64,"貸金業，クレジットカード業等非預金信用機関",641,"貸金業",6411,"消費者向け貸金業"]
["J","金融業，保険業",64,"貸金業，クレジットカード業等非預金信用機関",641,"貸金業",6412,"事業者向け貸金業"]
["J","金融業，保険業",64,"貸金業，クレジットカード業等非預金信用機関",642,"質屋",6421,"質屋"]
["J","金融業，保険業",64,"貸金業，クレジットカード業等非預金信用機関",643,"クレジットカード業，割賦金融業",6431,"クレジットカード業"]
["J","金融業，保険業",64,"貸金業，クレジットカード業等非預金信用機関",643,"クレジットカード業，割賦金融業",6432,"割賦金融業"]
["J","金融業，保険業",64,"貸金業，クレジットカード業等非預金信用機関",649,"その他の非預金信用機関",6491,"政府関係金融機関"]
["J","金融業，保険業",64,"貸金業，クレジットカード業等非預金信用機関",649,"その他の非預金信用機関",6492,"住宅専門金融業"]
["J","金融業，保険業",64,"貸金業，クレジットカード業等非預金信用機関",649,"その他の非預金信用機関",6493,"証券金融業"]
["J","金融業，保険業",64,"貸金業，クレジットカード業等非預金信用機関",649,"その他の非預金信用機関",6499,"他に分類されない非預金信用機関"]
["J","金融業，保険業",65,"金融商品取引業，商品先物取引業",650,"管理，補助的経済活動を行う事業所（65金融商品取引業，商品先物取引業）",6500,"主として管理事務を行う本社等"]
["J","金融業，保険業",65,"金融商品取引業，商品先物取引業",650,"管理，補助的経済活動を行う事業所（65金融商品取引業，商品先物取引業）",6509,"その他の管理，補助的経済活動を行う事業所"]
["J","金融業，保険業",65,"金融商品取引業，商品先物取引業",651,"金融商品取引業",6511,"金融商品取引業（投資助言・代理・運用業，補助的金融商品取引業を除く）"]
["J","金融業，保険業",65,"金融商品取引業，商品先物取引業",651,"金融商品取引業",6512,"投資助言・代理業"]
["J","金融業，保険業",65,"金融商品取引業，商品先物取引業",651,"金融商品取引業",6513,"投資運用業"]
["J","金融業，保険業",65,"金融商品取引業，商品先物取引業",651,"金融商品取引業",6514,"補助的金融商品取引業"]
["J","金融業，保険業",65,"金融商品取引業，商品先物取引業",652,"商品先物取引業，商品投資業",6521,"国内市場商品先物取引業"]
["J","金融業，保険業",65,"金融商品取引業，商品先物取引業",652,"商品先物取引業，商品投資業",6522,"商品投資業"]
["J","金融業，保険業",65,"金融商品取引業，商品先物取引業",652,"商品先物取引業，商品投資業",6529,"その他の商品先物取引業，商品投資業"]
["J","金融業，保険業",66,"補助的金融業等",660,"管理，補助的経済活動を行う事業所（66補助的金融業等）",6600,"主として管理事務を行う本社等"]
["J","金融業，保険業",66,"補助的金融業等",660,"管理，補助的経済活動を行う事業所（66補助的金融業等）",6609,"その他の管理，補助的経済活動を行う事業所"]
["J","金融業，保険業",66,"補助的金融業等",661,"補助的金融業，金融附帯業",6611,"短資業"]
["J","金融業，保険業",66,"補助的金融業等",661,"補助的金融業，金融附帯業",6612,"手形交換所"]
["J","金融業，保険業",66,"補助的金融業等",661,"補助的金融業，金融附帯業",6613,"両替業"]
["J","金融業，保険業",66,"補助的金融業等",661,"補助的金融業，金融附帯業",6614,"信用保証機関"]
["J","金融業，保険業",66,"補助的金融業等",661,"補助的金融業，金融附帯業",6615,"信用保証再保険機関"]
["J","金融業，保険業",66,"補助的金融業等",661,"補助的金融業，金融附帯業",6616,"預・貯金等保険機関"]
["J","金融業，保険業",66,"補助的金融業等",661,"補助的金融業，金融附帯業",6617,"金融商品取引所"]
["J","金融業，保険業",66,"補助的金融業等",661,"補助的金融業，金融附帯業",6618,"商品取引所"]
["J","金融業，保険業",66,"補助的金融業等",661,"補助的金融業，金融附帯業",6619,"その他の補助的金融業，金融附帯業"]
["J","金融業，保険業",66,"補助的金融業等",662,"信託業",6621,"運用型信託業"]
["J","金融業，保険業",66,"補助的金融業等",662,"信託業",6622,"管理型信託業"]
["J","金融業，保険業",66,"補助的金融業等",663,"金融代理業",6631,"金融商品仲介業"]
["J","金融業，保険業",66,"補助的金融業等",663,"金融代理業",6632,"信託契約代理業"]
["J","金融業，保険業",66,"補助的金融業等",663,"金融代理業",6639,"その他の金融代理業"]
["J","金融業，保険業",67,"保険業（保険媒介代理業，保険サービス業を含む）",670,"管理，補助的経済活動を行う事業所（67保険業）",6700,"主として管理事務を行う本社等"]
["J","金融業，保険業",67,"保険業（保険媒介代理業，保険サービス業を含む）",670,"管理，補助的経済活動を行う事業所（67保険業）",6709,"その他の管理，補助的経済活動を行う事業所"]
["J","金融業，保険業",67,"保険業（保険媒介代理業，保険サービス業を含む）",671,"生命保険業",6711,"生命保険業（郵便保険業，生命保険再保険業を除く）"]
["J","金融業，保険業",67,"保険業（保険媒介代理業，保険サービス業を含む）",671,"生命保険業",6712,"郵便保険業"]
["J","金融業，保険業",67,"保険業（保険媒介代理業，保険サービス業を含む）",671,"生命保険業",6713,"生命保険再保険業"]
["J","金融業，保険業",67,"保険業（保険媒介代理業，保険サービス業を含む）",671,"生命保険業",6719,"その他の生命保険業"]
["J","金融業，保険業",67,"保険業（保険媒介代理業，保険サービス業を含む）",672,"損害保険業",6721,"損害保険業（損害保険再保険業を除く）"]
["J","金融業，保険業",67,"保険業（保険媒介代理業，保険サービス業を含む）",672,"損害保険業",6722,"損害保険再保険業"]
["J","金融業，保険業",67,"保険業（保険媒介代理業，保険サービス業を含む）",672,"損害保険業",6729,"その他の損害保険業"]
["J","金融業，保険業",67,"保険業（保険媒介代理業，保険サービス業を含む）",673,"共済事業・少額短期保険業",6731,"共済事業（各種災害補償法によるもの）"]
["J","金融業，保険業",67,"保険業（保険媒介代理業，保険サービス業を含む）",673,"共済事業・少額短期保険業",6732,"共済事業（各種協同組合法等によるもの）"]
["J","金融業，保険業",67,"保険業（保険媒介代理業，保険サービス業を含む）",673,"共済事業・少額短期保険業",6733,"少額短期保険業"]
["J","金融業，保険業",67,"保険業（保険媒介代理業，保険サービス業を含む）",674,"保険媒介代理業",6741,"生命保険媒介業"]
["J","金融業，保険業",67,"保険業（保険媒介代理業，保険サービス業を含む）",674,"保険媒介代理業",6742,"損害保険代理業"]
["J","金融業，保険業",67,"保険業（保険媒介代理業，保険サービス業を含む）",674,"保険媒介代理業",6743,"共済事業媒介代理業・少額短期保険代理業"]
["J","金融業，保険業",67,"保険業（保険媒介代理業，保険サービス業を含む）",675,"保険サービス業",6751,"保険料率算出団体"]
["J","金融業，保険業",67,"保険業（保険媒介代理業，保険サービス業を含む）",675,"保険サービス業",6752,"損害査定業"]
["J","金融業，保険業",67,"保険業（保険媒介代理業，保険サービス業を含む）",675,"保険サービス業",6759,"その他の保険サービス業"]
["K","不動産業，物品賃貸業",68,"不動産取引業",680,"管理，補助的経済活動を行う事業所（68不動産取引業）",6800,"主として管理事務を行う本社等"]
["K","不動産業，物品賃貸業",68,"不動産取引業",680,"管理，補助的経済活動を行う事業所（68不動産取引業）",6809,"その他の管理，補助的経済活動を行う事業所"]
["K","不動産業，物品賃貸業",68,"不動産取引業",681,"建物売買業，土地売買業",6811,"建物売買業"]
["K","不動産業，物品賃貸業",68,"不動産取引業",681,"建物売買業，土地売買業",6812,"土地売買業"]
["K","不動産業，物品賃貸業",68,"不動産取引業",682,"不動産代理業・仲介業",6821,"不動産代理業・仲介業"]
["K","不動産業，物品賃貸業",69,"不動産賃貸業・管理業",690,"管理，補助的経済活動を行う事業所（69不動産賃貸業・管理業）",6900,"主として管理事務を行う本社等"]
["K","不動産業，物品賃貸業",69,"不動産賃貸業・管理業",690,"管理，補助的経済活動を行う事業所（69不動産賃貸業・管理業）",6909,"その他の管理，補助的経済活動を行う事業所"]
["K","不動産業，物品賃貸業",69,"不動産賃貸業・管理業",691,"不動産賃貸業（貸家業，貸間業を除く）",6911,"貸事務所業"]
["K","不動産業，物品賃貸業",69,"不動産賃貸業・管理業",691,"不動産賃貸業（貸家業，貸間業を除く）",6912,"土地賃貸業"]
["K","不動産業，物品賃貸業",69,"不動産賃貸業・管理業",691,"不動産賃貸業（貸家業，貸間業を除く）",6919,"その他の不動産賃貸業"]
["K","不動産業，物品賃貸業",69,"不動産賃貸業・管理業",692,"貸家業，貸間業",6921,"貸家業"]
["K","不動産業，物品賃貸業",69,"不動産賃貸業・管理業",692,"貸家業，貸間業",6922,"貸間業"]
["K","不動産業，物品賃貸業",69,"不動産賃貸業・管理業",693,"駐車場業",6931,"駐車場業"]
["K","不動産業，物品賃貸業",69,"不動産賃貸業・管理業",694,"不動産管理業",6941,"不動産管理業"]
["K","不動産業，物品賃貸業",70,"物品賃貸業",700,"管理，補助的経済活動を行う事業所（70物品賃貸業）",7000,"主として管理事務を行う本社等"]
["K","不動産業，物品賃貸業",70,"物品賃貸業",700,"管理，補助的経済活動を行う事業所（70物品賃貸業）",7009,"その他の管理，補助的経済活動を行う事業所"]
["K","不動産業，物品賃貸業",70,"物品賃貸業",701,"各種物品賃貸業",7011,"総合リース業"]
["K","不動産業，物品賃貸業",70,"物品賃貸業",701,"各種物品賃貸業",7019,"その他の各種物品賃貸業"]
["K","不動産業，物品賃貸業",70,"物品賃貸業",702,"産業用機械器具賃貸業",7021,"産業用機械器具賃貸業（建設機械器具を除く）"]
["K","不動産業，物品賃貸業",70,"物品賃貸業",702,"産業用機械器具賃貸業",7022,"建設機械器具賃貸業"]
["K","不動産業，物品賃貸業",70,"物品賃貸業",703,"事務用機械器具賃貸業",7031,"事務用機械器具賃貸業（電子計算機を除く）"]
["K","不動産業，物品賃貸業",70,"物品賃貸業",703,"事務用機械器具賃貸業",7032,"電子計算機・同関連機器賃貸業"]
["K","不動産業，物品賃貸業",70,"物品賃貸業",704,"自動車賃貸業",7041,"自動車賃貸業"]
["K","不動産業，物品賃貸業",70,"物品賃貸業",705,"スポーツ・娯楽用品賃貸業",7051,"スポーツ・娯楽用品賃貸業"]
["K","不動産業，物品賃貸業",70,"物品賃貸業",709,"その他の物品賃貸業",7091,"映画・演劇用品賃貸業"]
["K","不動産業，物品賃貸業",70,"物品賃貸業",709,"その他の物品賃貸業",7092,"音楽・映像記録物賃貸業（別掲を除く）"]
["K","不動産業，物品賃貸業",70,"物品賃貸業",709,"その他の物品賃貸業",7093,"貸衣しょう業（別掲を除く）"]
["K","不動産業，物品賃貸業",70,"物品賃貸業",709,"その他の物品賃貸業",7099,"他に分類されない物品賃貸業"]
["L","学術研究，専門・技術サービス業",71,"学術・開発研究機関",710,"管理，補助的経済活動を行う事業所（71学術・開発研究機関）",7101,"管理，補助的経済活動を行う事業所"]
["L","学術研究，専門・技術サービス業",71,"学術・開発研究機関",711,"自然科学研究所",7111,"理学研究所"]
["L","学術研究，専門・技術サービス業",71,"学術・開発研究機関",711,"自然科学研究所",7112,"工学研究所"]
["L","学術研究，専門・技術サービス業",71,"学術・開発研究機関",711,"自然科学研究所",7113,"農学研究所"]
["L","学術研究，専門・技術サービス業",71,"学術・開発研究機関",711,"自然科学研究所",7114,"医学・薬学研究所"]
["L","学術研究，専門・技術サービス業",71,"学術・開発研究機関",712,"人文・社会科学研究所",7121,"人文・社会科学研究所"]
["L","学術研究，専門・技術サービス業",72,"専門サービス業（他に分類されないもの）",720,"管理，補助的経済活動を行う事業所（72専門サービス業）",7201,"管理，補助的経済活動を行う事業所"]
["L","学術研究，専門・技術サービス業",72,"専門サービス業（他に分類されないもの）",721,"法律事務所，特許事務所",7211,"法律事務所"]
["L","学術研究，専門・技術サービス業",72,"専門サービス業（他に分類されないもの）",721,"法律事務所，特許事務所",7212,"特許事務所"]
["L","学術研究，専門・技術サービス業",72,"専門サービス業（他に分類されないもの）",722,"公証人役場，司法書士事務所，土地家屋調査士事務所",7221,"公証人役場，司法書士事務所"]
["L","学術研究，専門・技術サービス業",72,"専門サービス業（他に分類されないもの）",722,"公証人役場，司法書士事務所，土地家屋調査士事務所",7222,"土地家屋調査士事務所"]
["L","学術研究，専門・技術サービス業",72,"専門サービス業（他に分類されないもの）",723,"行政書士事務所",7231,"行政書士事務所"]
["L","学術研究，専門・技術サービス業",72,"専門サービス業（他に分類されないもの）",724,"公認会計士事務所，税理士事務所",7241,"公認会計士事務所"]
["L","学術研究，専門・技術サービス業",72,"専門サービス業（他に分類されないもの）",724,"公認会計士事務所，税理士事務所",7242,"税理士事務所"]
["L","学術研究，専門・技術サービス業",72,"専門サービス業（他に分類されないもの）",725,"社会保険労務士事務所",7251,"社会保険労務士事務所"]
["L","学術研究，専門・技術サービス業",72,"専門サービス業（他に分類されないもの）",726,"デザイン業",7261,"デザイン業"]
["L","学術研究，専門・技術サービス業",72,"専門サービス業（他に分類されないもの）",727,"著述・芸術家業",7271,"著述家業"]
["L","学術研究，専門・技術サービス業",72,"専門サービス業（他に分類されないもの）",727,"著述・芸術家業",7272,"芸術家業"]
["L","学術研究，専門・技術サービス業",72,"専門サービス業（他に分類されないもの）",728,"経営コンサルタント業，純粋持株会社",7281,"経営コンサルタント業"]
["L","学術研究，専門・技術サービス業",72,"専門サービス業（他に分類されないもの）",728,"経営コンサルタント業，純粋持株会社",7282,"純粋持株会社"]
["L","学術研究，専門・技術サービス業",72,"専門サービス業（他に分類されないもの）",729,"その他の専門サービス業",7291,"興信所"]
["L","学術研究，専門・技術サービス業",72,"専門サービス業（他に分類されないもの）",729,"その他の専門サービス業",7292,"翻訳業（著述家業を除く）"]
["L","学術研究，専門・技術サービス業",72,"専門サービス業（他に分類されないもの）",729,"その他の専門サービス業",7293,"通訳業，通訳案内業"]
["L","学術研究，専門・技術サービス業",72,"専門サービス業（他に分類されないもの）",729,"その他の専門サービス業",7294,"不動産鑑定業"]
["L","学術研究，専門・技術サービス業",72,"専門サービス業（他に分類されないもの）",729,"その他の専門サービス業",7299,"他に分類されない専門サービス業"]
["L","学術研究，専門・技術サービス業",73,"広告業",730,"管理，補助的経済活動を行う事業所（73広告業）",7300,"主として管理事務を行う本社等"]
["L","学術研究，専門・技術サービス業",73,"広告業",730,"管理，補助的経済活動を行う事業所（73広告業）",7309,"その他の管理，補助的経済活動を行う事業所"]
["L","学術研究，専門・技術サービス業",73,"広告業",731,"広告業",7311,"広告業"]
["L","学術研究，専門・技術サービス業",74,"技術サービス業（他に分類されないもの）",740,"管理，補助的経済活動を行う事業所（74技術サービス業）",7401,"管理，補助的経済活動を行う事業所"]
["L","学術研究，専門・技術サービス業",74,"技術サービス業（他に分類されないもの）",741,"獣医業",7411,"獣医業"]
["L","学術研究，専門・技術サービス業",74,"技術サービス業（他に分類されないもの）",742,"土木建築サービス業",7421,"建築設計業"]
["L","学術研究，専門・技術サービス業",74,"技術サービス業（他に分類されないもの）",742,"土木建築サービス業",7422,"測量業"]
["L","学術研究，専門・技術サービス業",74,"技術サービス業（他に分類されないもの）",742,"土木建築サービス業",7429,"その他の土木建築サービス業"]
["L","学術研究，専門・技術サービス業",74,"技術サービス業（他に分類されないもの）",743,"機械設計業",7431,"機械設計業"]
["L","学術研究，専門・技術サービス業",74,"技術サービス業（他に分類されないもの）",744,"商品・非破壊検査業",7441,"商品検査業"]
["L","学術研究，専門・技術サービス業",74,"技術サービス業（他に分類されないもの）",744,"商品・非破壊検査業",7442,"非破壊検査業"]
["L","学術研究，専門・技術サービス業",74,"技術サービス業（他に分類されないもの）",745,"計量証明業",7451,"一般計量証明業"]
["L","学術研究，専門・技術サービス業",74,"技術サービス業（他に分類されないもの）",745,"計量証明業",7452,"環境計量証明業"]
["L","学術研究，専門・技術サービス業",74,"技術サービス業（他に分類されないもの）",745,"計量証明業",7459,"その他の計量証明業"]
["L","学術研究，専門・技術サービス業",74,"技術サービス業（他に分類されないもの）",746,"写真業",7461,"写真業（商業写真業を除く）"]
["L","学術研究，専門・技術サービス業",74,"技術サービス業（他に分類されないもの）",746,"写真業",7462,"商業写真業"]
["L","学術研究，専門・技術サービス業",74,"技術サービス業（他に分類されないもの）",749,"その他の技術サービス業",7499,"その他の技術サービス業"]
["M","宿泊業，飲食サービス業",75,"宿泊業",750,"管理，補助的経済活動を行う事業所（75宿泊業）",7500,"主として管理事務を行う本社等"]
["M","宿泊業，飲食サービス業",75,"宿泊業",750,"管理，補助的経済活動を行う事業所（75宿泊業）",7509,"その他の管理，補助的経済活動を行う事業所"]
["M","宿泊業，飲食サービス業",75,"宿泊業",751,"旅館，ホテル",7511,"旅館，ホテル"]
["M","宿泊業，飲食サービス業",75,"宿泊業",752,"簡易宿所",7521,"簡易宿所"]
["M","宿泊業，飲食サービス業",75,"宿泊業",753,"下宿業",7531,"下宿業"]
["M","宿泊業，飲食サービス業",75,"宿泊業",759,"その他の宿泊業",7591,"会社・団体の宿泊所"]
["M","宿泊業，飲食サービス業",75,"宿泊業",759,"その他の宿泊業",7592,"リゾートクラブ"]
["M","宿泊業，飲食サービス業",75,"宿泊業",759,"その他の宿泊業",7599,"他に分類されない宿泊業"]
["M","宿泊業，飲食サービス業",76,"飲食店",760,"管理，補助的経済活動を行う事業所（76飲食店）",7600,"主として管理事務を行う本社等"]
["M","宿泊業，飲食サービス業",76,"飲食店",760,"管理，補助的経済活動を行う事業所（76飲食店）",7609,"その他の管理，補助的経済活動を行う事業所"]
["M","宿泊業，飲食サービス業",76,"飲食店",761,"食堂，レストラン（専門料理店を除く）",7611,"食堂，レストラン（専門料理店を除く）"]
["M","宿泊業，飲食サービス業",76,"飲食店",762,"専門料理店",7621,"日本料理店"]
["M","宿泊業，飲食サービス業",76,"飲食店",762,"専門料理店",7622,"料亭"]
["M","宿泊業，飲食サービス業",76,"飲食店",762,"専門料理店",7623,"中華料理店"]
["M","宿泊業，飲食サービス業",76,"飲食店",762,"専門料理店",7624,"ラーメン店"]
["M","宿泊業，飲食サービス業",76,"飲食店",762,"専門料理店",7625,"焼肉店"]
["M","宿泊業，飲食サービス業",76,"飲食店",762,"専門料理店",7629,"その他の専門料理店"]
["M","宿泊業，飲食サービス業",76,"飲食店",763,"そば・うどん店",7631,"そば・うどん店"]
["M","宿泊業，飲食サービス業",76,"飲食店",764,"すし店",7641,"すし店"]
["M","宿泊業，飲食サービス業",76,"飲食店",765,"酒場，ビヤホール",7651,"酒場，ビヤホール"]
["M","宿泊業，飲食サービス業",76,"飲食店",766,"バー，キャバレー，ナイトクラブ",7661,"バー，キャバレー，ナイトクラブ"]
["M","宿泊業，飲食サービス業",76,"飲食店",767,"喫茶店",7671,"喫茶店"]
["M","宿泊業，飲食サービス業",76,"飲食店",769,"その他の飲食店",7691,"ハンバーガー店"]
["M","宿泊業，飲食サービス業",76,"飲食店",769,"その他の飲食店",7692,"お好み焼・焼きそば・たこ焼店"]
["M","宿泊業，飲食サービス業",76,"飲食店",769,"その他の飲食店",7699,"他に分類されないその他の飲食店"]
["M","宿泊業，飲食サービス業",77,"持ち帰り・配達飲食サービス業",770,"管理，補助的経済活動を行う事業所（77持ち帰り・配達飲食サービス業）",7700,"主として管理事務を行う本社等"]
["M","宿泊業，飲食サービス業",77,"持ち帰り・配達飲食サービス業",770,"管理，補助的経済活動を行う事業所（77持ち帰り・配達飲食サービス業）",7709,"その他の管理，補助的経済活動を行う事業所"]
["M","宿泊業，飲食サービス業",77,"持ち帰り・配達飲食サービス業",771,"持ち帰り飲食サービス業",7711,"持ち帰り飲食サービス業"]
["M","宿泊業，飲食サービス業",77,"持ち帰り・配達飲食サービス業",772,"配達飲食サービス業",7721,"配達飲食サービス業"]
["N","生活関連サービス業，娯楽業",78,"洗濯・理容・美容・浴場業",780,"管理，補助的経済活動を行う事業所（78洗濯・理容・美容・浴場業）",7800,"主として管理事務を行う本社等"]
["N","生活関連サービス業，娯楽業",78,"洗濯・理容・美容・浴場業",780,"管理，補助的経済活動を行う事業所（78洗濯・理容・美容・浴場業）",7809,"その他の管理，補助的経済活動を行う事業所"]
["N","生活関連サービス業，娯楽業",78,"洗濯・理容・美容・浴場業",781,"洗濯業",7811,"普通洗濯業"]
["N","生活関連サービス業，娯楽業",78,"洗濯・理容・美容・浴場業",781,"洗濯業",7812,"洗濯物取次業"]
["N","生活関連サービス業，娯楽業",78,"洗濯・理容・美容・浴場業",781,"洗濯業",7813,"リネンサプライ業"]
["N","生活関連サービス業，娯楽業",78,"洗濯・理容・美容・浴場業",782,"理容業",7821,"理容業"]
["N","生活関連サービス業，娯楽業",78,"洗濯・理容・美容・浴場業",783,"美容業",7831,"美容業"]
["N","生活関連サービス業，娯楽業",78,"洗濯・理容・美容・浴場業",784,"一般公衆浴場業",7841,"一般公衆浴場業"]
["N","生活関連サービス業，娯楽業",78,"洗濯・理容・美容・浴場業",785,"その他の公衆浴場業",7851,"その他の公衆浴場業"]
["N","生活関連サービス業，娯楽業",78,"洗濯・理容・美容・浴場業",789,"その他の洗濯・理容・美容・浴場業",7891,"洗張・染物業"]
["N","生活関連サービス業，娯楽業",78,"洗濯・理容・美容・浴場業",789,"その他の洗濯・理容・美容・浴場業",7892,"エステティック業"]
["N","生活関連サービス業，娯楽業",78,"洗濯・理容・美容・浴場業",789,"その他の洗濯・理容・美容・浴場業",7899,"他に分類されない洗濯・理容・美容・浴場業"]
["N","生活関連サービス業，娯楽業",79,"その他の生活関連サービス業",790,"管理，補助的経済活動を行う事業所（79その他の生活関連サービス業）",7900,"主として管理事務を行う本社等"]
["N","生活関連サービス業，娯楽業",79,"その他の生活関連サービス業",790,"管理，補助的経済活動を行う事業所（79その他の生活関連サービス業）",7909,"その他の管理，補助的経済活動を行う事業所"]
["N","生活関連サービス業，娯楽業",79,"その他の生活関連サービス業",791,"旅行業",7911,"旅行業(旅行業者代理業を除く)"]
["N","生活関連サービス業，娯楽業",79,"その他の生活関連サービス業",791,"旅行業",7912,"旅行業者代理業"]
["N","生活関連サービス業，娯楽業",79,"その他の生活関連サービス業",792,"家事サービス業",7921,"家事サービス業（住込みのもの）"]
["N","生活関連サービス業，娯楽業",79,"その他の生活関連サービス業",792,"家事サービス業",7922,"家事サービス業（住込みでないもの）"]
["N","生活関連サービス業，娯楽業",79,"その他の生活関連サービス業",793,"衣服裁縫修理業",7931,"衣服裁縫修理業"]
["N","生活関連サービス業，娯楽業",79,"その他の生活関連サービス業",794,"物品預り業",7941,"物品預り業"]
["N","生活関連サービス業，娯楽業",79,"その他の生活関連サービス業",795,"火葬・墓地管理業",7951,"火葬業"]
["N","生活関連サービス業，娯楽業",79,"その他の生活関連サービス業",795,"火葬・墓地管理業",7952,"墓地管理業"]
["N","生活関連サービス業，娯楽業",79,"その他の生活関連サービス業",796,"冠婚葬祭業",7961,"葬儀業"]
["N","生活関連サービス業，娯楽業",79,"その他の生活関連サービス業",796,"冠婚葬祭業",7962,"結婚式場業"]
["N","生活関連サービス業，娯楽業",79,"その他の生活関連サービス業",796,"冠婚葬祭業",7963,"冠婚葬祭互助会"]
["N","生活関連サービス業，娯楽業",79,"その他の生活関連サービス業",799,"他に分類されない生活関連サービス業",7991,"食品賃加工業"]
["N","生活関連サービス業，娯楽業",79,"その他の生活関連サービス業",799,"他に分類されない生活関連サービス業",7992,"結婚相談業，結婚式場紹介業"]
["N","生活関連サービス業，娯楽業",79,"その他の生活関連サービス業",799,"他に分類されない生活関連サービス業",7993,"写真現像・焼付業"]
["N","生活関連サービス業，娯楽業",79,"その他の生活関連サービス業",799,"他に分類されない生活関連サービス業",7999,"他に分類されないその他の生活関連サービス業"]
["N","生活関連サービス業，娯楽業",80,"娯楽業",800,"管理，補助的経済活動を行う事業所（80娯楽業）",8000,"主として管理事務を行う本社等"]
["N","生活関連サービス業，娯楽業",80,"娯楽業",800,"管理，補助的経済活動を行う事業所（80娯楽業）",8009,"その他の管理，補助的経済活動を行う事業所"]
["N","生活関連サービス業，娯楽業",80,"娯楽業",801,"映画館",8011,"映画館"]
["N","生活関連サービス業，娯楽業",80,"娯楽業",802,"興行場（別掲を除く），興行団",8021,"劇場"]
["N","生活関連サービス業，娯楽業",80,"娯楽業",802,"興行場（別掲を除く），興行団",8022,"興行場"]
["N","生活関連サービス業，娯楽業",80,"娯楽業",802,"興行場（別掲を除く），興行団",8023,"劇団"]
["N","生活関連サービス業，娯楽業",80,"娯楽業",802,"興行場（別掲を除く），興行団",8024,"楽団，舞踏団"]
["N","生活関連サービス業，娯楽業",80,"娯楽業",802,"興行場（別掲を除く），興行団",8025,"演芸・スポーツ等興行団"]
["N","生活関連サービス業，娯楽業",80,"娯楽業",803,"競輪・競馬等の競走場，競技団",8031,"競輪場"]
["N","生活関連サービス業，娯楽業",80,"娯楽業",803,"競輪・競馬等の競走場，競技団",8032,"競馬場"]
["N","生活関連サービス業，娯楽業",80,"娯楽業",803,"競輪・競馬等の競走場，競技団",8033,"自動車・モータボートの競走場"]
["N","生活関連サービス業，娯楽業",80,"娯楽業",803,"競輪・競馬等の競走場，競技団",8034,"競輪競技団"]
["N","生活関連サービス業，娯楽業",80,"娯楽業",803,"競輪・競馬等の競走場，競技団",8035,"競馬競技団"]
["N","生活関連サービス業，娯楽業",80,"娯楽業",803,"競輪・競馬等の競走場，競技団",8036,"自動車・モータボートの競技団"]
["N","生活関連サービス業，娯楽業",80,"娯楽業",804,"スポーツ施設提供業",8041,"スポーツ施設提供業（別掲を除く）"]
["N","生活関連サービス業，娯楽業",80,"娯楽業",804,"スポーツ施設提供業",8042,"体育館"]
["N","生活関連サービス業，娯楽業",80,"娯楽業",804,"スポーツ施設提供業",8043,"ゴルフ場"]
["N","生活関連サービス業，娯楽業",80,"娯楽業",804,"スポーツ施設提供業",8044,"ゴルフ練習場"]
["N","生活関連サービス業，娯楽業",80,"娯楽業",804,"スポーツ施設提供業",8045,"ボウリング場"]
["N","生活関連サービス業，娯楽業",80,"娯楽業",804,"スポーツ施設提供業",8046,"テニス場"]
["N","生活関連サービス業，娯楽業",80,"娯楽業",804,"スポーツ施設提供業",8047,"バッティング・テニス練習場"]
["N","生活関連サービス業，娯楽業",80,"娯楽業",804,"スポーツ施設提供業",8048,"フィットネスクラブ"]
["N","生活関連サービス業，娯楽業",80,"娯楽業",805,"公園，遊園地",8051,"公園"]
["N","生活関連サービス業，娯楽業",80,"娯楽業",805,"公園，遊園地",8052,"遊園地（テーマパークを除く）"]
["N","生活関連サービス業，娯楽業",80,"娯楽業",805,"公園，遊園地",8053,"テーマパーク"]
["N","生活関連サービス業，娯楽業",80,"娯楽業",806,"遊戯場",8061,"ビリヤード場"]
["N","生活関連サービス業，娯楽業",80,"娯楽業",806,"遊戯場",8062,"囲碁・将棋所"]
["N","生活関連サービス業，娯楽業",80,"娯楽業",806,"遊戯場",8063,"マージャンクラブ"]
["N","生活関連サービス業，娯楽業",80,"娯楽業",806,"遊戯場",8064,"パチンコホール"]
["N","生活関連サービス業，娯楽業",80,"娯楽業",806,"遊戯場",8065,"ゲームセンター"]
["N","生活関連サービス業，娯楽業",80,"娯楽業",806,"遊戯場",8069,"その他の遊戯場"]
["N","生活関連サービス業，娯楽業",80,"娯楽業",809,"その他の娯楽業",8091,"ダンスホール"]
["N","生活関連サービス業，娯楽業",80,"娯楽業",809,"その他の娯楽業",8092,"マリーナ業"]
["N","生活関連サービス業，娯楽業",80,"娯楽業",809,"その他の娯楽業",8093,"遊漁船業"]
["N","生活関連サービス業，娯楽業",80,"娯楽業",809,"その他の娯楽業",8094,"芸ぎ業"]
["N","生活関連サービス業，娯楽業",80,"娯楽業",809,"その他の娯楽業",8095,"カラオケボックス業"]
["N","生活関連サービス業，娯楽業",80,"娯楽業",809,"その他の娯楽業",8096,"娯楽に附帯するサービス業"]
["N","生活関連サービス業，娯楽業",80,"娯楽業",809,"その他の娯楽業",8099,"他に分類されない娯楽業"]
["O","教育，学習支援業",81,"学校教育",810,"管理，補助的経済活動を行う事業所（81学校教育）",8101,"管理，補助的経済活動を行う事業所"]
["O","教育，学習支援業",81,"学校教育",811,"幼稚園",8111,"幼稚園"]
["O","教育，学習支援業",81,"学校教育",812,"小学校",8121,"小学校"]
["O","教育，学習支援業",81,"学校教育",813,"中学校",8131,"中学校"]
["O","教育，学習支援業",81,"学校教育",814,"高等学校，中等教育学校",8141,"高等学校"]
["O","教育，学習支援業",81,"学校教育",814,"高等学校，中等教育学校",8142,"中等教育学校"]
["O","教育，学習支援業",81,"学校教育",815,"特別支援学校",8151,"特別支援学校"]
["O","教育，学習支援業",81,"学校教育",816,"高等教育機関",8161,"大学"]
["O","教育，学習支援業",81,"学校教育",816,"高等教育機関",8162,"短期大学"]
["O","教育，学習支援業",81,"学校教育",816,"高等教育機関",8163,"高等専門学校"]
["O","教育，学習支援業",81,"学校教育",817,"専修学校，各種学校",8171,"専修学校"]
["O","教育，学習支援業",81,"学校教育",817,"専修学校，各種学校",8172,"各種学校"]
["O","教育，学習支援業",81,"学校教育",818,"学校教育支援機関",8181,"学校教育支援機関"]
["O","教育，学習支援業",82,"その他の教育，学習支援業",820,"管理，補助的経済活動を行う事業所（82その他の教育，学習支援業）",8200,"主として管理事務を行う本社等"]
["O","教育，学習支援業",82,"その他の教育，学習支援業",820,"管理，補助的経済活動を行う事業所（82その他の教育，学習支援業）",8209,"その他の管理，補助的経済活動を行う事業所"]
["O","教育，学習支援業",82,"その他の教育，学習支援業",821,"社会教育",8211,"公民館"]
["O","教育，学習支援業",82,"その他の教育，学習支援業",821,"社会教育",8212,"図書館"]
["O","教育，学習支援業",82,"その他の教育，学習支援業",821,"社会教育",8213,"博物館，美術館"]
["O","教育，学習支援業",82,"その他の教育，学習支援業",821,"社会教育",8214,"動物園，植物園，水族館"]
["O","教育，学習支援業",82,"その他の教育，学習支援業",821,"社会教育",8215,"青少年教育施設"]
["O","教育，学習支援業",82,"その他の教育，学習支援業",821,"社会教育",8216,"社会通信教育"]
["O","教育，学習支援業",82,"その他の教育，学習支援業",821,"社会教育",8219,"その他の社会教育"]
["O","教育，学習支援業",82,"その他の教育，学習支援業",822,"職業・教育支援施設",8221,"職員教育施設・支援業"]
["O","教育，学習支援業",82,"その他の教育，学習支援業",822,"職業・教育支援施設",8222,"職業訓練施設"]
["O","教育，学習支援業",82,"その他の教育，学習支援業",822,"職業・教育支援施設",8229,"その他の職業・教育支援施設"]
["O","教育，学習支援業",82,"その他の教育，学習支援業",823,"学習塾",8231,"学習塾"]
["O","教育，学習支援業",82,"その他の教育，学習支援業",824,"教養・技能教授業",8241,"音楽教授業"]
["O","教育，学習支援業",82,"その他の教育，学習支援業",824,"教養・技能教授業",8242,"書道教授業"]
["O","教育，学習支援業",82,"その他の教育，学習支援業",824,"教養・技能教授業",8243,"生花・茶道教授業"]
["O","教育，学習支援業",82,"その他の教育，学習支援業",824,"教養・技能教授業",8244,"そろばん教授業"]
["O","教育，学習支援業",82,"その他の教育，学習支援業",824,"教養・技能教授業",8245,"外国語会話教授業"]
["O","教育，学習支援業",82,"その他の教育，学習支援業",824,"教養・技能教授業",8246,"スポーツ・健康教授業"]
["O","教育，学習支援業",82,"その他の教育，学習支援業",824,"教養・技能教授業",8249,"その他の教養・技能教授業"]
["O","教育，学習支援業",82,"その他の教育，学習支援業",829,"他に分類されない教育，学習支援業",8299,"他に分類されない教育，学習支援業"]
["P","医療，福祉",83,"医療業",830,"管理，補助的経済活動を行う事業所（83医療業）",8300,"主として管理事務を行う本社等"]
["P","医療，福祉",83,"医療業",830,"管理，補助的経済活動を行う事業所（83医療業）",8309,"その他の管理，補助的経済活動を行う事業所"]
["P","医療，福祉",83,"医療業",831,"病院",8311,"一般病院"]
["P","医療，福祉",83,"医療業",831,"病院",8312,"精神科病院"]
["P","医療，福祉",83,"医療業",832,"一般診療所",8321,"有床診療所"]
["P","医療，福祉",83,"医療業",832,"一般診療所",8322,"無床診療所"]
["P","医療，福祉",83,"医療業",833,"歯科診療所",8331,"歯科診療所"]
["P","医療，福祉",83,"医療業",834,"助産・看護業",8341,"助産所"]
["P","医療，福祉",83,"医療業",834,"助産・看護業",8342,"看護業"]
["P","医療，福祉",83,"医療業",835,"療術業",8351,"あん摩マッサージ指圧師・はり師・きゅう師・柔道整復師の施術所"]
["P","医療，福祉",83,"医療業",835,"療術業",8359,"その他の療術業"]
["P","医療，福祉",83,"医療業",836,"医療に附帯するサービス業",8361,"歯科技工所"]
["P","医療，福祉",83,"医療業",836,"医療に附帯するサービス業",8369,"その他の医療に附帯するサービス業"]
["P","医療，福祉",84,"保健衛生",840,"管理，補助的経済活動を行う事業所（84保健衛生）",8400,"主として管理事務を行う本社等"]
["P","医療，福祉",84,"保健衛生",840,"管理，補助的経済活動を行う事業所（84保健衛生）",8409,"その他の管理，補助的経済活動を行う事業所"]
["P","医療，福祉",84,"保健衛生",841,"保健所",8411,"保健所"]
["P","医療，福祉",84,"保健衛生",842,"健康相談施設",8421,"結核健康相談施設"]
["P","医療，福祉",84,"保健衛生",842,"健康相談施設",8422,"精神保健相談施設"]
["P","医療，福祉",84,"保健衛生",842,"健康相談施設",8423,"母子健康相談施設"]
["P","医療，福祉",84,"保健衛生",842,"健康相談施設",8429,"その他の健康相談施設"]
["P","医療，福祉",84,"保健衛生",849,"その他の保健衛生",8491,"検疫所（動物検疫所，植物防疫所を除く）"]
["P","医療，福祉",84,"保健衛生",849,"その他の保健衛生",8492,"検査業"]
["P","医療，福祉",84,"保健衛生",849,"その他の保健衛生",8493,"消毒業"]
["P","医療，福祉",84,"保健衛生",849,"その他の保健衛生",8499,"他に分類されない保健衛生"]
["P","医療，福祉",85,"社会保険・社会福祉・介護事業",850,"管理，補助的経済活動を行う事業所（85社会保険・社会福祉・介護事業）",8500,"主として管理事務を行う本社等"]
["P","医療，福祉",85,"社会保険・社会福祉・介護事業",850,"管理，補助的経済活動を行う事業所（85社会保険・社会福祉・介護事業）",8509,"その他の管理，補助的経済活動を行う事業所"]
["P","医療，福祉",85,"社会保険・社会福祉・介護事業",851,"社会保険事業団体",8511,"社会保険事業団体"]
["P","医療，福祉",85,"社会保険・社会福祉・介護事業",852,"福祉事務所",8521,"福祉事務所"]
["P","医療，福祉",85,"社会保険・社会福祉・介護事業",853,"児童福祉事業",8531,"保育所"]
["P","医療，福祉",85,"社会保険・社会福祉・介護事業",853,"児童福祉事業",8539,"その他の児童福祉事業"]
["P","医療，福祉",85,"社会保険・社会福祉・介護事業",854,"老人福祉・介護事業",8541,"特別養護老人ホーム"]
["P","医療，福祉",85,"社会保険・社会福祉・介護事業",854,"老人福祉・介護事業",8542,"介護老人保健施設"]
["P","医療，福祉",85,"社会保険・社会福祉・介護事業",854,"老人福祉・介護事業",8543,"通所・短期入所介護事業"]
["P","医療，福祉",85,"社会保険・社会福祉・介護事業",854,"老人福祉・介護事業",8544,"訪問介護事業"]
["P","医療，福祉",85,"社会保険・社会福祉・介護事業",854,"老人福祉・介護事業",8545,"認知症老人グループホーム"]
["P","医療，福祉",85,"社会保険・社会福祉・介護事業",854,"老人福祉・介護事業",8546,"有料老人ホーム"]
["P","医療，福祉",85,"社会保険・社会福祉・介護事業",854,"老人福祉・介護事業",8549,"その他の老人福祉・介護事業"]
["P","医療，福祉",85,"社会保険・社会福祉・介護事業",855,"障害者福祉事業",8551,"居住支援事業"]
["P","医療，福祉",85,"社会保険・社会福祉・介護事業",855,"障害者福祉事業",8559,"その他の障害者福祉事業"]
["P","医療，福祉",85,"社会保険・社会福祉・介護事業",859,"その他の社会保険・社会福祉・介護事業",8591,"更生保護事業"]
["P","医療，福祉",85,"社会保険・社会福祉・介護事業",859,"その他の社会保険・社会福祉・介護事業",8599,"他に分類されない社会保険・社会福祉・介護事業"]
["Q","複合サービス事業",86,"郵便局",860,"管理，補助的経済活動を行う事業所（86郵便局）",8601,"管理，補助的経済活動を行う事業所"]
["Q","複合サービス事業",86,"郵便局",861,"郵便局",8611,"郵便局"]
["Q","複合サービス事業",86,"郵便局",862,"郵便局受託業",8621,"簡易郵便局"]
["Q","複合サービス事業",86,"郵便局",862,"郵便局受託業",8629,"その他の郵便局受託業"]
["Q","複合サービス事業",87,"協同組合（他に分類されないもの）",870,"管理，補助的経済活動を行う事業所（87協同組合）",8701,"管理，補助的経済活動を行う事業所"]
["Q","複合サービス事業",87,"協同組合（他に分類されないもの）",871,"農林水産業協同組合（他に分類されないもの）",8711,"農業協同組合（他に分類されないもの）"]
["Q","複合サービス事業",87,"協同組合（他に分類されないもの）",871,"農林水産業協同組合（他に分類されないもの）",8712,"漁業協同組合（他に分類されないもの）"]
["Q","複合サービス事業",87,"協同組合（他に分類されないもの）",871,"農林水産業協同組合（他に分類されないもの）",8713,"水産加工業協同組合（他に分類されないもの）"]
["Q","複合サービス事業",87,"協同組合（他に分類されないもの）",871,"農林水産業協同組合（他に分類されないもの）",8714,"森林組合（他に分類されないもの）"]
["Q","複合サービス事業",87,"協同組合（他に分類されないもの）",872,"事業協同組合（他に分類されないもの）",8721,"事業協同組合（他に分類されないもの）"]
["R","サービス業（他に分類されないもの）",88,"廃棄物処理業",880,"管理，補助的経済活動を行う事業所（88廃棄物処理業）",8800,"主として管理事務を行う本社等"]
["R","サービス業（他に分類されないもの）",88,"廃棄物処理業",880,"管理，補助的経済活動を行う事業所（88廃棄物処理業）",8809,"その他の管理，補助的経済活動を行う事業所"]
["R","サービス業（他に分類されないもの）",88,"廃棄物処理業",881,"一般廃棄物処理業",8811,"し尿収集運搬業"]
["R","サービス業（他に分類されないもの）",88,"廃棄物処理業",881,"一般廃棄物処理業",8812,"し尿処分業"]
["R","サービス業（他に分類されないもの）",88,"廃棄物処理業",881,"一般廃棄物処理業",8813,"浄化槽清掃業"]
["R","サービス業（他に分類されないもの）",88,"廃棄物処理業",881,"一般廃棄物処理業",8814,"浄化槽保守点検業"]
["R","サービス業（他に分類されないもの）",88,"廃棄物処理業",881,"一般廃棄物処理業",8815,"ごみ収集運搬業"]
["R","サービス業（他に分類されないもの）",88,"廃棄物処理業",881,"一般廃棄物処理業",8816,"ごみ処分業"]
["R","サービス業（他に分類されないもの）",88,"廃棄物処理業",881,"一般廃棄物処理業",8817,"清掃事務所"]
["R","サービス業（他に分類されないもの）",88,"廃棄物処理業",882,"産業廃棄物処理業",8821,"産業廃棄物収集運搬業"]
["R","サービス業（他に分類されないもの）",88,"廃棄物処理業",882,"産業廃棄物処理業",8822,"産業廃棄物処分業"]
["R","サービス業（他に分類されないもの）",88,"廃棄物処理業",882,"産業廃棄物処理業",8823,"特別管理産業廃棄物収集運搬業"]
["R","サービス業（他に分類されないもの）",88,"廃棄物処理業",882,"産業廃棄物処理業",8824,"特別管理産業廃棄物処分業"]
["R","サービス業（他に分類されないもの）",88,"廃棄物処理業",889,"その他の廃棄物処理業",8891,"死亡獣畜取扱業"]
["R","サービス業（他に分類されないもの）",88,"廃棄物処理業",889,"その他の廃棄物処理業",8899,"他に分類されない廃棄物処理業"]
["R","サービス業（他に分類されないもの）",89,"自動車整備業",890,"管理，補助的経済活動を行う事業所（89自動車整備業）",8901,"管理，補助的経済活動を行う事業所"]
["R","サービス業（他に分類されないもの）",89,"自動車整備業",891,"自動車整備業",8911,"自動車一般整備業"]
["R","サービス業（他に分類されないもの）",89,"自動車整備業",891,"自動車整備業",8919,"その他の自動車整備業"]
["R","サービス業（他に分類されないもの）",90,"機械等修理業（別掲を除く）",900,"管理，補助的経済活動を行う事業所（90機械等修理業）",9000,"主として管理事務を行う本社等"]
["R","サービス業（他に分類されないもの）",90,"機械等修理業（別掲を除く）",900,"管理，補助的経済活動を行う事業所（90機械等修理業）",9009,"その他の管理，補助的経済活動を行う事業所"]
["R","サービス業（他に分類されないもの）",90,"機械等修理業（別掲を除く）",901,"機械修理業（電気機械器具を除く）",9011,"一般機械修理業（建設・鉱山機械を除く）"]
["R","サービス業（他に分類されないもの）",90,"機械等修理業（別掲を除く）",901,"機械修理業（電気機械器具を除く）",9012,"建設・鉱山機械整備業"]
["R","サービス業（他に分類されないもの）",90,"機械等修理業（別掲を除く）",902,"電気機械器具修理業",9021,"電気機械器具修理業"]
["R","サービス業（他に分類されないもの）",90,"機械等修理業（別掲を除く）",903,"表具業",9031,"表具業"]
["R","サービス業（他に分類されないもの）",90,"機械等修理業（別掲を除く）",909,"その他の修理業",9091,"家具修理業"]
["R","サービス業（他に分類されないもの）",90,"機械等修理業（別掲を除く）",909,"その他の修理業",9092,"時計修理業"]
["R","サービス業（他に分類されないもの）",90,"機械等修理業（別掲を除く）",909,"その他の修理業",9093,"履物修理業"]
["R","サービス業（他に分類されないもの）",90,"機械等修理業（別掲を除く）",909,"その他の修理業",9094,"かじ業"]
["R","サービス業（他に分類されないもの）",90,"機械等修理業（別掲を除く）",909,"その他の修理業",9099,"他に分類されない修理業"]
["R","サービス業（他に分類されないもの）",91,"職業紹介・労働者派遣業",910,"管理，補助的経済活動を行う事業所（91職業紹介・労働者派遣業）",9100,"主として管理事務を行う本社等"]
["R","サービス業（他に分類されないもの）",91,"職業紹介・労働者派遣業",910,"管理，補助的経済活動を行う事業所（91職業紹介・労働者派遣業）",9109,"その他の管理，補助的経済活動を行う事業所"]
["R","サービス業（他に分類されないもの）",91,"職業紹介・労働者派遣業",911,"職業紹介業",9111,"職業紹介業"]
["R","サービス業（他に分類されないもの）",91,"職業紹介・労働者派遣業",912,"労働者派遣業",9121,"労働者派遣業"]
["R","サービス業（他に分類されないもの）",92,"その他の事業サービス業",920,"管理，補助的経済活動を行う事業所（92その他の事業サービス業）",9200,"主として管理事務を行う本社等"]
["R","サービス業（他に分類されないもの）",92,"その他の事業サービス業",920,"管理，補助的経済活動を行う事業所（92その他の事業サービス業）",9209,"その他の管理，補助的経済活動を行う事業所"]
["R","サービス業（他に分類されないもの）",92,"その他の事業サービス業",921,"速記・ワープロ入力・複写業",9211,"速記・ワープロ入力業"]
["R","サービス業（他に分類されないもの）",92,"その他の事業サービス業",921,"速記・ワープロ入力・複写業",9212,"複写業"]
["R","サービス業（他に分類されないもの）",92,"その他の事業サービス業",922,"建物サービス業",9221,"ビルメンテナンス業"]
["R","サービス業（他に分類されないもの）",92,"その他の事業サービス業",922,"建物サービス業",9229,"その他の建物サービス業"]
["R","サービス業（他に分類されないもの）",92,"その他の事業サービス業",923,"警備業",9231,"警備業"]
["R","サービス業（他に分類されないもの）",92,"その他の事業サービス業",929,"他に分類されない事業サービス業",9291,"ディスプレイ業"]
["R","サービス業（他に分類されないもの）",92,"その他の事業サービス業",929,"他に分類されない事業サービス業",9292,"産業用設備洗浄業"]
["R","サービス業（他に分類されないもの）",92,"その他の事業サービス業",929,"他に分類されない事業サービス業",9293,"看板書き業"]
["R","サービス業（他に分類されないもの）",92,"その他の事業サービス業",929,"他に分類されない事業サービス業",9299,"他に分類されないその他の事業サービス業"]
["R","サービス業（他に分類されないもの）",93,"政治・経済・文化団体",931,"経済団体",9311,"実業団体"]
["R","サービス業（他に分類されないもの）",93,"政治・経済・文化団体",931,"経済団体",9312,"同業団体"]
["R","サービス業（他に分類されないもの）",93,"政治・経済・文化団体",932,"労働団体",9321,"労働団体"]
["R","サービス業（他に分類されないもの）",93,"政治・経済・文化団体",933,"学術・文化団体",9331,"学術団体"]
["R","サービス業（他に分類されないもの）",93,"政治・経済・文化団体",933,"学術・文化団体",9332,"文化団体"]
["R","サービス業（他に分類されないもの）",93,"政治・経済・文化団体",934,"政治団体",9341,"政治団体"]
["R","サービス業（他に分類されないもの）",93,"政治・経済・文化団体",939,"他に分類されない非営利的団体",9399,"他に分類されない非営利的団体"]
["R","サービス業（他に分類されないもの）",94,"宗教",941,"神道系宗教",9411,"神社，神道教会"]
["R","サービス業（他に分類されないもの）",94,"宗教",941,"神道系宗教",9412,"教派事務所"]
["R","サービス業（他に分類されないもの）",94,"宗教",942,"仏教系宗教",9421,"寺院，仏教教会"]
["R","サービス業（他に分類されないもの）",94,"宗教",942,"仏教系宗教",9422,"宗派事務所"]
["R","サービス業（他に分類されないもの）",94,"宗教",943,"キリスト教系宗教",9431,"キリスト教教会，修道院"]
["R","サービス業（他に分類されないもの）",94,"宗教",943,"キリスト教系宗教",9432,"教団事務所"]
["R","サービス業（他に分類されないもの）",94,"宗教",949,"その他の宗教",9491,"その他の宗教の教会"]
["R","サービス業（他に分類されないもの）",94,"宗教",949,"その他の宗教",9499,"その他の宗教の教団事務所"]
["R","サービス業（他に分類されないもの）",95,"その他のサービス業",950,"管理，補助的経済活動を行う事業所（95その他のサービス業）",9501,"管理，補助的経済活動を行う事業所"]
["R","サービス業（他に分類されないもの）",95,"その他のサービス業",951,"集会場",9511,"集会場"]
["R","サービス業（他に分類されないもの）",95,"その他のサービス業",952,"と畜場",9521,"と畜場"]
["R","サービス業（他に分類されないもの）",95,"その他のサービス業",959,"他に分類されないサービス業",9599,"他に分類されないサービス業"]
["R","サービス業（他に分類されないもの）",96,"外国公務",961,"外国公館",9611,"外国公館"]
["R","サービス業（他に分類されないもの）",96,"外国公務",969,"その他の外国公務",9699,"その他の外国公務"]
["S","公務（他に分類されるものを除く）",97,"国家公務",971,"立法機関",9711,"立法機関"]
["S","公務（他に分類されるものを除く）",97,"国家公務",972,"司法機関",9721,"司法機関"]
["S","公務（他に分類されるものを除く）",97,"国家公務",973,"行政機関",9731,"行政機関"]
["S","公務（他に分類されるものを除く）",98,"地方公務",981,"都道府県機関",9811,"都道府県機関"]
["S","公務（他に分類されるものを除く）",98,"地方公務",982,"市町村機関",9821,"市町村機関"]
["T","分類不能の産業","99 分","類不能の産業",999,"分類不能の産業",9999,"分類不能の産業"]

{"sheet":"使用方法","index":6,"n_rows":85,"n_cols":10,"rows_kept":85,"cut":false,"hidden":true,"merged":[[5,1,5,4],[4,1,4,4],[3,1,3,4],[0,0,0,9]]}
["本ファイルの使用方法"]
[null,null,null,null,null,null,null,null,null,"ver.2.11"]
["目次"]
[null,"１．使用上の留意事項"]
[null,"２．記入方法について"]
[null,"３．結果の表示とシートの印刷方法"]
[null,"４．付録機能"]
[]
[null,"　本ファイルは事業所における二酸化炭素削減対策（省エネ対策）の取組状況について、チェックシートを"]
[null,"利用し、取組状況を評価、点検することができます。取組結果はレーダチャートで表記され、取組レベルや"]
[null,"注力すべき課題を見える化しており、活動の管理ツールに利用することができます。"]
[null,"チェックシートを参照、確認していくことで、取組むべき対策内容のヒントにすることができます。"]
[]
["1．使用上の留意事項"]
[null,"○   本ファイルを利用するには《マクロ有効》の状態にしてください。"]
[null,"     マクロを有効にするには、ファイルを開いた際に、「マクロ有効（コンテンツの有効化）」をクリックするか、"]
[null,"    〈ファイル〉⇒〈オプション〉⇒〈セキュリティセンター〉⇒〈セキュリティセンターの設定〉⇒〈マクロの設定〉"]
[null,"     で”マクロの有効”を選択します。"]
[]
[null,"○   ファイルを保存する場合はファイル拡張子を.xlsm で保存します。"]
[null,"    （拡張子が.xlsx や .xlsでは本ファイルのマクロ機能が利用できなくなります。）"]
[]
["２．記入方法について"]
[null,"○　《メニュー》画面より、CO₂排出量の対象とする施設区分を選択します。（対象区分は複数選択可）"]
[null,"     ■ 対象施設区分： 事務所・ビル、 店舗・商業施設、 工場・現場、  病院・学校、 倉庫・置場、  自動車"]
[]
[null,"○　《メニュー》画面で、エネルギー管理対象の項目ボタンを選択、クリックします。"]
[null,"     選択した対象について、一般的に取組べき省エネ対策項目がシートに表で現れます。"]
[]
[null,"○　基本項目は事業所で行われるべき対処項目、標準項目はおおよそがさらに取組レベルを上げるべく、"]
[null,"　　対策項目となっています。"]
[]
[null,"○　表の各項目について、自所の対応状況を \"○\"、 \"△\"、 \"×\"で評価します。概ねの評価基準は"]
[null,"     次のとおりです。"]
[null,"　   項目について自所に該当する設備がない場合、あるいは、対応内容が該当しない場合は、”空欄"]
[null,"     のまま”とします。"]
[]
[]
[]
[null,"○　”選択”欄が\"１\"となっているものが採点対象項目です。\"０\" の場合は該当外を示しています。"]
[null,"　　 基本項目、標準項目、また、選択した対象施設により、採点対象は異なります。"]
[]
[null,"○   ”評価点”の採点結果はあたまに ● のある取組内容は取組みべき基本的な対策を示します。"]
[null,"     基本対策だけの実施評価率が示されます。"]
[]
[null,"○   各作業シートからは〈メニュー画面に戻る〉ボタンをクリックすることで、《メニュー》画面に戻ることが"]
[null,"　　 できます。"]
[]
["３．結果の表示とシートの印刷方法"]
[null,"○　《メニュー》シート画面にて、〈集計結果の表示〉ボタンをクリックすると、《印刷用集計》シートが現れ、"]
[null,"　　 全メニューでの集計結果が表示されます。　表の最後に評価点数が表示されます。"]
[]
[null,"○　各項目での実施率が”評価点”欄に数値で表記されます。各項目の点数は５点満点評価とし、"]
[null,"     以下のとおり採点します。　　　　　　○････５点、　△････３点、　×････１点、　空欄････評価外"]
[]
[null,"○　基本項目、標準項目とも、各対象設備ごとの平均点（最高５．０点満点）で表示され、併せて、取組"]
[null,"　　レベルについて、５点を１００％とした割合で表示されます。"]
[]
[null,"○  基本項目、標準項目は「エコアップ認証実施要綱」のⅡ二酸化炭素削減対策認証基準（Ｐ５）での"]
[null,"　　《基本対策》《追加対策》に相当します。"]
[]
[null,"○　《印刷集計表》シートでの集計結果が《グラフ》シート及び≪項目グラフ≫シートに表示されます。"]
[null,"　　事業所の取組課題の抽出、取組レベルの進度評価等に利用できます。"]
[]
[null,"○　集計結果シートの印刷は、〈ファイル〉⇒〈印刷〉の順で印刷指示画面に移動し、印刷を行います。"]
["４．付録機能"]
[null,"付録機能で、以下の操作ができます。"]
[null,"◎以前のファイル*からの記入データを利用"]
[null,"　本ファイルを開いた後に、データを読み取りたいコピー元ファイルを開いた後、下の「データコピー」"]
[null,"　ボタンをクリックします。"]
[]
[]
[]
[]
[null,"◎以前のファイル*の採点との異なっている箇所の色付け"]
[null,"　本ファイルを開いた後に、データを読み取りたいコピー元ファイルを開いた後、下の「異値の色付け」"]
[null,"　ボタンをクリックします。色を戻すには、「色付けを戻す」ボタンをクリックします。"]
[]
[]
[]
[]
[]
[]
[]
[null,"＊対象ファイルは「二酸化炭素削減対策等チェックシート」ver.2.00以降の様式です。"]