{"text_format":"1","workbook":"xlsx","n_sheets":37,"sheets":["スタート画面","スタート画面_初利用","保護者の皆様へ","子供たちへ","初期設定","日付選択","スタート","カレンダー","睡眠","起床","寝起き","朝食","学校遊び朝","学校勉強","学校遊び昼","給食","お家遊び","お家勉強","夜ごはん","はみがき","テレビゲーム","お風呂シャワー","はいべん","入力確認","日報","誕生日","週計","集計(週)","集計(年)","月別スコア","基本項目","参考(質問回答)","画像置場","回答一覧","年齢計算用","開発用","メダルの判定"],"not_rendered":{"charts":0,"images":58,"macros":1,"external_links":1,"defined_names":9,"comments":1,"pivot_tables":0},"unopened":[],"bounds":{"document_bytes":16777216,"sheet_cells":100000,"rows_first":2000,"rows_last":500,"rows_between":2000,"halvings":0,"cell_chars":16384,"cell_head_chars":4096},"cells_cut":0,"cells_raw":0,"read":"whole","date_system":"1900"}

{"sheet":"スタート画面","index":0,"n_rows":2,"n_cols":2,"rows_kept":2,"cut":false,"hidden":false,"merged":[[12,2,15,8],[16,2,19,8],[20,2,23,8],[24,2,27,8],[1,1,4,9]]}
[]
[null,"「せいかつしゅうかんしんだんシート」"]

{"sheet":"スタート画面_初利用","index":1,"n_rows":0,"n_cols":0,"rows_kept":0,"cut":false,"hidden":false,"merged":[[0,0,8,9],[12,1,15,7],[16,1,19,7],[20,1,23,7],[24,1,27,7]]}

{"sheet":"保護者の皆様へ","index":2,"n_rows":54,"n_cols":4,"rows_kept":54,"cut":false,"hidden":false,"merged":[]}
[]
[]
[]
[]
[]
[]
[]
[]
[]
[]
[]
[]
[]
[]
[]
[]
[]
[]
[]
[]
[]
[]
[]
[]
[]
[]
[]
[]
[]
[]
[]
[]
[]
[]
[]
[]
[]
[]
[]
[]
[]
[]
[]
[]
[]
[]
[]
[]
[]
[]
[]
[]
[]
[null,null,null,"　　　　　文部科学省委託事業　　子どもの体力向上支援事業"]

{"sheet":"子供たちへ","index":3,"n_rows":0,"n_cols":0,"rows_kept":0,"cut":false,"hidden":false,"merged":[]}

{"sheet":"初期設定","index":4,"n_rows":9,"n_cols":16,"rows_kept":9,"cut":false,"hidden":false,"merged":[[6,4,6,5],[7,4,7,13],[1,4,1,13],[2,4,2,13],[5,4,5,13],[4,4,4,5],[3,12,3,13],[3,4,3,7]]}
[]
[null,null,null,"おなまえ","さいたま　けんたろう"]
[null,null,null,"がっこうめい","さいたま第二小学校"]
[null,null,null,"がくねん",{"$f":"IF(ISERROR(VLOOKUP(DATEDIF(O5,$P$4,\"Y\"),LIST,2,TRUE)),\"\",VLOOKUP(DATEDIF(O5,$P$4,\"Y\"),LIST,2,TRUE))","v":"1ねん"},null,null,null,6,"くみ",null,15,"ばん",null,{"$f":"G5","v":2010},{"$f":"DATE(YEAR(TODAY())-(MONTH(TODAY())<=3)*1,4,1)","v":"2017-04-01"}]
[null,null,null,"せいねんがっぴ","平成",null,2010,"年",10,"月",2,7,"日",null,{"$f":"O4&\"/\" & IF(I5=\"\",1,I5) & \"/\" & IF(AND(K5=\"\",L5=\"\"),1,K5&L5)","v":"2010/10/27"},{"$f":"IF(ISERROR(O5+0),\"err\",O5+0)","v":"2010-10-27"}]
[null,null,null,"せいべつ","おとこ",null,null,null,null,null,null,null,null,null,{"$f":"G7","v":2017}]
[null,null,null,"きろくをはじめるひ","平成",null,2017,"年",11,"月",0,1,"日",null,{"$f":"O6&\"/\" & I7 & \"/\" & K7&L7","v":"2017/11/01"}]
[null,null,null,"きろくがおわるひ",{"$f":"IF(ISERROR(O8),\"きろくをはじめるひがおかしいよ\",O8)","v":"2018-10-31"},null,null,null,null,null,null,null,null,null,{"$f":"O7+P8","v":"2018-10-31"},{"$f":"IF(DAY(DATE(O6,2,29))=29,366-1,365-1)","v":364}]
[null,null,null,null,null,null,null,null,null,null,null,null,null,null,1]

{"sheet":"日付選択","index":5,"n_rows":0,"n_cols":0,"rows_kept":0,"cut":false,"hidden":false,"merged":[]}

{"sheet":"スタート","index":6,"n_rows":6,"n_cols":2,"rows_kept":6,"cut":false,"hidden":false,"merged":[[7,6,7,12]]}
[null,{"$f":"IF(ISERROR(VLOOKUP(A1,'集計(年)'!A4:V368,22,FALSE)),\"0\",VLOOKUP(A1,'集計(年)'!A4:V368,22,FALSE))","v":"0"}]
[]
[]
[]
["2017-11-01"]
["2018-10-31"]

{"sheet":"カレンダー","index":7,"n_rows":17,"n_cols":20,"rows_kept":17,"cut":false,"hidden":false,"merged":[[11,20,12,20],[11,5,12,7],[11,8,12,8],[11,17,12,18],[11,19,12,19]]}
["2013-02-01"]
[null,"2017/11/01からきょうのあいだからえらんでね"]
[]
[]
[]
[]
[]
[]
[]
[]
[]
[null,null,null,null,null,2017,null,null,"年","日","月","火","水","木","金","土",null,10,null,"月"]
[null,null,null,null,null,null,null,null,null,1,2,3,4,5,6,7]
[null,null,null,null,null,null,null,null,null,8,9,10,11,12,13,14]
[null,null,null,null,null,null,null,null,null,15,16,17,18,19,20,21]
[null,null,null,null,null,null,null,null,null,22,23,24,25,26,27,28]
[null,null,null,null,null,null,null,null,null,29,30,31]

{"sheet":"睡眠","index":8,"n_rows":27,"n_cols":8,"rows_kept":27,"cut":false,"hidden":false,"merged":[[22,4,25,4],[22,7,25,7],[22,2,25,3],[22,5,25,6]]}
[]
[]
[]
[]
[]
[]
[]
[]
[]
[]
[]
[]
[]
[]
[]
[]
[]
[]
[]
[]
[]
[]
[null,null,9,null,"時",0,null,"分"]
[]
[]
[]
[null,null,"ちょくせつすうじをいれてもいいよ！"]

{"sheet":"起床","index":9,"n_rows":27,"n_cols":8,"rows_kept":27,"cut":false,"hidden":false,"merged":[[22,4,25,4],[22,7,25,7],[22,2,25,3],[22,5,25,6]]}
[]
[]
[]
[]
[]
[]
[]
[]
[]
[]
[]
[]
[]
[]
[]
[]
[]
[]
[]
[]
[]
[]
[null,null,7,null,"時",0,null,"分"]
[]
[]
[]
[null,null,"ちょくせつすうじをいれてもいいよ！"]

{"sheet":"寝起き","index":10,"n_rows":1,"n_cols":4,"rows_kept":1,"cut":false,"hidden":false,"merged":[]}
[null,null,"00:00:00","00:00:00"]

{"sheet":"朝食","index":11,"n_rows":0,"n_cols":0,"rows_kept":0,"cut":false,"hidden":false,"merged":[]}

{"sheet":"学校遊び朝","index":12,"n_rows":0,"n_cols":0,"rows_kept":0,"cut":false,"hidden":false,"merged":[]}

{"sheet":"学校勉強","index":13,"n_rows":0,"n_cols":0,"rows_kept":0,"cut":false,"hidden":false,"merged":[]}

{"sheet":"学校遊び昼","index":14,"n_rows":0,"n_cols":0,"rows_kept":0,"cut":false,"hidden":false,"merged":[]}

{"sheet":"給食","index":15,"n_rows":0,"n_cols":0,"rows_kept":0,"cut":false,"hidden":false,"merged":[]}

{"sheet":"お家遊び","index":16,"n_rows":0,"n_cols":0,"rows_kept":0,"cut":false,"hidden":false,"merged":[]}

{"sheet":"お家勉強","index":17,"n_rows":0,"n_cols":0,"rows_kept":0,"cut":false,"hidden":false,"merged":[]}

{"sheet":"夜ごはん","index":18,"n_rows":0,"n_cols":0,"rows_kept":0,"cut":false,"hidden":false,"merged":[]}

{"sheet":"はみがき","index":19,"n_rows":0,"n_cols":0,"rows_kept":0,"cut":false,"hidden":false,"merged":[]}

{"sheet":"テレビゲーム","index":20,"n_rows":0,"n_cols":0,"rows_kept":0,"cut":false,"hidden":false,"merged":[]}

{"sheet":"お風呂シャワー","index":21,"n_rows":0,"n_cols":0,"rows_kept":0,"cut":false,"hidden":false,"merged":[]}

{"sheet":"はいべん","index":22,"n_rows":0,"n_cols":0,"rows_kept":0,"cut":false,"hidden":false,"merged":[]}

{"sheet":"入力確認","index":23,"n_rows":18,"n_cols":6,"rows_kept":18,"cut":false,"hidden":false,"merged":[[2,1,5,1],[6,1,8,1],[9,1,11,1],[12,1,13,1],[14,1,17,1]]}
[null,null,"きょう の こたえ の みなおし"]
[null,null,"しつもん","こたえ","やりなおす？"]
[null,"すいみん","ねたじかん","09:00:00",null,1]
[null,null,"おきたじかん","07:00:00",null,2]
[null,null,"すいみんじかん","10:00:00"]
[null,null,"じぶんでおきた","①じぶんでおきた",null,3]
[null,"しょくじ","あさ　\nおいしくぜんぶたべた","①おいしくぜんぶたべた",null,4]
[null,null,"　ひる　\nおいしくぜんぶたべた","①おいしくぜんぶたべた",null,5]
[null,null,"よる　\nおししくぜんぶたべた","①おいしくぜんぶたべた",null,6]
[null,"うんどう","ごぜんちゅう\r\nそとであそんだ","①そとであそんだ",null,7]
[null,null,"ごご\r\nそとであそんだ","①そとであそんだ",null,8]
[null,null,"きょうは\r\nどれぐらいあそんだ？","①そとであそんだ",null,9]
[null,"べん\nき\nょ\nう","すすんで\nべんきょうができた","①すすんでべんきょうができた",null,10]
[null,null,"おうちで３０ぷんより\nおおくべんきょうした","①30ぷんよりおおくべんきょうをした",null,11]
[null,"そのほか","テレビ・ゲームをするじかんは\n１じかんよりすくなかった","①１じかんよりすくなかった",null,12]
[null,null,"おふろにはいった","①おふろにはいった",null,13]
[null,null,"３かい\nはみがきができた","①3かいはみがきをした",null,14]
[null,null,"あさ\nはいべんができてすっきりした","①あさにでてすっきりした",null,15]

{"sheet":"日報","index":24,"n_rows":19,"n_cols":4,"rows_kept":19,"cut":false,"hidden":false,"merged":[[18,2,19,10],[3,1,4,11],[1,1,2,11],[7,3,8,9],[5,3,6,9]]}
[1]
[null,"2017-10-31"]
[]
[null,"今日の“せいかつ”メダル"]
[]
[null,null,null,{"$f":"初期設定!E3&\" \"&初期設定!E4","v":"さいたま第二小学校 1ねん"}]
[]
[null,null,null,{"$f":"IF(初期設定!E2=\"\",\"\",IF(初期設定!E6=\"おとこ\",初期設定!E2&\"　くん\",初期設定!E2&\"　さん\"))","v":"さいたま　けんたろう　くん"}]
[]
[]
[]
[]
[]
[]
[]
[]
[]
[]
[null,null,"あしたも金メダルもらえるように、\r\nがんばろうね"]

{"sheet":"誕生日","index":25,"n_rows":19,"n_cols":3,"rows_kept":19,"cut":false,"hidden":false,"merged":[[2,2,3,10],[6,2,7,10],[18,2,20,10],[4,2,5,10]]}
[]
[]
[null,null,{"$f":"TODAY()","v":"2017-10-31"}]
[]
[null,null,"おたんじょうびおめでとう"]
[]
[null,null,{"$f":"IF(初期設定!E2=\"\",\"\",IF(初期設定!E6=\"おとこ\",初期設定!E2&\"　くん\",初期設定!E2&\"　さん\"))","v":"さいたま　けんたろう　くん"}]
[]
[]
[]
[]
[]
[]
[]
[]
[]
[]
[]
[null,null,"これからも もっともっと \n金メダルもらえるようにがんばろうね"]

{"sheet":"週計","index":26,"n_rows":37,"n_cols":20,"rows_kept":37,"cut":false,"hidden":false,"merged":[[35,5,35,9],[36,5,36,9],[37,5,37,9],[35,1,35,3],[36,1,36,3],[37,1,37,3],[15,1,16,1],[17,1,20,1],[21,1,21,2],[4,10,5,10],[6,1,8,1],[6,2,7,2],[6,10,7,10],[9,1,11,1],[12,1,14,1]]}
["2017-10-31",{"$f":"IF(ISERROR(VLOOKUP(A1,'集計(年)'!A4:V368,22,FALSE)),\"0\",VLOOKUP(A1,'集計(年)'!A4:V368,22,FALSE))","v":"0"},{"$f":"INDIRECT(\"'集計(年)'!AB\"&B1)","v":{"$error":"#REF!"}}]
[null,"2017/09/30からきょうのあいだからえらんでね"]
[]
[]
[null,null,"　　　　　　　　　　　　　　　　　　ひにち ","6日前","5日前","4日前","3日前","おととい","きのう","きょう","いっしゅうかん\nメダルのいろ"]
[null,null,"　　こうもく",{"$f":"E6-1","v":"2017-10-25"},"2017-10-26","2017-10-27","2017-10-28","2017-10-29","2017-10-30","2017-10-31",null,null,"取得する列","1の合計","2の合計","3の合計","4の合計","0の合計","白の判定","排便（銀)の判定"]
[null,"すいみん","すいみんじかん",{"$f":"IF(ISERROR(VLOOKUP(D$6,'集計(年)'!$A$4:$U$368,$M$7,FALSE)),\"0\",VLOOKUP(D$6,'集計(年)'!$A$4:$U$368,$M$7,FALSE))","v":"0"},{"$f":"IF(ISERROR(VLOOKUP(E$6,'集計(年)'!$A$4:$U$368,$M$7,FALSE)),\"0\",VLOOKUP(E$6,'集計(年)'!$A$4:$U$368,$M$7,FALSE))","v":"0"},{"$f":"IF(ISERROR(VLOOKUP(F$6,'集計(年)'!$A$4:$U$368,$M$7,FALSE)),\"0\",VLOOKUP(F$6,'集計(年)'!$A$4:$U$368,$M$7,FALSE))","v":"0"},{"$f":"IF(ISERROR(VLOOKUP(G$6,'集計(年)'!$A$4:$U$368,$M$7,FALSE)),\"0\",VLOOKUP(G$6,'集計(年)'!$A$4:$U$368,$M$7,FALSE))","v":"0"},{"$f":"IF(ISERROR(VLOOKUP(H$6,'集計(年)'!$A$4:$U$368,$M$7,FALSE)),\"0\",VLOOKUP(H$6,'集計(年)'!$A$4:$U$368,$M$7,FALSE))","v":"0"},{"$f":"IF(ISERROR(VLOOKUP(I$6,'集計(年)'!$A$4:$U$368,$M$7,FALSE)),\"0\",VLOOKUP(I$6,'集計(年)'!$A$4:$U$368,$M$7,FALSE))","v":"0"},{"$f":"IF(ISERROR(VLOOKUP(J$6,'集計(年)'!$A$4:$U$368,$M$7,FALSE)),\"0\",VLOOKUP(J$6,'集計(年)'!$A$4:$U$368,$M$7,FALSE))","v":"0"},{"$f":"IF(S7=1,4,IF(N7=7,1,IF(N7>=4,2,3)))","v":4},null,21,{"$f":"COUNTIF($D7:$J7,1)","v":0},{"$f":"COUNTIF($D7:$J7,2)","v":0},{"$f":"COUNTIF($D7:$J7,3)","v":0},{"$f":"COUNTIF($D7:$J7,4)","v":0},{"$f":"COUNTIF($D7:$J7,0)","v":7},{"$f":"IF(AND(P7=0,Q7=0,R7=0),0,1)","v":1}]
[null,null,null,{"$f":"IF(ISERROR(VLOOKUP(D$6,'集計(年)'!$A$4:$T$368,3,FALSE)),\"0:00\",VLOOKUP(D$6,'集計(年)'!$A$4:$T$368,3,FALSE))","v":"0:00"},{"$f":"IF(ISERROR(VLOOKUP(E$6,'集計(年)'!$A$4:$T$368,3,FALSE)),\"0:00\",VLOOKUP(E$6,'集計(年)'!$A$4:$T$368,3,FALSE))","v":"0:00"},{"$f":"IF(ISERROR(VLOOKUP(F$6,'集計(年)'!$A$4:$T$368,3,FALSE)),\"0:00\",VLOOKUP(F$6,'集計(年)'!$A$4:$T$368,3,FALSE))","v":"0:00"},{"$f":"IF(ISERROR(VLOOKUP(G$6,'集計(年)'!$A$4:$T$368,3,FALSE)),\"0:00\",VLOOKUP(G$6,'集計(年)'!$A$4:$T$368,3,FALSE))","v":"0:00"},{"$f":"IF(ISERROR(VLOOKUP(H$6,'集計(年)'!$A$4:$T$368,3,FALSE)),\"0:00\",VLOOKUP(H$6,'集計(年)'!$A$4:$T$368,3,FALSE))","v":"0:00"},{"$f":"IF(ISERROR(VLOOKUP(I$6,'集計(年)'!$A$4:$T$368,3,FALSE)),\"0:00\",VLOOKUP(I$6,'集計(年)'!$A$4:$T$368,3,FALSE))","v":"0:00"},{"$f":"IF(ISERROR(VLOOKUP(J$6,'集計(年)'!$A$4:$T$368,3,FALSE)),\"0:00\",VLOOKUP(J$6,'集計(年)'!$A$4:$T$368,3,FALSE))","v":"0:00"},null,null,3]
[null,null,"じぶんでおきた",{"$f":"IF(ISERROR(VLOOKUP(D$6,'集計(年)'!$A$4:$T$368,$M9,FALSE)),0,VLOOKUP(D$6,'集計(年)'!$A$4:$T$368,$M9,FALSE))","v":0},{"$f":"IF(ISERROR(VLOOKUP(E$6,'集計(年)'!$A$4:$T$368,$M9,FALSE)),0,VLOOKUP(E$6,'集計(年)'!$A$4:$T$368,$M9,FALSE))","v":0},{"$f":"IF(ISERROR(VLOOKUP(F$6,'集計(年)'!$A$4:$T$368,$M9,FALSE)),0,VLOOKUP(F$6,'集計(年)'!$A$4:$T$368,$M9,FALSE))","v":0},{"$f":"IF(ISERROR(VLOOKUP(G$6,'集計(年)'!$A$4:$T$368,$M9,FALSE)),0,VLOOKUP(G$6,'集計(年)'!$A$4:$T$368,$M9,FALSE))","v":0},{"$f":"IF(ISERROR(VLOOKUP(H$6,'集計(年)'!$A$4:$T$368,$M9,FALSE)),0,VLOOKUP(H$6,'集計(年)'!$A$4:$T$368,$M9,FALSE))","v":0},{"$f":"IF(ISERROR(VLOOKUP(I$6,'集計(年)'!$A$4:$T$368,$M9,FALSE)),0,VLOOKUP(I$6,'集計(年)'!$A$4:$T$368,$M9,FALSE))","v":0},{"$f":"IF(ISERROR(VLOOKUP(J$6,'集計(年)'!$A$4:$T$368,$M9,FALSE)),0,VLOOKUP(J$6,'集計(年)'!$A$4:$T$368,$M9,FALSE))","v":0},{"$f":"IF(S9=1,4,IF(N9=7,1,IF(N9>=4,2,3)))","v":4},null,2,{"$f":"COUNTIF($D9:$J9,1)","v":0},{"$f":"COUNTIF($D9:$J9,2)","v":0},{"$f":"COUNTIF($D9:$J9,3)","v":0},{"$f":"COUNTIF($D9:$J9,4)","v":0},{"$f":"COUNTIF($D9:$J9,0)","v":7},{"$f":"IF(AND(P9=0,Q9=0,R9=0),0,1)","v":1}]
[null,"しょくじ","あさ　\nおいしくぜんぶたべた",{"$f":"IF(ISERROR(VLOOKUP(D$6,'集計(年)'!$A$4:$T$368,$M10,FALSE)),0,VLOOKUP(D$6,'集計(年)'!$A$4:$T$368,$M10,FALSE))","v":0},{"$f":"IF(ISERROR(VLOOKUP(E$6,'集計(年)'!$A$4:$T$368,$M10,FALSE)),0,VLOOKUP(E$6,'集計(年)'!$A$4:$T$368,$M10,FALSE))","v":0},{"$f":"IF(ISERROR(VLOOKUP(F$6,'集計(年)'!$A$4:$T$368,$M10,FALSE)),0,VLOOKUP(F$6,'集計(年)'!$A$4:$T$368,$M10,FALSE))","v":0},{"$f":"IF(ISERROR(VLOOKUP(G$6,'集計(年)'!$A$4:$T$368,$M10,FALSE)),0,VLOOKUP(G$6,'集計(年)'!$A$4:$T$368,$M10,FALSE))","v":0},{"$f":"IF(ISERROR(VLOOKUP(H$6,'集計(年)'!$A$4:$T$368,$M10,FALSE)),0,VLOOKUP(H$6,'集計(年)'!$A$4:$T$368,$M10,FALSE))","v":0},{"$f":"IF(ISERROR(VLOOKUP(I$6,'集計(年)'!$A$4:$T$368,$M10,FALSE)),0,VLOOKUP(I$6,'集計(年)'!$A$4:$T$368,$M10,FALSE))","v":0},{"$f":"IF(ISERROR(VLOOKUP(J$6,'集計(年)'!$A$4:$T$368,$M10,FALSE)),0,VLOOKUP(J$6,'集計(年)'!$A$4:$T$368,$M10,FALSE))","v":0},{"$f":"IF(S10=1,4,IF(N10=7,1,IF(N10>=4,2,3)))","v":4},null,6,{"$f":"COUNTIF($D10:$J10,1)","v":0},{"$f":"COUNTIF($D10:$J10,2)","v":0},{"$f":"COUNTIF($D10:$J10,3)","v":0},{"$f":"COUNTIF($D10:$J10,4)","v":0},7,1]
[null,null,"　ひる　\nおいしくぜんぶたべた",{"$f":"IF(ISERROR(VLOOKUP(D$6,'集計(年)'!$A$4:$T$368,$M11,FALSE)),0,VLOOKUP(D$6,'集計(年)'!$A$4:$T$368,$M11,FALSE))","v":0},{"$f":"IF(ISERROR(VLOOKUP(E$6,'集計(年)'!$A$4:$T$368,$M11,FALSE)),0,VLOOKUP(E$6,'集計(年)'!$A$4:$T$368,$M11,FALSE))","v":0},{"$f":"IF(ISERROR(VLOOKUP(F$6,'集計(年)'!$A$4:$T$368,$M11,FALSE)),0,VLOOKUP(F$6,'集計(年)'!$A$4:$T$368,$M11,FALSE))","v":0},{"$f":"IF(ISERROR(VLOOKUP(G$6,'集計(年)'!$A$4:$T$368,$M11,FALSE)),0,VLOOKUP(G$6,'集計(年)'!$A$4:$T$368,$M11,FALSE))","v":0},{"$f":"IF(ISERROR(VLOOKUP(H$6,'集計(年)'!$A$4:$T$368,$M11,FALSE)),0,VLOOKUP(H$6,'集計(年)'!$A$4:$T$368,$M11,FALSE))","v":0},{"$f":"IF(ISERROR(VLOOKUP(I$6,'集計(年)'!$A$4:$T$368,$M11,FALSE)),0,VLOOKUP(I$6,'集計(年)'!$A$4:$T$368,$M11,FALSE))","v":0},{"$f":"IF(ISERROR(VLOOKUP(J$6,'集計(年)'!$A$4:$T$368,$M11,FALSE)),0,VLOOKUP(J$6,'集計(年)'!$A$4:$T$368,$M11,FALSE))","v":0},{"$f":"IF(S11=1,4,IF(N11=7,1,IF(N11>=4,2,3)))","v":4},null,7,0,0,0,0,7,1]
[null,null,"よる　\nおししくぜんぶたべた",{"$f":"IF(ISERROR(VLOOKUP(D$6,'集計(年)'!$A$4:$T$368,$M12,FALSE)),0,VLOOKUP(D$6,'集計(年)'!$A$4:$T$368,$M12,FALSE))","v":0},{"$f":"IF(ISERROR(VLOOKUP(E$6,'集計(年)'!$A$4:$T$368,$M12,FALSE)),0,VLOOKUP(E$6,'集計(年)'!$A$4:$T$368,$M12,FALSE))","v":0},{"$f":"IF(ISERROR(VLOOKUP(F$6,'集計(年)'!$A$4:$T$368,$M12,FALSE)),0,VLOOKUP(F$6,'集計(年)'!$A$4:$T$368,$M12,FALSE))","v":0},{"$f":"IF(ISERROR(VLOOKUP(G$6,'集計(年)'!$A$4:$T$368,$M12,FALSE)),0,VLOOKUP(G$6,'集計(年)'!$A$4:$T$368,$M12,FALSE))","v":0},{"$f":"IF(ISERROR(VLOOKUP(H$6,'集計(年)'!$A$4:$T$368,$M12,FALSE)),0,VLOOKUP(H$6,'集計(年)'!$A$4:$T$368,$M12,FALSE))","v":0},{"$f":"IF(ISERROR(VLOOKUP(I$6,'集計(年)'!$A$4:$T$368,$M12,FALSE)),0,VLOOKUP(I$6,'集計(年)'!$A$4:$T$368,$M12,FALSE))","v":0},{"$f":"IF(ISERROR(VLOOKUP(J$6,'集計(年)'!$A$4:$T$368,$M12,FALSE)),0,VLOOKUP(J$6,'集計(年)'!$A$4:$T$368,$M12,FALSE))","v":0},4,null,8,0,0,0,0,7,1]
[null,"うんどう","あさ\r\nそとであそんだ",{"$f":"IF(ISERROR(VLOOKUP(D$6,'集計(年)'!$A$4:$T$368,$M13,FALSE)),0,VLOOKUP(D$6,'集計(年)'!$A$4:$T$368,$M13,FALSE))","v":0},{"$f":"IF(ISERROR(VLOOKUP(E$6,'集計(年)'!$A$4:$T$368,$M13,FALSE)),0,VLOOKUP(E$6,'集計(年)'!$A$4:$T$368,$M13,FALSE))","v":0},{"$f":"IF(ISERROR(VLOOKUP(F$6,'集計(年)'!$A$4:$T$368,$M13,FALSE)),0,VLOOKUP(F$6,'集計(年)'!$A$4:$T$368,$M13,FALSE))","v":0},{"$f":"IF(ISERROR(VLOOKUP(G$6,'集計(年)'!$A$4:$T$368,$M13,FALSE)),0,VLOOKUP(G$6,'集計(年)'!$A$4:$T$368,$M13,FALSE))","v":0},{"$f":"IF(ISERROR(VLOOKUP(H$6,'集計(年)'!$A$4:$T$368,$M13,FALSE)),0,VLOOKUP(H$6,'集計(年)'!$A$4:$T$368,$M13,FALSE))","v":0},{"$f":"IF(ISERROR(VLOOKUP(I$6,'集計(年)'!$A$4:$T$368,$M13,FALSE)),0,VLOOKUP(I$6,'集計(年)'!$A$4:$T$368,$M13,FALSE))","v":0},{"$f":"IF(ISERROR(VLOOKUP(J$6,'集計(年)'!$A$4:$T$368,$M13,FALSE)),0,VLOOKUP(J$6,'集計(年)'!$A$4:$T$368,$M13,FALSE))","v":0},4,null,9,0,0,0,0,7,1]
[null,null,"ぎょうかん・ひるやすみのじかんに\r\nそとであそんだ",{"$f":"IF(ISERROR(VLOOKUP(D$6,'集計(年)'!$A$4:$T$368,$M14,FALSE)),0,VLOOKUP(D$6,'集計(年)'!$A$4:$T$368,$M14,FALSE))","v":0},{"$f":"IF(ISERROR(VLOOKUP(E$6,'集計(年)'!$A$4:$T$368,$M14,FALSE)),0,VLOOKUP(E$6,'集計(年)'!$A$4:$T$368,$M14,FALSE))","v":0},{"$f":"IF(ISERROR(VLOOKUP(F$6,'集計(年)'!$A$4:$T$368,$M14,FALSE)),0,VLOOKUP(F$6,'集計(年)'!$A$4:$T$368,$M14,FALSE))","v":0},{"$f":"IF(ISERROR(VLOOKUP(G$6,'集計(年)'!$A$4:$T$368,$M14,FALSE)),0,VLOOKUP(G$6,'集計(年)'!$A$4:$T$368,$M14,FALSE))","v":0},{"$f":"IF(ISERROR(VLOOKUP(H$6,'集計(年)'!$A$4:$T$368,$M14,FALSE)),0,VLOOKUP(H$6,'集計(年)'!$A$4:$T$368,$M14,FALSE))","v":0},{"$f":"IF(ISERROR(VLOOKUP(I$6,'集計(年)'!$A$4:$T$368,$M14,FALSE)),0,VLOOKUP(I$6,'集計(年)'!$A$4:$T$368,$M14,FALSE))","v":0},{"$f":"IF(ISERROR(VLOOKUP(J$6,'集計(年)'!$A$4:$T$368,$M14,FALSE)),0,VLOOKUP(J$6,'集計(年)'!$A$4:$T$368,$M14,FALSE))","v":0},4,null,10,0,0,0,0,7,1]
[null,null,"おうちにかえって\r\nそとであそんだ",{"$f":"IF(ISERROR(VLOOKUP(D$6,'集計(年)'!$A$4:$T$368,$M15,FALSE)),0,VLOOKUP(D$6,'集計(年)'!$A$4:$T$368,$M15,FALSE))","v":0},{"$f":"IF(ISERROR(VLOOKUP(E$6,'集計(年)'!$A$4:$T$368,$M15,FALSE)),0,VLOOKUP(E$6,'集計(年)'!$A$4:$T$368,$M15,FALSE))","v":0},{"$f":"IF(ISERROR(VLOOKUP(F$6,'集計(年)'!$A$4:$T$368,$M15,FALSE)),0,VLOOKUP(F$6,'集計(年)'!$A$4:$T$368,$M15,FALSE))","v":0},{"$f":"IF(ISERROR(VLOOKUP(G$6,'集計(年)'!$A$4:$T$368,$M15,FALSE)),0,VLOOKUP(G$6,'集計(年)'!$A$4:$T$368,$M15,FALSE))","v":0},{"$f":"IF(ISERROR(VLOOKUP(H$6,'集計(年)'!$A$4:$T$368,$M15,FALSE)),0,VLOOKUP(H$6,'集計(年)'!$A$4:$T$368,$M15,FALSE))","v":0},{"$f":"IF(ISERROR(VLOOKUP(I$6,'集計(年)'!$A$4:$T$368,$M15,FALSE)),0,VLOOKUP(I$6,'集計(年)'!$A$4:$T$368,$M15,FALSE))","v":0},{"$f":"IF(ISERROR(VLOOKUP(J$6,'集計(年)'!$A$4:$T$368,$M15,FALSE)),0,VLOOKUP(J$6,'集計(年)'!$A$4:$T$368,$M15,FALSE))","v":0},4,null,11,0,0,0,0,7,1]
[null,"べんきょう","がっこうですすんで\nべんきょうができた",{"$f":"IF(ISERROR(VLOOKUP(D$6,'集計(年)'!$A$4:$T$368,$M16,FALSE)),0,VLOOKUP(D$6,'集計(年)'!$A$4:$T$368,$M16,FALSE))","v":0},{"$f":"IF(ISERROR(VLOOKUP(E$6,'集計(年)'!$A$4:$T$368,$M16,FALSE)),0,VLOOKUP(E$6,'集計(年)'!$A$4:$T$368,$M16,FALSE))","v":0},{"$f":"IF(ISERROR(VLOOKUP(F$6,'集計(年)'!$A$4:$T$368,$M16,FALSE)),0,VLOOKUP(F$6,'集計(年)'!$A$4:$T$368,$M16,FALSE))","v":0},{"$f":"IF(ISERROR(VLOOKUP(G$6,'集計(年)'!$A$4:$T$368,$M16,FALSE)),0,VLOOKUP(G$6,'集計(年)'!$A$4:$T$368,$M16,FALSE))","v":0},{"$f":"IF(ISERROR(VLOOKUP(H$6,'集計(年)'!$A$4:$T$368,$M16,FALSE)),0,VLOOKUP(H$6,'集計(年)'!$A$4:$T$368,$M16,FALSE))","v":0},{"$f":"IF(ISERROR(VLOOKUP(I$6,'集計(年)'!$A$4:$T$368,$M16,FALSE)),0,VLOOKUP(I$6,'集計(年)'!$A$4:$T$368,$M16,FALSE))","v":0},{"$f":"IF(ISERROR(VLOOKUP(J$6,'集計(年)'!$A$4:$T$368,$M16,FALSE)),0,VLOOKUP(J$6,'集計(年)'!$A$4:$T$368,$M16,FALSE))","v":0},4,null,12,0,0,0,0,7,1]
[null,null,"おうちで３０ぷんより\nおおくべんきょうした",{"$f":"IF(ISERROR(VLOOKUP(D$6,'集計(年)'!$A$4:$T$368,$M17,FALSE)),0,VLOOKUP(D$6,'集計(年)'!$A$4:$T$368,$M17,FALSE))","v":0},{"$f":"IF(ISERROR(VLOOKUP(E$6,'集計(年)'!$A$4:$T$368,$M17,FALSE)),0,VLOOKUP(E$6,'集計(年)'!$A$4:$T$368,$M17,FALSE))","v":0},{"$f":"IF(ISERROR(VLOOKUP(F$6,'集計(年)'!$A$4:$T$368,$M17,FALSE)),0,VLOOKUP(F$6,'集計(年)'!$A$4:$T$368,$M17,FALSE))","v":0},{"$f":"IF(ISERROR(VLOOKUP(G$6,'集計(年)'!$A$4:$T$368,$M17,FALSE)),0,VLOOKUP(G$6,'集計(年)'!$A$4:$T$368,$M17,FALSE))","v":0},{"$f":"IF(ISERROR(VLOOKUP(H$6,'集計(年)'!$A$4:$T$368,$M17,FALSE)),0,VLOOKUP(H$6,'集計(年)'!$A$4:$T$368,$M17,FALSE))","v":0},{"$f":"IF(ISERROR(VLOOKUP(I$6,'集計(年)'!$A$4:$T$368,$M17,FALSE)),0,VLOOKUP(I$6,'集計(年)'!$A$4:$T$368,$M17,FALSE))","v":0},{"$f":"IF(ISERROR(VLOOKUP(J$6,'集計(年)'!$A$4:$T$368,$M17,FALSE)),0,VLOOKUP(J$6,'集計(年)'!$A$4:$T$368,$M17,FALSE))","v":0},4,null,13,0,0,0,0,7,1]
[null,"そのほか","テレビ・ゲームをするじかんは\n１じかんよりすくなかった",{"$f":"IF(ISERROR(VLOOKUP(D$6,'集計(年)'!$A$4:$T$368,$M18,FALSE)),0,VLOOKUP(D$6,'集計(年)'!$A$4:$T$368,$M18,FALSE))","v":0},{"$f":"IF(ISERROR(VLOOKUP(E$6,'集計(年)'!$A$4:$T$368,$M18,FALSE)),0,VLOOKUP(E$6,'集計(年)'!$A$4:$T$368,$M18,FALSE))","v":0},{"$f":"IF(ISERROR(VLOOKUP(F$6,'集計(年)'!$A$4:$T$368,$M18,FALSE)),0,VLOOKUP(F$6,'集計(年)'!$A$4:$T$368,$M18,FALSE))","v":0},{"$f":"IF(ISERROR(VLOOKUP(G$6,'集計(年)'!$A$4:$T$368,$M18,FALSE)),0,VLOOKUP(G$6,'集計(年)'!$A$4:$T$368,$M18,FALSE))","v":0},{"$f":"IF(ISERROR(VLOOKUP(H$6,'集計(年)'!$A$4:$T$368,$M18,FALSE)),0,VLOOKUP(H$6,'集計(年)'!$A$4:$T$368,$M18,FALSE))","v":0},{"$f":"IF(ISERROR(VLOOKUP(I$6,'集計(年)'!$A$4:$T$368,$M18,FALSE)),0,VLOOKUP(I$6,'集計(年)'!$A$4:$T$368,$M18,FALSE))","v":0},{"$f":"IF(ISERROR(VLOOKUP(J$6,'集計(年)'!$A$4:$T$368,$M18,FALSE)),0,VLOOKUP(J$6,'集計(年)'!$A$4:$T$368,$M18,FALSE))","v":0},4,null,14,0,0,0,0,7,1]
[null,null,"おふろにはいった",{"$f":"IF(ISERROR(VLOOKUP(D$6,'集計(年)'!$A$4:$T$368,$M19,FALSE)),0,VLOOKUP(D$6,'集計(年)'!$A$4:$T$368,$M19,FALSE))","v":0},{"$f":"IF(ISERROR(VLOOKUP(E$6,'集計(年)'!$A$4:$T$368,$M19,FALSE)),0,VLOOKUP(E$6,'集計(年)'!$A$4:$T$368,$M19,FALSE))","v":0},{"$f":"IF(ISERROR(VLOOKUP(F$6,'集計(年)'!$A$4:$T$368,$M19,FALSE)),0,VLOOKUP(F$6,'集計(年)'!$A$4:$T$368,$M19,FALSE))","v":0},{"$f":"IF(ISERROR(VLOOKUP(G$6,'集計(年)'!$A$4:$T$368,$M19,FALSE)),0,VLOOKUP(G$6,'集計(年)'!$A$4:$T$368,$M19,FALSE))","v":0},{"$f":"IF(ISERROR(VLOOKUP(H$6,'集計(年)'!$A$4:$T$368,$M19,FALSE)),0,VLOOKUP(H$6,'集計(年)'!$A$4:$T$368,$M19,FALSE))","v":0},{"$f":"IF(ISERROR(VLOOKUP(I$6,'集計(年)'!$A$4:$T$368,$M19,FALSE)),0,VLOOKUP(I$6,'集計(年)'!$A$4:$T$368,$M19,FALSE))","v":0},{"$f":"IF(ISERROR(VLOOKUP(J$6,'集計(年)'!$A$4:$T$368,$M19,FALSE)),0,VLOOKUP(J$6,'集計(年)'!$A$4:$T$368,$M19,FALSE))","v":0},4,null,15,{"$f":"COUNTIF($D19:$J19,1)","v":0},0,0,0,7,1]
[null,null,"３かい\nはみがきができた",{"$f":"IF(ISERROR(VLOOKUP(D$6,'集計(年)'!$A$4:$T$368,$M20,FALSE)),0,VLOOKUP(D$6,'集計(年)'!$A$4:$T$368,$M20,FALSE))","v":0},{"$f":"IF(ISERROR(VLOOKUP(E$6,'集計(年)'!$A$4:$T$368,$M20,FALSE)),0,VLOOKUP(E$6,'集計(年)'!$A$4:$T$368,$M20,FALSE))","v":0},{"$f":"IF(ISERROR(VLOOKUP(F$6,'集計(年)'!$A$4:$T$368,$M20,FALSE)),0,VLOOKUP(F$6,'集計(年)'!$A$4:$T$368,$M20,FALSE))","v":0},{"$f":"IF(ISERROR(VLOOKUP(G$6,'集計(年)'!$A$4:$T$368,$M20,FALSE)),0,VLOOKUP(G$6,'集計(年)'!$A$4:$T$368,$M20,FALSE))","v":0},{"$f":"IF(ISERROR(VLOOKUP(H$6,'集計(年)'!$A$4:$T$368,$M20,FALSE)),0,VLOOKUP(H$6,'集計(年)'!$A$4:$T$368,$M20,FALSE))","v":0},{"$f":"IF(ISERROR(VLOOKUP(I$6,'集計(年)'!$A$4:$T$368,$M20,FALSE)),0,VLOOKUP(I$6,'集計(年)'!$A$4:$T$368,$M20,FALSE))","v":0},{"$f":"IF(ISERROR(VLOOKUP(J$6,'集計(年)'!$A$4:$T$368,$M20,FALSE)),0,VLOOKUP(J$6,'集計(年)'!$A$4:$T$368,$M20,FALSE))","v":0},4,null,16,0,0,0,0,7,1]
[null,null,"あさ\nはいべんができてすっきりした",{"$f":"IF(ISERROR(VLOOKUP(D$6,'集計(年)'!$A$4:$T$368,$M21,FALSE)),0,VLOOKUP(D$6,'集計(年)'!$A$4:$T$368,$M21,FALSE))","v":0},{"$f":"IF(ISERROR(VLOOKUP(E$6,'集計(年)'!$A$4:$T$368,$M21,FALSE)),0,VLOOKUP(E$6,'集計(年)'!$A$4:$T$368,$M21,FALSE))","v":0},{"$f":"IF(ISERROR(VLOOKUP(F$6,'集計(年)'!$A$4:$T$368,$M21,FALSE)),0,VLOOKUP(F$6,'集計(年)'!$A$4:$T$368,$M21,FALSE))","v":0},{"$f":"IF(ISERROR(VLOOKUP(G$6,'集計(年)'!$A$4:$T$368,$M21,FALSE)),0,VLOOKUP(G$6,'集計(年)'!$A$4:$T$368,$M21,FALSE))","v":0},{"$f":"IF(ISERROR(VLOOKUP(H$6,'集計(年)'!$A$4:$T$368,$M21,FALSE)),0,VLOOKUP(H$6,'集計(年)'!$A$4:$T$368,$M21,FALSE))","v":0},{"$f":"IF(ISERROR(VLOOKUP(I$6,'集計(年)'!$A$4:$T$368,$M21,FALSE)),0,VLOOKUP(I$6,'集計(年)'!$A$4:$T$368,$M21,FALSE))","v":0},{"$f":"IF(ISERROR(VLOOKUP(J$6,'集計(年)'!$A$4:$T$368,$M21,FALSE)),0,VLOOKUP(J$6,'集計(年)'!$A$4:$T$368,$M21,FALSE))","v":0},4,null,17,0,0,0,0,7,{"$f":"IF(OR(P21>=4,R21>=1),1,0)","v":1},{"$f":"IF(SUM(N21:O21)=7,1,0)","v":0}]
[null,"きょうのメダルのいろ",null,{"$f":"IF(ISERROR(VLOOKUP(D$6,'集計(年)'!$A$4:$T$368,$M22,FALSE)),0,VLOOKUP(D$6,'集計(年)'!$A$4:$T$368,$M22,FALSE))","v":0},{"$f":"IF(ISERROR(VLOOKUP(E$6,'集計(年)'!$A$4:$T$368,$M22,FALSE)),0,VLOOKUP(E$6,'集計(年)'!$A$4:$T$368,$M22,FALSE))","v":0},{"$f":"IF(ISERROR(VLOOKUP(F$6,'集計(年)'!$A$4:$T$368,$M22,FALSE)),0,VLOOKUP(F$6,'集計(年)'!$A$4:$T$368,$M22,FALSE))","v":0},{"$f":"IF(ISERROR(VLOOKUP(G$6,'集計(年)'!$A$4:$T$368,$M22,FALSE)),0,VLOOKUP(G$6,'集計(年)'!$A$4:$T$368,$M22,FALSE))","v":0},{"$f":"IF(ISERROR(VLOOKUP(H$6,'集計(年)'!$A$4:$T$368,$M22,FALSE)),0,VLOOKUP(H$6,'集計(年)'!$A$4:$T$368,$M22,FALSE))","v":0},{"$f":"IF(ISERROR(VLOOKUP(I$6,'集計(年)'!$A$4:$T$368,$M22,FALSE)),0,VLOOKUP(I$6,'集計(年)'!$A$4:$T$368,$M22,FALSE))","v":0},{"$f":"IF(ISERROR(VLOOKUP(J$6,'集計(年)'!$A$4:$T$368,$M22,FALSE)),0,VLOOKUP(J$6,'集計(年)'!$A$4:$T$368,$M22,FALSE))","v":0},{"$f":"IF(Q24>=1,4,IF(N24=21,1,IF(AND(P23>=7,P22>=4),3,2)))","v":4},null,20,0,{"$f":"COUNTIF($D22:$J22,2)","v":0},{"$f":"COUNTIF($D22:$J22,3)","v":0},{"$f":"COUNTIF($D22:$J22,4)","v":0},7]
[null,null,null,null,null,null,null,null,null,null,null,null,"縦の合計",{"$f":"COUNTIF($K7:$K21,1)","v":0},{"$f":"COUNTIF($K7:$K21,2)","v":0},{"$f":"COUNTIF($K7:$K21,3)","v":0},{"$f":"COUNTIF($K7:$K21,4)","v":14}]
[null,null,null,null,null,null,null,null,null,null,null,null,"縦横合計",{"$f":"SUM(N22:N23)","v":0},{"$f":"SUM(O22:O23)","v":0},0,14]
[]
[]
[]
[]
[]
[]
[]
[]
[]
[]
[]
[null,null,null,null,null,null,null,null,null,null,null,{"$f":"IF(ISERROR(VLOOKUP(A1,'集計(年)'!A:S,18,FALSE)),0,VLOOKUP(A1,'集計(年)'!A:S,18,FALSE))","v":0}]
[null,null,null,null,null,null,null,null,null,null,null,{"$f":"IF(ISERROR(VLOOKUP(A1,'集計(年)'!A:S,19,FALSE)),0,VLOOKUP(A1,'集計(年)'!A:S,19,FALSE))","v":0}]

{"sheet":"集計(週)","index":27,"n_rows":22,"n_cols":11,"rows_kept":22,"cut":false,"hidden":true,"merged":[[15,1,16,1],[17,1,20,1],[21,1,21,2],[4,10,5,10],[6,1,8,1],[6,2,7,2],[6,10,7,10],[9,1,11,1],[12,1,14,1]]}
[]
[]
[]
[]
[null,null,"　　　　　　　　　　　　　　　　　　ひにち ","１日目","２日目","３日目","４日目","５日目","６日目","７日目","いっしゅかん\nメダルのいろ"]
[null,null,"　　こうもく","/","/","/","/","/","/","/"]
[null,"すいみん","すみんじかん"]
[]
[null,null,"じぶんでおきた"]
[null,"しょくじ","あさ　\nおいしくぜんぶたべた"]
[null,null,"　ひる　\nおいしくぜんぶたべた"]
[null,null,"よる　\nおししくぜんぶたべた"]
[null,"うんどう","あさ　\nそとであそんだ"]
[null,null,"ぎょうかん・ひるやすみのじかんに\nそとであそんだ"]
[null,null,"おうちにかえって\nそとであそんだ"]
[null,"べん\nき\nょ\nう","がっこうですすんで\nべんきょうができた"]
[null,null,"おうちで３０ぷんより\nおおくべんきょうした"]
[null,"そのほか","テレビ・ゲームをするじかんは\n１じかんよりすくなかった"]
[null,null,"おふろにはいった"]
[null,null,"３かい\nはみがきができた"]
[null,null,"あさ\nはいべんができてすっきりした"]
[null,"きょうのメダルのいろ"]

{"sheet":"集計(年)","index":28,"n_rows":384,"n_cols":28,"rows_kept":384,"cut":false,"hidden":false,"merged":[[0,1,0,4],[0,19,1,19],[0,8,0,10],[0,11,0,12],[0,5,0,7],[0,13,0,16]]}
[{"$f":"COUNTA(B4:B368)","v":0},"すいみん",null,null,null,"しょくじ",null,null,"うんどう",null,null,"べん\nき\nょ\nう",null,"そのほか",null,null,null,null,null,"きょうのメダルのいろ","※選択３が一個でもあれば銅(3),項目１が13個（全て選択１）なら金（１）、選択１が6個以下でも銅（３）"]
[2013,"じぶんで\nおきた","睡眠時間","就寝","起床","あさ","　ひる","よる","あさ","ぎょうかん","おうちに\nかえって","がっこう","おうちで","テレビ・ゲーム","おふろ","はみがき","はいべん","本人の一言","保護者のひとこと",null,null,"09:00:00","10:00:00","11:00:00"]
["平均",{"$f":"IF($A$1<>0,AVERAGE(B4:B368),\"-\")","v":"-"},{"$f":"IF($A$1<>0,AVERAGE(C4:C368),\"-\")","v":"-"},"-","-","-","-","-","-","-","-","-","-","-","-","-","-",null,null,{"$f":"IF($A$1<>0,AVERAGE(T4:T368),\"-\")","v":"-"},"睡眠時間の評価","行番号","１の合計","２の合計","３の合計","4の合計","合計","学校の有無"]
["2017-11-01",null,null,null,null,null,null,null,null,null,null,null,null,null,null,null,null,null,null,{"$f":"IF(AA4=13,IF(OR(Y4>=1,Z4>=1),4,IF(W4=13,1,IF(W4>=7,2,3))),0)","v":0},{"$f":"IF(D4=\"\",0,IF(D4<=$V$2,1,IF(D4<=$W$2,2,IF(D4<=$X$2,3,4))))","v":0},{"$f":"ROW($A4)","v":4},{"$f":"COUNTIF($B4,1) + COUNTIF($F4:$P4,1) + COUNTIF($U4,1)","v":0},{"$f":"COUNTIF($B4,2) + COUNTIF($F4:$P4,2) + COUNTIF($U4,2)","v":0},{"$f":"COUNTIF($B4,3) + COUNTIF($F4:$P4,3) + COUNTIF($U4,3)","v":0},{"$f":"COUNTIF($B4,4) + COUNTIF($F4:$P4,4) + COUNTIF($U4,4)","v":0},{"$f":"SUM(W4:Z4)","v":0}]
[{"$f":"A4+1","v":"2017-11-02"},null,null,null,null,null,null,null,null,null,null,null,null,null,null,null,null,null,null,0,{"$f":"IF(D5=\"\",0,IF(D5<=$V$2,1,IF(D5<=$W$2,2,IF(D5<=$X$2,3,4))))","v":0},{"$f":"ROW($A5)","v":5},0,0,0,{"$f":"COUNTIF($B5,4) + COUNTIF($F5:$P5,4) + COUNTIF($U5,4)","v":0},{"$f":"SUM(W5:Z5)","v":0}]
[{"$f":"A5+1","v":"2017-11-03"},null,null,null,null,null,null,null,null,null,null,null,null,null,null,null,null,null,null,0,0,6,0,0,0,0,0]
["2017-11-04",null,null,null,null,null,null,null,null,null,null,null,null,null,null,null,null,null,null,0,0,7,0,0,0,0,0]
["2017-11-05",null,null,null,null,null,null,null,null,null,null,null,null,null,null,null,null,null,null,0,0,8,0,0,0,0,0]
["2017-11-06",null,null,null,null,null,null,null,null,null,null,null,null,null,null,null,null,null,null,0,0,9,0,0,0,0,0]
["2017-11-07",null,null,null,null,null,null,null,null,null,null,null,null,null,null,null,null,null,null,0,0,10,0,0,0,0,0]
["2017-11-08",null,null,null,null,null,null,null,null,null,null,null,null,null,null,null,null,null,null,0,0,11,0,0,0,0,0]
["2017-11-09",null,null,null,null,null,null,null,null,null,null,null,null,null,null,null,null,null,null,0,0,12,0,0,0,0,0]
["2017-11-10",null,null,null,null,null,null,null,null,null,null,null,null,null,null,null,null,null,null,0,0,13,0,0,0,0,0]
["2017-11-11",null,null,null,null,null,null,null,null,null,null,null,null,null,null,null,null,null,null,{"$f":"IF(AA14=13,IF(OR(Y14>=1,Z14>=1),4,IF(W14=13,1,IF(W14>=7,2,3))),0)","v":0},0,14,0,0,0,0,0]
["2017-11-12",null,null,null,null,null,null,null,null,null,null,null,null,null,null,null,null,null,null,{"$f":"IF(AA15=13,IF(OR(Y15>=1,Z15>=1),4,IF(W15=13,1,IF(W15>=7,2,3))),0)","v":0},0,15,0,0,0,0,0]
["2017-11-13",null,null,null,null,null,null,null,null,null,null,null,null,null,null,null,null,null,null,0,0,16,0,0,0,0,0]
["2017-11-14",null,null,null,null,null,null,null,null,null,null,null,null,null,null,null,null,null,null,0,0,17,0,0,0,0,0]
["2017-11-15",null,null,null,null,null,null,null,null,null,null,null,null,null,null,null,null,null,null,0,0,18,0,0,0,0,0]
["2017-11-16",null,null,null,null,null,null,null,null,null,null,null,null,null,null,null,null,null,null,0,0,19,0,0,0,0,0]
["2017-11-17",null,null,null,null,null,null,null,null,null,null,null,null,null,null,null,null,null,null,0,0,20,0,0,0,0,0]
["2017-11-18",null,null,null,null,null,null,null,null,null,null,null,null,null,null,null,null,null,null,0,0,21,0,0,0,0,0]
["2017-11-19",null,null,null,null,null,null,null,null,null,null,null,null,null,null,null,null,null,null,0,0,22,0,0,0,0,0]
["2017-11-20",null,null,null,null,null,null,null,null,null,null,null,null,null,null,null,null,null,null,0,0,23,0,0,0,0,0]
["2017-11-21",null,null,null,null,null,null,null,null,null,null,null,null,null,null,null,null,null,null,0,0,24,0,0,0,0,0]
["2017-11-22",null,null,null,null,null,null,null,null,null,null,null,null,null,null,null,null,null,null,0,0,25,0,0,0,0,0]
["2017-11-23",null,null,null,null,null,null,null,null,null,null,null,null,null,null,null,null,null,null,0,0,26,0,0,0,0,0]
["2017-11-24",null,null,null,null,null,null,null,null,null,null,null,null,null,null,null,null,null,null,0,0,27,0,0,0,0,0]
["2017-11-25",null,null,null,null,null,null,null,null,null,null,null,null,null,null,null,null,null,null,0,0,28,0,0,0,0,0]
["2017-11-26",null,null,null,null,null,null,null,null,null,null,null,null,null,null,null,null,null,null,0,0,29,0,0,0,0,0]
["2017-11-27",null,null,null,null,null,null,null,null,null,null,null,null,null,null,null,null,null,null,0,0,30,0,0,0,0,0]
["2017-11-28",null,null,null,null,null,null,null,null,null,null,null,null,null,null,null,null,null,null,0,0,31,0,0,0,0,0]
["2017-11-29",null,null,null,null,null,null,null,null,null,null,null,null,null,null,null,null,null,null,0,0,32,0,0,0,0,0]
["2017-11-30",null,null,null,null,null,null,null,null,null,null,null,null,null,null,null,null,null,null,0,0,33,0,0,0,0,0]
["2017-12-01",null,null,null,null,null,null,null,null,null,null,null,null,null,null,null,null,null,null,0,0,34,0,0,0,0,0]
["2017-12-02",null,null,null,null,null,null,null,null,null,null,null,null,null,null,null,null,null,null,0,0,35,0,0,0,0,0]
["2017-12-03",null,null,null,null,null,null,null,null,null,null,null,null,null,null,null,null,null,null,0,0,36,0,0,0,0,0]
["2017-12-04",null,null,null,null,null,null,null,null,null,null,null,null,null,null,null,null,null,null,0,0,37,0,0,0,0,0]
["2017-12-05",null,null,null,null,null,null,null,null,null,null,null,null,null,null,null,null,null,null,0,0,38,0,0,0,0,0]
["2017-12-06",null,null,null,null,null,null,null,null,null,null,null,null,null,null,null,null,null,null,0,0,39,0,0,0,0,0]
["2017-12-07",null,null,null,null,null,null,null,null,null,null,null,null,null,null,null,null,null,null,0,0,40,0,0,0,0,0]
["2017-12-08",null,null,null,null,null,null,null,null,null,null,null,null,null,null,null,null,null,null,0,0,41,0,0,0,0,0]
["2017-12-09",null,null,null,null,null,null,null,null,null,null,null,null,null,null,null,null,null,null,0,0,42,0,0,0,0,0]
["2017-12-10",null,null,null,null,null,null,null,null,null,null,null,null,null,null,null,null,null,null,0,0,43,0,0,0,0,0]
["2017-12-11",null,null,null,null,null,null,null,null,null,null,null,null,null,null,null,null,null,null,0,0,44,0,0,0,0,0]
["2017-12-12",null,null,null,null,null,null,null,null,null,null,null,null,null,null,null,null,null,null,0,0,45,0,0,0,0,0]
["2017-12-13",null,null,null,null,null,null,null,null,null,null,null,null,null,null,null,null,null,null,0,0,46,0,0,0,0,0]
["2017-12-14",null,null,null,null,null,null,null,null,null,null,null,null,null,null,null,null,null,null,0,0,47,0,0,0,0,0]
["2017-12-15",null,null,null,null,null,null,null,null,null,null,null,null,null,null,null,null,null,null,0,0,48,0,0,0,0,0]
["2017-12-16",null,null,null,null,null,null,null,null,null,null,null,null,null,null,null,null,null,null,0,0,49,0,0,0,0,0]
["2017-12-17",null,null,null,null,null,null,null,null,null,null,null,null,null,null,null,null,null,null,0,0,50,0,0,0,0,0]
["2017-12-18",null,null,null,null,null,null,null,null,null,null,null,null,null,null,null,null,null,null,0,0,51,0,0,0,0,0]
["2017-12-19",null,null,null,null,null,null,null,null,null,null,null,null,null,null,null,null,null,null,0,0,52,0,0,0,0,0]
["2017-12-20",null,null,null,null,null,null,null,null,null,null,null,null,null,null,null,null,null,null,0,0,53,0,0,0,0,0]
["2017-12-21",null,null,null,null,null,null,null,null,null,null,null,null,null,null,null,null,null,null,0,0,54,0,0,0,0,0]
["2017-12-22",null,null,null,null,null,null,null,null,null,null,null,null,null,null,null,null,null,null,0,0,55,0,0,0,0,0]
["2017-12-23",null,null,null,null,null,null,null,null,null,null,null,null,null,null,null,null,null,null,0,0,56,0,0,0,0,0]
["2017-12-24",null,null,null,null,null,null,null,null,null,null,null,null,null,null,null,null,null,null,0,0,57,0,0,0,0,0]
["2017-12-25",null,null,null,null,null,null,null,null,null,null,null,null,null,null,null,null,null,null,0,0,58,0,0,0,0,0]
["2017-12-26",null,null,null,null,null,null,null,null,null,null,null,null,null,null,null,null,null,null,0,0,59,0,0,0,0,0]
["2017-12-27",null,null,null,null,null,null,null,null,null,null,null,null,null,null,null,null,null,null,0,0,60,0,0,0,0,0]
["2017-12-28",null,null,null,null,null,null,null,null,null,null,null,null,null,null,null,null,null,null,0,0,61,0,0,0,0,0]
["2017-12-29",null,null,null,null,null,null,null,null,null,null,null,null,null,null,null,null,null,null,0,0,62,0,0,0,0,0]
["2017-12-30",null,null,null,null,null,null,null,null,null,null,null,null,null,null,null,null,null,null,0,0,63,0,0,0,0,0]
["2017-12-31",null,null,null,null,null,null,null,null,null,null,null,null,null,null,null,null,null,null,0,0,64,0,0,0,0,0]
["2018-01-01",null,null,null,null,null,null,null,null,null,null,null,null,null,null,null,null,null,null,0,0,65,0,0,0,0,0]
["2018-01-02",null,null,null,null,null,null,null,null,null,null,null,null,null,null,null,null,null,null,0,0,66,0,0,0,0,0]
["2018-01-03",null,null,null,null,null,null,null,null,null,null,null,null,null,null,null,null,null,null,0,0,67,0,0,0,0,0]
["2018-01-04",null,null,null,null,null,null,null,null,null,null,null,null,null,null,null,null,null,null,0,0,68,{"$f":"COUNTIF($B68,1) + COUNTIF($F68:$P68,1) + COUNTIF($U68,1)","v":0},{"$f":"COUNTIF($B68,2) + COUNTIF($F68:$P68,2) + COUNTIF($U68,2)","v":0},{"$f":"COUNTIF($B68,3) + COUNTIF($F68:$P68,3) + COUNTIF($U68,3)","v":0},0,0]
["2018-01-05",null,null,null,null,null,null,null,null,null,null,null,null,null,null,null,null,null,null,0,{"$f":"IF(D69=\"\",0,IF(D69<=$V$2,1,IF(D69<=$W$2,2,IF(D69<=$X$2,3,4))))","v":0},{"$f":"ROW($A69)","v":69},0,0,0,{"$f":"COUNTIF($B69,4) + COUNTIF($F69:$P69,4) + COUNTIF($U69,4)","v":0},{"$f":"SUM(W69:Z69)","v":0}]
[{"$f":"A69+1","v":"2018-01-06"},null,null,null,null,null,null,null,null,null,null,null,null,null,null,null,null,null,null,0,0,70,0,0,0,0,0]
["2018-01-07",null,null,null,null,null,null,null,null,null,null,null,null,null,null,null,null,null,null,0,0,71,0,0,0,0,0]
["2018-01-08",null,null,null,null,null,null,null,null,null,null,null,null,null,null,null,null,null,null,0,0,72,0,0,0,0,0]
["2018-01-09",null,null,null,null,null,null,null,null,null,null,null,null,null,null,null,null,null,null,0,0,73,0,0,0,0,0]
["2018-01-10",null,null,null,null,null,null,null,null,null,null,null,null,null,null,null,null,null,null,0,0,74,0,0,0,0,0]
["2018-01-11",null,null,null,null,null,null,null,null,null,null,null,null,null,null,null,null,null,null,0,0,75,0,0,0,0,0]
["2018-01-12",null,null,null,null,null,null,null,null,null,null,null,null,null,null,null,null,null,null,0,0,76,0,0,0,0,0]
["2018-01-13",null,null,null,null,null,null,null,null,null,null,null,null,null,null,null,null,null,null,0,0,77,0,0,0,0,0]
["2018-01-14",null,null,null,null,null,null,null,null,null,null,null,null,null,null,null,null,null,null,0,0,78,0,0,0,0,0]
["2018-01-15",null,null,null,null,null,null,null,null,null,null,null,null,null,null,null,null,null,null,{"$f":"IF(AA79=13,IF(OR(Y79>=1,Z79>=1),4,IF(W79=13,1,IF(W79>=7,2,3))),0)","v":0},0,79,0,0,0,0,0]
["2018-01-16",null,null,null,null,null,null,null,null,null,null,null,null,null,null,null,null,null,null,0,0,80,0,0,0,0,0]
["2018-01-17",null,null,null,null,null,null,null,null,null,null,null,null,null,null,null,null,null,null,0,0,81,0,0,0,0,0]
["2018-01-18",null,null,null,null,null,null,null,null,null,null,null,null,null,null,null,null,null,null,0,0,82,0,0,0,0,0]
["2018-01-19",null,null,null,null,null,null,null,null,null,null,null,null,null,null,null,null,null,null,0,0,83,0,0,0,0,0]
["2018-01-20",null,null,null,null,null,null,null,null,null,null,null,null,null,null,null,null,null,null,0,0,84,0,0,0,0,0]
["2018-01-21",null,null,null,null,null,null,null,null,null,null,null,null,null,null,null,null,null,null,0,0,85,0,0,0,0,0]
["2018-01-22",null,null,null,null,null,null,null,null,null,null,null,null,null,null,null,null,null,null,0,0,86,0,0,0,0,0]
["2018-01-23",null,null,null,null,null,null,null,null,null,null,null,null,null,null,null,null,null,null,0,0,87,0,0,0,0,0]
["2018-01-24",null,null,null,null,null,null,null,null,null,null,null,null,null,null,null,null,null,null,0,0,88,0,0,0,0,0]
["2018-01-25",null,null,null,null,null,null,null,null,null,null,null,null,null,null,null,null,null,null,0,0,89,0,0,0,0,0]
["2018-01-26",null,null,null,null,null,null,null,null,null,null,null,null,null,null,null,null,null,null,0,0,90,0,0,0,0,0]
["2018-01-27",null,null,null,null,null,null,null,null,null,null,null,null,null,null,null,null,null,null,0,0,91,0,0,0,0,0]
["2018-01-28",null,null,null,null,null,null,null,null,null,null,null,null,null,null,null,null,null,null,0,0,92,0,0,0,0,0]
["2018-01-29",null,null,null,null,null,null,null,null,null,null,null,null,null,null,null,null,null,null,0,0,93,0,0,0,0,0]
["2018-01-30",null,null,null,null,null,null,null,null,null,null,null,null,null,null,null,null,null,null,0,0,94,0,0,0,0,0]
["2018-01-31",null,null,null,null,null,null,null,null,null,null,null,null,null,null,null,null,null,null,0,0,95,0,0,0,0,0]
["2018-02-01",null,null,null,null,null,null,null,null,null,null,null,null,null,null,null,null,null,null,0,0,96,0,0,0,0,0]
["2018-02-02",null,null,null,null,null,null,null,null,null,null,null,null,null,null,null,null,null,null,0,0,97,0,0,0,0,0]
["2018-02-03",null,null,null,null,null,null,null,null,null,null,null,null,null,null,null,null,null,null,0,0,98,0,0,0,0,0]
["2018-02-04",null,null,null,null,null,null,null,null,null,null,null,null,null,null,null,null,null,null,0,0,99,0,0,0,0,0]
["2018-02-05",null,null,null,null,null,null,null,null,null,null,null,null,null,null,null,null,null,null,0,0,100,0,0,0,0,0]
["2018-02-06",null,null,null,null,null,null,null,null,null,null,null,null,null,null,null,null,null,null,0,0,101,0,0,0,0,0]
["2018-02-07",null,null,null,null,null,null,null,null,null,null,null,null,null,null,null,null,null,null,0,0,102,0,0,0,0,0]
["2018-02-08",null,null,null,null,null,null,null,null,null,null,null,null,null,null,null,null,null,null,0,0,103,0,0,0,0,0]
["2018-02-09",null,null,null,null,null,null,null,null,null,null,null,null,null,null,null,null,null,null,0,0,104,0,0,0,0,0]
["2018-02-10",null,null,null,null,null,null,null,null,null,null,null,null,null,null,null,null,null,null,0,0,105,0,0,0,0,0]
["2018-02-11",null,null,null,null,null,null,null,null,null,null,null,null,null,null,null,null,null,null,0,0,106,0,0,0,0,0]
["2018-02-12",null,null,null,null,null,null,null,null,null,null,null,null,null,null,null,null,null,null,0,0,107,0,0,0,0,0]
["2018-02-13",null,null,null,null,null,null,null,null,null,null,null,null,null,null,null,null,null,null,0,0,108,0,0,0,0,0]
["2018-02-14",null,null,null,null,null,null,null,null,null,null,null,null,null,null,null,null,null,null,0,0,109,0,0,0,0,0]
["2018-02-15",null,null,null,null,null,null,null,null,null,null,null,null,null,null,null,null,null,null,0,0,110,0,0,0,0,0]
["2018-02-16",null,null,null,null,null,null,null,null,null,null,null,null,null,null,null,null,null,null,0,0,111,0,0,0,0,0]
["2018-02-17",null,null,null,null,null,null,null,null,null,null,null,null,null,null,null,null,null,null,0,0,112,0,0,0,0,0]
["2018-02-18",null,null,null,null,null,null,null,null,null,null,null,null,null,null,null,null,null,null,0,0,113,0,0,0,0,0]
["2018-02-19",null,null,null,null,null,null,null,null,null,null,null,null,null,null,null,null,null,null,0,0,114,0,0,0,0,0]
["2018-02-20",null,null,null,null,null,null,null,null,null,null,null,null,null,null,null,null,null,null,0,0,115,0,0,0,0,0]
["2018-02-21",null,null,null,null,null,null,null,null,null,null,null,null,null,null,null,null,null,null,0,0,116,0,0,0,0,0]
["2018-02-22",null,null,null,null,null,null,null,null,null,null,null,null,null,null,null,null,null,null,0,0,117,0,0,0,0,0]
["2018-02-23",null,null,null,null,null,null,null,null,null,null,null,null,null,null,null,null,null,null,0,0,118,0,0,0,0,0]
["2018-02-24",null,null,null,null,null,null,null,null,null,null,null,null,null,null,null,null,null,null,0,0,119,0,0,0,0,0]
["2018-02-25",null,null,null,null,null,null,null,null,null,null,null,null,null,null,null,null,null,null,0,0,120,0,0,0,0,0]
["2018-02-26",null,null,null,null,null,null,null,null,null,null,null,null,null,null,null,null,null,null,0,0,121,0,0,0,0,0]
["2018-02-27",null,null,null,null,null,null,null,null,null,null,null,null,null,null,null,null,null,null,0,0,122,0,0,0,0,0]
["2018-02-28",null,null,null,null,null,null,null,null,null,null,null,null,null,null,null,null,null,null,0,0,123,0,0,0,0,0]
["2018-03-01",null,null,null,null,null,null,null,null,null,null,null,null,null,null,null,null,null,null,0,0,124,0,0,0,0,0]
["2018-03-02",null,null,null,null,null,null,null,null,null,null,null,null,null,null,null,null,null,null,0,0,125,0,0,0,0,0]
["2018-03-03",null,null,null,null,null,null,null,null,null,null,null,null,null,null,null,null,null,null,0,0,126,0,0,0,0,0]
["2018-03-04",null,null,null,null,null,null,null,null,null,null,null,null,null,null,null,null,null,null,0,0,127,0,0,0,0,0]
["2018-03-05",null,null,null,null,null,null,null,null,null,null,null,null,null,null,null,null,null,null,0,0,128,0,0,0,0,0]
["2018-03-06",null,null,null,null,null,null,null,null,null,null,null,null,null,null,null,null,null,null,0,0,129,0,0,0,0,0]
["2018-03-07",null,null,null,null,null,null,null,null,null,null,null,null,null,null,null,null,null,null,0,0,130,0,0,0,0,0]
["2018-03-08",null,null,null,null,null,null,null,null,null,null,null,null,null,null,null,null,null,null,0,0,131,0,0,0,0,0]
["2018-03-09",null,null,null,null,null,null,null,null,null,null,null,null,null,null,null,null,null,null,0,0,132,{"$f":"COUNTIF($B132,1) + COUNTIF($F132:$P132,1) + COUNTIF($U132,1)","v":0},{"$f":"COUNTIF($B132,2) + COUNTIF($F132:$P132,2) + COUNTIF($U132,2)","v":0},{"$f":"COUNTIF($B132,3) + COUNTIF($F132:$P132,3) + COUNTIF($U132,3)","v":0},0,0]
["2018-03-10",null,null,null,null,null,null,null,null,null,null,null,null,null,null,null,null,null,null,0,{"$f":"IF(D133=\"\",0,IF(D133<=$V$2,1,IF(D133<=$W$2,2,IF(D133<=$X$2,3,4))))","v":0},{"$f":"ROW($A133)","v":133},0,0,0,{"$f":"COUNTIF($B133,4) + COUNTIF($F133:$P133,4) + COUNTIF($U133,4)","v":0},{"$f":"SUM(W133:Z133)","v":0}]
[{"$f":"A133+1","v":"2018-03-11"},null,null,null,null,null,null,null,null,null,null,null,null,null,null,null,null,null,null,0,0,134,0,0,0,0,0]
["2018-03-12",null,null,null,null,null,null,null,null,null,null,null,null,null,null,null,null,null,null,0,0,135,0,0,0,0,0]
["2018-03-13",null,null,null,null,null,null,null,null,null,null,null,null,null,null,null,null,null,null,0,0,136,0,0,0,0,0]
["2018-03-14",null,null,null,null,null,null,null,null,null,null,null,null,null,null,null,null,null,null,0,0,137,0,0,0,0,0]
["2018-03-15",null,null,null,null,null,null,null,null,null,null,null,null,null,null,null,null,null,null,0,0,138,0,0,0,0,0]
["2018-03-16",null,null,null,null,null,null,null,null,null,null,null,null,null,null,null,null,null,null,0,0,139,0,0,0,0,0]
["2018-03-17",null,null,null,null,null,null,null,null,null,null,null,null,null,null,null,null,null,null,0,0,140,0,0,0,0,0]
["2018-03-18",null,null,null,null,null,null,null,null,null,null,null,null,null,null,null,null,null,null,0,0,141,0,0,0,0,0]
["2018-03-19",null,null,null,null,null,null,null,null,null,null,null,null,null,null,null,null,null,null,0,0,142,0,0,0,0,0]
["2018-03-20",null,null,null,null,null,null,null,null,null,null,null,null,null,null,null,null,null,null,{"$f":"IF(AA143=13,IF(OR(Y143>=1,Z143>=1),4,IF(W143=13,1,IF(W143>=7,2,3))),0)","v":0},0,143,0,0,0,0,0]
["2018-03-21",null,null,null,null,null,null,null,null,null,null,null,null,null,null,null,null,null,null,0,0,144,0,0,0,0,0]
["2018-03-22",null,null,null,null,null,null,null,null,null,null,null,null,null,null,null,null,null,null,0,0,145,0,0,0,0,0]
["2018-03-23",null,null,null,null,null,null,null,null,null,null,null,null,null,null,null,null,null,null,0,0,146,0,0,0,0,0]
["2018-03-24",null,null,null,null,null,null,null,null,null,null,null,null,null,null,null,null,null,null,0,0,147,0,0,0,0,0]
["2018-03-25",null,null,null,null,null,null,null,null,null,null,null,null,null,null,null,null,null,null,0,0,148,0,0,0,0,0]
["2018-03-26",null,null,null,null,null,null,null,null,null,null,null,null,null,null,null,null,null,null,0,0,149,0,0,0,0,0]
["2018-03-27",null,null,null,null,null,null,null,null,null,null,null,null,null,null,null,null,null,null,0,0,150,0,0,0,0,0]
["2018-03-28",null,null,null,null,null,null,null,null,null,null,null,null,null,null,null,null,null,null,0,0,151,0,0,0,0,0]
["2018-03-29",null,null,null,null,null,null,null,null,null,null,null,null,null,null,null,null,null,null,0,0,152,0,0,0,0,0]
["2018-03-30",null,null,null,null,null,null,null,null,null,null,null,null,null,null,null,null,null,null,0,0,153,0,0,0,0,0]
["2018-03-31",null,null,null,null,null,null,null,null,null,null,null,null,null,null,null,null,null,null,0,0,154,0,0,0,0,0]
["2018-04-01",null,null,null,null,null,null,null,null,null,null,null,null,null,null,null,null,null,null,0,0,155,0,0,0,0,0]
["2018-04-02",null,null,null,null,null,null,null,null,null,null,null,null,null,null,null,null,null,null,0,0,156,0,0,0,0,0]
["2018-04-03",null,null,null,null,null,null,null,null,null,null,null,null,null,null,null,null,null,null,0,0,157,0,0,0,0,0]
["2018-04-04",null,null,null,null,null,null,null,null,null,null,null,null,null,null,null,null,null,null,0,0,158,0,0,0,0,0]
["2018-04-05",null,null,null,null,null,null,null,null,null,null,null,null,null,null,null,null,null,null,0,0,159,0,0,0,0,0]
["2018-04-06",null,null,null,null,null,null,null,null,null,null,null,null,null,null,null,null,null,null,0,0,160,0,0,0,0,0]
["2018-04-07",null,null,null,null,null,null,null,null,null,null,null,null,null,null,null,null,null,null,0,0,161,0,0,0,0,0]
["2018-04-08",null,null,null,null,null,null,null,null,null,null,null,null,null,null,null,null,null,null,0,0,162,0,0,0,0,0]
["2018-04-09",null,null,null,null,null,null,null,null,null,null,null,null,null,null,null,null,null,null,0,0,163,0,0,0,0,0]
["2018-04-10",null,null,null,null,null,null,null,null,null,null,null,null,null,null,null,null,null,null,0,0,164,0,0,0,0,0]
["2018-04-11",null,null,null,null,null,null,null,null,null,null,null,null,null,null,null,null,null,null,0,0,165,0,0,0,0,0]
["2018-04-12",null,null,null,null,null,null,null,null,null,null,null,null,null,null,null,null,null,null,0,0,166,0,0,0,0,0]
["2018-04-13",null,null,null,null,null,null,null,null,null,null,null,null,null,null,null,null,null,null,0,0,167,0,0,0,0,0]
["2018-04-14",null,null,null,null,null,null,null,null,null,null,null,null,null,null,null,null,null,null,0,0,168,0,0,0,0,0]
["2018-04-15",null,null,null,null,null,null,null,null,null,null,null,null,null,null,null,null,null,null,0,0,169,0,0,0,0,0]
["2018-04-16",null,null,null,null,null,null,null,null,null,null,null,null,null,null,null,null,null,null,0,0,170,0,0,0,0,0]
["2018-04-17",null,null,null,null,null,null,null,null,null,null,null,null,null,null,null,null,null,null,0,0,171,0,0,0,0,0]
["2018-04-18",null,null,null,null,null,null,null,null,null,null,null,null,null,null,null,null,null,null,0,0,172,0,0,0,0,0]
["2018-04-19",null,null,null,null,null,null,null,null,null,null,null,null,null,null,null,null,null,null,0,0,173,0,0,0,0,0]
["2018-04-20",null,null,null,null,null,null,null,null,null,null,null,null,null,null,null,null,null,null,0,0,174,0,0,0,0,0]
["2018-04-21",null,null,null,null,null,null,null,null,null,null,null,null,null,null,null,null,null,null,0,0,175,0,0,0,0,0]
["2018-04-22",null,null,null,null,null,null,null,null,null,null,null,null,null,null,null,null,null,null,0,0,176,0,0,0,0,0]
["2018-04-23",null,null,null,null,null,null,null,null,null,null,null,null,null,null,null,null,null,null,0,0,177,0,0,0,0,0]
["2018-04-24",null,null,null,null,null,null,null,null,null,null,null,null,null,null,null,null,null,null,0,0,178,0,0,0,0,0]
["2018-04-25",null,null,null,null,null,null,null,null,null,null,null,null,null,null,null,null,null,null,0,0,179,0,0,0,0,0]
["2018-04-26",null,null,null,null,null,null,null,null,null,null,null,null,null,null,null,null,null,null,0,0,180,0,0,0,0,0]
["2018-04-27",null,null,null,null,null,null,null,null,null,null,null,null,null,null,null,null,null,null,0,0,181,0,0,0,0,0]
["2018-04-28",null,null,null,null,null,null,null,null,null,null,null,null,null,null,null,null,null,null,0,0,182,0,0,0,0,0]
["2018-04-29",null,null,null,null,null,null,null,null,null,null,null,null,null,null,null,null,null,null,0,0,183,0,0,0,0,0]
["2018-04-30",null,null,null,null,null,null,null,null,null,null,null,null,null,null,null,null,null,null,0,0,184,0,0,0,0,0]
["2018-05-01",null,null,null,null,null,null,null,null,null,null,null,null,null,null,null,null,null,null,0,0,185,0,0,0,0,0]
["2018-05-02",null,null,null,null,null,null,null,null,null,null,null,null,null,null,null,null,null,null,0,0,186,0,0,0,0,0]
["2018-05-03",null,null,null,null,null,null,null,null,null,null,null,null,null,null,null,null,null,null,0,0,187,0,0,0,0,0]
["2018-05-04",null,null,null,null,null,null,null,null,null,null,null,null,null,null,null,null,null,null,0,0,188,0,0,0,0,0]
["2018-05-05",null,null,null,null,null,null,null,null,null,null,null,null,null,null,null,null,null,null,0,0,189,0,0,0,0,0]
["2018-05-06",null,null,null,null,null,null,null,null,null,null,null,null,null,null,null,null,null,null,0,0,190,0,0,0,0,0]
["2018-05-07",null,null,null,null,null,null,null,null,null,null,null,null,null,null,null,null,null,null,0,0,191,0,0,0,0,0]
["2018-05-08",null,null,null,null,null,null,null,null,null,null,null,null,null,null,null,null,null,null,0,0,192,0,0,0,0,0]
["2018-05-09",null,null,null,null,null,null,null,null,null,null,null,null,null,null,null,null,null,null,0,0,193,0,0,0,0,0]
["2018-05-10",null,null,null,null,null,null,null,null,null,null,null,null,null,null,null,null,null,null,0,0,194,0,0,0,0,0]
["2018-05-11",null,null,null,null,null,null,null,null,null,null,null,null,null,null,null,null,null,null,0,0,195,0,0,0,0,0]
["2018-05-12",null,null,null,null,null,null,null,null,null,null,null,null,null,null,null,null,null,null,0,0,196,{"$f":"COUNTIF($B196,1) + COUNTIF($F196:$P196,1) + COUNTIF($U196,1)","v":0},{"$f":"COUNTIF($B196,2) + COUNTIF($F196:$P196,2) + COUNTIF($U196,2)","v":0},{"$f":"COUNTIF($B196,3) + COUNTIF($F196:$P196,3) + COUNTIF($U196,3)","v":0},0,0]
["2018-05-13",null,null,null,null,null,null,null,null,null,null,null,null,null,null,null,null,null,null,0,{"$f":"IF(D197=\"\",0,IF(D197<=$V$2,1,IF(D197<=$W$2,2,IF(D197<=$X$2,3,4))))","v":0},{"$f":"ROW($A197)","v":197},0,0,0,{"$f":"COUNTIF($B197,4) + COUNTIF($F197:$P197,4) + COUNTIF($U197,4)","v":0},{"$f":"SUM(W197:Z197)","v":0}]
[{"$f":"A197+1","v":"2018-05-14"},null,null,null,null,null,null,null,null,null,null,null,null,null,null,null,null,null,null,0,0,198,0,0,0,0,0]
["2018-05-15",null,null,null,null,null,null,null,null,null,null,null,null,null,null,null,null,null,null,0,0,199,0,0,0,0,0]
["2018-05-16",null,null,null,null,null,null,null,null,null,null,null,null,null,null,null,null,null,null,0,0,200,0,0,0,0,0]
["2018-05-17",null,null,null,null,null,null,null,null,null,null,null,null,null,null,null,null,null,null,0,0,201,0,0,0,0,0]
["2018-05-18",null,null,null,null,null,null,null,null,null,null,null,null,null,null,null,null,null,null,0,0,202,0,0,0,0,0]
["2018-05-19",null,null,null,null,null,null,null,null,null,null,null,null,null,null,null,null,null,null,0,0,203,0,0,0,0,0]
["2018-05-20",null,null,null,null,null,null,null,null,null,null,null,null,null,null,null,null,null,null,0,0,204,0,0,0,0,0]
["2018-05-21",null,null,null,null,null,null,null,null,null,null,null,null,null,null,null,null,null,null,0,0,205,0,0,0,0,0]
["2018-05-22",null,null,null,null,null,null,null,null,null,null,null,null,null,null,null,null,null,null,0,0,206,0,0,0,0,0]
["2018-05-23",null,null,null,null,null,null,null,null,null,null,null,null,null,null,null,null,null,null,{"$f":"IF(AA207=13,IF(OR(Y207>=1,Z207>=1),4,IF(W207=13,1,IF(W207>=7,2,3))),0)","v":0},0,207,0,0,0,0,0]
["2018-05-24",null,null,null,null,null,null,null,null,null,null,null,null,null,null,null,null,null,null,0,0,208,0,0,0,0,0]
["2018-05-25",null,null,null,null,null,null,null,null,null,null,null,null,null,null,null,null,null,null,0,0,209,0,0,0,0,0]
["2018-05-26",null,null,null,null,null,null,null,null,null,null,null,null,null,null,null,null,null,null,0,0,210,0,0,0,0,0]
["2018-05-27",null,null,null,null,null,null,null,null,null,null,null,null,null,null,null,null,null,null,0,0,211,0,0,0,0,0]
["2018-05-28",null,null,null,null,null,null,null,null,null,null,null,null,null,null,null,null,null,null,0,0,212,0,0,0,0,0]
["2018-05-29",null,null,null,null,null,null,null,null,null,null,null,null,null,null,null,null,null,null,0,0,213,0,0,0,0,0]
["2018-05-30",null,null,null,null,null,null,null,null,null,null,null,null,null,null,null,null,null,null,0,0,214,0,0,0,0,0]
["2018-05-31",null,null,null,null,null,null,null,null,null,null,null,null,null,null,null,null,null,null,0,0,215,0,0,0,0,0]
["2018-06-01",null,null,null,null,null,null,null,null,null,null,null,null,null,null,null,null,null,null,0,0,216,0,0,0,0,0]
["2018-06-02",null,null,null,null,null,null,null,null,null,null,null,null,null,null,null,null,null,null,0,0,217,0,0,0,0,0]
["2018-06-03",null,null,null,null,null,null,null,null,null,null,null,null,null,null,null,null,null,null,0,0,218,0,0,0,0,0]
["2018-06-04",null,null,null,null,null,null,null,null,null,null,null,null,null,null,null,null,null,null,0,0,219,0,0,0,0,0]
["2018-06-05",null,null,null,null,null,null,null,null,null,null,null,null,null,null,null,null,null,null,0,0,220,0,0,0,0,0]
["2018-06-06",null,null,null,null,null,null,null,null,null,null,null,null,null,null,null,null,null,null,0,0,221,0,0,0,0,0]
["2018-06-07",null,null,null,null,null,null,null,null,null,null,null,null,null,null,null,null,null,null,0,0,222,0,0,0,0,0]
["2018-06-08",null,null,null,null,null,null,null,null,null,null,null,null,null,null,null,null,null,null,0,0,223,0,0,0,0,0]
["2018-06-09",null,null,null,null,null,null,null,null,null,null,null,null,null,null,null,null,null,null,0,0,224,0,0,0,0,0]
["2018-06-10",null,null,null,null,null,null,null,null,null,null,null,null,null,null,null,null,null,null,0,0,225,0,0,0,0,0]
["2018-06-11",null,null,null,null,null,null,null,null,null,null,null,null,null,null,null,null,null,null,0,0,226,0,0,0,0,0]
["2018-06-12",null,null,null,null,null,null,null,null,null,null,null,null,null,null,null,null,null,null,0,0,227,0,0,0,0,0]
["2018-06-13",null,null,null,null,null,null,null,null,null,null,null,null,null,null,null,null,null,null,0,0,228,0,0,0,0,0]
["2018-06-14",null,null,null,null,null,null,null,null,null,null,null,null,null,null,null,null,null,null,0,0,229,0,0,0,0,0]
["2018-06-15",null,null,null,null,null,null,null,null,null,null,null,null,null,null,null,null,null,null,0,0,230,0,0,0,0,0]
["2018-06-16",null,null,null,null,null,null,null,null,null,null,null,null,null,null,null,null,null,null,0,0,231,0,0,0,0,0]
["2018-06-17",null,null,null,null,null,null,null,null,null,null,null,null,null,null,null,null,null,null,0,0,232,0,0,0,0,0]
["2018-06-18",null,null,null,null,null,null,null,null,null,null,null,null,null,null,null,null,null,null,0,0,233,0,0,0,0,0]
["2018-06-19",null,null,null,null,null,null,null,null,null,null,null,null,null,null,null,null,null,null,0,0,234,0,0,0,0,0]
["2018-06-20",null,null,null,null,null,null,null,null,null,null,null,null,null,null,null,null,null,null,0,0,235,0,0,0,0,0]
["2018-06-21",null,null,null,null,null,null,null,null,null,null,null,null,null,null,null,null,null,null,0,0,236,0,0,0,0,0]
["2018-06-22",null,null,null,null,null,null,null,null,null,null,null,null,null,null,null,null,null,null,0,0,237,0,0,0,0,0]
["2018-06-23",null,null,null,null,null,null,null,null,null,null,null,null,null,null,null,null,null,null,0,0,238,0,0,0,0,0]
["2018-06-24",null,null,null,null,null,null,null,null,null,null,null,null,null,null,null,null,null,null,0,0,239,0,0,0,0,0]
["2018-06-25",null,null,null,null,null,null,null,null,null,null,null,null,null,null,null,null,null,null,0,0,240,0,0,0,0,0]
["2018-06-26",null,null,null,null,null,null,null,null,null,null,null,null,null,null,null,null,null,null,0,0,241,0,0,0,0,0]
["2018-06-27",null,null,null,null,null,null,null,null,null,null,null,null,null,null,null,null,null,null,0,0,242,0,0,0,0,0]
["2018-06-28",null,null,null,null,null,null,null,null,null,null,null,null,null,null,null,null,null,null,0,0,243,0,0,0,0,0]
["2018-06-29",null,null,null,null,null,null,null,null,null,null,null,null,null,null,null,null,null,null,0,0,244,0,0,0,0,0]
["2018-06-30",null,null,null,null,null,null,null,null,null,null,null,null,null,null,null,null,null,null,0,0,245,0,0,0,0,0]
["2018-07-01",null,null,null,null,null,null,null,null,null,null,null,null,null,null,null,null,null,null,0,0,246,0,0,0,0,0]
["2018-07-02",null,null,null,null,null,null,null,null,null,null,null,null,null,null,null,null,null,null,0,0,247,0,0,0,0,0]
["2018-07-03",null,null,null,null,null,null,null,null,null,null,null,null,null,null,null,null,null,null,0,0,248,0,0,0,0,0]
["2018-07-04",null,null,null,null,null,null,null,null,null,null,null,null,null,null,null,null,null,null,0,0,249,0,0,0,0,0]
["2018-07-05",null,null,null,null,null,null,null,null,null,null,null,null,null,null,null,null,null,null,0,0,250,0,0,0,0,0]
["2018-07-06",null,null,null,null,null,null,null,null,null,null,null,null,null,null,null,null,null,null,0,0,251,0,0,0,0,0]
["2018-07-07",null,null,null,null,null,null,null,null,null,null,null,null,null,null,null,null,null,null,0,0,252,0,0,0,0,0]
["2018-07-08",null,null,null,null,null,null,null,null,null,null,null,null,null,null,null,null,null,null,0,0,253,0,0,0,0,0]
["2018-07-09",null,null,null,null,null,null,null,null,null,null,null,null,null,null,null,null,null,null,0,0,254,0,0,0,0,0]
["2018-07-10",null,null,null,null,null,null,null,null,null,null,null,null,null,null,null,null,null,null,0,0,255,0,0,0,0,0]
["2018-07-11",null,null,null,null,null,null,null,null,null,null,null,null,null,null,null,null,null,null,0,0,256,0,0,0,0,0]
["2018-07-12",null,null,null,null,null,null,null,null,null,null,null,null,null,null,null,null,null,null,0,0,257,0,0,0,0,0]
["2018-07-13",null,null,null,null,null,null,null,null,null,null,null,null,null,null,null,null,null,null,0,0,258,0,0,0,0,0]
["2018-07-14",null,null,null,null,null,null,null,null,null,null,null,null,null,null,null,null,null,null,0,0,259,0,0,0,0,0]
["2018-07-15",null,null,null,null,null,null,null,null,null,null,null,null,null,null,null,null,null,null,0,0,260,{"$f":"COUNTIF($B260,1) + COUNTIF($F260:$P260,1) + COUNTIF($U260,1)","v":0},{"$f":"COUNTIF($B260,2) + COUNTIF($F260:$P260,2) + COUNTIF($U260,2)","v":0},{"$f":"COUNTIF($B260,3) + COUNTIF($F260:$P260,3) + COUNTIF($U260,3)","v":0},0,0]
["2018-07-16",null,null,null,null,null,null,null,null,null,null,null,null,null,null,null,null,null,null,0,{"$f":"IF(D261=\"\",0,IF(D261<=$V$2,1,IF(D261<=$W$2,2,IF(D261<=$X$2,3,4))))","v":0},{"$f":"ROW($A261)","v":261},0,0,0,{"$f":"COUNTIF($B261,4) + COUNTIF($F261:$P261,4) + COUNTIF($U261,4)","v":0},{"$f":"SUM(W261:Z261)","v":0}]
[{"$f":"A261+1","v":"2018-07-17"},null,null,null,null,null,null,null,null,null,null,null,null,null,null,null,null,null,null,0,0,262,0,0,0,0,0]
["2018-07-18",null,null,null,null,null,null,null,null,null,null,null,null,null,null,null,null,null,null,0,0,263,0,0,0,0,0]
["2018-07-19",null,null,null,null,null,null,null,null,null,null,null,null,null,null,null,null,null,null,0,0,264,0,0,0,0,0]
["2018-07-20",null,null,null,null,null,null,null,null,null,null,null,null,null,null,null,null,null,null,0,0,265,0,0,0,0,0]
["2018-07-21",null,null,null,null,null,null,null,null,null,null,null,null,null,null,null,null,null,null,0,0,266,0,0,0,0,0]
["2018-07-22",null,null,null,null,null,null,null,null,null,null,null,null,null,null,null,null,null,null,0,0,267,0,0,0,0,0]
["2018-07-23",null,null,null,null,null,null,null,null,null,null,null,null,null,null,null,null,null,null,0,0,268,0,0,0,0,0]
["2018-07-24",null,null,null,null,null,null,null,null,null,null,null,null,null,null,null,null,null,null,0,0,269,0,0,0,0,0]
["2018-07-25",null,null,null,null,null,null,null,null,null,null,null,null,null,null,null,null,null,null,0,0,270,0,0,0,0,0]
["2018-07-26",null,null,null,null,null,null,null,null,null,null,null,null,null,null,null,null,null,null,{"$f":"IF(AA271=13,IF(OR(Y271>=1,Z271>=1),4,IF(W271=13,1,IF(W271>=7,2,3))),0)","v":0},0,271,0,0,0,0,0]
["2018-07-27",null,null,null,null,null,null,null,null,null,null,null,null,null,null,null,null,null,null,0,0,272,0,0,0,0,0]
["2018-07-28",null,null,null,null,null,null,null,null,null,null,null,null,null,null,null,null,null,null,0,0,273,0,0,0,0,0]
["2018-07-29",null,null,null,null,null,null,null,null,null,null,null,null,null,null,null,null,null,null,0,0,274,0,0,0,0,0]
["2018-07-30",null,null,null,null,null,null,null,null,null,null,null,null,null,null,null,null,null,null,0,0,275,0,0,0,0,0]
["2018-07-31",null,null,null,null,null,null,null,null,null,null,null,null,null,null,null,null,null,null,0,0,276,0,0,0,0,0]
["2018-08-01",null,null,null,null,null,null,null,null,null,null,null,null,null,null,null,null,null,null,0,0,277,0,0,0,0,0]
["2018-08-02",null,null,null,null,null,null,null,null,null,null,null,null,null,null,null,null,null,null,0,0,278,0,0,0,0,0]
["2018-08-03",null,null,null,null,null,null,null,null,null,null,null,null,null,null,null,null,null,null,0,0,279,0,0,0,0,0]
["2018-08-04",null,null,null,null,null,null,null,null,null,null,null,null,null,null,null,null,null,null,0,0,280,0,0,0,0,0]
["2018-08-05",null,null,null,null,null,null,null,null,null,null,null,null,null,null,null,null,null,null,0,0,281,0,0,0,0,0]
["2018-08-06",null,null,null,null,null,null,null,null,null,null,null,null,null,null,null,null,null,null,0,0,282,0,0,0,0,0]
["2018-08-07",null,null,null,null,null,null,null,null,null,null,null,null,null,null,null,null,null,null,0,0,283,0,0,0,0,0]
["2018-08-08",null,null,null,null,null,null,null,null,null,null,null,null,null,null,null,null,null,null,0,0,284,0,0,0,0,0]
["2018-08-09",null,null,null,null,null,null,null,null,null,null,null,null,null,null,null,null,null,null,0,0,285,0,0,0,0,0]
["2018-08-10",null,null,null,null,null,null,null,null,null,null,null,null,null,null,null,null,null,null,0,0,286,0,0,0,0,0]
["2018-08-11",null,null,null,null,null,null,null,null,null,null,null,null,null,null,null,null,null,null,0,0,287,0,0,0,0,0]
["2018-08-12",null,null,null,null,null,null,null,null,null,null,null,null,null,null,null,null,null,null,0,0,288,0,0,0,0,0]
["2018-08-13",null,null,null,null,null,null,null,null,null,null,null,null,null,null,null,null,null,null,0,0,289,0,0,0,0,0]
["2018-08-14",null,null,null,null,null,null,null,null,null,null,null,null,null,null,null,null,null,null,0,0,290,0,0,0,0,0]
["2018-08-15",null,null,null,null,null,null,null,null,null,null,null,null,null,null,null,null,null,null,0,0,291,0,0,0,0,0]
["2018-08-16",null,null,null,null,null,null,null,null,null,null,null,null,null,null,null,null,null,null,0,0,292,0,0,0,0,0]
["2018-08-17",null,null,null,null,null,null,null,null,null,null,null,null,null,null,null,null,null,null,0,0,293,0,0,0,0,0]
["2018-08-18",null,null,null,null,null,null,null,null,null,null,null,null,null,null,null,null,null,null,0,0,294,0,0,0,0,0]
["2018-08-19",null,null,null,null,null,null,null,null,null,null,null,null,null,null,null,null,null,null,0,0,295,0,0,0,0,0]
["2018-08-20",null,null,null,null,null,null,null,null,null,null,null,null,null,null,null,null,null,null,0,0,296,0,0,0,0,0]
["2018-08-21",null,null,null,null,null,null,null,null,null,null,null,null,null,null,null,null,null,null,0,0,297,0,0,0,0,0]
["2018-08-22",null,null,null,null,null,null,null,null,null,null,null,null,null,null,null,null,null,null,0,0,298,0,0,0,0,0]
["2018-08-23",null,null,null,null,null,null,null,null,null,null,null,null,null,null,null,null,null,null,0,0,299,0,0,0,0,0]
["2018-08-24",null,null,null,null,null,null,null,null,null,null,null,null,null,null,null,null,null,null,0,0,300,0,0,0,0,0]
["2018-08-25",null,null,null,null,null,null,null,null,null,null,null,null,null,null,null,null,null,null,0,0,301,0,0,0,0,0]
["2018-08-26",null,null,null,null,null,null,null,null,null,null,null,null,null,null,null,null,null,null,0,0,302,0,0,0,0,0]
["2018-08-27",null,null,null,null,null,null,null,null,null,null,null,null,null,null,null,null,null,null,0,0,303,0,0,0,0,0]
["2018-08-28",null,null,null,null,null,null,null,null,null,null,null,null,null,null,null,null,null,null,0,0,304,0,0,0,0,0]
["2018-08-29",null,null,null,null,null,null,null,null,null,null,null,null,null,null,null,null,null,null,0,0,305,0,0,0,0,0]
["2018-08-30",null,null,null,null,null,null,null,null,null,null,null,null,null,null,null,null,null,null,0,0,306,0,0,0,0,0]
["2018-08-31",null,null,null,null,null,null,null,null,null,null,null,null,null,null,null,null,null,null,0,0,307,0,0,0,0,0]
["2018-09-01",null,null,null,null,null,null,null,null,null,null,null,null,null,null,null,null,null,null,0,0,308,0,0,0,0,0]
["2018-09-02",null,null,null,null,null,null,null,null,null,null,null,null,null,null,null,null,null,null,0,0,309,0,0,0,0,0]
["2018-09-03",null,null,null,null,null,null,null,null,null,null,null,null,null,null,null,null,null,null,0,0,310,0,0,0,0,0]
["2018-09-04",null,null,null,null,null,null,null,null,null,null,null,null,null,null,null,null,null,null,0,0,311,0,0,0,0,0]
["2018-09-05",null,null,null,null,null,null,null,null,null,null,null,null,null,null,null,null,null,null,0,0,312,0,0,0,0,0]
["2018-09-06",null,null,null,null,null,null,null,null,null,null,null,null,null,null,null,null,null,null,0,0,313,0,0,0,0,0]
["2018-09-07",null,null,null,null,null,null,null,null,null,null,null,null,null,null,null,null,null,null,0,0,314,0,0,0,0,0]
["2018-09-08",null,null,null,null,null,null,null,null,null,null,null,null,null,null,null,null,null,null,0,0,315,0,0,0,0,0]
["2018-09-09",null,null,null,null,null,null,null,null,null,null,null,null,null,null,null,null,null,null,0,0,316,0,0,0,0,0]
["2018-09-10",null,null,null,null,null,null,null,null,null,null,null,null,null,null,null,null,null,null,0,0,317,0,0,0,0,0]
["2018-09-11",null,null,null,null,null,null,null,null,null,null,null,null,null,null,null,null,null,null,0,0,318,0,0,0,0,0]
["2018-09-12",null,null,null,null,null,null,null,null,null,null,null,null,null,null,null,null,null,null,0,0,319,0,0,0,0,0]
["2018-09-13",null,null,null,null,null,null,null,null,null,null,null,null,null,null,null,null,null,null,0,0,320,0,0,0,0,0]
["2018-09-14",null,null,null,null,null,null,null,null,null,null,null,null,null,null,null,null,null,null,0,0,321,0,0,0,0,0]
["2018-09-15",null,null,null,null,null,null,null,null,null,null,null,null,null,null,null,null,null,null,0,0,322,0,0,0,0,0]
["2018-09-16",null,null,null,null,null,null,null,null,null,null,null,null,null,null,null,null,null,null,0,0,323,0,0,0,0,0]
["2018-09-17",null,null,null,null,null,null,null,null,null,null,null,null,null,null,null,null,null,null,0,0,324,{"$f":"COUNTIF($B324,1) + COUNTIF($F324:$P324,1) + COUNTIF($U324,1)","v":0},{"$f":"COUNTIF($B324,2) + COUNTIF($F324:$P324,2) + COUNTIF($U324,2)","v":0},{"$f":"COUNTIF($B324,3) + COUNTIF($F324:$P324,3) + COUNTIF($U324,3)","v":0},0,0]
["2018-09-18",null,null,null,null,null,null,null,null,null,null,null,null,null,null,null,null,null,null,0,{"$f":"IF(D325=\"\",0,IF(D325<=$V$2,1,IF(D325<=$W$2,2,IF(D325<=$X$2,3,4))))","v":0},{"$f":"ROW($A325)","v":325},0,0,0,{"$f":"COUNTIF($B325,4) + COUNTIF($F325:$P325,4) + COUNTIF($U325,4)","v":0},{"$f":"SUM(W325:Z325)","v":0}]
[{"$f":"A325+1","v":"2018-09-19"},null,null,null,null,null,null,null,null,null,null,null,null,null,null,null,null,null,null,0,0,326,0,0,0,0,0]
["2018-09-20",null,null,null,null,null,null,null,null,null,null,null,null,null,null,null,null,null,null,0,0,327,0,0,0,0,0]
["2018-09-21",null,null,null,null,null,null,null,null,null,null,null,null,null,null,null,null,null,null,0,0,328,0,0,0,0,0]
["2018-09-22",null,null,null,null,null,null,null,null,null,null,null,null,null,null,null,null,null,null,0,0,329,0,0,0,0,0]
["2018-09-23",null,null,null,null,null,null,null,null,null,null,null,null,null,null,null,null,null,null,0,0,330,0,0,0,0,0]
["2018-09-24",null,null,null,null,null,null,null,null,null,null,null,null,null,null,null,null,null,null,0,0,331,0,0,0,0,0]
["2018-09-25",null,null,null,null,null,null,null,null,null,null,null,null,null,null,null,null,null,null,0,0,332,0,0,0,0,0]
["2018-09-26",null,null,null,null,null,null,null,null,null,null,null,null,null,null,null,null,null,null,0,0,333,0,0,0,0,0]
["2018-09-27",null,null,null,null,null,null,null,null,null,null,null,null,null,null,null,null,null,null,0,0,334,0,0,0,0,0]
["2018-09-28",null,null,null,null,null,null,null,null,null,null,null,null,null,null,null,null,null,null,{"$f":"IF(AA335=13,IF(OR(Y335>=1,Z335>=1),4,IF(W335=13,1,IF(W335>=7,2,3))),0)","v":0},0,335,0,0,0,0,0]
["2018-09-29",null,null,null,null,null,null,null,null,null,null,null,null,null,null,null,null,null,null,0,0,336,0,0,0,0,0]
["2018-09-30",null,null,null,null,null,null,null,null,null,null,null,null,null,null,null,null,null,null,0,0,337,0,0,0,0,0]
["2018-10-01",null,null,null,null,null,null,null,null,null,null,null,null,null,null,null,null,null,null,0,0,338,0,0,0,0,0]
["2018-10-02",null,null,null,null,null,null,null,null,null,null,null,null,null,null,null,null,null,null,0,0,339,0,0,0,0,0]
["2018-10-03",null,null,null,null,null,null,null,null,null,null,null,null,null,null,null,null,null,null,0,0,340,0,0,0,0,0]
["2018-10-04",null,null,null,null,null,null,null,null,null,null,null,null,null,null,null,null,null,null,0,0,341,0,0,0,0,0]
["2018-10-05",null,null,null,null,null,null,null,null,null,null,null,null,null,null,null,null,null,null,0,0,342,0,0,0,0,0]
["2018-10-06",null,null,null,null,null,null,null,null,null,null,null,null,null,null,null,null,null,null,0,0,343,0,0,0,0,0]
["2018-10-07",null,null,null,null,null,null,null,null,null,null,null,null,null,null,null,null,null,null,0,0,344,0,0,0,0,0]
["2018-10-08",null,null,null,null,null,null,null,null,null,null,null,null,null,null,null,null,null,null,0,0,345,0,0,0,0,0]
["2018-10-09",null,null,null,null,null,null,null,null,null,null,null,null,null,null,null,null,null,null,0,0,346,0,0,0,0,0]
["2018-10-10",null,null,null,null,null,null,null,null,null,null,null,null,null,null,null,null,null,null,0,0,347,0,0,0,0,0]
["2018-10-11",null,null,null,null,null,null,null,null,null,null,null,null,null,null,null,null,null,null,0,0,348,0,0,0,0,0]
["2018-10-12",null,null,null,null,null,null,null,null,null,null,null,null,null,null,null,null,null,null,0,0,349,0,0,0,0,0]
["2018-10-13",null,null,null,null,null,null,null,null,null,null,null,null,null,null,null,null,null,null,0,0,350,0,0,0,0,0]
["2018-10-14",null,null,null,null,null,null,null,null,null,null,null,null,null,null,null,null,null,null,0,0,351,0,0,0,0,0]
["2018-10-15",null,null,null,null,null,null,null,null,null,null,null,null,null,null,null,null,null,null,0,0,352,0,0,0,0,0]
["2018-10-16",null,null,null,null,null,null,null,null,null,null,null,null,null,null,null,null,null,null,0,0,353,0,0,0,0,0]
["2018-10-17",null,null,null,null,null,null,null,null,null,null,null,null,null,null,null,null,null,null,0,0,354,0,0,0,0,0]
["2018-10-18",null,null,null,null,null,null,null,null,null,null,null,null,null,null,null,null,null,null,0,0,355,0,0,0,0,0]
["2018-10-19",null,null,null,null,null,null,null,null,null,null,null,null,null,null,null,null,null,null,0,0,356,0,0,0,0,0]
["2018-10-20",null,null,null,null,null,null,null,null,null,null,null,null,null,null,null,null,null,null,0,0,357,0,0,0,0,0]
["2018-10-21",null,null,null,null,null,null,null,null,null,null,null,null,null,null,null,null,null,null,0,0,358,0,0,0,0,0]
["2018-10-22",null,null,null,null,null,null,null,null,null,null,null,null,null,null,null,null,null,null,0,0,359,0,0,0,0,0]
["2018-10-23",null,null,null,null,null,null,null,null,null,null,null,null,null,null,null,null,null,null,0,0,360,0,0,0,0,0]
["2018-10-24",null,null,null,null,null,null,null,null,null,null,null,null,null,null,null,null,null,null,0,0,361,0,0,0,0,0]
["2018-10-25",null,null,null,null,null,null,null,null,null,null,null,null,null,null,null,null,null,null,0,0,362,0,0,0,0,0]
["2018-10-26",null,null,null,null,null,null,null,null,null,null,null,null,null,null,null,null,null,null,0,0,363,0,0,0,0,0]
["2018-10-27",null,null,null,null,null,null,null,null,null,null,null,null,null,null,null,null,null,null,0,0,364,0,0,0,0,0]
["2018-10-28",null,null,null,null,null,null,null,null,null,null,null,null,null,null,null,null,null,null,0,0,365,0,0,0,0,0]
["2018-10-29",null,null,null,null,null,null,null,null,null,null,null,null,null,null,null,null,null,null,0,0,366,0,0,0,0,0]
["2018-10-30",null,null,null,null,null,null,null,null,null,null,null,null,null,null,null,null,null,null,0,0,367,0,0,0,0,0]
["2018-10-31",null,null,null,null,null,null,null,null,null,null,null,null,null,null,null,null,null,null,0,0,368,0,0,0,0,0]
[null,null,null,null,null,null,null,null,null,null,null,null,null,null,null,null,null,null,null,null,{"$f":"IF(D369=\"\",0,IF(D369<=$V$2,1,IF(D369<=$W$2,2,IF(D369<=$X$2,3,4))))","v":0},{"$f":"ROW($A369)","v":369},0,0,0,{"$f":"COUNTIF($B369,4) + COUNTIF($F369:$P369,4) + COUNTIF($U369,4)","v":0},{"$f":"SUM(W369:Z369)","v":0}]
[]
[null,"範囲先頭行","範囲末尾行"]
[{"$f":"月別スコア!D20 *1","v":"2017-11-01"},{"$f":"IF(ISERROR(VLOOKUP(A372,$A$4:$V$368,22,FALSE)),4,VLOOKUP(A372,$A$4:$V$368,22,FALSE))","v":4},{"$f":"B373-1","v":33}]
[{"$f":"月別スコア!G20 *1","v":"2017-12-01"},{"$f":"VLOOKUP(A373,$A$4:$V$368,22,FALSE)","v":34},{"$f":"B374-1","v":64}]
[{"$f":"月別スコア!J20 *1","v":"2018-01-01"},65,95]
[{"$f":"月別スコア!M20 *1","v":"2018-02-01"},96,123]
[{"$f":"月別スコア!P20 *1","v":"2018-03-01"},124,154]
[{"$f":"月別スコア!S20 *1","v":"2018-04-01"},155,184]
[{"$f":"月別スコア!V20 *1","v":"2018-05-01"},185,215]
[{"$f":"月別スコア!Y20 *1","v":"2018-06-01"},216,245]
[{"$f":"月別スコア!AB20 *1","v":"2018-07-01"},246,276]
[{"$f":"月別スコア!AE20 *1","v":"2018-08-01"},277,307]
[{"$f":"月別スコア!AH20 *1","v":"2018-09-01"},308,337]
[{"$f":"月別スコア!AK20 *1","v":"2018-10-01"},338,{"$f":"IF(ISERROR(B384-1),369,B384-1)","v":367}]
[{"$f":"月別スコア!AN20 *1","v":"2018-11-01"},{"$f":"IF(ISERROR(VLOOKUP(A384,$A$4:$V$368,22,FALSE)),368,VLOOKUP(A384,$A$4:$V$368,22,FALSE))","v":368},368]

{"sheet":"月別スコア","index":29,"n_rows":21,"n_cols":45,"rows_kept":21,"cut":false,"hidden":false,"merged":[[1,42,1,44],[18,42,18,44],[19,3,19,5],[19,6,19,8],[19,9,19,11],[19,12,19,14],[19,15,19,17],[19,18,19,20],[19,21,19,23],[19,24,19,26],[19,27,19,29],[19,30,19,32],[19,33,19,35],[19,36,19,38],[19,39,19,41],[18,15,18,17],[1,15,1,17],[17,1,18,2],[18,3,18,5],[18,6,18,8],[18,9,18,11],[3,1,4,1],[5,1,7,1],[8,1,10,1],[11,1,12,1],[13,1,16,1],[18,12,18,14],[1,3,1,5],[1,6,1,8],[1,9,1,11],[1,12,1,14],[18,36,18,38],[18,39,18,41],[18,18,18,20],[18,21,18,23],[1,39,1,41],[1,21,1,23],[1,24,1,26],[1,27,1,29],[1,30,1,32],[1,33,1,35],[1,36,1,38],[18,24,18,26],[18,27,18,29],[18,30,18,32],[18,33,18,35],[1,18,1,20]]}
["2017-10-31",null,"せいかつしゅうかん ねんかん かくにんひょう"]
[null,null,"　　　　　　　　　　　　　　　　　つき",{"$f":"D19","v":"2017年11月"},null,null,{"$f":"G19","v":"2017年12月"},null,null,{"$f":"J19","v":"2018年1月"},null,null,{"$f":"M19","v":"2018年2月"},null,null,{"$f":"P19","v":"2018年3月"},null,null,{"$f":"S19","v":"2018年4月"},null,null,{"$f":"V19","v":"2018年5月"},null,null,{"$f":"Y19","v":"2018年6月"},null,null,{"$f":"AB19","v":"2018年7月"},null,null,{"$f":"AE19","v":"2018年8月"},null,null,{"$f":"AH19","v":"2018年9月"},null,null,{"$f":"AK19","v":"2018年10月"},null,null,{"$f":"AN19","v":"2018年11月"},null,null,"ねんかんごうけい"]
[null,null,"　　こうもく"]
[null,"すいみん","すいみんじかん",{"$f":"COUNTIF(INDIRECT(\"'集計(年)'!U\"&D$21):INDIRECT(\"'集計(年)'!U\"&E$21),1)","v":0},{"$f":"COUNTIF(INDIRECT(\"'集計(年)'!U\"&D$21):INDIRECT(\"'集計(年)'!U\"&E$21),2)","v":0},{"$f":"COUNTIF(INDIRECT(\"'集計(年)'!U\"&D$21):INDIRECT(\"'集計(年)'!U\"&E$21),3)","v":0},{"$f":"COUNTIF(INDIRECT(\"'集計(年)'!U\"&G$21):INDIRECT(\"'集計(年)'!U\"&H$21),1)","v":0},{"$f":"COUNTIF(INDIRECT(\"'集計(年)'!U\"&G$21):INDIRECT(\"'集計(年)'!U\"&H$21),2)","v":0},{"$f":"COUNTIF(INDIRECT(\"'集計(年)'!U\"&G$21):INDIRECT(\"'集計(年)'!U\"&H$21),3)","v":0},{"$f":"COUNTIF(INDIRECT(\"'集計(年)'!U\"&J$21):INDIRECT(\"'集計(年)'!U\"&K$21),1)","v":0},{"$f":"COUNTIF(INDIRECT(\"'集計(年)'!U\"&J$21):INDIRECT(\"'集計(年)'!U\"&K$21),2)","v":0},{"$f":"COUNTIF(INDIRECT(\"'集計(年)'!U\"&J$21):INDIRECT(\"'集計(年)'!U\"&K$21),3)","v":0},{"$f":"COUNTIF(INDIRECT(\"'集計(年)'!U\"&M$21):INDIRECT(\"'集計(年)'!U\"&N$21),1)","v":0},{"$f":"COUNTIF(INDIRECT(\"'集計(年)'!U\"&M$21):INDIRECT(\"'集計(年)'!U\"&N$21),2)","v":0},{"$f":"COUNTIF(INDIRECT(\"'集計(年)'!U\"&M$21):INDIRECT(\"'集計(年)'!U\"&N$21),3)","v":0},{"$f":"COUNTIF(INDIRECT(\"'集計(年)'!U\"&P$21):INDIRECT(\"'集計(年)'!U\"&Q$21),1)","v":0},{"$f":"COUNTIF(INDIRECT(\"'集計(年)'!U\"&P$21):INDIRECT(\"'集計(年)'!U\"&Q$21),2)","v":0},{"$f":"COUNTIF(INDIRECT(\"'集計(年)'!U\"&P$21):INDIRECT(\"'集計(年)'!U\"&Q$21),3)","v":0},{"$f":"COUNTIF(INDIRECT(\"'集計(年)'!U\"&S$21):INDIRECT(\"'集計(年)'!U\"&T$21),1)","v":0},{"$f":"COUNTIF(INDIRECT(\"'集計(年)'!U\"&S$21):INDIRECT(\"'集計(年)'!U\"&T$21),2)","v":0},{"$f":"COUNTIF(INDIRECT(\"'集計(年)'!U\"&S$21):INDIRECT(\"'集計(年)'!U\"&T$21),3)","v":0},{"$f":"COUNTIF(INDIRECT(\"'集計(年)'!U\"&V$21):INDIRECT(\"'集計(年)'!U\"&W$21),1)","v":0},{"$f":"COUNTIF(INDIRECT(\"'集計(年)'!U\"&V$21):INDIRECT(\"'集計(年)'!U\"&W$21),2)","v":0},{"$f":"COUNTIF(INDIRECT(\"'集計(年)'!U\"&V$21):INDIRECT(\"'集計(年)'!U\"&W$21),3)","v":0},{"$f":"COUNTIF(INDIRECT(\"'集計(年)'!U\"&Y$21):INDIRECT(\"'集計(年)'!U\"&Z$21),1)","v":0},{"$f":"COUNTIF(INDIRECT(\"'集計(年)'!U\"&Y$21):INDIRECT(\"'集計(年)'!U\"&Z$21),2)","v":0},{"$f":"COUNTIF(INDIRECT(\"'集計(年)'!U\"&Y$21):INDIRECT(\"'集計(年)'!U\"&Z$21),3)","v":0},{"$f":"COUNTIF(INDIRECT(\"'集計(年)'!U\"&AB$21):INDIRECT(\"'集計(年)'!U\"&AC$21),1)","v":0},{"$f":"COUNTIF(INDIRECT(\"'集計(年)'!U\"&AB$21):INDIRECT(\"'集計(年)'!U\"&AC$21),2)","v":0},{"$f":"COUNTIF(INDIRECT(\"'集計(年)'!U\"&AB$21):INDIRECT(\"'集計(年)'!U\"&AC$21),3)","v":0},{"$f":"COUNTIF(INDIRECT(\"'集計(年)'!U\"&AE$21):INDIRECT(\"'集計(年)'!U\"&AF$21),1)","v":0},{"$f":"COUNTIF(INDIRECT(\"'集計(年)'!U\"&AE$21):INDIRECT(\"'集計(年)'!U\"&AF$21),2)","v":0},{"$f":"COUNTIF(INDIRECT(\"'集計(年)'!U\"&AE$21):INDIRECT(\"'集計(年)'!U\"&AF$21),3)","v":0},{"$f":"COUNTIF(INDIRECT(\"'集計(年)'!U\"&AH$21):INDIRECT(\"'集計(年)'!U\"&AI$21),1)","v":0},{"$f":"COUNTIF(INDIRECT(\"'集計(年)'!U\"&AH$21):INDIRECT(\"'集計(年)'!U\"&AI$21),2)","v":0},{"$f":"COUNTIF(INDIRECT(\"'集計(年)'!U\"&AH$21):INDIRECT(\"'集計(年)'!U\"&AI$21),3)","v":0},{"$f":"COUNTIF(INDIRECT(\"'集計(年)'!U\"&AK$21):INDIRECT(\"'集計(年)'!U\"&AL$21),1)","v":0},{"$f":"COUNTIF(INDIRECT(\"'集計(年)'!U\"&AK$21):INDIRECT(\"'集計(年)'!U\"&AL$21),2)","v":0},{"$f":"COUNTIF(INDIRECT(\"'集計(年)'!U\"&AK$21):INDIRECT(\"'集計(年)'!U\"&AL$21),3)","v":0},{"$f":"COUNTIF(INDIRECT(\"'集計(年)'!U\"&AN$21):INDIRECT(\"'集計(年)'!U\"&AO$21),1)","v":0},{"$f":"COUNTIF(INDIRECT(\"'集計(年)'!U\"&AN$21):INDIRECT(\"'集計(年)'!U\"&AO$21),2)","v":0},{"$f":"COUNTIF(INDIRECT(\"'集計(年)'!U\"&AN$21):INDIRECT(\"'集計(年)'!U\"&AO$21),3)","v":0},{"$f":"SUM(D4,G4,J4,M4,P4,S4,V4,Y4,AB4,AE4,AH4,AK4,AN4)","v":0},{"$f":"SUM(E4,H4,K4,N4,Q4,T4,W4,Z4,AC4,AF4,AI4,AL4,AO4)","v":0},{"$f":"SUM(F4,I4,L4,O4,R4,U4,X4,AA4,AD4,AG4,AJ4,AM4,AP4)","v":0}]
[null,null,"じぶんでおきた",{"$f":"COUNTIF(INDIRECT(\"'集計(年)'!B\"&D$21):INDIRECT(\"'集計(年)'!B\"&E$21),1)","v":0},{"$f":"COUNTIF(INDIRECT(\"'集計(年)'!B\"&D$21):INDIRECT(\"'集計(年)'!B\"&E$21),2)","v":0},{"$f":"COUNTIF(INDIRECT(\"'集計(年)'!B\"&D$21):INDIRECT(\"'集計(年)'!B\"&E$21),3)","v":0},{"$f":"COUNTIF(INDIRECT(\"'集計(年)'!B\"&G$21):INDIRECT(\"'集計(年)'!B\"&H$21),1)","v":0},{"$f":"COUNTIF(INDIRECT(\"'集計(年)'!B\"&G$21):INDIRECT(\"'集計(年)'!B\"&H$21),2)","v":0},{"$f":"COUNTIF(INDIRECT(\"'集計(年)'!B\"&G$21):INDIRECT(\"'集計(年)'!B\"&H$21),3)","v":0},{"$f":"COUNTIF(INDIRECT(\"'集計(年)'!B\"&J$21):INDIRECT(\"'集計(年)'!B\"&K$21),1)","v":0},{"$f":"COUNTIF(INDIRECT(\"'集計(年)'!B\"&J$21):INDIRECT(\"'集計(年)'!B\"&K$21),2)","v":0},{"$f":"COUNTIF(INDIRECT(\"'集計(年)'!B\"&J$21):INDIRECT(\"'集計(年)'!B\"&K$21),3)","v":0},{"$f":"COUNTIF(INDIRECT(\"'集計(年)'!B\"&M$21):INDIRECT(\"'集計(年)'!B\"&N$21),1)","v":0},{"$f":"COUNTIF(INDIRECT(\"'集計(年)'!B\"&M$21):INDIRECT(\"'集計(年)'!B\"&N$21),2)","v":0},{"$f":"COUNTIF(INDIRECT(\"'集計(年)'!B\"&M$21):INDIRECT(\"'集計(年)'!B\"&N$21),3)","v":0},{"$f":"COUNTIF(INDIRECT(\"'集計(年)'!B\"&P$21):INDIRECT(\"'集計(年)'!B\"&Q$21),1)","v":0},{"$f":"COUNTIF(INDIRECT(\"'集計(年)'!B\"&P$21):INDIRECT(\"'集計(年)'!B\"&Q$21),2)","v":0},{"$f":"COUNTIF(INDIRECT(\"'集計(年)'!B\"&P$21):INDIRECT(\"'集計(年)'!B\"&Q$21),3)","v":0},{"$f":"COUNTIF(INDIRECT(\"'集計(年)'!B\"&S$21):INDIRECT(\"'集計(年)'!B\"&T$21),1)","v":0},{"$f":"COUNTIF(INDIRECT(\"'集計(年)'!B\"&S$21):INDIRECT(\"'集計(年)'!B\"&T$21),2)","v":0},{"$f":"COUNTIF(INDIRECT(\"'集計(年)'!B\"&S$21):INDIRECT(\"'集計(年)'!B\"&T$21),3)","v":0},{"$f":"COUNTIF(INDIRECT(\"'集計(年)'!B\"&V$21):INDIRECT(\"'集計(年)'!B\"&W$21),1)","v":0},{"$f":"COUNTIF(INDIRECT(\"'集計(年)'!B\"&V$21):INDIRECT(\"'集計(年)'!B\"&W$21),2)","v":0},{"$f":"COUNTIF(INDIRECT(\"'集計(年)'!B\"&V$21):INDIRECT(\"'集計(年)'!B\"&W$21),3)","v":0},{"$f":"COUNTIF(INDIRECT(\"'集計(年)'!B\"&Y$21):INDIRECT(\"'集計(年)'!B\"&Z$21),1)","v":0},{"$f":"COUNTIF(INDIRECT(\"'集計(年)'!B\"&Y$21):INDIRECT(\"'集計(年)'!B\"&Z$21),2)","v":0},{"$f":"COUNTIF(INDIRECT(\"'集計(年)'!B\"&Y$21):INDIRECT(\"'集計(年)'!B\"&Z$21),3)","v":0},{"$f":"COUNTIF(INDIRECT(\"'集計(年)'!B\"&AB$21):INDIRECT(\"'集計(年)'!B\"&AC$21),1)","v":0},{"$f":"COUNTIF(INDIRECT(\"'集計(年)'!B\"&AB$21):INDIRECT(\"'集計(年)'!B\"&AC$21),2)","v":0},{"$f":"COUNTIF(INDIRECT(\"'集計(年)'!B\"&AB$21):INDIRECT(\"'集計(年)'!B\"&AC$21),3)","v":0},{"$f":"COUNTIF(INDIRECT(\"'集計(年)'!B\"&AE$21):INDIRECT(\"'集計(年)'!B\"&AF$21),1)","v":0},{"$f":"COUNTIF(INDIRECT(\"'集計(年)'!B\"&AE$21):INDIRECT(\"'集計(年)'!B\"&AF$21),2)","v":0},{"$f":"COUNTIF(INDIRECT(\"'集計(年)'!B\"&AE$21):INDIRECT(\"'集計(年)'!B\"&AF$21),3)","v":0},{"$f":"COUNTIF(INDIRECT(\"'集計(年)'!B\"&AH$21):INDIRECT(\"'集計(年)'!B\"&AI$21),1)","v":0},{"$f":"COUNTIF(INDIRECT(\"'集計(年)'!B\"&AH$21):INDIRECT(\"'集計(年)'!B\"&AI$21),2)","v":0},{"$f":"COUNTIF(INDIRECT(\"'集計(年)'!B\"&AH$21):INDIRECT(\"'集計(年)'!B\"&AI$21),3)","v":0},{"$f":"COUNTIF(INDIRECT(\"'集計(年)'!B\"&AK$21):INDIRECT(\"'集計(年)'!B\"&AL$21),1)","v":0},{"$f":"COUNTIF(INDIRECT(\"'集計(年)'!B\"&AK$21):INDIRECT(\"'集計(年)'!B\"&AL$21),2)","v":0},{"$f":"COUNTIF(INDIRECT(\"'集計(年)'!B\"&AK$21):INDIRECT(\"'集計(年)'!B\"&AL$21),3)","v":0},{"$f":"COUNTIF(INDIRECT(\"'集計(年)'!B\"&AN$21):INDIRECT(\"'集計(年)'!B\"&AO$21),1)","v":0},{"$f":"COUNTIF(INDIRECT(\"'集計(年)'!B\"&AN$21):INDIRECT(\"'集計(年)'!B\"&AO$21),2)","v":0},{"$f":"COUNTIF(INDIRECT(\"'集計(年)'!B\"&AN$21):INDIRECT(\"'集計(年)'!B\"&AO$21),3)","v":0},{"$f":"SUM(D5,G5,J5,M5,P5,S5,V5,Y5,AB5,AE5,AH5,AK5,AN5)","v":0},{"$f":"SUM(E5,H5,K5,N5,Q5,T5,W5,Z5,AC5,AF5,AI5,AL5,AO5)","v":0},{"$f":"SUM(F5,I5,L5,O5,R5,U5,X5,AA5,AD5,AG5,AJ5,AM5,AP5)","v":0}]
[null,"しょくじ","あさ　\nおいしくぜんぶたべた",{"$f":"COUNTIF(INDIRECT(\"'集計(年)'!F\"&D$21):INDIRECT(\"'集計(年)'!F\"&E$21),1)","v":0},{"$f":"COUNTIF(INDIRECT(\"'集計(年)'!F\"&D$21):INDIRECT(\"'集計(年)'!F\"&E$21),2)","v":0},{"$f":"COUNTIF(INDIRECT(\"'集計(年)'!F\"&D$21):INDIRECT(\"'集計(年)'!F\"&E$21),3)","v":0},{"$f":"COUNTIF(INDIRECT(\"'集計(年)'!F\"&G$21):INDIRECT(\"'集計(年)'!F\"&H$21),1)","v":0},{"$f":"COUNTIF(INDIRECT(\"'集計(年)'!F\"&G$21):INDIRECT(\"'集計(年)'!F\"&H$21),2)","v":0},{"$f":"COUNTIF(INDIRECT(\"'集計(年)'!F\"&G$21):INDIRECT(\"'集計(年)'!F\"&H$21),3)","v":0},{"$f":"COUNTIF(INDIRECT(\"'集計(年)'!F\"&J$21):INDIRECT(\"'集計(年)'!F\"&K$21),1)","v":0},{"$f":"COUNTIF(INDIRECT(\"'集計(年)'!F\"&J$21):INDIRECT(\"'集計(年)'!F\"&K$21),2)","v":0},{"$f":"COUNTIF(INDIRECT(\"'集計(年)'!F\"&J$21):INDIRECT(\"'集計(年)'!F\"&K$21),3)","v":0},{"$f":"COUNTIF(INDIRECT(\"'集計(年)'!F\"&M$21):INDIRECT(\"'集計(年)'!F\"&N$21),1)","v":0},{"$f":"COUNTIF(INDIRECT(\"'集計(年)'!F\"&M$21):INDIRECT(\"'集計(年)'!F\"&N$21),2)","v":0},{"$f":"COUNTIF(INDIRECT(\"'集計(年)'!F\"&M$21):INDIRECT(\"'集計(年)'!F\"&N$21),3)","v":0},{"$f":"COUNTIF(INDIRECT(\"'集計(年)'!F\"&P$21):INDIRECT(\"'集計(年)'!F\"&Q$21),1)","v":0},{"$f":"COUNTIF(INDIRECT(\"'集計(年)'!F\"&P$21):INDIRECT(\"'集計(年)'!F\"&Q$21),2)","v":0},{"$f":"COUNTIF(INDIRECT(\"'集計(年)'!F\"&P$21):INDIRECT(\"'集計(年)'!F\"&Q$21),3)","v":0},{"$f":"COUNTIF(INDIRECT(\"'集計(年)'!F\"&S$21):INDIRECT(\"'集計(年)'!F\"&T$21),1)","v":0},{"$f":"COUNTIF(INDIRECT(\"'集計(年)'!F\"&S$21):INDIRECT(\"'集計(年)'!F\"&T$21),2)","v":0},{"$f":"COUNTIF(INDIRECT(\"'集計(年)'!F\"&S$21):INDIRECT(\"'集計(年)'!F\"&T$21),3)","v":0},{"$f":"COUNTIF(INDIRECT(\"'集計(年)'!F\"&V$21):INDIRECT(\"'集計(年)'!F\"&W$21),1)","v":0},{"$f":"COUNTIF(INDIRECT(\"'集計(年)'!F\"&V$21):INDIRECT(\"'集計(年)'!F\"&W$21),2)","v":0},{"$f":"COUNTIF(INDIRECT(\"'集計(年)'!F\"&V$21):INDIRECT(\"'集計(年)'!F\"&W$21),3)","v":0},{"$f":"COUNTIF(INDIRECT(\"'集計(年)'!F\"&Y$21):INDIRECT(\"'集計(年)'!F\"&Z$21),1)","v":0},{"$f":"COUNTIF(INDIRECT(\"'集計(年)'!F\"&Y$21):INDIRECT(\"'集計(年)'!F\"&Z$21),2)","v":0},{"$f":"COUNTIF(INDIRECT(\"'集計(年)'!F\"&Y$21):INDIRECT(\"'集計(年)'!F\"&Z$21),3)","v":0},{"$f":"COUNTIF(INDIRECT(\"'集計(年)'!F\"&AB$21):INDIRECT(\"'集計(年)'!F\"&AC$21),1)","v":0},{"$f":"COUNTIF(INDIRECT(\"'集計(年)'!F\"&AB$21):INDIRECT(\"'集計(年)'!F\"&AC$21),2)","v":0},{"$f":"COUNTIF(INDIRECT(\"'集計(年)'!F\"&AB$21):INDIRECT(\"'集計(年)'!F\"&AC$21),3)","v":0},{"$f":"COUNTIF(INDIRECT(\"'集計(年)'!F\"&AE$21):INDIRECT(\"'集計(年)'!F\"&AF$21),1)","v":0},{"$f":"COUNTIF(INDIRECT(\"'集計(年)'!F\"&AE$21):INDIRECT(\"'集計(年)'!F\"&AF$21),2)","v":0},{"$f":"COUNTIF(INDIRECT(\"'集計(年)'!F\"&AE$21):INDIRECT(\"'集計(年)'!F\"&AF$21),3)","v":0},{"$f":"COUNTIF(INDIRECT(\"'集計(年)'!F\"&AH$21):INDIRECT(\"'集計(年)'!F\"&AI$21),1)","v":0},{"$f":"COUNTIF(INDIRECT(\"'集計(年)'!F\"&AH$21):INDIRECT(\"'集計(年)'!F\"&AI$21),2)","v":0},{"$f":"COUNTIF(INDIRECT(\"'集計(年)'!F\"&AH$21):INDIRECT(\"'集計(年)'!F\"&AI$21),3)","v":0},{"$f":"COUNTIF(INDIRECT(\"'集計(年)'!F\"&AK$21):INDIRECT(\"'集計(年)'!F\"&AL$21),1)","v":0},{"$f":"COUNTIF(INDIRECT(\"'集計(年)'!F\"&AK$21):INDIRECT(\"'集計(年)'!F\"&AL$21),2)","v":0},{"$f":"COUNTIF(INDIRECT(\"'集計(年)'!F\"&AK$21):INDIRECT(\"'集計(年)'!F\"&AL$21),3)","v":0},{"$f":"COUNTIF(INDIRECT(\"'集計(年)'!F\"&AN$21):INDIRECT(\"'集計(年)'!F\"&AO$21),1)","v":0},{"$f":"COUNTIF(INDIRECT(\"'集計(年)'!F\"&AN$21):INDIRECT(\"'集計(年)'!F\"&AO$21),2)","v":0},{"$f":"COUNTIF(INDIRECT(\"'集計(年)'!F\"&AN$21):INDIRECT(\"'集計(年)'!F\"&AO$21),3)","v":0},0,0,0]
[null,null,"　ひる　\nおいしくぜんぶたべた",{"$f":"COUNTIF(INDIRECT(\"'集計(年)'!G\"&D$21):INDIRECT(\"'集計(年)'!G\"&E$21),1)","v":0},{"$f":"COUNTIF(INDIRECT(\"'集計(年)'!G\"&D$21):INDIRECT(\"'集計(年)'!G\"&E$21),2)","v":0},{"$f":"COUNTIF(INDIRECT(\"'集計(年)'!G\"&D$21):INDIRECT(\"'集計(年)'!G\"&E$21),3)","v":0},{"$f":"COUNTIF(INDIRECT(\"'集計(年)'!G\"&G$21):INDIRECT(\"'集計(年)'!G\"&H$21),1)","v":0},{"$f":"COUNTIF(INDIRECT(\"'集計(年)'!G\"&G$21):INDIRECT(\"'集計(年)'!G\"&H$21),2)","v":0},{"$f":"COUNTIF(INDIRECT(\"'集計(年)'!G\"&G$21):INDIRECT(\"'集計(年)'!G\"&H$21),3)","v":0},{"$f":"COUNTIF(INDIRECT(\"'集計(年)'!G\"&J$21):INDIRECT(\"'集計(年)'!G\"&K$21),1)","v":0},{"$f":"COUNTIF(INDIRECT(\"'集計(年)'!G\"&J$21):INDIRECT(\"'集計(年)'!G\"&K$21),2)","v":0},{"$f":"COUNTIF(INDIRECT(\"'集計(年)'!G\"&J$21):INDIRECT(\"'集計(年)'!G\"&K$21),3)","v":0},{"$f":"COUNTIF(INDIRECT(\"'集計(年)'!G\"&M$21):INDIRECT(\"'集計(年)'!G\"&N$21),1)","v":0},{"$f":"COUNTIF(INDIRECT(\"'集計(年)'!G\"&M$21):INDIRECT(\"'集計(年)'!G\"&N$21),2)","v":0},{"$f":"COUNTIF(INDIRECT(\"'集計(年)'!G\"&M$21):INDIRECT(\"'集計(年)'!G\"&N$21),3)","v":0},{"$f":"COUNTIF(INDIRECT(\"'集計(年)'!G\"&P$21):INDIRECT(\"'集計(年)'!G\"&Q$21),1)","v":0},{"$f":"COUNTIF(INDIRECT(\"'集計(年)'!G\"&P$21):INDIRECT(\"'集計(年)'!G\"&Q$21),2)","v":0},{"$f":"COUNTIF(INDIRECT(\"'集計(年)'!G\"&P$21):INDIRECT(\"'集計(年)'!G\"&Q$21),3)","v":0},{"$f":"COUNTIF(INDIRECT(\"'集計(年)'!G\"&S$21):INDIRECT(\"'集計(年)'!G\"&T$21),1)","v":0},{"$f":"COUNTIF(INDIRECT(\"'集計(年)'!G\"&S$21):INDIRECT(\"'集計(年)'!G\"&T$21),2)","v":0},{"$f":"COUNTIF(INDIRECT(\"'集計(年)'!G\"&S$21):INDIRECT(\"'集計(年)'!G\"&T$21),3)","v":0},{"$f":"COUNTIF(INDIRECT(\"'集計(年)'!G\"&V$21):INDIRECT(\"'集計(年)'!G\"&W$21),1)","v":0},{"$f":"COUNTIF(INDIRECT(\"'集計(年)'!G\"&V$21):INDIRECT(\"'集計(年)'!G\"&W$21),2)","v":0},{"$f":"COUNTIF(INDIRECT(\"'集計(年)'!G\"&V$21):INDIRECT(\"'集計(年)'!G\"&W$21),3)","v":0},{"$f":"COUNTIF(INDIRECT(\"'集計(年)'!G\"&Y$21):INDIRECT(\"'集計(年)'!G\"&Z$21),1)","v":0},{"$f":"COUNTIF(INDIRECT(\"'集計(年)'!G\"&Y$21):INDIRECT(\"'集計(年)'!G\"&Z$21),2)","v":0},{"$f":"COUNTIF(INDIRECT(\"'集計(年)'!G\"&Y$21):INDIRECT(\"'集計(年)'!G\"&Z$21),3)","v":0},{"$f":"COUNTIF(INDIRECT(\"'集計(年)'!G\"&AB$21):INDIRECT(\"'集計(年)'!G\"&AC$21),1)","v":0},{"$f":"COUNTIF(INDIRECT(\"'集計(年)'!G\"&AB$21):INDIRECT(\"'集計(年)'!G\"&AC$21),2)","v":0},{"$f":"COUNTIF(INDIRECT(\"'集計(年)'!G\"&AB$21):INDIRECT(\"'集計(年)'!G\"&AC$21),3)","v":0},{"$f":"COUNTIF(INDIRECT(\"'集計(年)'!G\"&AE$21):INDIRECT(\"'集計(年)'!G\"&AF$21),1)","v":0},{"$f":"COUNTIF(INDIRECT(\"'集計(年)'!G\"&AE$21):INDIRECT(\"'集計(年)'!G\"&AF$21),2)","v":0},{"$f":"COUNTIF(INDIRECT(\"'集計(年)'!G\"&AE$21):INDIRECT(\"'集計(年)'!G\"&AF$21),3)","v":0},{"$f":"COUNTIF(INDIRECT(\"'集計(年)'!G\"&AH$21):INDIRECT(\"'集計(年)'!G\"&AI$21),1)","v":0},{"$f":"COUNTIF(INDIRECT(\"'集計(年)'!G\"&AH$21):INDIRECT(\"'集計(年)'!G\"&AI$21),2)","v":0},{"$f":"COUNTIF(INDIRECT(\"'集計(年)'!G\"&AH$21):INDIRECT(\"'集計(年)'!G\"&AI$21),3)","v":0},{"$f":"COUNTIF(INDIRECT(\"'集計(年)'!G\"&AK$21):INDIRECT(\"'集計(年)'!G\"&AL$21),1)","v":0},{"$f":"COUNTIF(INDIRECT(\"'集計(年)'!G\"&AK$21):INDIRECT(\"'集計(年)'!G\"&AL$21),2)","v":0},{"$f":"COUNTIF(INDIRECT(\"'集計(年)'!G\"&AK$21):INDIRECT(\"'集計(年)'!G\"&AL$21),3)","v":0},{"$f":"COUNTIF(INDIRECT(\"'集計(年)'!G\"&AN$21):INDIRECT(\"'集計(年)'!G\"&AO$21),1)","v":0},{"$f":"COUNTIF(INDIRECT(\"'集計(年)'!G\"&AN$21):INDIRECT(\"'集計(年)'!G\"&AO$21),2)","v":0},{"$f":"COUNTIF(INDIRECT(\"'集計(年)'!G\"&AN$21):INDIRECT(\"'集計(年)'!G\"&AO$21),3)","v":0},0,0,0]
[null,null,"よる　\nおししくぜんぶたべた",{"$f":"COUNTIF(INDIRECT(\"'集計(年)'!H\"&D$21):INDIRECT(\"'集計(年)'!H\"&E$21),1)","v":0},{"$f":"COUNTIF(INDIRECT(\"'集計(年)'!H\"&D$21):INDIRECT(\"'集計(年)'!H\"&E$21),2)","v":0},{"$f":"COUNTIF(INDIRECT(\"'集計(年)'!H\"&D$21):INDIRECT(\"'集計(年)'!H\"&E$21),3)","v":0},{"$f":"COUNTIF(INDIRECT(\"'集計(年)'!H\"&G$21):INDIRECT(\"'集計(年)'!H\"&H$21),1)","v":0},{"$f":"COUNTIF(INDIRECT(\"'集計(年)'!H\"&G$21):INDIRECT(\"'集計(年)'!H\"&H$21),2)","v":0},{"$f":"COUNTIF(INDIRECT(\"'集計(年)'!H\"&G$21):INDIRECT(\"'集計(年)'!H\"&H$21),3)","v":0},{"$f":"COUNTIF(INDIRECT(\"'集計(年)'!H\"&J$21):INDIRECT(\"'集計(年)'!H\"&K$21),1)","v":0},{"$f":"COUNTIF(INDIRECT(\"'集計(年)'!H\"&J$21):INDIRECT(\"'集計(年)'!H\"&K$21),2)","v":0},{"$f":"COUNTIF(INDIRECT(\"'集計(年)'!H\"&J$21):INDIRECT(\"'集計(年)'!H\"&K$21),3)","v":0},{"$f":"COUNTIF(INDIRECT(\"'集計(年)'!H\"&M$21):INDIRECT(\"'集計(年)'!H\"&N$21),1)","v":0},{"$f":"COUNTIF(INDIRECT(\"'集計(年)'!H\"&M$21):INDIRECT(\"'集計(年)'!H\"&N$21),2)","v":0},{"$f":"COUNTIF(INDIRECT(\"'集計(年)'!H\"&M$21):INDIRECT(\"'集計(年)'!H\"&N$21),3)","v":0},{"$f":"COUNTIF(INDIRECT(\"'集計(年)'!H\"&P$21):INDIRECT(\"'集計(年)'!H\"&Q$21),1)","v":0},{"$f":"COUNTIF(INDIRECT(\"'集計(年)'!H\"&P$21):INDIRECT(\"'集計(年)'!H\"&Q$21),2)","v":0},{"$f":"COUNTIF(INDIRECT(\"'集計(年)'!H\"&P$21):INDIRECT(\"'集計(年)'!H\"&Q$21),3)","v":0},{"$f":"COUNTIF(INDIRECT(\"'集計(年)'!H\"&S$21):INDIRECT(\"'集計(年)'!H\"&T$21),1)","v":0},{"$f":"COUNTIF(INDIRECT(\"'集計(年)'!H\"&S$21):INDIRECT(\"'集計(年)'!H\"&T$21),2)","v":0},{"$f":"COUNTIF(INDIRECT(\"'集計(年)'!H\"&S$21):INDIRECT(\"'集計(年)'!H\"&T$21),3)","v":0},{"$f":"COUNTIF(INDIRECT(\"'集計(年)'!H\"&V$21):INDIRECT(\"'集計(年)'!H\"&W$21),1)","v":0},{"$f":"COUNTIF(INDIRECT(\"'集計(年)'!H\"&V$21):INDIRECT(\"'集計(年)'!H\"&W$21),2)","v":0},{"$f":"COUNTIF(INDIRECT(\"'集計(年)'!H\"&V$21):INDIRECT(\"'集計(年)'!H\"&W$21),3)","v":0},{"$f":"COUNTIF(INDIRECT(\"'集計(年)'!H\"&Y$21):INDIRECT(\"'集計(年)'!H\"&Z$21),1)","v":0},{"$f":"COUNTIF(INDIRECT(\"'集計(年)'!H\"&Y$21):INDIRECT(\"'集計(年)'!H\"&Z$21),2)","v":0},{"$f":"COUNTIF(INDIRECT(\"'集計(年)'!H\"&Y$21):INDIRECT(\"'集計(年)'!H\"&Z$21),3)","v":0},{"$f":"COUNTIF(INDIRECT(\"'集計(年)'!H\"&AB$21):INDIRECT(\"'集計(年)'!H\"&AC$21),1)","v":0},{"$f":"COUNTIF(INDIRECT(\"'集計(年)'!H\"&AB$21):INDIRECT(\"'集計(年)'!H\"&AC$21),2)","v":0},{"$f":"COUNTIF(INDIRECT(\"'集計(年)'!H\"&AB$21):INDIRECT(\"'集計(年)'!H\"&AC$21),3)","v":0},{"$f":"COUNTIF(INDIRECT(\"'集計(年)'!H\"&AE$21):INDIRECT(\"'集計(年)'!H\"&AF$21),1)","v":0},{"$f":"COUNTIF(INDIRECT(\"'集計(年)'!H\"&AE$21):INDIRECT(\"'集計(年)'!H\"&AF$21),2)","v":0},{"$f":"COUNTIF(INDIRECT(\"'集計(年)'!H\"&AE$21):INDIRECT(\"'集計(年)'!H\"&AF$21),3)","v":0},{"$f":"COUNTIF(INDIRECT(\"'集計(年)'!H\"&AH$21):INDIRECT(\"'集計(年)'!H\"&AI$21),1)","v":0},{"$f":"COUNTIF(INDIRECT(\"'集計(年)'!H\"&AH$21):INDIRECT(\"'集計(年)'!H\"&AI$21),2)","v":0},{"$f":"COUNTIF(INDIRECT(\"'集計(年)'!H\"&AH$21):INDIRECT(\"'集計(年)'!H\"&AI$21),3)","v":0},{"$f":"COUNTIF(INDIRECT(\"'集計(年)'!H\"&AK$21):INDIRECT(\"'集計(年)'!H\"&AL$21),1)","v":0},{"$f":"COUNTIF(INDIRECT(\"'集計(年)'!H\"&AK$21):INDIRECT(\"'集計(年)'!H\"&AL$21),2)","v":0},{"$f":"COUNTIF(INDIRECT(\"'集計(年)'!H\"&AK$21):INDIRECT(\"'集計(年)'!H\"&AL$21),3)","v":0},{"$f":"COUNTIF(INDIRECT(\"'集計(年)'!H\"&AN$21):INDIRECT(\"'集計(年)'!H\"&AO$21),1)","v":0},{"$f":"COUNTIF(INDIRECT(\"'集計(年)'!H\"&AN$21):INDIRECT(\"'集計(年)'!H\"&AO$21),2)","v":0},{"$f":"COUNTIF(INDIRECT(\"'集計(年)'!H\"&AN$21):INDIRECT(\"'集計(年)'!H\"&AO$21),3)","v":0},0,0,0]
[null,"うんどう","あさ　\nそとであそんだ",{"$f":"COUNTIF(INDIRECT(\"'集計(年)'!I\"&D$21):INDIRECT(\"'集計(年)'!I\"&E$21),1)","v":0},{"$f":"COUNTIF(INDIRECT(\"'集計(年)'!I\"&D$21):INDIRECT(\"'集計(年)'!I\"&E$21),2)","v":0},{"$f":"COUNTIF(INDIRECT(\"'集計(年)'!I\"&D$21):INDIRECT(\"'集計(年)'!I\"&E$21),3)","v":0},{"$f":"COUNTIF(INDIRECT(\"'集計(年)'!I\"&G$21):INDIRECT(\"'集計(年)'!I\"&H$21),1)","v":0},{"$f":"COUNTIF(INDIRECT(\"'集計(年)'!I\"&G$21):INDIRECT(\"'集計(年)'!I\"&H$21),2)","v":0},{"$f":"COUNTIF(INDIRECT(\"'集計(年)'!I\"&G$21):INDIRECT(\"'集計(年)'!I\"&H$21),3)","v":0},{"$f":"COUNTIF(INDIRECT(\"'集計(年)'!I\"&J$21):INDIRECT(\"'集計(年)'!I\"&K$21),1)","v":0},{"$f":"COUNTIF(INDIRECT(\"'集計(年)'!I\"&J$21):INDIRECT(\"'集計(年)'!I\"&K$21),2)","v":0},{"$f":"COUNTIF(INDIRECT(\"'集計(年)'!I\"&J$21):INDIRECT(\"'集計(年)'!I\"&K$21),3)","v":0},{"$f":"COUNTIF(INDIRECT(\"'集計(年)'!I\"&M$21):INDIRECT(\"'集計(年)'!I\"&N$21),1)","v":0},{"$f":"COUNTIF(INDIRECT(\"'集計(年)'!I\"&M$21):INDIRECT(\"'集計(年)'!I\"&N$21),2)","v":0},{"$f":"COUNTIF(INDIRECT(\"'集計(年)'!I\"&M$21):INDIRECT(\"'集計(年)'!I\"&N$21),3)","v":0},{"$f":"COUNTIF(INDIRECT(\"'集計(年)'!I\"&P$21):INDIRECT(\"'集計(年)'!I\"&Q$21),1)","v":0},{"$f":"COUNTIF(INDIRECT(\"'集計(年)'!I\"&P$21):INDIRECT(\"'集計(年)'!I\"&Q$21),2)","v":0},{"$f":"COUNTIF(INDIRECT(\"'集計(年)'!I\"&P$21):INDIRECT(\"'集計(年)'!I\"&Q$21),3)","v":0},{"$f":"COUNTIF(INDIRECT(\"'集計(年)'!I\"&S$21):INDIRECT(\"'集計(年)'!I\"&T$21),1)","v":0},{"$f":"COUNTIF(INDIRECT(\"'集計(年)'!I\"&S$21):INDIRECT(\"'集計(年)'!I\"&T$21),2)","v":0},{"$f":"COUNTIF(INDIRECT(\"'集計(年)'!I\"&S$21):INDIRECT(\"'集計(年)'!I\"&T$21),3)","v":0},{"$f":"COUNTIF(INDIRECT(\"'集計(年)'!I\"&V$21):INDIRECT(\"'集計(年)'!I\"&W$21),1)","v":0},{"$f":"COUNTIF(INDIRECT(\"'集計(年)'!I\"&V$21):INDIRECT(\"'集計(年)'!I\"&W$21),2)","v":0},{"$f":"COUNTIF(INDIRECT(\"'集計(年)'!I\"&V$21):INDIRECT(\"'集計(年)'!I\"&W$21),3)","v":0},{"$f":"COUNTIF(INDIRECT(\"'集計(年)'!I\"&Y$21):INDIRECT(\"'集計(年)'!I\"&Z$21),1)","v":0},{"$f":"COUNTIF(INDIRECT(\"'集計(年)'!I\"&Y$21):INDIRECT(\"'集計(年)'!I\"&Z$21),2)","v":0},{"$f":"COUNTIF(INDIRECT(\"'集計(年)'!I\"&Y$21):INDIRECT(\"'集計(年)'!I\"&Z$21),3)","v":0},{"$f":"COUNTIF(INDIRECT(\"'集計(年)'!I\"&AB$21):INDIRECT(\"'集計(年)'!I\"&AC$21),1)","v":0},{"$f":"COUNTIF(INDIRECT(\"'集計(年)'!I\"&AB$21):INDIRECT(\"'集計(年)'!I\"&AC$21),2)","v":0},{"$f":"COUNTIF(INDIRECT(\"'集計(年)'!I\"&AB$21):INDIRECT(\"'集計(年)'!I\"&AC$21),3)","v":0},{"$f":"COUNTIF(INDIRECT(\"'集計(年)'!I\"&AE$21):INDIRECT(\"'集計(年)'!I\"&AF$21),1)","v":0},{"$f":"COUNTIF(INDIRECT(\"'集計(年)'!I\"&AE$21):INDIRECT(\"'集計(年)'!I\"&AF$21),2)","v":0},{"$f":"COUNTIF(INDIRECT(\"'集計(年)'!I\"&AE$21):INDIRECT(\"'集計(年)'!I\"&AF$21),3)","v":0},{"$f":"COUNTIF(INDIRECT(\"'集計(年)'!I\"&AH$21):INDIRECT(\"'集計(年)'!I\"&AI$21),1)","v":0},{"$f":"COUNTIF(INDIRECT(\"'集計(年)'!I\"&AH$21):INDIRECT(\"'集計(年)'!I\"&AI$21),2)","v":0},{"$f":"COUNTIF(INDIRECT(\"'集計(年)'!I\"&AH$21):INDIRECT(\"'集計(年)'!I\"&AI$21),3)","v":0},{"$f":"COUNTIF(INDIRECT(\"'集計(年)'!I\"&AK$21):INDIRECT(\"'集計(年)'!I\"&AL$21),1)","v":0},{"$f":"COUNTIF(INDIRECT(\"'集計(年)'!I\"&AK$21):INDIRECT(\"'集計(年)'!I\"&AL$21),2)","v":0},{"$f":"COUNTIF(INDIRECT(\"'集計(年)'!I\"&AK$21):INDIRECT(\"'集計(年)'!I\"&AL$21),3)","v":0},{"$f":"COUNTIF(INDIRECT(\"'集計(年)'!I\"&AN$21):INDIRECT(\"'集計(年)'!I\"&AO$21),1)","v":0},{"$f":"COUNTIF(INDIRECT(\"'集計(年)'!I\"&AN$21):INDIRECT(\"'集計(年)'!I\"&AO$21),2)","v":0},{"$f":"COUNTIF(INDIRECT(\"'集計(年)'!I\"&AN$21):INDIRECT(\"'集計(年)'!I\"&AO$21),3)","v":0},0,0,0]
[null,null,"ぎょうかん・ひるやすみのじかんに\nそとであそんだ",{"$f":"COUNTIF(INDIRECT(\"'集計(年)'!J\"&D$21):INDIRECT(\"'集計(年)'!J\"&E$21),1)","v":0},{"$f":"COUNTIF(INDIRECT(\"'集計(年)'!J\"&D$21):INDIRECT(\"'集計(年)'!J\"&E$21),2)","v":0},{"$f":"COUNTIF(INDIRECT(\"'集計(年)'!J\"&D$21):INDIRECT(\"'集計(年)'!J\"&E$21),3)","v":0},{"$f":"COUNTIF(INDIRECT(\"'集計(年)'!J\"&G$21):INDIRECT(\"'集計(年)'!J\"&H$21),1)","v":0},{"$f":"COUNTIF(INDIRECT(\"'集計(年)'!J\"&G$21):INDIRECT(\"'集計(年)'!J\"&H$21),2)","v":0},{"$f":"COUNTIF(INDIRECT(\"'集計(年)'!J\"&G$21):INDIRECT(\"'集計(年)'!J\"&H$21),3)","v":0},{"$f":"COUNTIF(INDIRECT(\"'集計(年)'!J\"&J$21):INDIRECT(\"'集計(年)'!J\"&K$21),1)","v":0},{"$f":"COUNTIF(INDIRECT(\"'集計(年)'!J\"&J$21):INDIRECT(\"'集計(年)'!J\"&K$21),2)","v":0},{"$f":"COUNTIF(INDIRECT(\"'集計(年)'!J\"&J$21):INDIRECT(\"'集計(年)'!J\"&K$21),3)","v":0},{"$f":"COUNTIF(INDIRECT(\"'集計(年)'!J\"&M$21):INDIRECT(\"'集計(年)'!J\"&N$21),1)","v":0},{"$f":"COUNTIF(INDIRECT(\"'集計(年)'!J\"&M$21):INDIRECT(\"'集計(年)'!J\"&N$21),2)","v":0},{"$f":"COUNTIF(INDIRECT(\"'集計(年)'!J\"&M$21):INDIRECT(\"'集計(年)'!J\"&N$21),3)","v":0},{"$f":"COUNTIF(INDIRECT(\"'集計(年)'!J\"&P$21):INDIRECT(\"'集計(年)'!J\"&Q$21),1)","v":0},{"$f":"COUNTIF(INDIRECT(\"'集計(年)'!J\"&P$21):INDIRECT(\"'集計(年)'!J\"&Q$21),2)","v":0},{"$f":"COUNTIF(INDIRECT(\"'集計(年)'!J\"&P$21):INDIRECT(\"'集計(年)'!J\"&Q$21),3)","v":0},{"$f":"COUNTIF(INDIRECT(\"'集計(年)'!J\"&S$21):INDIRECT(\"'集計(年)'!J\"&T$21),1)","v":0},{"$f":"COUNTIF(INDIRECT(\"'集計(年)'!J\"&S$21):INDIRECT(\"'集計(年)'!J\"&T$21),2)","v":0},{"$f":"COUNTIF(INDIRECT(\"'集計(年)'!J\"&S$21):INDIRECT(\"'集計(年)'!J\"&T$21),3)","v":0},{"$f":"COUNTIF(INDIRECT(\"'集計(年)'!J\"&V$21):INDIRECT(\"'集計(年)'!J\"&W$21),1)","v":0},{"$f":"COUNTIF(INDIRECT(\"'集計(年)'!J\"&V$21):INDIRECT(\"'集計(年)'!J\"&W$21),2)","v":0},{"$f":"COUNTIF(INDIRECT(\"'集計(年)'!J\"&V$21):INDIRECT(\"'集計(年)'!J\"&W$21),3)","v":0},{"$f":"COUNTIF(INDIRECT(\"'集計(年)'!J\"&Y$21):INDIRECT(\"'集計(年)'!J\"&Z$21),1)","v":0},{"$f":"COUNTIF(INDIRECT(\"'集計(年)'!J\"&Y$21):INDIRECT(\"'集計(年)'!J\"&Z$21),2)","v":0},{"$f":"COUNTIF(INDIRECT(\"'集計(年)'!J\"&Y$21):INDIRECT(\"'集計(年)'!J\"&Z$21),3)","v":0},{"$f":"COUNTIF(INDIRECT(\"'集計(年)'!J\"&AB$21):INDIRECT(\"'集計(年)'!J\"&AC$21),1)","v":0},{"$f":"COUNTIF(INDIRECT(\"'集計(年)'!J\"&AB$21):INDIRECT(\"'集計(年)'!J\"&AC$21),2)","v":0},{"$f":"COUNTIF(INDIRECT(\"'集計(年)'!J\"&AB$21):INDIRECT(\"'集計(年)'!J\"&AC$21),3)","v":0},{"$f":"COUNTIF(INDIRECT(\"'集計(年)'!J\"&AE$21):INDIRECT(\"'集計(年)'!J\"&AF$21),1)","v":0},{"$f":"COUNTIF(INDIRECT(\"'集計(年)'!J\"&AE$21):INDIRECT(\"'集計(年)'!J\"&AF$21),2)","v":0},{"$f":"COUNTIF(INDIRECT(\"'集計(年)'!J\"&AE$21):INDIRECT(\"'集計(年)'!J\"&AF$21),3)","v":0},{"$f":"COUNTIF(INDIRECT(\"'集計(年)'!J\"&AH$21):INDIRECT(\"'集計(年)'!J\"&AI$21),1)","v":0},{"$f":"COUNTIF(INDIRECT(\"'集計(年)'!J\"&AH$21):INDIRECT(\"'集計(年)'!J\"&AI$21),2)","v":0},{"$f":"COUNTIF(INDIRECT(\"'集計(年)'!J\"&AH$21):INDIRECT(\"'集計(年)'!J\"&AI$21),3)","v":0},{"$f":"COUNTIF(INDIRECT(\"'集計(年)'!J\"&AK$21):INDIRECT(\"'集計(年)'!J\"&AL$21),1)","v":0},{"$f":"COUNTIF(INDIRECT(\"'集計(年)'!J\"&AK$21):INDIRECT(\"'集計(年)'!J\"&AL$21),2)","v":0},{"$f":"COUNTIF(INDIRECT(\"'集計(年)'!J\"&AK$21):INDIRECT(\"'集計(年)'!J\"&AL$21),3)","v":0},{"$f":"COUNTIF(INDIRECT(\"'集計(年)'!J\"&AN$21):INDIRECT(\"'集計(年)'!J\"&AO$21),1)","v":0},{"$f":"COUNTIF(INDIRECT(\"'集計(年)'!J\"&AN$21):INDIRECT(\"'集計(年)'!J\"&AO$21),2)","v":0},{"$f":"COUNTIF(INDIRECT(\"'集計(年)'!J\"&AN$21):INDIRECT(\"'集計(年)'!J\"&AO$21),3)","v":0},0,0,0]
[null,null,"おうちにかえって\nそとであそんだ",{"$f":"COUNTIF(INDIRECT(\"'集計(年)'!K\"&D$21):INDIRECT(\"'集計(年)'!K\"&E$21),1)","v":0},{"$f":"COUNTIF(INDIRECT(\"'集計(年)'!K\"&D$21):INDIRECT(\"'集計(年)'!K\"&E$21),2)","v":0},{"$f":"COUNTIF(INDIRECT(\"'集計(年)'!K\"&D$21):INDIRECT(\"'集計(年)'!K\"&E$21),3)","v":0},{"$f":"COUNTIF(INDIRECT(\"'集計(年)'!K\"&G$21):INDIRECT(\"'集計(年)'!K\"&H$21),1)","v":0},{"$f":"COUNTIF(INDIRECT(\"'集計(年)'!K\"&G$21):INDIRECT(\"'集計(年)'!K\"&H$21),2)","v":0},{"$f":"COUNTIF(INDIRECT(\"'集計(年)'!K\"&G$21):INDIRECT(\"'集計(年)'!K\"&H$21),3)","v":0},{"$f":"COUNTIF(INDIRECT(\"'集計(年)'!K\"&J$21):INDIRECT(\"'集計(年)'!K\"&K$21),1)","v":0},{"$f":"COUNTIF(INDIRECT(\"'集計(年)'!K\"&J$21):INDIRECT(\"'集計(年)'!K\"&K$21),2)","v":0},{"$f":"COUNTIF(INDIRECT(\"'集計(年)'!K\"&J$21):INDIRECT(\"'集計(年)'!K\"&K$21),3)","v":0},{"$f":"COUNTIF(INDIRECT(\"'集計(年)'!K\"&M$21):INDIRECT(\"'集計(年)'!K\"&N$21),1)","v":0},{"$f":"COUNTIF(INDIRECT(\"'集計(年)'!K\"&M$21):INDIRECT(\"'集計(年)'!K\"&N$21),2)","v":0},{"$f":"COUNTIF(INDIRECT(\"'集計(年)'!K\"&M$21):INDIRECT(\"'集計(年)'!K\"&N$21),3)","v":0},{"$f":"COUNTIF(INDIRECT(\"'集計(年)'!K\"&P$21):INDIRECT(\"'集計(年)'!K\"&Q$21),1)","v":0},{"$f":"COUNTIF(INDIRECT(\"'集計(年)'!K\"&P$21):INDIRECT(\"'集計(年)'!K\"&Q$21),2)","v":0},{"$f":"COUNTIF(INDIRECT(\"'集計(年)'!K\"&P$21):INDIRECT(\"'集計(年)'!K\"&Q$21),3)","v":0},{"$f":"COUNTIF(INDIRECT(\"'集計(年)'!K\"&S$21):INDIRECT(\"'集計(年)'!K\"&T$21),1)","v":0},{"$f":"COUNTIF(INDIRECT(\"'集計(年)'!K\"&S$21):INDIRECT(\"'集計(年)'!K\"&T$21),2)","v":0},{"$f":"COUNTIF(INDIRECT(\"'集計(年)'!K\"&S$21):INDIRECT(\"'集計(年)'!K\"&T$21),3)","v":0},{"$f":"COUNTIF(INDIRECT(\"'集計(年)'!K\"&V$21):INDIRECT(\"'集計(年)'!K\"&W$21),1)","v":0},{"$f":"COUNTIF(INDIRECT(\"'集計(年)'!K\"&V$21):INDIRECT(\"'集計(年)'!K\"&W$21),2)","v":0},{"$f":"COUNTIF(INDIRECT(\"'集計(年)'!K\"&V$21):INDIRECT(\"'集計(年)'!K\"&W$21),3)","v":0},{"$f":"COUNTIF(INDIRECT(\"'集計(年)'!K\"&Y$21):INDIRECT(\"'集計(年)'!K\"&Z$21),1)","v":0},{"$f":"COUNTIF(INDIRECT(\"'集計(年)'!K\"&Y$21):INDIRECT(\"'集計(年)'!K\"&Z$21),2)","v":0},{"$f":"COUNTIF(INDIRECT(\"'集計(年)'!K\"&Y$21):INDIRECT(\"'集計(年)'!K\"&Z$21),3)","v":0},{"$f":"COUNTIF(INDIRECT(\"'集計(年)'!K\"&AB$21):INDIRECT(\"'集計(年)'!K\"&AC$21),1)","v":0},{"$f":"COUNTIF(INDIRECT(\"'集計(年)'!K\"&AB$21):INDIRECT(\"'集計(年)'!K\"&AC$21),2)","v":0},{"$f":"COUNTIF(INDIRECT(\"'集計(年)'!K\"&AB$21):INDIRECT(\"'集計(年)'!K\"&AC$21),3)","v":0},{"$f":"COUNTIF(INDIRECT(\"'集計(年)'!K\"&AE$21):INDIRECT(\"'集計(年)'!K\"&AF$21),1)","v":0},{"$f":"COUNTIF(INDIRECT(\"'集計(年)'!K\"&AE$21):INDIRECT(\"'集計(年)'!K\"&AF$21),2)","v":0},{"$f":"COUNTIF(INDIRECT(\"'集計(年)'!K\"&AE$21):INDIRECT(\"'集計(年)'!K\"&AF$21),3)","v":0},{"$f":"COUNTIF(INDIRECT(\"'集計(年)'!K\"&AH$21):INDIRECT(\"'集計(年)'!K\"&AI$21),1)","v":0},{"$f":"COUNTIF(INDIRECT(\"'集計(年)'!K\"&AH$21):INDIRECT(\"'集計(年)'!K\"&AI$21),2)","v":0},{"$f":"COUNTIF(INDIRECT(\"'集計(年)'!K\"&AH$21):INDIRECT(\"'集計(年)'!K\"&AI$21),3)","v":0},{"$f":"COUNTIF(INDIRECT(\"'集計(年)'!K\"&AK$21):INDIRECT(\"'集計(年)'!K\"&AL$21),1)","v":0},{"$f":"COUNTIF(INDIRECT(\"'集計(年)'!K\"&AK$21):INDIRECT(\"'集計(年)'!K\"&AL$21),2)","v":0},{"$f":"COUNTIF(INDIRECT(\"'集計(年)'!K\"&AK$21):INDIRECT(\"'集計(年)'!K\"&AL$21),3)","v":0},{"$f":"COUNTIF(INDIRECT(\"'集計(年)'!K\"&AN$21):INDIRECT(\"'集計(年)'!K\"&AO$21),1)","v":0},{"$f":"COUNTIF(INDIRECT(\"'集計(年)'!K\"&AN$21):INDIRECT(\"'集計(年)'!K\"&AO$21),2)","v":0},{"$f":"COUNTIF(INDIRECT(\"'集計(年)'!K\"&AN$21):INDIRECT(\"'集計(年)'!K\"&AO$21),3)","v":0},0,0,0]
[null,"べん\nき\nょ\nう","がっこうですすんで\nべんきょうができた",{"$f":"COUNTIF(INDIRECT(\"'集計(年)'!L\"&D$21):INDIRECT(\"'集計(年)'!L\"&E$21),1)","v":0},{"$f":"COUNTIF(INDIRECT(\"'集計(年)'!L\"&D$21):INDIRECT(\"'集計(年)'!L\"&E$21),2)","v":0},{"$f":"COUNTIF(INDIRECT(\"'集計(年)'!L\"&D$21):INDIRECT(\"'集計(年)'!L\"&E$21),3)","v":0},{"$f":"COUNTIF(INDIRECT(\"'集計(年)'!L\"&G$21):INDIRECT(\"'集計(年)'!L\"&H$21),1)","v":0},{"$f":"COUNTIF(INDIRECT(\"'集計(年)'!L\"&G$21):INDIRECT(\"'集計(年)'!L\"&H$21),2)","v":0},{"$f":"COUNTIF(INDIRECT(\"'集計(年)'!L\"&G$21):INDIRECT(\"'集計(年)'!L\"&H$21),3)","v":0},{"$f":"COUNTIF(INDIRECT(\"'集計(年)'!L\"&J$21):INDIRECT(\"'集計(年)'!L\"&K$21),1)","v":0},{"$f":"COUNTIF(INDIRECT(\"'集計(年)'!L\"&J$21):INDIRECT(\"'集計(年)'!L\"&K$21),2)","v":0},{"$f":"COUNTIF(INDIRECT(\"'集計(年)'!L\"&J$21):INDIRECT(\"'集計(年)'!L\"&K$21),3)","v":0},{"$f":"COUNTIF(INDIRECT(\"'集計(年)'!L\"&M$21):INDIRECT(\"'集計(年)'!L\"&N$21),1)","v":0},{"$f":"COUNTIF(INDIRECT(\"'集計(年)'!L\"&M$21):INDIRECT(\"'集計(年)'!L\"&N$21),2)","v":0},{"$f":"COUNTIF(INDIRECT(\"'集計(年)'!L\"&M$21):INDIRECT(\"'集計(年)'!L\"&N$21),3)","v":0},{"$f":"COUNTIF(INDIRECT(\"'集計(年)'!L\"&P$21):INDIRECT(\"'集計(年)'!L\"&Q$21),1)","v":0},{"$f":"COUNTIF(INDIRECT(\"'集計(年)'!L\"&P$21):INDIRECT(\"'集計(年)'!L\"&Q$21),2)","v":0},{"$f":"COUNTIF(INDIRECT(\"'集計(年)'!L\"&P$21):INDIRECT(\"'集計(年)'!L\"&Q$21),3)","v":0},{"$f":"COUNTIF(INDIRECT(\"'集計(年)'!L\"&S$21):INDIRECT(\"'集計(年)'!L\"&T$21),1)","v":0},{"$f":"COUNTIF(INDIRECT(\"'集計(年)'!L\"&S$21):INDIRECT(\"'集計(年)'!L\"&T$21),2)","v":0},{"$f":"COUNTIF(INDIRECT(\"'集計(年)'!L\"&S$21):INDIRECT(\"'集計(年)'!L\"&T$21),3)","v":0},{"$f":"COUNTIF(INDIRECT(\"'集計(年)'!L\"&V$21):INDIRECT(\"'集計(年)'!L\"&W$21),1)","v":0},{"$f":"COUNTIF(INDIRECT(\"'集計(年)'!L\"&V$21):INDIRECT(\"'集計(年)'!L\"&W$21),2)","v":0},{"$f":"COUNTIF(INDIRECT(\"'集計(年)'!L\"&V$21):INDIRECT(\"'集計(年)'!L\"&W$21),3)","v":0},{"$f":"COUNTIF(INDIRECT(\"'集計(年)'!L\"&Y$21):INDIRECT(\"'集計(年)'!L\"&Z$21),1)","v":0},{"$f":"COUNTIF(INDIRECT(\"'集計(年)'!L\"&Y$21):INDIRECT(\"'集計(年)'!L\"&Z$21),2)","v":0},{"$f":"COUNTIF(INDIRECT(\"'集計(年)'!L\"&Y$21):INDIRECT(\"'集計(年)'!L\"&Z$21),3)","v":0},{"$f":"COUNTIF(INDIRECT(\"'集計(年)'!L\"&AB$21):INDIRECT(\"'集計(年)'!L\"&AC$21),1)","v":0},{"$f":"COUNTIF(INDIRECT(\"'集計(年)'!L\"&AB$21):INDIRECT(\"'集計(年)'!L\"&AC$21),2)","v":0},{"$f":"COUNTIF(INDIRECT(\"'集計(年)'!L\"&AB$21):INDIRECT(\"'集計(年)'!L\"&AC$21),3)","v":0},{"$f":"COUNTIF(INDIRECT(\"'集計(年)'!L\"&AE$21):INDIRECT(\"'集計(年)'!L\"&AF$21),1)","v":0},{"$f":"COUNTIF(INDIRECT(\"'集計(年)'!L\"&AE$21):INDIRECT(\"'集計(年)'!L\"&AF$21),2)","v":0},{"$f":"COUNTIF(INDIRECT(\"'集計(年)'!L\"&AE$21):INDIRECT(\"'集計(年)'!L\"&AF$21),3)","v":0},{"$f":"COUNTIF(INDIRECT(\"'集計(年)'!L\"&AH$21):INDIRECT(\"'集計(年)'!L\"&AI$21),1)","v":0},{"$f":"COUNTIF(INDIRECT(\"'集計(年)'!L\"&AH$21):INDIRECT(\"'集計(年)'!L\"&AI$21),2)","v":0},{"$f":"COUNTIF(INDIRECT(\"'集計(年)'!L\"&AH$21):INDIRECT(\"'集計(年)'!L\"&AI$21),3)","v":0},{"$f":"COUNTIF(INDIRECT(\"'集計(年)'!L\"&AK$21):INDIRECT(\"'集計(年)'!L\"&AL$21),1)","v":0},{"$f":"COUNTIF(INDIRECT(\"'集計(年)'!L\"&AK$21):INDIRECT(\"'集計(年)'!L\"&AL$21),2)","v":0},{"$f":"COUNTIF(INDIRECT(\"'集計(年)'!L\"&AK$21):INDIRECT(\"'集計(年)'!L\"&AL$21),3)","v":0},{"$f":"COUNTIF(INDIRECT(\"'集計(年)'!L\"&AN$21):INDIRECT(\"'集計(年)'!L\"&AO$21),1)","v":0},{"$f":"COUNTIF(INDIRECT(\"'集計(年)'!L\"&AN$21):INDIRECT(\"'集計(年)'!L\"&AO$21),2)","v":0},{"$f":"COUNTIF(INDIRECT(\"'集計(年)'!L\"&AN$21):INDIRECT(\"'集計(年)'!L\"&AO$21),3)","v":0},0,0,0]
[null,null,"おうちで３０ぷんより\nおおくべんきょうした",{"$f":"COUNTIF(INDIRECT(\"'集計(年)'!M\"&D$21):INDIRECT(\"'集計(年)'!M\"&E$21),1)","v":0},{"$f":"COUNTIF(INDIRECT(\"'集計(年)'!M\"&D$21):INDIRECT(\"'集計(年)'!M\"&E$21),2)","v":0},{"$f":"COUNTIF(INDIRECT(\"'集計(年)'!M\"&D$21):INDIRECT(\"'集計(年)'!M\"&E$21),3)","v":0},{"$f":"COUNTIF(INDIRECT(\"'集計(年)'!M\"&G$21):INDIRECT(\"'集計(年)'!M\"&H$21),1)","v":0},{"$f":"COUNTIF(INDIRECT(\"'集計(年)'!M\"&G$21):INDIRECT(\"'集計(年)'!M\"&H$21),2)","v":0},{"$f":"COUNTIF(INDIRECT(\"'集計(年)'!M\"&G$21):INDIRECT(\"'集計(年)'!M\"&H$21),3)","v":0},{"$f":"COUNTIF(INDIRECT(\"'集計(年)'!M\"&J$21):INDIRECT(\"'集計(年)'!M\"&K$21),1)","v":0},{"$f":"COUNTIF(INDIRECT(\"'集計(年)'!M\"&J$21):INDIRECT(\"'集計(年)'!M\"&K$21),2)","v":0},{"$f":"COUNTIF(INDIRECT(\"'集計(年)'!M\"&J$21):INDIRECT(\"'集計(年)'!M\"&K$21),3)","v":0},{"$f":"COUNTIF(INDIRECT(\"'集計(年)'!M\"&M$21):INDIRECT(\"'集計(年)'!M\"&N$21),1)","v":0},{"$f":"COUNTIF(INDIRECT(\"'集計(年)'!M\"&M$21):INDIRECT(\"'集計(年)'!M\"&N$21),2)","v":0},{"$f":"COUNTIF(INDIRECT(\"'集計(年)'!M\"&M$21):INDIRECT(\"'集計(年)'!M\"&N$21),3)","v":0},{"$f":"COUNTIF(INDIRECT(\"'集計(年)'!M\"&P$21):INDIRECT(\"'集計(年)'!M\"&Q$21),1)","v":0},{"$f":"COUNTIF(INDIRECT(\"'集計(年)'!M\"&P$21):INDIRECT(\"'集計(年)'!M\"&Q$21),2)","v":0},{"$f":"COUNTIF(INDIRECT(\"'集計(年)'!M\"&P$21):INDIRECT(\"'集計(年)'!M\"&Q$21),3)","v":0},{"$f":"COUNTIF(INDIRECT(\"'集計(年)'!M\"&S$21):INDIRECT(\"'集計(年)'!M\"&T$21),1)","v":0},{"$f":"COUNTIF(INDIRECT(\"'集計(年)'!M\"&S$21):INDIRECT(\"'集計(年)'!M\"&T$21),2)","v":0},{"$f":"COUNTIF(INDIRECT(\"'集計(年)'!M\"&S$21):INDIRECT(\"'集計(年)'!M\"&T$21),3)","v":0},{"$f":"COUNTIF(INDIRECT(\"'集計(年)'!M\"&V$21):INDIRECT(\"'集計(年)'!M\"&W$21),1)","v":0},{"$f":"COUNTIF(INDIRECT(\"'集計(年)'!M\"&V$21):INDIRECT(\"'集計(年)'!M\"&W$21),2)","v":0},{"$f":"COUNTIF(INDIRECT(\"'集計(年)'!M\"&V$21):INDIRECT(\"'集計(年)'!M\"&W$21),3)","v":0},{"$f":"COUNTIF(INDIRECT(\"'集計(年)'!M\"&Y$21):INDIRECT(\"'集計(年)'!M\"&Z$21),1)","v":0},{"$f":"COUNTIF(INDIRECT(\"'集計(年)'!M\"&Y$21):INDIRECT(\"'集計(年)'!M\"&Z$21),2)","v":0},{"$f":"COUNTIF(INDIRECT(\"'集計(年)'!M\"&Y$21):INDIRECT(\"'集計(年)'!M\"&Z$21),3)","v":0},{"$f":"COUNTIF(INDIRECT(\"'集計(年)'!M\"&AB$21):INDIRECT(\"'集計(年)'!M\"&AC$21),1)","v":0},{"$f":"COUNTIF(INDIRECT(\"'集計(年)'!M\"&AB$21):INDIRECT(\"'集計(年)'!M\"&AC$21),2)","v":0},{"$f":"COUNTIF(INDIRECT(\"'集計(年)'!M\"&AB$21):INDIRECT(\"'集計(年)'!M\"&AC$21),3)","v":0},{"$f":"COUNTIF(INDIRECT(\"'集計(年)'!M\"&AE$21):INDIRECT(\"'集計(年)'!M\"&AF$21),1)","v":0},{"$f":"COUNTIF(INDIRECT(\"'集計(年)'!M\"&AE$21):INDIRECT(\"'集計(年)'!M\"&AF$21),2)","v":0},{"$f":"COUNTIF(INDIRECT(\"'集計(年)'!M\"&AE$21):INDIRECT(\"'集計(年)'!M\"&AF$21),3)","v":0},{"$f":"COUNTIF(INDIRECT(\"'集計(年)'!M\"&AH$21):INDIRECT(\"'集計(年)'!M\"&AI$21),1)","v":0},{"$f":"COUNTIF(INDIRECT(\"'集計(年)'!M\"&AH$21):INDIRECT(\"'集計(年)'!M\"&AI$21),2)","v":0},{"$f":"COUNTIF(INDIRECT(\"'集計(年)'!M\"&AH$21):INDIRECT(\"'集計(年)'!M\"&AI$21),3)","v":0},{"$f":"COUNTIF(INDIRECT(\"'集計(年)'!M\"&AK$21):INDIRECT(\"'集計(年)'!M\"&AL$21),1)","v":0},{"$f":"COUNTIF(INDIRECT(\"'集計(年)'!M\"&AK$21):INDIRECT(\"'集計(年)'!M\"&AL$21),2)","v":0},{"$f":"COUNTIF(INDIRECT(\"'集計(年)'!M\"&AK$21):INDIRECT(\"'集計(年)'!M\"&AL$21),3)","v":0},{"$f":"COUNTIF(INDIRECT(\"'集計(年)'!M\"&AN$21):INDIRECT(\"'集計(年)'!M\"&AO$21),1)","v":0},{"$f":"COUNTIF(INDIRECT(\"'集計(年)'!M\"&AN$21):INDIRECT(\"'集計(年)'!M\"&AO$21),2)","v":0},{"$f":"COUNTIF(INDIRECT(\"'集計(年)'!M\"&AN$21):INDIRECT(\"'集計(年)'!M\"&AO$21),3)","v":0},0,0,0]
[null,"そのほか","テレビ・ゲームをするじかんは\n１じかんよりすくなかった",{"$f":"COUNTIF(INDIRECT(\"'集計(年)'!N\"&D$21):INDIRECT(\"'集計(年)'!N\"&E$21),1)","v":0},{"$f":"COUNTIF(INDIRECT(\"'集計(年)'!N\"&D$21):INDIRECT(\"'集計(年)'!N\"&E$21),2)","v":0},{"$f":"COUNTIF(INDIRECT(\"'集計(年)'!N\"&D$21):INDIRECT(\"'集計(年)'!N\"&E$21),3)","v":0},{"$f":"COUNTIF(INDIRECT(\"'集計(年)'!N\"&G$21):INDIRECT(\"'集計(年)'!N\"&H$21),1)","v":0},{"$f":"COUNTIF(INDIRECT(\"'集計(年)'!N\"&G$21):INDIRECT(\"'集計(年)'!N\"&H$21),2)","v":0},{"$f":"COUNTIF(INDIRECT(\"'集計(年)'!N\"&G$21):INDIRECT(\"'集計(年)'!N\"&H$21),3)","v":0},{"$f":"COUNTIF(INDIRECT(\"'集計(年)'!N\"&J$21):INDIRECT(\"'集計(年)'!N\"&K$21),1)","v":0},{"$f":"COUNTIF(INDIRECT(\"'集計(年)'!N\"&J$21):INDIRECT(\"'集計(年)'!N\"&K$21),2)","v":0},{"$f":"COUNTIF(INDIRECT(\"'集計(年)'!N\"&J$21):INDIRECT(\"'集計(年)'!N\"&K$21),3)","v":0},{"$f":"COUNTIF(INDIRECT(\"'集計(年)'!N\"&M$21):INDIRECT(\"'集計(年)'!N\"&N$21),1)","v":0},{"$f":"COUNTIF(INDIRECT(\"'集計(年)'!N\"&M$21):INDIRECT(\"'集計(年)'!N\"&N$21),2)","v":0},{"$f":"COUNTIF(INDIRECT(\"'集計(年)'!N\"&M$21):INDIRECT(\"'集計(年)'!N\"&N$21),3)","v":0},{"$f":"COUNTIF(INDIRECT(\"'集計(年)'!N\"&P$21):INDIRECT(\"'集計(年)'!N\"&Q$21),1)","v":0},{"$f":"COUNTIF(INDIRECT(\"'集計(年)'!N\"&P$21):INDIRECT(\"'集計(年)'!N\"&Q$21),2)","v":0},{"$f":"COUNTIF(INDIRECT(\"'集計(年)'!N\"&P$21):INDIRECT(\"'集計(年)'!N\"&Q$21),3)","v":0},{"$f":"COUNTIF(INDIRECT(\"'集計(年)'!N\"&S$21):INDIRECT(\"'集計(年)'!N\"&T$21),1)","v":0},{"$f":"COUNTIF(INDIRECT(\"'集計(年)'!N\"&S$21):INDIRECT(\"'集計(年)'!N\"&T$21),2)","v":0},{"$f":"COUNTIF(INDIRECT(\"'集計(年)'!N\"&S$21):INDIRECT(\"'集計(年)'!N\"&T$21),3)","v":0},{"$f":"COUNTIF(INDIRECT(\"'集計(年)'!N\"&V$21):INDIRECT(\"'集計(年)'!N\"&W$21),1)","v":0},{"$f":"COUNTIF(INDIRECT(\"'集計(年)'!N\"&V$21):INDIRECT(\"'集計(年)'!N\"&W$21),2)","v":0},{"$f":"COUNTIF(INDIRECT(\"'集計(年)'!N\"&V$21):INDIRECT(\"'集計(年)'!N\"&W$21),3)","v":0},{"$f":"COUNTIF(INDIRECT(\"'集計(年)'!N\"&Y$21):INDIRECT(\"'集計(年)'!N\"&Z$21),1)","v":0},{"$f":"COUNTIF(INDIRECT(\"'集計(年)'!N\"&Y$21):INDIRECT(\"'集計(年)'!N\"&Z$21),2)","v":0},{"$f":"COUNTIF(INDIRECT(\"'集計(年)'!N\"&Y$21):INDIRECT(\"'集計(年)'!N\"&Z$21),3)","v":0},{"$f":"COUNTIF(INDIRECT(\"'集計(年)'!N\"&AB$21):INDIRECT(\"'集計(年)'!N\"&AC$21),1)","v":0},{"$f":"COUNTIF(INDIRECT(\"'集計(年)'!N\"&AB$21):INDIRECT(\"'集計(年)'!N\"&AC$21),2)","v":0},{"$f":"COUNTIF(INDIRECT(\"'集計(年)'!N\"&AB$21):INDIRECT(\"'集計(年)'!N\"&AC$21),3)","v":0},{"$f":"COUNTIF(INDIRECT(\"'集計(年)'!N\"&AE$21):INDIRECT(\"'集計(年)'!N\"&AF$21),1)","v":0},{"$f":"COUNTIF(INDIRECT(\"'集計(年)'!N\"&AE$21):INDIRECT(\"'集計(年)'!N\"&AF$21),2)","v":0},{"$f":"COUNTIF(INDIRECT(\"'集計(年)'!N\"&AE$21):INDIRECT(\"'集計(年)'!N\"&AF$21),3)","v":0},{"$f":"COUNTIF(INDIRECT(\"'集計(年)'!N\"&AH$21):INDIRECT(\"'集計(年)'!N\"&AI$21),1)","v":0},{"$f":"COUNTIF(INDIRECT(\"'集計(年)'!N\"&AH$21):INDIRECT(\"'集計(年)'!N\"&AI$21),2)","v":0},{"$f":"COUNTIF(INDIRECT(\"'集計(年)'!N\"&AH$21):INDIRECT(\"'集計(年)'!N\"&AI$21),3)","v":0},{"$f":"COUNTIF(INDIRECT(\"'集計(年)'!N\"&AK$21):INDIRECT(\"'集計(年)'!N\"&AL$21),1)","v":0},{"$f":"COUNTIF(INDIRECT(\"'集計(年)'!N\"&AK$21):INDIRECT(\"'集計(年)'!N\"&AL$21),2)","v":0},{"$f":"COUNTIF(INDIRECT(\"'集計(年)'!N\"&AK$21):INDIRECT(\"'集計(年)'!N\"&AL$21),3)","v":0},{"$f":"COUNTIF(INDIRECT(\"'集計(年)'!N\"&AN$21):INDIRECT(\"'集計(年)'!N\"&AO$21),1)","v":0},{"$f":"COUNTIF(INDIRECT(\"'集計(年)'!N\"&AN$21):INDIRECT(\"'集計(年)'!N\"&AO$21),2)","v":0},{"$f":"COUNTIF(INDIRECT(\"'集計(年)'!N\"&AN$21):INDIRECT(\"'集計(年)'!N\"&AO$21),3)","v":0},0,0,0]
[null,null,"おふろにはいった",{"$f":"COUNTIF(INDIRECT(\"'集計(年)'!O\"&D$21):INDIRECT(\"'集計(年)'!O\"&E$21),1)","v":0},{"$f":"COUNTIF(INDIRECT(\"'集計(年)'!O\"&D$21):INDIRECT(\"'集計(年)'!O\"&E$21),2)","v":0},{"$f":"COUNTIF(INDIRECT(\"'集計(年)'!O\"&D$21):INDIRECT(\"'集計(年)'!O\"&E$21),3)","v":0},{"$f":"COUNTIF(INDIRECT(\"'集計(年)'!O\"&G$21):INDIRECT(\"'集計(年)'!O\"&H$21),1)","v":0},{"$f":"COUNTIF(INDIRECT(\"'集計(年)'!O\"&G$21):INDIRECT(\"'集計(年)'!O\"&H$21),2)","v":0},{"$f":"COUNTIF(INDIRECT(\"'集計(年)'!O\"&G$21):INDIRECT(\"'集計(年)'!O\"&H$21),3)","v":0},{"$f":"COUNTIF(INDIRECT(\"'集計(年)'!O\"&J$21):INDIRECT(\"'集計(年)'!O\"&K$21),1)","v":0},{"$f":"COUNTIF(INDIRECT(\"'集計(年)'!O\"&J$21):INDIRECT(\"'集計(年)'!O\"&K$21),2)","v":0},{"$f":"COUNTIF(INDIRECT(\"'集計(年)'!O\"&J$21):INDIRECT(\"'集計(年)'!O\"&K$21),3)","v":0},{"$f":"COUNTIF(INDIRECT(\"'集計(年)'!O\"&M$21):INDIRECT(\"'集計(年)'!O\"&N$21),1)","v":0},{"$f":"COUNTIF(INDIRECT(\"'集計(年)'!O\"&M$21):INDIRECT(\"'集計(年)'!O\"&N$21),2)","v":0},{"$f":"COUNTIF(INDIRECT(\"'集計(年)'!O\"&M$21):INDIRECT(\"'集計(年)'!O\"&N$21),3)","v":0},{"$f":"COUNTIF(INDIRECT(\"'集計(年)'!O\"&P$21):INDIRECT(\"'集計(年)'!O\"&Q$21),1)","v":0},{"$f":"COUNTIF(INDIRECT(\"'集計(年)'!O\"&P$21):INDIRECT(\"'集計(年)'!O\"&Q$21),2)","v":0},{"$f":"COUNTIF(INDIRECT(\"'集計(年)'!O\"&P$21):INDIRECT(\"'集計(年)'!O\"&Q$21),3)","v":0},{"$f":"COUNTIF(INDIRECT(\"'集計(年)'!O\"&S$21):INDIRECT(\"'集計(年)'!O\"&T$21),1)","v":0},{"$f":"COUNTIF(INDIRECT(\"'集計(年)'!O\"&S$21):INDIRECT(\"'集計(年)'!O\"&T$21),2)","v":0},{"$f":"COUNTIF(INDIRECT(\"'集計(年)'!O\"&S$21):INDIRECT(\"'集計(年)'!O\"&T$21),3)","v":0},{"$f":"COUNTIF(INDIRECT(\"'集計(年)'!O\"&V$21):INDIRECT(\"'集計(年)'!O\"&W$21),1)","v":0},{"$f":"COUNTIF(INDIRECT(\"'集計(年)'!O\"&V$21):INDIRECT(\"'集計(年)'!O\"&W$21),2)","v":0},{"$f":"COUNTIF(INDIRECT(\"'集計(年)'!O\"&V$21):INDIRECT(\"'集計(年)'!O\"&W$21),3)","v":0},{"$f":"COUNTIF(INDIRECT(\"'集計(年)'!O\"&Y$21):INDIRECT(\"'集計(年)'!O\"&Z$21),1)","v":0},{"$f":"COUNTIF(INDIRECT(\"'集計(年)'!O\"&Y$21):INDIRECT(\"'集計(年)'!O\"&Z$21),2)","v":0},{"$f":"COUNTIF(INDIRECT(\"'集計(年)'!O\"&Y$21):INDIRECT(\"'集計(年)'!O\"&Z$21),3)","v":0},{"$f":"COUNTIF(INDIRECT(\"'集計(年)'!O\"&AB$21):INDIRECT(\"'集計(年)'!O\"&AC$21),1)","v":0},{"$f":"COUNTIF(INDIRECT(\"'集計(年)'!O\"&AB$21):INDIRECT(\"'集計(年)'!O\"&AC$21),2)","v":0},{"$f":"COUNTIF(INDIRECT(\"'集計(年)'!O\"&AB$21):INDIRECT(\"'集計(年)'!O\"&AC$21),3)","v":0},{"$f":"COUNTIF(INDIRECT(\"'集計(年)'!O\"&AE$21):INDIRECT(\"'集計(年)'!O\"&AF$21),1)","v":0},{"$f":"COUNTIF(INDIRECT(\"'集計(年)'!O\"&AE$21):INDIRECT(\"'集計(年)'!O\"&AF$21),2)","v":0},{"$f":"COUNTIF(INDIRECT(\"'集計(年)'!O\"&AE$21):INDIRECT(\"'集計(年)'!O\"&AF$21),3)","v":0},{"$f":"COUNTIF(INDIRECT(\"'集計(年)'!O\"&AH$21):INDIRECT(\"'集計(年)'!O\"&AI$21),1)","v":0},{"$f":"COUNTIF(INDIRECT(\"'集計(年)'!O\"&AH$21):INDIRECT(\"'集計(年)'!O\"&AI$21),2)","v":0},{"$f":"COUNTIF(INDIRECT(\"'集計(年)'!O\"&AH$21):INDIRECT(\"'集計(年)'!O\"&AI$21),3)","v":0},{"$f":"COUNTIF(INDIRECT(\"'集計(年)'!O\"&AK$21):INDIRECT(\"'集計(年)'!O\"&AL$21),1)","v":0},{"$f":"COUNTIF(INDIRECT(\"'集計(年)'!O\"&AK$21):INDIRECT(\"'集計(年)'!O\"&AL$21),2)","v":0},{"$f":"COUNTIF(INDIRECT(\"'集計(年)'!O\"&AK$21):INDIRECT(\"'集計(年)'!O\"&AL$21),3)","v":0},{"$f":"COUNTIF(INDIRECT(\"'集計(年)'!O\"&AN$21):INDIRECT(\"'集計(年)'!O\"&AO$21),1)","v":0},{"$f":"COUNTIF(INDIRECT(\"'集計(年)'!O\"&AN$21):INDIRECT(\"'集計(年)'!O\"&AO$21),2)","v":0},{"$f":"COUNTIF(INDIRECT(\"'集計(年)'!O\"&AN$21):INDIRECT(\"'集計(年)'!O\"&AO$21),3)","v":0},0,0,0]
[null,null,"３かい\nはみがきができた",{"$f":"COUNTIF(INDIRECT(\"'集計(年)'!P\"&D$21):INDIRECT(\"'集計(年)'!P\"&E$21),1)","v":0},{"$f":"COUNTIF(INDIRECT(\"'集計(年)'!P\"&D$21):INDIRECT(\"'集計(年)'!P\"&E$21),2)","v":0},{"$f":"COUNTIF(INDIRECT(\"'集計(年)'!P\"&D$21):INDIRECT(\"'集計(年)'!P\"&E$21),3)","v":0},{"$f":"COUNTIF(INDIRECT(\"'集計(年)'!P\"&G$21):INDIRECT(\"'集計(年)'!P\"&H$21),1)","v":0},{"$f":"COUNTIF(INDIRECT(\"'集計(年)'!P\"&G$21):INDIRECT(\"'集計(年)'!P\"&H$21),2)","v":0},{"$f":"COUNTIF(INDIRECT(\"'集計(年)'!P\"&G$21):INDIRECT(\"'集計(年)'!P\"&H$21),3)","v":0},{"$f":"COUNTIF(INDIRECT(\"'集計(年)'!P\"&J$21):INDIRECT(\"'集計(年)'!P\"&K$21),1)","v":0},{"$f":"COUNTIF(INDIRECT(\"'集計(年)'!P\"&J$21):INDIRECT(\"'集計(年)'!P\"&K$21),2)","v":0},{"$f":"COUNTIF(INDIRECT(\"'集計(年)'!P\"&J$21):INDIRECT(\"'集計(年)'!P\"&K$21),3)","v":0},{"$f":"COUNTIF(INDIRECT(\"'集計(年)'!P\"&M$21):INDIRECT(\"'集計(年)'!P\"&N$21),1)","v":0},{"$f":"COUNTIF(INDIRECT(\"'集計(年)'!P\"&M$21):INDIRECT(\"'集計(年)'!P\"&N$21),2)","v":0},{"$f":"COUNTIF(INDIRECT(\"'集計(年)'!P\"&M$21):INDIRECT(\"'集計(年)'!P\"&N$21),3)","v":0},{"$f":"COUNTIF(INDIRECT(\"'集計(年)'!P\"&P$21):INDIRECT(\"'集計(年)'!P\"&Q$21),1)","v":0},{"$f":"COUNTIF(INDIRECT(\"'集計(年)'!P\"&P$21):INDIRECT(\"'集計(年)'!P\"&Q$21),2)","v":0},{"$f":"COUNTIF(INDIRECT(\"'集計(年)'!P\"&P$21):INDIRECT(\"'集計(年)'!P\"&Q$21),3)","v":0},{"$f":"COUNTIF(INDIRECT(\"'集計(年)'!P\"&S$21):INDIRECT(\"'集計(年)'!P\"&T$21),1)","v":0},{"$f":"COUNTIF(INDIRECT(\"'集計(年)'!P\"&S$21):INDIRECT(\"'集計(年)'!P\"&T$21),2)","v":0},{"$f":"COUNTIF(INDIRECT(\"'集計(年)'!P\"&S$21):INDIRECT(\"'集計(年)'!P\"&T$21),3)","v":0},{"$f":"COUNTIF(INDIRECT(\"'集計(年)'!P\"&V$21):INDIRECT(\"'集計(年)'!P\"&W$21),1)","v":0},{"$f":"COUNTIF(INDIRECT(\"'集計(年)'!P\"&V$21):INDIRECT(\"'集計(年)'!P\"&W$21),2)","v":0},{"$f":"COUNTIF(INDIRECT(\"'集計(年)'!P\"&V$21):INDIRECT(\"'集計(年)'!P\"&W$21),3)","v":0},{"$f":"COUNTIF(INDIRECT(\"'集計(年)'!P\"&Y$21):INDIRECT(\"'集計(年)'!P\"&Z$21),1)","v":0},{"$f":"COUNTIF(INDIRECT(\"'集計(年)'!P\"&Y$21):INDIRECT(\"'集計(年)'!P\"&Z$21),2)","v":0},{"$f":"COUNTIF(INDIRECT(\"'集計(年)'!P\"&Y$21):INDIRECT(\"'集計(年)'!P\"&Z$21),3)","v":0},{"$f":"COUNTIF(INDIRECT(\"'集計(年)'!P\"&AB$21):INDIRECT(\"'集計(年)'!P\"&AC$21),1)","v":0},{"$f":"COUNTIF(INDIRECT(\"'集計(年)'!P\"&AB$21):INDIRECT(\"'集計(年)'!P\"&AC$21),2)","v":0},{"$f":"COUNTIF(INDIRECT(\"'集計(年)'!P\"&AB$21):INDIRECT(\"'集計(年)'!P\"&AC$21),3)","v":0},{"$f":"COUNTIF(INDIRECT(\"'集計(年)'!P\"&AE$21):INDIRECT(\"'集計(年)'!P\"&AF$21),1)","v":0},{"$f":"COUNTIF(INDIRECT(\"'集計(年)'!P\"&AE$21):INDIRECT(\"'集計(年)'!P\"&AF$21),2)","v":0},{"$f":"COUNTIF(INDIRECT(\"'集計(年)'!P\"&AE$21):INDIRECT(\"'集計(年)'!P\"&AF$21),3)","v":0},{"$f":"COUNTIF(INDIRECT(\"'集計(年)'!P\"&AH$21):INDIRECT(\"'集計(年)'!P\"&AI$21),1)","v":0},{"$f":"COUNTIF(INDIRECT(\"'集計(年)'!P\"&AH$21):INDIRECT(\"'集計(年)'!P\"&AI$21),2)","v":0},{"$f":"COUNTIF(INDIRECT(\"'集計(年)'!P\"&AH$21):INDIRECT(\"'集計(年)'!P\"&AI$21),3)","v":0},{"$f":"COUNTIF(INDIRECT(\"'集計(年)'!P\"&AK$21):INDIRECT(\"'集計(年)'!P\"&AL$21),1)","v":0},{"$f":"COUNTIF(INDIRECT(\"'集計(年)'!P\"&AK$21):INDIRECT(\"'集計(年)'!P\"&AL$21),2)","v":0},{"$f":"COUNTIF(INDIRECT(\"'集計(年)'!P\"&AK$21):INDIRECT(\"'集計(年)'!P\"&AL$21),3)","v":0},{"$f":"COUNTIF(INDIRECT(\"'集計(年)'!P\"&AN$21):INDIRECT(\"'集計(年)'!P\"&AO$21),1)","v":0},{"$f":"COUNTIF(INDIRECT(\"'集計(年)'!P\"&AN$21):INDIRECT(\"'集計(年)'!P\"&AO$21),2)","v":0},{"$f":"COUNTIF(INDIRECT(\"'集計(年)'!P\"&AN$21):INDIRECT(\"'集計(年)'!P\"&AO$21),3)","v":0},0,0,0]
[null,null,"あさ\nはいべんができてすっきりした",{"$f":"COUNTIF(INDIRECT(\"'集計(年)'!Q\"&D$21):INDIRECT(\"'集計(年)'!Q\"&E$21),1)","v":0},{"$f":"COUNTIF(INDIRECT(\"'集計(年)'!Q\"&D$21):INDIRECT(\"'集計(年)'!Q\"&E$21),12)","v":0},{"$f":"COUNTIF(INDIRECT(\"'集計(年)'!Q\"&D$21):INDIRECT(\"'集計(年)'!Q\"&E$21),3)","v":0},{"$f":"COUNTIF(INDIRECT(\"'集計(年)'!Q\"&G$21):INDIRECT(\"'集計(年)'!Q\"&H$21),1)","v":0},{"$f":"COUNTIF(INDIRECT(\"'集計(年)'!Q\"&G$21):INDIRECT(\"'集計(年)'!Q\"&H$21),12)","v":0},{"$f":"COUNTIF(INDIRECT(\"'集計(年)'!Q\"&G$21):INDIRECT(\"'集計(年)'!Q\"&H$21),3)","v":0},{"$f":"COUNTIF(INDIRECT(\"'集計(年)'!Q\"&J$21):INDIRECT(\"'集計(年)'!Q\"&K$21),1)","v":0},{"$f":"COUNTIF(INDIRECT(\"'集計(年)'!Q\"&J$21):INDIRECT(\"'集計(年)'!Q\"&K$21),12)","v":0},{"$f":"COUNTIF(INDIRECT(\"'集計(年)'!Q\"&J$21):INDIRECT(\"'集計(年)'!Q\"&K$21),3)","v":0},{"$f":"COUNTIF(INDIRECT(\"'集計(年)'!Q\"&M$21):INDIRECT(\"'集計(年)'!Q\"&N$21),1)","v":0},{"$f":"COUNTIF(INDIRECT(\"'集計(年)'!Q\"&M$21):INDIRECT(\"'集計(年)'!Q\"&N$21),12)","v":0},{"$f":"COUNTIF(INDIRECT(\"'集計(年)'!Q\"&M$21):INDIRECT(\"'集計(年)'!Q\"&N$21),3)","v":0},{"$f":"COUNTIF(INDIRECT(\"'集計(年)'!Q\"&P$21):INDIRECT(\"'集計(年)'!Q\"&Q$21),1)","v":0},{"$f":"COUNTIF(INDIRECT(\"'集計(年)'!Q\"&P$21):INDIRECT(\"'集計(年)'!Q\"&Q$21),12)","v":0},{"$f":"COUNTIF(INDIRECT(\"'集計(年)'!Q\"&P$21):INDIRECT(\"'集計(年)'!Q\"&Q$21),3)","v":0},{"$f":"COUNTIF(INDIRECT(\"'集計(年)'!Q\"&S$21):INDIRECT(\"'集計(年)'!Q\"&T$21),1)","v":0},{"$f":"COUNTIF(INDIRECT(\"'集計(年)'!Q\"&S$21):INDIRECT(\"'集計(年)'!Q\"&T$21),12)","v":0},{"$f":"COUNTIF(INDIRECT(\"'集計(年)'!Q\"&S$21):INDIRECT(\"'集計(年)'!Q\"&T$21),3)","v":0},{"$f":"COUNTIF(INDIRECT(\"'集計(年)'!Q\"&V$21):INDIRECT(\"'集計(年)'!Q\"&W$21),1)","v":0},{"$f":"COUNTIF(INDIRECT(\"'集計(年)'!Q\"&V$21):INDIRECT(\"'集計(年)'!Q\"&W$21),12)","v":0},{"$f":"COUNTIF(INDIRECT(\"'集計(年)'!Q\"&V$21):INDIRECT(\"'集計(年)'!Q\"&W$21),3)","v":0},{"$f":"COUNTIF(INDIRECT(\"'集計(年)'!Q\"&Y$21):INDIRECT(\"'集計(年)'!Q\"&Z$21),1)","v":0},{"$f":"COUNTIF(INDIRECT(\"'集計(年)'!Q\"&Y$21):INDIRECT(\"'集計(年)'!Q\"&Z$21),12)","v":0},{"$f":"COUNTIF(INDIRECT(\"'集計(年)'!Q\"&Y$21):INDIRECT(\"'集計(年)'!Q\"&Z$21),3)","v":0},{"$f":"COUNTIF(INDIRECT(\"'集計(年)'!Q\"&AB$21):INDIRECT(\"'集計(年)'!Q\"&AC$21),1)","v":0},{"$f":"COUNTIF(INDIRECT(\"'集計(年)'!Q\"&AB$21):INDIRECT(\"'集計(年)'!Q\"&AC$21),12)","v":0},{"$f":"COUNTIF(INDIRECT(\"'集計(年)'!Q\"&AB$21):INDIRECT(\"'集計(年)'!Q\"&AC$21),3)","v":0},{"$f":"COUNTIF(INDIRECT(\"'集計(年)'!Q\"&AE$21):INDIRECT(\"'集計(年)'!Q\"&AF$21),1)","v":0},{"$f":"COUNTIF(INDIRECT(\"'集計(年)'!Q\"&AE$21):INDIRECT(\"'集計(年)'!Q\"&AF$21),12)","v":0},{"$f":"COUNTIF(INDIRECT(\"'集計(年)'!Q\"&AE$21):INDIRECT(\"'集計(年)'!Q\"&AF$21),3)","v":0},{"$f":"COUNTIF(INDIRECT(\"'集計(年)'!Q\"&AH$21):INDIRECT(\"'集計(年)'!Q\"&AI$21),1)","v":0},{"$f":"COUNTIF(INDIRECT(\"'集計(年)'!Q\"&AH$21):INDIRECT(\"'集計(年)'!Q\"&AI$21),12)","v":0},{"$f":"COUNTIF(INDIRECT(\"'集計(年)'!Q\"&AH$21):INDIRECT(\"'集計(年)'!Q\"&AI$21),3)","v":0},{"$f":"COUNTIF(INDIRECT(\"'集計(年)'!Q\"&AK$21):INDIRECT(\"'集計(年)'!Q\"&AL$21),1)","v":0},{"$f":"COUNTIF(INDIRECT(\"'集計(年)'!Q\"&AK$21):INDIRECT(\"'集計(年)'!Q\"&AL$21),12)","v":0},{"$f":"COUNTIF(INDIRECT(\"'集計(年)'!Q\"&AK$21):INDIRECT(\"'集計(年)'!Q\"&AL$21),3)","v":0},{"$f":"COUNTIF(INDIRECT(\"'集計(年)'!Q\"&AN$21):INDIRECT(\"'集計(年)'!Q\"&AO$21),1)","v":0},{"$f":"COUNTIF(INDIRECT(\"'集計(年)'!Q\"&AN$21):INDIRECT(\"'集計(年)'!Q\"&AO$21),12)","v":0},{"$f":"COUNTIF(INDIRECT(\"'集計(年)'!Q\"&AN$21):INDIRECT(\"'集計(年)'!Q\"&AO$21),3)","v":0},0,0,0]
[null,"ごうけい",null,{"$f":"SUM(D4:D17)","v":0},{"$f":"SUM(E4:E17)","v":0},0,0,0,0,0,0,0,0,0,0,0,0,0,0,0,0,0,0,0,0,0,0,0,0,0,0,0,0,0,0,0,0,0,0,0,0,0,0,0,0]
[null,null,null,{"$f":"YEAR(D20)&\"年\"&MONTH(D20) & \"月\"","v":"2017年11月"},null,null,{"$f":"YEAR(G20)&\"年\"&MONTH(G20) & \"月\"","v":"2017年12月"},null,null,{"$f":"YEAR(J20)&\"年\"&MONTH(J20) & \"月\"","v":"2018年1月"},null,null,{"$f":"YEAR(M20)&\"年\"&MONTH(M20) & \"月\"","v":"2018年2月"},null,null,{"$f":"YEAR(P20)&\"年\"&MONTH(P20) & \"月\"","v":"2018年3月"},null,null,{"$f":"YEAR(S20)&\"年\"&MONTH(S20) & \"月\"","v":"2018年4月"},null,null,{"$f":"YEAR(V20)&\"年\"&MONTH(V20) & \"月\"","v":"2018年5月"},null,null,{"$f":"YEAR(Y20)&\"年\"&MONTH(Y20) & \"月\"","v":"2018年6月"},null,null,{"$f":"YEAR(AB20)&\"年\"&MONTH(AB20) & \"月\"","v":"2018年7月"},null,null,{"$f":"YEAR(AE20)&\"年\"&MONTH(AE20) & \"月\"","v":"2018年8月"},null,null,{"$f":"YEAR(AH20)&\"年\"&MONTH(AH20) & \"月\"","v":"2018年9月"},null,null,{"$f":"YEAR(AK20)&\"年\"&MONTH(AK20) & \"月\"","v":"2018年10月"},null,null,{"$f":"YEAR(AN20)&\"年\"&MONTH(AN20) & \"月\"","v":"2018年11月"},null,null,{"$f":"AQ2","v":"ねんかんごうけい"}]
[null,null,{"$f":"初期設定!O6","v":2017},{"$f":"C20&\"/\"&C21&\"/1\"","v":"2017/11/1"},null,null,{"$f":"DATE(YEAR(D20),MONTH(D20) + 1,DAY(D20))","v":"2017-12-01"},null,null,{"$f":"DATE(YEAR(G20),MONTH(G20) + 1,DAY(G20))","v":"2018-01-01"},null,null,{"$f":"DATE(YEAR(J20),MONTH(J20) + 1,DAY(J20))","v":"2018-02-01"},null,null,{"$f":"DATE(YEAR(M20),MONTH(M20) + 1,DAY(M20))","v":"2018-03-01"},null,null,{"$f":"DATE(YEAR(P20),MONTH(P20) + 1,DAY(P20))","v":"2018-04-01"},null,null,{"$f":"DATE(YEAR(S20),MONTH(S20) + 1,DAY(S20))","v":"2018-05-01"},null,null,{"$f":"DATE(YEAR(V20),MONTH(V20) + 1,DAY(V20))","v":"2018-06-01"},null,null,{"$f":"DATE(YEAR(Y20),MONTH(Y20) + 1,DAY(Y20))","v":"2018-07-01"},null,null,{"$f":"DATE(YEAR(AB20),MONTH(AB20) + 1,DAY(AB20))","v":"2018-08-01"},null,null,{"$f":"DATE(YEAR(AE20),MONTH(AE20) + 1,DAY(AE20))","v":"2018-09-01"},null,null,{"$f":"DATE(YEAR(AH20),MONTH(AH20) + 1,DAY(AH20))","v":"2018-10-01"},null,null,{"$f":"DATE(YEAR(AK20),MONTH(AK20) + 1,DAY(AK20))","v":"2018-11-01"}]
[null,null,{"$f":"初期設定!I7","v":11},{"$f":"'集計(年)'!B372","v":4},{"$f":"'集計(年)'!C372","v":33},null,{"$f":"'集計(年)'!B373","v":34},{"$f":"'集計(年)'!C373","v":64},null,{"$f":"'集計(年)'!B374","v":65},{"$f":"'集計(年)'!C374","v":95},null,{"$f":"'集計(年)'!B375","v":96},{"$f":"'集計(年)'!C375","v":123},null,{"$f":"'集計(年)'!B376","v":124},{"$f":"'集計(年)'!C376","v":154},null,{"$f":"'集計(年)'!B377","v":155},{"$f":"'集計(年)'!C377","v":184},null,{"$f":"'集計(年)'!B378","v":185},{"$f":"'集計(年)'!C378","v":215},null,{"$f":"'集計(年)'!B379","v":216},{"$f":"'集計(年)'!C379","v":245},null,{"$f":"'集計(年)'!B380","v":246},{"$f":"'集計(年)'!C380","v":276},null,{"$f":"'集計(年)'!B381","v":277},{"$f":"'集計(年)'!C381","v":307},null,{"$f":"'集計(年)'!B382","v":308},{"$f":"'集計(年)'!C382","v":337},null,{"$f":"'集計(年)'!B383","v":338},{"$f":"'集計(年)'!C383","v":367},null,{"$f":"'集計(年)'!B384","v":368},{"$f":"'集計(年)'!C384","v":368}]

{"sheet":"基本項目","index":30,"n_rows":23,"n_cols":3,"rows_kept":23,"cut":false,"hidden":false,"merged":[]}
["・基本項目"]
["１・","答えは1～3の数値"]
["２・","データは年で持ち、最大出力範囲は週単位"]
["３・","“次へ”“戻る”でシートの移動を行う"]
["４・","画面の基本設計：文字＝白、背景＝グリーン、選択時処理＝非選択をトーンダウン"]
["５・","兄弟がいるときの処理は可能？"]
[]
[]
["学校あり",null,"学校なし"]
["睡眠時間"]
["起床"]
["朝食"]
["遊び(朝)",null,"遊び(朝)（ごぜんちゅうんだ？「友達・おうひのひと・クラブ」「そとで～」"]
["勉強(学校)",null,"昼食（おひるごはんはたべた？）"]
["遊び(昼)",null,"遊び(昼)（ごごあそんだ？「友達・おうひのひと・クラブ」「そとで～」"]
["昼食",null,"勉強(ひる)（勉強(学校)とおなじ）"]
["遊び(夕)",null,"検討中"]
["勉強(家)"]
["夜ごはん"]
["歯磨き"]
["テレビ＆ゲーム"]
["お風呂"]
["排便"]

{"sheet":"参考(質問回答)","index":31,"n_rows":27,"n_cols":2,"rows_kept":27,"cut":false,"hidden":false,"merged":[]}
["【質問事項についての回答】"]
[]
["Ｑ１：イラストの書き込みなどは想定をしないでよいか。"]
[null,"回答：各質問の部分以外で、実際の画面上に空いている部分等、イラストの書き込みが必要になる場合もあります。"]
[null,"　　　"]
[]
["Ｑ２：診断結果についての判定は決まっているのか。"]
[null,"回答：各質問に対して、回答は全て３つ（○△×）となります。"]
[null,"　　　①は○、②は△、③は×の判定です。"]
["　　"]
["Ｑ３：生活習慣の入力については、年間何回も入力出来るのか。"]
[null,"回答：はい。"]
[]
["Ｑ４．年間何回も入力できる場合、同じ日に何回も入力し直すことが出来るのか。"]
[null,"回答：はい。"]
[]
["Ｑ５：デザイン案のカレンダーには年の設定がありませんが、年（若しくは年度）をまたがる入力は不可でよいか。"]
["　　　","回答：可能にしてください。"]
[]
[]
["Ｑ６：デザイン案の「なんじにねた？」、「なんじにおきた？」の質問にて、表示されている時間（「なんじにねた？」の場合は、８じ、９じ、１０じ以外の入力も可能とすることでよいか）"]
["　　　","回答：はい。デザイン案には、理想の時間を設定しています。現実的に就寝時間は、１２時まで、起床時間は、８時まで入力を考えています。また、例えば７時００分に起きたことを入力できるような入力のボタン等も必要になります。"]
["　　　"]
["Ｑ７：コバトンの画像については提供して頂けるのか。"]
[null,"回答：はい。"]
["　　　"]
["　　"]

{"sheet":"画像置場","index":32,"n_rows":0,"n_cols":0,"rows_kept":0,"cut":false,"hidden":false,"merged":[]}

{"sheet":"回答一覧","index":33,"n_rows":8,"n_cols":13,"rows_kept":8,"cut":false,"hidden":false,"merged":[]}
["寝起き","朝食","給食","夜ごはん","学校遊び朝","学校遊び昼","お家遊び","学校勉強","お家勉強","テレビゲーム","お風呂シャワー","はみがき","はいべん"]
["①じぶんでおきた","①おいしくぜんぶたべた","①おいしくぜんぶたべた","①おいしくぜんぶたべた","①そとであそんだ","①そとであそんだ","①そとであそんだ","①すすんでべんきょうができた","①30ぷんよりおおくべんきょうをした","①１じかんよりすくなかった","①おふろにはいった","①3かいはみがきをした","①あさにでてすっきりした"]
["②おこしてもらっておきた","②きらいなものをのこした","②きらいなものをのこした","②きらいなものをのこした","②そとですこしあそんだ","②そとですこしあそんだ","②そとですこしあそんだ","②べんきょうができた","②30ぷんよりすくなかったがべんきょうをした","②1じかんよりおおかった","②あらっただけ（シャワー）","②2かいはみがきをした","②ひるかよるにでた"]
["③おこしてもらったけどすぐにおきなかった","③すこししかたべなかった","③すこししかたべなかった","③すこししかたべなかった","③そとであそばなかった","③そとであそばなかった","③そとであそばなかった","③べんきょうができなかった","③べんきょうをしなかった","③２じかんよりおおかった","③はいらなかった","③1かいはみがきをした・1かいもしなかった","③でなかった"]
[1,2,6,9,3,5,"①3じかんよりおおかった",4,8,11,12,10,13]
[null,null,null,null,null,null,"②1じかんよりおおかった"]
[null,null,null,null,null,null,"③1じかんよりすくなかった"]
[null,null,null,null,null,null,7]

{"sheet":"年齢計算用","index":34,"n_rows":17,"n_cols":2,"rows_kept":17,"cut":false,"hidden":false,"merged":[]}
[0,"未就学児"]
[6,"1ねん"]
[7,"2ねん"]
[8,"3ねん"]
[9,"4年"]
[10,"5年"]
[11,"6年"]
[12,"中１"]
[13,"中２"]
[14,"中３"]
[15,"高１"]
[16,"高２"]
[17,"高３"]
[18,"大１"]
[19,"大２"]
[20,"大３"]
[21,"大４"]

{"sheet":"開発用","index":35,"n_rows":495,"n_cols":3,"rows_kept":495,"cut":false,"hidden":true,"merged":[]}
["スタート画面","グループ化 3"]
["スタート画面","スタート","【開発中】入力シート(作業中).xlsm'!スタート画面_Click"]
["スタート画面","はじめて","【開発中】入力シート(作業中).xlsm'!スタート画面_Click"]
["スタート画面","一週間の確認","【開発中】入力シート(作業中).xlsm'!一週間の確認_click"]
["スタート画面","月刊スコア","【開発中】入力シート(作業中).xlsm'!スタート画面_Click"]
["スタート画面_初利用","保護者の皆様へ","【開発中】入力シート(作業中).xlsm'!スタート画面_Click"]
["スタート画面_初利用","子供たちへ","【開発中】入力シート(作業中).xlsm'!スタート画面_Click"]
["スタート画面_初利用","初期設定","【開発中】入力シート(作業中).xlsm'!スタート画面_Click"]
["スタート画面_初利用","図 4"]
["スタート画面_初利用","上カーブ リボン 5"]
["スタート画面_初利用","もどる","【開発中】入力シート(作業中).xlsm'!スタート画面_Click"]
["保護者の皆様へ","テキスト ボックス 33"]
["保護者の皆様へ","AutoShape 3"]
["保護者の皆様へ","図 35"]
["保護者の皆様へ","Text Box 4"]
["保護者の皆様へ","WordArt 9"]
["保護者の皆様へ","WordArt 10"]
["保護者の皆様へ","右矢印 42","【開発中】入力シート(作業中).xlsm'!保護者子供_戻る"]
["保護者の皆様へ","対角する 2 つの角を丸めた四角形 44"]
["保護者の皆様へ","WordArt 7"]
["保護者の皆様へ","グループ化 39"]
["子供たちへ","横巻き 1"]
["子供たちへ","角丸四角形 3"]
["子供たちへ","フローチャート : 結合子 12"]
["子供たちへ","フローチャート : 結合子 13"]
["子供たちへ","フローチャート : 結合子 14"]
["子供たちへ","右矢印 7","【開発中】入力シート(作業中).xlsm'!保護者子供_戻る"]
["初期設定","図 2"]
["初期設定","角丸四角形吹き出し 2"]
["初期設定","右矢印 4","【開発中】入力シート(作業中).xlsm'!初期設定_次"]
["初期設定","右矢印 5","【開発中】入力シート(作業中).xlsm'!初期設定_戻"]
["日付選択","図 2"]
["日付選択","角丸四角形吹き出し 2"]
["日付選択","つぎへ","【開発中】入力シート(作業中).xlsm'!日付選択_次"]
["日付選択","右矢印 6","【開発中】入力シート(作業中).xlsm'!日付選択_戻"]
["日付選択","選択2","【開発中】入力シート(作業中).xlsm'!スタート"]
["日付選択","選択3","【開発中】入力シート(作業中).xlsm'!スタート"]
["日付選択","選択4","【開発中】入力シート(作業中).xlsm'!スタート"]
["スタート","図 2"]
["スタート","学校有無"]
["スタート","選択5","【開発中】入力シート(作業中).xlsm'!スタート"]
["スタート","選択6","【開発中】入力シート(作業中).xlsm'!スタート"]
["スタート","つぎへ","【開発中】入力シート(作業中).xlsm'!スタート"]
["スタート","右矢印 12","【開発中】入力シート(作業中).xlsm'!スタート_戻"]
["カレンダー","角丸四角形吹き出し 2"]
["カレンダー","雲_1月","【開発中】入力シート(作業中).xlsm'!cal_Create"]
["カレンダー","雲 4"]
["カレンダー","雲_2月","【開発中】入力シート(作業中).xlsm'!cal_Create"]
["カレンダー","雲_3月","【開発中】入力シート(作業中).xlsm'!cal_Create"]
["カレンダー","雲_4月","【開発中】入力シート(作業中).xlsm'!cal_Create"]
["カレンダー","雲_10月","【開発中】入力シート(作業中).xlsm'!cal_Create"]
["カレンダー","雲_12月","【開発中】入力シート(作業中).xlsm'!cal_Create"]
["カレンダー","雲_9月","【開発中】入力シート(作業中).xlsm'!cal_Create"]
["カレンダー","雲_11月","【開発中】入力シート(作業中).xlsm'!cal_Create"]
["カレンダー","雲_5月","【開発中】入力シート(作業中).xlsm'!cal_Create"]
["カレンダー","雲_8月","【開発中】入力シート(作業中).xlsm'!cal_Create"]
["カレンダー","雲_7月","【開発中】入力シート(作業中).xlsm'!cal_Create"]
["カレンダー","雲_6月","【開発中】入力シート(作業中).xlsm'!cal_Create"]
["カレンダー","右矢印 16","【開発中】入力シート(作業中).xlsm'!カレンダー_戻"]
["カレンダー","図 4"]
["睡眠","グループ化 37"]
["睡眠","50分","【開発中】入力シート(作業中).xlsm'!睡眠2"]
["睡眠","40分","【開発中】入力シート(作業中).xlsm'!睡眠2"]
["睡眠","30分","【開発中】入力シート(作業中).xlsm'!睡眠2"]
["睡眠","睡眠_タイトル"]
["睡眠","20分","【開発中】入力シート(作業中).xlsm'!睡眠2"]
["睡眠","10分","【開発中】入力シート(作業中).xlsm'!睡眠2"]
["睡眠","10時","【開発中】入力シート(作業中).xlsm'!睡眠1"]
["睡眠","9時","【開発中】入力シート(作業中).xlsm'!睡眠1"]
["睡眠","8時","【開発中】入力シート(作業中).xlsm'!睡眠1"]
["睡眠","00分","【開発中】入力シート(作業中).xlsm'!睡眠2"]
["睡眠","11時","【開発中】入力シート(作業中).xlsm'!睡眠1"]
["睡眠","7時","【開発中】入力シート(作業中).xlsm'!睡眠1"]
["睡眠","つぎへ","【開発中】入力シート(作業中).xlsm'!睡眠_次"]
["睡眠","もどる","【開発中】入力シート(作業中).xlsm'!睡眠_戻"]
["睡眠","睡眠_短針"]
["睡眠","睡眠_長針"]
["睡眠","Picture 2"]
["睡眠","Picture 3"]
["睡眠","見直しに戻る","【開発中】入力シート(作業中).xlsm'!みなおしにもどる"]
["起床","グループ化 46"]
["起床","起床_タイトル"]
["起床","50分","【開発中】入力シート(作業中).xlsm'!起床2"]
["起床","20分","【開発中】入力シート(作業中).xlsm'!起床2"]
["起床","10分","【開発中】入力シート(作業中).xlsm'!起床2"]
["起床","40分","【開発中】入力シート(作業中).xlsm'!起床2"]
["起床","30分","【開発中】入力シート(作業中).xlsm'!起床2"]
["起床","00分","【開発中】入力シート(作業中).xlsm'!起床2"]
["起床","10時","【開発中】入力シート(作業中).xlsm'!起床1"]
["起床","9時","【開発中】入力シート(作業中).xlsm'!起床1"]
["起床","8時","【開発中】入力シート(作業中).xlsm'!起床1"]
["起床","11時","【開発中】入力シート(作業中).xlsm'!起床1"]
["起床","7時","【開発中】入力シート(作業中).xlsm'!起床1"]
["起床","つぎへ","【開発中】入力シート(作業中).xlsm'!起床_次"]
["起床","もどる","【開発中】入力シート(作業中).xlsm'!もどる_Click"]
["起床","6時","【開発中】入力シート(作業中).xlsm'!起床1"]
["起床","起床_短針"]
["起床","起床_長針"]
["起床","図 22"]
["起床","図 23"]
["起床","見直しに戻る","【開発中】入力シート(作業中).xlsm'!みなおしにもどる"]
["寝起き","選択1","【開発中】入力シート(作業中).xlsm'!選択1_Click"]
["寝起き","選択2","【開発中】入力シート(作業中).xlsm'!選択2_Click"]
["寝起き","選択3","【開発中】入力シート(作業中).xlsm'!選択3_Click"]
["寝起き","横巻き 14"]
["寝起き","つぎへ","【開発中】入力シート(作業中).xlsm'!つぎへ_Click"]
["寝起き","もどる","【開発中】入力シート(作業中).xlsm'!もどる_Click"]
["寝起き","Picture 2"]
["寝起き","図 9"]
["寝起き","見直しに戻る","【開発中】入力シート(作業中).xlsm'!みなおしにもどる"]
["朝食","選択1","【開発中】入力シート(作業中).xlsm'!選択1_Click"]
["朝食","選択2","【開発中】入力シート(作業中).xlsm'!選択2_Click"]
["朝食","選択3","【開発中】入力シート(作業中).xlsm'!選択3_Click"]
["朝食","横巻き 23"]
["朝食","つぎへ","【開発中】入力シート(作業中).xlsm'!つぎへ_Click"]
["朝食","もどる","【開発中】入力シート(作業中).xlsm'!もどる_Click"]
["朝食","図 13"]
["朝食","見直しに戻る","【開発中】入力シート(作業中).xlsm'!みなおしにもどる"]
["学校遊び朝","朝遊び"]
["学校遊び朝","選択1","【開発中】入力シート(作業中).xlsm'!選択1_Click"]
["学校遊び朝","選択2","【開発中】入力シート(作業中).xlsm'!選択2_Click"]
["学校遊び朝","選択3","【開発中】入力シート(作業中).xlsm'!選択3_Click"]
["学校遊び朝","つぎへ","【開発中】入力シート(作業中).xlsm'!遊び朝_次"]
["学校遊び朝","もどる","【開発中】入力シート(作業中).xlsm'!もどる_Click"]
["学校遊び朝","図 8"]
["学校遊び朝","図 10"]
["学校遊び朝","図 12"]
["学校遊び朝","図 13"]
["学校遊び朝","見直しに戻る","【開発中】入力シート(作業中).xlsm'!みなおしにもどる"]
["学校勉強","選択1","【開発中】入力シート(作業中).xlsm'!選択1_Click"]
["学校勉強","選択2","【開発中】入力シート(作業中).xlsm'!選択2_Click"]
["学校勉強","選択3","【開発中】入力シート(作業中).xlsm'!選択3_Click"]
["学校勉強","横巻き 15"]
["学校勉強","つぎへ","【開発中】入力シート(作業中).xlsm'!学校勉強_次"]
["学校勉強","もどる","【開発中】入力シート(作業中).xlsm'!学校勉強_戻"]
["学校勉強","図 8"]
["学校勉強","見直しに戻る","【開発中】入力シート(作業中).xlsm'!みなおしにもどる"]
["学校遊び昼","選択1","【開発中】入力シート(作業中).xlsm'!選択1_Click"]
["学校遊び昼","選択2","【開発中】入力シート(作業中).xlsm'!選択2_Click"]
["学校遊び昼","選択3","【開発中】入力シート(作業中).xlsm'!選択3_Click"]
["学校遊び昼","学校遊び昼"]
["学校遊び昼","つぎへ","【開発中】入力シート(作業中).xlsm'!学校遊び昼_次"]
["学校遊び昼","もどる","【開発中】入力シート(作業中).xlsm'!学校遊び昼_戻"]
["学校遊び昼","図 9"]
["学校遊び昼","図 10"]
["学校遊び昼","図 11"]
["学校遊び昼","見直しに戻る","【開発中】入力シート(作業中).xlsm'!みなおしにもどる"]
["給食","選択1","【開発中】入力シート(作業中).xlsm'!選択1_Click"]
["給食","選択2","【開発中】入力シート(作業中).xlsm'!選択2_Click"]
["給食","選択3","【開発中】入力シート(作業中).xlsm'!選択3_Click"]
["給食","昼食"]
["給食","つぎへ","【開発中】入力シート(作業中).xlsm'!給食_次"]
["給食","もどる","【開発中】入力シート(作業中).xlsm'!給食_戻"]
["給食","図 8"]
["給食","見直しに戻る","【開発中】入力シート(作業中).xlsm'!みなおしにもどる"]
["お家遊び","横巻き 1"]
["お家遊び","図 17"]
["お家遊び","選択1","【開発中】入力シート(作業中).xlsm'!選択1_Click"]
["お家遊び","選択2","【開発中】入力シート(作業中).xlsm'!選択2_Click"]
["お家遊び","選択3","【開発中】入力シート(作業中).xlsm'!選択3_Click"]
["お家遊び","つぎへ","【開発中】入力シート(作業中).xlsm'!お家遊び_次"]
["お家遊び","もどる","【開発中】入力シート(作業中).xlsm'!お家遊び_戻"]
["お家遊び","図 9"]
["お家遊び","見直しに戻る","【開発中】入力シート(作業中).xlsm'!みなおしにもどる"]
["お家勉強","Picture 1"]
["お家勉強","選択1","【開発中】入力シート(作業中).xlsm'!選択1_Click"]
["お家勉強","選択2","【開発中】入力シート(作業中).xlsm'!選択2_Click"]
["お家勉強","選択3","【開発中】入力シート(作業中).xlsm'!選択3_Click"]
["お家勉強","横巻き 16"]
["お家勉強","つぎへ","【開発中】入力シート(作業中).xlsm'!お家勉強_次"]
["お家勉強","もどる","【開発中】入力シート(作業中).xlsm'!もどる_Click"]
["お家勉強","図 8"]
["お家勉強","見直しに戻る","【開発中】入力シート(作業中).xlsm'!みなおしにもどる"]
["夜ごはん","選択1","【開発中】入力シート(作業中).xlsm'!選択1_Click"]
["夜ごはん","選択2","【開発中】入力シート(作業中).xlsm'!選択2_Click"]
["夜ごはん","選択3","【開発中】入力シート(作業中).xlsm'!選択3_Click"]
["夜ごはん","横巻き 22"]
["夜ごはん","つぎへ","【開発中】入力シート(作業中).xlsm'!つぎへ_Click"]
["夜ごはん","もどる","【開発中】入力シート(作業中).xlsm'!夜ごはん_戻"]
["夜ごはん","図 8"]
["夜ごはん","見直しに戻る","【開発中】入力シート(作業中).xlsm'!みなおしにもどる"]
["はみがき","選択1","【開発中】入力シート(作業中).xlsm'!選択1_Click"]
["はみがき","選択2","【開発中】入力シート(作業中).xlsm'!選択2_Click"]
["はみがき","選択3","【開発中】入力シート(作業中).xlsm'!選択3_Click"]
["はみがき","横巻き 12"]
["はみがき","つぎへ","【開発中】入力シート(作業中).xlsm'!つぎへ_Click"]
["はみがき","もどる","【開発中】入力シート(作業中).xlsm'!もどる_Click"]
["はみがき","図 8"]
["はみがき","図 9"]
["はみがき","見直しに戻る","【開発中】入力シート(作業中).xlsm'!みなおしにもどる"]
["テレビゲーム","選択1","【開発中】入力シート(作業中).xlsm'!選択1_Click"]
["テレビゲーム","選択2","【開発中】入力シート(作業中).xlsm'!選択2_Click"]
["テレビゲーム","選択3","【開発中】入力シート(作業中).xlsm'!選択3_Click"]
["テレビゲーム","横巻き 16"]
["テレビゲーム","Picture 1"]
["テレビゲーム","つぎへ","【開発中】入力シート(作業中).xlsm'!つぎへ_Click"]
["テレビゲーム","もどる","【開発中】入力シート(作業中).xlsm'!もどる_Click"]
["テレビゲーム","見直しに戻る","【開発中】入力シート(作業中).xlsm'!みなおしにもどる"]
["お風呂シャワー","選択1","【開発中】入力シート(作業中).xlsm'!選択1_Click"]
["お風呂シャワー","選択2","【開発中】入力シート(作業中).xlsm'!選択2_Click"]
["お風呂シャワー","選択3","【開発中】入力シート(作業中).xlsm'!選択3_Click"]
["お風呂シャワー","横巻き 13"]
["お風呂シャワー","つぎへ","【開発中】入力シート(作業中).xlsm'!つぎへ_Click"]
["お風呂シャワー","もどる","【開発中】入力シート(作業中).xlsm'!もどる_Click"]
["お風呂シャワー","図 8"]
["お風呂シャワー","見直しに戻る","【開発中】入力シート(作業中).xlsm'!みなおしにもどる"]
["はいべん","選択1","【開発中】入力シート(作業中).xlsm'!選択1_Click"]
["はいべん","選択2","【開発中】入力シート(作業中).xlsm'!選択2_Click"]
["はいべん","選択3","【開発中】入力シート(作業中).xlsm'!選択3_Click"]
["はいべん","横巻き 19"]
["はいべん","つぎへ","【開発中】入力シート(作業中).xlsm'!今日のかくにん"]
["はいべん","もどる","【開発中】入力シート(作業中).xlsm'!もどる_Click"]
["はいべん","Picture 1"]
["はいべん","図 8"]
["はいべん","見直しに戻る","【開発中】入力シート(作業中).xlsm'!みなおしにもどる"]
["入力確認","図 16","【開発中】入力シート(作業中).xlsm'!createData"]
["入力確認","雲形吹き出し 2"]
["入力確認","ここにもどる1","【開発中】入力シート(作業中).xlsm'!jumpPage_nippou"]
["入力確認","ここにもどる2","【開発中】入力シート(作業中).xlsm'!jumpPage_nippou"]
["入力確認","ここにもどる3","【開発中】入力シート(作業中).xlsm'!jumpPage_nippou"]
["入力確認","ここにもどる4","【開発中】入力シート(作業中).xlsm'!jumpPage_nippou"]
["入力確認","ここにもどる5","【開発中】入力シート(作業中).xlsm'!jumpPage_nippou"]
["入力確認","ここにもどる6","【開発中】入力シート(作業中).xlsm'!jumpPage_nippou"]
["入力確認","ここにもどる7","【開発中】入力シート(作業中).xlsm'!jumpPage_nippou"]
["入力確認","ここにもどる8","【開発中】入力シート(作業中).xlsm'!jumpPage_nippou"]
["入力確認","ここにもどる9","【開発中】入力シート(作業中).xlsm'!jumpPage_nippou"]
["入力確認","ここにもどる10","【開発中】入力シート(作業中).xlsm'!jumpPage_nippou"]
["入力確認","ここにもどる11","【開発中】入力シート(作業中).xlsm'!jumpPage_nippou"]
["入力確認","ここにもどる12","【開発中】入力シート(作業中).xlsm'!jumpPage_nippou"]
["入力確認","ここにもどる13","【開発中】入力シート(作業中).xlsm'!jumpPage_nippou"]
["入力確認","ここにもどる14","【開発中】入力シート(作業中).xlsm'!jumpPage_nippou"]
["入力確認","ここにもどる15","【開発中】入力シート(作業中).xlsm'!jumpPage_nippou"]
["日報","背景メダル"]
["日報","おわり","【開発中】入力シート(作業中).xlsm'!closeBook"]
["日報","円/楕円 5","【開発中】入力シート(作業中).xlsm'!nippoPrint"]
["日報","円/楕円 6","【開発中】入力シート(作業中).xlsm'!resultJamp"]
["日報","円/楕円 9"]
["日報","Picture 3"]
["日報","日報メダル"]
["誕生日","正方形/長方形 2","【開発中】入力シート(作業中).xlsm'!睡眠_戻"]
["誕生日","Picture 2"]
["週計","コバトン背景"]
["週計","テキスト ボックス 2"]
["週計","図 16"]
["週計","四角形吹き出し 17"]
["週計","図 18"]
["週計","四角形吹き出し 19"]
["週計","図 20"]
["週計","角丸四角形 23"]
["週計","角丸四角形 24"]
["週計","学校と名前"]
["週計","直線コネクタ 40"]
["週計","フローチャート : 結合子 41","【開発中】入力シート(作業中).xlsm'!resultPrint"]
["週計","正方形/長方形 172","【開発中】入力シート(作業中).xlsm'!スタートに戻る"]
["週計","今日のMedal"]
["週計","円/楕円 344","【開発中】入力シート(作業中).xlsm'!週計_おわる"]
["週計","もどる","【開発中】入力シート(作業中).xlsm'!週計_戻"]
["週計","正方形/長方形 99","【開発中】入力シート(作業中).xlsm'!PastView"]
["週計","もどる","【開発中】入力シート(作業中).xlsm'!週計_スタート画面に戻"]
["週計","コバトンマーク7_4"]
["週計","コバトンマーク9_4"]
["週計","コバトンマーク10_4"]
["週計","コバトンマーク11_4"]
["週計","コバトンマーク12_4"]
["週計","コバトンマーク13_4"]
["週計","コバトンマーク14_4"]
["週計","コバトンマーク15_4"]
["週計","コバトンマーク16_4"]
["週計","コバトンマーク17_4"]
["週計","コバトンマーク18_4"]
["週計","コバトンマーク19_4"]
["週計","コバトンマーク20_4"]
["週計","コバトンマーク21_4"]
["週計","コバトンマーク7_5"]
["週計","コバトンマーク9_5"]
["週計","コバトンマーク10_5"]
["週計","コバトンマーク11_5"]
["週計","コバトンマーク12_5"]
["週計","コバトンマーク13_5"]
["週計","コバトンマーク14_5"]
["週計","コバトンマーク15_5"]
["週計","コバトンマーク16_5"]
["週計","コバトンマーク17_5"]
["週計","コバトンマーク18_5"]
["週計","コバトンマーク19_5"]
["週計","コバトンマーク20_5"]
["週計","コバトンマーク21_5"]
["週計","コバトンマーク7_6"]
["週計","コバトンマーク9_6"]
["週計","コバトンマーク10_6"]
["週計","コバトンマーク11_6"]
["週計","コバトンマーク12_6"]
["週計","コバトンマーク13_6"]
["週計","コバトンマーク14_6"]
["週計","コバトンマーク15_6"]
["週計","コバトンマーク16_6"]
["週計","コバトンマーク17_6"]
["週計","コバトンマーク18_6"]
["週計","コバトンマーク19_6"]
["週計","コバトンマーク20_6"]
["週計","コバトンマーク21_6"]
["週計","コバトンマーク7_7"]
["週計","コバトンマーク9_7"]
["週計","コバトンマーク10_7"]
["週計","コバトンマーク11_7"]
["週計","コバトンマーク12_7"]
["週計","コバトンマーク13_7"]
["週計","コバトンマーク14_7"]
["週計","コバトンマーク15_7"]
["週計","コバトンマーク16_7"]
["週計","コバトンマーク17_7"]
["週計","コバトンマーク18_7"]
["週計","コバトンマーク19_7"]
["週計","コバトンマーク20_7"]
["週計","コバトンマーク21_7"]
["週計","コバトンマーク7_8"]
["週計","コバトンマーク9_8"]
["週計","コバトンマーク10_8"]
["週計","コバトンマーク11_8"]
["週計","コバトンマーク12_8"]
["週計","コバトンマーク13_8"]
["週計","コバトンマーク14_8"]
["週計","コバトンマーク15_8"]
["週計","コバトンマーク16_8"]
["週計","コバトンマーク17_8"]
["週計","コバトンマーク18_8"]
["週計","コバトンマーク19_8"]
["週計","コバトンマーク20_8"]
["週計","コバトンマーク21_8"]
["週計","コバトンマーク7_9"]
["週計","コバトンマーク9_9"]
["週計","コバトンマーク10_9"]
["週計","コバトンマーク11_9"]
["週計","コバトンマーク12_9"]
["週計","コバトンマーク13_9"]
["週計","コバトンマーク14_9"]
["週計","コバトンマーク15_9"]
["週計","コバトンマーク16_9"]
["週計","コバトンマーク17_9"]
["週計","コバトンマーク18_9"]
["週計","コバトンマーク19_9"]
["週計","コバトンマーク20_9"]
["週計","コバトンマーク21_9"]
["週計","コバトンマーク7_10"]
["週計","コバトンマーク9_10"]
["週計","コバトンマーク10_10"]
["週計","コバトンマーク11_10"]
["週計","コバトンマーク12_10"]
["週計","コバトンマーク13_10"]
["週計","コバトンマーク14_10"]
["週計","コバトンマーク15_10"]
["週計","コバトンマーク16_10"]
["週計","コバトンマーク17_10"]
["週計","コバトンマーク18_10"]
["週計","コバトンマーク19_10"]
["週計","コバトンマーク20_10"]
["週計","コバトンマーク21_10"]
["週計","メダル4"]
["週計","メダル5"]
["週計","メダル6"]
["週計","メダル7"]
["週計","メダル8"]
["週計","メダル9"]
["週計","メダル10"]
["週計","縦メダル7"]
["週計","縦メダル9"]
["週計","縦メダル10"]
["週計","縦メダル11"]
["週計","縦メダル12"]
["週計","縦メダル13"]
["週計","縦メダル14"]
["週計","縦メダル15"]
["週計","縦メダル16"]
["週計","縦メダル17"]
["週計","縦メダル18"]
["週計","縦メダル19"]
["週計","縦メダル20"]
["週計","縦メダル21"]
["週計","縦メダル22"]
["週計","メダルコメント"]
["週計","Comment 1"]
["週計","Comment 2"]
["週計","Comment 3"]
["週計","Comment 4"]
["週計","Comment 5"]
["週計","Comment 6"]
["集計(週)","十角形 1"]
["集計(週)","テキスト ボックス 2"]
["集計(週)","図 16"]
["集計(週)","四角形吹き出し 4"]
["集計(週)","図 18"]
["集計(週)","四角形吹き出し 6"]
["集計(週)","図 20"]
["集計(週)","フローチャート : 結合子 8"]
["集計(週)","角丸四角形吹き出し 9"]
["集計(週)","角丸四角形 10"]
["集計(週)","角丸四角形 11"]
["集計(週)","1 つの角を切り取った四角形 12"]
["集計(週)","直線コネクタ 13"]
["集計(週)","フローチャート : 結合子 14"]
["月別スコア","直線コネクタ 1"]
["月別スコア","フローチャート : 結合子 2","【開発中】入力シート(作業中).xlsm'!MonthScorePrint"]
["月別スコア","円/楕円 3","【開発中】入力シート(作業中).xlsm'!closeBook"]
["月別スコア","円/楕円 4","【開発中】入力シート(作業中).xlsm'!月刊スコア_戻る"]
["月別スコア","メダル8"]
["月別スコア","縦メダル7"]
["月別スコア","縦メダル9"]
["月別スコア","メダル8"]
["月別スコア","縦メダル7"]
["月別スコア","縦メダル9"]
["月別スコア","メダル8"]
["月別スコア","縦メダル7"]
["月別スコア","縦メダル9"]
["月別スコア","メダル8"]
["月別スコア","縦メダル7"]
["月別スコア","縦メダル9"]
["月別スコア","メダル8"]
["月別スコア","縦メダル7"]
["月別スコア","縦メダル9"]
["月別スコア","メダル8"]
["月別スコア","縦メダル7"]
["月別スコア","縦メダル9"]
["月別スコア","メダル8"]
["月別スコア","縦メダル7"]
["月別スコア","縦メダル9"]
["月別スコア","メダル8"]
["月別スコア","縦メダル7"]
["月別スコア","縦メダル9"]
["月別スコア","メダル8"]
["月別スコア","縦メダル7"]
["月別スコア","縦メダル9"]
["月別スコア","メダル8"]
["月別スコア","縦メダル7"]
["月別スコア","縦メダル9"]
["月別スコア","メダル8"]
["月別スコア","縦メダル7"]
["月別スコア","縦メダル9"]
["月別スコア","メダル8"]
["月別スコア","縦メダル7"]
["月別スコア","縦メダル9"]
["月別スコア","メダル8"]
["月別スコア","縦メダル7"]
["月別スコア","縦メダル9"]
["月別スコア","メダル8"]
["月別スコア","縦メダル7"]
["月別スコア","縦メダル9"]
["画像置場","不"]
["画像置場","可"]
["画像置場","優"]
["画像置場","図 4"]
["画像置場","グループ化 5"]
["画像置場","グループ化 19"]
["画像置場","起床_短針"]
["画像置場","起床_長針"]
["画像置場","グループ化 24"]
["画像置場","グループ化 53"]
["画像置場","金メダル"]
["画像置場","銀メダル"]
["画像置場","銅メダル"]
["画像置場","処理中"]
["画像置場","テキスト ボックス 48"]
["画像置場","日報金メダル"]
["画像置場","日報銀メダル"]
["画像置場","日報銅メダル"]
["画像置場","メダルコメント金"]
["画像置場","メダルコメント銀"]
["画像置場","メダルコメント銅"]
["画像置場","Picture 2"]
["画像置場","Picture 3"]
["画像置場","白メダル"]
["画像置場","メダルコメント白"]
["画像置場","日報白メダル"]
["画像置場","白コバトン"]
["開発用","正方形/長方形 1","【開発中】入力シート(作業中).xlsm'!開発用マクロ"]
["メダルの判定","直線矢印コネクタ 1"]
["メダルの判定","直線矢印コネクタ 2"]
["メダルの判定","直線矢印コネクタ 3"]
["メダルの判定","直線矢印コネクタ 4"]
["メダルの判定","直線矢印コネクタ 5"]
["メダルの判定","直線矢印コネクタ 6"]
["メダルの判定","直線矢印コネクタ 7"]
["メダルの判定","直線矢印コネクタ 8"]
["メダルの判定","直線矢印コネクタ 9"]
["メダルの判定","直線矢印コネクタ 10"]
["メダルの判定","直線矢印コネクタ 11"]
["メダルの判定","直線矢印コネクタ 12"]
["メダルの判定","直線矢印コネクタ 13"]
["メダルの判定","直線矢印コネクタ 14"]
["メダルの判定","直線矢印コネクタ 15"]
["メダルの判定","直線矢印コネクタ 16"]
["メダルの判定","直線矢印コネクタ 17"]
["メダルの判定","直線矢印コネクタ 18"]
["メダルの判定","下矢印 21"]
["メダルの判定","下矢印 22"]
["メダルの判定","下矢印 23"]

{"sheet":"メダルの判定","index":36,"n_rows":44,"n_cols":8,"rows_kept":44,"cut":false,"hidden":false,"merged":[[26,2,27,5],[26,7,27,8],[5,2,6,5],[5,7,6,8],[8,2,9,5],[8,7,9,8],[11,2,12,5],[11,7,12,8],[14,3,15,4],[20,2,21,5],[20,7,21,8],[23,2,24,5],[23,7,24,8],[43,3,44,4],[29,3,30,4],[34,2,35,5],[34,7,35,8],[37,2,38,5],[37,7,38,8],[40,2,41,5],[40,7,41,8]]}
["メダル判定の考え方"]
[null,"※○＝選択肢１、三角＝選択肢２、×＝選択肢３"]
[null,"※一日単位では未入力はないはず"]
[null,"<<一週間のメダル>>"]
[]
[null,null,"○7個",null,null,null,"y","金"]
[]
[null,null,null,null,"n"]
[null,null,"×一個でもあり又は\n未入力一個でもあり",null,null,null,"y","白"]
[]
[null,null,null,null,"n"]
[null,null,"○4個以上あり",null,null,null,"y","銀"]
[]
[null,null,null,null,"n"]
[null,null,null,"銅"]
[]
[]
[]
[null,"<<毎日のメダル（週計の縦の評価）>>"]
[]
[null,null,"○13個",null,null,null,"y","金"]
[]
[null,null,null,null,"n"]
[null,null,"×一個でもあり又は\n未入力一個でもあり",null,null,null,"y","白"]
[]
[null,null,null,null,"n"]
[null,null,"○7個以上あり",null,null,null,"y","銀"]
[]
[null,null,null,null,"n"]
[null,null,null,"銅"]
[]
[]
[null,"<<総合メダル（週計縦横の評価）>>"]
[]
[null,null,"縦横全て金",null,null,null,"y","金"]
[]
[null,null,null,null,"n"]
[null,null,"縦横に白が一個でもあり",null,null,null,"y","白"]
[]
[null,null,null,null,"n"]
[null,null,"銅が縦に7以上\nかつ横に４以上",null,null,null,"y","銅"]
[]
[null,null,null,null,"n"]
[null,null,null,"銀"]