Workbook

Sheet 指定様式5
C2: 【指定様式5】賃金引上げ実績計算書
S4: 法人名または屋号
S5: 実績報告月 | W5: 令和 | AA5: 年 | AD5: 月 | AH5: =W5&Y5&AA5&AB5&AD5&"1日" -> 令和年月1日
H7: 基準月 | L7: 補助事業実施事業所の 所定内給与支給総額 （常時使用する従業員のみ） | R7: 補助事業実施事業所の 常時使用する従業員数 | W7: 平均所定内給与 支給額 | AB7: 増加率
C8: 賃上げ前 （実績報告の前月の 前年同月） | H8: =IFERROR(EOMONTH(H9,-12),"") | L8: =SUM(K24:O323) -> 0 | Q8: 円 | R8: =COUNTA(D24:J323) -> 0 | V8: 人 | W8: =IFERROR(L8/R8,"") | AA8: 円
C9: 賃上げ後 （実績報告月の 前月） | H9: =IFERROR(EOMONTH(AH5,-1),"") | L9: =SUM(Z24:AD323) -> 0 | Q9: 円 | R9: =COUNTA(S24:Y323) -> 0 | V9: 人 | W9: =IFERROR(L9/R9,"") | AA9: 円 | AB9: =IFERROR((W9/W8-1)*100,"") | AE9: %
AH10: =(W9-W8)/W8*100 -> #VALUE!
C11: 【記載にあたっての留意事項】
C12: ・ 賃上げ前・賃上げ後それぞれの時点の補助事業を実施する事業所の賃金台帳に記載のある常時使用する従業員 （非常勤を含む）を対象とします。
C13: ・ 従業員に支払った賃金のうち、所定内給与に該当するものを記載してください。以下のものは所定内給与に含みません。
D14: 【所定内給与に含まないもの】
E15: 時間外手当、休日出勤手当、深夜勤務手当
E16: 臨時に支払われる賃金（結婚手当、見舞金 等）
E17: 1か月を超える期間ごとに支払われる賃金（賞与 等）
E18: 精皆勤手当、通勤手当、家族手当
C19: ・ 平均所定内給与支給額の増加率が、賃上げ前より3.0％以上増えている場合に要件達成です。
C21: ◆賃上げ前の賃金台帳（ | J21: =H8 | P21: ） | R21: ◆賃上げ後の賃金台帳（ | Y21: =H9 | AE21: ）
D23: 従業員氏名 | K23: 所定内給与支給額 | S23: 従業員氏名 | Z23: 所定内給与支給額
C24: 1 | P24: 円 | R24: 1 | AE24: 円
C25: 2 | P25: 円 | R25: 2 | AE25: 円
C26: 3 | P26: 円 | R26: 3 | AE26: 円
C27: 4 | P27: 円 | R27: 4 | AE27: 円
C28: 5 | P28: 円 | R28: 5 | AE28: 円
C29: 6 | P29: 円 | R29: 6 | AE29: 円
C30: 7 | P30: 円 | R30: 7 | AE30: 円
C31: 8 | P31: 円 | R31: 8 | AE31: 円
C32: 9 | P32: 円 | R32: 9 | AE32: 円
C33: 10 | P33: 円 | R33: 10 | AE33: 円
C34: 11 | P34: 円 | R34: 11 | AE34: 円
C35: 12 | P35: 円 | R35: 12 | AE35: 円
... C323: 300 | P323: 円 | R323: 300 | AE323: 円

Sheet ×編集禁止×
B1: 前年同月 | C1: 支給総額 | D1: 従業員数 | E1: 平均支給額 | F1: 実績報告月の前月 | G1: 支給総額 | H1: 従業員数 | I1: 平均支給額 | J1: 賃金増加率
B2: =指定様式5!H8 | C2: =指定様式5!L8 -> 0 | D2: =指定様式5!R8 -> 0 | E2: =指定様式5!W8 | F2: =指定様式5!H9 | G2: =指定様式5!L9 -> 0 | H2: =指定様式5!R9 -> 0 | I2: =指定様式5!W9 | J2: =指定様式5!AB9
