Workbook

Sheet 様式第6号（実績報告書）
C1: 様式第６号（第９条関係）
B4: 埼玉県中小企業省力化支援事業補助金 実績報告書
X8: 令和 | AA8: 年 | AD8: 月 | AG8: 日 | AJ8: =X8&Z8&AA8&AB8&AD8&AE8&AG8 -> 令和年月日
D10: 埼玉県知事
J13: 申請者 | N13: 住所 | T13: ='様式第12号（結果報告書）'!M10 -> 0
N15: 法人名又は屋号 | T15: ='様式第12号（結果報告書）'!M6 -> 0
N16: 代表者職・氏名 | T16: ='様式第12号（結果報告書）'!O9&" "&'様式第12号（結果報告書）'!Y9
D19: 令和 | G19: 年 | I19: 月 | L19: 日付け経金第 | U19: 号で交付決定の通知を受けた
C20: 補助事業が完了しましたので、埼玉県中小企業省力化支援事業補助金交付
C21: 要綱第９条の規定により、関係書類を添えて、下記のとおり報告します。
B23: 記
C25: １ | D25: 補助事業の内容
D26: 別添のとおり
C28: ２ | D28: 補助事業の区分
D29: ※該当区分を選択 | AJ29: =IF(D31="○","新規導入",IF(D32="○","新規導入",IF(D33="○","新規導入",IF(D34="○","設備更新",IF(D35="○","設備更新",IF(D36="○","設備更新")))))) -> FALSE
D30: 選択 | E30: 事業区分 | J30: 要件 | R30: 補助率・補助額 | AJ30: =IF(D31="○","人手不足",IF(D32="○","賃上げ",IF(D33="○","人手不足＋賃上げ",IF(D34="○","人手不足",IF(D35="○","賃上げ",IF(D36="○","人手不足＋賃上げ")))))) -> FALSE
E31: 新規導入 | J31: 人手不足 | R31: 補助率2/3以内、補助額15万円～1,000万円
E32: 新規導入 | J32: 賃上げ | R32: 補助率4/5以内、補助額15万円～1,200万円
E33: 新規導入 | J33: 人手不足＋賃上げ
E34: 設備更新 | J34: 人手不足 | R34: 補助率2/3以内、補助額15万円～1,000万円
E35: 設備更新 | J35: 賃上げ | R35: 補助率4/5以内、補助額15万円～1,200万円
E36: 設備更新 | J36: 人手不足＋賃上げ
C38: ３ | D38: 補助事業に要した経費
D39: 金 | F39: =IF(OR('様式第12号（結果報告書）'!AA187="",'様式第12号（結果報告書）'!AA187=0),"",'様式第12号（結果報告書）'!AA187) | M39: 円

Sheet 様式第12号（結果報告書）
B1: 様式第１２号（第７条関係）
B2: 埼玉県中小企業省力化支援事業補助金 補助事業結果報告書（新規導入）
C4: ◆ 補助事業者の概要
C5: （フリガナ） | M5: （ | AI5: ）
C6: 法人名 または 屋号 （法人の場合は株式会社等を含めた正式名称）
C7: 事業形態 | U7: その他を選択した場合（ | AI7: ）
C8: 法人番号（13桁） | Z8: （個人事業主は無記入）
C9: 代表者 職名・氏名 | M9: 職名 | W9: 氏名
C10: 本社所在地 [登記簿上の本店所在地] （個人事業主の場合は住民票上の住所 ）
C11: 主たる事業所 （個人事業主の場合は主たる事務所） | M11: ＜本社所在地（個人事業主の場合は住民票上の住所）が県内にある場合は記載不要＞
C13: 補助事業を実施した 事業所の所在地 | M13: ＜本社所在地と同じ場合は記載不要＞
C15: 担当者 | I15: 氏名 | P15: 電話 | X15: メールアドレス
C17: ◆ 補助事業を実施した事業所の従業員数
C18: 役員・個人事業主 | AC18: 人
C19: 従業員 | F19: 正規従業員 | AC19: 人
F20: 非正規 従業員 (常勤換算) | I20: アルバイト・パート等で、予め解雇の予告を必要とする者 | AC20: 人
I21: 日雇い被雇用者で、１か月を超えて勤務している者 | AC21: 人
I22: ２か月以内の期間被雇用者で、当初の雇用期間を超えて勤務している者 | AC22: 人
I23: ４か月以内の季節的被雇用者で、当初の雇用期間を超えて勤務している者 | AC23: 人
I24: 試み試用期間中の者で、14日を超えて勤務している者 | AC24: 人
C25: 従業員合計 | AA25: =IF(SUM(AA19:AB24)=0,"",SUM(AA19:AB24)) | AC25: 人
C26: 合計 | AA26: =IF(SUM(AA18,AA25)=0,"",SUM(AA18,AA25)) | AC26: 人
B28: ◆ 補助事業の完了日
D29: 令和 | H29: 年 | K29: 月 | N29: 日 | AL29: =D29&F29&H29&I29&K29&L29&N29 -> 令和年月日
B31: ◆計画テーマ
C34: ◆ 導入した省力化製品の概要
C35: 導入した省力化製品について、仕様・特徴、運用イメージなどを記載してください。
C36: 製品カテゴリ 番号 | F36: 製品カテゴリ名 | K36: 製品名 | R36: 製品の概要 ※仕様・特徴、運用イメージなどを簡潔に記載してください。
B45: １ 補助事業の実績、成果
B46: （１）省力化の効果
C47: 補助事業実施前の状況と、補助事業の実施によって実現した省力化の効果の詳細を記載してください。
C48: 事業実施前の 状況 | E48: （400字以内）※自社の事業で、事業実施前にどの業務プロセスで省力化が必要だったのか分かるように記載してください。 | AG48: =LEN(SUBSTITUTE(E49,CHAR(10),"")) -> 0 | AI48: 字
C53: 事業実施後の 省力化の効果 | E53: （400字以内） ※事業実施により実現した省力化の効果（残業時間の減少、人手不足の緩和、人員の効率的な配置や高付加価値業務へのシフト等）を具体的に記載してください。 | AG53: =LEN(SUBSTITUTE(E54,CHAR(10),"")) -> 0 | AI53: 字
B59: （２）削減労働時間
C60: 補助事業を実施した事業所全体の一月当たりの削減労働時間及び積算根拠の実績を記載してください。
C61: 【積算根拠（実績）】
C62: 事業 実施前 実績 （a） | G62: 業務に要した時間 | M62: ※本補助事業の対象とした業務の補助事業実施前の労働時間（月間）の積算根拠を記載してください。
K63: 時間
C68: 事業 実施後 実績 （b） | G68: 業務に要した時間 | M68: ※本補助事業の対象とした業務の補助事業事業実施後の労働時間（月間）の積算根拠を記載してください。
K69: 時間
...

Sheet ×編集不可×
B1: 実績報告日 | C1: 事業者名 | D1: フリガナ | E1: 事業形態 | F1: その他の形態 | G1: 法人番号 | H1: 代表者職名 | I1: 代表者氏名 | J1: 本社所在地 | K1: 主たる事業所 | L1: 補助事業実施事業所 | M1: 担当者氏名 | N1: 電話 | O1: メールアドレス | P1: 補助事業の区分 | Q1: 要件 | R1: 経費 | S1: 役員・個人事業主 | T1: 正規従業員 | U1: アルバイト・パート等で、予め解雇の予告を必要とする者 | V1: 日雇い被雇用者で、１か月を超えて勤務している者 | W1: ２か月以内の期間被雇用者で、当初の雇用期間を超えて勤務している者 | X1: ４か月以内の季節的被雇用者で、当初の雇用期間を超えて勤務している者 | Y1: 試み試用期間中の者で、14日を超えて勤務している者 | Z1: 常時使用する従業員合計 | AA1: 合計 | AB1: 事業完了日 | AC1: 実施前の状況 | AD1: 実施後の効果 | AE1: 実施前所要時間 | AF1: 実施前根拠 | AG1: 実施後所要時間 | AH1: 実施後根拠 | AI1: 削減労働時間 | AJ1: 1人当たり | AK1: 計画時削減労働時間 | AL1: 計画比 | AM1: 達成状況 | AN1: 未達成の理由 | AO1: その他の効果 | AP1: 製品名称等 | AQ1: 支払先 | AR1: 見積書金額 | AS1: 見積書日付 | AT1: 発注書金額 | AU1: 発注書日付 | AV1: 納品書金額 | AW1: 納品書日付 | AX1: 請求書金額 | AY1: 請求書日付 | AZ1: 支払金額 | BA1: 支払日付 | BB1: 支払方法 | BC1: 製品名称等 | BD1: 支払先 | BE1: 見積書金額 | BF1: 見積書日付 | BG1: 発注書金額 | BH1: 発注書日付 | BI1: 納品書金額 | BJ1: 納品書日付 | BK1: 請求書金額 | BL1: 請求書日付 | BM1: 支払金額 | BN1: 支払日付 | BO1: 支払方法 | BP1: 製品名称等 | BQ1: 支払先 | BR1: 見積書金額 | BS1: 見積書日付 | BT1: 発注書金額 | BU1: 発注書日付 | BV1: 納品書金額 | BW1: 納品書日付 | BX1: 請求書金額 | BY1: 請求書日付 | BZ1: 支払金額 | CA1: 支払日付 | CB1: 支払方法 | CC1: 製品名称等 | CD1: 支払先 | CE1: 見積書金額 | CF1: 見積書日付 | CG1: 発注書金額 | CH1: 発注書日付 | CI1: 納品書金額 | CJ1: 納品書日付 | CK1: 請求書金額 | CL1: 請求書日付 | CM1: 支払金額 | CN1: 支払日付 | CO1: 支払方法 | CP1: 製品名称等 | CQ1: 支払先 | CR1: 見積書金額 | CS1: 見積書日付 | CT1: 発注書金額 | CU1: 発注書日付 | CV1: 納品書金額 | CW1: 納品書日付 | CX1: 請求書金額 | CY1: 請求書日付 | CZ1: 支払金額 | DA1: 支払日付 | DB1: 支払方法 | DC1: 製品名称等 | DD1: 支払先 | DE1: 見積書金額 | DF1: 見積書日付 | DG1: 発注書金額 | DH1: 発注書日付 | DI1: 納品書金額 | DJ1: 納品書日付 | DK1: 請求書金額 | DL1: 請求書日付 | DM1: 支払金額 | DN1: 支払日付 | DO1: 支払方法 | DP1: 製品名称等 | DQ1: 支払先 | DR1: 見積書金額 | DS1: 見積書日付 | DT1: 発注書金額 | DU1: 発注書日付 | DV1: 納品書金額 | DW1: 納品書日付 | DX1: 請求書金額 | DY1: 請求書日付 | DZ1: 支払金額 | EA1: 支払日付 | EB1: 支払方法 | EC1: 製品名称等 | ED1: 支払先 | EE1: 見積書金額 | EF1: 見積書日付 | EG1: 発注書金額 | EH1: 発注書日付 | EI1: 納品書金額 | EJ1: 納品書日付 | EK1: 請求書金額 | EL1: 請求書日付 | EM1: 支払金額 | EN1: 支払日付 | EO1: 支払方法 | EP1: 製品名称等 | EQ1: 支払先 | ER1: 見積書金額 | ES1: 見積書日付 | ET1: 発注書金額 | EU1: 発注書日付 | EV1: 納品書金額 | EW1: 納品書日付 | EX1: 請求書金額 | EY1: 請求書日付 | EZ1: 支払金額 | FA1: 支払日付 | FB1: 支払方法 | FC1: 製品名称等 | FD1: 支払先 | FE1: 見積書金額 | FF1: 見積書日付 | FG1: 発注書金額 | FH1: 発注書日付 | FI1: 納品書金額 | FJ1: 納品書日付 | FK1: 請求書金額 | FL1: 請求書日付 | FM1: 支払金額 | FN1: 支払日付 | FO1: 支払方法 | FP1: 製品名称等 | FQ1: 支払先 | FR1: 見積書金額 | FS1: 見積書日付 | FT1: 発注書金額 | FU1: 発注書日付 | FV1: 納品書金額 | FW1: 納品書日付 | FX1: 請求書金額 | FY1: 請求書日付 | FZ1: 支払金額 | GA1: 支払日付 | GB1: 支払方法 | GC1: 製品名称等 | GD1: 支払先 | GE1: 見積書金額 | GF1: 見積書日付 | GG1: 発注書金額 | GH1: 発注書日付 | GI1: 納品書金額 | GJ1: 納品書日付 | GK1: 請求書金額 | GL1: 請求書日付 | GM1: 支払金額 | GN1: 支払日付 | GO1: 支払方法 | GP1: 製品名称等 | GQ1: 支払先 | GR1: 見積書金額 | GS1: 見積書日付 | GT1: 発注書金額 | GU1: 発注書日付 | GV1: 納品書金額 | GW1: 納品書日付 | GX1: 請求書金額 | GY1: 請求書日付 | GZ1: 支払金額 | HA1: 支払日付 | HB1: 支払方法 | HC1: 製品名称等 | HD1: 支払先 | HE1: 見積書金額 | HF1: 見積書日付 | HG1: 発注書金額 | HH1: 発注書日付 | HI1: 納品書金額 | HJ1: 納品書日付 | HK1: 請求書金額 | HL1: 請求書日付 | HM1: 支払金額 | HN1: 支払日付 | HO1: 支払方法 | HP1: 製品名称等 | HQ1: 支払先 | HR1: 見積書金額 | HS1: 見積書日付 | HT1: 発注書金額 | HU1: 発注書日付 | HV1: 納品書金額 | HW1: 納品書日付 | HX1: 請求書金額 | HY1: 請求書日付 | HZ1: 支払金額 | IA1: 支払日付 | IB1: 支払方法 | IC1: 製品名称等 | ID1: 支払先 | IE1: 見積書金額 | IF1: 見積書日付 | IG1: 発注書金額 | IH1: 発注書日付 | II1: 納品書金額 | IJ1: 納品書日付 | IK1: 請求書金額 | IL1: 請求書日付 | IM1: 支払金額 | IN1: 支払日付 | IO1: 支払方法 | IP1: 製品名称等 | IQ1: 支払先 | IR1: 見積書金額 | IS1: 見積書日付 | IT1: 発注書金額 | IU1: 発注書日付 | IV1: 納品書金額 | IW1: 納品書日付 | IX1: 請求書金額 | IY1: 請求書日付 | IZ1: 支払金額 | JA1: 支払日付 | JB1: 支払方法 | JC1: 製品名称等 | JD1: 支払先 | JE1: 見積書金額 | JF1: 見積書日付 | JG1: 発注書金額 | JH1: 発注書日付 | JI1: 納品書金額 | JJ1: 納品書日付 | JK1: 請求書金額 | JL1: 請求書日付 | JM1: 支払金額 | JN1: 支払日付 | JO1: 支払方法 | JP1: 製品名称等 | JQ1: 支払先 | JR1: 見積書金額 | JS1: 見積書日付 | JT1: 発注書金額 | JU1: 発注書日付 | JV1: 納品書金額 | JW1: 納品書日付 | JX1: 請求書金額 | JY1: 請求書日付 | JZ1: 支払金額 | KA1: 支払日付 | KB1: 支払方法 | KC1: 製品名称等 | KD1: 支払先 | KE1: 見積書金額 | KF1: 見積書日付 | KG1: 発注書金額 | KH1: 発注書日付 | KI1: 納品書金額 | KJ1: 納品書日付 | KK1: 請求書金額 | KL1: 請求書日付 | KM1: 支払金額 | KN1: 支払日付 | KO1: 支払方法 | KP1: 製品名称等 | KQ1: 支払先 | KR1: 見積書金額 | KS1: 見積書日付 | KT1: 発注書金額 | KU1: 発注書日付 | KV1: 納品書金額 | KW1: 納品書日付 | KX1: 請求書金額 | KY1: 請求書日付 | KZ1: 支払金額 | LA1: 支払日付 | LB1: 支払方法 | LC1: 製品名称等 | LD1: 支払先 | LE1: 見積書金額 | LF1: 見積書日付 | LG1: 発注書金額 | LH1: 発注書日付 | LI1: 納品書金額 | LJ1: 納品書日付 | LK1: 請求書金額 | LL1: 請求書日付 | LM1: 支払金額 | LN1: 支払日付 | LO1: 支払方法 | LP1: 製品名称等 | LQ1: 支払先 | LR1: 見積書金額 | LS1: 見積書日付 | LT1: 発注書金額 | LU1: 発注書日付 | LV1: 納品書金額 | LW1: 納品書日付 | LX1: 請求書金額 | LY1: 請求書日付 | LZ1: 支払金額 | MA1: 支払日付 | MB1: 支払方法 | MC1: 製品名称等 | MD1: 支払先 | ME1: 見積書金額 | MF1: 見積書日付 | MG1: 発注書金額 | MH1: 発注書日付 | MI1: 納品書金額 | MJ1: 納品書日付 | MK1: 請求書金額 | ML1: 請求書日付 | MM1: 支払金額 | MN1: 支払日付 | MO1: 支払方法 | MP1: 製品名称等 | MQ1: 支払先 | MR1: 見積書金額 | MS1: 見積書日付 | MT1: 発注書金額 | MU1: 発注書日付 | MV1: 納品書金額 | MW1: 納品書日付 | MX1: 請求書金額 | MY1: 請求書日付 | MZ1: 支払金額 | NA1: 支払日付 | NB1: 支払方法 | NC1: 製品名称等 | ND1: 支払先 | NE1: 見積書金額 | NF1: 見積書日付 | NG1: 発注書金額 | NH1: 発注書日付 | NI1: 納品書金額 | NJ1: 納品書日付 | NK1: 請求書金額 | NL1: 請求書日付 | NM1: 支払金額 | NN1: 支払日付 | NO1: 支払方法 | NP1: 製品名称等 | NQ1: 支払先 | NR1: 見積書金額 | NS1: 見積書日付 | NT1: 発注書金額 | NU1: 発注書日付 | NV1: 納品書金額 | NW1: 納品書日付 | NX1: 請求書金額 | NY1: 請求書日付 | NZ1: 支払金額 | OA1: 支払日付 | OB1: 支払方法 | OC1: 製品名称等 | OD1: 支払先 | OE1: 見積書金額 | OF1: 見積書日付 | OG1: 発注書金額 | OH1: 発注書日付 | OI1: 納品書金額 | OJ1: 納品書日付 | OK1: 請求書金額 | OL1: 請求書日付 | OM1: 支払金額 | ON1: 支払日付 | OO1: 支払方法 | OP1: 製品名称等 | OQ1: 支払先 | OR1: 見積書金額 | OS1: 見積書日付 | OT1: 発注書金額 | OU1: 発注書日付 | OV1: 納品書金額 | OW1: 納品書日付 | OX1: 請求書金額 | OY1: 請求書日付 | OZ1: 支払金額 | PA1: 支払日付 | PB1: 支払方法 | PC1: 製品名称等 | PD1: 支払先 | PE1: 見積書金額 | PF1: 見積書日付 | PG1: 発注書金額 | PH1: 発注書日付 | PI1: 納品書金額 | PJ1: 納品書日付 | PK1: 請求書金額 | PL1: 請求書日付 | PM1: 支払金額 | PN1: 支払日付 | PO1: 支払方法 | PP1: 製品名称等 | PQ1: 支払先 | PR1: 見積書金額 | PS1: 見積書日付 | PT1: 発注書金額 | PU1: 発注書日付 | PV1: 納品書金額 | PW1: 納品書日付 | PX1: 請求書金額 | PY1: 請求書日付 | PZ1: 支払金額 | QA1: 支払日付 | QB1: 支払方法 | QC1: 製品名称等 | QD1: 支払先 | QE1: 見積書金額 | QF1: 見積書日付 | QG1: 発注書金額 | QH1: 発注書日付 | QI1: 納品書金額 | QJ1: 納品書日付 | QK1: 請求書金額 | QL1: 請求書日付 | QM1: 支払金額 | QN1: 支払日付 | QO1: 支払方法 | QP1: 製品名称等 | QQ1: 支払先 | QR1: 見積書金額 | QS1: 見積書日付 | QT1: 発注書金額 | QU1: 発注書日付 | QV1: 納品書金額 | QW1: 納品書日付 | QX1: 請求書金額 | QY1: 請求書日付 | QZ1: 支払金額 | RA1: 支払日付 | RB1: 支払方法 | RC1: 製品名称等 | RD1: 支払先 | RE1: 見積書金額 | RF1: 見積書日付 | RG1: 発注書金額 | RH1: 発注書日付 | RI1: 納品書金額 | RJ1: 納品書日付 | RK1: 請求書金額 | RL1: 請求書日付 | RM1: 支払金額 | RN1: 支払日付 | RO1: 支払方法 | RP1: 製品名称等 | RQ1: 支払先 | RR1: 見積書金額 | RS1: 見積書日付 | RT1: 発注書金額 | RU1: 発注書日付 | RV1: 納品書金額 | RW1: 納品書日付 | RX1: 請求書金額 | RY1: 請求書日付 | RZ1: 支払金額 | SA1: 支払日付 | SB1: 支払方法 | SC1: ア・イ合計 | SD1: ウ～キ合計 | SE1: 合計 | SF1: 1/2判定 | SG1: 対象経費 | SH1: 補助額（3/4） | SI1: 補助額（4/5）
B2: ='様式第6号（実績報告書）'!AJ8 -> 令和年月日 | C2: ='様式第12号（結果報告書）'!M6 -> 0 | D2: ='様式第12号（結果報告書）'!N5 -> 0 | E2: ='様式第12号（結果報告書）'!M7 -> 0 | F2: ='様式第12号（結果報告書）'!AA7 -> 0 | G2: ='様式第12号（結果報告書）'!M8 -> 0 | H2: ='様式第12号（結果報告書）'!O9 -> 0 | I2: ='様式第12号（結果報告書）'!Y9 -> 0 | J2: ='様式第12号（結果報告書）'!M10 -> 0 | K2: ='様式第12号（結果報告書）'!M12 -> 0 | L2: ='様式第12号（結果報告書）'!M14 -> 0 | M2: ='様式第12号（結果報告書）'!K15 -> 0 | N2: ='様式第12号（結果報告書）'!R15 -> 0 | O2: ='様式第12号（結果報告書）'!AA15 -> 0 | P2: ='様式第6号（実績報告書）'!AJ29 -> FALSE | Q2: ='様式第6号（実績報告書）'!AJ30 -> FALSE | R2: ='様式第6号（実績報告書）'!F39 | S2: ='様式第12号（結果報告書）'!AA18 -> 0 | T2: ='様式第12号（結果報告書）'!AA19 -> 0 | U2: ='様式第12号（結果報告書）'!AA20 -> 0 | V2: ='様式第12号（結果報告書）'!AA21 -> 0 | W2: ='様式第12号（結果報告書）'!AA22 -> 0 | X2: ='様式第12号（結果報告書）'!AA23 -> 0 | Y2: ='様式第12号（結果報告書）'!AA24 -> 0 | Z2: ='様式第12号（結果報告書）'!AA25 | AA2: ='様式第12号（結果報告書）'!AA26 | AB2: ='様式第12号（結果報告書）'!AL29 -> 令和年月日 | AC2: ='様式第12号（結果報告書）'!E49 -> 0 | AD2: ='様式第12号（結果報告書）'!E54 -> 0 | AE2: ='様式第12号（結果報告書）'!G63 -> 0 | AF2: ='様式第12号（結果報告書）'!M63 -> 0 | AG2: ='様式第12号（結果報告書）'!G69 -> 0 | AH2: ='様式第12号（結果報告書）'!M69 -> 0 | AI2: ='様式第12号（結果報告書）'!G75 | AJ2: ='様式第12号（結果報告書）'!U75 | AK2: ='様式第12号（結果報告書）'!G79 -> 0 | AL2: ='様式第12号（結果報告書）'!P79 | AM2: ='様式第12号（結果報告書）'!C85 | AN2: ='様式第12号（結果報告書）'!F85 -> 0 | AO2: ='様式第12号（結果報告書）'!C90 -> 0 | AP2: ='様式第12号（結果報告書）'!G100 -> 0 | AQ2: ='様式第12号（結果報告書）'!M100 -> 0 | AR2: ='様式第12号（結果報告書）'!R100 -> 0 | AS2: ='様式第12号（結果報告書）'!R101 -> 0 | AT2: ='様式第12号（結果報告書）'!U100 -> 0 | AU2: ='様式第12号（結果報告書）'!U101 -> 0 | AV2: ='様式第12号（結果報告書）'!X100 -> 0 | AW2: ='様式第12号（結果報告書）'!X101 -> 0 | AX2: ='様式第12号（結果報告書）'!AA100 -> 0 | AY2: ='様式第12号（結果報告書）'!AA101 -> 0 | AZ2: ='様式第12号（結果報告書）'!AD100 -> 0 | BA2: ='様式第12号（結果報告書）'!AD101 -> 0 | BB2: ='様式第12号（結果報告書）'!AG100 -> 0 | BC2: ='様式第12号（結果報告書）'!G102 -> 0 | BD2: ='様式第12号（結果報告書）'!M102 -> 0 | BE2: ='様式第12号（結果報告書）'!R102 -> 0 | BF2: ='様式第12号（結果報告書）'!R103 -> 0 | BG2: ='様式第12号（結果報告書）'!U102 -> 0 | BH2: ='様式第12号（結果報告書）'!U103 -> 0 | BI2: ='様式第12号（結果報告書）'!X102 -> 0 | BJ2: ='様式第12号（結果報告書）'!X103 -> 0 | BK2: ='様式第12号（結果報告書）'!AA102 -> 0 | BL2: ='様式第12号（結果報告書）'!AA103 -> 0 | BM2: ='様式第12号（結果報告書）'!AD102 -> 0 | BN2: ='様式第12号（結果報告書）'!AD103 -> 0 | BO2: ='様式第12号（結果報告書）'!AG102 -> 0 | BP2: ='様式第12号（結果報告書）'!G104 -> 0 | BQ2: ='様式第12号（結果報告書）'!M104 -> 0 | BR2: ='様式第12号（結果報告書）'!R104 -> 0 | BS2: ='様式第12号（結果報告書）'!R105 -> 0 | BT2: ='様式第12号（結果報告書）'!U104 -> 0 | BU2: ='様式第12号（結果報告書）'!U105 -> 0 | BV2: ='様式第12号（結果報告書）'!X104 -> 0 | BW2: ='様式第12号（結果報告書）'!X105 -> 0 | BX2: ='様式第12号（結果報告書）'!AA104 -> 0 | BY2: ='様式第12号（結果報告書）'!AA105 -> 0 | BZ2: ='様式第12号（結果報告書）'!AD104 -> 0 | CA2: ='様式第12号（結果報告書）'!AD105 -> 0 | CB2: ='様式第12号（結果報告書）'!AG104 -> 0 | CC2: ='様式第12号（結果報告書）'!G106 -> 0 | CD2: ='様式第12号（結果報告書）'!M106 -> 0 | CE2: ='様式第12号（結果報告書）'!R106 -> 0 | CF2: ='様式第12号（結果報告書）'!R107 -> 0 | CG2: ='様式第12号（結果報告書）'!U106 -> 0 | CH2: ='様式第12号（結果報告書）'!U107 -> 0 | CI2: ='様式第12号（結果報告書）'!X106 -> 0 | CJ2: ='様式第12号（結果報告書）'!X107 -> 0 | CK2: ='様式第12号（結果報告書）'!AA106 -> 0 | CL2: ='様式第12号（結果報告書）'!AA107 -> 0 | CM2: ='様式第12号（結果報告書）'!AD106 -> 0 | CN2: ='様式第12号（結果報告書）'!AD107 -> 0 | CO2: ='様式第12号（結果報告書）'!AG106 -> 0 | CP2: ='様式第12号（結果報告書）'!G108 -> 0 | CQ2: ='様式第12号（結果報告書）'!M108 -> 0 | CR2: ='様式第12号（結果報告書）'!R108 -> 0 | CS2: ='様式第12号（結果報告書）'!R109 -> 0 | CT2: ='様式第12号（結果報告書）'!U108 -> 0 | CU2: ='様式第12号（結果報告書）'!U109 -> 0 | CV2: ='様式第12号（結果報告書）'!X108 -> 0 | CW2: ='様式第12号（結果報告書）'!X109 -> 0 | CX2: ='様式第12号（結果報告書）'!AA108 -> 0 | CY2: ='様式第12号（結果報告書）'!AA109 -> 0 | CZ2: ='様式第12号（結果報告書）'!AD108 -> 0 | DA2: ='様式第12号（結果報告書）'!AD109 -> 0 | DB2: ='様式第12号（結果報告書）'!AG108 -> 0 | DC2: ='様式第12号（結果報告書）'!G111 -> 0 | DD2: ='様式第12号（結果報告書）'!M111 -> 0 | DE2: ='様式第12号（結果報告書）'!R111 -> 0 | DF2: ='様式第12号（結果報告書）'!R112 -> 0 | DG2: ='様式第12号（結果報告書）'!U111 -> 0 | DH2: ='様式第12号（結果報告書）'!U112 -> 0 | DI2: ='様式第12号（結果報告書）'!X111 -> 0 | DJ2: ='様式第12号（結果報告書）'!X112 -> 0 | DK2: ='様式第12号（結果報告書）'!AA111 -> 0 | DL2: ='様式第12号（結果報告書）'!AA112 -> 0 | DM2: ='様式第12号（結果報告書）'!AD111 -> 0 | DN2: ='様式第12号（結果報告書）'!AD112 -> 0 | DO2: ='様式第12号（結果報告書）'!AG111 -> 0 | DP2: ='様式第12号（結果報告書）'!G113 -> 0 | DQ2: ='様式第12号（結果報告書）'!M113 -> 0 | DR2: ='様式第12号（結果報告書）'!R113 -> 0 | DS2: ='様式第12号（結果報告書）'!R114 -> 0 | DT2: ='様式第12号（結果報告書）'!U113 -> 0 | DU2: ='様式第12号（結果報告書）'!U114 -> 0 | DV2: ='様式第12号（結果報告書）'!X113 -> 0 | DW2: ='様式第12号（結果報告書）'!X114 -> 0 | DX2: ='様式第12号（結果報告書）'!AA113 -> 0 | DY2: ='様式第12号（結果報告書）'!AA114 -> 0 | DZ2: ='様式第12号（結果報告書）'!AD113 -> 0 | EA2: ='様式第12号（結果報告書）'!AD114 -> 0 | EB2: ='様式第12号（結果報告書）'!AG113 -> 0 | EC2: ='様式第12号（結果報告書）'!G115 -> 0 | ED2: ='様式第12号（結果報告書）'!M115 -> 0 | EE2: ='様式第12号（結果報告書）'!R115 -> 0 | EF2: ='様式第12号（結果報告書）'!R116 -> 0 | EG2: ='様式第12号（結果報告書）'!U115 -> 0 | EH2: ='様式第12号（結果報告書）'!U116 -> 0 | EI2: ='様式第12号（結果報告書）'!X115 -> 0 | EJ2: ='様式第12号（結果報告書）'!X116 -> 0 | EK2: ='様式第12号（結果報告書）'!AA115 -> 0 | EL2: ='様式第12号（結果報告書）'!AA116 -> 0 | EM2: ='様式第12号（結果報告書）'!AD115 -> 0 | EN2: ='様式第12号（結果報告書）'!AD116 -> 0 | EO2: ='様式第12号（結果報告書）'!AG115 -> 0 | EP2: ='様式第12号（結果報告書）'!G117 -> 0 | EQ2: ='様式第12号（結果報告書）'!M117 -> 0 | ER2: ='様式第12号（結果報告書）'!R117 -> 0 | ES2: ='様式第12号（結果報告書）'!R118 -> 0 | ET2: ='様式第12号（結果報告書）'!U117 -> 0 | EU2: ='様式第12号（結果報告書）'!U118 -> 0 | EV2: ='様式第12号（結果報告書）'!X117 -> 0 | EW2: ='様式第12号（結果報告書）'!X118 -> 0 | EX2: ='様式第12号（結果報告書）'!AA117 -> 0 | EY2: ='様式第12号（結果報告書）'!AA118 -> 0 | EZ2: ='様式第12号（結果報告書）'!AD117 -> 0 | FA2: ='様式第12号（結果報告書）'!AD118 -> 0 | FB2: ='様式第12号（結果報告書）'!AG117 -> 0 | FC2: ='様式第12号（結果報告書）'!G119 -> 0 | FD2: ='様式第12号（結果報告書）'!M119 -> 0 | FE2: ='様式第12号（結果報告書）'!R119 -> 0 | FF2: ='様式第12号（結果報告書）'!R120 -> 0 | FG2: ='様式第12号（結果報告書）'!U119 -> 0 | FH2: ='様式第12号（結果報告書）'!U120 -> 0 | FI2: ='様式第12号（結果報告書）'!X119 -> 0 | FJ2: ='様式第12号（結果報告書）'!X120 -> 0 | FK2: ='様式第12号（結果報告書）'!AA119 -> 0 | FL2: ='様式第12号（結果報告書）'!AA120 -> 0 | FM2: ='様式第12号（結果報告書）'!AD119 -> 0 | FN2: ='様式第12号（結果報告書）'!AD120 -> 0 | FO2: ='様式第12号（結果報告書）'!AG119 -> 0 | FP2: ='様式第12号（結果報告書）'!G122 -> 0 | FQ2: ='様式第12号（結果報告書）'!M122 -> 0 | FR2: ='様式第12号（結果報告書）'!R122 -> 0 | FS2: ='様式第12号（結果報告書）'!R123 -> 0 | FT2: ='様式第12号（結果報告書）'!U122 -> 0 | FU2: ='様式第12号（結果報告書）'!U123 -> 0 | FV2: ='様式第12号（結果報告書）'!X122 -> 0 | FW2: ='様式第12号（結果報告書）'!X123 -> 0 | FX2: ='様式第12号（結果報告書）'!AA122 -> 0 | FY2: ='様式第12号（結果報告書）'!AA123 -> 0 | FZ2: ='様式第12号（結果報告書）'!AD122 -> 0 | GA2: ='様式第12号（結果報告書）'!AD123 -> 0 | GB2: ='様式第12号（結果報告書）'!AG122 -> 0 | GC2: ='様式第12号（結果報告書）'!G124 -> 0 | GD2: ='様式第12号（結果報告書）'!M124 -> 0 | GE2: ='様式第12号（結果報告書）'!R124 -> 0 | GF2: ='様式第12号（結果報告書）'!R125 -> 0 | GG2: ='様式第12号（結果報告書）'!U124 -> 0 | GH2: ='様式第12号（結果報告書）'!U125 -> 0 | GI2: ='様式第12号（結果報告書）'!X124 -> 0 | GJ2: ='様式第12号（結果報告書）'!X125 -> 0 | GK2: ='様式第12号（結果報告書）'!AA124 -> 0 | GL2: ='様式第12号（結果報告書）'!AA125 -> 0 | GM2: ='様式第12号（結果報告書）'!AD124 -> 0 | GN2: ='様式第12号（結果報告書）'!AD125 -> 0 | GO2: ='様式第12号（結果報告書）'!AG124 -> 0 | GP2: ='様式第12号（結果報告書）'!G126 -> 0 | GQ2: ='様式第12号（結果報告書）'!M126 -> 0 | GR2: ='様式第12号（結果報告書）'!R126 -> 0 | GS2: ='様式第12号（結果報告書）'!R127 -> 0 | GT2: ='様式第12号（結果報告書）'!U126 -> 0 | GU2: ='様式第12号（結果報告書）'!U127 -> 0 | GV2: ='様式第12号（結果報告書）'!X126 -> 0 | GW2: ='様式第12号（結果報告書）'!X127 -> 0 | GX2: ='様式第12号（結果報告書）'!AA126 -> 0 | GY2: ='様式第12号（結果報告書）'!AA127 -> 0 | GZ2: ='様式第12号（結果報告書）'!AD126 -> 0 | HA2: ='様式第12号（結果報告書）'!AD127 -> 0 | HB2: ='様式第12号（結果報告書）'!AG126 -> 0 | HC2: ='様式第12号（結果報告書）'!G128 -> 0 | HD2: ='様式第12号（結果報告書）'!M128 -> 0 | HE2: ='様式第12号（結果報告書）'!R128 -> 0 | HF2: ='様式第12号（結果報告書）'!R129 -> 0 | HG2: ='様式第12号（結果報告書）'!U128 -> 0 | HH2: ='様式第12号（結果報告書）'!U129 -> 0 | HI2: ='様式第12号（結果報告書）'!X128 -> 0 | HJ2: ='様式第12号（結果報告書）'!X129 -> 0 | HK2: ='様式第12号（結果報告書）'!AA128 -> 0 | HL2: ='様式第12号（結果報告書）'!AA129 -> 0 | HM2: ='様式第12号（結果報告書）'!AD128 -> 0 | HN2: ='様式第12号（結果報告書）'!AD129 -> 0 | HO2: ='様式第12号（結果報告書）'!AG128 -> 0 | HP2: ='様式第12号（結果報告書）'!G130 -> 0 | HQ2: ='様式第12号（結果報告書）'!M130 -> 0 | HR2: ='様式第12号（結果報告書）'!R130 -> 0 | HS2: ='様式第12号（結果報告書）'!R131 -> 0 | HT2: ='様式第12号（結果報告書）'!U130 -> 0 | HU2: ='様式第12号（結果報告書）'!U131 -> 0 | HV2: ='様式第12号（結果報告書）'!X130 -> 0 | HW2: ='様式第12号（結果報告書）'!X131 -> 0 | HX2: ='様式第12号（結果報告書）'!AA130 -> 0 | HY2: ='様式第12号（結果報告書）'!AA131 -> 0 | HZ2: ='様式第12号（結果報告書）'!AD130 -> 0 | IA2: ='様式第12号（結果報告書）'!AD131 -> 0 | IB2: ='様式第12号（結果報告書）'!AG130 -> 0 | IC2: ='様式第12号（結果報告書）'!G133 -> 0 | ID2: ='様式第12号（結果報告書）'!M133 -> 0 | IE2: ='様式第12号（結果報告書）'!R133 -> 0 | IF2: ='様式第12号（結果報告書）'!R134 -> 0 | IG2: ='様式第12号（結果報告書）'!U133 -> 0 | IH2: ='様式第12号（結果報告書）'!U134 -> 0 | II2: ='様式第12号（結果報告書）'!X133 -> 0 | IJ2: ='様式第12号（結果報告書）'!X134 -> 0 | IK2: ='様式第12号（結果報告書）'!AA133 -> 0 | IL2: ='様式第12号（結果報告書）'!AA134 -> 0 | IM2: ='様式第12号（結果報告書）'!AD133 -> 0 | IN2: ='様式第12号（結果報告書）'!AD134 -> 0 | IO2: ='様式第12号（結果報告書）'!AG133 -> 0 | IP2: ='様式第12号（結果報告書）'!G135 -> 0 | IQ2: ='様式第12号（結果報告書）'!M135 -> 0 | IR2: ='様式第12号（結果報告書）'!R135 -> 0 | IS2: ='様式第12号（結果報告書）'!R136 -> 0 | IT2: ='様式第12号（結果報告書）'!U135 -> 0 | IU2: ='様式第12号（結果報告書）'!U136 -> 0 | IV2: ='様式第12号（結果報告書）'!X135 -> 0 | IW2: ='様式第12号（結果報告書）'!X136 -> 0 | IX2: ='様式第12号（結果報告書）'!AA135 -> 0 | IY2: ='様式第12号（結果報告書）'!AA136 -> 0 | IZ2: ='様式第12号（結果報告書）'!AD135 -> 0 | JA2: ='様式第12号（結果報告書）'!AD136 -> 0 | JB2: ='様式第12号（結果報告書）'!AG135 -> 0 | JC2: ='様式第12号（結果報告書）'!G137 -> 0 | JD2: ='様式第12号（結果報告書）'!M137 -> 0 | JE2: ='様式第12号（結果報告書）'!R137 -> 0 | JF2: ='様式第12号（結果報告書）'!R138 -> 0 | JG2: ='様式第12号（結果報告書）'!U137 -> 0 | JH2: ='様式第12号（結果報告書）'!U138 -> 0 | JI2: ='様式第12号（結果報告書）'!X137 -> 0 | JJ2: ='様式第12号（結果報告書）'!X138 -> 0 | JK2: ='様式第12号（結果報告書）'!AA137 -> 0 | JL2: ='様式第12号（結果報告書）'!AA138 -> 0 | JM2: ='様式第12号（結果報告書）'!AD137 -> 0 | JN2: ='様式第12号（結果報告書）'!AD138 -> 0 | JO2: ='様式第12号（結果報告書）'!AG137 -> 0 | JP2: ='様式第12号（結果報告書）'!G139 -> 0 | JQ2: ='様式第12号（結果報告書）'!M139 -> 0 | JR2: ='様式第12号（結果報告書）'!R139 -> 0 | JS2: ='様式第12号（結果報告書）'!R140 -> 0 | JT2: ='様式第12号（結果報告書）'!U139 -> 0 | JU2: ='様式第12号（結果報告書）'!U140 -> 0 | JV2: ='様式第12号（結果報告書）'!X139 -> 0 | JW2: ='様式第12号（結果報告書）'!X140 -> 0 | JX2: ='様式第12号（結果報告書）'!AA139 -> 0 | JY2: ='様式第12号（結果報告書）'!AA140 -> 0 | JZ2: ='様式第12号（結果報告書）'!AD139 -> 0 | KA2: ='様式第12号（結果報告書）'!AD140 -> 0 | KB2: ='様式第12号（結果報告書）'!AG139 -> 0 | KC2: ='様式第12号（結果報告書）'!G141 -> 0 | KD2: ='様式第12号（結果報告書）'!M141 -> 0 | KE2: ='様式第12号（結果報告書）'!R141 -> 0 | KF2: ='様式第12号（結果報告書）'!R142 -> 0 | KG2: ='様式第12号（結果報告書）'!U141 -> 0 | KH2: ='様式第12号（結果報告書）'!U142 -> 0 | KI2: ='様式第12号（結果報告書）'!X141 -> 0 | KJ2: ='様式第12号（結果報告書）'!X142 -> 0 | KK2: ='様式第12号（結果報告書）'!AA141 -> 0 | KL2: ='様式第12号（結果報告書）'!AA142 -> 0 | KM2: ='様式第12号（結果報告書）'!AD141 -> 0 | KN2: ='様式第12号（結果報告書）'!AD142 -> 0 | KO2: ='様式第12号（結果報告書）'!AG141 -> 0 | KP2: ='様式第12号（結果報告書）'!G144 -> 0 | KQ2: ='様式第12号（結果報告書）'!M144 -> 0 | KR2: ='様式第12号（結果報告書）'!R144 -> 0 | KS2: ='様式第12号（結果報告書）'!R145 -> 0 | KT2: ='様式第12号（結果報告書）'!U144 -> 0 | KU2: ='様式第12号（結果報告書）'!U145 -> 0 | KV2: ='様式第12号（結果報告書）'!X144 -> 0 | KW2: ='様式第12号（結果報告書）'!X145 -> 0 | KX2: ='様式第12号（結果報告書）'!AA144 -> 0 | KY2: ='様式第12号（結果報告書）'!AA145 -> 0 | KZ2: ='様式第12号（結果報告書）'!AD144 -> 0 | LA2: ='様式第12号（結果報告書）'!AD145 -> 0 | LB2: ='様式第12号（結果報告書）'!AG144 -> 0 | LC2: ='様式第12号（結果報告書）'!G146 -> 0 | LD2: ='様式第12号（結果報告書）'!M146 -> 0 | LE2: ='様式第12号（結果報告書）'!R146 -> 0 | LF2: ='様式第12号（結果報告書）'!R147 -> 0 | LG2: ='様式第12号（結果報告書）'!U146 -> 0 | LH2: ='様式第12号（結果報告書）'!U147 -> 0 | LI2: ='様式第12号（結果報告書）'!X146 -> 0 | LJ2: ='様式第12号（結果報告書）'!X147 -> 0 | LK2: ='様式第12号（結果報告書）'!AA146 -> 0 | LL2: ='様式第12号（結果報告書）'!AA147 -> 0 | LM2: ='様式第12号（結果報告書）'!AD146 -> 0 | LN2: ='様式第12号（結果報告書）'!AD147 -> 0 | LO2: ='様式第12号（結果報告書）'!AG146 -> 0 | LP2: ='様式第12号（結果報告書）'!G148 -> 0 | LQ2: ='様式第12号（結果報告書）'!M148 -> 0 | LR2: ='様式第12号（結果報告書）'!R148 -> 0 | LS2: ='様式第12号（結果報告書）'!R149 -> 0 | LT2: ='様式第12号（結果報告書）'!U148 -> 0 | LU2: ='様式第12号（結果報告書）'!U149 -> 0 | LV2: ='様式第12号（結果報告書）'!X148 -> 0 | LW2: ='様式第12号（結果報告書）'!X149 -> 0 | LX2: ='様式第12号（結果報告書）'!AA148 -> 0 | LY2: ='様式第12号（結果報告書）'!AA149 -> 0 | LZ2: ='様式第12号（結果報告書）'!AD148 -> 0 | MA2: ='様式第12号（結果報告書）'!AD149 -> 0 | MB2: ='様式第12号（結果報告書）'!AG148 -> 0 | MC2: ='様式第12号（結果報告書）'!G150 -> 0 | MD2: ='様式第12号（結果報告書）'!M150 -> 0 | ME2: ='様式第12号（結果報告書）'!R150 -> 0 | MF2: ='様式第12号（結果報告書）'!R151 -> 0 | MG2: ='様式第12号（結果報告書）'!U150 -> 0 | MH2: ='様式第12号（結果報告書）'!U151 -> 0 | MI2: ='様式第12号（結果報告書）'!X150 -> 0 | MJ2: ='様式第12号（結果報告書）'!X151 -> 0 | MK2: ='様式第12号（結果報告書）'!AA150 -> 0 | ML2: ='様式第12号（結果報告書）'!AA151 -> 0 | MM2: ='様式第12号（結果報告書）'!AD150 -> 0 | MN2: ='様式第12号（結果報告書）'!AD151 -> 0 | MO2: ='様式第12号（結果報告書）'!AG150 -> 0 | MP2: ='様式第12号（結果報告書）'!G152 -> 0 | MQ2: ='様式第12号（結果報告書）'!M152 -> 0 | MR2: ='様式第12号（結果報告書）'!R152 -> 0 | MS2: ='様式第12号（結果報告書）'!R153 -> 0 | MT2: ='様式第12号（結果報告書）'!U152 -> 0 | MU2: ='様式第12号（結果報告書）'!U153 -> 0 | MV2: ='様式第12号（結果報告書）'!X152 -> 0 | MW2: ='様式第12号（結果報告書）'!X153 -> 0 | MX2: ='様式第12号（結果報告書）'!AA152 -> 0 | MY2: ='様式第12号（結果報告書）'!AA153 -> 0 | MZ2: ='様式第12号（結果報告書）'!AD152 -> 0 | NA2: ='様式第12号（結果報告書）'!AD153 -> 0 | NB2: ='様式第12号（結果報告書）'!AG152 -> 0 | NC2: ='様式第12号（結果報告書）'!G155 -> 0 | ND2: ='様式第12号（結果報告書）'!M155 -> 0 | NE2: ='様式第12号（結果報告書）'!R155 -> 0 | NF2: ='様式第12号（結果報告書）'!R156 -> 0 | NG2: ='様式第12号（結果報告書）'!U155 -> 0 | NH2: ='様式第12号（結果報告書）'!U156 -> 0 | NI2: ='様式第12号（結果報告書）'!X155 -> 0 | NJ2: ='様式第12号（結果報告書）'!X156 -> 0 | NK2: ='様式第12号（結果報告書）'!AA155 -> 0 | NL2: ='様式第12号（結果報告書）'!AA156 -> 0 | NM2: ='様式第12号（結果報告書）'!AD155 -> 0 | NN2: ='様式第12号（結果報告書）'!AD156 -> 0 | NO2: ='様式第12号（結果報告書）'!AG155 -> 0 | NP2: ='様式第12号（結果報告書）'!G157 -> 0 | NQ2: ='様式第12号（結果報告書）'!M157 -> 0 | NR2: ='様式第12号（結果報告書）'!R157 -> 0 | NS2: ='様式第12号（結果報告書）'!R158 -> 0 | NT2: ='様式第12号（結果報告書）'!U157 -> 0 | NU2: ='様式第12号（結果報告書）'!U158 -> 0 | NV2: ='様式第12号（結果報告書）'!X157 -> 0 | NW2: ='様式第12号（結果報告書）'!X158 -> 0 | NX2: ='様式第12号（結果報告書）'!AA157 -> 0 | NY2: ='様式第12号（結果報告書）'!AA158 -> 0 | NZ2: ='様式第12号（結果報告書）'!AD157 -> 0 | OA2: ='様式第12号（結果報告書）'!AD158 -> 0 | OB2: ='様式第12号（結果報告書）'!AG157 -> 0 | OC2: ='様式第12号（結果報告書）'!G159 -> 0 | OD2: ='様式第12号（結果報告書）'!M159 -> 0 | OE2: ='様式第12号（結果報告書）'!R159 -> 0 | OF2: ='様式第12号（結果報告書）'!R160 -> 0 | OG2: ='様式第12号（結果報告書）'!U159 -> 0 | OH2: ='様式第12号（結果報告書）'!U160 -> 0 | OI2: ='様式第12号（結果報告書）'!X159 -> 0 | OJ2: ='様式第12号（結果報告書）'!X160 -> 0 | OK2: ='様式第12号（結果報告書）'!AA159 -> 0 | OL2: ='様式第12号（結果報告書）'!AA160 -> 0 | OM2: ='様式第12号（結果報告書）'!AD159 -> 0 | ON2: ='様式第12号（結果報告書）'!AD160 -> 0 | OO2: ='様式第12号（結果報告書）'!AG159 -> 0 | OP2: ='様式第12号（結果報告書）'!G161 -> 0 | OQ2: ='様式第12号（結果報告書）'!M161 -> 0 | OR2: ='様式第12号（結果報告書）'!R161 -> 0 | OS2: ='様式第12号（結果報告書）'!R162 -> 0 | OT2: ='様式第12号（結果報告書）'!U161 -> 0 | OU2: ='様式第12号（結果報告書）'!U162 -> 0 | OV2: ='様式第12号（結果報告書）'!X161 -> 0 | OW2: ='様式第12号（結果報告書）'!X162 -> 0 | OX2: ='様式第12号（結果報告書）'!AA161 -> 0 | OY2: ='様式第12号（結果報告書）'!AA162 -> 0 | OZ2: ='様式第12号（結果報告書）'!AD161 -> 0 | PA2: ='様式第12号（結果報告書）'!AD162 -> 0 | PB2: ='様式第12号（結果報告書）'!AG161 -> 0 | PC2: ='様式第12号（結果報告書）'!G163 -> 0 | PD2: ='様式第12号（結果報告書）'!M163 -> 0 | PE2: ='様式第12号（結果報告書）'!R163 -> 0 | PF2: ='様式第12号（結果報告書）'!R164 -> 0 | PG2: ='様式第12号（結果報告書）'!U163 -> 0 | PH2: ='様式第12号（結果報告書）'!U164 -> 0 | PI2: ='様式第12号（結果報告書）'!X163 -> 0 | PJ2: ='様式第12号（結果報告書）'!X164 -> 0 | PK2: ='様式第12号（結果報告書）'!AA163 -> 0 | PL2: ='様式第12号（結果報告書）'!AA164 -> 0 | PM2: ='様式第12号（結果報告書）'!AD163 -> 0 | PN2: ='様式第12号（結果報告書）'!AD164 -> 0 | PO2: ='様式第12号（結果報告書）'!AG163 -> 0 | PP2: ='様式第12号（結果報告書）'!G166 -> 0 | PQ2: ='様式第12号（結果報告書）'!M166 -> 0 | PR2: ='様式第12号（結果報告書）'!R166 -> 0 | PS2: ='様式第12号（結果報告書）'!R167 -> 0 | PT2: ='様式第12号（結果報告書）'!U166 -> 0 | PU2: ='様式第12号（結果報告書）'!U167 -> 0 | PV2: ='様式第12号（結果報告書）'!X166 -> 0 | PW2: ='様式第12号（結果報告書）'!X167 -> 0 | PX2: ='様式第12号（結果報告書）'!AA166 -> 0 | PY2: ='様式第12号（結果報告書）'!AA167 -> 0 | PZ2: ='様式第12号（結果報告書）'!AD166 -> 0 | QA2: ='様式第12号（結果報告書）'!AD167 -> 0 | QB2: ='様式第12号（結果報告書）'!AG166 -> 0 | QC2: ='様式第12号（結果報告書）'!G168 -> 0 | QD2: ='様式第12号（結果報告書）'!M168 -> 0 | QE2: ='様式第12号（結果報告書）'!R168 -> 0 | QF2: ='様式第12号（結果報告書）'!R169 -> 0 | QG2: ='様式第12号（結果報告書）'!U168 -> 0 | QH2: ='様式第12号（結果報告書）'!U169 -> 0 | QI2: ='様式第12号（結果報告書）'!X168 -> 0 | QJ2: ='様式第12号（結果報告書）'!X169 -> 0 | QK2: ='様式第12号（結果報告書）'!AA168 -> 0 | QL2: ='様式第12号（結果報告書）'!AA169 -> 0 | QM2: ='様式第12号（結果報告書）'!AD168 -> 0 | QN2: ='様式第12号（結果報告書）'!AD169 -> 0 | QO2: ='様式第12号（結果報告書）'!AG168 -> 0 | QP2: ='様式第12号（結果報告書）'!G170 -> 0 | QQ2: ='様式第12号（結果報告書）'!M170 -> 0 | QR2: ='様式第12号（結果報告書）'!R170 -> 0 | QS2: ='様式第12号（結果報告書）'!R171 -> 0 | QT2: ='様式第12号（結果報告書）'!U170 -> 0 | QU2: ='様式第12号（結果報告書）'!U171 -> 0 | QV2: ='様式第12号（結果報告書）'!X170 -> 0 | QW2: ='様式第12号（結果報告書）'!X171 -> 0 | QX2: ='様式第12号（結果報告書）'!AA170 -> 0 | QY2: ='様式第12号（結果報告書）'!AA171 -> 0 | QZ2: ='様式第12号（結果報告書）'!AD170 -> 0 | RA2: ='様式第12号（結果報告書）'!AD171 -> 0 | RB2: ='様式第12号（結果報告書）'!AG170 -> 0 | RC2: ='様式第12号（結果報告書）'!G172 -> 0 | RD2: ='様式第12号（結果報告書）'!M172 -> 0 | RE2: ='様式第12号（結果報告書）'!R172 -> 0 | RF2: ='様式第12号（結果報告書）'!R173 -> 0 | RG2: ='様式第12号（結果報告書）'!U172 -> 0 | RH2: ='様式第12号（結果報告書）'!U173 -> 0 | RI2: ='様式第12号（結果報告書）'!X172 -> 0 | RJ2: ='様式第12号（結果報告書）'!X173 -> 0 | RK2: ='様式第12号（結果報告書）'!AA172 -> 0 | RL2: ='様式第12号（結果報告書）'!AA173 -> 0 | RM2: ='様式第12号（結果報告書）'!AD172 -> 0 | RN2: ='様式第12号（結果報告書）'!AD173 -> 0 | RO2: ='様式第12号（結果報告書）'!AG172 -> 0 | RP2: ='様式第12号（結果報告書）'!G174 -> 0 | RQ2: ='様式第12号（結果報告書）'!M174 -> 0 | RR2: ='様式第12号（結果報告書）'!R174 -> 0 | RS2: ='様式第12号（結果報告書）'!R175 -> 0 | RT2: ='様式第12号（結果報告書）'!U174 -> 0 | RU2: ='様式第12号（結果報告書）'!U175 -> 0 | RV2: ='様式第12号（結果報告書）'!X174 -> 0 | RW2: ='様式第12号（結果報告書）'!X175 -> 0 | RX2: ='様式第12号（結果報告書）'!AA174 -> 0 | RY2: ='様式第12号（結果報告書）'!AA175 -> 0 | RZ2: ='様式第12号（結果報告書）'!AD174 -> 0 | SA2: ='様式第12号（結果報告書）'!AD175 -> 0 | SB2: ='様式第12号（結果報告書）'!AG174 -> 0 | SC2: ='様式第12号（結果報告書）'!AA177 -> 0 | SD2: ='様式第12号（結果報告書）'!AA178 -> 0 | SE2: ='様式第12号（結果報告書）'!AA179 -> 0 | SF2: ='様式第12号（結果報告書）'!AF178 | SG2: ='様式第12号（結果報告書）'!AA187 -> 0 | SH2: ='様式第12号（結果報告書）'!AA188 -> 0 | SI2: ='様式第12号（結果報告書）'!AA189 -> 0
